{"text_format":"1","workbook":"xlsx","n_sheets":6,"sheets":["Data eshop","Místa dodání","Zakázky","Řádky zakázky","DPD","DATA"],"not_rendered":{"charts":0,"images":0,"macros":1,"external_links":0,"defined_names":2,"comments":0,"pivot_tables":0},"unopened":[],"bounds":{"document_bytes":16777216,"sheet_cells":100000,"rows_first":2000,"rows_last":500,"rows_between":2000,"halvings":0,"cell_chars":16384,"cell_head_chars":4096},"cells_cut":0,"cells_raw":0,"read":"whole","date_system":"1900"}

{"sheet":"Data eshop","index":0,"n_rows":300,"n_cols":24,"rows_kept":300,"cut":false,"hidden":false,"merged":[]}
[null,null,null,null,"Fakturační adresa",null,null,null,null,null,null,null,null,null,null,null,null,null,"Cena za kus bez DPH","po slevách bez dopravy, dobírk, za celou objednávku!"]
["obj-pol","Obj - Řádek","Řádek","Objednávka č.","Společnost","Jméno","Přijmení","Ulice","Město","PSČ","IČO","DIČ","Stát","Platba","Doprava","Sleva %","Pol.","Obj.množ.","Cena bez DPH","Cena s DPH","Telefon","E-mail","Celková cena vč. dopr a DPH"]
[{"$f":"IF(D3=\"\",\"\",D3&\"-\"&Q3)","v":""},{"$f":"IF(D3=\"\",\"\",D3&\"-\"&C3)","v":""},1]
[{"$f":"IF(D4=\"\",\"\",D4&\"-\"&Q4)","v":""},{"$f":"IF(D4=\"\",\"\",D4&\"-\"&C4)","v":""},{"$f":"IF(D4=\"\",\"\",C3+1)","v":""}]
["","","",null,null,null,null,null,null,null,null,null,null,null,null,null,null,null,null,null,null,null,null,"Roluj nahoru, až uvidíš žlutou"]
["","",""]
["","",""]
["","",""]
["","","",null,null,null,null,null,null,null,null,null,null,null,null,null,null,null,null,null,null,null,null,"Roluj nahoru, až uvidíš žlutou"]
["","",""]
["","",""]
["","",""]
[{"$f":"IF(D13=\"\",\"\",D13&\"-\"&Q13)","v":""},{"$f":"IF(D13=\"\",\"\",D13&\"-\"&C13)","v":""},{"$f":"IF(D13=\"\",\"\",C12+1)","v":""},null,null,null,null,null,null,null,null,null,null,null,null,null,null,null,null,null,null,null,null,"Roluj nahoru, až uvidíš žlutou"]
["","",""]
["","",""]
["","",""]
["","","",null,null,null,null,null,null,null,null,null,null,null,null,null,null,null,null,null,null,null,null,"Roluj nahoru, až uvidíš žlutou"]
["","",""]
["","",""]
["","",""]
["","","",null,null,null,null,null,null,null,null,null,null,null,null,null,null,null,null,null,null,null,null,"Roluj nahoru, až uvidíš žlutou"]
["","",""]
["","",""]
["","",""]
["","","",null,null,null,null,null,null,null,null,null,null,null,null,null,null,null,null,null,null,null,null,"Roluj nahoru, až uvidíš žlutou"]
["","",""]
["","",""]
["","",""]
["","","",null,null,null,null,null,null,null,null,null,null,null,null,null,null,null,null,null,null,null,null,"Roluj nahoru, až uvidíš žlutou"]
["","",""]
["","",""]
["","",""]
["","","",null,null,null,null,null,null,null,null,null,null,null,null,null,null,null,null,null,null,null,null,"Roluj nahoru, až uvidíš žlutou"]
["","",""]
["","",""]
["","",""]
["","","",null,null,null,null,null,null,null,null,null,null,null,null,null,null,null,null,null,null,null,null,"Roluj nahoru, až uvidíš žlutou"]
["","",""]
["","",""]
["","",""]
["","","",null,null,null,null,null,null,null,null,null,null,null,null,null,null,null,null,{"$f":"IF(D41=\"\",\"\",ROUND(S41*1.21,0))","v":""},null,null,null,"Roluj nahoru, až uvidíš žlutou"]
["","","",null,null,null,null,null,null,null,null,null,null,null,null,null,null,null,null,""]
["","","",null,null,null,null,null,null,null,null,null,null,null,null,null,null,null,null,""]
["","","",null,null,null,null,null,null,null,null,null,null,null,null,null,null,null,null,""]
["","","",null,null,null,null,null,null,null,null,null,null,null,null,null,null,null,null,"",null,null,null,"Roluj nahoru, až uvidíš žlutou"]
["","","",null,null,null,null,null,null,null,null,null,null,null,null,null,null,null,null,""]
["","","",null,null,null,null,null,null,null,null,null,null,null,null,null,null,null,null,""]
["","","",null,null,null,null,null,null,null,null,null,null,null,null,null,null,null,null,""]
["","","",null,null,null,null,null,null,null,null,null,null,null,null,null,null,null,null,"",null,null,null,"Roluj nahoru, až uvidíš žlutou"]
["","","",null,null,null,null,null,null,null,null,null,null,null,null,null,null,null,null,""]
["","","",null,null,null,null,null,null,null,null,null,null,null,null,null,null,null,null,""]
["","","",null,null,null,null,null,null,null,null,null,null,null,null,null,null,null,null,""]
["","","",null,null,null,null,null,null,null,null,null,null,null,null,null,null,null,null,"",null,null,null,"Roluj nahoru, až uvidíš žlutou"]
["","","",null,null,null,null,null,null,null,null,null,null,null,null,null,null,null,null,""]
["","","",null,null,null,null,null,null,null,null,null,null,null,null,null,null,null,null,""]
["","","",null,null,null,null,null,null,null,null,null,null,null,null,null,null,null,null,""]
["","","",null,null,null,null,null,null,null,null,null,null,null,null,null,null,null,null,"",null,null,null,"Roluj nahoru, až uvidíš žlutou"]
["","","",null,null,null,null,null,null,null,null,null,null,null,null,null,null,null,null,""]
["","","",null,null,null,null,null,null,null,null,null,null,null,null,null,null,null,null,""]
["","","",null,null,null,null,null,null,null,null,null,null,null,null,null,null,null,null,""]
["","","",null,null,null,null,null,null,null,null,null,null,null,null,null,null,null,null,"",null,null,null,"Roluj nahoru, až uvidíš žlutou"]
["","","",null,null,null,null,null,null,null,null,null,null,null,null,null,null,null,null,""]
["","","",null,null,null,null,null,null,null,null,null,null,null,null,null,null,null,null,""]
["","","",null,null,null,null,null,null,null,null,null,null,null,null,null,null,null,null,""]
["","","",null,null,null,null,null,null,null,null,null,null,null,null,null,null,null,null,"",null,null,null,"Roluj nahoru, až uvidíš žlutou"]
["","","",null,null,null,null,null,null,null,null,null,null,null,null,null,null,null,null,""]
["","","",null,null,null,null,null,null,null,null,null,null,null,null,null,null,null,null,""]
[{"$f":"IF(D68=\"\",\"\",D68&\"-\"&Q68)","v":""},{"$f":"IF(D68=\"\",\"\",D68&\"-\"&C68)","v":""},"",null,null,null,null,null,null,null,null,null,null,null,null,null,null,null,null,""]
["","",{"$f":"IF(D69=\"\",\"\",C68+1)","v":""},null,null,null,null,null,null,null,null,null,null,null,null,null,null,null,null,{"$f":"IF(D69=\"\",\"\",ROUND(S69*1.21,0))","v":""},null,null,null,"Roluj nahoru, až uvidíš žlutou"]
["","","",null,null,null,null,null,null,null,null,null,null,null,null,null,null,null,null,""]
["","","",null,null,null,null,null,null,null,null,null,null,null,null,null,null,null,null,""]
["","","",null,null,null,null,null,null,null,null,null,null,null,null,null,null,null,null,""]
["","","",null,null,null,null,null,null,null,null,null,null,null,null,null,null,null,null,"",null,null,null,"Roluj nahoru, až uvidíš žlutou"]
["","","",null,null,null,null,null,null,null,null,null,null,null,null,null,null,null,null,""]
["","","",null,null,null,null,null,null,null,null,null,null,null,null,null,null,null,null,""]
["","","",null,null,null,null,null,null,null,null,null,null,null,null,null,null,null,null,""]
["","","",null,null,null,null,null,null,null,null,null,null,null,null,null,null,null,null,"",null,null,null,"Roluj nahoru, až uvidíš žlutou"]
["","","",null,null,null,null,null,null,null,null,null,null,null,null,null,null,null,null,""]
["","","",null,null,null,null,null,null,null,null,null,null,null,null,null,null,null,null,""]
["","","",null,null,null,null,null,null,null,null,null,null,null,null,null,null,null,null,""]
["","","",null,null,null,null,null,null,null,null,null,null,null,null,null,null,null,null,"",null,null,null,"Roluj nahoru, až uvidíš žlutou"]
["","","",null,null,null,null,null,null,null,null,null,null,null,null,null,null,null,null,""]
["","","",null,null,null,null,null,null,null,null,null,null,null,null,null,null,null,null,""]
["","","",null,null,null,null,null,null,null,null,null,null,null,null,null,null,null,null,""]
["","","",null,null,null,null,null,null,null,null,null,null,null,null,null,null,null,null,"",null,null,null,"Roluj nahoru, až uvidíš žlutou"]
["","","",null,null,null,null,null,null,null,null,null,null,null,null,null,null,null,null,""]
["","","",null,null,null,null,null,null,null,null,null,null,null,null,null,null,null,null,""]
["","","",null,null,null,null,null,null,null,null,null,null,null,null,null,null,null,null,""]
["","","",null,null,null,null,null,null,null,null,null,null,null,null,null,null,null,null,"",null,null,null,"Roluj nahoru, až uvidíš žlutou"]
["","","",null,null,null,null,null,null,null,null,null,null,null,null,null,null,null,null,""]
["","","",null,null,null,null,null,null,null,null,null,null,null,null,null,null,null,null,""]
["","","",null,null,null,null,null,null,null,null,null,null,null,null,null,null,null,null,""]
["","","",null,null,null,null,null,null,null,null,null,null,null,null,null,null,null,null,"",null,null,null,"Roluj nahoru, až uvidíš žlutou"]
["","","",null,null,null,null,null,null,null,null,null,null,null,null,null,null,null,null,""]
["","","",null,null,null,null,null,null,null,null,null,null,null,null,null,null,null,null,""]
["","","",null,null,null,null,null,null,null,null,null,null,null,null,null,null,null,null,""]
["","","",null,null,null,null,null,null,null,null,null,null,null,null,null,null,null,null,"",null,null,null,"Roluj nahoru, až uvidíš žlutou"]
["","","",null,null,null,null,null,null,null,null,null,null,null,null,null,null,null,null,""]
["","","",null,null,null,null,null,null,null,null,null,null,null,null,null,null,null,null,""]
["","","",null,null,null,null,null,null,null,null,null,null,null,null,null,null,null,null,""]
["","","",null,null,null,null,null,null,null,null,null,null,null,null,null,null,null,null,"",null,null,null,"Roluj nahoru, až uvidíš žlutou"]
["","","",null,null,null,null,null,null,null,null,null,null,null,null,null,null,null,null,""]
["","","",null,null,null,null,null,null,null,null,null,null,null,null,null,null,null,null,""]
["","","",null,null,null,null,null,null,null,null,null,null,null,null,null,null,null,null,""]
["","","",null,null,null,null,null,null,null,null,null,null,null,null,null,null,null,null,"",null,null,null,"Roluj nahoru, až uvidíš žlutou"]
["","","",null,null,null,null,null,null,null,null,null,null,null,null,null,null,null,null,""]
["","","",null,null,null,null,null,null,null,null,null,null,null,null,null,null,null,null,""]
["","","",null,null,null,null,null,null,null,null,null,null,null,null,null,null,null,null,""]
["","","",null,null,null,null,null,null,null,null,null,null,null,null,null,null,null,null,"",null,null,null,"Roluj nahoru, až uvidíš žlutou"]
["","","",null,null,null,null,null,null,null,null,null,null,null,null,null,null,null,null,""]
["","","",null,null,null,null,null,null,null,null,null,null,null,null,null,null,null,null,""]
["","","",null,null,null,null,null,null,null,null,null,null,null,null,null,null,null,null,""]
["","","",null,null,null,null,null,null,null,null,null,null,null,null,null,null,null,null,"",null,null,null,"Roluj nahoru, až uvidíš žlutou"]
["","","",null,null,null,null,null,null,null,null,null,null,null,null,null,null,null,null,""]
["","","",null,null,null,null,null,null,null,null,null,null,null,null,null,null,null,null,""]
["","","",null,null,null,null,null,null,null,null,null,null,null,null,null,null,null,null,""]
["","","",null,null,null,null,null,null,null,null,null,null,null,null,null,null,null,null,"",null,null,null,"Roluj nahoru, až uvidíš žlutou"]
["","","",null,null,null,null,null,null,null,null,null,null,null,null,null,null,null,null,""]
["","","",null,null,null,null,null,null,null,null,null,null,null,null,null,null,null,null,""]
["","","",null,null,null,null,null,null,null,null,null,null,null,null,null,null,null,null,""]
["","","",null,null,null,null,null,null,null,null,null,null,null,null,null,null,null,null,"",null,null,null,"Roluj nahoru, až uvidíš žlutou"]
["","","",null,null,null,null,null,null,null,null,null,null,null,null,null,null,null,null,""]
["","","",null,null,null,null,null,null,null,null,null,null,null,null,null,null,null,null,""]
["","","",null,null,null,null,null,null,null,null,null,null,null,null,null,null,null,null,""]
["","","",null,null,null,null,null,null,null,null,null,null,null,null,null,null,null,null,"",null,null,null,"Roluj nahoru, až uvidíš žlutou"]
["","","",null,null,null,null,null,null,null,null,null,null,null,null,null,null,null,null,""]
["","","",null,null,null,null,null,null,null,null,null,null,null,null,null,null,null,null,""]
["","","",null,null,null,null,null,null,null,null,null,null,null,null,null,null,null,null,""]
["","","",null,null,null,null,null,null,null,null,null,null,null,null,null,null,null,null,"",null,null,null,"Roluj nahoru, až uvidíš žlutou"]
["","","",null,null,null,null,null,null,null,null,null,null,null,null,null,null,null,null,""]
["","","",null,null,null,null,null,null,null,null,null,null,null,null,null,null,null,null,""]
[{"$f":"IF(D132=\"\",\"\",D132&\"-\"&Q132)","v":""},{"$f":"IF(D132=\"\",\"\",D132&\"-\"&C132)","v":""},"",null,null,null,null,null,null,null,null,null,null,null,null,null,null,null,null,""]
["","",{"$f":"IF(D133=\"\",\"\",C132+1)","v":""},null,null,null,null,null,null,null,null,null,null,null,null,null,null,null,null,{"$f":"IF(D133=\"\",\"\",ROUND(S133*1.21,0))","v":""},null,null,null,"Roluj nahoru, až uvidíš žlutou"]
["","","",null,null,null,null,null,null,null,null,null,null,null,null,null,null,null,null,""]
["","","",null,null,null,null,null,null,null,null,null,null,null,null,null,null,null,null,""]
["","","",null,null,null,null,null,null,null,null,null,null,null,null,null,null,null,null,""]
["","","",null,null,null,null,null,null,null,null,null,null,null,null,null,null,null,null,"",null,null,null,"Roluj nahoru, až uvidíš žlutou"]
["","","",null,null,null,null,null,null,null,null,null,null,null,null,null,null,null,null,""]
["","","",null,null,null,null,null,null,null,null,null,null,null,null,null,null,null,null,""]
["","","",null,null,null,null,null,null,null,null,null,null,null,null,null,null,null,null,""]
["","","",null,null,null,null,null,null,null,null,null,null,null,null,null,null,null,null,"",null,null,null,"Roluj nahoru, až uvidíš žlutou"]
["","","",null,null,null,null,null,null,null,null,null,null,null,null,null,null,null,null,""]
["","","",null,null,null,null,null,null,null,null,null,null,null,null,null,null,null,null,""]
["","","",null,null,null,null,null,null,null,null,null,null,null,null,null,null,null,null,""]
["","","",null,null,null,null,null,null,null,null,null,null,null,null,null,null,null,null,"",null,null,null,"Roluj nahoru, až uvidíš žlutou"]
["","","",null,null,null,null,null,null,null,null,null,null,null,null,null,null,null,null,""]
["","","",null,null,null,null,null,null,null,null,null,null,null,null,null,null,null,null,""]
["","","",null,null,null,null,null,null,null,null,null,null,null,null,null,null,null,null,""]
["","","",null,null,null,null,null,null,null,null,null,null,null,null,null,null,null,null,"",null,null,null,"Roluj nahoru, až uvidíš žlutou"]
["","","",null,null,null,null,null,null,null,null,null,null,null,null,null,null,null,null,""]
["","","",null,null,null,null,null,null,null,null,null,null,null,null,null,null,null,null,""]
["","","",null,null,null,null,null,null,null,null,null,null,null,null,null,null,null,null,""]
["","","",null,null,null,null,null,null,null,null,null,null,null,null,null,null,null,null,"",null,null,null,"Roluj nahoru, až uvidíš žlutou"]
["","","",null,null,null,null,null,null,null,null,null,null,null,null,null,null,null,null,""]
["","","",null,null,null,null,null,null,null,null,null,null,null,null,null,null,null,null,""]
["","","",null,null,null,null,null,null,null,null,null,null,null,null,null,null,null,null,""]
["","","",null,null,null,null,null,null,null,null,null,null,null,null,null,null,null,null,"",null,null,null,"Roluj nahoru, až uvidíš žlutou"]
["","","",null,null,null,null,null,null,null,null,null,null,null,null,null,null,null,null,""]
["","","",null,null,null,null,null,null,null,null,null,null,null,null,null,null,null,null,""]
["","","",null,null,null,null,null,null,null,null,null,null,null,null,null,null,null,null,""]
["","","",null,null,null,null,null,null,null,null,null,null,null,null,null,null,null,null,"",null,null,null,"Roluj nahoru, až uvidíš žlutou"]
["","","",null,null,null,null,null,null,null,null,null,null,null,null,null,null,null,null,""]
["","","",null,null,null,null,null,null,null,null,null,null,null,null,null,null,null,null,""]
["","","",null,null,null,null,null,null,null,null,null,null,null,null,null,null,null,null,""]
["","","",null,null,null,null,null,null,null,null,null,null,null,null,null,null,null,null,"",null,null,null,"Roluj nahoru, až uvidíš žlutou"]
["","","",null,null,null,null,null,null,null,null,null,null,null,null,null,null,null,null,""]
["","","",null,null,null,null,null,null,null,null,null,null,null,null,null,null,null,null,""]
["","","",null,null,null,null,null,null,null,null,null,null,null,null,null,null,null,null,""]
["","","",null,null,null,null,null,null,null,null,null,null,null,null,null,null,null,null,"",null,null,null,"Roluj nahoru, až uvidíš žlutou"]
["","","",null,null,null,null,null,null,null,null,null,null,null,null,null,null,null,null,""]
["","","",null,null,null,null,null,null,null,null,null,null,null,null,null,null,null,null,""]
["","","",null,null,null,null,null,null,null,null,null,null,null,null,null,null,null,null,""]
["","","",null,null,null,null,null,null,null,null,null,null,null,null,null,null,null,null,"",null,null,null,"Roluj nahoru, až uvidíš žlutou"]
["","","",null,null,null,null,null,null,null,null,null,null,null,null,null,null,null,null,""]
["","","",null,null,null,null,null,null,null,null,null,null,null,null,null,null,null,null,""]
["","","",null,null,null,null,null,null,null,null,null,null,null,null,null,null,null,null,""]
["","","",null,null,null,null,null,null,null,null,null,null,null,null,null,null,null,null,"",null,null,null,"Roluj nahoru, až uvidíš žlutou"]
["","","",null,null,null,null,null,null,null,null,null,null,null,null,null,null,null,null,""]
["","","",null,null,null,null,null,null,null,null,null,null,null,null,null,null,null,null,""]
["","","",null,null,null,null,null,null,null,null,null,null,null,null,null,null,null,null,""]
["","","",null,null,null,null,null,null,null,null,null,null,null,null,null,null,null,null,"",null,null,null,"Roluj nahoru, až uvidíš žlutou"]
["","","",null,null,null,null,null,null,null,null,null,null,null,null,null,null,null,null,""]
["","","",null,null,null,null,null,null,null,null,null,null,null,null,null,null,null,null,""]
["","","",null,null,null,null,null,null,null,null,null,null,null,null,null,null,null,null,""]
["","","",null,null,null,null,null,null,null,null,null,null,null,null,null,null,null,null,"",null,null,null,"Roluj nahoru, až uvidíš žlutou"]
["","","",null,null,null,null,null,null,null,null,null,null,null,null,null,null,null,null,""]
["","","",null,null,null,null,null,null,null,null,null,null,null,null,null,null,null,null,""]
["","","",null,null,null,null,null,null,null,null,null,null,null,null,null,null,null,null,""]
["","","",null,null,null,null,null,null,null,null,null,null,null,null,null,null,null,null,"",null,null,null,"Roluj nahoru, až uvidíš žlutou"]
["","","",null,null,null,null,null,null,null,null,null,null,null,null,null,null,null,null,""]
["","","",null,null,null,null,null,null,null,null,null,null,null,null,null,null,null,null,""]
["","","",null,null,null,null,null,null,null,null,null,null,null,null,null,null,null,null,""]
["","","",null,null,null,null,null,null,null,null,null,null,null,null,null,null,null,null,"",null,null,null,"Roluj nahoru, až uvidíš žlutou"]
["","","",null,null,null,null,null,null,null,null,null,null,null,null,null,null,null,null,""]
["","","",null,null,null,null,null,null,null,null,null,null,null,null,null,null,null,null,""]
[{"$f":"IF(D196=\"\",\"\",D196&\"-\"&Q196)","v":""},{"$f":"IF(D196=\"\",\"\",D196&\"-\"&C196)","v":""},"",null,null,null,null,null,null,null,null,null,null,null,null,null,null,null,null,""]
["","",{"$f":"IF(D197=\"\",\"\",C196+1)","v":""},null,null,null,null,null,null,null,null,null,null,null,null,null,null,null,null,{"$f":"IF(D197=\"\",\"\",ROUND(S197*1.21,0))","v":""},null,null,null,"Roluj nahoru, až uvidíš žlutou"]
["","","",null,null,null,null,null,null,null,null,null,null,null,null,null,null,null,null,""]
["","","",null,null,null,null,null,null,null,null,null,null,null,null,null,null,null,null,""]
["","","",null,null,null,null,null,null,null,null,null,null,null,null,null,null,null,null,""]
["","","",null,null,null,null,null,null,null,null,null,null,null,null,null,null,null,null,"",null,null,null,"Roluj nahoru, až uvidíš žlutou"]
["","","",null,null,null,null,null,null,null,null,null,null,null,null,null,null,null,null,""]
["","","",null,null,null,null,null,null,null,null,null,null,null,null,null,null,null,null,""]
["","","",null,null,null,null,null,null,null,null,null,null,null,null,null,null,null,null,""]
["","","",null,null,null,null,null,null,null,null,null,null,null,null,null,null,null,null,"",null,null,null,"Roluj nahoru, až uvidíš žlutou"]
["","","",null,null,null,null,null,null,null,null,null,null,null,null,null,null,null,null,""]
["","","",null,null,null,null,null,null,null,null,null,null,null,null,null,null,null,null,""]
["","","",null,null,null,null,null,null,null,null,null,null,null,null,null,null,null,null,""]
["","","",null,null,null,null,null,null,null,null,null,null,null,null,null,null,null,null,"",null,null,null,"Roluj nahoru, až uvidíš žlutou"]
["","","",null,null,null,null,null,null,null,null,null,null,null,null,null,null,null,null,""]
["","","",null,null,null,null,null,null,null,null,null,null,null,null,null,null,null,null,""]
["","","",null,null,null,null,null,null,null,null,null,null,null,null,null,null,null,null,""]
["","","",null,null,null,null,null,null,null,null,null,null,null,null,null,null,null,null,"",null,null,null,"Roluj nahoru, až uvidíš žlutou"]
["","","",null,null,null,null,null,null,null,null,null,null,null,null,null,null,null,null,""]
["","","",null,null,null,null,null,null,null,null,null,null,null,null,null,null,null,null,""]
["","","",null,null,null,null,null,null,null,null,null,null,null,null,null,null,null,null,""]
["","","",null,null,null,null,null,null,null,null,null,null,null,null,null,null,null,null,"",null,null,null,"Roluj nahoru, až uvidíš žlutou"]
["","","",null,null,null,null,null,null,null,null,null,null,null,null,null,null,null,null,""]
["","","",null,null,null,null,null,null,null,null,null,null,null,null,null,null,null,null,""]
["","","",null,null,null,null,null,null,null,null,null,null,null,null,null,null,null,null,""]
["","","",null,null,null,null,null,null,null,null,null,null,null,null,null,null,null,null,"",null,null,null,"Roluj nahoru, až uvidíš žlutou"]
["","","",null,null,null,null,null,null,null,null,null,null,null,null,null,null,null,null,""]
["","","",null,null,null,null,null,null,null,null,null,null,null,null,null,null,null,null,""]
["","","",null,null,null,null,null,null,null,null,null,null,null,null,null,null,null,null,""]
["","","",null,null,null,null,null,null,null,null,null,null,null,null,null,null,null,null,"",null,null,null,"Roluj nahoru, až uvidíš žlutou"]
["","","",null,null,null,null,null,null,null,null,null,null,null,null,null,null,null,null,""]
["","","",null,null,null,null,null,null,null,null,null,null,null,null,null,null,null,null,""]
["","","",null,null,null,null,null,null,null,null,null,null,null,null,null,null,null,null,""]
["","","",null,null,null,null,null,null,null,null,null,null,null,null,null,null,null,null,"",null,null,null,"Roluj nahoru, až uvidíš žlutou"]
["","","",null,null,null,null,null,null,null,null,null,null,null,null,null,null,null,null,""]
["","","",null,null,null,null,null,null,null,null,null,null,null,null,null,null,null,null,""]
["","","",null,null,null,null,null,null,null,null,null,null,null,null,null,null,null,null,""]
["","","",null,null,null,null,null,null,null,null,null,null,null,null,null,null,null,null,"",null,null,null,"Roluj nahoru, až uvidíš žlutou"]
["","","",null,null,null,null,null,null,null,null,null,null,null,null,null,null,null,null,""]
["","","",null,null,null,null,null,null,null,null,null,null,null,null,null,null,null,null,""]
["","","",null,null,null,null,null,null,null,null,null,null,null,null,null,null,null,null,""]
["","","",null,null,null,null,null,null,null,null,null,null,null,null,null,null,null,null,"",null,null,null,"Roluj nahoru, až uvidíš žlutou"]
["","","",null,null,null,null,null,null,null,null,null,null,null,null,null,null,null,null,""]
["","","",null,null,null,null,null,null,null,null,null,null,null,null,null,null,null,null,""]
["","","",null,null,null,null,null,null,null,null,null,null,null,null,null,null,null,null,""]
["","","",null,null,null,null,null,null,null,null,null,null,null,null,null,null,null,null,"",null,null,null,"Roluj nahoru, až uvidíš žlutou"]
["","","",null,null,null,null,null,null,null,null,null,null,null,null,null,null,null,null,""]
["","","",null,null,null,null,null,null,null,null,null,null,null,null,null,null,null,null,""]
["","","",null,null,null,null,null,null,null,null,null,null,null,null,null,null,null,null,""]
["","","",null,null,null,null,null,null,null,null,null,null,null,null,null,null,null,null,"",null,null,null,"Roluj nahoru, až uvidíš žlutou"]
["","","",null,null,null,null,null,null,null,null,null,null,null,null,null,null,null,null,""]
["","","",null,null,null,null,null,null,null,null,null,null,null,null,null,null,null,null,""]
["","","",null,null,null,null,null,null,null,null,null,null,null,null,null,null,null,null,""]
["","","",null,null,null,null,null,null,null,null,null,null,null,null,null,null,null,null,"",null,null,null,"Roluj nahoru, až uvidíš žlutou"]
["","","",null,null,null,null,null,null,null,null,null,null,null,null,null,null,null,null,""]
["","","",null,null,null,null,null,null,null,null,null,null,null,null,null,null,null,null,""]
["","","",null,null,null,null,null,null,null,null,null,null,null,null,null,null,null,null,""]
["","","",null,null,null,null,null,null,null,null,null,null,null,null,null,null,null,null,"",null,null,null,"Roluj nahoru, až uvidíš žlutou"]
["","","",null,null,null,null,null,null,null,null,null,null,null,null,null,null,null,null,""]
["","","",null,null,null,null,null,null,null,null,null,null,null,null,null,null,null,null,""]
["","","",null,null,null,null,null,null,null,null,null,null,null,null,null,null,null,null,""]
["","","",null,null,null,null,null,null,null,null,null,null,null,null,null,null,null,null,"",null,null,null,"Roluj nahoru, až uvidíš žlutou"]
["","","",null,null,null,null,null,null,null,null,null,null,null,null,null,null,null,null,""]
["","","",null,null,null,null,null,null,null,null,null,null,null,null,null,null,null,null,""]
[{"$f":"IF(D260=\"\",\"\",D260&\"-\"&Q260)","v":""},{"$f":"IF(D260=\"\",\"\",D260&\"-\"&C260)","v":""},"",null,null,null,null,null,null,null,null,null,null,null,null,null,null,null,null,""]
["","",{"$f":"IF(D261=\"\",\"\",C260+1)","v":""},null,null,null,null,null,null,null,null,null,null,null,null,null,null,null,null,{"$f":"IF(D261=\"\",\"\",ROUND(S261*1.21,0))","v":""},null,null,null,"Roluj nahoru, až uvidíš žlutou"]
["","","",null,null,null,null,null,null,null,null,null,null,null,null,null,null,null,null,""]
["","","",null,null,null,null,null,null,null,null,null,null,null,null,null,null,null,null,""]
["","","",null,null,null,null,null,null,null,null,null,null,null,null,null,null,null,null,""]
["","","",null,null,null,null,null,null,null,null,null,null,null,null,null,null,null,null,"",null,null,null,"Roluj nahoru, až uvidíš žlutou"]
["","","",null,null,null,null,null,null,null,null,null,null,null,null,null,null,null,null,""]
["","","",null,null,null,null,null,null,null,null,null,null,null,null,null,null,null,null,""]
["","","",null,null,null,null,null,null,null,null,null,null,null,null,null,null,null,null,""]
["","","",null,null,null,null,null,null,null,null,null,null,null,null,null,null,null,null,"",null,null,null,"Roluj nahoru, až uvidíš žlutou"]
["","","",null,null,null,null,null,null,null,null,null,null,null,null,null,null,null,null,""]
["","","",null,null,null,null,null,null,null,null,null,null,null,null,null,null,null,null,""]
["","","",null,null,null,null,null,null,null,null,null,null,null,null,null,null,null,null,""]
["","","",null,null,null,null,null,null,null,null,null,null,null,null,null,null,null,null,"",null,null,null,"Roluj nahoru, až uvidíš žlutou"]
["","","",null,null,null,null,null,null,null,null,null,null,null,null,null,null,null,null,""]
["","","",null,null,null,null,null,null,null,null,null,null,null,null,null,null,null,null,""]
["","","",null,null,null,null,null,null,null,null,null,null,null,null,null,null,null,null,""]
["","","",null,null,null,null,null,null,null,null,null,null,null,null,null,null,null,null,"",null,null,null,"Roluj nahoru, až uvidíš žlutou"]
["","","",null,null,null,null,null,null,null,null,null,null,null,null,null,null,null,null,""]
["","","",null,null,null,null,null,null,null,null,null,null,null,null,null,null,null,null,""]
["","","",null,null,null,null,null,null,null,null,null,null,null,null,null,null,null,null,""]
["","","",null,null,null,null,null,null,null,null,null,null,null,null,null,null,null,null,"",null,null,null,"Roluj nahoru, až uvidíš žlutou"]
["","","",null,null,null,null,null,null,null,null,null,null,null,null,null,null,null,null,""]
["","","",null,null,null,null,null,null,null,null,null,null,null,null,null,null,null,null,""]
["","","",null,null,null,null,null,null,null,null,null,null,null,null,null,null,null,null,""]
["","","",null,null,null,null,null,null,null,null,null,null,null,null,null,null,null,null,"",null,null,null,"Roluj nahoru, až uvidíš žlutou"]
["","","",null,null,null,null,null,null,null,null,null,null,null,null,null,null,null,null,""]
["","","",null,null,null,null,null,null,null,null,null,null,null,null,null,null,null,null,""]
["","","",null,null,null,null,null,null,null,null,null,null,null,null,null,null,null,null,""]
["","","",null,null,null,null,null,null,null,null,null,null,null,null,null,null,null,null,"",null,null,null,"Roluj nahoru, až uvidíš žlutou"]
["","","",null,null,null,null,null,null,null,null,null,null,null,null,null,null,null,null,""]
["","","",null,null,null,null,null,null,null,null,null,null,null,null,null,null,null,null,""]
["","","",null,null,null,null,null,null,null,null,null,null,null,null,null,null,null,null,""]
["","","",null,null,null,null,null,null,null,null,null,null,null,null,null,null,null,null,"",null,null,null,"Roluj nahoru, až uvidíš žlutou"]
["","","",null,null,null,null,null,null,null,null,null,null,null,null,null,null,null,null,""]
["","","",null,null,null,null,null,null,null,null,null,null,null,null,null,null,null,null,""]
["","","",null,null,null,null,null,null,null,null,null,null,null,null,null,null,null,null,""]
["","","",null,null,null,null,null,null,null,null,null,null,null,null,null,null,null,null,"",null,null,null,"Roluj nahoru, až uvidíš žlutou"]
["","","",null,null,null,null,null,null,null,null,null,null,null,null,null,null,null,null,""]
["","","",null,null,null,null,null,null,null,null,null,null,null,null,null,null,null,null,""]
["","","",null,null,null,null,null,null,null,null,null,null,null,null,null,null,null,null,""]

{"sheet":"Místa dodání","index":1,"n_rows":300,"n_cols":14,"rows_kept":300,"cut":false,"hidden":false,"merged":[]}
["POZOR! Po vložení zkopírovat jen Pořadí, kliknout na první v SL a přidat přepsáním!"]
["Pořadí","Partner","Adresa [1]","Adresa [2]","Adresa [3]","Adresa [4]","Město","PSČ","Stát","Dodat dříve","Dodat část","Exp. lok.","Zobrazit název partnera"]
[{"$f":"IF('Data eshop'!D3=\"\",\"\",10000+'Data eshop'!D3)","v":""},{"$f":"IF(I3=\"\",\"\",IF(I3=\"česká republika\",7,IF(I3=\"poland\",2,IF(I3=\"Slovakia\",87,IF(I3=\"Germany\",2695,IF(I3=\"Austria\",2695,\"\"))))))","v":""},{"$f":"IF(A3=\"\",\"\",IF(VLOOKUP(A3-10000,'Data eshop'!D:G,2,FALSE)=\"\",PROPER(VLOOKUP(A3-10000,'Data eshop'!D:G,3,FALSE)&\" \"&VLOOKUP(A3-10000,'Data eshop'!D:G,4,FALSE)),VLOOKUP(A3-10000,'Data eshop'!D:G,2,FALSE)&\" - \"&PROPER(VLOOKUP(A3-10000,'Data eshop'!D:G,3,FALSE)&\" \"&VLOOKUP(A3-10000,'Data eshop'!D:G,4,FALSE))))","v":""},null,{"$f":"IF(A3=\"\",\"\",VLOOKUP(A3-10000,'Data eshop'!D:AD,5,FALSE))","v":""},{"$f":"IF(A3=\"\",\"\",IF(VLOOKUP('Místa dodání'!A3-10000,'Data eshop'!D:L,8,FALSE)=\"\",IF(VLOOKUP('Místa dodání'!A3-10000,'Data eshop'!D:L,9,FALSE)=\"\",\"\",\"DIČ: \"&VLOOKUP('Místa dodání'!A3-10000,'Data eshop'!D:L,9,FALSE)),IF(VLOOKUP('Místa dodání'!A3-10000,'Data eshop'!D:L,9,FALSE)=\"\",\"\",\"DIČ: \"&VLOOKUP('Místa dodání'!A3-10000,'Data eshop'!D:L,9,FALSE)&\", \")&\"IČO: \"&VLOOKUP('Místa dodání'!A3-10000,'Data eshop'!D:L,8,FALSE)))","v":""},{"$f":"IF(A3=\"\",\"\",VLOOKUP(A3-10000,'Data eshop'!D:AD,6,FALSE))","v":""},{"$f":"IF(A3=\"\",\"\",VLOOKUP(A3-10000,'Data eshop'!D:AD,7,FALSE))","v":""},{"$f":"IF(A3=\"\",\"\",VLOOKUP(A3-10000,'Data eshop'!D:AD,10,FALSE))","v":""},{"$f":"IF(A3=\"\",\"\",1)","v":""},{"$f":"IF(A3=\"\",\"\",1)","v":""},{"$f":"IF(A3=\"\",\"\",\"Live\")","v":""},{"$f":"IF(A3=\"\",\"\",0)","v":""},"Roluj nahoru, až uvidíš žlutou"]
[{"$f":"IFERROR(SMALL('Data eshop'!D:D,COUNTIF('Data eshop'!D:D,\"<\"&(A3-10000)))+10000,\"\")","v":""},{"$f":"IF(I4=\"\",\"\",IF(I4=\"česká republika\",7,IF(I4=\"poland\",2,IF(I4=\"Slovakia\",87,IF(I4=\"Germany\",2695,IF(I4=\"Austria\",2695,\"\"))))))","v":""},{"$f":"IF(A4=\"\",\"\",IF(VLOOKUP(A4-10000,'Data eshop'!D:G,2,FALSE)=\"\",PROPER(VLOOKUP(A4-10000,'Data eshop'!D:G,3,FALSE)&\" \"&VLOOKUP(A4-10000,'Data eshop'!D:G,4,FALSE)),VLOOKUP(A4-10000,'Data eshop'!D:G,2,FALSE)&\" - \"&PROPER(VLOOKUP(A4-10000,'Data eshop'!D:G,3,FALSE)&\" \"&VLOOKUP(A4-10000,'Data eshop'!D:G,4,FALSE))))","v":""},null,{"$f":"IF(A4=\"\",\"\",VLOOKUP(A4-10000,'Data eshop'!D:AD,5,FALSE))","v":""},{"$f":"IF(A4=\"\",\"\",IF(VLOOKUP('Místa dodání'!A4-10000,'Data eshop'!D:L,8,FALSE)=\"\",IF(VLOOKUP('Místa dodání'!A4-10000,'Data eshop'!D:L,9,FALSE)=\"\",\"\",\"DIČ: \"&VLOOKUP('Místa dodání'!A4-10000,'Data eshop'!D:L,9,FALSE)),IF(VLOOKUP('Místa dodání'!A4-10000,'Data eshop'!D:L,9,FALSE)=\"\",\"\",\"DIČ: \"&VLOOKUP('Místa dodání'!A4-10000,'Data eshop'!D:L,9,FALSE)&\", \")&\"IČO: \"&VLOOKUP('Místa dodání'!A4-10000,'Data eshop'!D:L,8,FALSE)))","v":""},{"$f":"IF(A4=\"\",\"\",VLOOKUP(A4-10000,'Data eshop'!D:AD,6,FALSE))","v":""},{"$f":"IF(A4=\"\",\"\",VLOOKUP(A4-10000,'Data eshop'!D:AD,7,FALSE))","v":""},{"$f":"IF(A4=\"\",\"\",VLOOKUP(A4-10000,'Data eshop'!D:AD,10,FALSE))","v":""},{"$f":"IF(A4=\"\",\"\",1)","v":""},{"$f":"IF(A4=\"\",\"\",1)","v":""},{"$f":"IF(A4=\"\",\"\",\"Live\")","v":""},{"$f":"IF(A4=\"\",\"\",0)","v":""}]
[{"$f":"IFERROR(SMALL('Data eshop'!D:D,COUNTIF('Data eshop'!D:D,\"<\"&(A4-10000)))+10000,\"\")","v":""},"",{"$f":"IF(A5=\"\",\"\",IF(VLOOKUP(A5-10000,'Data eshop'!D:G,2,FALSE)=\"\",PROPER(VLOOKUP(A5-10000,'Data eshop'!D:G,3,FALSE)&\" \"&VLOOKUP(A5-10000,'Data eshop'!D:G,4,FALSE)),VLOOKUP(A5-10000,'Data eshop'!D:G,2,FALSE)&\" - \"&PROPER(VLOOKUP(A5-10000,'Data eshop'!D:G,3,FALSE)&\" \"&VLOOKUP(A5-10000,'Data eshop'!D:G,4,FALSE))))","v":""},null,{"$f":"IF(A5=\"\",\"\",VLOOKUP(A5-10000,'Data eshop'!D:AD,5,FALSE))","v":""},{"$f":"IF(A5=\"\",\"\",IF(VLOOKUP('Místa dodání'!A5-10000,'Data eshop'!D:L,8,FALSE)=\"\",IF(VLOOKUP('Místa dodání'!A5-10000,'Data eshop'!D:L,9,FALSE)=\"\",\"\",\"DIČ: \"&VLOOKUP('Místa dodání'!A5-10000,'Data eshop'!D:L,9,FALSE)),IF(VLOOKUP('Místa dodání'!A5-10000,'Data eshop'!D:L,9,FALSE)=\"\",\"\",\"DIČ: \"&VLOOKUP('Místa dodání'!A5-10000,'Data eshop'!D:L,9,FALSE)&\", \")&\"IČO: \"&VLOOKUP('Místa dodání'!A5-10000,'Data eshop'!D:L,8,FALSE)))","v":""},{"$f":"IF(A5=\"\",\"\",VLOOKUP(A5-10000,'Data eshop'!D:AD,6,FALSE))","v":""},{"$f":"IF(A5=\"\",\"\",VLOOKUP(A5-10000,'Data eshop'!D:AD,7,FALSE))","v":""},{"$f":"IF(A5=\"\",\"\",VLOOKUP(A5-10000,'Data eshop'!D:AD,10,FALSE))","v":""},"","","",""]
[{"$f":"IFERROR(SMALL('Data eshop'!D:D,COUNTIF('Data eshop'!D:D,\"<\"&(A5-10000)))+10000,\"\")","v":""},"",{"$f":"IF(A6=\"\",\"\",IF(VLOOKUP(A6-10000,'Data eshop'!D:G,2,FALSE)=\"\",PROPER(VLOOKUP(A6-10000,'Data eshop'!D:G,3,FALSE)&\" \"&VLOOKUP(A6-10000,'Data eshop'!D:G,4,FALSE)),VLOOKUP(A6-10000,'Data eshop'!D:G,2,FALSE)&\" - \"&PROPER(VLOOKUP(A6-10000,'Data eshop'!D:G,3,FALSE)&\" \"&VLOOKUP(A6-10000,'Data eshop'!D:G,4,FALSE))))","v":""},null,{"$f":"IF(A6=\"\",\"\",VLOOKUP(A6-10000,'Data eshop'!D:AD,5,FALSE))","v":""},{"$f":"IF(A6=\"\",\"\",IF(VLOOKUP('Místa dodání'!A6-10000,'Data eshop'!D:L,8,FALSE)=\"\",IF(VLOOKUP('Místa dodání'!A6-10000,'Data eshop'!D:L,9,FALSE)=\"\",\"\",\"DIČ: \"&VLOOKUP('Místa dodání'!A6-10000,'Data eshop'!D:L,9,FALSE)),IF(VLOOKUP('Místa dodání'!A6-10000,'Data eshop'!D:L,9,FALSE)=\"\",\"\",\"DIČ: \"&VLOOKUP('Místa dodání'!A6-10000,'Data eshop'!D:L,9,FALSE)&\", \")&\"IČO: \"&VLOOKUP('Místa dodání'!A6-10000,'Data eshop'!D:L,8,FALSE)))","v":""},{"$f":"IF(A6=\"\",\"\",VLOOKUP(A6-10000,'Data eshop'!D:AD,6,FALSE))","v":""},{"$f":"IF(A6=\"\",\"\",VLOOKUP(A6-10000,'Data eshop'!D:AD,7,FALSE))","v":""},{"$f":"IF(A6=\"\",\"\",VLOOKUP(A6-10000,'Data eshop'!D:AD,10,FALSE))","v":""},"","","",""]
[{"$f":"IFERROR(SMALL('Data eshop'!D:D,COUNTIF('Data eshop'!D:D,\"<\"&(A6-10000)))+10000,\"\")","v":""},"",{"$f":"IF(A7=\"\",\"\",IF(VLOOKUP(A7-10000,'Data eshop'!D:G,2,FALSE)=\"\",PROPER(VLOOKUP(A7-10000,'Data eshop'!D:G,3,FALSE)&\" \"&VLOOKUP(A7-10000,'Data eshop'!D:G,4,FALSE)),VLOOKUP(A7-10000,'Data eshop'!D:G,2,FALSE)&\" - \"&PROPER(VLOOKUP(A7-10000,'Data eshop'!D:G,3,FALSE)&\" \"&VLOOKUP(A7-10000,'Data eshop'!D:G,4,FALSE))))","v":""},null,{"$f":"IF(A7=\"\",\"\",VLOOKUP(A7-10000,'Data eshop'!D:AD,5,FALSE))","v":""},{"$f":"IF(A7=\"\",\"\",IF(VLOOKUP('Místa dodání'!A7-10000,'Data eshop'!D:L,8,FALSE)=\"\",IF(VLOOKUP('Místa dodání'!A7-10000,'Data eshop'!D:L,9,FALSE)=\"\",\"\",\"DIČ: \"&VLOOKUP('Místa dodání'!A7-10000,'Data eshop'!D:L,9,FALSE)),IF(VLOOKUP('Místa dodání'!A7-10000,'Data eshop'!D:L,9,FALSE)=\"\",\"\",\"DIČ: \"&VLOOKUP('Místa dodání'!A7-10000,'Data eshop'!D:L,9,FALSE)&\", \")&\"IČO: \"&VLOOKUP('Místa dodání'!A7-10000,'Data eshop'!D:L,8,FALSE)))","v":""},{"$f":"IF(A7=\"\",\"\",VLOOKUP(A7-10000,'Data eshop'!D:AD,6,FALSE))","v":""},{"$f":"IF(A7=\"\",\"\",VLOOKUP(A7-10000,'Data eshop'!D:AD,7,FALSE))","v":""},{"$f":"IF(A7=\"\",\"\",VLOOKUP(A7-10000,'Data eshop'!D:AD,10,FALSE))","v":""},"","","","","Roluj nahoru, až uvidíš žlutou"]
[{"$f":"IFERROR(SMALL('Data eshop'!D:D,COUNTIF('Data eshop'!D:D,\"<\"&(A7-10000)))+10000,\"\")","v":""},"",{"$f":"IF(A8=\"\",\"\",IF(VLOOKUP(A8-10000,'Data eshop'!D:G,2,FALSE)=\"\",PROPER(VLOOKUP(A8-10000,'Data eshop'!D:G,3,FALSE)&\" \"&VLOOKUP(A8-10000,'Data eshop'!D:G,4,FALSE)),VLOOKUP(A8-10000,'Data eshop'!D:G,2,FALSE)&\" - \"&PROPER(VLOOKUP(A8-10000,'Data eshop'!D:G,3,FALSE)&\" \"&VLOOKUP(A8-10000,'Data eshop'!D:G,4,FALSE))))","v":""},null,{"$f":"IF(A8=\"\",\"\",VLOOKUP(A8-10000,'Data eshop'!D:AD,5,FALSE))","v":""},{"$f":"IF(A8=\"\",\"\",IF(VLOOKUP('Místa dodání'!A8-10000,'Data eshop'!D:L,8,FALSE)=\"\",IF(VLOOKUP('Místa dodání'!A8-10000,'Data eshop'!D:L,9,FALSE)=\"\",\"\",\"DIČ: \"&VLOOKUP('Místa dodání'!A8-10000,'Data eshop'!D:L,9,FALSE)),IF(VLOOKUP('Místa dodání'!A8-10000,'Data eshop'!D:L,9,FALSE)=\"\",\"\",\"DIČ: \"&VLOOKUP('Místa dodání'!A8-10000,'Data eshop'!D:L,9,FALSE)&\", \")&\"IČO: \"&VLOOKUP('Místa dodání'!A8-10000,'Data eshop'!D:L,8,FALSE)))","v":""},{"$f":"IF(A8=\"\",\"\",VLOOKUP(A8-10000,'Data eshop'!D:AD,6,FALSE))","v":""},{"$f":"IF(A8=\"\",\"\",VLOOKUP(A8-10000,'Data eshop'!D:AD,7,FALSE))","v":""},{"$f":"IF(A8=\"\",\"\",VLOOKUP(A8-10000,'Data eshop'!D:AD,10,FALSE))","v":""},"","","",""]
[{"$f":"IFERROR(SMALL('Data eshop'!D:D,COUNTIF('Data eshop'!D:D,\"<\"&(A8-10000)))+10000,\"\")","v":""},"",{"$f":"IF(A9=\"\",\"\",IF(VLOOKUP(A9-10000,'Data eshop'!D:G,2,FALSE)=\"\",PROPER(VLOOKUP(A9-10000,'Data eshop'!D:G,3,FALSE)&\" \"&VLOOKUP(A9-10000,'Data eshop'!D:G,4,FALSE)),VLOOKUP(A9-10000,'Data eshop'!D:G,2,FALSE)&\" - \"&PROPER(VLOOKUP(A9-10000,'Data eshop'!D:G,3,FALSE)&\" \"&VLOOKUP(A9-10000,'Data eshop'!D:G,4,FALSE))))","v":""},null,{"$f":"IF(A9=\"\",\"\",VLOOKUP(A9-10000,'Data eshop'!D:AD,5,FALSE))","v":""},{"$f":"IF(A9=\"\",\"\",IF(VLOOKUP('Místa dodání'!A9-10000,'Data eshop'!D:L,8,FALSE)=\"\",IF(VLOOKUP('Místa dodání'!A9-10000,'Data eshop'!D:L,9,FALSE)=\"\",\"\",\"DIČ: \"&VLOOKUP('Místa dodání'!A9-10000,'Data eshop'!D:L,9,FALSE)),IF(VLOOKUP('Místa dodání'!A9-10000,'Data eshop'!D:L,9,FALSE)=\"\",\"\",\"DIČ: \"&VLOOKUP('Místa dodání'!A9-10000,'Data eshop'!D:L,9,FALSE)&\", \")&\"IČO: \"&VLOOKUP('Místa dodání'!A9-10000,'Data eshop'!D:L,8,FALSE)))","v":""},{"$f":"IF(A9=\"\",\"\",VLOOKUP(A9-10000,'Data eshop'!D:AD,6,FALSE))","v":""},{"$f":"IF(A9=\"\",\"\",VLOOKUP(A9-10000,'Data eshop'!D:AD,7,FALSE))","v":""},{"$f":"IF(A9=\"\",\"\",VLOOKUP(A9-10000,'Data eshop'!D:AD,10,FALSE))","v":""},"","","",""]
[{"$f":"IFERROR(SMALL('Data eshop'!D:D,COUNTIF('Data eshop'!D:D,\"<\"&(A9-10000)))+10000,\"\")","v":""},"",{"$f":"IF(A10=\"\",\"\",IF(VLOOKUP(A10-10000,'Data eshop'!D:G,2,FALSE)=\"\",PROPER(VLOOKUP(A10-10000,'Data eshop'!D:G,3,FALSE)&\" \"&VLOOKUP(A10-10000,'Data eshop'!D:G,4,FALSE)),VLOOKUP(A10-10000,'Data eshop'!D:G,2,FALSE)&\" - \"&PROPER(VLOOKUP(A10-10000,'Data eshop'!D:G,3,FALSE)&\" \"&VLOOKUP(A10-10000,'Data eshop'!D:G,4,FALSE))))","v":""},null,{"$f":"IF(A10=\"\",\"\",VLOOKUP(A10-10000,'Data eshop'!D:AD,5,FALSE))","v":""},{"$f":"IF(A10=\"\",\"\",IF(VLOOKUP('Místa dodání'!A10-10000,'Data eshop'!D:L,8,FALSE)=\"\",IF(VLOOKUP('Místa dodání'!A10-10000,'Data eshop'!D:L,9,FALSE)=\"\",\"\",\"DIČ: \"&VLOOKUP('Místa dodání'!A10-10000,'Data eshop'!D:L,9,FALSE)),IF(VLOOKUP('Místa dodání'!A10-10000,'Data eshop'!D:L,9,FALSE)=\"\",\"\",\"DIČ: \"&VLOOKUP('Místa dodání'!A10-10000,'Data eshop'!D:L,9,FALSE)&\", \")&\"IČO: \"&VLOOKUP('Místa dodání'!A10-10000,'Data eshop'!D:L,8,FALSE)))","v":""},{"$f":"IF(A10=\"\",\"\",VLOOKUP(A10-10000,'Data eshop'!D:AD,6,FALSE))","v":""},{"$f":"IF(A10=\"\",\"\",VLOOKUP(A10-10000,'Data eshop'!D:AD,7,FALSE))","v":""},{"$f":"IF(A10=\"\",\"\",VLOOKUP(A10-10000,'Data eshop'!D:AD,10,FALSE))","v":""},"","","",""]
[{"$f":"IFERROR(SMALL('Data eshop'!D:D,COUNTIF('Data eshop'!D:D,\"<\"&(A10-10000)))+10000,\"\")","v":""},"",{"$f":"IF(A11=\"\",\"\",IF(VLOOKUP(A11-10000,'Data eshop'!D:G,2,FALSE)=\"\",PROPER(VLOOKUP(A11-10000,'Data eshop'!D:G,3,FALSE)&\" \"&VLOOKUP(A11-10000,'Data eshop'!D:G,4,FALSE)),VLOOKUP(A11-10000,'Data eshop'!D:G,2,FALSE)&\" - \"&PROPER(VLOOKUP(A11-10000,'Data eshop'!D:G,3,FALSE)&\" \"&VLOOKUP(A11-10000,'Data eshop'!D:G,4,FALSE))))","v":""},null,{"$f":"IF(A11=\"\",\"\",VLOOKUP(A11-10000,'Data eshop'!D:AD,5,FALSE))","v":""},{"$f":"IF(A11=\"\",\"\",IF(VLOOKUP('Místa dodání'!A11-10000,'Data eshop'!D:L,8,FALSE)=\"\",IF(VLOOKUP('Místa dodání'!A11-10000,'Data eshop'!D:L,9,FALSE)=\"\",\"\",\"DIČ: \"&VLOOKUP('Místa dodání'!A11-10000,'Data eshop'!D:L,9,FALSE)),IF(VLOOKUP('Místa dodání'!A11-10000,'Data eshop'!D:L,9,FALSE)=\"\",\"\",\"DIČ: \"&VLOOKUP('Místa dodání'!A11-10000,'Data eshop'!D:L,9,FALSE)&\", \")&\"IČO: \"&VLOOKUP('Místa dodání'!A11-10000,'Data eshop'!D:L,8,FALSE)))","v":""},{"$f":"IF(A11=\"\",\"\",VLOOKUP(A11-10000,'Data eshop'!D:AD,6,FALSE))","v":""},{"$f":"IF(A11=\"\",\"\",VLOOKUP(A11-10000,'Data eshop'!D:AD,7,FALSE))","v":""},{"$f":"IF(A11=\"\",\"\",VLOOKUP(A11-10000,'Data eshop'!D:AD,10,FALSE))","v":""},"","","","","Roluj nahoru, až uvidíš žlutou"]
[{"$f":"IFERROR(SMALL('Data eshop'!D:D,COUNTIF('Data eshop'!D:D,\"<\"&(A11-10000)))+10000,\"\")","v":""},"",{"$f":"IF(A12=\"\",\"\",IF(VLOOKUP(A12-10000,'Data eshop'!D:G,2,FALSE)=\"\",PROPER(VLOOKUP(A12-10000,'Data eshop'!D:G,3,FALSE)&\" \"&VLOOKUP(A12-10000,'Data eshop'!D:G,4,FALSE)),VLOOKUP(A12-10000,'Data eshop'!D:G,2,FALSE)&\" - \"&PROPER(VLOOKUP(A12-10000,'Data eshop'!D:G,3,FALSE)&\" \"&VLOOKUP(A12-10000,'Data eshop'!D:G,4,FALSE))))","v":""},null,{"$f":"IF(A12=\"\",\"\",VLOOKUP(A12-10000,'Data eshop'!D:AD,5,FALSE))","v":""},{"$f":"IF(A12=\"\",\"\",IF(VLOOKUP('Místa dodání'!A12-10000,'Data eshop'!D:L,8,FALSE)=\"\",IF(VLOOKUP('Místa dodání'!A12-10000,'Data eshop'!D:L,9,FALSE)=\"\",\"\",\"DIČ: \"&VLOOKUP('Místa dodání'!A12-10000,'Data eshop'!D:L,9,FALSE)),IF(VLOOKUP('Místa dodání'!A12-10000,'Data eshop'!D:L,9,FALSE)=\"\",\"\",\"DIČ: \"&VLOOKUP('Místa dodání'!A12-10000,'Data eshop'!D:L,9,FALSE)&\", \")&\"IČO: \"&VLOOKUP('Místa dodání'!A12-10000,'Data eshop'!D:L,8,FALSE)))","v":""},{"$f":"IF(A12=\"\",\"\",VLOOKUP(A12-10000,'Data eshop'!D:AD,6,FALSE))","v":""},{"$f":"IF(A12=\"\",\"\",VLOOKUP(A12-10000,'Data eshop'!D:AD,7,FALSE))","v":""},{"$f":"IF(A12=\"\",\"\",VLOOKUP(A12-10000,'Data eshop'!D:AD,10,FALSE))","v":""},"","","",""]
[{"$f":"IFERROR(SMALL('Data eshop'!D:D,COUNTIF('Data eshop'!D:D,\"<\"&(A12-10000)))+10000,\"\")","v":""},"",{"$f":"IF(A13=\"\",\"\",IF(VLOOKUP(A13-10000,'Data eshop'!D:G,2,FALSE)=\"\",PROPER(VLOOKUP(A13-10000,'Data eshop'!D:G,3,FALSE)&\" \"&VLOOKUP(A13-10000,'Data eshop'!D:G,4,FALSE)),VLOOKUP(A13-10000,'Data eshop'!D:G,2,FALSE)&\" - \"&PROPER(VLOOKUP(A13-10000,'Data eshop'!D:G,3,FALSE)&\" \"&VLOOKUP(A13-10000,'Data eshop'!D:G,4,FALSE))))","v":""},null,{"$f":"IF(A13=\"\",\"\",VLOOKUP(A13-10000,'Data eshop'!D:AD,5,FALSE))","v":""},{"$f":"IF(A13=\"\",\"\",IF(VLOOKUP('Místa dodání'!A13-10000,'Data eshop'!D:L,8,FALSE)=\"\",IF(VLOOKUP('Místa dodání'!A13-10000,'Data eshop'!D:L,9,FALSE)=\"\",\"\",\"DIČ: \"&VLOOKUP('Místa dodání'!A13-10000,'Data eshop'!D:L,9,FALSE)),IF(VLOOKUP('Místa dodání'!A13-10000,'Data eshop'!D:L,9,FALSE)=\"\",\"\",\"DIČ: \"&VLOOKUP('Místa dodání'!A13-10000,'Data eshop'!D:L,9,FALSE)&\", \")&\"IČO: \"&VLOOKUP('Místa dodání'!A13-10000,'Data eshop'!D:L,8,FALSE)))","v":""},{"$f":"IF(A13=\"\",\"\",VLOOKUP(A13-10000,'Data eshop'!D:AD,6,FALSE))","v":""},{"$f":"IF(A13=\"\",\"\",VLOOKUP(A13-10000,'Data eshop'!D:AD,7,FALSE))","v":""},{"$f":"IF(A13=\"\",\"\",VLOOKUP(A13-10000,'Data eshop'!D:AD,10,FALSE))","v":""},"","","",""]
[{"$f":"IFERROR(SMALL('Data eshop'!D:D,COUNTIF('Data eshop'!D:D,\"<\"&(A13-10000)))+10000,\"\")","v":""},"",{"$f":"IF(A14=\"\",\"\",IF(VLOOKUP(A14-10000,'Data eshop'!D:G,2,FALSE)=\"\",PROPER(VLOOKUP(A14-10000,'Data eshop'!D:G,3,FALSE)&\" \"&VLOOKUP(A14-10000,'Data eshop'!D:G,4,FALSE)),VLOOKUP(A14-10000,'Data eshop'!D:G,2,FALSE)&\" - \"&PROPER(VLOOKUP(A14-10000,'Data eshop'!D:G,3,FALSE)&\" \"&VLOOKUP(A14-10000,'Data eshop'!D:G,4,FALSE))))","v":""},null,{"$f":"IF(A14=\"\",\"\",VLOOKUP(A14-10000,'Data eshop'!D:AD,5,FALSE))","v":""},{"$f":"IF(A14=\"\",\"\",IF(VLOOKUP('Místa dodání'!A14-10000,'Data eshop'!D:L,8,FALSE)=\"\",IF(VLOOKUP('Místa dodání'!A14-10000,'Data eshop'!D:L,9,FALSE)=\"\",\"\",\"DIČ: \"&VLOOKUP('Místa dodání'!A14-10000,'Data eshop'!D:L,9,FALSE)),IF(VLOOKUP('Místa dodání'!A14-10000,'Data eshop'!D:L,9,FALSE)=\"\",\"\",\"DIČ: \"&VLOOKUP('Místa dodání'!A14-10000,'Data eshop'!D:L,9,FALSE)&\", \")&\"IČO: \"&VLOOKUP('Místa dodání'!A14-10000,'Data eshop'!D:L,8,FALSE)))","v":""},{"$f":"IF(A14=\"\",\"\",VLOOKUP(A14-10000,'Data eshop'!D:AD,6,FALSE))","v":""},{"$f":"IF(A14=\"\",\"\",VLOOKUP(A14-10000,'Data eshop'!D:AD,7,FALSE))","v":""},{"$f":"IF(A14=\"\",\"\",VLOOKUP(A14-10000,'Data eshop'!D:AD,10,FALSE))","v":""},"","","",""]
[{"$f":"IFERROR(SMALL('Data eshop'!D:D,COUNTIF('Data eshop'!D:D,\"<\"&(A14-10000)))+10000,\"\")","v":""},"",{"$f":"IF(A15=\"\",\"\",IF(VLOOKUP(A15-10000,'Data eshop'!D:G,2,FALSE)=\"\",PROPER(VLOOKUP(A15-10000,'Data eshop'!D:G,3,FALSE)&\" \"&VLOOKUP(A15-10000,'Data eshop'!D:G,4,FALSE)),VLOOKUP(A15-10000,'Data eshop'!D:G,2,FALSE)&\" - \"&PROPER(VLOOKUP(A15-10000,'Data eshop'!D:G,3,FALSE)&\" \"&VLOOKUP(A15-10000,'Data eshop'!D:G,4,FALSE))))","v":""},null,{"$f":"IF(A15=\"\",\"\",VLOOKUP(A15-10000,'Data eshop'!D:AD,5,FALSE))","v":""},{"$f":"IF(A15=\"\",\"\",IF(VLOOKUP('Místa dodání'!A15-10000,'Data eshop'!D:L,8,FALSE)=\"\",IF(VLOOKUP('Místa dodání'!A15-10000,'Data eshop'!D:L,9,FALSE)=\"\",\"\",\"DIČ: \"&VLOOKUP('Místa dodání'!A15-10000,'Data eshop'!D:L,9,FALSE)),IF(VLOOKUP('Místa dodání'!A15-10000,'Data eshop'!D:L,9,FALSE)=\"\",\"\",\"DIČ: \"&VLOOKUP('Místa dodání'!A15-10000,'Data eshop'!D:L,9,FALSE)&\", \")&\"IČO: \"&VLOOKUP('Místa dodání'!A15-10000,'Data eshop'!D:L,8,FALSE)))","v":""},{"$f":"IF(A15=\"\",\"\",VLOOKUP(A15-10000,'Data eshop'!D:AD,6,FALSE))","v":""},{"$f":"IF(A15=\"\",\"\",VLOOKUP(A15-10000,'Data eshop'!D:AD,7,FALSE))","v":""},{"$f":"IF(A15=\"\",\"\",VLOOKUP(A15-10000,'Data eshop'!D:AD,10,FALSE))","v":""},"","","","","Roluj nahoru, až uvidíš žlutou"]
[{"$f":"IFERROR(SMALL('Data eshop'!D:D,COUNTIF('Data eshop'!D:D,\"<\"&(A15-10000)))+10000,\"\")","v":""},"",{"$f":"IF(A16=\"\",\"\",IF(VLOOKUP(A16-10000,'Data eshop'!D:G,2,FALSE)=\"\",PROPER(VLOOKUP(A16-10000,'Data eshop'!D:G,3,FALSE)&\" \"&VLOOKUP(A16-10000,'Data eshop'!D:G,4,FALSE)),VLOOKUP(A16-10000,'Data eshop'!D:G,2,FALSE)&\" - \"&PROPER(VLOOKUP(A16-10000,'Data eshop'!D:G,3,FALSE)&\" \"&VLOOKUP(A16-10000,'Data eshop'!D:G,4,FALSE))))","v":""},null,{"$f":"IF(A16=\"\",\"\",VLOOKUP(A16-10000,'Data eshop'!D:AD,5,FALSE))","v":""},{"$f":"IF(A16=\"\",\"\",IF(VLOOKUP('Místa dodání'!A16-10000,'Data eshop'!D:L,8,FALSE)=\"\",IF(VLOOKUP('Místa dodání'!A16-10000,'Data eshop'!D:L,9,FALSE)=\"\",\"\",\"DIČ: \"&VLOOKUP('Místa dodání'!A16-10000,'Data eshop'!D:L,9,FALSE)),IF(VLOOKUP('Místa dodání'!A16-10000,'Data eshop'!D:L,9,FALSE)=\"\",\"\",\"DIČ: \"&VLOOKUP('Místa dodání'!A16-10000,'Data eshop'!D:L,9,FALSE)&\", \")&\"IČO: \"&VLOOKUP('Místa dodání'!A16-10000,'Data eshop'!D:L,8,FALSE)))","v":""},{"$f":"IF(A16=\"\",\"\",VLOOKUP(A16-10000,'Data eshop'!D:AD,6,FALSE))","v":""},{"$f":"IF(A16=\"\",\"\",VLOOKUP(A16-10000,'Data eshop'!D:AD,7,FALSE))","v":""},{"$f":"IF(A16=\"\",\"\",VLOOKUP(A16-10000,'Data eshop'!D:AD,10,FALSE))","v":""},"","","",""]
[{"$f":"IFERROR(SMALL('Data eshop'!D:D,COUNTIF('Data eshop'!D:D,\"<\"&(A16-10000)))+10000,\"\")","v":""},"",{"$f":"IF(A17=\"\",\"\",IF(VLOOKUP(A17-10000,'Data eshop'!D:G,2,FALSE)=\"\",PROPER(VLOOKUP(A17-10000,'Data eshop'!D:G,3,FALSE)&\" \"&VLOOKUP(A17-10000,'Data eshop'!D:G,4,FALSE)),VLOOKUP(A17-10000,'Data eshop'!D:G,2,FALSE)&\" - \"&PROPER(VLOOKUP(A17-10000,'Data eshop'!D:G,3,FALSE)&\" \"&VLOOKUP(A17-10000,'Data eshop'!D:G,4,FALSE))))","v":""},null,{"$f":"IF(A17=\"\",\"\",VLOOKUP(A17-10000,'Data eshop'!D:AD,5,FALSE))","v":""},{"$f":"IF(A17=\"\",\"\",IF(VLOOKUP('Místa dodání'!A17-10000,'Data eshop'!D:L,8,FALSE)=\"\",IF(VLOOKUP('Místa dodání'!A17-10000,'Data eshop'!D:L,9,FALSE)=\"\",\"\",\"DIČ: \"&VLOOKUP('Místa dodání'!A17-10000,'Data eshop'!D:L,9,FALSE)),IF(VLOOKUP('Místa dodání'!A17-10000,'Data eshop'!D:L,9,FALSE)=\"\",\"\",\"DIČ: \"&VLOOKUP('Místa dodání'!A17-10000,'Data eshop'!D:L,9,FALSE)&\", \")&\"IČO: \"&VLOOKUP('Místa dodání'!A17-10000,'Data eshop'!D:L,8,FALSE)))","v":""},{"$f":"IF(A17=\"\",\"\",VLOOKUP(A17-10000,'Data eshop'!D:AD,6,FALSE))","v":""},{"$f":"IF(A17=\"\",\"\",VLOOKUP(A17-10000,'Data eshop'!D:AD,7,FALSE))","v":""},{"$f":"IF(A17=\"\",\"\",VLOOKUP(A17-10000,'Data eshop'!D:AD,10,FALSE))","v":""},"","","",""]
[{"$f":"IFERROR(SMALL('Data eshop'!D:D,COUNTIF('Data eshop'!D:D,\"<\"&(A17-10000)))+10000,\"\")","v":""},"",{"$f":"IF(A18=\"\",\"\",IF(VLOOKUP(A18-10000,'Data eshop'!D:G,2,FALSE)=\"\",PROPER(VLOOKUP(A18-10000,'Data eshop'!D:G,3,FALSE)&\" \"&VLOOKUP(A18-10000,'Data eshop'!D:G,4,FALSE)),VLOOKUP(A18-10000,'Data eshop'!D:G,2,FALSE)&\" - \"&PROPER(VLOOKUP(A18-10000,'Data eshop'!D:G,3,FALSE)&\" \"&VLOOKUP(A18-10000,'Data eshop'!D:G,4,FALSE))))","v":""},null,{"$f":"IF(A18=\"\",\"\",VLOOKUP(A18-10000,'Data eshop'!D:AD,5,FALSE))","v":""},{"$f":"IF(A18=\"\",\"\",IF(VLOOKUP('Místa dodání'!A18-10000,'Data eshop'!D:L,8,FALSE)=\"\",IF(VLOOKUP('Místa dodání'!A18-10000,'Data eshop'!D:L,9,FALSE)=\"\",\"\",\"DIČ: \"&VLOOKUP('Místa dodání'!A18-10000,'Data eshop'!D:L,9,FALSE)),IF(VLOOKUP('Místa dodání'!A18-10000,'Data eshop'!D:L,9,FALSE)=\"\",\"\",\"DIČ: \"&VLOOKUP('Místa dodání'!A18-10000,'Data eshop'!D:L,9,FALSE)&\", \")&\"IČO: \"&VLOOKUP('Místa dodání'!A18-10000,'Data eshop'!D:L,8,FALSE)))","v":""},{"$f":"IF(A18=\"\",\"\",VLOOKUP(A18-10000,'Data eshop'!D:AD,6,FALSE))","v":""},{"$f":"IF(A18=\"\",\"\",VLOOKUP(A18-10000,'Data eshop'!D:AD,7,FALSE))","v":""},{"$f":"IF(A18=\"\",\"\",VLOOKUP(A18-10000,'Data eshop'!D:AD,10,FALSE))","v":""},"","","",""]
[{"$f":"IFERROR(SMALL('Data eshop'!D:D,COUNTIF('Data eshop'!D:D,\"<\"&(A18-10000)))+10000,\"\")","v":""},"",{"$f":"IF(A19=\"\",\"\",IF(VLOOKUP(A19-10000,'Data eshop'!D:G,2,FALSE)=\"\",PROPER(VLOOKUP(A19-10000,'Data eshop'!D:G,3,FALSE)&\" \"&VLOOKUP(A19-10000,'Data eshop'!D:G,4,FALSE)),VLOOKUP(A19-10000,'Data eshop'!D:G,2,FALSE)&\" - \"&PROPER(VLOOKUP(A19-10000,'Data eshop'!D:G,3,FALSE)&\" \"&VLOOKUP(A19-10000,'Data eshop'!D:G,4,FALSE))))","v":""},null,{"$f":"IF(A19=\"\",\"\",VLOOKUP(A19-10000,'Data eshop'!D:AD,5,FALSE))","v":""},{"$f":"IF(A19=\"\",\"\",IF(VLOOKUP('Místa dodání'!A19-10000,'Data eshop'!D:L,8,FALSE)=\"\",IF(VLOOKUP('Místa dodání'!A19-10000,'Data eshop'!D:L,9,FALSE)=\"\",\"\",\"DIČ: \"&VLOOKUP('Místa dodání'!A19-10000,'Data eshop'!D:L,9,FALSE)),IF(VLOOKUP('Místa dodání'!A19-10000,'Data eshop'!D:L,9,FALSE)=\"\",\"\",\"DIČ: \"&VLOOKUP('Místa dodání'!A19-10000,'Data eshop'!D:L,9,FALSE)&\", \")&\"IČO: \"&VLOOKUP('Místa dodání'!A19-10000,'Data eshop'!D:L,8,FALSE)))","v":""},{"$f":"IF(A19=\"\",\"\",VLOOKUP(A19-10000,'Data eshop'!D:AD,6,FALSE))","v":""},{"$f":"IF(A19=\"\",\"\",VLOOKUP(A19-10000,'Data eshop'!D:AD,7,FALSE))","v":""},{"$f":"IF(A19=\"\",\"\",VLOOKUP(A19-10000,'Data eshop'!D:AD,10,FALSE))","v":""},"","","","","Roluj nahoru, až uvidíš žlutou"]
[{"$f":"IFERROR(SMALL('Data eshop'!D:D,COUNTIF('Data eshop'!D:D,\"<\"&(A19-10000)))+10000,\"\")","v":""},"",{"$f":"IF(A20=\"\",\"\",IF(VLOOKUP(A20-10000,'Data eshop'!D:G,2,FALSE)=\"\",PROPER(VLOOKUP(A20-10000,'Data eshop'!D:G,3,FALSE)&\" \"&VLOOKUP(A20-10000,'Data eshop'!D:G,4,FALSE)),VLOOKUP(A20-10000,'Data eshop'!D:G,2,FALSE)&\" - \"&PROPER(VLOOKUP(A20-10000,'Data eshop'!D:G,3,FALSE)&\" \"&VLOOKUP(A20-10000,'Data eshop'!D:G,4,FALSE))))","v":""},null,{"$f":"IF(A20=\"\",\"\",VLOOKUP(A20-10000,'Data eshop'!D:AD,5,FALSE))","v":""},{"$f":"IF(A20=\"\",\"\",IF(VLOOKUP('Místa dodání'!A20-10000,'Data eshop'!D:L,8,FALSE)=\"\",IF(VLOOKUP('Místa dodání'!A20-10000,'Data eshop'!D:L,9,FALSE)=\"\",\"\",\"DIČ: \"&VLOOKUP('Místa dodání'!A20-10000,'Data eshop'!D:L,9,FALSE)),IF(VLOOKUP('Místa dodání'!A20-10000,'Data eshop'!D:L,9,FALSE)=\"\",\"\",\"DIČ: \"&VLOOKUP('Místa dodání'!A20-10000,'Data eshop'!D:L,9,FALSE)&\", \")&\"IČO: \"&VLOOKUP('Místa dodání'!A20-10000,'Data eshop'!D:L,8,FALSE)))","v":""},{"$f":"IF(A20=\"\",\"\",VLOOKUP(A20-10000,'Data eshop'!D:AD,6,FALSE))","v":""},{"$f":"IF(A20=\"\",\"\",VLOOKUP(A20-10000,'Data eshop'!D:AD,7,FALSE))","v":""},{"$f":"IF(A20=\"\",\"\",VLOOKUP(A20-10000,'Data eshop'!D:AD,10,FALSE))","v":""},"","","",""]
[{"$f":"IFERROR(SMALL('Data eshop'!D:D,COUNTIF('Data eshop'!D:D,\"<\"&(A20-10000)))+10000,\"\")","v":""},"",{"$f":"IF(A21=\"\",\"\",IF(VLOOKUP(A21-10000,'Data eshop'!D:G,2,FALSE)=\"\",PROPER(VLOOKUP(A21-10000,'Data eshop'!D:G,3,FALSE)&\" \"&VLOOKUP(A21-10000,'Data eshop'!D:G,4,FALSE)),VLOOKUP(A21-10000,'Data eshop'!D:G,2,FALSE)&\" - \"&PROPER(VLOOKUP(A21-10000,'Data eshop'!D:G,3,FALSE)&\" \"&VLOOKUP(A21-10000,'Data eshop'!D:G,4,FALSE))))","v":""},null,{"$f":"IF(A21=\"\",\"\",VLOOKUP(A21-10000,'Data eshop'!D:AD,5,FALSE))","v":""},{"$f":"IF(A21=\"\",\"\",IF(VLOOKUP('Místa dodání'!A21-10000,'Data eshop'!D:L,8,FALSE)=\"\",IF(VLOOKUP('Místa dodání'!A21-10000,'Data eshop'!D:L,9,FALSE)=\"\",\"\",\"DIČ: \"&VLOOKUP('Místa dodání'!A21-10000,'Data eshop'!D:L,9,FALSE)),IF(VLOOKUP('Místa dodání'!A21-10000,'Data eshop'!D:L,9,FALSE)=\"\",\"\",\"DIČ: \"&VLOOKUP('Místa dodání'!A21-10000,'Data eshop'!D:L,9,FALSE)&\", \")&\"IČO: \"&VLOOKUP('Místa dodání'!A21-10000,'Data eshop'!D:L,8,FALSE)))","v":""},{"$f":"IF(A21=\"\",\"\",VLOOKUP(A21-10000,'Data eshop'!D:AD,6,FALSE))","v":""},{"$f":"IF(A21=\"\",\"\",VLOOKUP(A21-10000,'Data eshop'!D:AD,7,FALSE))","v":""},{"$f":"IF(A21=\"\",\"\",VLOOKUP(A21-10000,'Data eshop'!D:AD,10,FALSE))","v":""},"","","",""]
[{"$f":"IFERROR(SMALL('Data eshop'!D:D,COUNTIF('Data eshop'!D:D,\"<\"&(A21-10000)))+10000,\"\")","v":""},"",{"$f":"IF(A22=\"\",\"\",IF(VLOOKUP(A22-10000,'Data eshop'!D:G,2,FALSE)=\"\",PROPER(VLOOKUP(A22-10000,'Data eshop'!D:G,3,FALSE)&\" \"&VLOOKUP(A22-10000,'Data eshop'!D:G,4,FALSE)),VLOOKUP(A22-10000,'Data eshop'!D:G,2,FALSE)&\" - \"&PROPER(VLOOKUP(A22-10000,'Data eshop'!D:G,3,FALSE)&\" \"&VLOOKUP(A22-10000,'Data eshop'!D:G,4,FALSE))))","v":""},null,{"$f":"IF(A22=\"\",\"\",VLOOKUP(A22-10000,'Data eshop'!D:AD,5,FALSE))","v":""},{"$f":"IF(A22=\"\",\"\",IF(VLOOKUP('Místa dodání'!A22-10000,'Data eshop'!D:L,8,FALSE)=\"\",IF(VLOOKUP('Místa dodání'!A22-10000,'Data eshop'!D:L,9,FALSE)=\"\",\"\",\"DIČ: \"&VLOOKUP('Místa dodání'!A22-10000,'Data eshop'!D:L,9,FALSE)),IF(VLOOKUP('Místa dodání'!A22-10000,'Data eshop'!D:L,9,FALSE)=\"\",\"\",\"DIČ: \"&VLOOKUP('Místa dodání'!A22-10000,'Data eshop'!D:L,9,FALSE)&\", \")&\"IČO: \"&VLOOKUP('Místa dodání'!A22-10000,'Data eshop'!D:L,8,FALSE)))","v":""},{"$f":"IF(A22=\"\",\"\",VLOOKUP(A22-10000,'Data eshop'!D:AD,6,FALSE))","v":""},{"$f":"IF(A22=\"\",\"\",VLOOKUP(A22-10000,'Data eshop'!D:AD,7,FALSE))","v":""},{"$f":"IF(A22=\"\",\"\",VLOOKUP(A22-10000,'Data eshop'!D:AD,10,FALSE))","v":""},"","","",""]
[{"$f":"IFERROR(SMALL('Data eshop'!D:D,COUNTIF('Data eshop'!D:D,\"<\"&(A22-10000)))+10000,\"\")","v":""},"",{"$f":"IF(A23=\"\",\"\",IF(VLOOKUP(A23-10000,'Data eshop'!D:G,2,FALSE)=\"\",PROPER(VLOOKUP(A23-10000,'Data eshop'!D:G,3,FALSE)&\" \"&VLOOKUP(A23-10000,'Data eshop'!D:G,4,FALSE)),VLOOKUP(A23-10000,'Data eshop'!D:G,2,FALSE)&\" - \"&PROPER(VLOOKUP(A23-10000,'Data eshop'!D:G,3,FALSE)&\" \"&VLOOKUP(A23-10000,'Data eshop'!D:G,4,FALSE))))","v":""},null,{"$f":"IF(A23=\"\",\"\",VLOOKUP(A23-10000,'Data eshop'!D:AD,5,FALSE))","v":""},{"$f":"IF(A23=\"\",\"\",IF(VLOOKUP('Místa dodání'!A23-10000,'Data eshop'!D:L,8,FALSE)=\"\",IF(VLOOKUP('Místa dodání'!A23-10000,'Data eshop'!D:L,9,FALSE)=\"\",\"\",\"DIČ: \"&VLOOKUP('Místa dodání'!A23-10000,'Data eshop'!D:L,9,FALSE)),IF(VLOOKUP('Místa dodání'!A23-10000,'Data eshop'!D:L,9,FALSE)=\"\",\"\",\"DIČ: \"&VLOOKUP('Místa dodání'!A23-10000,'Data eshop'!D:L,9,FALSE)&\", \")&\"IČO: \"&VLOOKUP('Místa dodání'!A23-10000,'Data eshop'!D:L,8,FALSE)))","v":""},{"$f":"IF(A23=\"\",\"\",VLOOKUP(A23-10000,'Data eshop'!D:AD,6,FALSE))","v":""},{"$f":"IF(A23=\"\",\"\",VLOOKUP(A23-10000,'Data eshop'!D:AD,7,FALSE))","v":""},{"$f":"IF(A23=\"\",\"\",VLOOKUP(A23-10000,'Data eshop'!D:AD,10,FALSE))","v":""},"","","","","Roluj nahoru, až uvidíš žlutou"]
[{"$f":"IFERROR(SMALL('Data eshop'!D:D,COUNTIF('Data eshop'!D:D,\"<\"&(A23-10000)))+10000,\"\")","v":""},"",{"$f":"IF(A24=\"\",\"\",IF(VLOOKUP(A24-10000,'Data eshop'!D:G,2,FALSE)=\"\",PROPER(VLOOKUP(A24-10000,'Data eshop'!D:G,3,FALSE)&\" \"&VLOOKUP(A24-10000,'Data eshop'!D:G,4,FALSE)),VLOOKUP(A24-10000,'Data eshop'!D:G,2,FALSE)&\" - \"&PROPER(VLOOKUP(A24-10000,'Data eshop'!D:G,3,FALSE)&\" \"&VLOOKUP(A24-10000,'Data eshop'!D:G,4,FALSE))))","v":""},null,{"$f":"IF(A24=\"\",\"\",VLOOKUP(A24-10000,'Data eshop'!D:AD,5,FALSE))","v":""},{"$f":"IF(A24=\"\",\"\",IF(VLOOKUP('Místa dodání'!A24-10000,'Data eshop'!D:L,8,FALSE)=\"\",IF(VLOOKUP('Místa dodání'!A24-10000,'Data eshop'!D:L,9,FALSE)=\"\",\"\",\"DIČ: \"&VLOOKUP('Místa dodání'!A24-10000,'Data eshop'!D:L,9,FALSE)),IF(VLOOKUP('Místa dodání'!A24-10000,'Data eshop'!D:L,9,FALSE)=\"\",\"\",\"DIČ: \"&VLOOKUP('Místa dodání'!A24-10000,'Data eshop'!D:L,9,FALSE)&\", \")&\"IČO: \"&VLOOKUP('Místa dodání'!A24-10000,'Data eshop'!D:L,8,FALSE)))","v":""},{"$f":"IF(A24=\"\",\"\",VLOOKUP(A24-10000,'Data eshop'!D:AD,6,FALSE))","v":""},{"$f":"IF(A24=\"\",\"\",VLOOKUP(A24-10000,'Data eshop'!D:AD,7,FALSE))","v":""},{"$f":"IF(A24=\"\",\"\",VLOOKUP(A24-10000,'Data eshop'!D:AD,10,FALSE))","v":""},"","","",""]
[{"$f":"IFERROR(SMALL('Data eshop'!D:D,COUNTIF('Data eshop'!D:D,\"<\"&(A24-10000)))+10000,\"\")","v":""},"",{"$f":"IF(A25=\"\",\"\",IF(VLOOKUP(A25-10000,'Data eshop'!D:G,2,FALSE)=\"\",PROPER(VLOOKUP(A25-10000,'Data eshop'!D:G,3,FALSE)&\" \"&VLOOKUP(A25-10000,'Data eshop'!D:G,4,FALSE)),VLOOKUP(A25-10000,'Data eshop'!D:G,2,FALSE)&\" - \"&PROPER(VLOOKUP(A25-10000,'Data eshop'!D:G,3,FALSE)&\" \"&VLOOKUP(A25-10000,'Data eshop'!D:G,4,FALSE))))","v":""},null,{"$f":"IF(A25=\"\",\"\",VLOOKUP(A25-10000,'Data eshop'!D:AD,5,FALSE))","v":""},{"$f":"IF(A25=\"\",\"\",IF(VLOOKUP('Místa dodání'!A25-10000,'Data eshop'!D:L,8,FALSE)=\"\",IF(VLOOKUP('Místa dodání'!A25-10000,'Data eshop'!D:L,9,FALSE)=\"\",\"\",\"DIČ: \"&VLOOKUP('Místa dodání'!A25-10000,'Data eshop'!D:L,9,FALSE)),IF(VLOOKUP('Místa dodání'!A25-10000,'Data eshop'!D:L,9,FALSE)=\"\",\"\",\"DIČ: \"&VLOOKUP('Místa dodání'!A25-10000,'Data eshop'!D:L,9,FALSE)&\", \")&\"IČO: \"&VLOOKUP('Místa dodání'!A25-10000,'Data eshop'!D:L,8,FALSE)))","v":""},{"$f":"IF(A25=\"\",\"\",VLOOKUP(A25-10000,'Data eshop'!D:AD,6,FALSE))","v":""},{"$f":"IF(A25=\"\",\"\",VLOOKUP(A25-10000,'Data eshop'!D:AD,7,FALSE))","v":""},{"$f":"IF(A25=\"\",\"\",VLOOKUP(A25-10000,'Data eshop'!D:AD,10,FALSE))","v":""},"","","",""]
[{"$f":"IFERROR(SMALL('Data eshop'!D:D,COUNTIF('Data eshop'!D:D,\"<\"&(A25-10000)))+10000,\"\")","v":""},"",{"$f":"IF(A26=\"\",\"\",IF(VLOOKUP(A26-10000,'Data eshop'!D:G,2,FALSE)=\"\",PROPER(VLOOKUP(A26-10000,'Data eshop'!D:G,3,FALSE)&\" \"&VLOOKUP(A26-10000,'Data eshop'!D:G,4,FALSE)),VLOOKUP(A26-10000,'Data eshop'!D:G,2,FALSE)&\" - \"&PROPER(VLOOKUP(A26-10000,'Data eshop'!D:G,3,FALSE)&\" \"&VLOOKUP(A26-10000,'Data eshop'!D:G,4,FALSE))))","v":""},null,{"$f":"IF(A26=\"\",\"\",VLOOKUP(A26-10000,'Data eshop'!D:AD,5,FALSE))","v":""},{"$f":"IF(A26=\"\",\"\",IF(VLOOKUP('Místa dodání'!A26-10000,'Data eshop'!D:L,8,FALSE)=\"\",IF(VLOOKUP('Místa dodání'!A26-10000,'Data eshop'!D:L,9,FALSE)=\"\",\"\",\"DIČ: \"&VLOOKUP('Místa dodání'!A26-10000,'Data eshop'!D:L,9,FALSE)),IF(VLOOKUP('Místa dodání'!A26-10000,'Data eshop'!D:L,9,FALSE)=\"\",\"\",\"DIČ: \"&VLOOKUP('Místa dodání'!A26-10000,'Data eshop'!D:L,9,FALSE)&\", \")&\"IČO: \"&VLOOKUP('Místa dodání'!A26-10000,'Data eshop'!D:L,8,FALSE)))","v":""},{"$f":"IF(A26=\"\",\"\",VLOOKUP(A26-10000,'Data eshop'!D:AD,6,FALSE))","v":""},{"$f":"IF(A26=\"\",\"\",VLOOKUP(A26-10000,'Data eshop'!D:AD,7,FALSE))","v":""},{"$f":"IF(A26=\"\",\"\",VLOOKUP(A26-10000,'Data eshop'!D:AD,10,FALSE))","v":""},"","","",""]
[{"$f":"IFERROR(SMALL('Data eshop'!D:D,COUNTIF('Data eshop'!D:D,\"<\"&(A26-10000)))+10000,\"\")","v":""},"",{"$f":"IF(A27=\"\",\"\",IF(VLOOKUP(A27-10000,'Data eshop'!D:G,2,FALSE)=\"\",PROPER(VLOOKUP(A27-10000,'Data eshop'!D:G,3,FALSE)&\" \"&VLOOKUP(A27-10000,'Data eshop'!D:G,4,FALSE)),VLOOKUP(A27-10000,'Data eshop'!D:G,2,FALSE)&\" - \"&PROPER(VLOOKUP(A27-10000,'Data eshop'!D:G,3,FALSE)&\" \"&VLOOKUP(A27-10000,'Data eshop'!D:G,4,FALSE))))","v":""},null,{"$f":"IF(A27=\"\",\"\",VLOOKUP(A27-10000,'Data eshop'!D:AD,5,FALSE))","v":""},{"$f":"IF(A27=\"\",\"\",IF(VLOOKUP('Místa dodání'!A27-10000,'Data eshop'!D:L,8,FALSE)=\"\",IF(VLOOKUP('Místa dodání'!A27-10000,'Data eshop'!D:L,9,FALSE)=\"\",\"\",\"DIČ: \"&VLOOKUP('Místa dodání'!A27-10000,'Data eshop'!D:L,9,FALSE)),IF(VLOOKUP('Místa dodání'!A27-10000,'Data eshop'!D:L,9,FALSE)=\"\",\"\",\"DIČ: \"&VLOOKUP('Místa dodání'!A27-10000,'Data eshop'!D:L,9,FALSE)&\", \")&\"IČO: \"&VLOOKUP('Místa dodání'!A27-10000,'Data eshop'!D:L,8,FALSE)))","v":""},{"$f":"IF(A27=\"\",\"\",VLOOKUP(A27-10000,'Data eshop'!D:AD,6,FALSE))","v":""},{"$f":"IF(A27=\"\",\"\",VLOOKUP(A27-10000,'Data eshop'!D:AD,7,FALSE))","v":""},{"$f":"IF(A27=\"\",\"\",VLOOKUP(A27-10000,'Data eshop'!D:AD,10,FALSE))","v":""},"","","","","Roluj nahoru, až uvidíš žlutou"]
[{"$f":"IFERROR(SMALL('Data eshop'!D:D,COUNTIF('Data eshop'!D:D,\"<\"&(A27-10000)))+10000,\"\")","v":""},"",{"$f":"IF(A28=\"\",\"\",IF(VLOOKUP(A28-10000,'Data eshop'!D:G,2,FALSE)=\"\",PROPER(VLOOKUP(A28-10000,'Data eshop'!D:G,3,FALSE)&\" \"&VLOOKUP(A28-10000,'Data eshop'!D:G,4,FALSE)),VLOOKUP(A28-10000,'Data eshop'!D:G,2,FALSE)&\" - \"&PROPER(VLOOKUP(A28-10000,'Data eshop'!D:G,3,FALSE)&\" \"&VLOOKUP(A28-10000,'Data eshop'!D:G,4,FALSE))))","v":""},null,{"$f":"IF(A28=\"\",\"\",VLOOKUP(A28-10000,'Data eshop'!D:AD,5,FALSE))","v":""},{"$f":"IF(A28=\"\",\"\",IF(VLOOKUP('Místa dodání'!A28-10000,'Data eshop'!D:L,8,FALSE)=\"\",IF(VLOOKUP('Místa dodání'!A28-10000,'Data eshop'!D:L,9,FALSE)=\"\",\"\",\"DIČ: \"&VLOOKUP('Místa dodání'!A28-10000,'Data eshop'!D:L,9,FALSE)),IF(VLOOKUP('Místa dodání'!A28-10000,'Data eshop'!D:L,9,FALSE)=\"\",\"\",\"DIČ: \"&VLOOKUP('Místa dodání'!A28-10000,'Data eshop'!D:L,9,FALSE)&\", \")&\"IČO: \"&VLOOKUP('Místa dodání'!A28-10000,'Data eshop'!D:L,8,FALSE)))","v":""},{"$f":"IF(A28=\"\",\"\",VLOOKUP(A28-10000,'Data eshop'!D:AD,6,FALSE))","v":""},{"$f":"IF(A28=\"\",\"\",VLOOKUP(A28-10000,'Data eshop'!D:AD,7,FALSE))","v":""},{"$f":"IF(A28=\"\",\"\",VLOOKUP(A28-10000,'Data eshop'!D:AD,10,FALSE))","v":""},"","","",""]
[{"$f":"IFERROR(SMALL('Data eshop'!D:D,COUNTIF('Data eshop'!D:D,\"<\"&(A28-10000)))+10000,\"\")","v":""},"",{"$f":"IF(A29=\"\",\"\",IF(VLOOKUP(A29-10000,'Data eshop'!D:G,2,FALSE)=\"\",PROPER(VLOOKUP(A29-10000,'Data eshop'!D:G,3,FALSE)&\" \"&VLOOKUP(A29-10000,'Data eshop'!D:G,4,FALSE)),VLOOKUP(A29-10000,'Data eshop'!D:G,2,FALSE)&\" - \"&PROPER(VLOOKUP(A29-10000,'Data eshop'!D:G,3,FALSE)&\" \"&VLOOKUP(A29-10000,'Data eshop'!D:G,4,FALSE))))","v":""},null,{"$f":"IF(A29=\"\",\"\",VLOOKUP(A29-10000,'Data eshop'!D:AD,5,FALSE))","v":""},{"$f":"IF(A29=\"\",\"\",IF(VLOOKUP('Místa dodání'!A29-10000,'Data eshop'!D:L,8,FALSE)=\"\",IF(VLOOKUP('Místa dodání'!A29-10000,'Data eshop'!D:L,9,FALSE)=\"\",\"\",\"DIČ: \"&VLOOKUP('Místa dodání'!A29-10000,'Data eshop'!D:L,9,FALSE)),IF(VLOOKUP('Místa dodání'!A29-10000,'Data eshop'!D:L,9,FALSE)=\"\",\"\",\"DIČ: \"&VLOOKUP('Místa dodání'!A29-10000,'Data eshop'!D:L,9,FALSE)&\", \")&\"IČO: \"&VLOOKUP('Místa dodání'!A29-10000,'Data eshop'!D:L,8,FALSE)))","v":""},{"$f":"IF(A29=\"\",\"\",VLOOKUP(A29-10000,'Data eshop'!D:AD,6,FALSE))","v":""},{"$f":"IF(A29=\"\",\"\",VLOOKUP(A29-10000,'Data eshop'!D:AD,7,FALSE))","v":""},{"$f":"IF(A29=\"\",\"\",VLOOKUP(A29-10000,'Data eshop'!D:AD,10,FALSE))","v":""},"","","",""]
[{"$f":"IFERROR(SMALL('Data eshop'!D:D,COUNTIF('Data eshop'!D:D,\"<\"&(A29-10000)))+10000,\"\")","v":""},"",{"$f":"IF(A30=\"\",\"\",IF(VLOOKUP(A30-10000,'Data eshop'!D:G,2,FALSE)=\"\",PROPER(VLOOKUP(A30-10000,'Data eshop'!D:G,3,FALSE)&\" \"&VLOOKUP(A30-10000,'Data eshop'!D:G,4,FALSE)),VLOOKUP(A30-10000,'Data eshop'!D:G,2,FALSE)&\" - \"&PROPER(VLOOKUP(A30-10000,'Data eshop'!D:G,3,FALSE)&\" \"&VLOOKUP(A30-10000,'Data eshop'!D:G,4,FALSE))))","v":""},null,{"$f":"IF(A30=\"\",\"\",VLOOKUP(A30-10000,'Data eshop'!D:AD,5,FALSE))","v":""},{"$f":"IF(A30=\"\",\"\",IF(VLOOKUP('Místa dodání'!A30-10000,'Data eshop'!D:L,8,FALSE)=\"\",IF(VLOOKUP('Místa dodání'!A30-10000,'Data eshop'!D:L,9,FALSE)=\"\",\"\",\"DIČ: \"&VLOOKUP('Místa dodání'!A30-10000,'Data eshop'!D:L,9,FALSE)),IF(VLOOKUP('Místa dodání'!A30-10000,'Data eshop'!D:L,9,FALSE)=\"\",\"\",\"DIČ: \"&VLOOKUP('Místa dodání'!A30-10000,'Data eshop'!D:L,9,FALSE)&\", \")&\"IČO: \"&VLOOKUP('Místa dodání'!A30-10000,'Data eshop'!D:L,8,FALSE)))","v":""},{"$f":"IF(A30=\"\",\"\",VLOOKUP(A30-10000,'Data eshop'!D:AD,6,FALSE))","v":""},{"$f":"IF(A30=\"\",\"\",VLOOKUP(A30-10000,'Data eshop'!D:AD,7,FALSE))","v":""},{"$f":"IF(A30=\"\",\"\",VLOOKUP(A30-10000,'Data eshop'!D:AD,10,FALSE))","v":""},"","","",""]
[{"$f":"IFERROR(SMALL('Data eshop'!D:D,COUNTIF('Data eshop'!D:D,\"<\"&(A30-10000)))+10000,\"\")","v":""},"",{"$f":"IF(A31=\"\",\"\",IF(VLOOKUP(A31-10000,'Data eshop'!D:G,2,FALSE)=\"\",PROPER(VLOOKUP(A31-10000,'Data eshop'!D:G,3,FALSE)&\" \"&VLOOKUP(A31-10000,'Data eshop'!D:G,4,FALSE)),VLOOKUP(A31-10000,'Data eshop'!D:G,2,FALSE)&\" - \"&PROPER(VLOOKUP(A31-10000,'Data eshop'!D:G,3,FALSE)&\" \"&VLOOKUP(A31-10000,'Data eshop'!D:G,4,FALSE))))","v":""},null,{"$f":"IF(A31=\"\",\"\",VLOOKUP(A31-10000,'Data eshop'!D:AD,5,FALSE))","v":""},{"$f":"IF(A31=\"\",\"\",IF(VLOOKUP('Místa dodání'!A31-10000,'Data eshop'!D:L,8,FALSE)=\"\",IF(VLOOKUP('Místa dodání'!A31-10000,'Data eshop'!D:L,9,FALSE)=\"\",\"\",\"DIČ: \"&VLOOKUP('Místa dodání'!A31-10000,'Data eshop'!D:L,9,FALSE)),IF(VLOOKUP('Místa dodání'!A31-10000,'Data eshop'!D:L,9,FALSE)=\"\",\"\",\"DIČ: \"&VLOOKUP('Místa dodání'!A31-10000,'Data eshop'!D:L,9,FALSE)&\", \")&\"IČO: \"&VLOOKUP('Místa dodání'!A31-10000,'Data eshop'!D:L,8,FALSE)))","v":""},{"$f":"IF(A31=\"\",\"\",VLOOKUP(A31-10000,'Data eshop'!D:AD,6,FALSE))","v":""},{"$f":"IF(A31=\"\",\"\",VLOOKUP(A31-10000,'Data eshop'!D:AD,7,FALSE))","v":""},{"$f":"IF(A31=\"\",\"\",VLOOKUP(A31-10000,'Data eshop'!D:AD,10,FALSE))","v":""},"","","","","Roluj nahoru, až uvidíš žlutou"]
[{"$f":"IFERROR(SMALL('Data eshop'!D:D,COUNTIF('Data eshop'!D:D,\"<\"&(A31-10000)))+10000,\"\")","v":""},"",{"$f":"IF(A32=\"\",\"\",IF(VLOOKUP(A32-10000,'Data eshop'!D:G,2,FALSE)=\"\",PROPER(VLOOKUP(A32-10000,'Data eshop'!D:G,3,FALSE)&\" \"&VLOOKUP(A32-10000,'Data eshop'!D:G,4,FALSE)),VLOOKUP(A32-10000,'Data eshop'!D:G,2,FALSE)&\" - \"&PROPER(VLOOKUP(A32-10000,'Data eshop'!D:G,3,FALSE)&\" \"&VLOOKUP(A32-10000,'Data eshop'!D:G,4,FALSE))))","v":""},null,{"$f":"IF(A32=\"\",\"\",VLOOKUP(A32-10000,'Data eshop'!D:AD,5,FALSE))","v":""},{"$f":"IF(A32=\"\",\"\",IF(VLOOKUP('Místa dodání'!A32-10000,'Data eshop'!D:L,8,FALSE)=\"\",IF(VLOOKUP('Místa dodání'!A32-10000,'Data eshop'!D:L,9,FALSE)=\"\",\"\",\"DIČ: \"&VLOOKUP('Místa dodání'!A32-10000,'Data eshop'!D:L,9,FALSE)),IF(VLOOKUP('Místa dodání'!A32-10000,'Data eshop'!D:L,9,FALSE)=\"\",\"\",\"DIČ: \"&VLOOKUP('Místa dodání'!A32-10000,'Data eshop'!D:L,9,FALSE)&\", \")&\"IČO: \"&VLOOKUP('Místa dodání'!A32-10000,'Data eshop'!D:L,8,FALSE)))","v":""},{"$f":"IF(A32=\"\",\"\",VLOOKUP(A32-10000,'Data eshop'!D:AD,6,FALSE))","v":""},{"$f":"IF(A32=\"\",\"\",VLOOKUP(A32-10000,'Data eshop'!D:AD,7,FALSE))","v":""},{"$f":"IF(A32=\"\",\"\",VLOOKUP(A32-10000,'Data eshop'!D:AD,10,FALSE))","v":""},"","","",""]
[{"$f":"IFERROR(SMALL('Data eshop'!D:D,COUNTIF('Data eshop'!D:D,\"<\"&(A32-10000)))+10000,\"\")","v":""},"",{"$f":"IF(A33=\"\",\"\",IF(VLOOKUP(A33-10000,'Data eshop'!D:G,2,FALSE)=\"\",PROPER(VLOOKUP(A33-10000,'Data eshop'!D:G,3,FALSE)&\" \"&VLOOKUP(A33-10000,'Data eshop'!D:G,4,FALSE)),VLOOKUP(A33-10000,'Data eshop'!D:G,2,FALSE)&\" - \"&PROPER(VLOOKUP(A33-10000,'Data eshop'!D:G,3,FALSE)&\" \"&VLOOKUP(A33-10000,'Data eshop'!D:G,4,FALSE))))","v":""},null,{"$f":"IF(A33=\"\",\"\",VLOOKUP(A33-10000,'Data eshop'!D:AD,5,FALSE))","v":""},{"$f":"IF(A33=\"\",\"\",IF(VLOOKUP('Místa dodání'!A33-10000,'Data eshop'!D:L,8,FALSE)=\"\",IF(VLOOKUP('Místa dodání'!A33-10000,'Data eshop'!D:L,9,FALSE)=\"\",\"\",\"DIČ: \"&VLOOKUP('Místa dodání'!A33-10000,'Data eshop'!D:L,9,FALSE)),IF(VLOOKUP('Místa dodání'!A33-10000,'Data eshop'!D:L,9,FALSE)=\"\",\"\",\"DIČ: \"&VLOOKUP('Místa dodání'!A33-10000,'Data eshop'!D:L,9,FALSE)&\", \")&\"IČO: \"&VLOOKUP('Místa dodání'!A33-10000,'Data eshop'!D:L,8,FALSE)))","v":""},{"$f":"IF(A33=\"\",\"\",VLOOKUP(A33-10000,'Data eshop'!D:AD,6,FALSE))","v":""},{"$f":"IF(A33=\"\",\"\",VLOOKUP(A33-10000,'Data eshop'!D:AD,7,FALSE))","v":""},{"$f":"IF(A33=\"\",\"\",VLOOKUP(A33-10000,'Data eshop'!D:AD,10,FALSE))","v":""},"","","",""]
[{"$f":"IFERROR(SMALL('Data eshop'!D:D,COUNTIF('Data eshop'!D:D,\"<\"&(A33-10000)))+10000,\"\")","v":""},"",{"$f":"IF(A34=\"\",\"\",IF(VLOOKUP(A34-10000,'Data eshop'!D:G,2,FALSE)=\"\",PROPER(VLOOKUP(A34-10000,'Data eshop'!D:G,3,FALSE)&\" \"&VLOOKUP(A34-10000,'Data eshop'!D:G,4,FALSE)),VLOOKUP(A34-10000,'Data eshop'!D:G,2,FALSE)&\" - \"&PROPER(VLOOKUP(A34-10000,'Data eshop'!D:G,3,FALSE)&\" \"&VLOOKUP(A34-10000,'Data eshop'!D:G,4,FALSE))))","v":""},null,{"$f":"IF(A34=\"\",\"\",VLOOKUP(A34-10000,'Data eshop'!D:AD,5,FALSE))","v":""},{"$f":"IF(A34=\"\",\"\",IF(VLOOKUP('Místa dodání'!A34-10000,'Data eshop'!D:L,8,FALSE)=\"\",IF(VLOOKUP('Místa dodání'!A34-10000,'Data eshop'!D:L,9,FALSE)=\"\",\"\",\"DIČ: \"&VLOOKUP('Místa dodání'!A34-10000,'Data eshop'!D:L,9,FALSE)),IF(VLOOKUP('Místa dodání'!A34-10000,'Data eshop'!D:L,9,FALSE)=\"\",\"\",\"DIČ: \"&VLOOKUP('Místa dodání'!A34-10000,'Data eshop'!D:L,9,FALSE)&\", \")&\"IČO: \"&VLOOKUP('Místa dodání'!A34-10000,'Data eshop'!D:L,8,FALSE)))","v":""},{"$f":"IF(A34=\"\",\"\",VLOOKUP(A34-10000,'Data eshop'!D:AD,6,FALSE))","v":""},{"$f":"IF(A34=\"\",\"\",VLOOKUP(A34-10000,'Data eshop'!D:AD,7,FALSE))","v":""},{"$f":"IF(A34=\"\",\"\",VLOOKUP(A34-10000,'Data eshop'!D:AD,10,FALSE))","v":""},"","","",""]
[{"$f":"IFERROR(SMALL('Data eshop'!D:D,COUNTIF('Data eshop'!D:D,\"<\"&(A34-10000)))+10000,\"\")","v":""},"",{"$f":"IF(A35=\"\",\"\",IF(VLOOKUP(A35-10000,'Data eshop'!D:G,2,FALSE)=\"\",PROPER(VLOOKUP(A35-10000,'Data eshop'!D:G,3,FALSE)&\" \"&VLOOKUP(A35-10000,'Data eshop'!D:G,4,FALSE)),VLOOKUP(A35-10000,'Data eshop'!D:G,2,FALSE)&\" - \"&PROPER(VLOOKUP(A35-10000,'Data eshop'!D:G,3,FALSE)&\" \"&VLOOKUP(A35-10000,'Data eshop'!D:G,4,FALSE))))","v":""},null,{"$f":"IF(A35=\"\",\"\",VLOOKUP(A35-10000,'Data eshop'!D:AD,5,FALSE))","v":""},{"$f":"IF(A35=\"\",\"\",IF(VLOOKUP('Místa dodání'!A35-10000,'Data eshop'!D:L,8,FALSE)=\"\",IF(VLOOKUP('Místa dodání'!A35-10000,'Data eshop'!D:L,9,FALSE)=\"\",\"\",\"DIČ: \"&VLOOKUP('Místa dodání'!A35-10000,'Data eshop'!D:L,9,FALSE)),IF(VLOOKUP('Místa dodání'!A35-10000,'Data eshop'!D:L,9,FALSE)=\"\",\"\",\"DIČ: \"&VLOOKUP('Místa dodání'!A35-10000,'Data eshop'!D:L,9,FALSE)&\", \")&\"IČO: \"&VLOOKUP('Místa dodání'!A35-10000,'Data eshop'!D:L,8,FALSE)))","v":""},{"$f":"IF(A35=\"\",\"\",VLOOKUP(A35-10000,'Data eshop'!D:AD,6,FALSE))","v":""},{"$f":"IF(A35=\"\",\"\",VLOOKUP(A35-10000,'Data eshop'!D:AD,7,FALSE))","v":""},{"$f":"IF(A35=\"\",\"\",VLOOKUP(A35-10000,'Data eshop'!D:AD,10,FALSE))","v":""},"","","","","Roluj nahoru, až uvidíš žlutou"]
[{"$f":"IFERROR(SMALL('Data eshop'!D:D,COUNTIF('Data eshop'!D:D,\"<\"&(A35-10000)))+10000,\"\")","v":""},"",{"$f":"IF(A36=\"\",\"\",IF(VLOOKUP(A36-10000,'Data eshop'!D:G,2,FALSE)=\"\",PROPER(VLOOKUP(A36-10000,'Data eshop'!D:G,3,FALSE)&\" \"&VLOOKUP(A36-10000,'Data eshop'!D:G,4,FALSE)),VLOOKUP(A36-10000,'Data eshop'!D:G,2,FALSE)&\" - \"&PROPER(VLOOKUP(A36-10000,'Data eshop'!D:G,3,FALSE)&\" \"&VLOOKUP(A36-10000,'Data eshop'!D:G,4,FALSE))))","v":""},null,{"$f":"IF(A36=\"\",\"\",VLOOKUP(A36-10000,'Data eshop'!D:AD,5,FALSE))","v":""},{"$f":"IF(A36=\"\",\"\",IF(VLOOKUP('Místa dodání'!A36-10000,'Data eshop'!D:L,8,FALSE)=\"\",IF(VLOOKUP('Místa dodání'!A36-10000,'Data eshop'!D:L,9,FALSE)=\"\",\"\",\"DIČ: \"&VLOOKUP('Místa dodání'!A36-10000,'Data eshop'!D:L,9,FALSE)),IF(VLOOKUP('Místa dodání'!A36-10000,'Data eshop'!D:L,9,FALSE)=\"\",\"\",\"DIČ: \"&VLOOKUP('Místa dodání'!A36-10000,'Data eshop'!D:L,9,FALSE)&\", \")&\"IČO: \"&VLOOKUP('Místa dodání'!A36-10000,'Data eshop'!D:L,8,FALSE)))","v":""},{"$f":"IF(A36=\"\",\"\",VLOOKUP(A36-10000,'Data eshop'!D:AD,6,FALSE))","v":""},{"$f":"IF(A36=\"\",\"\",VLOOKUP(A36-10000,'Data eshop'!D:AD,7,FALSE))","v":""},{"$f":"IF(A36=\"\",\"\",VLOOKUP(A36-10000,'Data eshop'!D:AD,10,FALSE))","v":""},"","","",""]
[{"$f":"IFERROR(SMALL('Data eshop'!D:D,COUNTIF('Data eshop'!D:D,\"<\"&(A36-10000)))+10000,\"\")","v":""},"",{"$f":"IF(A37=\"\",\"\",IF(VLOOKUP(A37-10000,'Data eshop'!D:G,2,FALSE)=\"\",PROPER(VLOOKUP(A37-10000,'Data eshop'!D:G,3,FALSE)&\" \"&VLOOKUP(A37-10000,'Data eshop'!D:G,4,FALSE)),VLOOKUP(A37-10000,'Data eshop'!D:G,2,FALSE)&\" - \"&PROPER(VLOOKUP(A37-10000,'Data eshop'!D:G,3,FALSE)&\" \"&VLOOKUP(A37-10000,'Data eshop'!D:G,4,FALSE))))","v":""},null,{"$f":"IF(A37=\"\",\"\",VLOOKUP(A37-10000,'Data eshop'!D:AD,5,FALSE))","v":""},{"$f":"IF(A37=\"\",\"\",IF(VLOOKUP('Místa dodání'!A37-10000,'Data eshop'!D:L,8,FALSE)=\"\",IF(VLOOKUP('Místa dodání'!A37-10000,'Data eshop'!D:L,9,FALSE)=\"\",\"\",\"DIČ: \"&VLOOKUP('Místa dodání'!A37-10000,'Data eshop'!D:L,9,FALSE)),IF(VLOOKUP('Místa dodání'!A37-10000,'Data eshop'!D:L,9,FALSE)=\"\",\"\",\"DIČ: \"&VLOOKUP('Místa dodání'!A37-10000,'Data eshop'!D:L,9,FALSE)&\", \")&\"IČO: \"&VLOOKUP('Místa dodání'!A37-10000,'Data eshop'!D:L,8,FALSE)))","v":""},{"$f":"IF(A37=\"\",\"\",VLOOKUP(A37-10000,'Data eshop'!D:AD,6,FALSE))","v":""},{"$f":"IF(A37=\"\",\"\",VLOOKUP(A37-10000,'Data eshop'!D:AD,7,FALSE))","v":""},{"$f":"IF(A37=\"\",\"\",VLOOKUP(A37-10000,'Data eshop'!D:AD,10,FALSE))","v":""},"","","",""]
[{"$f":"IFERROR(SMALL('Data eshop'!D:D,COUNTIF('Data eshop'!D:D,\"<\"&(A37-10000)))+10000,\"\")","v":""},"",{"$f":"IF(A38=\"\",\"\",IF(VLOOKUP(A38-10000,'Data eshop'!D:G,2,FALSE)=\"\",PROPER(VLOOKUP(A38-10000,'Data eshop'!D:G,3,FALSE)&\" \"&VLOOKUP(A38-10000,'Data eshop'!D:G,4,FALSE)),VLOOKUP(A38-10000,'Data eshop'!D:G,2,FALSE)&\" - \"&PROPER(VLOOKUP(A38-10000,'Data eshop'!D:G,3,FALSE)&\" \"&VLOOKUP(A38-10000,'Data eshop'!D:G,4,FALSE))))","v":""},null,{"$f":"IF(A38=\"\",\"\",VLOOKUP(A38-10000,'Data eshop'!D:AD,5,FALSE))","v":""},{"$f":"IF(A38=\"\",\"\",IF(VLOOKUP('Místa dodání'!A38-10000,'Data eshop'!D:L,8,FALSE)=\"\",IF(VLOOKUP('Místa dodání'!A38-10000,'Data eshop'!D:L,9,FALSE)=\"\",\"\",\"DIČ: \"&VLOOKUP('Místa dodání'!A38-10000,'Data eshop'!D:L,9,FALSE)),IF(VLOOKUP('Místa dodání'!A38-10000,'Data eshop'!D:L,9,FALSE)=\"\",\"\",\"DIČ: \"&VLOOKUP('Místa dodání'!A38-10000,'Data eshop'!D:L,9,FALSE)&\", \")&\"IČO: \"&VLOOKUP('Místa dodání'!A38-10000,'Data eshop'!D:L,8,FALSE)))","v":""},{"$f":"IF(A38=\"\",\"\",VLOOKUP(A38-10000,'Data eshop'!D:AD,6,FALSE))","v":""},{"$f":"IF(A38=\"\",\"\",VLOOKUP(A38-10000,'Data eshop'!D:AD,7,FALSE))","v":""},{"$f":"IF(A38=\"\",\"\",VLOOKUP(A38-10000,'Data eshop'!D:AD,10,FALSE))","v":""},"","","",""]
[{"$f":"IFERROR(SMALL('Data eshop'!D:D,COUNTIF('Data eshop'!D:D,\"<\"&(A38-10000)))+10000,\"\")","v":""},"",{"$f":"IF(A39=\"\",\"\",IF(VLOOKUP(A39-10000,'Data eshop'!D:G,2,FALSE)=\"\",PROPER(VLOOKUP(A39-10000,'Data eshop'!D:G,3,FALSE)&\" \"&VLOOKUP(A39-10000,'Data eshop'!D:G,4,FALSE)),VLOOKUP(A39-10000,'Data eshop'!D:G,2,FALSE)&\" - \"&PROPER(VLOOKUP(A39-10000,'Data eshop'!D:G,3,FALSE)&\" \"&VLOOKUP(A39-10000,'Data eshop'!D:G,4,FALSE))))","v":""},null,{"$f":"IF(A39=\"\",\"\",VLOOKUP(A39-10000,'Data eshop'!D:AD,5,FALSE))","v":""},{"$f":"IF(A39=\"\",\"\",IF(VLOOKUP('Místa dodání'!A39-10000,'Data eshop'!D:L,8,FALSE)=\"\",IF(VLOOKUP('Místa dodání'!A39-10000,'Data eshop'!D:L,9,FALSE)=\"\",\"\",\"DIČ: \"&VLOOKUP('Místa dodání'!A39-10000,'Data eshop'!D:L,9,FALSE)),IF(VLOOKUP('Místa dodání'!A39-10000,'Data eshop'!D:L,9,FALSE)=\"\",\"\",\"DIČ: \"&VLOOKUP('Místa dodání'!A39-10000,'Data eshop'!D:L,9,FALSE)&\", \")&\"IČO: \"&VLOOKUP('Místa dodání'!A39-10000,'Data eshop'!D:L,8,FALSE)))","v":""},{"$f":"IF(A39=\"\",\"\",VLOOKUP(A39-10000,'Data eshop'!D:AD,6,FALSE))","v":""},{"$f":"IF(A39=\"\",\"\",VLOOKUP(A39-10000,'Data eshop'!D:AD,7,FALSE))","v":""},{"$f":"IF(A39=\"\",\"\",VLOOKUP(A39-10000,'Data eshop'!D:AD,10,FALSE))","v":""},"","","","","Roluj nahoru, až uvidíš žlutou"]
[{"$f":"IFERROR(SMALL('Data eshop'!D:D,COUNTIF('Data eshop'!D:D,\"<\"&(A39-10000)))+10000,\"\")","v":""},"",{"$f":"IF(A40=\"\",\"\",IF(VLOOKUP(A40-10000,'Data eshop'!D:G,2,FALSE)=\"\",PROPER(VLOOKUP(A40-10000,'Data eshop'!D:G,3,FALSE)&\" \"&VLOOKUP(A40-10000,'Data eshop'!D:G,4,FALSE)),VLOOKUP(A40-10000,'Data eshop'!D:G,2,FALSE)&\" - \"&PROPER(VLOOKUP(A40-10000,'Data eshop'!D:G,3,FALSE)&\" \"&VLOOKUP(A40-10000,'Data eshop'!D:G,4,FALSE))))","v":""},null,{"$f":"IF(A40=\"\",\"\",VLOOKUP(A40-10000,'Data eshop'!D:AD,5,FALSE))","v":""},{"$f":"IF(A40=\"\",\"\",IF(VLOOKUP('Místa dodání'!A40-10000,'Data eshop'!D:L,8,FALSE)=\"\",IF(VLOOKUP('Místa dodání'!A40-10000,'Data eshop'!D:L,9,FALSE)=\"\",\"\",\"DIČ: \"&VLOOKUP('Místa dodání'!A40-10000,'Data eshop'!D:L,9,FALSE)),IF(VLOOKUP('Místa dodání'!A40-10000,'Data eshop'!D:L,9,FALSE)=\"\",\"\",\"DIČ: \"&VLOOKUP('Místa dodání'!A40-10000,'Data eshop'!D:L,9,FALSE)&\", \")&\"IČO: \"&VLOOKUP('Místa dodání'!A40-10000,'Data eshop'!D:L,8,FALSE)))","v":""},{"$f":"IF(A40=\"\",\"\",VLOOKUP(A40-10000,'Data eshop'!D:AD,6,FALSE))","v":""},{"$f":"IF(A40=\"\",\"\",VLOOKUP(A40-10000,'Data eshop'!D:AD,7,FALSE))","v":""},{"$f":"IF(A40=\"\",\"\",VLOOKUP(A40-10000,'Data eshop'!D:AD,10,FALSE))","v":""},"","","",""]
[{"$f":"IFERROR(SMALL('Data eshop'!D:D,COUNTIF('Data eshop'!D:D,\"<\"&(A40-10000)))+10000,\"\")","v":""},"",{"$f":"IF(A41=\"\",\"\",IF(VLOOKUP(A41-10000,'Data eshop'!D:G,2,FALSE)=\"\",PROPER(VLOOKUP(A41-10000,'Data eshop'!D:G,3,FALSE)&\" \"&VLOOKUP(A41-10000,'Data eshop'!D:G,4,FALSE)),VLOOKUP(A41-10000,'Data eshop'!D:G,2,FALSE)&\" - \"&PROPER(VLOOKUP(A41-10000,'Data eshop'!D:G,3,FALSE)&\" \"&VLOOKUP(A41-10000,'Data eshop'!D:G,4,FALSE))))","v":""},null,{"$f":"IF(A41=\"\",\"\",VLOOKUP(A41-10000,'Data eshop'!D:AD,5,FALSE))","v":""},{"$f":"IF(A41=\"\",\"\",IF(VLOOKUP('Místa dodání'!A41-10000,'Data eshop'!D:L,8,FALSE)=\"\",IF(VLOOKUP('Místa dodání'!A41-10000,'Data eshop'!D:L,9,FALSE)=\"\",\"\",\"DIČ: \"&VLOOKUP('Místa dodání'!A41-10000,'Data eshop'!D:L,9,FALSE)),IF(VLOOKUP('Místa dodání'!A41-10000,'Data eshop'!D:L,9,FALSE)=\"\",\"\",\"DIČ: \"&VLOOKUP('Místa dodání'!A41-10000,'Data eshop'!D:L,9,FALSE)&\", \")&\"IČO: \"&VLOOKUP('Místa dodání'!A41-10000,'Data eshop'!D:L,8,FALSE)))","v":""},{"$f":"IF(A41=\"\",\"\",VLOOKUP(A41-10000,'Data eshop'!D:AD,6,FALSE))","v":""},{"$f":"IF(A41=\"\",\"\",VLOOKUP(A41-10000,'Data eshop'!D:AD,7,FALSE))","v":""},{"$f":"IF(A41=\"\",\"\",VLOOKUP(A41-10000,'Data eshop'!D:AD,10,FALSE))","v":""},"","","",""]
[{"$f":"IFERROR(SMALL('Data eshop'!D:D,COUNTIF('Data eshop'!D:D,\"<\"&(A41-10000)))+10000,\"\")","v":""},"",{"$f":"IF(A42=\"\",\"\",IF(VLOOKUP(A42-10000,'Data eshop'!D:G,2,FALSE)=\"\",PROPER(VLOOKUP(A42-10000,'Data eshop'!D:G,3,FALSE)&\" \"&VLOOKUP(A42-10000,'Data eshop'!D:G,4,FALSE)),VLOOKUP(A42-10000,'Data eshop'!D:G,2,FALSE)&\" - \"&PROPER(VLOOKUP(A42-10000,'Data eshop'!D:G,3,FALSE)&\" \"&VLOOKUP(A42-10000,'Data eshop'!D:G,4,FALSE))))","v":""},null,{"$f":"IF(A42=\"\",\"\",VLOOKUP(A42-10000,'Data eshop'!D:AD,5,FALSE))","v":""},{"$f":"IF(A42=\"\",\"\",IF(VLOOKUP('Místa dodání'!A42-10000,'Data eshop'!D:L,8,FALSE)=\"\",IF(VLOOKUP('Místa dodání'!A42-10000,'Data eshop'!D:L,9,FALSE)=\"\",\"\",\"DIČ: \"&VLOOKUP('Místa dodání'!A42-10000,'Data eshop'!D:L,9,FALSE)),IF(VLOOKUP('Místa dodání'!A42-10000,'Data eshop'!D:L,9,FALSE)=\"\",\"\",\"DIČ: \"&VLOOKUP('Místa dodání'!A42-10000,'Data eshop'!D:L,9,FALSE)&\", \")&\"IČO: \"&VLOOKUP('Místa dodání'!A42-10000,'Data eshop'!D:L,8,FALSE)))","v":""},{"$f":"IF(A42=\"\",\"\",VLOOKUP(A42-10000,'Data eshop'!D:AD,6,FALSE))","v":""},{"$f":"IF(A42=\"\",\"\",VLOOKUP(A42-10000,'Data eshop'!D:AD,7,FALSE))","v":""},{"$f":"IF(A42=\"\",\"\",VLOOKUP(A42-10000,'Data eshop'!D:AD,10,FALSE))","v":""},"","","",""]
[{"$f":"IFERROR(SMALL('Data eshop'!D:D,COUNTIF('Data eshop'!D:D,\"<\"&(A42-10000)))+10000,\"\")","v":""},"",{"$f":"IF(A43=\"\",\"\",IF(VLOOKUP(A43-10000,'Data eshop'!D:G,2,FALSE)=\"\",PROPER(VLOOKUP(A43-10000,'Data eshop'!D:G,3,FALSE)&\" \"&VLOOKUP(A43-10000,'Data eshop'!D:G,4,FALSE)),VLOOKUP(A43-10000,'Data eshop'!D:G,2,FALSE)&\" - \"&PROPER(VLOOKUP(A43-10000,'Data eshop'!D:G,3,FALSE)&\" \"&VLOOKUP(A43-10000,'Data eshop'!D:G,4,FALSE))))","v":""},null,{"$f":"IF(A43=\"\",\"\",VLOOKUP(A43-10000,'Data eshop'!D:AD,5,FALSE))","v":""},{"$f":"IF(A43=\"\",\"\",IF(VLOOKUP('Místa dodání'!A43-10000,'Data eshop'!D:L,8,FALSE)=\"\",IF(VLOOKUP('Místa dodání'!A43-10000,'Data eshop'!D:L,9,FALSE)=\"\",\"\",\"DIČ: \"&VLOOKUP('Místa dodání'!A43-10000,'Data eshop'!D:L,9,FALSE)),IF(VLOOKUP('Místa dodání'!A43-10000,'Data eshop'!D:L,9,FALSE)=\"\",\"\",\"DIČ: \"&VLOOKUP('Místa dodání'!A43-10000,'Data eshop'!D:L,9,FALSE)&\", \")&\"IČO: \"&VLOOKUP('Místa dodání'!A43-10000,'Data eshop'!D:L,8,FALSE)))","v":""},{"$f":"IF(A43=\"\",\"\",VLOOKUP(A43-10000,'Data eshop'!D:AD,6,FALSE))","v":""},{"$f":"IF(A43=\"\",\"\",VLOOKUP(A43-10000,'Data eshop'!D:AD,7,FALSE))","v":""},{"$f":"IF(A43=\"\",\"\",VLOOKUP(A43-10000,'Data eshop'!D:AD,10,FALSE))","v":""},"","","","","Roluj nahoru, až uvidíš žlutou"]
[{"$f":"IFERROR(SMALL('Data eshop'!D:D,COUNTIF('Data eshop'!D:D,\"<\"&(A43-10000)))+10000,\"\")","v":""},"",{"$f":"IF(A44=\"\",\"\",IF(VLOOKUP(A44-10000,'Data eshop'!D:G,2,FALSE)=\"\",PROPER(VLOOKUP(A44-10000,'Data eshop'!D:G,3,FALSE)&\" \"&VLOOKUP(A44-10000,'Data eshop'!D:G,4,FALSE)),VLOOKUP(A44-10000,'Data eshop'!D:G,2,FALSE)&\" - \"&PROPER(VLOOKUP(A44-10000,'Data eshop'!D:G,3,FALSE)&\" \"&VLOOKUP(A44-10000,'Data eshop'!D:G,4,FALSE))))","v":""},null,{"$f":"IF(A44=\"\",\"\",VLOOKUP(A44-10000,'Data eshop'!D:AD,5,FALSE))","v":""},{"$f":"IF(A44=\"\",\"\",IF(VLOOKUP('Místa dodání'!A44-10000,'Data eshop'!D:L,8,FALSE)=\"\",IF(VLOOKUP('Místa dodání'!A44-10000,'Data eshop'!D:L,9,FALSE)=\"\",\"\",\"DIČ: \"&VLOOKUP('Místa dodání'!A44-10000,'Data eshop'!D:L,9,FALSE)),IF(VLOOKUP('Místa dodání'!A44-10000,'Data eshop'!D:L,9,FALSE)=\"\",\"\",\"DIČ: \"&VLOOKUP('Místa dodání'!A44-10000,'Data eshop'!D:L,9,FALSE)&\", \")&\"IČO: \"&VLOOKUP('Místa dodání'!A44-10000,'Data eshop'!D:L,8,FALSE)))","v":""},{"$f":"IF(A44=\"\",\"\",VLOOKUP(A44-10000,'Data eshop'!D:AD,6,FALSE))","v":""},{"$f":"IF(A44=\"\",\"\",VLOOKUP(A44-10000,'Data eshop'!D:AD,7,FALSE))","v":""},{"$f":"IF(A44=\"\",\"\",VLOOKUP(A44-10000,'Data eshop'!D:AD,10,FALSE))","v":""},"","","",""]
[{"$f":"IFERROR(SMALL('Data eshop'!D:D,COUNTIF('Data eshop'!D:D,\"<\"&(A44-10000)))+10000,\"\")","v":""},"",{"$f":"IF(A45=\"\",\"\",IF(VLOOKUP(A45-10000,'Data eshop'!D:G,2,FALSE)=\"\",PROPER(VLOOKUP(A45-10000,'Data eshop'!D:G,3,FALSE)&\" \"&VLOOKUP(A45-10000,'Data eshop'!D:G,4,FALSE)),VLOOKUP(A45-10000,'Data eshop'!D:G,2,FALSE)&\" - \"&PROPER(VLOOKUP(A45-10000,'Data eshop'!D:G,3,FALSE)&\" \"&VLOOKUP(A45-10000,'Data eshop'!D:G,4,FALSE))))","v":""},null,{"$f":"IF(A45=\"\",\"\",VLOOKUP(A45-10000,'Data eshop'!D:AD,5,FALSE))","v":""},{"$f":"IF(A45=\"\",\"\",IF(VLOOKUP('Místa dodání'!A45-10000,'Data eshop'!D:L,8,FALSE)=\"\",IF(VLOOKUP('Místa dodání'!A45-10000,'Data eshop'!D:L,9,FALSE)=\"\",\"\",\"DIČ: \"&VLOOKUP('Místa dodání'!A45-10000,'Data eshop'!D:L,9,FALSE)),IF(VLOOKUP('Místa dodání'!A45-10000,'Data eshop'!D:L,9,FALSE)=\"\",\"\",\"DIČ: \"&VLOOKUP('Místa dodání'!A45-10000,'Data eshop'!D:L,9,FALSE)&\", \")&\"IČO: \"&VLOOKUP('Místa dodání'!A45-10000,'Data eshop'!D:L,8,FALSE)))","v":""},{"$f":"IF(A45=\"\",\"\",VLOOKUP(A45-10000,'Data eshop'!D:AD,6,FALSE))","v":""},{"$f":"IF(A45=\"\",\"\",VLOOKUP(A45-10000,'Data eshop'!D:AD,7,FALSE))","v":""},{"$f":"IF(A45=\"\",\"\",VLOOKUP(A45-10000,'Data eshop'!D:AD,10,FALSE))","v":""},"","","",""]
[{"$f":"IFERROR(SMALL('Data eshop'!D:D,COUNTIF('Data eshop'!D:D,\"<\"&(A45-10000)))+10000,\"\")","v":""},"",{"$f":"IF(A46=\"\",\"\",IF(VLOOKUP(A46-10000,'Data eshop'!D:G,2,FALSE)=\"\",PROPER(VLOOKUP(A46-10000,'Data eshop'!D:G,3,FALSE)&\" \"&VLOOKUP(A46-10000,'Data eshop'!D:G,4,FALSE)),VLOOKUP(A46-10000,'Data eshop'!D:G,2,FALSE)&\" - \"&PROPER(VLOOKUP(A46-10000,'Data eshop'!D:G,3,FALSE)&\" \"&VLOOKUP(A46-10000,'Data eshop'!D:G,4,FALSE))))","v":""},null,{"$f":"IF(A46=\"\",\"\",VLOOKUP(A46-10000,'Data eshop'!D:AD,5,FALSE))","v":""},{"$f":"IF(A46=\"\",\"\",IF(VLOOKUP('Místa dodání'!A46-10000,'Data eshop'!D:L,8,FALSE)=\"\",IF(VLOOKUP('Místa dodání'!A46-10000,'Data eshop'!D:L,9,FALSE)=\"\",\"\",\"DIČ: \"&VLOOKUP('Místa dodání'!A46-10000,'Data eshop'!D:L,9,FALSE)),IF(VLOOKUP('Místa dodání'!A46-10000,'Data eshop'!D:L,9,FALSE)=\"\",\"\",\"DIČ: \"&VLOOKUP('Místa dodání'!A46-10000,'Data eshop'!D:L,9,FALSE)&\", \")&\"IČO: \"&VLOOKUP('Místa dodání'!A46-10000,'Data eshop'!D:L,8,FALSE)))","v":""},{"$f":"IF(A46=\"\",\"\",VLOOKUP(A46-10000,'Data eshop'!D:AD,6,FALSE))","v":""},{"$f":"IF(A46=\"\",\"\",VLOOKUP(A46-10000,'Data eshop'!D:AD,7,FALSE))","v":""},{"$f":"IF(A46=\"\",\"\",VLOOKUP(A46-10000,'Data eshop'!D:AD,10,FALSE))","v":""},"","","",""]
[{"$f":"IFERROR(SMALL('Data eshop'!D:D,COUNTIF('Data eshop'!D:D,\"<\"&(A46-10000)))+10000,\"\")","v":""},"",{"$f":"IF(A47=\"\",\"\",IF(VLOOKUP(A47-10000,'Data eshop'!D:G,2,FALSE)=\"\",PROPER(VLOOKUP(A47-10000,'Data eshop'!D:G,3,FALSE)&\" \"&VLOOKUP(A47-10000,'Data eshop'!D:G,4,FALSE)),VLOOKUP(A47-10000,'Data eshop'!D:G,2,FALSE)&\" - \"&PROPER(VLOOKUP(A47-10000,'Data eshop'!D:G,3,FALSE)&\" \"&VLOOKUP(A47-10000,'Data eshop'!D:G,4,FALSE))))","v":""},null,{"$f":"IF(A47=\"\",\"\",VLOOKUP(A47-10000,'Data eshop'!D:AD,5,FALSE))","v":""},{"$f":"IF(A47=\"\",\"\",IF(VLOOKUP('Místa dodání'!A47-10000,'Data eshop'!D:L,8,FALSE)=\"\",IF(VLOOKUP('Místa dodání'!A47-10000,'Data eshop'!D:L,9,FALSE)=\"\",\"\",\"DIČ: \"&VLOOKUP('Místa dodání'!A47-10000,'Data eshop'!D:L,9,FALSE)),IF(VLOOKUP('Místa dodání'!A47-10000,'Data eshop'!D:L,9,FALSE)=\"\",\"\",\"DIČ: \"&VLOOKUP('Místa dodání'!A47-10000,'Data eshop'!D:L,9,FALSE)&\", \")&\"IČO: \"&VLOOKUP('Místa dodání'!A47-10000,'Data eshop'!D:L,8,FALSE)))","v":""},{"$f":"IF(A47=\"\",\"\",VLOOKUP(A47-10000,'Data eshop'!D:AD,6,FALSE))","v":""},{"$f":"IF(A47=\"\",\"\",VLOOKUP(A47-10000,'Data eshop'!D:AD,7,FALSE))","v":""},{"$f":"IF(A47=\"\",\"\",VLOOKUP(A47-10000,'Data eshop'!D:AD,10,FALSE))","v":""},"","","","","Roluj nahoru, až uvidíš žlutou"]
[{"$f":"IFERROR(SMALL('Data eshop'!D:D,COUNTIF('Data eshop'!D:D,\"<\"&(A47-10000)))+10000,\"\")","v":""},"",{"$f":"IF(A48=\"\",\"\",IF(VLOOKUP(A48-10000,'Data eshop'!D:G,2,FALSE)=\"\",PROPER(VLOOKUP(A48-10000,'Data eshop'!D:G,3,FALSE)&\" \"&VLOOKUP(A48-10000,'Data eshop'!D:G,4,FALSE)),VLOOKUP(A48-10000,'Data eshop'!D:G,2,FALSE)&\" - \"&PROPER(VLOOKUP(A48-10000,'Data eshop'!D:G,3,FALSE)&\" \"&VLOOKUP(A48-10000,'Data eshop'!D:G,4,FALSE))))","v":""},null,{"$f":"IF(A48=\"\",\"\",VLOOKUP(A48-10000,'Data eshop'!D:AD,5,FALSE))","v":""},{"$f":"IF(A48=\"\",\"\",IF(VLOOKUP('Místa dodání'!A48-10000,'Data eshop'!D:L,8,FALSE)=\"\",IF(VLOOKUP('Místa dodání'!A48-10000,'Data eshop'!D:L,9,FALSE)=\"\",\"\",\"DIČ: \"&VLOOKUP('Místa dodání'!A48-10000,'Data eshop'!D:L,9,FALSE)),IF(VLOOKUP('Místa dodání'!A48-10000,'Data eshop'!D:L,9,FALSE)=\"\",\"\",\"DIČ: \"&VLOOKUP('Místa dodání'!A48-10000,'Data eshop'!D:L,9,FALSE)&\", \")&\"IČO: \"&VLOOKUP('Místa dodání'!A48-10000,'Data eshop'!D:L,8,FALSE)))","v":""},{"$f":"IF(A48=\"\",\"\",VLOOKUP(A48-10000,'Data eshop'!D:AD,6,FALSE))","v":""},{"$f":"IF(A48=\"\",\"\",VLOOKUP(A48-10000,'Data eshop'!D:AD,7,FALSE))","v":""},{"$f":"IF(A48=\"\",\"\",VLOOKUP(A48-10000,'Data eshop'!D:AD,10,FALSE))","v":""},"","","",""]
[{"$f":"IFERROR(SMALL('Data eshop'!D:D,COUNTIF('Data eshop'!D:D,\"<\"&(A48-10000)))+10000,\"\")","v":""},"",{"$f":"IF(A49=\"\",\"\",IF(VLOOKUP(A49-10000,'Data eshop'!D:G,2,FALSE)=\"\",PROPER(VLOOKUP(A49-10000,'Data eshop'!D:G,3,FALSE)&\" \"&VLOOKUP(A49-10000,'Data eshop'!D:G,4,FALSE)),VLOOKUP(A49-10000,'Data eshop'!D:G,2,FALSE)&\" - \"&PROPER(VLOOKUP(A49-10000,'Data eshop'!D:G,3,FALSE)&\" \"&VLOOKUP(A49-10000,'Data eshop'!D:G,4,FALSE))))","v":""},null,{"$f":"IF(A49=\"\",\"\",VLOOKUP(A49-10000,'Data eshop'!D:AD,5,FALSE))","v":""},{"$f":"IF(A49=\"\",\"\",IF(VLOOKUP('Místa dodání'!A49-10000,'Data eshop'!D:L,8,FALSE)=\"\",IF(VLOOKUP('Místa dodání'!A49-10000,'Data eshop'!D:L,9,FALSE)=\"\",\"\",\"DIČ: \"&VLOOKUP('Místa dodání'!A49-10000,'Data eshop'!D:L,9,FALSE)),IF(VLOOKUP('Místa dodání'!A49-10000,'Data eshop'!D:L,9,FALSE)=\"\",\"\",\"DIČ: \"&VLOOKUP('Místa dodání'!A49-10000,'Data eshop'!D:L,9,FALSE)&\", \")&\"IČO: \"&VLOOKUP('Místa dodání'!A49-10000,'Data eshop'!D:L,8,FALSE)))","v":""},{"$f":"IF(A49=\"\",\"\",VLOOKUP(A49-10000,'Data eshop'!D:AD,6,FALSE))","v":""},{"$f":"IF(A49=\"\",\"\",VLOOKUP(A49-10000,'Data eshop'!D:AD,7,FALSE))","v":""},{"$f":"IF(A49=\"\",\"\",VLOOKUP(A49-10000,'Data eshop'!D:AD,10,FALSE))","v":""},"","","",""]
[{"$f":"IFERROR(SMALL('Data eshop'!D:D,COUNTIF('Data eshop'!D:D,\"<\"&(A49-10000)))+10000,\"\")","v":""},"",{"$f":"IF(A50=\"\",\"\",IF(VLOOKUP(A50-10000,'Data eshop'!D:G,2,FALSE)=\"\",PROPER(VLOOKUP(A50-10000,'Data eshop'!D:G,3,FALSE)&\" \"&VLOOKUP(A50-10000,'Data eshop'!D:G,4,FALSE)),VLOOKUP(A50-10000,'Data eshop'!D:G,2,FALSE)&\" - \"&PROPER(VLOOKUP(A50-10000,'Data eshop'!D:G,3,FALSE)&\" \"&VLOOKUP(A50-10000,'Data eshop'!D:G,4,FALSE))))","v":""},null,{"$f":"IF(A50=\"\",\"\",VLOOKUP(A50-10000,'Data eshop'!D:AD,5,FALSE))","v":""},{"$f":"IF(A50=\"\",\"\",IF(VLOOKUP('Místa dodání'!A50-10000,'Data eshop'!D:L,8,FALSE)=\"\",IF(VLOOKUP('Místa dodání'!A50-10000,'Data eshop'!D:L,9,FALSE)=\"\",\"\",\"DIČ: \"&VLOOKUP('Místa dodání'!A50-10000,'Data eshop'!D:L,9,FALSE)),IF(VLOOKUP('Místa dodání'!A50-10000,'Data eshop'!D:L,9,FALSE)=\"\",\"\",\"DIČ: \"&VLOOKUP('Místa dodání'!A50-10000,'Data eshop'!D:L,9,FALSE)&\", \")&\"IČO: \"&VLOOKUP('Místa dodání'!A50-10000,'Data eshop'!D:L,8,FALSE)))","v":""},{"$f":"IF(A50=\"\",\"\",VLOOKUP(A50-10000,'Data eshop'!D:AD,6,FALSE))","v":""},{"$f":"IF(A50=\"\",\"\",VLOOKUP(A50-10000,'Data eshop'!D:AD,7,FALSE))","v":""},{"$f":"IF(A50=\"\",\"\",VLOOKUP(A50-10000,'Data eshop'!D:AD,10,FALSE))","v":""},"","","",""]
[{"$f":"IFERROR(SMALL('Data eshop'!D:D,COUNTIF('Data eshop'!D:D,\"<\"&(A50-10000)))+10000,\"\")","v":""},"",{"$f":"IF(A51=\"\",\"\",IF(VLOOKUP(A51-10000,'Data eshop'!D:G,2,FALSE)=\"\",PROPER(VLOOKUP(A51-10000,'Data eshop'!D:G,3,FALSE)&\" \"&VLOOKUP(A51-10000,'Data eshop'!D:G,4,FALSE)),VLOOKUP(A51-10000,'Data eshop'!D:G,2,FALSE)&\" - \"&PROPER(VLOOKUP(A51-10000,'Data eshop'!D:G,3,FALSE)&\" \"&VLOOKUP(A51-10000,'Data eshop'!D:G,4,FALSE))))","v":""},null,{"$f":"IF(A51=\"\",\"\",VLOOKUP(A51-10000,'Data eshop'!D:AD,5,FALSE))","v":""},{"$f":"IF(A51=\"\",\"\",IF(VLOOKUP('Místa dodání'!A51-10000,'Data eshop'!D:L,8,FALSE)=\"\",IF(VLOOKUP('Místa dodání'!A51-10000,'Data eshop'!D:L,9,FALSE)=\"\",\"\",\"DIČ: \"&VLOOKUP('Místa dodání'!A51-10000,'Data eshop'!D:L,9,FALSE)),IF(VLOOKUP('Místa dodání'!A51-10000,'Data eshop'!D:L,9,FALSE)=\"\",\"\",\"DIČ: \"&VLOOKUP('Místa dodání'!A51-10000,'Data eshop'!D:L,9,FALSE)&\", \")&\"IČO: \"&VLOOKUP('Místa dodání'!A51-10000,'Data eshop'!D:L,8,FALSE)))","v":""},{"$f":"IF(A51=\"\",\"\",VLOOKUP(A51-10000,'Data eshop'!D:AD,6,FALSE))","v":""},{"$f":"IF(A51=\"\",\"\",VLOOKUP(A51-10000,'Data eshop'!D:AD,7,FALSE))","v":""},{"$f":"IF(A51=\"\",\"\",VLOOKUP(A51-10000,'Data eshop'!D:AD,10,FALSE))","v":""},"","","","","Roluj nahoru, až uvidíš žlutou"]
[{"$f":"IFERROR(SMALL('Data eshop'!D:D,COUNTIF('Data eshop'!D:D,\"<\"&(A51-10000)))+10000,\"\")","v":""},"",{"$f":"IF(A52=\"\",\"\",IF(VLOOKUP(A52-10000,'Data eshop'!D:G,2,FALSE)=\"\",PROPER(VLOOKUP(A52-10000,'Data eshop'!D:G,3,FALSE)&\" \"&VLOOKUP(A52-10000,'Data eshop'!D:G,4,FALSE)),VLOOKUP(A52-10000,'Data eshop'!D:G,2,FALSE)&\" - \"&PROPER(VLOOKUP(A52-10000,'Data eshop'!D:G,3,FALSE)&\" \"&VLOOKUP(A52-10000,'Data eshop'!D:G,4,FALSE))))","v":""},null,{"$f":"IF(A52=\"\",\"\",VLOOKUP(A52-10000,'Data eshop'!D:AD,5,FALSE))","v":""},{"$f":"IF(A52=\"\",\"\",IF(VLOOKUP('Místa dodání'!A52-10000,'Data eshop'!D:L,8,FALSE)=\"\",IF(VLOOKUP('Místa dodání'!A52-10000,'Data eshop'!D:L,9,FALSE)=\"\",\"\",\"DIČ: \"&VLOOKUP('Místa dodání'!A52-10000,'Data eshop'!D:L,9,FALSE)),IF(VLOOKUP('Místa dodání'!A52-10000,'Data eshop'!D:L,9,FALSE)=\"\",\"\",\"DIČ: \"&VLOOKUP('Místa dodání'!A52-10000,'Data eshop'!D:L,9,FALSE)&\", \")&\"IČO: \"&VLOOKUP('Místa dodání'!A52-10000,'Data eshop'!D:L,8,FALSE)))","v":""},{"$f":"IF(A52=\"\",\"\",VLOOKUP(A52-10000,'Data eshop'!D:AD,6,FALSE))","v":""},{"$f":"IF(A52=\"\",\"\",VLOOKUP(A52-10000,'Data eshop'!D:AD,7,FALSE))","v":""},{"$f":"IF(A52=\"\",\"\",VLOOKUP(A52-10000,'Data eshop'!D:AD,10,FALSE))","v":""},"","","",""]
[{"$f":"IFERROR(SMALL('Data eshop'!D:D,COUNTIF('Data eshop'!D:D,\"<\"&(A52-10000)))+10000,\"\")","v":""},"",{"$f":"IF(A53=\"\",\"\",IF(VLOOKUP(A53-10000,'Data eshop'!D:G,2,FALSE)=\"\",PROPER(VLOOKUP(A53-10000,'Data eshop'!D:G,3,FALSE)&\" \"&VLOOKUP(A53-10000,'Data eshop'!D:G,4,FALSE)),VLOOKUP(A53-10000,'Data eshop'!D:G,2,FALSE)&\" - \"&PROPER(VLOOKUP(A53-10000,'Data eshop'!D:G,3,FALSE)&\" \"&VLOOKUP(A53-10000,'Data eshop'!D:G,4,FALSE))))","v":""},null,{"$f":"IF(A53=\"\",\"\",VLOOKUP(A53-10000,'Data eshop'!D:AD,5,FALSE))","v":""},{"$f":"IF(A53=\"\",\"\",IF(VLOOKUP('Místa dodání'!A53-10000,'Data eshop'!D:L,8,FALSE)=\"\",IF(VLOOKUP('Místa dodání'!A53-10000,'Data eshop'!D:L,9,FALSE)=\"\",\"\",\"DIČ: \"&VLOOKUP('Místa dodání'!A53-10000,'Data eshop'!D:L,9,FALSE)),IF(VLOOKUP('Místa dodání'!A53-10000,'Data eshop'!D:L,9,FALSE)=\"\",\"\",\"DIČ: \"&VLOOKUP('Místa dodání'!A53-10000,'Data eshop'!D:L,9,FALSE)&\", \")&\"IČO: \"&VLOOKUP('Místa dodání'!A53-10000,'Data eshop'!D:L,8,FALSE)))","v":""},{"$f":"IF(A53=\"\",\"\",VLOOKUP(A53-10000,'Data eshop'!D:AD,6,FALSE))","v":""},{"$f":"IF(A53=\"\",\"\",VLOOKUP(A53-10000,'Data eshop'!D:AD,7,FALSE))","v":""},{"$f":"IF(A53=\"\",\"\",VLOOKUP(A53-10000,'Data eshop'!D:AD,10,FALSE))","v":""},"","","",""]
[{"$f":"IFERROR(SMALL('Data eshop'!D:D,COUNTIF('Data eshop'!D:D,\"<\"&(A53-10000)))+10000,\"\")","v":""},"",{"$f":"IF(A54=\"\",\"\",IF(VLOOKUP(A54-10000,'Data eshop'!D:G,2,FALSE)=\"\",PROPER(VLOOKUP(A54-10000,'Data eshop'!D:G,3,FALSE)&\" \"&VLOOKUP(A54-10000,'Data eshop'!D:G,4,FALSE)),VLOOKUP(A54-10000,'Data eshop'!D:G,2,FALSE)&\" - \"&PROPER(VLOOKUP(A54-10000,'Data eshop'!D:G,3,FALSE)&\" \"&VLOOKUP(A54-10000,'Data eshop'!D:G,4,FALSE))))","v":""},null,{"$f":"IF(A54=\"\",\"\",VLOOKUP(A54-10000,'Data eshop'!D:AD,5,FALSE))","v":""},{"$f":"IF(A54=\"\",\"\",IF(VLOOKUP('Místa dodání'!A54-10000,'Data eshop'!D:L,8,FALSE)=\"\",IF(VLOOKUP('Místa dodání'!A54-10000,'Data eshop'!D:L,9,FALSE)=\"\",\"\",\"DIČ: \"&VLOOKUP('Místa dodání'!A54-10000,'Data eshop'!D:L,9,FALSE)),IF(VLOOKUP('Místa dodání'!A54-10000,'Data eshop'!D:L,9,FALSE)=\"\",\"\",\"DIČ: \"&VLOOKUP('Místa dodání'!A54-10000,'Data eshop'!D:L,9,FALSE)&\", \")&\"IČO: \"&VLOOKUP('Místa dodání'!A54-10000,'Data eshop'!D:L,8,FALSE)))","v":""},{"$f":"IF(A54=\"\",\"\",VLOOKUP(A54-10000,'Data eshop'!D:AD,6,FALSE))","v":""},{"$f":"IF(A54=\"\",\"\",VLOOKUP(A54-10000,'Data eshop'!D:AD,7,FALSE))","v":""},{"$f":"IF(A54=\"\",\"\",VLOOKUP(A54-10000,'Data eshop'!D:AD,10,FALSE))","v":""},"","","",""]
[{"$f":"IFERROR(SMALL('Data eshop'!D:D,COUNTIF('Data eshop'!D:D,\"<\"&(A54-10000)))+10000,\"\")","v":""},"",{"$f":"IF(A55=\"\",\"\",IF(VLOOKUP(A55-10000,'Data eshop'!D:G,2,FALSE)=\"\",PROPER(VLOOKUP(A55-10000,'Data eshop'!D:G,3,FALSE)&\" \"&VLOOKUP(A55-10000,'Data eshop'!D:G,4,FALSE)),VLOOKUP(A55-10000,'Data eshop'!D:G,2,FALSE)&\" - \"&PROPER(VLOOKUP(A55-10000,'Data eshop'!D:G,3,FALSE)&\" \"&VLOOKUP(A55-10000,'Data eshop'!D:G,4,FALSE))))","v":""},null,{"$f":"IF(A55=\"\",\"\",VLOOKUP(A55-10000,'Data eshop'!D:AD,5,FALSE))","v":""},{"$f":"IF(A55=\"\",\"\",IF(VLOOKUP('Místa dodání'!A55-10000,'Data eshop'!D:L,8,FALSE)=\"\",IF(VLOOKUP('Místa dodání'!A55-10000,'Data eshop'!D:L,9,FALSE)=\"\",\"\",\"DIČ: \"&VLOOKUP('Místa dodání'!A55-10000,'Data eshop'!D:L,9,FALSE)),IF(VLOOKUP('Místa dodání'!A55-10000,'Data eshop'!D:L,9,FALSE)=\"\",\"\",\"DIČ: \"&VLOOKUP('Místa dodání'!A55-10000,'Data eshop'!D:L,9,FALSE)&\", \")&\"IČO: \"&VLOOKUP('Místa dodání'!A55-10000,'Data eshop'!D:L,8,FALSE)))","v":""},{"$f":"IF(A55=\"\",\"\",VLOOKUP(A55-10000,'Data eshop'!D:AD,6,FALSE))","v":""},{"$f":"IF(A55=\"\",\"\",VLOOKUP(A55-10000,'Data eshop'!D:AD,7,FALSE))","v":""},{"$f":"IF(A55=\"\",\"\",VLOOKUP(A55-10000,'Data eshop'!D:AD,10,FALSE))","v":""},"","","","","Roluj nahoru, až uvidíš žlutou"]
[{"$f":"IFERROR(SMALL('Data eshop'!D:D,COUNTIF('Data eshop'!D:D,\"<\"&(A55-10000)))+10000,\"\")","v":""},"",{"$f":"IF(A56=\"\",\"\",IF(VLOOKUP(A56-10000,'Data eshop'!D:G,2,FALSE)=\"\",PROPER(VLOOKUP(A56-10000,'Data eshop'!D:G,3,FALSE)&\" \"&VLOOKUP(A56-10000,'Data eshop'!D:G,4,FALSE)),VLOOKUP(A56-10000,'Data eshop'!D:G,2,FALSE)&\" - \"&PROPER(VLOOKUP(A56-10000,'Data eshop'!D:G,3,FALSE)&\" \"&VLOOKUP(A56-10000,'Data eshop'!D:G,4,FALSE))))","v":""},null,{"$f":"IF(A56=\"\",\"\",VLOOKUP(A56-10000,'Data eshop'!D:AD,5,FALSE))","v":""},{"$f":"IF(A56=\"\",\"\",IF(VLOOKUP('Místa dodání'!A56-10000,'Data eshop'!D:L,8,FALSE)=\"\",IF(VLOOKUP('Místa dodání'!A56-10000,'Data eshop'!D:L,9,FALSE)=\"\",\"\",\"DIČ: \"&VLOOKUP('Místa dodání'!A56-10000,'Data eshop'!D:L,9,FALSE)),IF(VLOOKUP('Místa dodání'!A56-10000,'Data eshop'!D:L,9,FALSE)=\"\",\"\",\"DIČ: \"&VLOOKUP('Místa dodání'!A56-10000,'Data eshop'!D:L,9,FALSE)&\", \")&\"IČO: \"&VLOOKUP('Místa dodání'!A56-10000,'Data eshop'!D:L,8,FALSE)))","v":""},{"$f":"IF(A56=\"\",\"\",VLOOKUP(A56-10000,'Data eshop'!D:AD,6,FALSE))","v":""},{"$f":"IF(A56=\"\",\"\",VLOOKUP(A56-10000,'Data eshop'!D:AD,7,FALSE))","v":""},{"$f":"IF(A56=\"\",\"\",VLOOKUP(A56-10000,'Data eshop'!D:AD,10,FALSE))","v":""},"","","",""]
[{"$f":"IFERROR(SMALL('Data eshop'!D:D,COUNTIF('Data eshop'!D:D,\"<\"&(A56-10000)))+10000,\"\")","v":""},"",{"$f":"IF(A57=\"\",\"\",IF(VLOOKUP(A57-10000,'Data eshop'!D:G,2,FALSE)=\"\",PROPER(VLOOKUP(A57-10000,'Data eshop'!D:G,3,FALSE)&\" \"&VLOOKUP(A57-10000,'Data eshop'!D:G,4,FALSE)),VLOOKUP(A57-10000,'Data eshop'!D:G,2,FALSE)&\" - \"&PROPER(VLOOKUP(A57-10000,'Data eshop'!D:G,3,FALSE)&\" \"&VLOOKUP(A57-10000,'Data eshop'!D:G,4,FALSE))))","v":""},null,{"$f":"IF(A57=\"\",\"\",VLOOKUP(A57-10000,'Data eshop'!D:AD,5,FALSE))","v":""},{"$f":"IF(A57=\"\",\"\",IF(VLOOKUP('Místa dodání'!A57-10000,'Data eshop'!D:L,8,FALSE)=\"\",IF(VLOOKUP('Místa dodání'!A57-10000,'Data eshop'!D:L,9,FALSE)=\"\",\"\",\"DIČ: \"&VLOOKUP('Místa dodání'!A57-10000,'Data eshop'!D:L,9,FALSE)),IF(VLOOKUP('Místa dodání'!A57-10000,'Data eshop'!D:L,9,FALSE)=\"\",\"\",\"DIČ: \"&VLOOKUP('Místa dodání'!A57-10000,'Data eshop'!D:L,9,FALSE)&\", \")&\"IČO: \"&VLOOKUP('Místa dodání'!A57-10000,'Data eshop'!D:L,8,FALSE)))","v":""},{"$f":"IF(A57=\"\",\"\",VLOOKUP(A57-10000,'Data eshop'!D:AD,6,FALSE))","v":""},{"$f":"IF(A57=\"\",\"\",VLOOKUP(A57-10000,'Data eshop'!D:AD,7,FALSE))","v":""},{"$f":"IF(A57=\"\",\"\",VLOOKUP(A57-10000,'Data eshop'!D:AD,10,FALSE))","v":""},"","","",""]
[{"$f":"IFERROR(SMALL('Data eshop'!D:D,COUNTIF('Data eshop'!D:D,\"<\"&(A57-10000)))+10000,\"\")","v":""},"",{"$f":"IF(A58=\"\",\"\",IF(VLOOKUP(A58-10000,'Data eshop'!D:G,2,FALSE)=\"\",PROPER(VLOOKUP(A58-10000,'Data eshop'!D:G,3,FALSE)&\" \"&VLOOKUP(A58-10000,'Data eshop'!D:G,4,FALSE)),VLOOKUP(A58-10000,'Data eshop'!D:G,2,FALSE)&\" - \"&PROPER(VLOOKUP(A58-10000,'Data eshop'!D:G,3,FALSE)&\" \"&VLOOKUP(A58-10000,'Data eshop'!D:G,4,FALSE))))","v":""},null,{"$f":"IF(A58=\"\",\"\",VLOOKUP(A58-10000,'Data eshop'!D:AD,5,FALSE))","v":""},{"$f":"IF(A58=\"\",\"\",IF(VLOOKUP('Místa dodání'!A58-10000,'Data eshop'!D:L,8,FALSE)=\"\",IF(VLOOKUP('Místa dodání'!A58-10000,'Data eshop'!D:L,9,FALSE)=\"\",\"\",\"DIČ: \"&VLOOKUP('Místa dodání'!A58-10000,'Data eshop'!D:L,9,FALSE)),IF(VLOOKUP('Místa dodání'!A58-10000,'Data eshop'!D:L,9,FALSE)=\"\",\"\",\"DIČ: \"&VLOOKUP('Místa dodání'!A58-10000,'Data eshop'!D:L,9,FALSE)&\", \")&\"IČO: \"&VLOOKUP('Místa dodání'!A58-10000,'Data eshop'!D:L,8,FALSE)))","v":""},{"$f":"IF(A58=\"\",\"\",VLOOKUP(A58-10000,'Data eshop'!D:AD,6,FALSE))","v":""},{"$f":"IF(A58=\"\",\"\",VLOOKUP(A58-10000,'Data eshop'!D:AD,7,FALSE))","v":""},{"$f":"IF(A58=\"\",\"\",VLOOKUP(A58-10000,'Data eshop'!D:AD,10,FALSE))","v":""},"","","",""]
[{"$f":"IFERROR(SMALL('Data eshop'!D:D,COUNTIF('Data eshop'!D:D,\"<\"&(A58-10000)))+10000,\"\")","v":""},"",{"$f":"IF(A59=\"\",\"\",IF(VLOOKUP(A59-10000,'Data eshop'!D:G,2,FALSE)=\"\",PROPER(VLOOKUP(A59-10000,'Data eshop'!D:G,3,FALSE)&\" \"&VLOOKUP(A59-10000,'Data eshop'!D:G,4,FALSE)),VLOOKUP(A59-10000,'Data eshop'!D:G,2,FALSE)&\" - \"&PROPER(VLOOKUP(A59-10000,'Data eshop'!D:G,3,FALSE)&\" \"&VLOOKUP(A59-10000,'Data eshop'!D:G,4,FALSE))))","v":""},null,{"$f":"IF(A59=\"\",\"\",VLOOKUP(A59-10000,'Data eshop'!D:AD,5,FALSE))","v":""},{"$f":"IF(A59=\"\",\"\",IF(VLOOKUP('Místa dodání'!A59-10000,'Data eshop'!D:L,8,FALSE)=\"\",IF(VLOOKUP('Místa dodání'!A59-10000,'Data eshop'!D:L,9,FALSE)=\"\",\"\",\"DIČ: \"&VLOOKUP('Místa dodání'!A59-10000,'Data eshop'!D:L,9,FALSE)),IF(VLOOKUP('Místa dodání'!A59-10000,'Data eshop'!D:L,9,FALSE)=\"\",\"\",\"DIČ: \"&VLOOKUP('Místa dodání'!A59-10000,'Data eshop'!D:L,9,FALSE)&\", \")&\"IČO: \"&VLOOKUP('Místa dodání'!A59-10000,'Data eshop'!D:L,8,FALSE)))","v":""},{"$f":"IF(A59=\"\",\"\",VLOOKUP(A59-10000,'Data eshop'!D:AD,6,FALSE))","v":""},{"$f":"IF(A59=\"\",\"\",VLOOKUP(A59-10000,'Data eshop'!D:AD,7,FALSE))","v":""},{"$f":"IF(A59=\"\",\"\",VLOOKUP(A59-10000,'Data eshop'!D:AD,10,FALSE))","v":""},"","","","","Roluj nahoru, až uvidíš žlutou"]
[{"$f":"IFERROR(SMALL('Data eshop'!D:D,COUNTIF('Data eshop'!D:D,\"<\"&(A59-10000)))+10000,\"\")","v":""},"",{"$f":"IF(A60=\"\",\"\",IF(VLOOKUP(A60-10000,'Data eshop'!D:G,2,FALSE)=\"\",PROPER(VLOOKUP(A60-10000,'Data eshop'!D:G,3,FALSE)&\" \"&VLOOKUP(A60-10000,'Data eshop'!D:G,4,FALSE)),VLOOKUP(A60-10000,'Data eshop'!D:G,2,FALSE)&\" - \"&PROPER(VLOOKUP(A60-10000,'Data eshop'!D:G,3,FALSE)&\" \"&VLOOKUP(A60-10000,'Data eshop'!D:G,4,FALSE))))","v":""},null,{"$f":"IF(A60=\"\",\"\",VLOOKUP(A60-10000,'Data eshop'!D:AD,5,FALSE))","v":""},{"$f":"IF(A60=\"\",\"\",IF(VLOOKUP('Místa dodání'!A60-10000,'Data eshop'!D:L,8,FALSE)=\"\",IF(VLOOKUP('Místa dodání'!A60-10000,'Data eshop'!D:L,9,FALSE)=\"\",\"\",\"DIČ: \"&VLOOKUP('Místa dodání'!A60-10000,'Data eshop'!D:L,9,FALSE)),IF(VLOOKUP('Místa dodání'!A60-10000,'Data eshop'!D:L,9,FALSE)=\"\",\"\",\"DIČ: \"&VLOOKUP('Místa dodání'!A60-10000,'Data eshop'!D:L,9,FALSE)&\", \")&\"IČO: \"&VLOOKUP('Místa dodání'!A60-10000,'Data eshop'!D:L,8,FALSE)))","v":""},{"$f":"IF(A60=\"\",\"\",VLOOKUP(A60-10000,'Data eshop'!D:AD,6,FALSE))","v":""},{"$f":"IF(A60=\"\",\"\",VLOOKUP(A60-10000,'Data eshop'!D:AD,7,FALSE))","v":""},{"$f":"IF(A60=\"\",\"\",VLOOKUP(A60-10000,'Data eshop'!D:AD,10,FALSE))","v":""},"","","",""]
[{"$f":"IFERROR(SMALL('Data eshop'!D:D,COUNTIF('Data eshop'!D:D,\"<\"&(A60-10000)))+10000,\"\")","v":""},"",{"$f":"IF(A61=\"\",\"\",IF(VLOOKUP(A61-10000,'Data eshop'!D:G,2,FALSE)=\"\",PROPER(VLOOKUP(A61-10000,'Data eshop'!D:G,3,FALSE)&\" \"&VLOOKUP(A61-10000,'Data eshop'!D:G,4,FALSE)),VLOOKUP(A61-10000,'Data eshop'!D:G,2,FALSE)&\" - \"&PROPER(VLOOKUP(A61-10000,'Data eshop'!D:G,3,FALSE)&\" \"&VLOOKUP(A61-10000,'Data eshop'!D:G,4,FALSE))))","v":""},null,{"$f":"IF(A61=\"\",\"\",VLOOKUP(A61-10000,'Data eshop'!D:AD,5,FALSE))","v":""},{"$f":"IF(A61=\"\",\"\",IF(VLOOKUP('Místa dodání'!A61-10000,'Data eshop'!D:L,8,FALSE)=\"\",IF(VLOOKUP('Místa dodání'!A61-10000,'Data eshop'!D:L,9,FALSE)=\"\",\"\",\"DIČ: \"&VLOOKUP('Místa dodání'!A61-10000,'Data eshop'!D:L,9,FALSE)),IF(VLOOKUP('Místa dodání'!A61-10000,'Data eshop'!D:L,9,FALSE)=\"\",\"\",\"DIČ: \"&VLOOKUP('Místa dodání'!A61-10000,'Data eshop'!D:L,9,FALSE)&\", \")&\"IČO: \"&VLOOKUP('Místa dodání'!A61-10000,'Data eshop'!D:L,8,FALSE)))","v":""},{"$f":"IF(A61=\"\",\"\",VLOOKUP(A61-10000,'Data eshop'!D:AD,6,FALSE))","v":""},{"$f":"IF(A61=\"\",\"\",VLOOKUP(A61-10000,'Data eshop'!D:AD,7,FALSE))","v":""},{"$f":"IF(A61=\"\",\"\",VLOOKUP(A61-10000,'Data eshop'!D:AD,10,FALSE))","v":""},"","","",""]
[{"$f":"IFERROR(SMALL('Data eshop'!D:D,COUNTIF('Data eshop'!D:D,\"<\"&(A61-10000)))+10000,\"\")","v":""},"",{"$f":"IF(A62=\"\",\"\",IF(VLOOKUP(A62-10000,'Data eshop'!D:G,2,FALSE)=\"\",PROPER(VLOOKUP(A62-10000,'Data eshop'!D:G,3,FALSE)&\" \"&VLOOKUP(A62-10000,'Data eshop'!D:G,4,FALSE)),VLOOKUP(A62-10000,'Data eshop'!D:G,2,FALSE)&\" - \"&PROPER(VLOOKUP(A62-10000,'Data eshop'!D:G,3,FALSE)&\" \"&VLOOKUP(A62-10000,'Data eshop'!D:G,4,FALSE))))","v":""},null,{"$f":"IF(A62=\"\",\"\",VLOOKUP(A62-10000,'Data eshop'!D:AD,5,FALSE))","v":""},{"$f":"IF(A62=\"\",\"\",IF(VLOOKUP('Místa dodání'!A62-10000,'Data eshop'!D:L,8,FALSE)=\"\",IF(VLOOKUP('Místa dodání'!A62-10000,'Data eshop'!D:L,9,FALSE)=\"\",\"\",\"DIČ: \"&VLOOKUP('Místa dodání'!A62-10000,'Data eshop'!D:L,9,FALSE)),IF(VLOOKUP('Místa dodání'!A62-10000,'Data eshop'!D:L,9,FALSE)=\"\",\"\",\"DIČ: \"&VLOOKUP('Místa dodání'!A62-10000,'Data eshop'!D:L,9,FALSE)&\", \")&\"IČO: \"&VLOOKUP('Místa dodání'!A62-10000,'Data eshop'!D:L,8,FALSE)))","v":""},{"$f":"IF(A62=\"\",\"\",VLOOKUP(A62-10000,'Data eshop'!D:AD,6,FALSE))","v":""},{"$f":"IF(A62=\"\",\"\",VLOOKUP(A62-10000,'Data eshop'!D:AD,7,FALSE))","v":""},{"$f":"IF(A62=\"\",\"\",VLOOKUP(A62-10000,'Data eshop'!D:AD,10,FALSE))","v":""},"","","",""]
[{"$f":"IFERROR(SMALL('Data eshop'!D:D,COUNTIF('Data eshop'!D:D,\"<\"&(A62-10000)))+10000,\"\")","v":""},"",{"$f":"IF(A63=\"\",\"\",IF(VLOOKUP(A63-10000,'Data eshop'!D:G,2,FALSE)=\"\",PROPER(VLOOKUP(A63-10000,'Data eshop'!D:G,3,FALSE)&\" \"&VLOOKUP(A63-10000,'Data eshop'!D:G,4,FALSE)),VLOOKUP(A63-10000,'Data eshop'!D:G,2,FALSE)&\" - \"&PROPER(VLOOKUP(A63-10000,'Data eshop'!D:G,3,FALSE)&\" \"&VLOOKUP(A63-10000,'Data eshop'!D:G,4,FALSE))))","v":""},null,{"$f":"IF(A63=\"\",\"\",VLOOKUP(A63-10000,'Data eshop'!D:AD,5,FALSE))","v":""},{"$f":"IF(A63=\"\",\"\",IF(VLOOKUP('Místa dodání'!A63-10000,'Data eshop'!D:L,8,FALSE)=\"\",IF(VLOOKUP('Místa dodání'!A63-10000,'Data eshop'!D:L,9,FALSE)=\"\",\"\",\"DIČ: \"&VLOOKUP('Místa dodání'!A63-10000,'Data eshop'!D:L,9,FALSE)),IF(VLOOKUP('Místa dodání'!A63-10000,'Data eshop'!D:L,9,FALSE)=\"\",\"\",\"DIČ: \"&VLOOKUP('Místa dodání'!A63-10000,'Data eshop'!D:L,9,FALSE)&\", \")&\"IČO: \"&VLOOKUP('Místa dodání'!A63-10000,'Data eshop'!D:L,8,FALSE)))","v":""},{"$f":"IF(A63=\"\",\"\",VLOOKUP(A63-10000,'Data eshop'!D:AD,6,FALSE))","v":""},{"$f":"IF(A63=\"\",\"\",VLOOKUP(A63-10000,'Data eshop'!D:AD,7,FALSE))","v":""},{"$f":"IF(A63=\"\",\"\",VLOOKUP(A63-10000,'Data eshop'!D:AD,10,FALSE))","v":""},"","","","","Roluj nahoru, až uvidíš žlutou"]
[{"$f":"IFERROR(SMALL('Data eshop'!D:D,COUNTIF('Data eshop'!D:D,\"<\"&(A63-10000)))+10000,\"\")","v":""},"",{"$f":"IF(A64=\"\",\"\",IF(VLOOKUP(A64-10000,'Data eshop'!D:G,2,FALSE)=\"\",PROPER(VLOOKUP(A64-10000,'Data eshop'!D:G,3,FALSE)&\" \"&VLOOKUP(A64-10000,'Data eshop'!D:G,4,FALSE)),VLOOKUP(A64-10000,'Data eshop'!D:G,2,FALSE)&\" - \"&PROPER(VLOOKUP(A64-10000,'Data eshop'!D:G,3,FALSE)&\" \"&VLOOKUP(A64-10000,'Data eshop'!D:G,4,FALSE))))","v":""},null,{"$f":"IF(A64=\"\",\"\",VLOOKUP(A64-10000,'Data eshop'!D:AD,5,FALSE))","v":""},{"$f":"IF(A64=\"\",\"\",IF(VLOOKUP('Místa dodání'!A64-10000,'Data eshop'!D:L,8,FALSE)=\"\",IF(VLOOKUP('Místa dodání'!A64-10000,'Data eshop'!D:L,9,FALSE)=\"\",\"\",\"DIČ: \"&VLOOKUP('Místa dodání'!A64-10000,'Data eshop'!D:L,9,FALSE)),IF(VLOOKUP('Místa dodání'!A64-10000,'Data eshop'!D:L,9,FALSE)=\"\",\"\",\"DIČ: \"&VLOOKUP('Místa dodání'!A64-10000,'Data eshop'!D:L,9,FALSE)&\", \")&\"IČO: \"&VLOOKUP('Místa dodání'!A64-10000,'Data eshop'!D:L,8,FALSE)))","v":""},{"$f":"IF(A64=\"\",\"\",VLOOKUP(A64-10000,'Data eshop'!D:AD,6,FALSE))","v":""},{"$f":"IF(A64=\"\",\"\",VLOOKUP(A64-10000,'Data eshop'!D:AD,7,FALSE))","v":""},{"$f":"IF(A64=\"\",\"\",VLOOKUP(A64-10000,'Data eshop'!D:AD,10,FALSE))","v":""},"","","",""]
[{"$f":"IFERROR(SMALL('Data eshop'!D:D,COUNTIF('Data eshop'!D:D,\"<\"&(A64-10000)))+10000,\"\")","v":""},"",{"$f":"IF(A65=\"\",\"\",IF(VLOOKUP(A65-10000,'Data eshop'!D:G,2,FALSE)=\"\",PROPER(VLOOKUP(A65-10000,'Data eshop'!D:G,3,FALSE)&\" \"&VLOOKUP(A65-10000,'Data eshop'!D:G,4,FALSE)),VLOOKUP(A65-10000,'Data eshop'!D:G,2,FALSE)&\" - \"&PROPER(VLOOKUP(A65-10000,'Data eshop'!D:G,3,FALSE)&\" \"&VLOOKUP(A65-10000,'Data eshop'!D:G,4,FALSE))))","v":""},null,{"$f":"IF(A65=\"\",\"\",VLOOKUP(A65-10000,'Data eshop'!D:AD,5,FALSE))","v":""},{"$f":"IF(A65=\"\",\"\",IF(VLOOKUP('Místa dodání'!A65-10000,'Data eshop'!D:L,8,FALSE)=\"\",IF(VLOOKUP('Místa dodání'!A65-10000,'Data eshop'!D:L,9,FALSE)=\"\",\"\",\"DIČ: \"&VLOOKUP('Místa dodání'!A65-10000,'Data eshop'!D:L,9,FALSE)),IF(VLOOKUP('Místa dodání'!A65-10000,'Data eshop'!D:L,9,FALSE)=\"\",\"\",\"DIČ: \"&VLOOKUP('Místa dodání'!A65-10000,'Data eshop'!D:L,9,FALSE)&\", \")&\"IČO: \"&VLOOKUP('Místa dodání'!A65-10000,'Data eshop'!D:L,8,FALSE)))","v":""},{"$f":"IF(A65=\"\",\"\",VLOOKUP(A65-10000,'Data eshop'!D:AD,6,FALSE))","v":""},{"$f":"IF(A65=\"\",\"\",VLOOKUP(A65-10000,'Data eshop'!D:AD,7,FALSE))","v":""},{"$f":"IF(A65=\"\",\"\",VLOOKUP(A65-10000,'Data eshop'!D:AD,10,FALSE))","v":""},"","","",""]
[{"$f":"IFERROR(SMALL('Data eshop'!D:D,COUNTIF('Data eshop'!D:D,\"<\"&(A65-10000)))+10000,\"\")","v":""},"",{"$f":"IF(A66=\"\",\"\",IF(VLOOKUP(A66-10000,'Data eshop'!D:G,2,FALSE)=\"\",PROPER(VLOOKUP(A66-10000,'Data eshop'!D:G,3,FALSE)&\" \"&VLOOKUP(A66-10000,'Data eshop'!D:G,4,FALSE)),VLOOKUP(A66-10000,'Data eshop'!D:G,2,FALSE)&\" - \"&PROPER(VLOOKUP(A66-10000,'Data eshop'!D:G,3,FALSE)&\" \"&VLOOKUP(A66-10000,'Data eshop'!D:G,4,FALSE))))","v":""},null,{"$f":"IF(A66=\"\",\"\",VLOOKUP(A66-10000,'Data eshop'!D:AD,5,FALSE))","v":""},{"$f":"IF(A66=\"\",\"\",IF(VLOOKUP('Místa dodání'!A66-10000,'Data eshop'!D:L,8,FALSE)=\"\",IF(VLOOKUP('Místa dodání'!A66-10000,'Data eshop'!D:L,9,FALSE)=\"\",\"\",\"DIČ: \"&VLOOKUP('Místa dodání'!A66-10000,'Data eshop'!D:L,9,FALSE)),IF(VLOOKUP('Místa dodání'!A66-10000,'Data eshop'!D:L,9,FALSE)=\"\",\"\",\"DIČ: \"&VLOOKUP('Místa dodání'!A66-10000,'Data eshop'!D:L,9,FALSE)&\", \")&\"IČO: \"&VLOOKUP('Místa dodání'!A66-10000,'Data eshop'!D:L,8,FALSE)))","v":""},{"$f":"IF(A66=\"\",\"\",VLOOKUP(A66-10000,'Data eshop'!D:AD,6,FALSE))","v":""},{"$f":"IF(A66=\"\",\"\",VLOOKUP(A66-10000,'Data eshop'!D:AD,7,FALSE))","v":""},{"$f":"IF(A66=\"\",\"\",VLOOKUP(A66-10000,'Data eshop'!D:AD,10,FALSE))","v":""},"","","",""]
[{"$f":"IFERROR(SMALL('Data eshop'!D:D,COUNTIF('Data eshop'!D:D,\"<\"&(A66-10000)))+10000,\"\")","v":""},"",{"$f":"IF(A67=\"\",\"\",IF(VLOOKUP(A67-10000,'Data eshop'!D:G,2,FALSE)=\"\",PROPER(VLOOKUP(A67-10000,'Data eshop'!D:G,3,FALSE)&\" \"&VLOOKUP(A67-10000,'Data eshop'!D:G,4,FALSE)),VLOOKUP(A67-10000,'Data eshop'!D:G,2,FALSE)&\" - \"&PROPER(VLOOKUP(A67-10000,'Data eshop'!D:G,3,FALSE)&\" \"&VLOOKUP(A67-10000,'Data eshop'!D:G,4,FALSE))))","v":""},null,{"$f":"IF(A67=\"\",\"\",VLOOKUP(A67-10000,'Data eshop'!D:AD,5,FALSE))","v":""},{"$f":"IF(A67=\"\",\"\",IF(VLOOKUP('Místa dodání'!A67-10000,'Data eshop'!D:L,8,FALSE)=\"\",IF(VLOOKUP('Místa dodání'!A67-10000,'Data eshop'!D:L,9,FALSE)=\"\",\"\",\"DIČ: \"&VLOOKUP('Místa dodání'!A67-10000,'Data eshop'!D:L,9,FALSE)),IF(VLOOKUP('Místa dodání'!A67-10000,'Data eshop'!D:L,9,FALSE)=\"\",\"\",\"DIČ: \"&VLOOKUP('Místa dodání'!A67-10000,'Data eshop'!D:L,9,FALSE)&\", \")&\"IČO: \"&VLOOKUP('Místa dodání'!A67-10000,'Data eshop'!D:L,8,FALSE)))","v":""},{"$f":"IF(A67=\"\",\"\",VLOOKUP(A67-10000,'Data eshop'!D:AD,6,FALSE))","v":""},{"$f":"IF(A67=\"\",\"\",VLOOKUP(A67-10000,'Data eshop'!D:AD,7,FALSE))","v":""},{"$f":"IF(A67=\"\",\"\",VLOOKUP(A67-10000,'Data eshop'!D:AD,10,FALSE))","v":""},"","","","","Roluj nahoru, až uvidíš žlutou"]
[{"$f":"IFERROR(SMALL('Data eshop'!D:D,COUNTIF('Data eshop'!D:D,\"<\"&(A67-10000)))+10000,\"\")","v":""},{"$f":"IF(I68=\"\",\"\",IF(I68=\"česká republika\",7,IF(I68=\"poland\",2,IF(I68=\"Slovakia\",87,IF(I68=\"Germany\",2695,IF(I68=\"Austria\",2695,\"\"))))))","v":""},{"$f":"IF(A68=\"\",\"\",IF(VLOOKUP(A68-10000,'Data eshop'!D:G,2,FALSE)=\"\",PROPER(VLOOKUP(A68-10000,'Data eshop'!D:G,3,FALSE)&\" \"&VLOOKUP(A68-10000,'Data eshop'!D:G,4,FALSE)),VLOOKUP(A68-10000,'Data eshop'!D:G,2,FALSE)&\" - \"&PROPER(VLOOKUP(A68-10000,'Data eshop'!D:G,3,FALSE)&\" \"&VLOOKUP(A68-10000,'Data eshop'!D:G,4,FALSE))))","v":""},null,{"$f":"IF(A68=\"\",\"\",VLOOKUP(A68-10000,'Data eshop'!D:AD,5,FALSE))","v":""},{"$f":"IF(A68=\"\",\"\",IF(VLOOKUP('Místa dodání'!A68-10000,'Data eshop'!D:L,8,FALSE)=\"\",IF(VLOOKUP('Místa dodání'!A68-10000,'Data eshop'!D:L,9,FALSE)=\"\",\"\",\"DIČ: \"&VLOOKUP('Místa dodání'!A68-10000,'Data eshop'!D:L,9,FALSE)),IF(VLOOKUP('Místa dodání'!A68-10000,'Data eshop'!D:L,9,FALSE)=\"\",\"\",\"DIČ: \"&VLOOKUP('Místa dodání'!A68-10000,'Data eshop'!D:L,9,FALSE)&\", \")&\"IČO: \"&VLOOKUP('Místa dodání'!A68-10000,'Data eshop'!D:L,8,FALSE)))","v":""},{"$f":"IF(A68=\"\",\"\",VLOOKUP(A68-10000,'Data eshop'!D:AD,6,FALSE))","v":""},{"$f":"IF(A68=\"\",\"\",VLOOKUP(A68-10000,'Data eshop'!D:AD,7,FALSE))","v":""},{"$f":"IF(A68=\"\",\"\",VLOOKUP(A68-10000,'Data eshop'!D:AD,10,FALSE))","v":""},{"$f":"IF(A68=\"\",\"\",1)","v":""},{"$f":"IF(A68=\"\",\"\",1)","v":""},{"$f":"IF(A68=\"\",\"\",\"Live\")","v":""},{"$f":"IF(A68=\"\",\"\",0)","v":""}]
[{"$f":"IFERROR(SMALL('Data eshop'!D:D,COUNTIF('Data eshop'!D:D,\"<\"&(A68-10000)))+10000,\"\")","v":""},"",{"$f":"IF(A69=\"\",\"\",IF(VLOOKUP(A69-10000,'Data eshop'!D:G,2,FALSE)=\"\",PROPER(VLOOKUP(A69-10000,'Data eshop'!D:G,3,FALSE)&\" \"&VLOOKUP(A69-10000,'Data eshop'!D:G,4,FALSE)),VLOOKUP(A69-10000,'Data eshop'!D:G,2,FALSE)&\" - \"&PROPER(VLOOKUP(A69-10000,'Data eshop'!D:G,3,FALSE)&\" \"&VLOOKUP(A69-10000,'Data eshop'!D:G,4,FALSE))))","v":""},null,{"$f":"IF(A69=\"\",\"\",VLOOKUP(A69-10000,'Data eshop'!D:AD,5,FALSE))","v":""},{"$f":"IF(A69=\"\",\"\",IF(VLOOKUP('Místa dodání'!A69-10000,'Data eshop'!D:L,8,FALSE)=\"\",IF(VLOOKUP('Místa dodání'!A69-10000,'Data eshop'!D:L,9,FALSE)=\"\",\"\",\"DIČ: \"&VLOOKUP('Místa dodání'!A69-10000,'Data eshop'!D:L,9,FALSE)),IF(VLOOKUP('Místa dodání'!A69-10000,'Data eshop'!D:L,9,FALSE)=\"\",\"\",\"DIČ: \"&VLOOKUP('Místa dodání'!A69-10000,'Data eshop'!D:L,9,FALSE)&\", \")&\"IČO: \"&VLOOKUP('Místa dodání'!A69-10000,'Data eshop'!D:L,8,FALSE)))","v":""},{"$f":"IF(A69=\"\",\"\",VLOOKUP(A69-10000,'Data eshop'!D:AD,6,FALSE))","v":""},{"$f":"IF(A69=\"\",\"\",VLOOKUP(A69-10000,'Data eshop'!D:AD,7,FALSE))","v":""},{"$f":"IF(A69=\"\",\"\",VLOOKUP(A69-10000,'Data eshop'!D:AD,10,FALSE))","v":""},"","","",""]
[{"$f":"IFERROR(SMALL('Data eshop'!D:D,COUNTIF('Data eshop'!D:D,\"<\"&(A69-10000)))+10000,\"\")","v":""},"",{"$f":"IF(A70=\"\",\"\",IF(VLOOKUP(A70-10000,'Data eshop'!D:G,2,FALSE)=\"\",PROPER(VLOOKUP(A70-10000,'Data eshop'!D:G,3,FALSE)&\" \"&VLOOKUP(A70-10000,'Data eshop'!D:G,4,FALSE)),VLOOKUP(A70-10000,'Data eshop'!D:G,2,FALSE)&\" - \"&PROPER(VLOOKUP(A70-10000,'Data eshop'!D:G,3,FALSE)&\" \"&VLOOKUP(A70-10000,'Data eshop'!D:G,4,FALSE))))","v":""},null,{"$f":"IF(A70=\"\",\"\",VLOOKUP(A70-10000,'Data eshop'!D:AD,5,FALSE))","v":""},{"$f":"IF(A70=\"\",\"\",IF(VLOOKUP('Místa dodání'!A70-10000,'Data eshop'!D:L,8,FALSE)=\"\",IF(VLOOKUP('Místa dodání'!A70-10000,'Data eshop'!D:L,9,FALSE)=\"\",\"\",\"DIČ: \"&VLOOKUP('Místa dodání'!A70-10000,'Data eshop'!D:L,9,FALSE)),IF(VLOOKUP('Místa dodání'!A70-10000,'Data eshop'!D:L,9,FALSE)=\"\",\"\",\"DIČ: \"&VLOOKUP('Místa dodání'!A70-10000,'Data eshop'!D:L,9,FALSE)&\", \")&\"IČO: \"&VLOOKUP('Místa dodání'!A70-10000,'Data eshop'!D:L,8,FALSE)))","v":""},{"$f":"IF(A70=\"\",\"\",VLOOKUP(A70-10000,'Data eshop'!D:AD,6,FALSE))","v":""},{"$f":"IF(A70=\"\",\"\",VLOOKUP(A70-10000,'Data eshop'!D:AD,7,FALSE))","v":""},{"$f":"IF(A70=\"\",\"\",VLOOKUP(A70-10000,'Data eshop'!D:AD,10,FALSE))","v":""},"","","",""]
[{"$f":"IFERROR(SMALL('Data eshop'!D:D,COUNTIF('Data eshop'!D:D,\"<\"&(A70-10000)))+10000,\"\")","v":""},"",{"$f":"IF(A71=\"\",\"\",IF(VLOOKUP(A71-10000,'Data eshop'!D:G,2,FALSE)=\"\",PROPER(VLOOKUP(A71-10000,'Data eshop'!D:G,3,FALSE)&\" \"&VLOOKUP(A71-10000,'Data eshop'!D:G,4,FALSE)),VLOOKUP(A71-10000,'Data eshop'!D:G,2,FALSE)&\" - \"&PROPER(VLOOKUP(A71-10000,'Data eshop'!D:G,3,FALSE)&\" \"&VLOOKUP(A71-10000,'Data eshop'!D:G,4,FALSE))))","v":""},null,{"$f":"IF(A71=\"\",\"\",VLOOKUP(A71-10000,'Data eshop'!D:AD,5,FALSE))","v":""},{"$f":"IF(A71=\"\",\"\",IF(VLOOKUP('Místa dodání'!A71-10000,'Data eshop'!D:L,8,FALSE)=\"\",IF(VLOOKUP('Místa dodání'!A71-10000,'Data eshop'!D:L,9,FALSE)=\"\",\"\",\"DIČ: \"&VLOOKUP('Místa dodání'!A71-10000,'Data eshop'!D:L,9,FALSE)),IF(VLOOKUP('Místa dodání'!A71-10000,'Data eshop'!D:L,9,FALSE)=\"\",\"\",\"DIČ: \"&VLOOKUP('Místa dodání'!A71-10000,'Data eshop'!D:L,9,FALSE)&\", \")&\"IČO: \"&VLOOKUP('Místa dodání'!A71-10000,'Data eshop'!D:L,8,FALSE)))","v":""},{"$f":"IF(A71=\"\",\"\",VLOOKUP(A71-10000,'Data eshop'!D:AD,6,FALSE))","v":""},{"$f":"IF(A71=\"\",\"\",VLOOKUP(A71-10000,'Data eshop'!D:AD,7,FALSE))","v":""},{"$f":"IF(A71=\"\",\"\",VLOOKUP(A71-10000,'Data eshop'!D:AD,10,FALSE))","v":""},"","","","","Roluj nahoru, až uvidíš žlutou"]
[{"$f":"IFERROR(SMALL('Data eshop'!D:D,COUNTIF('Data eshop'!D:D,\"<\"&(A71-10000)))+10000,\"\")","v":""},"",{"$f":"IF(A72=\"\",\"\",IF(VLOOKUP(A72-10000,'Data eshop'!D:G,2,FALSE)=\"\",PROPER(VLOOKUP(A72-10000,'Data eshop'!D:G,3,FALSE)&\" \"&VLOOKUP(A72-10000,'Data eshop'!D:G,4,FALSE)),VLOOKUP(A72-10000,'Data eshop'!D:G,2,FALSE)&\" - \"&PROPER(VLOOKUP(A72-10000,'Data eshop'!D:G,3,FALSE)&\" \"&VLOOKUP(A72-10000,'Data eshop'!D:G,4,FALSE))))","v":""},null,{"$f":"IF(A72=\"\",\"\",VLOOKUP(A72-10000,'Data eshop'!D:AD,5,FALSE))","v":""},{"$f":"IF(A72=\"\",\"\",IF(VLOOKUP('Místa dodání'!A72-10000,'Data eshop'!D:L,8,FALSE)=\"\",IF(VLOOKUP('Místa dodání'!A72-10000,'Data eshop'!D:L,9,FALSE)=\"\",\"\",\"DIČ: \"&VLOOKUP('Místa dodání'!A72-10000,'Data eshop'!D:L,9,FALSE)),IF(VLOOKUP('Místa dodání'!A72-10000,'Data eshop'!D:L,9,FALSE)=\"\",\"\",\"DIČ: \"&VLOOKUP('Místa dodání'!A72-10000,'Data eshop'!D:L,9,FALSE)&\", \")&\"IČO: \"&VLOOKUP('Místa dodání'!A72-10000,'Data eshop'!D:L,8,FALSE)))","v":""},{"$f":"IF(A72=\"\",\"\",VLOOKUP(A72-10000,'Data eshop'!D:AD,6,FALSE))","v":""},{"$f":"IF(A72=\"\",\"\",VLOOKUP(A72-10000,'Data eshop'!D:AD,7,FALSE))","v":""},{"$f":"IF(A72=\"\",\"\",VLOOKUP(A72-10000,'Data eshop'!D:AD,10,FALSE))","v":""},"","","",""]
[{"$f":"IFERROR(SMALL('Data eshop'!D:D,COUNTIF('Data eshop'!D:D,\"<\"&(A72-10000)))+10000,\"\")","v":""},"",{"$f":"IF(A73=\"\",\"\",IF(VLOOKUP(A73-10000,'Data eshop'!D:G,2,FALSE)=\"\",PROPER(VLOOKUP(A73-10000,'Data eshop'!D:G,3,FALSE)&\" \"&VLOOKUP(A73-10000,'Data eshop'!D:G,4,FALSE)),VLOOKUP(A73-10000,'Data eshop'!D:G,2,FALSE)&\" - \"&PROPER(VLOOKUP(A73-10000,'Data eshop'!D:G,3,FALSE)&\" \"&VLOOKUP(A73-10000,'Data eshop'!D:G,4,FALSE))))","v":""},null,{"$f":"IF(A73=\"\",\"\",VLOOKUP(A73-10000,'Data eshop'!D:AD,5,FALSE))","v":""},{"$f":"IF(A73=\"\",\"\",IF(VLOOKUP('Místa dodání'!A73-10000,'Data eshop'!D:L,8,FALSE)=\"\",IF(VLOOKUP('Místa dodání'!A73-10000,'Data eshop'!D:L,9,FALSE)=\"\",\"\",\"DIČ: \"&VLOOKUP('Místa dodání'!A73-10000,'Data eshop'!D:L,9,FALSE)),IF(VLOOKUP('Místa dodání'!A73-10000,'Data eshop'!D:L,9,FALSE)=\"\",\"\",\"DIČ: \"&VLOOKUP('Místa dodání'!A73-10000,'Data eshop'!D:L,9,FALSE)&\", \")&\"IČO: \"&VLOOKUP('Místa dodání'!A73-10000,'Data eshop'!D:L,8,FALSE)))","v":""},{"$f":"IF(A73=\"\",\"\",VLOOKUP(A73-10000,'Data eshop'!D:AD,6,FALSE))","v":""},{"$f":"IF(A73=\"\",\"\",VLOOKUP(A73-10000,'Data eshop'!D:AD,7,FALSE))","v":""},{"$f":"IF(A73=\"\",\"\",VLOOKUP(A73-10000,'Data eshop'!D:AD,10,FALSE))","v":""},"","","",""]
[{"$f":"IFERROR(SMALL('Data eshop'!D:D,COUNTIF('Data eshop'!D:D,\"<\"&(A73-10000)))+10000,\"\")","v":""},"",{"$f":"IF(A74=\"\",\"\",IF(VLOOKUP(A74-10000,'Data eshop'!D:G,2,FALSE)=\"\",PROPER(VLOOKUP(A74-10000,'Data eshop'!D:G,3,FALSE)&\" \"&VLOOKUP(A74-10000,'Data eshop'!D:G,4,FALSE)),VLOOKUP(A74-10000,'Data eshop'!D:G,2,FALSE)&\" - \"&PROPER(VLOOKUP(A74-10000,'Data eshop'!D:G,3,FALSE)&\" \"&VLOOKUP(A74-10000,'Data eshop'!D:G,4,FALSE))))","v":""},null,{"$f":"IF(A74=\"\",\"\",VLOOKUP(A74-10000,'Data eshop'!D:AD,5,FALSE))","v":""},{"$f":"IF(A74=\"\",\"\",IF(VLOOKUP('Místa dodání'!A74-10000,'Data eshop'!D:L,8,FALSE)=\"\",IF(VLOOKUP('Místa dodání'!A74-10000,'Data eshop'!D:L,9,FALSE)=\"\",\"\",\"DIČ: \"&VLOOKUP('Místa dodání'!A74-10000,'Data eshop'!D:L,9,FALSE)),IF(VLOOKUP('Místa dodání'!A74-10000,'Data eshop'!D:L,9,FALSE)=\"\",\"\",\"DIČ: \"&VLOOKUP('Místa dodání'!A74-10000,'Data eshop'!D:L,9,FALSE)&\", \")&\"IČO: \"&VLOOKUP('Místa dodání'!A74-10000,'Data eshop'!D:L,8,FALSE)))","v":""},{"$f":"IF(A74=\"\",\"\",VLOOKUP(A74-10000,'Data eshop'!D:AD,6,FALSE))","v":""},{"$f":"IF(A74=\"\",\"\",VLOOKUP(A74-10000,'Data eshop'!D:AD,7,FALSE))","v":""},{"$f":"IF(A74=\"\",\"\",VLOOKUP(A74-10000,'Data eshop'!D:AD,10,FALSE))","v":""},"","","",""]
[{"$f":"IFERROR(SMALL('Data eshop'!D:D,COUNTIF('Data eshop'!D:D,\"<\"&(A74-10000)))+10000,\"\")","v":""},"",{"$f":"IF(A75=\"\",\"\",IF(VLOOKUP(A75-10000,'Data eshop'!D:G,2,FALSE)=\"\",PROPER(VLOOKUP(A75-10000,'Data eshop'!D:G,3,FALSE)&\" \"&VLOOKUP(A75-10000,'Data eshop'!D:G,4,FALSE)),VLOOKUP(A75-10000,'Data eshop'!D:G,2,FALSE)&\" - \"&PROPER(VLOOKUP(A75-10000,'Data eshop'!D:G,3,FALSE)&\" \"&VLOOKUP(A75-10000,'Data eshop'!D:G,4,FALSE))))","v":""},null,{"$f":"IF(A75=\"\",\"\",VLOOKUP(A75-10000,'Data eshop'!D:AD,5,FALSE))","v":""},{"$f":"IF(A75=\"\",\"\",IF(VLOOKUP('Místa dodání'!A75-10000,'Data eshop'!D:L,8,FALSE)=\"\",IF(VLOOKUP('Místa dodání'!A75-10000,'Data eshop'!D:L,9,FALSE)=\"\",\"\",\"DIČ: \"&VLOOKUP('Místa dodání'!A75-10000,'Data eshop'!D:L,9,FALSE)),IF(VLOOKUP('Místa dodání'!A75-10000,'Data eshop'!D:L,9,FALSE)=\"\",\"\",\"DIČ: \"&VLOOKUP('Místa dodání'!A75-10000,'Data eshop'!D:L,9,FALSE)&\", \")&\"IČO: \"&VLOOKUP('Místa dodání'!A75-10000,'Data eshop'!D:L,8,FALSE)))","v":""},{"$f":"IF(A75=\"\",\"\",VLOOKUP(A75-10000,'Data eshop'!D:AD,6,FALSE))","v":""},{"$f":"IF(A75=\"\",\"\",VLOOKUP(A75-10000,'Data eshop'!D:AD,7,FALSE))","v":""},{"$f":"IF(A75=\"\",\"\",VLOOKUP(A75-10000,'Data eshop'!D:AD,10,FALSE))","v":""},"","","","","Roluj nahoru, až uvidíš žlutou"]
[{"$f":"IFERROR(SMALL('Data eshop'!D:D,COUNTIF('Data eshop'!D:D,\"<\"&(A75-10000)))+10000,\"\")","v":""},"",{"$f":"IF(A76=\"\",\"\",IF(VLOOKUP(A76-10000,'Data eshop'!D:G,2,FALSE)=\"\",PROPER(VLOOKUP(A76-10000,'Data eshop'!D:G,3,FALSE)&\" \"&VLOOKUP(A76-10000,'Data eshop'!D:G,4,FALSE)),VLOOKUP(A76-10000,'Data eshop'!D:G,2,FALSE)&\" - \"&PROPER(VLOOKUP(A76-10000,'Data eshop'!D:G,3,FALSE)&\" \"&VLOOKUP(A76-10000,'Data eshop'!D:G,4,FALSE))))","v":""},null,{"$f":"IF(A76=\"\",\"\",VLOOKUP(A76-10000,'Data eshop'!D:AD,5,FALSE))","v":""},{"$f":"IF(A76=\"\",\"\",IF(VLOOKUP('Místa dodání'!A76-10000,'Data eshop'!D:L,8,FALSE)=\"\",IF(VLOOKUP('Místa dodání'!A76-10000,'Data eshop'!D:L,9,FALSE)=\"\",\"\",\"DIČ: \"&VLOOKUP('Místa dodání'!A76-10000,'Data eshop'!D:L,9,FALSE)),IF(VLOOKUP('Místa dodání'!A76-10000,'Data eshop'!D:L,9,FALSE)=\"\",\"\",\"DIČ: \"&VLOOKUP('Místa dodání'!A76-10000,'Data eshop'!D:L,9,FALSE)&\", \")&\"IČO: \"&VLOOKUP('Místa dodání'!A76-10000,'Data eshop'!D:L,8,FALSE)))","v":""},{"$f":"IF(A76=\"\",\"\",VLOOKUP(A76-10000,'Data eshop'!D:AD,6,FALSE))","v":""},{"$f":"IF(A76=\"\",\"\",VLOOKUP(A76-10000,'Data eshop'!D:AD,7,FALSE))","v":""},{"$f":"IF(A76=\"\",\"\",VLOOKUP(A76-10000,'Data eshop'!D:AD,10,FALSE))","v":""},"","","",""]
[{"$f":"IFERROR(SMALL('Data eshop'!D:D,COUNTIF('Data eshop'!D:D,\"<\"&(A76-10000)))+10000,\"\")","v":""},"",{"$f":"IF(A77=\"\",\"\",IF(VLOOKUP(A77-10000,'Data eshop'!D:G,2,FALSE)=\"\",PROPER(VLOOKUP(A77-10000,'Data eshop'!D:G,3,FALSE)&\" \"&VLOOKUP(A77-10000,'Data eshop'!D:G,4,FALSE)),VLOOKUP(A77-10000,'Data eshop'!D:G,2,FALSE)&\" - \"&PROPER(VLOOKUP(A77-10000,'Data eshop'!D:G,3,FALSE)&\" \"&VLOOKUP(A77-10000,'Data eshop'!D:G,4,FALSE))))","v":""},null,{"$f":"IF(A77=\"\",\"\",VLOOKUP(A77-10000,'Data eshop'!D:AD,5,FALSE))","v":""},{"$f":"IF(A77=\"\",\"\",IF(VLOOKUP('Místa dodání'!A77-10000,'Data eshop'!D:L,8,FALSE)=\"\",IF(VLOOKUP('Místa dodání'!A77-10000,'Data eshop'!D:L,9,FALSE)=\"\",\"\",\"DIČ: \"&VLOOKUP('Místa dodání'!A77-10000,'Data eshop'!D:L,9,FALSE)),IF(VLOOKUP('Místa dodání'!A77-10000,'Data eshop'!D:L,9,FALSE)=\"\",\"\",\"DIČ: \"&VLOOKUP('Místa dodání'!A77-10000,'Data eshop'!D:L,9,FALSE)&\", \")&\"IČO: \"&VLOOKUP('Místa dodání'!A77-10000,'Data eshop'!D:L,8,FALSE)))","v":""},{"$f":"IF(A77=\"\",\"\",VLOOKUP(A77-10000,'Data eshop'!D:AD,6,FALSE))","v":""},{"$f":"IF(A77=\"\",\"\",VLOOKUP(A77-10000,'Data eshop'!D:AD,7,FALSE))","v":""},{"$f":"IF(A77=\"\",\"\",VLOOKUP(A77-10000,'Data eshop'!D:AD,10,FALSE))","v":""},"","","",""]
[{"$f":"IFERROR(SMALL('Data eshop'!D:D,COUNTIF('Data eshop'!D:D,\"<\"&(A77-10000)))+10000,\"\")","v":""},"",{"$f":"IF(A78=\"\",\"\",IF(VLOOKUP(A78-10000,'Data eshop'!D:G,2,FALSE)=\"\",PROPER(VLOOKUP(A78-10000,'Data eshop'!D:G,3,FALSE)&\" \"&VLOOKUP(A78-10000,'Data eshop'!D:G,4,FALSE)),VLOOKUP(A78-10000,'Data eshop'!D:G,2,FALSE)&\" - \"&PROPER(VLOOKUP(A78-10000,'Data eshop'!D:G,3,FALSE)&\" \"&VLOOKUP(A78-10000,'Data eshop'!D:G,4,FALSE))))","v":""},null,{"$f":"IF(A78=\"\",\"\",VLOOKUP(A78-10000,'Data eshop'!D:AD,5,FALSE))","v":""},{"$f":"IF(A78=\"\",\"\",IF(VLOOKUP('Místa dodání'!A78-10000,'Data eshop'!D:L,8,FALSE)=\"\",IF(VLOOKUP('Místa dodání'!A78-10000,'Data eshop'!D:L,9,FALSE)=\"\",\"\",\"DIČ: \"&VLOOKUP('Místa dodání'!A78-10000,'Data eshop'!D:L,9,FALSE)),IF(VLOOKUP('Místa dodání'!A78-10000,'Data eshop'!D:L,9,FALSE)=\"\",\"\",\"DIČ: \"&VLOOKUP('Místa dodání'!A78-10000,'Data eshop'!D:L,9,FALSE)&\", \")&\"IČO: \"&VLOOKUP('Místa dodání'!A78-10000,'Data eshop'!D:L,8,FALSE)))","v":""},{"$f":"IF(A78=\"\",\"\",VLOOKUP(A78-10000,'Data eshop'!D:AD,6,FALSE))","v":""},{"$f":"IF(A78=\"\",\"\",VLOOKUP(A78-10000,'Data eshop'!D:AD,7,FALSE))","v":""},{"$f":"IF(A78=\"\",\"\",VLOOKUP(A78-10000,'Data eshop'!D:AD,10,FALSE))","v":""},"","","",""]
[{"$f":"IFERROR(SMALL('Data eshop'!D:D,COUNTIF('Data eshop'!D:D,\"<\"&(A78-10000)))+10000,\"\")","v":""},"",{"$f":"IF(A79=\"\",\"\",IF(VLOOKUP(A79-10000,'Data eshop'!D:G,2,FALSE)=\"\",PROPER(VLOOKUP(A79-10000,'Data eshop'!D:G,3,FALSE)&\" \"&VLOOKUP(A79-10000,'Data eshop'!D:G,4,FALSE)),VLOOKUP(A79-10000,'Data eshop'!D:G,2,FALSE)&\" - \"&PROPER(VLOOKUP(A79-10000,'Data eshop'!D:G,3,FALSE)&\" \"&VLOOKUP(A79-10000,'Data eshop'!D:G,4,FALSE))))","v":""},null,{"$f":"IF(A79=\"\",\"\",VLOOKUP(A79-10000,'Data eshop'!D:AD,5,FALSE))","v":""},{"$f":"IF(A79=\"\",\"\",IF(VLOOKUP('Místa dodání'!A79-10000,'Data eshop'!D:L,8,FALSE)=\"\",IF(VLOOKUP('Místa dodání'!A79-10000,'Data eshop'!D:L,9,FALSE)=\"\",\"\",\"DIČ: \"&VLOOKUP('Místa dodání'!A79-10000,'Data eshop'!D:L,9,FALSE)),IF(VLOOKUP('Místa dodání'!A79-10000,'Data eshop'!D:L,9,FALSE)=\"\",\"\",\"DIČ: \"&VLOOKUP('Místa dodání'!A79-10000,'Data eshop'!D:L,9,FALSE)&\", \")&\"IČO: \"&VLOOKUP('Místa dodání'!A79-10000,'Data eshop'!D:L,8,FALSE)))","v":""},{"$f":"IF(A79=\"\",\"\",VLOOKUP(A79-10000,'Data eshop'!D:AD,6,FALSE))","v":""},{"$f":"IF(A79=\"\",\"\",VLOOKUP(A79-10000,'Data eshop'!D:AD,7,FALSE))","v":""},{"$f":"IF(A79=\"\",\"\",VLOOKUP(A79-10000,'Data eshop'!D:AD,10,FALSE))","v":""},"","","","","Roluj nahoru, až uvidíš žlutou"]
[{"$f":"IFERROR(SMALL('Data eshop'!D:D,COUNTIF('Data eshop'!D:D,\"<\"&(A79-10000)))+10000,\"\")","v":""},"",{"$f":"IF(A80=\"\",\"\",IF(VLOOKUP(A80-10000,'Data eshop'!D:G,2,FALSE)=\"\",PROPER(VLOOKUP(A80-10000,'Data eshop'!D:G,3,FALSE)&\" \"&VLOOKUP(A80-10000,'Data eshop'!D:G,4,FALSE)),VLOOKUP(A80-10000,'Data eshop'!D:G,2,FALSE)&\" - \"&PROPER(VLOOKUP(A80-10000,'Data eshop'!D:G,3,FALSE)&\" \"&VLOOKUP(A80-10000,'Data eshop'!D:G,4,FALSE))))","v":""},null,{"$f":"IF(A80=\"\",\"\",VLOOKUP(A80-10000,'Data eshop'!D:AD,5,FALSE))","v":""},{"$f":"IF(A80=\"\",\"\",IF(VLOOKUP('Místa dodání'!A80-10000,'Data eshop'!D:L,8,FALSE)=\"\",IF(VLOOKUP('Místa dodání'!A80-10000,'Data eshop'!D:L,9,FALSE)=\"\",\"\",\"DIČ: \"&VLOOKUP('Místa dodání'!A80-10000,'Data eshop'!D:L,9,FALSE)),IF(VLOOKUP('Místa dodání'!A80-10000,'Data eshop'!D:L,9,FALSE)=\"\",\"\",\"DIČ: \"&VLOOKUP('Místa dodání'!A80-10000,'Data eshop'!D:L,9,FALSE)&\", \")&\"IČO: \"&VLOOKUP('Místa dodání'!A80-10000,'Data eshop'!D:L,8,FALSE)))","v":""},{"$f":"IF(A80=\"\",\"\",VLOOKUP(A80-10000,'Data eshop'!D:AD,6,FALSE))","v":""},{"$f":"IF(A80=\"\",\"\",VLOOKUP(A80-10000,'Data eshop'!D:AD,7,FALSE))","v":""},{"$f":"IF(A80=\"\",\"\",VLOOKUP(A80-10000,'Data eshop'!D:AD,10,FALSE))","v":""},"","","",""]
[{"$f":"IFERROR(SMALL('Data eshop'!D:D,COUNTIF('Data eshop'!D:D,\"<\"&(A80-10000)))+10000,\"\")","v":""},"",{"$f":"IF(A81=\"\",\"\",IF(VLOOKUP(A81-10000,'Data eshop'!D:G,2,FALSE)=\"\",PROPER(VLOOKUP(A81-10000,'Data eshop'!D:G,3,FALSE)&\" \"&VLOOKUP(A81-10000,'Data eshop'!D:G,4,FALSE)),VLOOKUP(A81-10000,'Data eshop'!D:G,2,FALSE)&\" - \"&PROPER(VLOOKUP(A81-10000,'Data eshop'!D:G,3,FALSE)&\" \"&VLOOKUP(A81-10000,'Data eshop'!D:G,4,FALSE))))","v":""},null,{"$f":"IF(A81=\"\",\"\",VLOOKUP(A81-10000,'Data eshop'!D:AD,5,FALSE))","v":""},{"$f":"IF(A81=\"\",\"\",IF(VLOOKUP('Místa dodání'!A81-10000,'Data eshop'!D:L,8,FALSE)=\"\",IF(VLOOKUP('Místa dodání'!A81-10000,'Data eshop'!D:L,9,FALSE)=\"\",\"\",\"DIČ: \"&VLOOKUP('Místa dodání'!A81-10000,'Data eshop'!D:L,9,FALSE)),IF(VLOOKUP('Místa dodání'!A81-10000,'Data eshop'!D:L,9,FALSE)=\"\",\"\",\"DIČ: \"&VLOOKUP('Místa dodání'!A81-10000,'Data eshop'!D:L,9,FALSE)&\", \")&\"IČO: \"&VLOOKUP('Místa dodání'!A81-10000,'Data eshop'!D:L,8,FALSE)))","v":""},{"$f":"IF(A81=\"\",\"\",VLOOKUP(A81-10000,'Data eshop'!D:AD,6,FALSE))","v":""},{"$f":"IF(A81=\"\",\"\",VLOOKUP(A81-10000,'Data eshop'!D:AD,7,FALSE))","v":""},{"$f":"IF(A81=\"\",\"\",VLOOKUP(A81-10000,'Data eshop'!D:AD,10,FALSE))","v":""},"","","",""]
[{"$f":"IFERROR(SMALL('Data eshop'!D:D,COUNTIF('Data eshop'!D:D,\"<\"&(A81-10000)))+10000,\"\")","v":""},"",{"$f":"IF(A82=\"\",\"\",IF(VLOOKUP(A82-10000,'Data eshop'!D:G,2,FALSE)=\"\",PROPER(VLOOKUP(A82-10000,'Data eshop'!D:G,3,FALSE)&\" \"&VLOOKUP(A82-10000,'Data eshop'!D:G,4,FALSE)),VLOOKUP(A82-10000,'Data eshop'!D:G,2,FALSE)&\" - \"&PROPER(VLOOKUP(A82-10000,'Data eshop'!D:G,3,FALSE)&\" \"&VLOOKUP(A82-10000,'Data eshop'!D:G,4,FALSE))))","v":""},null,{"$f":"IF(A82=\"\",\"\",VLOOKUP(A82-10000,'Data eshop'!D:AD,5,FALSE))","v":""},{"$f":"IF(A82=\"\",\"\",IF(VLOOKUP('Místa dodání'!A82-10000,'Data eshop'!D:L,8,FALSE)=\"\",IF(VLOOKUP('Místa dodání'!A82-10000,'Data eshop'!D:L,9,FALSE)=\"\",\"\",\"DIČ: \"&VLOOKUP('Místa dodání'!A82-10000,'Data eshop'!D:L,9,FALSE)),IF(VLOOKUP('Místa dodání'!A82-10000,'Data eshop'!D:L,9,FALSE)=\"\",\"\",\"DIČ: \"&VLOOKUP('Místa dodání'!A82-10000,'Data eshop'!D:L,9,FALSE)&\", \")&\"IČO: \"&VLOOKUP('Místa dodání'!A82-10000,'Data eshop'!D:L,8,FALSE)))","v":""},{"$f":"IF(A82=\"\",\"\",VLOOKUP(A82-10000,'Data eshop'!D:AD,6,FALSE))","v":""},{"$f":"IF(A82=\"\",\"\",VLOOKUP(A82-10000,'Data eshop'!D:AD,7,FALSE))","v":""},{"$f":"IF(A82=\"\",\"\",VLOOKUP(A82-10000,'Data eshop'!D:AD,10,FALSE))","v":""},"","","",""]
[{"$f":"IFERROR(SMALL('Data eshop'!D:D,COUNTIF('Data eshop'!D:D,\"<\"&(A82-10000)))+10000,\"\")","v":""},"",{"$f":"IF(A83=\"\",\"\",IF(VLOOKUP(A83-10000,'Data eshop'!D:G,2,FALSE)=\"\",PROPER(VLOOKUP(A83-10000,'Data eshop'!D:G,3,FALSE)&\" \"&VLOOKUP(A83-10000,'Data eshop'!D:G,4,FALSE)),VLOOKUP(A83-10000,'Data eshop'!D:G,2,FALSE)&\" - \"&PROPER(VLOOKUP(A83-10000,'Data eshop'!D:G,3,FALSE)&\" \"&VLOOKUP(A83-10000,'Data eshop'!D:G,4,FALSE))))","v":""},null,{"$f":"IF(A83=\"\",\"\",VLOOKUP(A83-10000,'Data eshop'!D:AD,5,FALSE))","v":""},{"$f":"IF(A83=\"\",\"\",IF(VLOOKUP('Místa dodání'!A83-10000,'Data eshop'!D:L,8,FALSE)=\"\",IF(VLOOKUP('Místa dodání'!A83-10000,'Data eshop'!D:L,9,FALSE)=\"\",\"\",\"DIČ: \"&VLOOKUP('Místa dodání'!A83-10000,'Data eshop'!D:L,9,FALSE)),IF(VLOOKUP('Místa dodání'!A83-10000,'Data eshop'!D:L,9,FALSE)=\"\",\"\",\"DIČ: \"&VLOOKUP('Místa dodání'!A83-10000,'Data eshop'!D:L,9,FALSE)&\", \")&\"IČO: \"&VLOOKUP('Místa dodání'!A83-10000,'Data eshop'!D:L,8,FALSE)))","v":""},{"$f":"IF(A83=\"\",\"\",VLOOKUP(A83-10000,'Data eshop'!D:AD,6,FALSE))","v":""},{"$f":"IF(A83=\"\",\"\",VLOOKUP(A83-10000,'Data eshop'!D:AD,7,FALSE))","v":""},{"$f":"IF(A83=\"\",\"\",VLOOKUP(A83-10000,'Data eshop'!D:AD,10,FALSE))","v":""},"","","","","Roluj nahoru, až uvidíš žlutou"]
[{"$f":"IFERROR(SMALL('Data eshop'!D:D,COUNTIF('Data eshop'!D:D,\"<\"&(A83-10000)))+10000,\"\")","v":""},"",{"$f":"IF(A84=\"\",\"\",IF(VLOOKUP(A84-10000,'Data eshop'!D:G,2,FALSE)=\"\",PROPER(VLOOKUP(A84-10000,'Data eshop'!D:G,3,FALSE)&\" \"&VLOOKUP(A84-10000,'Data eshop'!D:G,4,FALSE)),VLOOKUP(A84-10000,'Data eshop'!D:G,2,FALSE)&\" - \"&PROPER(VLOOKUP(A84-10000,'Data eshop'!D:G,3,FALSE)&\" \"&VLOOKUP(A84-10000,'Data eshop'!D:G,4,FALSE))))","v":""},null,{"$f":"IF(A84=\"\",\"\",VLOOKUP(A84-10000,'Data eshop'!D:AD,5,FALSE))","v":""},{"$f":"IF(A84=\"\",\"\",IF(VLOOKUP('Místa dodání'!A84-10000,'Data eshop'!D:L,8,FALSE)=\"\",IF(VLOOKUP('Místa dodání'!A84-10000,'Data eshop'!D:L,9,FALSE)=\"\",\"\",\"DIČ: \"&VLOOKUP('Místa dodání'!A84-10000,'Data eshop'!D:L,9,FALSE)),IF(VLOOKUP('Místa dodání'!A84-10000,'Data eshop'!D:L,9,FALSE)=\"\",\"\",\"DIČ: \"&VLOOKUP('Místa dodání'!A84-10000,'Data eshop'!D:L,9,FALSE)&\", \")&\"IČO: \"&VLOOKUP('Místa dodání'!A84-10000,'Data eshop'!D:L,8,FALSE)))","v":""},{"$f":"IF(A84=\"\",\"\",VLOOKUP(A84-10000,'Data eshop'!D:AD,6,FALSE))","v":""},{"$f":"IF(A84=\"\",\"\",VLOOKUP(A84-10000,'Data eshop'!D:AD,7,FALSE))","v":""},{"$f":"IF(A84=\"\",\"\",VLOOKUP(A84-10000,'Data eshop'!D:AD,10,FALSE))","v":""},"","","",""]
[{"$f":"IFERROR(SMALL('Data eshop'!D:D,COUNTIF('Data eshop'!D:D,\"<\"&(A84-10000)))+10000,\"\")","v":""},"",{"$f":"IF(A85=\"\",\"\",IF(VLOOKUP(A85-10000,'Data eshop'!D:G,2,FALSE)=\"\",PROPER(VLOOKUP(A85-10000,'Data eshop'!D:G,3,FALSE)&\" \"&VLOOKUP(A85-10000,'Data eshop'!D:G,4,FALSE)),VLOOKUP(A85-10000,'Data eshop'!D:G,2,FALSE)&\" - \"&PROPER(VLOOKUP(A85-10000,'Data eshop'!D:G,3,FALSE)&\" \"&VLOOKUP(A85-10000,'Data eshop'!D:G,4,FALSE))))","v":""},null,{"$f":"IF(A85=\"\",\"\",VLOOKUP(A85-10000,'Data eshop'!D:AD,5,FALSE))","v":""},{"$f":"IF(A85=\"\",\"\",IF(VLOOKUP('Místa dodání'!A85-10000,'Data eshop'!D:L,8,FALSE)=\"\",IF(VLOOKUP('Místa dodání'!A85-10000,'Data eshop'!D:L,9,FALSE)=\"\",\"\",\"DIČ: \"&VLOOKUP('Místa dodání'!A85-10000,'Data eshop'!D:L,9,FALSE)),IF(VLOOKUP('Místa dodání'!A85-10000,'Data eshop'!D:L,9,FALSE)=\"\",\"\",\"DIČ: \"&VLOOKUP('Místa dodání'!A85-10000,'Data eshop'!D:L,9,FALSE)&\", \")&\"IČO: \"&VLOOKUP('Místa dodání'!A85-10000,'Data eshop'!D:L,8,FALSE)))","v":""},{"$f":"IF(A85=\"\",\"\",VLOOKUP(A85-10000,'Data eshop'!D:AD,6,FALSE))","v":""},{"$f":"IF(A85=\"\",\"\",VLOOKUP(A85-10000,'Data eshop'!D:AD,7,FALSE))","v":""},{"$f":"IF(A85=\"\",\"\",VLOOKUP(A85-10000,'Data eshop'!D:AD,10,FALSE))","v":""},"","","",""]
[{"$f":"IFERROR(SMALL('Data eshop'!D:D,COUNTIF('Data eshop'!D:D,\"<\"&(A85-10000)))+10000,\"\")","v":""},"",{"$f":"IF(A86=\"\",\"\",IF(VLOOKUP(A86-10000,'Data eshop'!D:G,2,FALSE)=\"\",PROPER(VLOOKUP(A86-10000,'Data eshop'!D:G,3,FALSE)&\" \"&VLOOKUP(A86-10000,'Data eshop'!D:G,4,FALSE)),VLOOKUP(A86-10000,'Data eshop'!D:G,2,FALSE)&\" - \"&PROPER(VLOOKUP(A86-10000,'Data eshop'!D:G,3,FALSE)&\" \"&VLOOKUP(A86-10000,'Data eshop'!D:G,4,FALSE))))","v":""},null,{"$f":"IF(A86=\"\",\"\",VLOOKUP(A86-10000,'Data eshop'!D:AD,5,FALSE))","v":""},{"$f":"IF(A86=\"\",\"\",IF(VLOOKUP('Místa dodání'!A86-10000,'Data eshop'!D:L,8,FALSE)=\"\",IF(VLOOKUP('Místa dodání'!A86-10000,'Data eshop'!D:L,9,FALSE)=\"\",\"\",\"DIČ: \"&VLOOKUP('Místa dodání'!A86-10000,'Data eshop'!D:L,9,FALSE)),IF(VLOOKUP('Místa dodání'!A86-10000,'Data eshop'!D:L,9,FALSE)=\"\",\"\",\"DIČ: \"&VLOOKUP('Místa dodání'!A86-10000,'Data eshop'!D:L,9,FALSE)&\", \")&\"IČO: \"&VLOOKUP('Místa dodání'!A86-10000,'Data eshop'!D:L,8,FALSE)))","v":""},{"$f":"IF(A86=\"\",\"\",VLOOKUP(A86-10000,'Data eshop'!D:AD,6,FALSE))","v":""},{"$f":"IF(A86=\"\",\"\",VLOOKUP(A86-10000,'Data eshop'!D:AD,7,FALSE))","v":""},{"$f":"IF(A86=\"\",\"\",VLOOKUP(A86-10000,'Data eshop'!D:AD,10,FALSE))","v":""},"","","",""]
[{"$f":"IFERROR(SMALL('Data eshop'!D:D,COUNTIF('Data eshop'!D:D,\"<\"&(A86-10000)))+10000,\"\")","v":""},"",{"$f":"IF(A87=\"\",\"\",IF(VLOOKUP(A87-10000,'Data eshop'!D:G,2,FALSE)=\"\",PROPER(VLOOKUP(A87-10000,'Data eshop'!D:G,3,FALSE)&\" \"&VLOOKUP(A87-10000,'Data eshop'!D:G,4,FALSE)),VLOOKUP(A87-10000,'Data eshop'!D:G,2,FALSE)&\" - \"&PROPER(VLOOKUP(A87-10000,'Data eshop'!D:G,3,FALSE)&\" \"&VLOOKUP(A87-10000,'Data eshop'!D:G,4,FALSE))))","v":""},null,{"$f":"IF(A87=\"\",\"\",VLOOKUP(A87-10000,'Data eshop'!D:AD,5,FALSE))","v":""},{"$f":"IF(A87=\"\",\"\",IF(VLOOKUP('Místa dodání'!A87-10000,'Data eshop'!D:L,8,FALSE)=\"\",IF(VLOOKUP('Místa dodání'!A87-10000,'Data eshop'!D:L,9,FALSE)=\"\",\"\",\"DIČ: \"&VLOOKUP('Místa dodání'!A87-10000,'Data eshop'!D:L,9,FALSE)),IF(VLOOKUP('Místa dodání'!A87-10000,'Data eshop'!D:L,9,FALSE)=\"\",\"\",\"DIČ: \"&VLOOKUP('Místa dodání'!A87-10000,'Data eshop'!D:L,9,FALSE)&\", \")&\"IČO: \"&VLOOKUP('Místa dodání'!A87-10000,'Data eshop'!D:L,8,FALSE)))","v":""},{"$f":"IF(A87=\"\",\"\",VLOOKUP(A87-10000,'Data eshop'!D:AD,6,FALSE))","v":""},{"$f":"IF(A87=\"\",\"\",VLOOKUP(A87-10000,'Data eshop'!D:AD,7,FALSE))","v":""},{"$f":"IF(A87=\"\",\"\",VLOOKUP(A87-10000,'Data eshop'!D:AD,10,FALSE))","v":""},"","","","","Roluj nahoru, až uvidíš žlutou"]
[{"$f":"IFERROR(SMALL('Data eshop'!D:D,COUNTIF('Data eshop'!D:D,\"<\"&(A87-10000)))+10000,\"\")","v":""},"",{"$f":"IF(A88=\"\",\"\",IF(VLOOKUP(A88-10000,'Data eshop'!D:G,2,FALSE)=\"\",PROPER(VLOOKUP(A88-10000,'Data eshop'!D:G,3,FALSE)&\" \"&VLOOKUP(A88-10000,'Data eshop'!D:G,4,FALSE)),VLOOKUP(A88-10000,'Data eshop'!D:G,2,FALSE)&\" - \"&PROPER(VLOOKUP(A88-10000,'Data eshop'!D:G,3,FALSE)&\" \"&VLOOKUP(A88-10000,'Data eshop'!D:G,4,FALSE))))","v":""},null,{"$f":"IF(A88=\"\",\"\",VLOOKUP(A88-10000,'Data eshop'!D:AD,5,FALSE))","v":""},{"$f":"IF(A88=\"\",\"\",IF(VLOOKUP('Místa dodání'!A88-10000,'Data eshop'!D:L,8,FALSE)=\"\",IF(VLOOKUP('Místa dodání'!A88-10000,'Data eshop'!D:L,9,FALSE)=\"\",\"\",\"DIČ: \"&VLOOKUP('Místa dodání'!A88-10000,'Data eshop'!D:L,9,FALSE)),IF(VLOOKUP('Místa dodání'!A88-10000,'Data eshop'!D:L,9,FALSE)=\"\",\"\",\"DIČ: \"&VLOOKUP('Místa dodání'!A88-10000,'Data eshop'!D:L,9,FALSE)&\", \")&\"IČO: \"&VLOOKUP('Místa dodání'!A88-10000,'Data eshop'!D:L,8,FALSE)))","v":""},{"$f":"IF(A88=\"\",\"\",VLOOKUP(A88-10000,'Data eshop'!D:AD,6,FALSE))","v":""},{"$f":"IF(A88=\"\",\"\",VLOOKUP(A88-10000,'Data eshop'!D:AD,7,FALSE))","v":""},{"$f":"IF(A88=\"\",\"\",VLOOKUP(A88-10000,'Data eshop'!D:AD,10,FALSE))","v":""},"","","",""]
[{"$f":"IFERROR(SMALL('Data eshop'!D:D,COUNTIF('Data eshop'!D:D,\"<\"&(A88-10000)))+10000,\"\")","v":""},"",{"$f":"IF(A89=\"\",\"\",IF(VLOOKUP(A89-10000,'Data eshop'!D:G,2,FALSE)=\"\",PROPER(VLOOKUP(A89-10000,'Data eshop'!D:G,3,FALSE)&\" \"&VLOOKUP(A89-10000,'Data eshop'!D:G,4,FALSE)),VLOOKUP(A89-10000,'Data eshop'!D:G,2,FALSE)&\" - \"&PROPER(VLOOKUP(A89-10000,'Data eshop'!D:G,3,FALSE)&\" \"&VLOOKUP(A89-10000,'Data eshop'!D:G,4,FALSE))))","v":""},null,{"$f":"IF(A89=\"\",\"\",VLOOKUP(A89-10000,'Data eshop'!D:AD,5,FALSE))","v":""},{"$f":"IF(A89=\"\",\"\",IF(VLOOKUP('Místa dodání'!A89-10000,'Data eshop'!D:L,8,FALSE)=\"\",IF(VLOOKUP('Místa dodání'!A89-10000,'Data eshop'!D:L,9,FALSE)=\"\",\"\",\"DIČ: \"&VLOOKUP('Místa dodání'!A89-10000,'Data eshop'!D:L,9,FALSE)),IF(VLOOKUP('Místa dodání'!A89-10000,'Data eshop'!D:L,9,FALSE)=\"\",\"\",\"DIČ: \"&VLOOKUP('Místa dodání'!A89-10000,'Data eshop'!D:L,9,FALSE)&\", \")&\"IČO: \"&VLOOKUP('Místa dodání'!A89-10000,'Data eshop'!D:L,8,FALSE)))","v":""},{"$f":"IF(A89=\"\",\"\",VLOOKUP(A89-10000,'Data eshop'!D:AD,6,FALSE))","v":""},{"$f":"IF(A89=\"\",\"\",VLOOKUP(A89-10000,'Data eshop'!D:AD,7,FALSE))","v":""},{"$f":"IF(A89=\"\",\"\",VLOOKUP(A89-10000,'Data eshop'!D:AD,10,FALSE))","v":""},"","","",""]
[{"$f":"IFERROR(SMALL('Data eshop'!D:D,COUNTIF('Data eshop'!D:D,\"<\"&(A89-10000)))+10000,\"\")","v":""},"",{"$f":"IF(A90=\"\",\"\",IF(VLOOKUP(A90-10000,'Data eshop'!D:G,2,FALSE)=\"\",PROPER(VLOOKUP(A90-10000,'Data eshop'!D:G,3,FALSE)&\" \"&VLOOKUP(A90-10000,'Data eshop'!D:G,4,FALSE)),VLOOKUP(A90-10000,'Data eshop'!D:G,2,FALSE)&\" - \"&PROPER(VLOOKUP(A90-10000,'Data eshop'!D:G,3,FALSE)&\" \"&VLOOKUP(A90-10000,'Data eshop'!D:G,4,FALSE))))","v":""},null,{"$f":"IF(A90=\"\",\"\",VLOOKUP(A90-10000,'Data eshop'!D:AD,5,FALSE))","v":""},{"$f":"IF(A90=\"\",\"\",IF(VLOOKUP('Místa dodání'!A90-10000,'Data eshop'!D:L,8,FALSE)=\"\",IF(VLOOKUP('Místa dodání'!A90-10000,'Data eshop'!D:L,9,FALSE)=\"\",\"\",\"DIČ: \"&VLOOKUP('Místa dodání'!A90-10000,'Data eshop'!D:L,9,FALSE)),IF(VLOOKUP('Místa dodání'!A90-10000,'Data eshop'!D:L,9,FALSE)=\"\",\"\",\"DIČ: \"&VLOOKUP('Místa dodání'!A90-10000,'Data eshop'!D:L,9,FALSE)&\", \")&\"IČO: \"&VLOOKUP('Místa dodání'!A90-10000,'Data eshop'!D:L,8,FALSE)))","v":""},{"$f":"IF(A90=\"\",\"\",VLOOKUP(A90-10000,'Data eshop'!D:AD,6,FALSE))","v":""},{"$f":"IF(A90=\"\",\"\",VLOOKUP(A90-10000,'Data eshop'!D:AD,7,FALSE))","v":""},{"$f":"IF(A90=\"\",\"\",VLOOKUP(A90-10000,'Data eshop'!D:AD,10,FALSE))","v":""},"","","",""]
[{"$f":"IFERROR(SMALL('Data eshop'!D:D,COUNTIF('Data eshop'!D:D,\"<\"&(A90-10000)))+10000,\"\")","v":""},"",{"$f":"IF(A91=\"\",\"\",IF(VLOOKUP(A91-10000,'Data eshop'!D:G,2,FALSE)=\"\",PROPER(VLOOKUP(A91-10000,'Data eshop'!D:G,3,FALSE)&\" \"&VLOOKUP(A91-10000,'Data eshop'!D:G,4,FALSE)),VLOOKUP(A91-10000,'Data eshop'!D:G,2,FALSE)&\" - \"&PROPER(VLOOKUP(A91-10000,'Data eshop'!D:G,3,FALSE)&\" \"&VLOOKUP(A91-10000,'Data eshop'!D:G,4,FALSE))))","v":""},null,{"$f":"IF(A91=\"\",\"\",VLOOKUP(A91-10000,'Data eshop'!D:AD,5,FALSE))","v":""},{"$f":"IF(A91=\"\",\"\",IF(VLOOKUP('Místa dodání'!A91-10000,'Data eshop'!D:L,8,FALSE)=\"\",IF(VLOOKUP('Místa dodání'!A91-10000,'Data eshop'!D:L,9,FALSE)=\"\",\"\",\"DIČ: \"&VLOOKUP('Místa dodání'!A91-10000,'Data eshop'!D:L,9,FALSE)),IF(VLOOKUP('Místa dodání'!A91-10000,'Data eshop'!D:L,9,FALSE)=\"\",\"\",\"DIČ: \"&VLOOKUP('Místa dodání'!A91-10000,'Data eshop'!D:L,9,FALSE)&\", \")&\"IČO: \"&VLOOKUP('Místa dodání'!A91-10000,'Data eshop'!D:L,8,FALSE)))","v":""},{"$f":"IF(A91=\"\",\"\",VLOOKUP(A91-10000,'Data eshop'!D:AD,6,FALSE))","v":""},{"$f":"IF(A91=\"\",\"\",VLOOKUP(A91-10000,'Data eshop'!D:AD,7,FALSE))","v":""},{"$f":"IF(A91=\"\",\"\",VLOOKUP(A91-10000,'Data eshop'!D:AD,10,FALSE))","v":""},"","","","","Roluj nahoru, až uvidíš žlutou"]
[{"$f":"IFERROR(SMALL('Data eshop'!D:D,COUNTIF('Data eshop'!D:D,\"<\"&(A91-10000)))+10000,\"\")","v":""},"",{"$f":"IF(A92=\"\",\"\",IF(VLOOKUP(A92-10000,'Data eshop'!D:G,2,FALSE)=\"\",PROPER(VLOOKUP(A92-10000,'Data eshop'!D:G,3,FALSE)&\" \"&VLOOKUP(A92-10000,'Data eshop'!D:G,4,FALSE)),VLOOKUP(A92-10000,'Data eshop'!D:G,2,FALSE)&\" - \"&PROPER(VLOOKUP(A92-10000,'Data eshop'!D:G,3,FALSE)&\" \"&VLOOKUP(A92-10000,'Data eshop'!D:G,4,FALSE))))","v":""},null,{"$f":"IF(A92=\"\",\"\",VLOOKUP(A92-10000,'Data eshop'!D:AD,5,FALSE))","v":""},{"$f":"IF(A92=\"\",\"\",IF(VLOOKUP('Místa dodání'!A92-10000,'Data eshop'!D:L,8,FALSE)=\"\",IF(VLOOKUP('Místa dodání'!A92-10000,'Data eshop'!D:L,9,FALSE)=\"\",\"\",\"DIČ: \"&VLOOKUP('Místa dodání'!A92-10000,'Data eshop'!D:L,9,FALSE)),IF(VLOOKUP('Místa dodání'!A92-10000,'Data eshop'!D:L,9,FALSE)=\"\",\"\",\"DIČ: \"&VLOOKUP('Místa dodání'!A92-10000,'Data eshop'!D:L,9,FALSE)&\", \")&\"IČO: \"&VLOOKUP('Místa dodání'!A92-10000,'Data eshop'!D:L,8,FALSE)))","v":""},{"$f":"IF(A92=\"\",\"\",VLOOKUP(A92-10000,'Data eshop'!D:AD,6,FALSE))","v":""},{"$f":"IF(A92=\"\",\"\",VLOOKUP(A92-10000,'Data eshop'!D:AD,7,FALSE))","v":""},{"$f":"IF(A92=\"\",\"\",VLOOKUP(A92-10000,'Data eshop'!D:AD,10,FALSE))","v":""},"","","",""]
[{"$f":"IFERROR(SMALL('Data eshop'!D:D,COUNTIF('Data eshop'!D:D,\"<\"&(A92-10000)))+10000,\"\")","v":""},"",{"$f":"IF(A93=\"\",\"\",IF(VLOOKUP(A93-10000,'Data eshop'!D:G,2,FALSE)=\"\",PROPER(VLOOKUP(A93-10000,'Data eshop'!D:G,3,FALSE)&\" \"&VLOOKUP(A93-10000,'Data eshop'!D:G,4,FALSE)),VLOOKUP(A93-10000,'Data eshop'!D:G,2,FALSE)&\" - \"&PROPER(VLOOKUP(A93-10000,'Data eshop'!D:G,3,FALSE)&\" \"&VLOOKUP(A93-10000,'Data eshop'!D:G,4,FALSE))))","v":""},null,{"$f":"IF(A93=\"\",\"\",VLOOKUP(A93-10000,'Data eshop'!D:AD,5,FALSE))","v":""},{"$f":"IF(A93=\"\",\"\",IF(VLOOKUP('Místa dodání'!A93-10000,'Data eshop'!D:L,8,FALSE)=\"\",IF(VLOOKUP('Místa dodání'!A93-10000,'Data eshop'!D:L,9,FALSE)=\"\",\"\",\"DIČ: \"&VLOOKUP('Místa dodání'!A93-10000,'Data eshop'!D:L,9,FALSE)),IF(VLOOKUP('Místa dodání'!A93-10000,'Data eshop'!D:L,9,FALSE)=\"\",\"\",\"DIČ: \"&VLOOKUP('Místa dodání'!A93-10000,'Data eshop'!D:L,9,FALSE)&\", \")&\"IČO: \"&VLOOKUP('Místa dodání'!A93-10000,'Data eshop'!D:L,8,FALSE)))","v":""},{"$f":"IF(A93=\"\",\"\",VLOOKUP(A93-10000,'Data eshop'!D:AD,6,FALSE))","v":""},{"$f":"IF(A93=\"\",\"\",VLOOKUP(A93-10000,'Data eshop'!D:AD,7,FALSE))","v":""},{"$f":"IF(A93=\"\",\"\",VLOOKUP(A93-10000,'Data eshop'!D:AD,10,FALSE))","v":""},"","","",""]
[{"$f":"IFERROR(SMALL('Data eshop'!D:D,COUNTIF('Data eshop'!D:D,\"<\"&(A93-10000)))+10000,\"\")","v":""},"",{"$f":"IF(A94=\"\",\"\",IF(VLOOKUP(A94-10000,'Data eshop'!D:G,2,FALSE)=\"\",PROPER(VLOOKUP(A94-10000,'Data eshop'!D:G,3,FALSE)&\" \"&VLOOKUP(A94-10000,'Data eshop'!D:G,4,FALSE)),VLOOKUP(A94-10000,'Data eshop'!D:G,2,FALSE)&\" - \"&PROPER(VLOOKUP(A94-10000,'Data eshop'!D:G,3,FALSE)&\" \"&VLOOKUP(A94-10000,'Data eshop'!D:G,4,FALSE))))","v":""},null,{"$f":"IF(A94=\"\",\"\",VLOOKUP(A94-10000,'Data eshop'!D:AD,5,FALSE))","v":""},{"$f":"IF(A94=\"\",\"\",IF(VLOOKUP('Místa dodání'!A94-10000,'Data eshop'!D:L,8,FALSE)=\"\",IF(VLOOKUP('Místa dodání'!A94-10000,'Data eshop'!D:L,9,FALSE)=\"\",\"\",\"DIČ: \"&VLOOKUP('Místa dodání'!A94-10000,'Data eshop'!D:L,9,FALSE)),IF(VLOOKUP('Místa dodání'!A94-10000,'Data eshop'!D:L,9,FALSE)=\"\",\"\",\"DIČ: \"&VLOOKUP('Místa dodání'!A94-10000,'Data eshop'!D:L,9,FALSE)&\", \")&\"IČO: \"&VLOOKUP('Místa dodání'!A94-10000,'Data eshop'!D:L,8,FALSE)))","v":""},{"$f":"IF(A94=\"\",\"\",VLOOKUP(A94-10000,'Data eshop'!D:AD,6,FALSE))","v":""},{"$f":"IF(A94=\"\",\"\",VLOOKUP(A94-10000,'Data eshop'!D:AD,7,FALSE))","v":""},{"$f":"IF(A94=\"\",\"\",VLOOKUP(A94-10000,'Data eshop'!D:AD,10,FALSE))","v":""},"","","",""]
[{"$f":"IFERROR(SMALL('Data eshop'!D:D,COUNTIF('Data eshop'!D:D,\"<\"&(A94-10000)))+10000,\"\")","v":""},"",{"$f":"IF(A95=\"\",\"\",IF(VLOOKUP(A95-10000,'Data eshop'!D:G,2,FALSE)=\"\",PROPER(VLOOKUP(A95-10000,'Data eshop'!D:G,3,FALSE)&\" \"&VLOOKUP(A95-10000,'Data eshop'!D:G,4,FALSE)),VLOOKUP(A95-10000,'Data eshop'!D:G,2,FALSE)&\" - \"&PROPER(VLOOKUP(A95-10000,'Data eshop'!D:G,3,FALSE)&\" \"&VLOOKUP(A95-10000,'Data eshop'!D:G,4,FALSE))))","v":""},null,{"$f":"IF(A95=\"\",\"\",VLOOKUP(A95-10000,'Data eshop'!D:AD,5,FALSE))","v":""},{"$f":"IF(A95=\"\",\"\",IF(VLOOKUP('Místa dodání'!A95-10000,'Data eshop'!D:L,8,FALSE)=\"\",IF(VLOOKUP('Místa dodání'!A95-10000,'Data eshop'!D:L,9,FALSE)=\"\",\"\",\"DIČ: \"&VLOOKUP('Místa dodání'!A95-10000,'Data eshop'!D:L,9,FALSE)),IF(VLOOKUP('Místa dodání'!A95-10000,'Data eshop'!D:L,9,FALSE)=\"\",\"\",\"DIČ: \"&VLOOKUP('Místa dodání'!A95-10000,'Data eshop'!D:L,9,FALSE)&\", \")&\"IČO: \"&VLOOKUP('Místa dodání'!A95-10000,'Data eshop'!D:L,8,FALSE)))","v":""},{"$f":"IF(A95=\"\",\"\",VLOOKUP(A95-10000,'Data eshop'!D:AD,6,FALSE))","v":""},{"$f":"IF(A95=\"\",\"\",VLOOKUP(A95-10000,'Data eshop'!D:AD,7,FALSE))","v":""},{"$f":"IF(A95=\"\",\"\",VLOOKUP(A95-10000,'Data eshop'!D:AD,10,FALSE))","v":""},"","","","","Roluj nahoru, až uvidíš žlutou"]
[{"$f":"IFERROR(SMALL('Data eshop'!D:D,COUNTIF('Data eshop'!D:D,\"<\"&(A95-10000)))+10000,\"\")","v":""},"",{"$f":"IF(A96=\"\",\"\",IF(VLOOKUP(A96-10000,'Data eshop'!D:G,2,FALSE)=\"\",PROPER(VLOOKUP(A96-10000,'Data eshop'!D:G,3,FALSE)&\" \"&VLOOKUP(A96-10000,'Data eshop'!D:G,4,FALSE)),VLOOKUP(A96-10000,'Data eshop'!D:G,2,FALSE)&\" - \"&PROPER(VLOOKUP(A96-10000,'Data eshop'!D:G,3,FALSE)&\" \"&VLOOKUP(A96-10000,'Data eshop'!D:G,4,FALSE))))","v":""},null,{"$f":"IF(A96=\"\",\"\",VLOOKUP(A96-10000,'Data eshop'!D:AD,5,FALSE))","v":""},{"$f":"IF(A96=\"\",\"\",IF(VLOOKUP('Místa dodání'!A96-10000,'Data eshop'!D:L,8,FALSE)=\"\",IF(VLOOKUP('Místa dodání'!A96-10000,'Data eshop'!D:L,9,FALSE)=\"\",\"\",\"DIČ: \"&VLOOKUP('Místa dodání'!A96-10000,'Data eshop'!D:L,9,FALSE)),IF(VLOOKUP('Místa dodání'!A96-10000,'Data eshop'!D:L,9,FALSE)=\"\",\"\",\"DIČ: \"&VLOOKUP('Místa dodání'!A96-10000,'Data eshop'!D:L,9,FALSE)&\", \")&\"IČO: \"&VLOOKUP('Místa dodání'!A96-10000,'Data eshop'!D:L,8,FALSE)))","v":""},{"$f":"IF(A96=\"\",\"\",VLOOKUP(A96-10000,'Data eshop'!D:AD,6,FALSE))","v":""},{"$f":"IF(A96=\"\",\"\",VLOOKUP(A96-10000,'Data eshop'!D:AD,7,FALSE))","v":""},{"$f":"IF(A96=\"\",\"\",VLOOKUP(A96-10000,'Data eshop'!D:AD,10,FALSE))","v":""},"","","",""]
[{"$f":"IFERROR(SMALL('Data eshop'!D:D,COUNTIF('Data eshop'!D:D,\"<\"&(A96-10000)))+10000,\"\")","v":""},"",{"$f":"IF(A97=\"\",\"\",IF(VLOOKUP(A97-10000,'Data eshop'!D:G,2,FALSE)=\"\",PROPER(VLOOKUP(A97-10000,'Data eshop'!D:G,3,FALSE)&\" \"&VLOOKUP(A97-10000,'Data eshop'!D:G,4,FALSE)),VLOOKUP(A97-10000,'Data eshop'!D:G,2,FALSE)&\" - \"&PROPER(VLOOKUP(A97-10000,'Data eshop'!D:G,3,FALSE)&\" \"&VLOOKUP(A97-10000,'Data eshop'!D:G,4,FALSE))))","v":""},null,{"$f":"IF(A97=\"\",\"\",VLOOKUP(A97-10000,'Data eshop'!D:AD,5,FALSE))","v":""},{"$f":"IF(A97=\"\",\"\",IF(VLOOKUP('Místa dodání'!A97-10000,'Data eshop'!D:L,8,FALSE)=\"\",IF(VLOOKUP('Místa dodání'!A97-10000,'Data eshop'!D:L,9,FALSE)=\"\",\"\",\"DIČ: \"&VLOOKUP('Místa dodání'!A97-10000,'Data eshop'!D:L,9,FALSE)),IF(VLOOKUP('Místa dodání'!A97-10000,'Data eshop'!D:L,9,FALSE)=\"\",\"\",\"DIČ: \"&VLOOKUP('Místa dodání'!A97-10000,'Data eshop'!D:L,9,FALSE)&\", \")&\"IČO: \"&VLOOKUP('Místa dodání'!A97-10000,'Data eshop'!D:L,8,FALSE)))","v":""},{"$f":"IF(A97=\"\",\"\",VLOOKUP(A97-10000,'Data eshop'!D:AD,6,FALSE))","v":""},{"$f":"IF(A97=\"\",\"\",VLOOKUP(A97-10000,'Data eshop'!D:AD,7,FALSE))","v":""},{"$f":"IF(A97=\"\",\"\",VLOOKUP(A97-10000,'Data eshop'!D:AD,10,FALSE))","v":""},"","","",""]
[{"$f":"IFERROR(SMALL('Data eshop'!D:D,COUNTIF('Data eshop'!D:D,\"<\"&(A97-10000)))+10000,\"\")","v":""},"",{"$f":"IF(A98=\"\",\"\",IF(VLOOKUP(A98-10000,'Data eshop'!D:G,2,FALSE)=\"\",PROPER(VLOOKUP(A98-10000,'Data eshop'!D:G,3,FALSE)&\" \"&VLOOKUP(A98-10000,'Data eshop'!D:G,4,FALSE)),VLOOKUP(A98-10000,'Data eshop'!D:G,2,FALSE)&\" - \"&PROPER(VLOOKUP(A98-10000,'Data eshop'!D:G,3,FALSE)&\" \"&VLOOKUP(A98-10000,'Data eshop'!D:G,4,FALSE))))","v":""},null,{"$f":"IF(A98=\"\",\"\",VLOOKUP(A98-10000,'Data eshop'!D:AD,5,FALSE))","v":""},{"$f":"IF(A98=\"\",\"\",IF(VLOOKUP('Místa dodání'!A98-10000,'Data eshop'!D:L,8,FALSE)=\"\",IF(VLOOKUP('Místa dodání'!A98-10000,'Data eshop'!D:L,9,FALSE)=\"\",\"\",\"DIČ: \"&VLOOKUP('Místa dodání'!A98-10000,'Data eshop'!D:L,9,FALSE)),IF(VLOOKUP('Místa dodání'!A98-10000,'Data eshop'!D:L,9,FALSE)=\"\",\"\",\"DIČ: \"&VLOOKUP('Místa dodání'!A98-10000,'Data eshop'!D:L,9,FALSE)&\", \")&\"IČO: \"&VLOOKUP('Místa dodání'!A98-10000,'Data eshop'!D:L,8,FALSE)))","v":""},{"$f":"IF(A98=\"\",\"\",VLOOKUP(A98-10000,'Data eshop'!D:AD,6,FALSE))","v":""},{"$f":"IF(A98=\"\",\"\",VLOOKUP(A98-10000,'Data eshop'!D:AD,7,FALSE))","v":""},{"$f":"IF(A98=\"\",\"\",VLOOKUP(A98-10000,'Data eshop'!D:AD,10,FALSE))","v":""},"","","",""]
[{"$f":"IFERROR(SMALL('Data eshop'!D:D,COUNTIF('Data eshop'!D:D,\"<\"&(A98-10000)))+10000,\"\")","v":""},"",{"$f":"IF(A99=\"\",\"\",IF(VLOOKUP(A99-10000,'Data eshop'!D:G,2,FALSE)=\"\",PROPER(VLOOKUP(A99-10000,'Data eshop'!D:G,3,FALSE)&\" \"&VLOOKUP(A99-10000,'Data eshop'!D:G,4,FALSE)),VLOOKUP(A99-10000,'Data eshop'!D:G,2,FALSE)&\" - \"&PROPER(VLOOKUP(A99-10000,'Data eshop'!D:G,3,FALSE)&\" \"&VLOOKUP(A99-10000,'Data eshop'!D:G,4,FALSE))))","v":""},null,{"$f":"IF(A99=\"\",\"\",VLOOKUP(A99-10000,'Data eshop'!D:AD,5,FALSE))","v":""},{"$f":"IF(A99=\"\",\"\",IF(VLOOKUP('Místa dodání'!A99-10000,'Data eshop'!D:L,8,FALSE)=\"\",IF(VLOOKUP('Místa dodání'!A99-10000,'Data eshop'!D:L,9,FALSE)=\"\",\"\",\"DIČ: \"&VLOOKUP('Místa dodání'!A99-10000,'Data eshop'!D:L,9,FALSE)),IF(VLOOKUP('Místa dodání'!A99-10000,'Data eshop'!D:L,9,FALSE)=\"\",\"\",\"DIČ: \"&VLOOKUP('Místa dodání'!A99-10000,'Data eshop'!D:L,9,FALSE)&\", \")&\"IČO: \"&VLOOKUP('Místa dodání'!A99-10000,'Data eshop'!D:L,8,FALSE)))","v":""},{"$f":"IF(A99=\"\",\"\",VLOOKUP(A99-10000,'Data eshop'!D:AD,6,FALSE))","v":""},{"$f":"IF(A99=\"\",\"\",VLOOKUP(A99-10000,'Data eshop'!D:AD,7,FALSE))","v":""},{"$f":"IF(A99=\"\",\"\",VLOOKUP(A99-10000,'Data eshop'!D:AD,10,FALSE))","v":""},"","","","","Roluj nahoru, až uvidíš žlutou"]
[{"$f":"IFERROR(SMALL('Data eshop'!D:D,COUNTIF('Data eshop'!D:D,\"<\"&(A99-10000)))+10000,\"\")","v":""},"",{"$f":"IF(A100=\"\",\"\",IF(VLOOKUP(A100-10000,'Data eshop'!D:G,2,FALSE)=\"\",PROPER(VLOOKUP(A100-10000,'Data eshop'!D:G,3,FALSE)&\" \"&VLOOKUP(A100-10000,'Data eshop'!D:G,4,FALSE)),VLOOKUP(A100-10000,'Data eshop'!D:G,2,FALSE)&\" - \"&PROPER(VLOOKUP(A100-10000,'Data eshop'!D:G,3,FALSE)&\" \"&VLOOKUP(A100-10000,'Data eshop'!D:G,4,FALSE))))","v":""},null,{"$f":"IF(A100=\"\",\"\",VLOOKUP(A100-10000,'Data eshop'!D:AD,5,FALSE))","v":""},{"$f":"IF(A100=\"\",\"\",IF(VLOOKUP('Místa dodání'!A100-10000,'Data eshop'!D:L,8,FALSE)=\"\",IF(VLOOKUP('Místa dodání'!A100-10000,'Data eshop'!D:L,9,FALSE)=\"\",\"\",\"DIČ: \"&VLOOKUP('Místa dodání'!A100-10000,'Data eshop'!D:L,9,FALSE)),IF(VLOOKUP('Místa dodání'!A100-10000,'Data eshop'!D:L,9,FALSE)=\"\",\"\",\"DIČ: \"&VLOOKUP('Místa dodání'!A100-10000,'Data eshop'!D:L,9,FALSE)&\", \")&\"IČO: \"&VLOOKUP('Místa dodání'!A100-10000,'Data eshop'!D:L,8,FALSE)))","v":""},{"$f":"IF(A100=\"\",\"\",VLOOKUP(A100-10000,'Data eshop'!D:AD,6,FALSE))","v":""},{"$f":"IF(A100=\"\",\"\",VLOOKUP(A100-10000,'Data eshop'!D:AD,7,FALSE))","v":""},{"$f":"IF(A100=\"\",\"\",VLOOKUP(A100-10000,'Data eshop'!D:AD,10,FALSE))","v":""},"","","",""]
[{"$f":"IFERROR(SMALL('Data eshop'!D:D,COUNTIF('Data eshop'!D:D,\"<\"&(A100-10000)))+10000,\"\")","v":""},"",{"$f":"IF(A101=\"\",\"\",IF(VLOOKUP(A101-10000,'Data eshop'!D:G,2,FALSE)=\"\",PROPER(VLOOKUP(A101-10000,'Data eshop'!D:G,3,FALSE)&\" \"&VLOOKUP(A101-10000,'Data eshop'!D:G,4,FALSE)),VLOOKUP(A101-10000,'Data eshop'!D:G,2,FALSE)&\" - \"&PROPER(VLOOKUP(A101-10000,'Data eshop'!D:G,3,FALSE)&\" \"&VLOOKUP(A101-10000,'Data eshop'!D:G,4,FALSE))))","v":""},null,{"$f":"IF(A101=\"\",\"\",VLOOKUP(A101-10000,'Data eshop'!D:AD,5,FALSE))","v":""},{"$f":"IF(A101=\"\",\"\",IF(VLOOKUP('Místa dodání'!A101-10000,'Data eshop'!D:L,8,FALSE)=\"\",IF(VLOOKUP('Místa dodání'!A101-10000,'Data eshop'!D:L,9,FALSE)=\"\",\"\",\"DIČ: \"&VLOOKUP('Místa dodání'!A101-10000,'Data eshop'!D:L,9,FALSE)),IF(VLOOKUP('Místa dodání'!A101-10000,'Data eshop'!D:L,9,FALSE)=\"\",\"\",\"DIČ: \"&VLOOKUP('Místa dodání'!A101-10000,'Data eshop'!D:L,9,FALSE)&\", \")&\"IČO: \"&VLOOKUP('Místa dodání'!A101-10000,'Data eshop'!D:L,8,FALSE)))","v":""},{"$f":"IF(A101=\"\",\"\",VLOOKUP(A101-10000,'Data eshop'!D:AD,6,FALSE))","v":""},{"$f":"IF(A101=\"\",\"\",VLOOKUP(A101-10000,'Data eshop'!D:AD,7,FALSE))","v":""},{"$f":"IF(A101=\"\",\"\",VLOOKUP(A101-10000,'Data eshop'!D:AD,10,FALSE))","v":""},"","","",""]
[{"$f":"IFERROR(SMALL('Data eshop'!D:D,COUNTIF('Data eshop'!D:D,\"<\"&(A101-10000)))+10000,\"\")","v":""},"",{"$f":"IF(A102=\"\",\"\",IF(VLOOKUP(A102-10000,'Data eshop'!D:G,2,FALSE)=\"\",PROPER(VLOOKUP(A102-10000,'Data eshop'!D:G,3,FALSE)&\" \"&VLOOKUP(A102-10000,'Data eshop'!D:G,4,FALSE)),VLOOKUP(A102-10000,'Data eshop'!D:G,2,FALSE)&\" - \"&PROPER(VLOOKUP(A102-10000,'Data eshop'!D:G,3,FALSE)&\" \"&VLOOKUP(A102-10000,'Data eshop'!D:G,4,FALSE))))","v":""},null,{"$f":"IF(A102=\"\",\"\",VLOOKUP(A102-10000,'Data eshop'!D:AD,5,FALSE))","v":""},{"$f":"IF(A102=\"\",\"\",IF(VLOOKUP('Místa dodání'!A102-10000,'Data eshop'!D:L,8,FALSE)=\"\",IF(VLOOKUP('Místa dodání'!A102-10000,'Data eshop'!D:L,9,FALSE)=\"\",\"\",\"DIČ: \"&VLOOKUP('Místa dodání'!A102-10000,'Data eshop'!D:L,9,FALSE)),IF(VLOOKUP('Místa dodání'!A102-10000,'Data eshop'!D:L,9,FALSE)=\"\",\"\",\"DIČ: \"&VLOOKUP('Místa dodání'!A102-10000,'Data eshop'!D:L,9,FALSE)&\", \")&\"IČO: \"&VLOOKUP('Místa dodání'!A102-10000,'Data eshop'!D:L,8,FALSE)))","v":""},{"$f":"IF(A102=\"\",\"\",VLOOKUP(A102-10000,'Data eshop'!D:AD,6,FALSE))","v":""},{"$f":"IF(A102=\"\",\"\",VLOOKUP(A102-10000,'Data eshop'!D:AD,7,FALSE))","v":""},{"$f":"IF(A102=\"\",\"\",VLOOKUP(A102-10000,'Data eshop'!D:AD,10,FALSE))","v":""},"","","",""]
[{"$f":"IFERROR(SMALL('Data eshop'!D:D,COUNTIF('Data eshop'!D:D,\"<\"&(A102-10000)))+10000,\"\")","v":""},"",{"$f":"IF(A103=\"\",\"\",IF(VLOOKUP(A103-10000,'Data eshop'!D:G,2,FALSE)=\"\",PROPER(VLOOKUP(A103-10000,'Data eshop'!D:G,3,FALSE)&\" \"&VLOOKUP(A103-10000,'Data eshop'!D:G,4,FALSE)),VLOOKUP(A103-10000,'Data eshop'!D:G,2,FALSE)&\" - \"&PROPER(VLOOKUP(A103-10000,'Data eshop'!D:G,3,FALSE)&\" \"&VLOOKUP(A103-10000,'Data eshop'!D:G,4,FALSE))))","v":""},null,{"$f":"IF(A103=\"\",\"\",VLOOKUP(A103-10000,'Data eshop'!D:AD,5,FALSE))","v":""},{"$f":"IF(A103=\"\",\"\",IF(VLOOKUP('Místa dodání'!A103-10000,'Data eshop'!D:L,8,FALSE)=\"\",IF(VLOOKUP('Místa dodání'!A103-10000,'Data eshop'!D:L,9,FALSE)=\"\",\"\",\"DIČ: \"&VLOOKUP('Místa dodání'!A103-10000,'Data eshop'!D:L,9,FALSE)),IF(VLOOKUP('Místa dodání'!A103-10000,'Data eshop'!D:L,9,FALSE)=\"\",\"\",\"DIČ: \"&VLOOKUP('Místa dodání'!A103-10000,'Data eshop'!D:L,9,FALSE)&\", \")&\"IČO: \"&VLOOKUP('Místa dodání'!A103-10000,'Data eshop'!D:L,8,FALSE)))","v":""},{"$f":"IF(A103=\"\",\"\",VLOOKUP(A103-10000,'Data eshop'!D:AD,6,FALSE))","v":""},{"$f":"IF(A103=\"\",\"\",VLOOKUP(A103-10000,'Data eshop'!D:AD,7,FALSE))","v":""},{"$f":"IF(A103=\"\",\"\",VLOOKUP(A103-10000,'Data eshop'!D:AD,10,FALSE))","v":""},"","","","","Roluj nahoru, až uvidíš žlutou"]
[{"$f":"IFERROR(SMALL('Data eshop'!D:D,COUNTIF('Data eshop'!D:D,\"<\"&(A103-10000)))+10000,\"\")","v":""},"",{"$f":"IF(A104=\"\",\"\",IF(VLOOKUP(A104-10000,'Data eshop'!D:G,2,FALSE)=\"\",PROPER(VLOOKUP(A104-10000,'Data eshop'!D:G,3,FALSE)&\" \"&VLOOKUP(A104-10000,'Data eshop'!D:G,4,FALSE)),VLOOKUP(A104-10000,'Data eshop'!D:G,2,FALSE)&\" - \"&PROPER(VLOOKUP(A104-10000,'Data eshop'!D:G,3,FALSE)&\" \"&VLOOKUP(A104-10000,'Data eshop'!D:G,4,FALSE))))","v":""},null,{"$f":"IF(A104=\"\",\"\",VLOOKUP(A104-10000,'Data eshop'!D:AD,5,FALSE))","v":""},{"$f":"IF(A104=\"\",\"\",IF(VLOOKUP('Místa dodání'!A104-10000,'Data eshop'!D:L,8,FALSE)=\"\",IF(VLOOKUP('Místa dodání'!A104-10000,'Data eshop'!D:L,9,FALSE)=\"\",\"\",\"DIČ: \"&VLOOKUP('Místa dodání'!A104-10000,'Data eshop'!D:L,9,FALSE)),IF(VLOOKUP('Místa dodání'!A104-10000,'Data eshop'!D:L,9,FALSE)=\"\",\"\",\"DIČ: \"&VLOOKUP('Místa dodání'!A104-10000,'Data eshop'!D:L,9,FALSE)&\", \")&\"IČO: \"&VLOOKUP('Místa dodání'!A104-10000,'Data eshop'!D:L,8,FALSE)))","v":""},{"$f":"IF(A104=\"\",\"\",VLOOKUP(A104-10000,'Data eshop'!D:AD,6,FALSE))","v":""},{"$f":"IF(A104=\"\",\"\",VLOOKUP(A104-10000,'Data eshop'!D:AD,7,FALSE))","v":""},{"$f":"IF(A104=\"\",\"\",VLOOKUP(A104-10000,'Data eshop'!D:AD,10,FALSE))","v":""},"","","",""]
[{"$f":"IFERROR(SMALL('Data eshop'!D:D,COUNTIF('Data eshop'!D:D,\"<\"&(A104-10000)))+10000,\"\")","v":""},"",{"$f":"IF(A105=\"\",\"\",IF(VLOOKUP(A105-10000,'Data eshop'!D:G,2,FALSE)=\"\",PROPER(VLOOKUP(A105-10000,'Data eshop'!D:G,3,FALSE)&\" \"&VLOOKUP(A105-10000,'Data eshop'!D:G,4,FALSE)),VLOOKUP(A105-10000,'Data eshop'!D:G,2,FALSE)&\" - \"&PROPER(VLOOKUP(A105-10000,'Data eshop'!D:G,3,FALSE)&\" \"&VLOOKUP(A105-10000,'Data eshop'!D:G,4,FALSE))))","v":""},null,{"$f":"IF(A105=\"\",\"\",VLOOKUP(A105-10000,'Data eshop'!D:AD,5,FALSE))","v":""},{"$f":"IF(A105=\"\",\"\",IF(VLOOKUP('Místa dodání'!A105-10000,'Data eshop'!D:L,8,FALSE)=\"\",IF(VLOOKUP('Místa dodání'!A105-10000,'Data eshop'!D:L,9,FALSE)=\"\",\"\",\"DIČ: \"&VLOOKUP('Místa dodání'!A105-10000,'Data eshop'!D:L,9,FALSE)),IF(VLOOKUP('Místa dodání'!A105-10000,'Data eshop'!D:L,9,FALSE)=\"\",\"\",\"DIČ: \"&VLOOKUP('Místa dodání'!A105-10000,'Data eshop'!D:L,9,FALSE)&\", \")&\"IČO: \"&VLOOKUP('Místa dodání'!A105-10000,'Data eshop'!D:L,8,FALSE)))","v":""},{"$f":"IF(A105=\"\",\"\",VLOOKUP(A105-10000,'Data eshop'!D:AD,6,FALSE))","v":""},{"$f":"IF(A105=\"\",\"\",VLOOKUP(A105-10000,'Data eshop'!D:AD,7,FALSE))","v":""},{"$f":"IF(A105=\"\",\"\",VLOOKUP(A105-10000,'Data eshop'!D:AD,10,FALSE))","v":""},"","","",""]
[{"$f":"IFERROR(SMALL('Data eshop'!D:D,COUNTIF('Data eshop'!D:D,\"<\"&(A105-10000)))+10000,\"\")","v":""},"",{"$f":"IF(A106=\"\",\"\",IF(VLOOKUP(A106-10000,'Data eshop'!D:G,2,FALSE)=\"\",PROPER(VLOOKUP(A106-10000,'Data eshop'!D:G,3,FALSE)&\" \"&VLOOKUP(A106-10000,'Data eshop'!D:G,4,FALSE)),VLOOKUP(A106-10000,'Data eshop'!D:G,2,FALSE)&\" - \"&PROPER(VLOOKUP(A106-10000,'Data eshop'!D:G,3,FALSE)&\" \"&VLOOKUP(A106-10000,'Data eshop'!D:G,4,FALSE))))","v":""},null,{"$f":"IF(A106=\"\",\"\",VLOOKUP(A106-10000,'Data eshop'!D:AD,5,FALSE))","v":""},{"$f":"IF(A106=\"\",\"\",IF(VLOOKUP('Místa dodání'!A106-10000,'Data eshop'!D:L,8,FALSE)=\"\",IF(VLOOKUP('Místa dodání'!A106-10000,'Data eshop'!D:L,9,FALSE)=\"\",\"\",\"DIČ: \"&VLOOKUP('Místa dodání'!A106-10000,'Data eshop'!D:L,9,FALSE)),IF(VLOOKUP('Místa dodání'!A106-10000,'Data eshop'!D:L,9,FALSE)=\"\",\"\",\"DIČ: \"&VLOOKUP('Místa dodání'!A106-10000,'Data eshop'!D:L,9,FALSE)&\", \")&\"IČO: \"&VLOOKUP('Místa dodání'!A106-10000,'Data eshop'!D:L,8,FALSE)))","v":""},{"$f":"IF(A106=\"\",\"\",VLOOKUP(A106-10000,'Data eshop'!D:AD,6,FALSE))","v":""},{"$f":"IF(A106=\"\",\"\",VLOOKUP(A106-10000,'Data eshop'!D:AD,7,FALSE))","v":""},{"$f":"IF(A106=\"\",\"\",VLOOKUP(A106-10000,'Data eshop'!D:AD,10,FALSE))","v":""},"","","",""]
[{"$f":"IFERROR(SMALL('Data eshop'!D:D,COUNTIF('Data eshop'!D:D,\"<\"&(A106-10000)))+10000,\"\")","v":""},"",{"$f":"IF(A107=\"\",\"\",IF(VLOOKUP(A107-10000,'Data eshop'!D:G,2,FALSE)=\"\",PROPER(VLOOKUP(A107-10000,'Data eshop'!D:G,3,FALSE)&\" \"&VLOOKUP(A107-10000,'Data eshop'!D:G,4,FALSE)),VLOOKUP(A107-10000,'Data eshop'!D:G,2,FALSE)&\" - \"&PROPER(VLOOKUP(A107-10000,'Data eshop'!D:G,3,FALSE)&\" \"&VLOOKUP(A107-10000,'Data eshop'!D:G,4,FALSE))))","v":""},null,{"$f":"IF(A107=\"\",\"\",VLOOKUP(A107-10000,'Data eshop'!D:AD,5,FALSE))","v":""},{"$f":"IF(A107=\"\",\"\",IF(VLOOKUP('Místa dodání'!A107-10000,'Data eshop'!D:L,8,FALSE)=\"\",IF(VLOOKUP('Místa dodání'!A107-10000,'Data eshop'!D:L,9,FALSE)=\"\",\"\",\"DIČ: \"&VLOOKUP('Místa dodání'!A107-10000,'Data eshop'!D:L,9,FALSE)),IF(VLOOKUP('Místa dodání'!A107-10000,'Data eshop'!D:L,9,FALSE)=\"\",\"\",\"DIČ: \"&VLOOKUP('Místa dodání'!A107-10000,'Data eshop'!D:L,9,FALSE)&\", \")&\"IČO: \"&VLOOKUP('Místa dodání'!A107-10000,'Data eshop'!D:L,8,FALSE)))","v":""},{"$f":"IF(A107=\"\",\"\",VLOOKUP(A107-10000,'Data eshop'!D:AD,6,FALSE))","v":""},{"$f":"IF(A107=\"\",\"\",VLOOKUP(A107-10000,'Data eshop'!D:AD,7,FALSE))","v":""},{"$f":"IF(A107=\"\",\"\",VLOOKUP(A107-10000,'Data eshop'!D:AD,10,FALSE))","v":""},"","","","","Roluj nahoru, až uvidíš žlutou"]
[{"$f":"IFERROR(SMALL('Data eshop'!D:D,COUNTIF('Data eshop'!D:D,\"<\"&(A107-10000)))+10000,\"\")","v":""},"",{"$f":"IF(A108=\"\",\"\",IF(VLOOKUP(A108-10000,'Data eshop'!D:G,2,FALSE)=\"\",PROPER(VLOOKUP(A108-10000,'Data eshop'!D:G,3,FALSE)&\" \"&VLOOKUP(A108-10000,'Data eshop'!D:G,4,FALSE)),VLOOKUP(A108-10000,'Data eshop'!D:G,2,FALSE)&\" - \"&PROPER(VLOOKUP(A108-10000,'Data eshop'!D:G,3,FALSE)&\" \"&VLOOKUP(A108-10000,'Data eshop'!D:G,4,FALSE))))","v":""},null,{"$f":"IF(A108=\"\",\"\",VLOOKUP(A108-10000,'Data eshop'!D:AD,5,FALSE))","v":""},{"$f":"IF(A108=\"\",\"\",IF(VLOOKUP('Místa dodání'!A108-10000,'Data eshop'!D:L,8,FALSE)=\"\",IF(VLOOKUP('Místa dodání'!A108-10000,'Data eshop'!D:L,9,FALSE)=\"\",\"\",\"DIČ: \"&VLOOKUP('Místa dodání'!A108-10000,'Data eshop'!D:L,9,FALSE)),IF(VLOOKUP('Místa dodání'!A108-10000,'Data eshop'!D:L,9,FALSE)=\"\",\"\",\"DIČ: \"&VLOOKUP('Místa dodání'!A108-10000,'Data eshop'!D:L,9,FALSE)&\", \")&\"IČO: \"&VLOOKUP('Místa dodání'!A108-10000,'Data eshop'!D:L,8,FALSE)))","v":""},{"$f":"IF(A108=\"\",\"\",VLOOKUP(A108-10000,'Data eshop'!D:AD,6,FALSE))","v":""},{"$f":"IF(A108=\"\",\"\",VLOOKUP(A108-10000,'Data eshop'!D:AD,7,FALSE))","v":""},{"$f":"IF(A108=\"\",\"\",VLOOKUP(A108-10000,'Data eshop'!D:AD,10,FALSE))","v":""},"","","",""]
[{"$f":"IFERROR(SMALL('Data eshop'!D:D,COUNTIF('Data eshop'!D:D,\"<\"&(A108-10000)))+10000,\"\")","v":""},"",{"$f":"IF(A109=\"\",\"\",IF(VLOOKUP(A109-10000,'Data eshop'!D:G,2,FALSE)=\"\",PROPER(VLOOKUP(A109-10000,'Data eshop'!D:G,3,FALSE)&\" \"&VLOOKUP(A109-10000,'Data eshop'!D:G,4,FALSE)),VLOOKUP(A109-10000,'Data eshop'!D:G,2,FALSE)&\" - \"&PROPER(VLOOKUP(A109-10000,'Data eshop'!D:G,3,FALSE)&\" \"&VLOOKUP(A109-10000,'Data eshop'!D:G,4,FALSE))))","v":""},null,{"$f":"IF(A109=\"\",\"\",VLOOKUP(A109-10000,'Data eshop'!D:AD,5,FALSE))","v":""},{"$f":"IF(A109=\"\",\"\",IF(VLOOKUP('Místa dodání'!A109-10000,'Data eshop'!D:L,8,FALSE)=\"\",IF(VLOOKUP('Místa dodání'!A109-10000,'Data eshop'!D:L,9,FALSE)=\"\",\"\",\"DIČ: \"&VLOOKUP('Místa dodání'!A109-10000,'Data eshop'!D:L,9,FALSE)),IF(VLOOKUP('Místa dodání'!A109-10000,'Data eshop'!D:L,9,FALSE)=\"\",\"\",\"DIČ: \"&VLOOKUP('Místa dodání'!A109-10000,'Data eshop'!D:L,9,FALSE)&\", \")&\"IČO: \"&VLOOKUP('Místa dodání'!A109-10000,'Data eshop'!D:L,8,FALSE)))","v":""},{"$f":"IF(A109=\"\",\"\",VLOOKUP(A109-10000,'Data eshop'!D:AD,6,FALSE))","v":""},{"$f":"IF(A109=\"\",\"\",VLOOKUP(A109-10000,'Data eshop'!D:AD,7,FALSE))","v":""},{"$f":"IF(A109=\"\",\"\",VLOOKUP(A109-10000,'Data eshop'!D:AD,10,FALSE))","v":""},"","","",""]
[{"$f":"IFERROR(SMALL('Data eshop'!D:D,COUNTIF('Data eshop'!D:D,\"<\"&(A109-10000)))+10000,\"\")","v":""},"",{"$f":"IF(A110=\"\",\"\",IF(VLOOKUP(A110-10000,'Data eshop'!D:G,2,FALSE)=\"\",PROPER(VLOOKUP(A110-10000,'Data eshop'!D:G,3,FALSE)&\" \"&VLOOKUP(A110-10000,'Data eshop'!D:G,4,FALSE)),VLOOKUP(A110-10000,'Data eshop'!D:G,2,FALSE)&\" - \"&PROPER(VLOOKUP(A110-10000,'Data eshop'!D:G,3,FALSE)&\" \"&VLOOKUP(A110-10000,'Data eshop'!D:G,4,FALSE))))","v":""},null,{"$f":"IF(A110=\"\",\"\",VLOOKUP(A110-10000,'Data eshop'!D:AD,5,FALSE))","v":""},{"$f":"IF(A110=\"\",\"\",IF(VLOOKUP('Místa dodání'!A110-10000,'Data eshop'!D:L,8,FALSE)=\"\",IF(VLOOKUP('Místa dodání'!A110-10000,'Data eshop'!D:L,9,FALSE)=\"\",\"\",\"DIČ: \"&VLOOKUP('Místa dodání'!A110-10000,'Data eshop'!D:L,9,FALSE)),IF(VLOOKUP('Místa dodání'!A110-10000,'Data eshop'!D:L,9,FALSE)=\"\",\"\",\"DIČ: \"&VLOOKUP('Místa dodání'!A110-10000,'Data eshop'!D:L,9,FALSE)&\", \")&\"IČO: \"&VLOOKUP('Místa dodání'!A110-10000,'Data eshop'!D:L,8,FALSE)))","v":""},{"$f":"IF(A110=\"\",\"\",VLOOKUP(A110-10000,'Data eshop'!D:AD,6,FALSE))","v":""},{"$f":"IF(A110=\"\",\"\",VLOOKUP(A110-10000,'Data eshop'!D:AD,7,FALSE))","v":""},{"$f":"IF(A110=\"\",\"\",VLOOKUP(A110-10000,'Data eshop'!D:AD,10,FALSE))","v":""},"","","",""]
[{"$f":"IFERROR(SMALL('Data eshop'!D:D,COUNTIF('Data eshop'!D:D,\"<\"&(A110-10000)))+10000,\"\")","v":""},"",{"$f":"IF(A111=\"\",\"\",IF(VLOOKUP(A111-10000,'Data eshop'!D:G,2,FALSE)=\"\",PROPER(VLOOKUP(A111-10000,'Data eshop'!D:G,3,FALSE)&\" \"&VLOOKUP(A111-10000,'Data eshop'!D:G,4,FALSE)),VLOOKUP(A111-10000,'Data eshop'!D:G,2,FALSE)&\" - \"&PROPER(VLOOKUP(A111-10000,'Data eshop'!D:G,3,FALSE)&\" \"&VLOOKUP(A111-10000,'Data eshop'!D:G,4,FALSE))))","v":""},null,{"$f":"IF(A111=\"\",\"\",VLOOKUP(A111-10000,'Data eshop'!D:AD,5,FALSE))","v":""},{"$f":"IF(A111=\"\",\"\",IF(VLOOKUP('Místa dodání'!A111-10000,'Data eshop'!D:L,8,FALSE)=\"\",IF(VLOOKUP('Místa dodání'!A111-10000,'Data eshop'!D:L,9,FALSE)=\"\",\"\",\"DIČ: \"&VLOOKUP('Místa dodání'!A111-10000,'Data eshop'!D:L,9,FALSE)),IF(VLOOKUP('Místa dodání'!A111-10000,'Data eshop'!D:L,9,FALSE)=\"\",\"\",\"DIČ: \"&VLOOKUP('Místa dodání'!A111-10000,'Data eshop'!D:L,9,FALSE)&\", \")&\"IČO: \"&VLOOKUP('Místa dodání'!A111-10000,'Data eshop'!D:L,8,FALSE)))","v":""},{"$f":"IF(A111=\"\",\"\",VLOOKUP(A111-10000,'Data eshop'!D:AD,6,FALSE))","v":""},{"$f":"IF(A111=\"\",\"\",VLOOKUP(A111-10000,'Data eshop'!D:AD,7,FALSE))","v":""},{"$f":"IF(A111=\"\",\"\",VLOOKUP(A111-10000,'Data eshop'!D:AD,10,FALSE))","v":""},"","","","","Roluj nahoru, až uvidíš žlutou"]
[{"$f":"IFERROR(SMALL('Data eshop'!D:D,COUNTIF('Data eshop'!D:D,\"<\"&(A111-10000)))+10000,\"\")","v":""},"",{"$f":"IF(A112=\"\",\"\",IF(VLOOKUP(A112-10000,'Data eshop'!D:G,2,FALSE)=\"\",PROPER(VLOOKUP(A112-10000,'Data eshop'!D:G,3,FALSE)&\" \"&VLOOKUP(A112-10000,'Data eshop'!D:G,4,FALSE)),VLOOKUP(A112-10000,'Data eshop'!D:G,2,FALSE)&\" - \"&PROPER(VLOOKUP(A112-10000,'Data eshop'!D:G,3,FALSE)&\" \"&VLOOKUP(A112-10000,'Data eshop'!D:G,4,FALSE))))","v":""},null,{"$f":"IF(A112=\"\",\"\",VLOOKUP(A112-10000,'Data eshop'!D:AD,5,FALSE))","v":""},{"$f":"IF(A112=\"\",\"\",IF(VLOOKUP('Místa dodání'!A112-10000,'Data eshop'!D:L,8,FALSE)=\"\",IF(VLOOKUP('Místa dodání'!A112-10000,'Data eshop'!D:L,9,FALSE)=\"\",\"\",\"DIČ: \"&VLOOKUP('Místa dodání'!A112-10000,'Data eshop'!D:L,9,FALSE)),IF(VLOOKUP('Místa dodání'!A112-10000,'Data eshop'!D:L,9,FALSE)=\"\",\"\",\"DIČ: \"&VLOOKUP('Místa dodání'!A112-10000,'Data eshop'!D:L,9,FALSE)&\", \")&\"IČO: \"&VLOOKUP('Místa dodání'!A112-10000,'Data eshop'!D:L,8,FALSE)))","v":""},{"$f":"IF(A112=\"\",\"\",VLOOKUP(A112-10000,'Data eshop'!D:AD,6,FALSE))","v":""},{"$f":"IF(A112=\"\",\"\",VLOOKUP(A112-10000,'Data eshop'!D:AD,7,FALSE))","v":""},{"$f":"IF(A112=\"\",\"\",VLOOKUP(A112-10000,'Data eshop'!D:AD,10,FALSE))","v":""},"","","",""]
[{"$f":"IFERROR(SMALL('Data eshop'!D:D,COUNTIF('Data eshop'!D:D,\"<\"&(A112-10000)))+10000,\"\")","v":""},"",{"$f":"IF(A113=\"\",\"\",IF(VLOOKUP(A113-10000,'Data eshop'!D:G,2,FALSE)=\"\",PROPER(VLOOKUP(A113-10000,'Data eshop'!D:G,3,FALSE)&\" \"&VLOOKUP(A113-10000,'Data eshop'!D:G,4,FALSE)),VLOOKUP(A113-10000,'Data eshop'!D:G,2,FALSE)&\" - \"&PROPER(VLOOKUP(A113-10000,'Data eshop'!D:G,3,FALSE)&\" \"&VLOOKUP(A113-10000,'Data eshop'!D:G,4,FALSE))))","v":""},null,{"$f":"IF(A113=\"\",\"\",VLOOKUP(A113-10000,'Data eshop'!D:AD,5,FALSE))","v":""},{"$f":"IF(A113=\"\",\"\",IF(VLOOKUP('Místa dodání'!A113-10000,'Data eshop'!D:L,8,FALSE)=\"\",IF(VLOOKUP('Místa dodání'!A113-10000,'Data eshop'!D:L,9,FALSE)=\"\",\"\",\"DIČ: \"&VLOOKUP('Místa dodání'!A113-10000,'Data eshop'!D:L,9,FALSE)),IF(VLOOKUP('Místa dodání'!A113-10000,'Data eshop'!D:L,9,FALSE)=\"\",\"\",\"DIČ: \"&VLOOKUP('Místa dodání'!A113-10000,'Data eshop'!D:L,9,FALSE)&\", \")&\"IČO: \"&VLOOKUP('Místa dodání'!A113-10000,'Data eshop'!D:L,8,FALSE)))","v":""},{"$f":"IF(A113=\"\",\"\",VLOOKUP(A113-10000,'Data eshop'!D:AD,6,FALSE))","v":""},{"$f":"IF(A113=\"\",\"\",VLOOKUP(A113-10000,'Data eshop'!D:AD,7,FALSE))","v":""},{"$f":"IF(A113=\"\",\"\",VLOOKUP(A113-10000,'Data eshop'!D:AD,10,FALSE))","v":""},"","","",""]
[{"$f":"IFERROR(SMALL('Data eshop'!D:D,COUNTIF('Data eshop'!D:D,\"<\"&(A113-10000)))+10000,\"\")","v":""},"",{"$f":"IF(A114=\"\",\"\",IF(VLOOKUP(A114-10000,'Data eshop'!D:G,2,FALSE)=\"\",PROPER(VLOOKUP(A114-10000,'Data eshop'!D:G,3,FALSE)&\" \"&VLOOKUP(A114-10000,'Data eshop'!D:G,4,FALSE)),VLOOKUP(A114-10000,'Data eshop'!D:G,2,FALSE)&\" - \"&PROPER(VLOOKUP(A114-10000,'Data eshop'!D:G,3,FALSE)&\" \"&VLOOKUP(A114-10000,'Data eshop'!D:G,4,FALSE))))","v":""},null,{"$f":"IF(A114=\"\",\"\",VLOOKUP(A114-10000,'Data eshop'!D:AD,5,FALSE))","v":""},{"$f":"IF(A114=\"\",\"\",IF(VLOOKUP('Místa dodání'!A114-10000,'Data eshop'!D:L,8,FALSE)=\"\",IF(VLOOKUP('Místa dodání'!A114-10000,'Data eshop'!D:L,9,FALSE)=\"\",\"\",\"DIČ: \"&VLOOKUP('Místa dodání'!A114-10000,'Data eshop'!D:L,9,FALSE)),IF(VLOOKUP('Místa dodání'!A114-10000,'Data eshop'!D:L,9,FALSE)=\"\",\"\",\"DIČ: \"&VLOOKUP('Místa dodání'!A114-10000,'Data eshop'!D:L,9,FALSE)&\", \")&\"IČO: \"&VLOOKUP('Místa dodání'!A114-10000,'Data eshop'!D:L,8,FALSE)))","v":""},{"$f":"IF(A114=\"\",\"\",VLOOKUP(A114-10000,'Data eshop'!D:AD,6,FALSE))","v":""},{"$f":"IF(A114=\"\",\"\",VLOOKUP(A114-10000,'Data eshop'!D:AD,7,FALSE))","v":""},{"$f":"IF(A114=\"\",\"\",VLOOKUP(A114-10000,'Data eshop'!D:AD,10,FALSE))","v":""},"","","",""]
[{"$f":"IFERROR(SMALL('Data eshop'!D:D,COUNTIF('Data eshop'!D:D,\"<\"&(A114-10000)))+10000,\"\")","v":""},"",{"$f":"IF(A115=\"\",\"\",IF(VLOOKUP(A115-10000,'Data eshop'!D:G,2,FALSE)=\"\",PROPER(VLOOKUP(A115-10000,'Data eshop'!D:G,3,FALSE)&\" \"&VLOOKUP(A115-10000,'Data eshop'!D:G,4,FALSE)),VLOOKUP(A115-10000,'Data eshop'!D:G,2,FALSE)&\" - \"&PROPER(VLOOKUP(A115-10000,'Data eshop'!D:G,3,FALSE)&\" \"&VLOOKUP(A115-10000,'Data eshop'!D:G,4,FALSE))))","v":""},null,{"$f":"IF(A115=\"\",\"\",VLOOKUP(A115-10000,'Data eshop'!D:AD,5,FALSE))","v":""},{"$f":"IF(A115=\"\",\"\",IF(VLOOKUP('Místa dodání'!A115-10000,'Data eshop'!D:L,8,FALSE)=\"\",IF(VLOOKUP('Místa dodání'!A115-10000,'Data eshop'!D:L,9,FALSE)=\"\",\"\",\"DIČ: \"&VLOOKUP('Místa dodání'!A115-10000,'Data eshop'!D:L,9,FALSE)),IF(VLOOKUP('Místa dodání'!A115-10000,'Data eshop'!D:L,9,FALSE)=\"\",\"\",\"DIČ: \"&VLOOKUP('Místa dodání'!A115-10000,'Data eshop'!D:L,9,FALSE)&\", \")&\"IČO: \"&VLOOKUP('Místa dodání'!A115-10000,'Data eshop'!D:L,8,FALSE)))","v":""},{"$f":"IF(A115=\"\",\"\",VLOOKUP(A115-10000,'Data eshop'!D:AD,6,FALSE))","v":""},{"$f":"IF(A115=\"\",\"\",VLOOKUP(A115-10000,'Data eshop'!D:AD,7,FALSE))","v":""},{"$f":"IF(A115=\"\",\"\",VLOOKUP(A115-10000,'Data eshop'!D:AD,10,FALSE))","v":""},"","","","","Roluj nahoru, až uvidíš žlutou"]
[{"$f":"IFERROR(SMALL('Data eshop'!D:D,COUNTIF('Data eshop'!D:D,\"<\"&(A115-10000)))+10000,\"\")","v":""},"",{"$f":"IF(A116=\"\",\"\",IF(VLOOKUP(A116-10000,'Data eshop'!D:G,2,FALSE)=\"\",PROPER(VLOOKUP(A116-10000,'Data eshop'!D:G,3,FALSE)&\" \"&VLOOKUP(A116-10000,'Data eshop'!D:G,4,FALSE)),VLOOKUP(A116-10000,'Data eshop'!D:G,2,FALSE)&\" - \"&PROPER(VLOOKUP(A116-10000,'Data eshop'!D:G,3,FALSE)&\" \"&VLOOKUP(A116-10000,'Data eshop'!D:G,4,FALSE))))","v":""},null,{"$f":"IF(A116=\"\",\"\",VLOOKUP(A116-10000,'Data eshop'!D:AD,5,FALSE))","v":""},{"$f":"IF(A116=\"\",\"\",IF(VLOOKUP('Místa dodání'!A116-10000,'Data eshop'!D:L,8,FALSE)=\"\",IF(VLOOKUP('Místa dodání'!A116-10000,'Data eshop'!D:L,9,FALSE)=\"\",\"\",\"DIČ: \"&VLOOKUP('Místa dodání'!A116-10000,'Data eshop'!D:L,9,FALSE)),IF(VLOOKUP('Místa dodání'!A116-10000,'Data eshop'!D:L,9,FALSE)=\"\",\"\",\"DIČ: \"&VLOOKUP('Místa dodání'!A116-10000,'Data eshop'!D:L,9,FALSE)&\", \")&\"IČO: \"&VLOOKUP('Místa dodání'!A116-10000,'Data eshop'!D:L,8,FALSE)))","v":""},{"$f":"IF(A116=\"\",\"\",VLOOKUP(A116-10000,'Data eshop'!D:AD,6,FALSE))","v":""},{"$f":"IF(A116=\"\",\"\",VLOOKUP(A116-10000,'Data eshop'!D:AD,7,FALSE))","v":""},{"$f":"IF(A116=\"\",\"\",VLOOKUP(A116-10000,'Data eshop'!D:AD,10,FALSE))","v":""},"","","",""]
[{"$f":"IFERROR(SMALL('Data eshop'!D:D,COUNTIF('Data eshop'!D:D,\"<\"&(A116-10000)))+10000,\"\")","v":""},"",{"$f":"IF(A117=\"\",\"\",IF(VLOOKUP(A117-10000,'Data eshop'!D:G,2,FALSE)=\"\",PROPER(VLOOKUP(A117-10000,'Data eshop'!D:G,3,FALSE)&\" \"&VLOOKUP(A117-10000,'Data eshop'!D:G,4,FALSE)),VLOOKUP(A117-10000,'Data eshop'!D:G,2,FALSE)&\" - \"&PROPER(VLOOKUP(A117-10000,'Data eshop'!D:G,3,FALSE)&\" \"&VLOOKUP(A117-10000,'Data eshop'!D:G,4,FALSE))))","v":""},null,{"$f":"IF(A117=\"\",\"\",VLOOKUP(A117-10000,'Data eshop'!D:AD,5,FALSE))","v":""},{"$f":"IF(A117=\"\",\"\",IF(VLOOKUP('Místa dodání'!A117-10000,'Data eshop'!D:L,8,FALSE)=\"\",IF(VLOOKUP('Místa dodání'!A117-10000,'Data eshop'!D:L,9,FALSE)=\"\",\"\",\"DIČ: \"&VLOOKUP('Místa dodání'!A117-10000,'Data eshop'!D:L,9,FALSE)),IF(VLOOKUP('Místa dodání'!A117-10000,'Data eshop'!D:L,9,FALSE)=\"\",\"\",\"DIČ: \"&VLOOKUP('Místa dodání'!A117-10000,'Data eshop'!D:L,9,FALSE)&\", \")&\"IČO: \"&VLOOKUP('Místa dodání'!A117-10000,'Data eshop'!D:L,8,FALSE)))","v":""},{"$f":"IF(A117=\"\",\"\",VLOOKUP(A117-10000,'Data eshop'!D:AD,6,FALSE))","v":""},{"$f":"IF(A117=\"\",\"\",VLOOKUP(A117-10000,'Data eshop'!D:AD,7,FALSE))","v":""},{"$f":"IF(A117=\"\",\"\",VLOOKUP(A117-10000,'Data eshop'!D:AD,10,FALSE))","v":""},"","","",""]
[{"$f":"IFERROR(SMALL('Data eshop'!D:D,COUNTIF('Data eshop'!D:D,\"<\"&(A117-10000)))+10000,\"\")","v":""},"",{"$f":"IF(A118=\"\",\"\",IF(VLOOKUP(A118-10000,'Data eshop'!D:G,2,FALSE)=\"\",PROPER(VLOOKUP(A118-10000,'Data eshop'!D:G,3,FALSE)&\" \"&VLOOKUP(A118-10000,'Data eshop'!D:G,4,FALSE)),VLOOKUP(A118-10000,'Data eshop'!D:G,2,FALSE)&\" - \"&PROPER(VLOOKUP(A118-10000,'Data eshop'!D:G,3,FALSE)&\" \"&VLOOKUP(A118-10000,'Data eshop'!D:G,4,FALSE))))","v":""},null,{"$f":"IF(A118=\"\",\"\",VLOOKUP(A118-10000,'Data eshop'!D:AD,5,FALSE))","v":""},{"$f":"IF(A118=\"\",\"\",IF(VLOOKUP('Místa dodání'!A118-10000,'Data eshop'!D:L,8,FALSE)=\"\",IF(VLOOKUP('Místa dodání'!A118-10000,'Data eshop'!D:L,9,FALSE)=\"\",\"\",\"DIČ: \"&VLOOKUP('Místa dodání'!A118-10000,'Data eshop'!D:L,9,FALSE)),IF(VLOOKUP('Místa dodání'!A118-10000,'Data eshop'!D:L,9,FALSE)=\"\",\"\",\"DIČ: \"&VLOOKUP('Místa dodání'!A118-10000,'Data eshop'!D:L,9,FALSE)&\", \")&\"IČO: \"&VLOOKUP('Místa dodání'!A118-10000,'Data eshop'!D:L,8,FALSE)))","v":""},{"$f":"IF(A118=\"\",\"\",VLOOKUP(A118-10000,'Data eshop'!D:AD,6,FALSE))","v":""},{"$f":"IF(A118=\"\",\"\",VLOOKUP(A118-10000,'Data eshop'!D:AD,7,FALSE))","v":""},{"$f":"IF(A118=\"\",\"\",VLOOKUP(A118-10000,'Data eshop'!D:AD,10,FALSE))","v":""},"","","",""]
[{"$f":"IFERROR(SMALL('Data eshop'!D:D,COUNTIF('Data eshop'!D:D,\"<\"&(A118-10000)))+10000,\"\")","v":""},"",{"$f":"IF(A119=\"\",\"\",IF(VLOOKUP(A119-10000,'Data eshop'!D:G,2,FALSE)=\"\",PROPER(VLOOKUP(A119-10000,'Data eshop'!D:G,3,FALSE)&\" \"&VLOOKUP(A119-10000,'Data eshop'!D:G,4,FALSE)),VLOOKUP(A119-10000,'Data eshop'!D:G,2,FALSE)&\" - \"&PROPER(VLOOKUP(A119-10000,'Data eshop'!D:G,3,FALSE)&\" \"&VLOOKUP(A119-10000,'Data eshop'!D:G,4,FALSE))))","v":""},null,{"$f":"IF(A119=\"\",\"\",VLOOKUP(A119-10000,'Data eshop'!D:AD,5,FALSE))","v":""},{"$f":"IF(A119=\"\",\"\",IF(VLOOKUP('Místa dodání'!A119-10000,'Data eshop'!D:L,8,FALSE)=\"\",IF(VLOOKUP('Místa dodání'!A119-10000,'Data eshop'!D:L,9,FALSE)=\"\",\"\",\"DIČ: \"&VLOOKUP('Místa dodání'!A119-10000,'Data eshop'!D:L,9,FALSE)),IF(VLOOKUP('Místa dodání'!A119-10000,'Data eshop'!D:L,9,FALSE)=\"\",\"\",\"DIČ: \"&VLOOKUP('Místa dodání'!A119-10000,'Data eshop'!D:L,9,FALSE)&\", \")&\"IČO: \"&VLOOKUP('Místa dodání'!A119-10000,'Data eshop'!D:L,8,FALSE)))","v":""},{"$f":"IF(A119=\"\",\"\",VLOOKUP(A119-10000,'Data eshop'!D:AD,6,FALSE))","v":""},{"$f":"IF(A119=\"\",\"\",VLOOKUP(A119-10000,'Data eshop'!D:AD,7,FALSE))","v":""},{"$f":"IF(A119=\"\",\"\",VLOOKUP(A119-10000,'Data eshop'!D:AD,10,FALSE))","v":""},"","","","","Roluj nahoru, až uvidíš žlutou"]
[{"$f":"IFERROR(SMALL('Data eshop'!D:D,COUNTIF('Data eshop'!D:D,\"<\"&(A119-10000)))+10000,\"\")","v":""},"",{"$f":"IF(A120=\"\",\"\",IF(VLOOKUP(A120-10000,'Data eshop'!D:G,2,FALSE)=\"\",PROPER(VLOOKUP(A120-10000,'Data eshop'!D:G,3,FALSE)&\" \"&VLOOKUP(A120-10000,'Data eshop'!D:G,4,FALSE)),VLOOKUP(A120-10000,'Data eshop'!D:G,2,FALSE)&\" - \"&PROPER(VLOOKUP(A120-10000,'Data eshop'!D:G,3,FALSE)&\" \"&VLOOKUP(A120-10000,'Data eshop'!D:G,4,FALSE))))","v":""},null,{"$f":"IF(A120=\"\",\"\",VLOOKUP(A120-10000,'Data eshop'!D:AD,5,FALSE))","v":""},{"$f":"IF(A120=\"\",\"\",IF(VLOOKUP('Místa dodání'!A120-10000,'Data eshop'!D:L,8,FALSE)=\"\",IF(VLOOKUP('Místa dodání'!A120-10000,'Data eshop'!D:L,9,FALSE)=\"\",\"\",\"DIČ: \"&VLOOKUP('Místa dodání'!A120-10000,'Data eshop'!D:L,9,FALSE)),IF(VLOOKUP('Místa dodání'!A120-10000,'Data eshop'!D:L,9,FALSE)=\"\",\"\",\"DIČ: \"&VLOOKUP('Místa dodání'!A120-10000,'Data eshop'!D:L,9,FALSE)&\", \")&\"IČO: \"&VLOOKUP('Místa dodání'!A120-10000,'Data eshop'!D:L,8,FALSE)))","v":""},{"$f":"IF(A120=\"\",\"\",VLOOKUP(A120-10000,'Data eshop'!D:AD,6,FALSE))","v":""},{"$f":"IF(A120=\"\",\"\",VLOOKUP(A120-10000,'Data eshop'!D:AD,7,FALSE))","v":""},{"$f":"IF(A120=\"\",\"\",VLOOKUP(A120-10000,'Data eshop'!D:AD,10,FALSE))","v":""},"","","",""]
[{"$f":"IFERROR(SMALL('Data eshop'!D:D,COUNTIF('Data eshop'!D:D,\"<\"&(A120-10000)))+10000,\"\")","v":""},"",{"$f":"IF(A121=\"\",\"\",IF(VLOOKUP(A121-10000,'Data eshop'!D:G,2,FALSE)=\"\",PROPER(VLOOKUP(A121-10000,'Data eshop'!D:G,3,FALSE)&\" \"&VLOOKUP(A121-10000,'Data eshop'!D:G,4,FALSE)),VLOOKUP(A121-10000,'Data eshop'!D:G,2,FALSE)&\" - \"&PROPER(VLOOKUP(A121-10000,'Data eshop'!D:G,3,FALSE)&\" \"&VLOOKUP(A121-10000,'Data eshop'!D:G,4,FALSE))))","v":""},null,{"$f":"IF(A121=\"\",\"\",VLOOKUP(A121-10000,'Data eshop'!D:AD,5,FALSE))","v":""},{"$f":"IF(A121=\"\",\"\",IF(VLOOKUP('Místa dodání'!A121-10000,'Data eshop'!D:L,8,FALSE)=\"\",IF(VLOOKUP('Místa dodání'!A121-10000,'Data eshop'!D:L,9,FALSE)=\"\",\"\",\"DIČ: \"&VLOOKUP('Místa dodání'!A121-10000,'Data eshop'!D:L,9,FALSE)),IF(VLOOKUP('Místa dodání'!A121-10000,'Data eshop'!D:L,9,FALSE)=\"\",\"\",\"DIČ: \"&VLOOKUP('Místa dodání'!A121-10000,'Data eshop'!D:L,9,FALSE)&\", \")&\"IČO: \"&VLOOKUP('Místa dodání'!A121-10000,'Data eshop'!D:L,8,FALSE)))","v":""},{"$f":"IF(A121=\"\",\"\",VLOOKUP(A121-10000,'Data eshop'!D:AD,6,FALSE))","v":""},{"$f":"IF(A121=\"\",\"\",VLOOKUP(A121-10000,'Data eshop'!D:AD,7,FALSE))","v":""},{"$f":"IF(A121=\"\",\"\",VLOOKUP(A121-10000,'Data eshop'!D:AD,10,FALSE))","v":""},"","","",""]
[{"$f":"IFERROR(SMALL('Data eshop'!D:D,COUNTIF('Data eshop'!D:D,\"<\"&(A121-10000)))+10000,\"\")","v":""},"",{"$f":"IF(A122=\"\",\"\",IF(VLOOKUP(A122-10000,'Data eshop'!D:G,2,FALSE)=\"\",PROPER(VLOOKUP(A122-10000,'Data eshop'!D:G,3,FALSE)&\" \"&VLOOKUP(A122-10000,'Data eshop'!D:G,4,FALSE)),VLOOKUP(A122-10000,'Data eshop'!D:G,2,FALSE)&\" - \"&PROPER(VLOOKUP(A122-10000,'Data eshop'!D:G,3,FALSE)&\" \"&VLOOKUP(A122-10000,'Data eshop'!D:G,4,FALSE))))","v":""},null,{"$f":"IF(A122=\"\",\"\",VLOOKUP(A122-10000,'Data eshop'!D:AD,5,FALSE))","v":""},{"$f":"IF(A122=\"\",\"\",IF(VLOOKUP('Místa dodání'!A122-10000,'Data eshop'!D:L,8,FALSE)=\"\",IF(VLOOKUP('Místa dodání'!A122-10000,'Data eshop'!D:L,9,FALSE)=\"\",\"\",\"DIČ: \"&VLOOKUP('Místa dodání'!A122-10000,'Data eshop'!D:L,9,FALSE)),IF(VLOOKUP('Místa dodání'!A122-10000,'Data eshop'!D:L,9,FALSE)=\"\",\"\",\"DIČ: \"&VLOOKUP('Místa dodání'!A122-10000,'Data eshop'!D:L,9,FALSE)&\", \")&\"IČO: \"&VLOOKUP('Místa dodání'!A122-10000,'Data eshop'!D:L,8,FALSE)))","v":""},{"$f":"IF(A122=\"\",\"\",VLOOKUP(A122-10000,'Data eshop'!D:AD,6,FALSE))","v":""},{"$f":"IF(A122=\"\",\"\",VLOOKUP(A122-10000,'Data eshop'!D:AD,7,FALSE))","v":""},{"$f":"IF(A122=\"\",\"\",VLOOKUP(A122-10000,'Data eshop'!D:AD,10,FALSE))","v":""},"","","",""]
[{"$f":"IFERROR(SMALL('Data eshop'!D:D,COUNTIF('Data eshop'!D:D,\"<\"&(A122-10000)))+10000,\"\")","v":""},"",{"$f":"IF(A123=\"\",\"\",IF(VLOOKUP(A123-10000,'Data eshop'!D:G,2,FALSE)=\"\",PROPER(VLOOKUP(A123-10000,'Data eshop'!D:G,3,FALSE)&\" \"&VLOOKUP(A123-10000,'Data eshop'!D:G,4,FALSE)),VLOOKUP(A123-10000,'Data eshop'!D:G,2,FALSE)&\" - \"&PROPER(VLOOKUP(A123-10000,'Data eshop'!D:G,3,FALSE)&\" \"&VLOOKUP(A123-10000,'Data eshop'!D:G,4,FALSE))))","v":""},null,{"$f":"IF(A123=\"\",\"\",VLOOKUP(A123-10000,'Data eshop'!D:AD,5,FALSE))","v":""},{"$f":"IF(A123=\"\",\"\",IF(VLOOKUP('Místa dodání'!A123-10000,'Data eshop'!D:L,8,FALSE)=\"\",IF(VLOOKUP('Místa dodání'!A123-10000,'Data eshop'!D:L,9,FALSE)=\"\",\"\",\"DIČ: \"&VLOOKUP('Místa dodání'!A123-10000,'Data eshop'!D:L,9,FALSE)),IF(VLOOKUP('Místa dodání'!A123-10000,'Data eshop'!D:L,9,FALSE)=\"\",\"\",\"DIČ: \"&VLOOKUP('Místa dodání'!A123-10000,'Data eshop'!D:L,9,FALSE)&\", \")&\"IČO: \"&VLOOKUP('Místa dodání'!A123-10000,'Data eshop'!D:L,8,FALSE)))","v":""},{"$f":"IF(A123=\"\",\"\",VLOOKUP(A123-10000,'Data eshop'!D:AD,6,FALSE))","v":""},{"$f":"IF(A123=\"\",\"\",VLOOKUP(A123-10000,'Data eshop'!D:AD,7,FALSE))","v":""},{"$f":"IF(A123=\"\",\"\",VLOOKUP(A123-10000,'Data eshop'!D:AD,10,FALSE))","v":""},"","","","","Roluj nahoru, až uvidíš žlutou"]
[{"$f":"IFERROR(SMALL('Data eshop'!D:D,COUNTIF('Data eshop'!D:D,\"<\"&(A123-10000)))+10000,\"\")","v":""},"",{"$f":"IF(A124=\"\",\"\",IF(VLOOKUP(A124-10000,'Data eshop'!D:G,2,FALSE)=\"\",PROPER(VLOOKUP(A124-10000,'Data eshop'!D:G,3,FALSE)&\" \"&VLOOKUP(A124-10000,'Data eshop'!D:G,4,FALSE)),VLOOKUP(A124-10000,'Data eshop'!D:G,2,FALSE)&\" - \"&PROPER(VLOOKUP(A124-10000,'Data eshop'!D:G,3,FALSE)&\" \"&VLOOKUP(A124-10000,'Data eshop'!D:G,4,FALSE))))","v":""},null,{"$f":"IF(A124=\"\",\"\",VLOOKUP(A124-10000,'Data eshop'!D:AD,5,FALSE))","v":""},{"$f":"IF(A124=\"\",\"\",IF(VLOOKUP('Místa dodání'!A124-10000,'Data eshop'!D:L,8,FALSE)=\"\",IF(VLOOKUP('Místa dodání'!A124-10000,'Data eshop'!D:L,9,FALSE)=\"\",\"\",\"DIČ: \"&VLOOKUP('Místa dodání'!A124-10000,'Data eshop'!D:L,9,FALSE)),IF(VLOOKUP('Místa dodání'!A124-10000,'Data eshop'!D:L,9,FALSE)=\"\",\"\",\"DIČ: \"&VLOOKUP('Místa dodání'!A124-10000,'Data eshop'!D:L,9,FALSE)&\", \")&\"IČO: \"&VLOOKUP('Místa dodání'!A124-10000,'Data eshop'!D:L,8,FALSE)))","v":""},{"$f":"IF(A124=\"\",\"\",VLOOKUP(A124-10000,'Data eshop'!D:AD,6,FALSE))","v":""},{"$f":"IF(A124=\"\",\"\",VLOOKUP(A124-10000,'Data eshop'!D:AD,7,FALSE))","v":""},{"$f":"IF(A124=\"\",\"\",VLOOKUP(A124-10000,'Data eshop'!D:AD,10,FALSE))","v":""},"","","",""]
[{"$f":"IFERROR(SMALL('Data eshop'!D:D,COUNTIF('Data eshop'!D:D,\"<\"&(A124-10000)))+10000,\"\")","v":""},"",{"$f":"IF(A125=\"\",\"\",IF(VLOOKUP(A125-10000,'Data eshop'!D:G,2,FALSE)=\"\",PROPER(VLOOKUP(A125-10000,'Data eshop'!D:G,3,FALSE)&\" \"&VLOOKUP(A125-10000,'Data eshop'!D:G,4,FALSE)),VLOOKUP(A125-10000,'Data eshop'!D:G,2,FALSE)&\" - \"&PROPER(VLOOKUP(A125-10000,'Data eshop'!D:G,3,FALSE)&\" \"&VLOOKUP(A125-10000,'Data eshop'!D:G,4,FALSE))))","v":""},null,{"$f":"IF(A125=\"\",\"\",VLOOKUP(A125-10000,'Data eshop'!D:AD,5,FALSE))","v":""},{"$f":"IF(A125=\"\",\"\",IF(VLOOKUP('Místa dodání'!A125-10000,'Data eshop'!D:L,8,FALSE)=\"\",IF(VLOOKUP('Místa dodání'!A125-10000,'Data eshop'!D:L,9,FALSE)=\"\",\"\",\"DIČ: \"&VLOOKUP('Místa dodání'!A125-10000,'Data eshop'!D:L,9,FALSE)),IF(VLOOKUP('Místa dodání'!A125-10000,'Data eshop'!D:L,9,FALSE)=\"\",\"\",\"DIČ: \"&VLOOKUP('Místa dodání'!A125-10000,'Data eshop'!D:L,9,FALSE)&\", \")&\"IČO: \"&VLOOKUP('Místa dodání'!A125-10000,'Data eshop'!D:L,8,FALSE)))","v":""},{"$f":"IF(A125=\"\",\"\",VLOOKUP(A125-10000,'Data eshop'!D:AD,6,FALSE))","v":""},{"$f":"IF(A125=\"\",\"\",VLOOKUP(A125-10000,'Data eshop'!D:AD,7,FALSE))","v":""},{"$f":"IF(A125=\"\",\"\",VLOOKUP(A125-10000,'Data eshop'!D:AD,10,FALSE))","v":""},"","","",""]
[{"$f":"IFERROR(SMALL('Data eshop'!D:D,COUNTIF('Data eshop'!D:D,\"<\"&(A125-10000)))+10000,\"\")","v":""},"",{"$f":"IF(A126=\"\",\"\",IF(VLOOKUP(A126-10000,'Data eshop'!D:G,2,FALSE)=\"\",PROPER(VLOOKUP(A126-10000,'Data eshop'!D:G,3,FALSE)&\" \"&VLOOKUP(A126-10000,'Data eshop'!D:G,4,FALSE)),VLOOKUP(A126-10000,'Data eshop'!D:G,2,FALSE)&\" - \"&PROPER(VLOOKUP(A126-10000,'Data eshop'!D:G,3,FALSE)&\" \"&VLOOKUP(A126-10000,'Data eshop'!D:G,4,FALSE))))","v":""},null,{"$f":"IF(A126=\"\",\"\",VLOOKUP(A126-10000,'Data eshop'!D:AD,5,FALSE))","v":""},{"$f":"IF(A126=\"\",\"\",IF(VLOOKUP('Místa dodání'!A126-10000,'Data eshop'!D:L,8,FALSE)=\"\",IF(VLOOKUP('Místa dodání'!A126-10000,'Data eshop'!D:L,9,FALSE)=\"\",\"\",\"DIČ: \"&VLOOKUP('Místa dodání'!A126-10000,'Data eshop'!D:L,9,FALSE)),IF(VLOOKUP('Místa dodání'!A126-10000,'Data eshop'!D:L,9,FALSE)=\"\",\"\",\"DIČ: \"&VLOOKUP('Místa dodání'!A126-10000,'Data eshop'!D:L,9,FALSE)&\", \")&\"IČO: \"&VLOOKUP('Místa dodání'!A126-10000,'Data eshop'!D:L,8,FALSE)))","v":""},{"$f":"IF(A126=\"\",\"\",VLOOKUP(A126-10000,'Data eshop'!D:AD,6,FALSE))","v":""},{"$f":"IF(A126=\"\",\"\",VLOOKUP(A126-10000,'Data eshop'!D:AD,7,FALSE))","v":""},{"$f":"IF(A126=\"\",\"\",VLOOKUP(A126-10000,'Data eshop'!D:AD,10,FALSE))","v":""},"","","",""]
[{"$f":"IFERROR(SMALL('Data eshop'!D:D,COUNTIF('Data eshop'!D:D,\"<\"&(A126-10000)))+10000,\"\")","v":""},"",{"$f":"IF(A127=\"\",\"\",IF(VLOOKUP(A127-10000,'Data eshop'!D:G,2,FALSE)=\"\",PROPER(VLOOKUP(A127-10000,'Data eshop'!D:G,3,FALSE)&\" \"&VLOOKUP(A127-10000,'Data eshop'!D:G,4,FALSE)),VLOOKUP(A127-10000,'Data eshop'!D:G,2,FALSE)&\" - \"&PROPER(VLOOKUP(A127-10000,'Data eshop'!D:G,3,FALSE)&\" \"&VLOOKUP(A127-10000,'Data eshop'!D:G,4,FALSE))))","v":""},null,{"$f":"IF(A127=\"\",\"\",VLOOKUP(A127-10000,'Data eshop'!D:AD,5,FALSE))","v":""},{"$f":"IF(A127=\"\",\"\",IF(VLOOKUP('Místa dodání'!A127-10000,'Data eshop'!D:L,8,FALSE)=\"\",IF(VLOOKUP('Místa dodání'!A127-10000,'Data eshop'!D:L,9,FALSE)=\"\",\"\",\"DIČ: \"&VLOOKUP('Místa dodání'!A127-10000,'Data eshop'!D:L,9,FALSE)),IF(VLOOKUP('Místa dodání'!A127-10000,'Data eshop'!D:L,9,FALSE)=\"\",\"\",\"DIČ: \"&VLOOKUP('Místa dodání'!A127-10000,'Data eshop'!D:L,9,FALSE)&\", \")&\"IČO: \"&VLOOKUP('Místa dodání'!A127-10000,'Data eshop'!D:L,8,FALSE)))","v":""},{"$f":"IF(A127=\"\",\"\",VLOOKUP(A127-10000,'Data eshop'!D:AD,6,FALSE))","v":""},{"$f":"IF(A127=\"\",\"\",VLOOKUP(A127-10000,'Data eshop'!D:AD,7,FALSE))","v":""},{"$f":"IF(A127=\"\",\"\",VLOOKUP(A127-10000,'Data eshop'!D:AD,10,FALSE))","v":""},"","","","","Roluj nahoru, až uvidíš žlutou"]
[{"$f":"IFERROR(SMALL('Data eshop'!D:D,COUNTIF('Data eshop'!D:D,\"<\"&(A127-10000)))+10000,\"\")","v":""},"",{"$f":"IF(A128=\"\",\"\",IF(VLOOKUP(A128-10000,'Data eshop'!D:G,2,FALSE)=\"\",PROPER(VLOOKUP(A128-10000,'Data eshop'!D:G,3,FALSE)&\" \"&VLOOKUP(A128-10000,'Data eshop'!D:G,4,FALSE)),VLOOKUP(A128-10000,'Data eshop'!D:G,2,FALSE)&\" - \"&PROPER(VLOOKUP(A128-10000,'Data eshop'!D:G,3,FALSE)&\" \"&VLOOKUP(A128-10000,'Data eshop'!D:G,4,FALSE))))","v":""},null,{"$f":"IF(A128=\"\",\"\",VLOOKUP(A128-10000,'Data eshop'!D:AD,5,FALSE))","v":""},{"$f":"IF(A128=\"\",\"\",IF(VLOOKUP('Místa dodání'!A128-10000,'Data eshop'!D:L,8,FALSE)=\"\",IF(VLOOKUP('Místa dodání'!A128-10000,'Data eshop'!D:L,9,FALSE)=\"\",\"\",\"DIČ: \"&VLOOKUP('Místa dodání'!A128-10000,'Data eshop'!D:L,9,FALSE)),IF(VLOOKUP('Místa dodání'!A128-10000,'Data eshop'!D:L,9,FALSE)=\"\",\"\",\"DIČ: \"&VLOOKUP('Místa dodání'!A128-10000,'Data eshop'!D:L,9,FALSE)&\", \")&\"IČO: \"&VLOOKUP('Místa dodání'!A128-10000,'Data eshop'!D:L,8,FALSE)))","v":""},{"$f":"IF(A128=\"\",\"\",VLOOKUP(A128-10000,'Data eshop'!D:AD,6,FALSE))","v":""},{"$f":"IF(A128=\"\",\"\",VLOOKUP(A128-10000,'Data eshop'!D:AD,7,FALSE))","v":""},{"$f":"IF(A128=\"\",\"\",VLOOKUP(A128-10000,'Data eshop'!D:AD,10,FALSE))","v":""},"","","",""]
[{"$f":"IFERROR(SMALL('Data eshop'!D:D,COUNTIF('Data eshop'!D:D,\"<\"&(A128-10000)))+10000,\"\")","v":""},"",{"$f":"IF(A129=\"\",\"\",IF(VLOOKUP(A129-10000,'Data eshop'!D:G,2,FALSE)=\"\",PROPER(VLOOKUP(A129-10000,'Data eshop'!D:G,3,FALSE)&\" \"&VLOOKUP(A129-10000,'Data eshop'!D:G,4,FALSE)),VLOOKUP(A129-10000,'Data eshop'!D:G,2,FALSE)&\" - \"&PROPER(VLOOKUP(A129-10000,'Data eshop'!D:G,3,FALSE)&\" \"&VLOOKUP(A129-10000,'Data eshop'!D:G,4,FALSE))))","v":""},null,{"$f":"IF(A129=\"\",\"\",VLOOKUP(A129-10000,'Data eshop'!D:AD,5,FALSE))","v":""},{"$f":"IF(A129=\"\",\"\",IF(VLOOKUP('Místa dodání'!A129-10000,'Data eshop'!D:L,8,FALSE)=\"\",IF(VLOOKUP('Místa dodání'!A129-10000,'Data eshop'!D:L,9,FALSE)=\"\",\"\",\"DIČ: \"&VLOOKUP('Místa dodání'!A129-10000,'Data eshop'!D:L,9,FALSE)),IF(VLOOKUP('Místa dodání'!A129-10000,'Data eshop'!D:L,9,FALSE)=\"\",\"\",\"DIČ: \"&VLOOKUP('Místa dodání'!A129-10000,'Data eshop'!D:L,9,FALSE)&\", \")&\"IČO: \"&VLOOKUP('Místa dodání'!A129-10000,'Data eshop'!D:L,8,FALSE)))","v":""},{"$f":"IF(A129=\"\",\"\",VLOOKUP(A129-10000,'Data eshop'!D:AD,6,FALSE))","v":""},{"$f":"IF(A129=\"\",\"\",VLOOKUP(A129-10000,'Data eshop'!D:AD,7,FALSE))","v":""},{"$f":"IF(A129=\"\",\"\",VLOOKUP(A129-10000,'Data eshop'!D:AD,10,FALSE))","v":""},"","","",""]
[{"$f":"IFERROR(SMALL('Data eshop'!D:D,COUNTIF('Data eshop'!D:D,\"<\"&(A129-10000)))+10000,\"\")","v":""},"",{"$f":"IF(A130=\"\",\"\",IF(VLOOKUP(A130-10000,'Data eshop'!D:G,2,FALSE)=\"\",PROPER(VLOOKUP(A130-10000,'Data eshop'!D:G,3,FALSE)&\" \"&VLOOKUP(A130-10000,'Data eshop'!D:G,4,FALSE)),VLOOKUP(A130-10000,'Data eshop'!D:G,2,FALSE)&\" - \"&PROPER(VLOOKUP(A130-10000,'Data eshop'!D:G,3,FALSE)&\" \"&VLOOKUP(A130-10000,'Data eshop'!D:G,4,FALSE))))","v":""},null,{"$f":"IF(A130=\"\",\"\",VLOOKUP(A130-10000,'Data eshop'!D:AD,5,FALSE))","v":""},{"$f":"IF(A130=\"\",\"\",IF(VLOOKUP('Místa dodání'!A130-10000,'Data eshop'!D:L,8,FALSE)=\"\",IF(VLOOKUP('Místa dodání'!A130-10000,'Data eshop'!D:L,9,FALSE)=\"\",\"\",\"DIČ: \"&VLOOKUP('Místa dodání'!A130-10000,'Data eshop'!D:L,9,FALSE)),IF(VLOOKUP('Místa dodání'!A130-10000,'Data eshop'!D:L,9,FALSE)=\"\",\"\",\"DIČ: \"&VLOOKUP('Místa dodání'!A130-10000,'Data eshop'!D:L,9,FALSE)&\", \")&\"IČO: \"&VLOOKUP('Místa dodání'!A130-10000,'Data eshop'!D:L,8,FALSE)))","v":""},{"$f":"IF(A130=\"\",\"\",VLOOKUP(A130-10000,'Data eshop'!D:AD,6,FALSE))","v":""},{"$f":"IF(A130=\"\",\"\",VLOOKUP(A130-10000,'Data eshop'!D:AD,7,FALSE))","v":""},{"$f":"IF(A130=\"\",\"\",VLOOKUP(A130-10000,'Data eshop'!D:AD,10,FALSE))","v":""},"","","",""]
[{"$f":"IFERROR(SMALL('Data eshop'!D:D,COUNTIF('Data eshop'!D:D,\"<\"&(A130-10000)))+10000,\"\")","v":""},"",{"$f":"IF(A131=\"\",\"\",IF(VLOOKUP(A131-10000,'Data eshop'!D:G,2,FALSE)=\"\",PROPER(VLOOKUP(A131-10000,'Data eshop'!D:G,3,FALSE)&\" \"&VLOOKUP(A131-10000,'Data eshop'!D:G,4,FALSE)),VLOOKUP(A131-10000,'Data eshop'!D:G,2,FALSE)&\" - \"&PROPER(VLOOKUP(A131-10000,'Data eshop'!D:G,3,FALSE)&\" \"&VLOOKUP(A131-10000,'Data eshop'!D:G,4,FALSE))))","v":""},null,{"$f":"IF(A131=\"\",\"\",VLOOKUP(A131-10000,'Data eshop'!D:AD,5,FALSE))","v":""},{"$f":"IF(A131=\"\",\"\",IF(VLOOKUP('Místa dodání'!A131-10000,'Data eshop'!D:L,8,FALSE)=\"\",IF(VLOOKUP('Místa dodání'!A131-10000,'Data eshop'!D:L,9,FALSE)=\"\",\"\",\"DIČ: \"&VLOOKUP('Místa dodání'!A131-10000,'Data eshop'!D:L,9,FALSE)),IF(VLOOKUP('Místa dodání'!A131-10000,'Data eshop'!D:L,9,FALSE)=\"\",\"\",\"DIČ: \"&VLOOKUP('Místa dodání'!A131-10000,'Data eshop'!D:L,9,FALSE)&\", \")&\"IČO: \"&VLOOKUP('Místa dodání'!A131-10000,'Data eshop'!D:L,8,FALSE)))","v":""},{"$f":"IF(A131=\"\",\"\",VLOOKUP(A131-10000,'Data eshop'!D:AD,6,FALSE))","v":""},{"$f":"IF(A131=\"\",\"\",VLOOKUP(A131-10000,'Data eshop'!D:AD,7,FALSE))","v":""},{"$f":"IF(A131=\"\",\"\",VLOOKUP(A131-10000,'Data eshop'!D:AD,10,FALSE))","v":""},"","","","","Roluj nahoru, až uvidíš žlutou"]
[{"$f":"IFERROR(SMALL('Data eshop'!D:D,COUNTIF('Data eshop'!D:D,\"<\"&(A131-10000)))+10000,\"\")","v":""},{"$f":"IF(I132=\"\",\"\",IF(I132=\"česká republika\",7,IF(I132=\"poland\",2,IF(I132=\"Slovakia\",87,IF(I132=\"Germany\",2695,IF(I132=\"Austria\",2695,\"\"))))))","v":""},{"$f":"IF(A132=\"\",\"\",IF(VLOOKUP(A132-10000,'Data eshop'!D:G,2,FALSE)=\"\",PROPER(VLOOKUP(A132-10000,'Data eshop'!D:G,3,FALSE)&\" \"&VLOOKUP(A132-10000,'Data eshop'!D:G,4,FALSE)),VLOOKUP(A132-10000,'Data eshop'!D:G,2,FALSE)&\" - \"&PROPER(VLOOKUP(A132-10000,'Data eshop'!D:G,3,FALSE)&\" \"&VLOOKUP(A132-10000,'Data eshop'!D:G,4,FALSE))))","v":""},null,{"$f":"IF(A132=\"\",\"\",VLOOKUP(A132-10000,'Data eshop'!D:AD,5,FALSE))","v":""},{"$f":"IF(A132=\"\",\"\",IF(VLOOKUP('Místa dodání'!A132-10000,'Data eshop'!D:L,8,FALSE)=\"\",IF(VLOOKUP('Místa dodání'!A132-10000,'Data eshop'!D:L,9,FALSE)=\"\",\"\",\"DIČ: \"&VLOOKUP('Místa dodání'!A132-10000,'Data eshop'!D:L,9,FALSE)),IF(VLOOKUP('Místa dodání'!A132-10000,'Data eshop'!D:L,9,FALSE)=\"\",\"\",\"DIČ: \"&VLOOKUP('Místa dodání'!A132-10000,'Data eshop'!D:L,9,FALSE)&\", \")&\"IČO: \"&VLOOKUP('Místa dodání'!A132-10000,'Data eshop'!D:L,8,FALSE)))","v":""},{"$f":"IF(A132=\"\",\"\",VLOOKUP(A132-10000,'Data eshop'!D:AD,6,FALSE))","v":""},{"$f":"IF(A132=\"\",\"\",VLOOKUP(A132-10000,'Data eshop'!D:AD,7,FALSE))","v":""},{"$f":"IF(A132=\"\",\"\",VLOOKUP(A132-10000,'Data eshop'!D:AD,10,FALSE))","v":""},{"$f":"IF(A132=\"\",\"\",1)","v":""},{"$f":"IF(A132=\"\",\"\",1)","v":""},{"$f":"IF(A132=\"\",\"\",\"Live\")","v":""},{"$f":"IF(A132=\"\",\"\",0)","v":""}]
[{"$f":"IFERROR(SMALL('Data eshop'!D:D,COUNTIF('Data eshop'!D:D,\"<\"&(A132-10000)))+10000,\"\")","v":""},"",{"$f":"IF(A133=\"\",\"\",IF(VLOOKUP(A133-10000,'Data eshop'!D:G,2,FALSE)=\"\",PROPER(VLOOKUP(A133-10000,'Data eshop'!D:G,3,FALSE)&\" \"&VLOOKUP(A133-10000,'Data eshop'!D:G,4,FALSE)),VLOOKUP(A133-10000,'Data eshop'!D:G,2,FALSE)&\" - \"&PROPER(VLOOKUP(A133-10000,'Data eshop'!D:G,3,FALSE)&\" \"&VLOOKUP(A133-10000,'Data eshop'!D:G,4,FALSE))))","v":""},null,{"$f":"IF(A133=\"\",\"\",VLOOKUP(A133-10000,'Data eshop'!D:AD,5,FALSE))","v":""},{"$f":"IF(A133=\"\",\"\",IF(VLOOKUP('Místa dodání'!A133-10000,'Data eshop'!D:L,8,FALSE)=\"\",IF(VLOOKUP('Místa dodání'!A133-10000,'Data eshop'!D:L,9,FALSE)=\"\",\"\",\"DIČ: \"&VLOOKUP('Místa dodání'!A133-10000,'Data eshop'!D:L,9,FALSE)),IF(VLOOKUP('Místa dodání'!A133-10000,'Data eshop'!D:L,9,FALSE)=\"\",\"\",\"DIČ: \"&VLOOKUP('Místa dodání'!A133-10000,'Data eshop'!D:L,9,FALSE)&\", \")&\"IČO: \"&VLOOKUP('Místa dodání'!A133-10000,'Data eshop'!D:L,8,FALSE)))","v":""},{"$f":"IF(A133=\"\",\"\",VLOOKUP(A133-10000,'Data eshop'!D:AD,6,FALSE))","v":""},{"$f":"IF(A133=\"\",\"\",VLOOKUP(A133-10000,'Data eshop'!D:AD,7,FALSE))","v":""},{"$f":"IF(A133=\"\",\"\",VLOOKUP(A133-10000,'Data eshop'!D:AD,10,FALSE))","v":""},"","","",""]
[{"$f":"IFERROR(SMALL('Data eshop'!D:D,COUNTIF('Data eshop'!D:D,\"<\"&(A133-10000)))+10000,\"\")","v":""},"",{"$f":"IF(A134=\"\",\"\",IF(VLOOKUP(A134-10000,'Data eshop'!D:G,2,FALSE)=\"\",PROPER(VLOOKUP(A134-10000,'Data eshop'!D:G,3,FALSE)&\" \"&VLOOKUP(A134-10000,'Data eshop'!D:G,4,FALSE)),VLOOKUP(A134-10000,'Data eshop'!D:G,2,FALSE)&\" - \"&PROPER(VLOOKUP(A134-10000,'Data eshop'!D:G,3,FALSE)&\" \"&VLOOKUP(A134-10000,'Data eshop'!D:G,4,FALSE))))","v":""},null,{"$f":"IF(A134=\"\",\"\",VLOOKUP(A134-10000,'Data eshop'!D:AD,5,FALSE))","v":""},{"$f":"IF(A134=\"\",\"\",IF(VLOOKUP('Místa dodání'!A134-10000,'Data eshop'!D:L,8,FALSE)=\"\",IF(VLOOKUP('Místa dodání'!A134-10000,'Data eshop'!D:L,9,FALSE)=\"\",\"\",\"DIČ: \"&VLOOKUP('Místa dodání'!A134-10000,'Data eshop'!D:L,9,FALSE)),IF(VLOOKUP('Místa dodání'!A134-10000,'Data eshop'!D:L,9,FALSE)=\"\",\"\",\"DIČ: \"&VLOOKUP('Místa dodání'!A134-10000,'Data eshop'!D:L,9,FALSE)&\", \")&\"IČO: \"&VLOOKUP('Místa dodání'!A134-10000,'Data eshop'!D:L,8,FALSE)))","v":""},{"$f":"IF(A134=\"\",\"\",VLOOKUP(A134-10000,'Data eshop'!D:AD,6,FALSE))","v":""},{"$f":"IF(A134=\"\",\"\",VLOOKUP(A134-10000,'Data eshop'!D:AD,7,FALSE))","v":""},{"$f":"IF(A134=\"\",\"\",VLOOKUP(A134-10000,'Data eshop'!D:AD,10,FALSE))","v":""},"","","",""]
[{"$f":"IFERROR(SMALL('Data eshop'!D:D,COUNTIF('Data eshop'!D:D,\"<\"&(A134-10000)))+10000,\"\")","v":""},"",{"$f":"IF(A135=\"\",\"\",IF(VLOOKUP(A135-10000,'Data eshop'!D:G,2,FALSE)=\"\",PROPER(VLOOKUP(A135-10000,'Data eshop'!D:G,3,FALSE)&\" \"&VLOOKUP(A135-10000,'Data eshop'!D:G,4,FALSE)),VLOOKUP(A135-10000,'Data eshop'!D:G,2,FALSE)&\" - \"&PROPER(VLOOKUP(A135-10000,'Data eshop'!D:G,3,FALSE)&\" \"&VLOOKUP(A135-10000,'Data eshop'!D:G,4,FALSE))))","v":""},null,{"$f":"IF(A135=\"\",\"\",VLOOKUP(A135-10000,'Data eshop'!D:AD,5,FALSE))","v":""},{"$f":"IF(A135=\"\",\"\",IF(VLOOKUP('Místa dodání'!A135-10000,'Data eshop'!D:L,8,FALSE)=\"\",IF(VLOOKUP('Místa dodání'!A135-10000,'Data eshop'!D:L,9,FALSE)=\"\",\"\",\"DIČ: \"&VLOOKUP('Místa dodání'!A135-10000,'Data eshop'!D:L,9,FALSE)),IF(VLOOKUP('Místa dodání'!A135-10000,'Data eshop'!D:L,9,FALSE)=\"\",\"\",\"DIČ: \"&VLOOKUP('Místa dodání'!A135-10000,'Data eshop'!D:L,9,FALSE)&\", \")&\"IČO: \"&VLOOKUP('Místa dodání'!A135-10000,'Data eshop'!D:L,8,FALSE)))","v":""},{"$f":"IF(A135=\"\",\"\",VLOOKUP(A135-10000,'Data eshop'!D:AD,6,FALSE))","v":""},{"$f":"IF(A135=\"\",\"\",VLOOKUP(A135-10000,'Data eshop'!D:AD,7,FALSE))","v":""},{"$f":"IF(A135=\"\",\"\",VLOOKUP(A135-10000,'Data eshop'!D:AD,10,FALSE))","v":""},"","","","","Roluj nahoru, až uvidíš žlutou"]
[{"$f":"IFERROR(SMALL('Data eshop'!D:D,COUNTIF('Data eshop'!D:D,\"<\"&(A135-10000)))+10000,\"\")","v":""},"",{"$f":"IF(A136=\"\",\"\",IF(VLOOKUP(A136-10000,'Data eshop'!D:G,2,FALSE)=\"\",PROPER(VLOOKUP(A136-10000,'Data eshop'!D:G,3,FALSE)&\" \"&VLOOKUP(A136-10000,'Data eshop'!D:G,4,FALSE)),VLOOKUP(A136-10000,'Data eshop'!D:G,2,FALSE)&\" - \"&PROPER(VLOOKUP(A136-10000,'Data eshop'!D:G,3,FALSE)&\" \"&VLOOKUP(A136-10000,'Data eshop'!D:G,4,FALSE))))","v":""},null,{"$f":"IF(A136=\"\",\"\",VLOOKUP(A136-10000,'Data eshop'!D:AD,5,FALSE))","v":""},{"$f":"IF(A136=\"\",\"\",IF(VLOOKUP('Místa dodání'!A136-10000,'Data eshop'!D:L,8,FALSE)=\"\",IF(VLOOKUP('Místa dodání'!A136-10000,'Data eshop'!D:L,9,FALSE)=\"\",\"\",\"DIČ: \"&VLOOKUP('Místa dodání'!A136-10000,'Data eshop'!D:L,9,FALSE)),IF(VLOOKUP('Místa dodání'!A136-10000,'Data eshop'!D:L,9,FALSE)=\"\",\"\",\"DIČ: \"&VLOOKUP('Místa dodání'!A136-10000,'Data eshop'!D:L,9,FALSE)&\", \")&\"IČO: \"&VLOOKUP('Místa dodání'!A136-10000,'Data eshop'!D:L,8,FALSE)))","v":""},{"$f":"IF(A136=\"\",\"\",VLOOKUP(A136-10000,'Data eshop'!D:AD,6,FALSE))","v":""},{"$f":"IF(A136=\"\",\"\",VLOOKUP(A136-10000,'Data eshop'!D:AD,7,FALSE))","v":""},{"$f":"IF(A136=\"\",\"\",VLOOKUP(A136-10000,'Data eshop'!D:AD,10,FALSE))","v":""},"","","",""]
[{"$f":"IFERROR(SMALL('Data eshop'!D:D,COUNTIF('Data eshop'!D:D,\"<\"&(A136-10000)))+10000,\"\")","v":""},"",{"$f":"IF(A137=\"\",\"\",IF(VLOOKUP(A137-10000,'Data eshop'!D:G,2,FALSE)=\"\",PROPER(VLOOKUP(A137-10000,'Data eshop'!D:G,3,FALSE)&\" \"&VLOOKUP(A137-10000,'Data eshop'!D:G,4,FALSE)),VLOOKUP(A137-10000,'Data eshop'!D:G,2,FALSE)&\" - \"&PROPER(VLOOKUP(A137-10000,'Data eshop'!D:G,3,FALSE)&\" \"&VLOOKUP(A137-10000,'Data eshop'!D:G,4,FALSE))))","v":""},null,{"$f":"IF(A137=\"\",\"\",VLOOKUP(A137-10000,'Data eshop'!D:AD,5,FALSE))","v":""},{"$f":"IF(A137=\"\",\"\",IF(VLOOKUP('Místa dodání'!A137-10000,'Data eshop'!D:L,8,FALSE)=\"\",IF(VLOOKUP('Místa dodání'!A137-10000,'Data eshop'!D:L,9,FALSE)=\"\",\"\",\"DIČ: \"&VLOOKUP('Místa dodání'!A137-10000,'Data eshop'!D:L,9,FALSE)),IF(VLOOKUP('Místa dodání'!A137-10000,'Data eshop'!D:L,9,FALSE)=\"\",\"\",\"DIČ: \"&VLOOKUP('Místa dodání'!A137-10000,'Data eshop'!D:L,9,FALSE)&\", \")&\"IČO: \"&VLOOKUP('Místa dodání'!A137-10000,'Data eshop'!D:L,8,FALSE)))","v":""},{"$f":"IF(A137=\"\",\"\",VLOOKUP(A137-10000,'Data eshop'!D:AD,6,FALSE))","v":""},{"$f":"IF(A137=\"\",\"\",VLOOKUP(A137-10000,'Data eshop'!D:AD,7,FALSE))","v":""},{"$f":"IF(A137=\"\",\"\",VLOOKUP(A137-10000,'Data eshop'!D:AD,10,FALSE))","v":""},"","","",""]
[{"$f":"IFERROR(SMALL('Data eshop'!D:D,COUNTIF('Data eshop'!D:D,\"<\"&(A137-10000)))+10000,\"\")","v":""},"",{"$f":"IF(A138=\"\",\"\",IF(VLOOKUP(A138-10000,'Data eshop'!D:G,2,FALSE)=\"\",PROPER(VLOOKUP(A138-10000,'Data eshop'!D:G,3,FALSE)&\" \"&VLOOKUP(A138-10000,'Data eshop'!D:G,4,FALSE)),VLOOKUP(A138-10000,'Data eshop'!D:G,2,FALSE)&\" - \"&PROPER(VLOOKUP(A138-10000,'Data eshop'!D:G,3,FALSE)&\" \"&VLOOKUP(A138-10000,'Data eshop'!D:G,4,FALSE))))","v":""},null,{"$f":"IF(A138=\"\",\"\",VLOOKUP(A138-10000,'Data eshop'!D:AD,5,FALSE))","v":""},{"$f":"IF(A138=\"\",\"\",IF(VLOOKUP('Místa dodání'!A138-10000,'Data eshop'!D:L,8,FALSE)=\"\",IF(VLOOKUP('Místa dodání'!A138-10000,'Data eshop'!D:L,9,FALSE)=\"\",\"\",\"DIČ: \"&VLOOKUP('Místa dodání'!A138-10000,'Data eshop'!D:L,9,FALSE)),IF(VLOOKUP('Místa dodání'!A138-10000,'Data eshop'!D:L,9,FALSE)=\"\",\"\",\"DIČ: \"&VLOOKUP('Místa dodání'!A138-10000,'Data eshop'!D:L,9,FALSE)&\", \")&\"IČO: \"&VLOOKUP('Místa dodání'!A138-10000,'Data eshop'!D:L,8,FALSE)))","v":""},{"$f":"IF(A138=\"\",\"\",VLOOKUP(A138-10000,'Data eshop'!D:AD,6,FALSE))","v":""},{"$f":"IF(A138=\"\",\"\",VLOOKUP(A138-10000,'Data eshop'!D:AD,7,FALSE))","v":""},{"$f":"IF(A138=\"\",\"\",VLOOKUP(A138-10000,'Data eshop'!D:AD,10,FALSE))","v":""},"","","",""]
[{"$f":"IFERROR(SMALL('Data eshop'!D:D,COUNTIF('Data eshop'!D:D,\"<\"&(A138-10000)))+10000,\"\")","v":""},"",{"$f":"IF(A139=\"\",\"\",IF(VLOOKUP(A139-10000,'Data eshop'!D:G,2,FALSE)=\"\",PROPER(VLOOKUP(A139-10000,'Data eshop'!D:G,3,FALSE)&\" \"&VLOOKUP(A139-10000,'Data eshop'!D:G,4,FALSE)),VLOOKUP(A139-10000,'Data eshop'!D:G,2,FALSE)&\" - \"&PROPER(VLOOKUP(A139-10000,'Data eshop'!D:G,3,FALSE)&\" \"&VLOOKUP(A139-10000,'Data eshop'!D:G,4,FALSE))))","v":""},null,{"$f":"IF(A139=\"\",\"\",VLOOKUP(A139-10000,'Data eshop'!D:AD,5,FALSE))","v":""},{"$f":"IF(A139=\"\",\"\",IF(VLOOKUP('Místa dodání'!A139-10000,'Data eshop'!D:L,8,FALSE)=\"\",IF(VLOOKUP('Místa dodání'!A139-10000,'Data eshop'!D:L,9,FALSE)=\"\",\"\",\"DIČ: \"&VLOOKUP('Místa dodání'!A139-10000,'Data eshop'!D:L,9,FALSE)),IF(VLOOKUP('Místa dodání'!A139-10000,'Data eshop'!D:L,9,FALSE)=\"\",\"\",\"DIČ: \"&VLOOKUP('Místa dodání'!A139-10000,'Data eshop'!D:L,9,FALSE)&\", \")&\"IČO: \"&VLOOKUP('Místa dodání'!A139-10000,'Data eshop'!D:L,8,FALSE)))","v":""},{"$f":"IF(A139=\"\",\"\",VLOOKUP(A139-10000,'Data eshop'!D:AD,6,FALSE))","v":""},{"$f":"IF(A139=\"\",\"\",VLOOKUP(A139-10000,'Data eshop'!D:AD,7,FALSE))","v":""},{"$f":"IF(A139=\"\",\"\",VLOOKUP(A139-10000,'Data eshop'!D:AD,10,FALSE))","v":""},"","","","","Roluj nahoru, až uvidíš žlutou"]
[{"$f":"IFERROR(SMALL('Data eshop'!D:D,COUNTIF('Data eshop'!D:D,\"<\"&(A139-10000)))+10000,\"\")","v":""},"",{"$f":"IF(A140=\"\",\"\",IF(VLOOKUP(A140-10000,'Data eshop'!D:G,2,FALSE)=\"\",PROPER(VLOOKUP(A140-10000,'Data eshop'!D:G,3,FALSE)&\" \"&VLOOKUP(A140-10000,'Data eshop'!D:G,4,FALSE)),VLOOKUP(A140-10000,'Data eshop'!D:G,2,FALSE)&\" - \"&PROPER(VLOOKUP(A140-10000,'Data eshop'!D:G,3,FALSE)&\" \"&VLOOKUP(A140-10000,'Data eshop'!D:G,4,FALSE))))","v":""},null,{"$f":"IF(A140=\"\",\"\",VLOOKUP(A140-10000,'Data eshop'!D:AD,5,FALSE))","v":""},{"$f":"IF(A140=\"\",\"\",IF(VLOOKUP('Místa dodání'!A140-10000,'Data eshop'!D:L,8,FALSE)=\"\",IF(VLOOKUP('Místa dodání'!A140-10000,'Data eshop'!D:L,9,FALSE)=\"\",\"\",\"DIČ: \"&VLOOKUP('Místa dodání'!A140-10000,'Data eshop'!D:L,9,FALSE)),IF(VLOOKUP('Místa dodání'!A140-10000,'Data eshop'!D:L,9,FALSE)=\"\",\"\",\"DIČ: \"&VLOOKUP('Místa dodání'!A140-10000,'Data eshop'!D:L,9,FALSE)&\", \")&\"IČO: \"&VLOOKUP('Místa dodání'!A140-10000,'Data eshop'!D:L,8,FALSE)))","v":""},{"$f":"IF(A140=\"\",\"\",VLOOKUP(A140-10000,'Data eshop'!D:AD,6,FALSE))","v":""},{"$f":"IF(A140=\"\",\"\",VLOOKUP(A140-10000,'Data eshop'!D:AD,7,FALSE))","v":""},{"$f":"IF(A140=\"\",\"\",VLOOKUP(A140-10000,'Data eshop'!D:AD,10,FALSE))","v":""},"","","",""]
[{"$f":"IFERROR(SMALL('Data eshop'!D:D,COUNTIF('Data eshop'!D:D,\"<\"&(A140-10000)))+10000,\"\")","v":""},"",{"$f":"IF(A141=\"\",\"\",IF(VLOOKUP(A141-10000,'Data eshop'!D:G,2,FALSE)=\"\",PROPER(VLOOKUP(A141-10000,'Data eshop'!D:G,3,FALSE)&\" \"&VLOOKUP(A141-10000,'Data eshop'!D:G,4,FALSE)),VLOOKUP(A141-10000,'Data eshop'!D:G,2,FALSE)&\" - \"&PROPER(VLOOKUP(A141-10000,'Data eshop'!D:G,3,FALSE)&\" \"&VLOOKUP(A141-10000,'Data eshop'!D:G,4,FALSE))))","v":""},null,{"$f":"IF(A141=\"\",\"\",VLOOKUP(A141-10000,'Data eshop'!D:AD,5,FALSE))","v":""},{"$f":"IF(A141=\"\",\"\",IF(VLOOKUP('Místa dodání'!A141-10000,'Data eshop'!D:L,8,FALSE)=\"\",IF(VLOOKUP('Místa dodání'!A141-10000,'Data eshop'!D:L,9,FALSE)=\"\",\"\",\"DIČ: \"&VLOOKUP('Místa dodání'!A141-10000,'Data eshop'!D:L,9,FALSE)),IF(VLOOKUP('Místa dodání'!A141-10000,'Data eshop'!D:L,9,FALSE)=\"\",\"\",\"DIČ: \"&VLOOKUP('Místa dodání'!A141-10000,'Data eshop'!D:L,9,FALSE)&\", \")&\"IČO: \"&VLOOKUP('Místa dodání'!A141-10000,'Data eshop'!D:L,8,FALSE)))","v":""},{"$f":"IF(A141=\"\",\"\",VLOOKUP(A141-10000,'Data eshop'!D:AD,6,FALSE))","v":""},{"$f":"IF(A141=\"\",\"\",VLOOKUP(A141-10000,'Data eshop'!D:AD,7,FALSE))","v":""},{"$f":"IF(A141=\"\",\"\",VLOOKUP(A141-10000,'Data eshop'!D:AD,10,FALSE))","v":""},"","","",""]
[{"$f":"IFERROR(SMALL('Data eshop'!D:D,COUNTIF('Data eshop'!D:D,\"<\"&(A141-10000)))+10000,\"\")","v":""},"",{"$f":"IF(A142=\"\",\"\",IF(VLOOKUP(A142-10000,'Data eshop'!D:G,2,FALSE)=\"\",PROPER(VLOOKUP(A142-10000,'Data eshop'!D:G,3,FALSE)&\" \"&VLOOKUP(A142-10000,'Data eshop'!D:G,4,FALSE)),VLOOKUP(A142-10000,'Data eshop'!D:G,2,FALSE)&\" - \"&PROPER(VLOOKUP(A142-10000,'Data eshop'!D:G,3,FALSE)&\" \"&VLOOKUP(A142-10000,'Data eshop'!D:G,4,FALSE))))","v":""},null,{"$f":"IF(A142=\"\",\"\",VLOOKUP(A142-10000,'Data eshop'!D:AD,5,FALSE))","v":""},{"$f":"IF(A142=\"\",\"\",IF(VLOOKUP('Místa dodání'!A142-10000,'Data eshop'!D:L,8,FALSE)=\"\",IF(VLOOKUP('Místa dodání'!A142-10000,'Data eshop'!D:L,9,FALSE)=\"\",\"\",\"DIČ: \"&VLOOKUP('Místa dodání'!A142-10000,'Data eshop'!D:L,9,FALSE)),IF(VLOOKUP('Místa dodání'!A142-10000,'Data eshop'!D:L,9,FALSE)=\"\",\"\",\"DIČ: \"&VLOOKUP('Místa dodání'!A142-10000,'Data eshop'!D:L,9,FALSE)&\", \")&\"IČO: \"&VLOOKUP('Místa dodání'!A142-10000,'Data eshop'!D:L,8,FALSE)))","v":""},{"$f":"IF(A142=\"\",\"\",VLOOKUP(A142-10000,'Data eshop'!D:AD,6,FALSE))","v":""},{"$f":"IF(A142=\"\",\"\",VLOOKUP(A142-10000,'Data eshop'!D:AD,7,FALSE))","v":""},{"$f":"IF(A142=\"\",\"\",VLOOKUP(A142-10000,'Data eshop'!D:AD,10,FALSE))","v":""},"","","",""]
[{"$f":"IFERROR(SMALL('Data eshop'!D:D,COUNTIF('Data eshop'!D:D,\"<\"&(A142-10000)))+10000,\"\")","v":""},"",{"$f":"IF(A143=\"\",\"\",IF(VLOOKUP(A143-10000,'Data eshop'!D:G,2,FALSE)=\"\",PROPER(VLOOKUP(A143-10000,'Data eshop'!D:G,3,FALSE)&\" \"&VLOOKUP(A143-10000,'Data eshop'!D:G,4,FALSE)),VLOOKUP(A143-10000,'Data eshop'!D:G,2,FALSE)&\" - \"&PROPER(VLOOKUP(A143-10000,'Data eshop'!D:G,3,FALSE)&\" \"&VLOOKUP(A143-10000,'Data eshop'!D:G,4,FALSE))))","v":""},null,{"$f":"IF(A143=\"\",\"\",VLOOKUP(A143-10000,'Data eshop'!D:AD,5,FALSE))","v":""},{"$f":"IF(A143=\"\",\"\",IF(VLOOKUP('Místa dodání'!A143-10000,'Data eshop'!D:L,8,FALSE)=\"\",IF(VLOOKUP('Místa dodání'!A143-10000,'Data eshop'!D:L,9,FALSE)=\"\",\"\",\"DIČ: \"&VLOOKUP('Místa dodání'!A143-10000,'Data eshop'!D:L,9,FALSE)),IF(VLOOKUP('Místa dodání'!A143-10000,'Data eshop'!D:L,9,FALSE)=\"\",\"\",\"DIČ: \"&VLOOKUP('Místa dodání'!A143-10000,'Data eshop'!D:L,9,FALSE)&\", \")&\"IČO: \"&VLOOKUP('Místa dodání'!A143-10000,'Data eshop'!D:L,8,FALSE)))","v":""},{"$f":"IF(A143=\"\",\"\",VLOOKUP(A143-10000,'Data eshop'!D:AD,6,FALSE))","v":""},{"$f":"IF(A143=\"\",\"\",VLOOKUP(A143-10000,'Data eshop'!D:AD,7,FALSE))","v":""},{"$f":"IF(A143=\"\",\"\",VLOOKUP(A143-10000,'Data eshop'!D:AD,10,FALSE))","v":""},"","","","","Roluj nahoru, až uvidíš žlutou"]
[{"$f":"IFERROR(SMALL('Data eshop'!D:D,COUNTIF('Data eshop'!D:D,\"<\"&(A143-10000)))+10000,\"\")","v":""},"",{"$f":"IF(A144=\"\",\"\",IF(VLOOKUP(A144-10000,'Data eshop'!D:G,2,FALSE)=\"\",PROPER(VLOOKUP(A144-10000,'Data eshop'!D:G,3,FALSE)&\" \"&VLOOKUP(A144-10000,'Data eshop'!D:G,4,FALSE)),VLOOKUP(A144-10000,'Data eshop'!D:G,2,FALSE)&\" - \"&PROPER(VLOOKUP(A144-10000,'Data eshop'!D:G,3,FALSE)&\" \"&VLOOKUP(A144-10000,'Data eshop'!D:G,4,FALSE))))","v":""},null,{"$f":"IF(A144=\"\",\"\",VLOOKUP(A144-10000,'Data eshop'!D:AD,5,FALSE))","v":""},{"$f":"IF(A144=\"\",\"\",IF(VLOOKUP('Místa dodání'!A144-10000,'Data eshop'!D:L,8,FALSE)=\"\",IF(VLOOKUP('Místa dodání'!A144-10000,'Data eshop'!D:L,9,FALSE)=\"\",\"\",\"DIČ: \"&VLOOKUP('Místa dodání'!A144-10000,'Data eshop'!D:L,9,FALSE)),IF(VLOOKUP('Místa dodání'!A144-10000,'Data eshop'!D:L,9,FALSE)=\"\",\"\",\"DIČ: \"&VLOOKUP('Místa dodání'!A144-10000,'Data eshop'!D:L,9,FALSE)&\", \")&\"IČO: \"&VLOOKUP('Místa dodání'!A144-10000,'Data eshop'!D:L,8,FALSE)))","v":""},{"$f":"IF(A144=\"\",\"\",VLOOKUP(A144-10000,'Data eshop'!D:AD,6,FALSE))","v":""},{"$f":"IF(A144=\"\",\"\",VLOOKUP(A144-10000,'Data eshop'!D:AD,7,FALSE))","v":""},{"$f":"IF(A144=\"\",\"\",VLOOKUP(A144-10000,'Data eshop'!D:AD,10,FALSE))","v":""},"","","",""]
[{"$f":"IFERROR(SMALL('Data eshop'!D:D,COUNTIF('Data eshop'!D:D,\"<\"&(A144-10000)))+10000,\"\")","v":""},"",{"$f":"IF(A145=\"\",\"\",IF(VLOOKUP(A145-10000,'Data eshop'!D:G,2,FALSE)=\"\",PROPER(VLOOKUP(A145-10000,'Data eshop'!D:G,3,FALSE)&\" \"&VLOOKUP(A145-10000,'Data eshop'!D:G,4,FALSE)),VLOOKUP(A145-10000,'Data eshop'!D:G,2,FALSE)&\" - \"&PROPER(VLOOKUP(A145-10000,'Data eshop'!D:G,3,FALSE)&\" \"&VLOOKUP(A145-10000,'Data eshop'!D:G,4,FALSE))))","v":""},null,{"$f":"IF(A145=\"\",\"\",VLOOKUP(A145-10000,'Data eshop'!D:AD,5,FALSE))","v":""},{"$f":"IF(A145=\"\",\"\",IF(VLOOKUP('Místa dodání'!A145-10000,'Data eshop'!D:L,8,FALSE)=\"\",IF(VLOOKUP('Místa dodání'!A145-10000,'Data eshop'!D:L,9,FALSE)=\"\",\"\",\"DIČ: \"&VLOOKUP('Místa dodání'!A145-10000,'Data eshop'!D:L,9,FALSE)),IF(VLOOKUP('Místa dodání'!A145-10000,'Data eshop'!D:L,9,FALSE)=\"\",\"\",\"DIČ: \"&VLOOKUP('Místa dodání'!A145-10000,'Data eshop'!D:L,9,FALSE)&\", \")&\"IČO: \"&VLOOKUP('Místa dodání'!A145-10000,'Data eshop'!D:L,8,FALSE)))","v":""},{"$f":"IF(A145=\"\",\"\",VLOOKUP(A145-10000,'Data eshop'!D:AD,6,FALSE))","v":""},{"$f":"IF(A145=\"\",\"\",VLOOKUP(A145-10000,'Data eshop'!D:AD,7,FALSE))","v":""},{"$f":"IF(A145=\"\",\"\",VLOOKUP(A145-10000,'Data eshop'!D:AD,10,FALSE))","v":""},"","","",""]
[{"$f":"IFERROR(SMALL('Data eshop'!D:D,COUNTIF('Data eshop'!D:D,\"<\"&(A145-10000)))+10000,\"\")","v":""},"",{"$f":"IF(A146=\"\",\"\",IF(VLOOKUP(A146-10000,'Data eshop'!D:G,2,FALSE)=\"\",PROPER(VLOOKUP(A146-10000,'Data eshop'!D:G,3,FALSE)&\" \"&VLOOKUP(A146-10000,'Data eshop'!D:G,4,FALSE)),VLOOKUP(A146-10000,'Data eshop'!D:G,2,FALSE)&\" - \"&PROPER(VLOOKUP(A146-10000,'Data eshop'!D:G,3,FALSE)&\" \"&VLOOKUP(A146-10000,'Data eshop'!D:G,4,FALSE))))","v":""},null,{"$f":"IF(A146=\"\",\"\",VLOOKUP(A146-10000,'Data eshop'!D:AD,5,FALSE))","v":""},{"$f":"IF(A146=\"\",\"\",IF(VLOOKUP('Místa dodání'!A146-10000,'Data eshop'!D:L,8,FALSE)=\"\",IF(VLOOKUP('Místa dodání'!A146-10000,'Data eshop'!D:L,9,FALSE)=\"\",\"\",\"DIČ: \"&VLOOKUP('Místa dodání'!A146-10000,'Data eshop'!D:L,9,FALSE)),IF(VLOOKUP('Místa dodání'!A146-10000,'Data eshop'!D:L,9,FALSE)=\"\",\"\",\"DIČ: \"&VLOOKUP('Místa dodání'!A146-10000,'Data eshop'!D:L,9,FALSE)&\", \")&\"IČO: \"&VLOOKUP('Místa dodání'!A146-10000,'Data eshop'!D:L,8,FALSE)))","v":""},{"$f":"IF(A146=\"\",\"\",VLOOKUP(A146-10000,'Data eshop'!D:AD,6,FALSE))","v":""},{"$f":"IF(A146=\"\",\"\",VLOOKUP(A146-10000,'Data eshop'!D:AD,7,FALSE))","v":""},{"$f":"IF(A146=\"\",\"\",VLOOKUP(A146-10000,'Data eshop'!D:AD,10,FALSE))","v":""},"","","",""]
[{"$f":"IFERROR(SMALL('Data eshop'!D:D,COUNTIF('Data eshop'!D:D,\"<\"&(A146-10000)))+10000,\"\")","v":""},"",{"$f":"IF(A147=\"\",\"\",IF(VLOOKUP(A147-10000,'Data eshop'!D:G,2,FALSE)=\"\",PROPER(VLOOKUP(A147-10000,'Data eshop'!D:G,3,FALSE)&\" \"&VLOOKUP(A147-10000,'Data eshop'!D:G,4,FALSE)),VLOOKUP(A147-10000,'Data eshop'!D:G,2,FALSE)&\" - \"&PROPER(VLOOKUP(A147-10000,'Data eshop'!D:G,3,FALSE)&\" \"&VLOOKUP(A147-10000,'Data eshop'!D:G,4,FALSE))))","v":""},null,{"$f":"IF(A147=\"\",\"\",VLOOKUP(A147-10000,'Data eshop'!D:AD,5,FALSE))","v":""},{"$f":"IF(A147=\"\",\"\",IF(VLOOKUP('Místa dodání'!A147-10000,'Data eshop'!D:L,8,FALSE)=\"\",IF(VLOOKUP('Místa dodání'!A147-10000,'Data eshop'!D:L,9,FALSE)=\"\",\"\",\"DIČ: \"&VLOOKUP('Místa dodání'!A147-10000,'Data eshop'!D:L,9,FALSE)),IF(VLOOKUP('Místa dodání'!A147-10000,'Data eshop'!D:L,9,FALSE)=\"\",\"\",\"DIČ: \"&VLOOKUP('Místa dodání'!A147-10000,'Data eshop'!D:L,9,FALSE)&\", \")&\"IČO: \"&VLOOKUP('Místa dodání'!A147-10000,'Data eshop'!D:L,8,FALSE)))","v":""},{"$f":"IF(A147=\"\",\"\",VLOOKUP(A147-10000,'Data eshop'!D:AD,6,FALSE))","v":""},{"$f":"IF(A147=\"\",\"\",VLOOKUP(A147-10000,'Data eshop'!D:AD,7,FALSE))","v":""},{"$f":"IF(A147=\"\",\"\",VLOOKUP(A147-10000,'Data eshop'!D:AD,10,FALSE))","v":""},"","","","","Roluj nahoru, až uvidíš žlutou"]
[{"$f":"IFERROR(SMALL('Data eshop'!D:D,COUNTIF('Data eshop'!D:D,\"<\"&(A147-10000)))+10000,\"\")","v":""},"",{"$f":"IF(A148=\"\",\"\",IF(VLOOKUP(A148-10000,'Data eshop'!D:G,2,FALSE)=\"\",PROPER(VLOOKUP(A148-10000,'Data eshop'!D:G,3,FALSE)&\" \"&VLOOKUP(A148-10000,'Data eshop'!D:G,4,FALSE)),VLOOKUP(A148-10000,'Data eshop'!D:G,2,FALSE)&\" - \"&PROPER(VLOOKUP(A148-10000,'Data eshop'!D:G,3,FALSE)&\" \"&VLOOKUP(A148-10000,'Data eshop'!D:G,4,FALSE))))","v":""},null,{"$f":"IF(A148=\"\",\"\",VLOOKUP(A148-10000,'Data eshop'!D:AD,5,FALSE))","v":""},{"$f":"IF(A148=\"\",\"\",IF(VLOOKUP('Místa dodání'!A148-10000,'Data eshop'!D:L,8,FALSE)=\"\",IF(VLOOKUP('Místa dodání'!A148-10000,'Data eshop'!D:L,9,FALSE)=\"\",\"\",\"DIČ: \"&VLOOKUP('Místa dodání'!A148-10000,'Data eshop'!D:L,9,FALSE)),IF(VLOOKUP('Místa dodání'!A148-10000,'Data eshop'!D:L,9,FALSE)=\"\",\"\",\"DIČ: \"&VLOOKUP('Místa dodání'!A148-10000,'Data eshop'!D:L,9,FALSE)&\", \")&\"IČO: \"&VLOOKUP('Místa dodání'!A148-10000,'Data eshop'!D:L,8,FALSE)))","v":""},{"$f":"IF(A148=\"\",\"\",VLOOKUP(A148-10000,'Data eshop'!D:AD,6,FALSE))","v":""},{"$f":"IF(A148=\"\",\"\",VLOOKUP(A148-10000,'Data eshop'!D:AD,7,FALSE))","v":""},{"$f":"IF(A148=\"\",\"\",VLOOKUP(A148-10000,'Data eshop'!D:AD,10,FALSE))","v":""},"","","",""]
[{"$f":"IFERROR(SMALL('Data eshop'!D:D,COUNTIF('Data eshop'!D:D,\"<\"&(A148-10000)))+10000,\"\")","v":""},"",{"$f":"IF(A149=\"\",\"\",IF(VLOOKUP(A149-10000,'Data eshop'!D:G,2,FALSE)=\"\",PROPER(VLOOKUP(A149-10000,'Data eshop'!D:G,3,FALSE)&\" \"&VLOOKUP(A149-10000,'Data eshop'!D:G,4,FALSE)),VLOOKUP(A149-10000,'Data eshop'!D:G,2,FALSE)&\" - \"&PROPER(VLOOKUP(A149-10000,'Data eshop'!D:G,3,FALSE)&\" \"&VLOOKUP(A149-10000,'Data eshop'!D:G,4,FALSE))))","v":""},null,{"$f":"IF(A149=\"\",\"\",VLOOKUP(A149-10000,'Data eshop'!D:AD,5,FALSE))","v":""},{"$f":"IF(A149=\"\",\"\",IF(VLOOKUP('Místa dodání'!A149-10000,'Data eshop'!D:L,8,FALSE)=\"\",IF(VLOOKUP('Místa dodání'!A149-10000,'Data eshop'!D:L,9,FALSE)=\"\",\"\",\"DIČ: \"&VLOOKUP('Místa dodání'!A149-10000,'Data eshop'!D:L,9,FALSE)),IF(VLOOKUP('Místa dodání'!A149-10000,'Data eshop'!D:L,9,FALSE)=\"\",\"\",\"DIČ: \"&VLOOKUP('Místa dodání'!A149-10000,'Data eshop'!D:L,9,FALSE)&\", \")&\"IČO: \"&VLOOKUP('Místa dodání'!A149-10000,'Data eshop'!D:L,8,FALSE)))","v":""},{"$f":"IF(A149=\"\",\"\",VLOOKUP(A149-10000,'Data eshop'!D:AD,6,FALSE))","v":""},{"$f":"IF(A149=\"\",\"\",VLOOKUP(A149-10000,'Data eshop'!D:AD,7,FALSE))","v":""},{"$f":"IF(A149=\"\",\"\",VLOOKUP(A149-10000,'Data eshop'!D:AD,10,FALSE))","v":""},"","","",""]
[{"$f":"IFERROR(SMALL('Data eshop'!D:D,COUNTIF('Data eshop'!D:D,\"<\"&(A149-10000)))+10000,\"\")","v":""},"",{"$f":"IF(A150=\"\",\"\",IF(VLOOKUP(A150-10000,'Data eshop'!D:G,2,FALSE)=\"\",PROPER(VLOOKUP(A150-10000,'Data eshop'!D:G,3,FALSE)&\" \"&VLOOKUP(A150-10000,'Data eshop'!D:G,4,FALSE)),VLOOKUP(A150-10000,'Data eshop'!D:G,2,FALSE)&\" - \"&PROPER(VLOOKUP(A150-10000,'Data eshop'!D:G,3,FALSE)&\" \"&VLOOKUP(A150-10000,'Data eshop'!D:G,4,FALSE))))","v":""},null,{"$f":"IF(A150=\"\",\"\",VLOOKUP(A150-10000,'Data eshop'!D:AD,5,FALSE))","v":""},{"$f":"IF(A150=\"\",\"\",IF(VLOOKUP('Místa dodání'!A150-10000,'Data eshop'!D:L,8,FALSE)=\"\",IF(VLOOKUP('Místa dodání'!A150-10000,'Data eshop'!D:L,9,FALSE)=\"\",\"\",\"DIČ: \"&VLOOKUP('Místa dodání'!A150-10000,'Data eshop'!D:L,9,FALSE)),IF(VLOOKUP('Místa dodání'!A150-10000,'Data eshop'!D:L,9,FALSE)=\"\",\"\",\"DIČ: \"&VLOOKUP('Místa dodání'!A150-10000,'Data eshop'!D:L,9,FALSE)&\", \")&\"IČO: \"&VLOOKUP('Místa dodání'!A150-10000,'Data eshop'!D:L,8,FALSE)))","v":""},{"$f":"IF(A150=\"\",\"\",VLOOKUP(A150-10000,'Data eshop'!D:AD,6,FALSE))","v":""},{"$f":"IF(A150=\"\",\"\",VLOOKUP(A150-10000,'Data eshop'!D:AD,7,FALSE))","v":""},{"$f":"IF(A150=\"\",\"\",VLOOKUP(A150-10000,'Data eshop'!D:AD,10,FALSE))","v":""},"","","",""]
[{"$f":"IFERROR(SMALL('Data eshop'!D:D,COUNTIF('Data eshop'!D:D,\"<\"&(A150-10000)))+10000,\"\")","v":""},"",{"$f":"IF(A151=\"\",\"\",IF(VLOOKUP(A151-10000,'Data eshop'!D:G,2,FALSE)=\"\",PROPER(VLOOKUP(A151-10000,'Data eshop'!D:G,3,FALSE)&\" \"&VLOOKUP(A151-10000,'Data eshop'!D:G,4,FALSE)),VLOOKUP(A151-10000,'Data eshop'!D:G,2,FALSE)&\" - \"&PROPER(VLOOKUP(A151-10000,'Data eshop'!D:G,3,FALSE)&\" \"&VLOOKUP(A151-10000,'Data eshop'!D:G,4,FALSE))))","v":""},null,{"$f":"IF(A151=\"\",\"\",VLOOKUP(A151-10000,'Data eshop'!D:AD,5,FALSE))","v":""},{"$f":"IF(A151=\"\",\"\",IF(VLOOKUP('Místa dodání'!A151-10000,'Data eshop'!D:L,8,FALSE)=\"\",IF(VLOOKUP('Místa dodání'!A151-10000,'Data eshop'!D:L,9,FALSE)=\"\",\"\",\"DIČ: \"&VLOOKUP('Místa dodání'!A151-10000,'Data eshop'!D:L,9,FALSE)),IF(VLOOKUP('Místa dodání'!A151-10000,'Data eshop'!D:L,9,FALSE)=\"\",\"\",\"DIČ: \"&VLOOKUP('Místa dodání'!A151-10000,'Data eshop'!D:L,9,FALSE)&\", \")&\"IČO: \"&VLOOKUP('Místa dodání'!A151-10000,'Data eshop'!D:L,8,FALSE)))","v":""},{"$f":"IF(A151=\"\",\"\",VLOOKUP(A151-10000,'Data eshop'!D:AD,6,FALSE))","v":""},{"$f":"IF(A151=\"\",\"\",VLOOKUP(A151-10000,'Data eshop'!D:AD,7,FALSE))","v":""},{"$f":"IF(A151=\"\",\"\",VLOOKUP(A151-10000,'Data eshop'!D:AD,10,FALSE))","v":""},"","","","","Roluj nahoru, až uvidíš žlutou"]
[{"$f":"IFERROR(SMALL('Data eshop'!D:D,COUNTIF('Data eshop'!D:D,\"<\"&(A151-10000)))+10000,\"\")","v":""},"",{"$f":"IF(A152=\"\",\"\",IF(VLOOKUP(A152-10000,'Data eshop'!D:G,2,FALSE)=\"\",PROPER(VLOOKUP(A152-10000,'Data eshop'!D:G,3,FALSE)&\" \"&VLOOKUP(A152-10000,'Data eshop'!D:G,4,FALSE)),VLOOKUP(A152-10000,'Data eshop'!D:G,2,FALSE)&\" - \"&PROPER(VLOOKUP(A152-10000,'Data eshop'!D:G,3,FALSE)&\" \"&VLOOKUP(A152-10000,'Data eshop'!D:G,4,FALSE))))","v":""},null,{"$f":"IF(A152=\"\",\"\",VLOOKUP(A152-10000,'Data eshop'!D:AD,5,FALSE))","v":""},{"$f":"IF(A152=\"\",\"\",IF(VLOOKUP('Místa dodání'!A152-10000,'Data eshop'!D:L,8,FALSE)=\"\",IF(VLOOKUP('Místa dodání'!A152-10000,'Data eshop'!D:L,9,FALSE)=\"\",\"\",\"DIČ: \"&VLOOKUP('Místa dodání'!A152-10000,'Data eshop'!D:L,9,FALSE)),IF(VLOOKUP('Místa dodání'!A152-10000,'Data eshop'!D:L,9,FALSE)=\"\",\"\",\"DIČ: \"&VLOOKUP('Místa dodání'!A152-10000,'Data eshop'!D:L,9,FALSE)&\", \")&\"IČO: \"&VLOOKUP('Místa dodání'!A152-10000,'Data eshop'!D:L,8,FALSE)))","v":""},{"$f":"IF(A152=\"\",\"\",VLOOKUP(A152-10000,'Data eshop'!D:AD,6,FALSE))","v":""},{"$f":"IF(A152=\"\",\"\",VLOOKUP(A152-10000,'Data eshop'!D:AD,7,FALSE))","v":""},{"$f":"IF(A152=\"\",\"\",VLOOKUP(A152-10000,'Data eshop'!D:AD,10,FALSE))","v":""},"","","",""]
[{"$f":"IFERROR(SMALL('Data eshop'!D:D,COUNTIF('Data eshop'!D:D,\"<\"&(A152-10000)))+10000,\"\")","v":""},"",{"$f":"IF(A153=\"\",\"\",IF(VLOOKUP(A153-10000,'Data eshop'!D:G,2,FALSE)=\"\",PROPER(VLOOKUP(A153-10000,'Data eshop'!D:G,3,FALSE)&\" \"&VLOOKUP(A153-10000,'Data eshop'!D:G,4,FALSE)),VLOOKUP(A153-10000,'Data eshop'!D:G,2,FALSE)&\" - \"&PROPER(VLOOKUP(A153-10000,'Data eshop'!D:G,3,FALSE)&\" \"&VLOOKUP(A153-10000,'Data eshop'!D:G,4,FALSE))))","v":""},null,{"$f":"IF(A153=\"\",\"\",VLOOKUP(A153-10000,'Data eshop'!D:AD,5,FALSE))","v":""},{"$f":"IF(A153=\"\",\"\",IF(VLOOKUP('Místa dodání'!A153-10000,'Data eshop'!D:L,8,FALSE)=\"\",IF(VLOOKUP('Místa dodání'!A153-10000,'Data eshop'!D:L,9,FALSE)=\"\",\"\",\"DIČ: \"&VLOOKUP('Místa dodání'!A153-10000,'Data eshop'!D:L,9,FALSE)),IF(VLOOKUP('Místa dodání'!A153-10000,'Data eshop'!D:L,9,FALSE)=\"\",\"\",\"DIČ: \"&VLOOKUP('Místa dodání'!A153-10000,'Data eshop'!D:L,9,FALSE)&\", \")&\"IČO: \"&VLOOKUP('Místa dodání'!A153-10000,'Data eshop'!D:L,8,FALSE)))","v":""},{"$f":"IF(A153=\"\",\"\",VLOOKUP(A153-10000,'Data eshop'!D:AD,6,FALSE))","v":""},{"$f":"IF(A153=\"\",\"\",VLOOKUP(A153-10000,'Data eshop'!D:AD,7,FALSE))","v":""},{"$f":"IF(A153=\"\",\"\",VLOOKUP(A153-10000,'Data eshop'!D:AD,10,FALSE))","v":""},"","","",""]
[{"$f":"IFERROR(SMALL('Data eshop'!D:D,COUNTIF('Data eshop'!D:D,\"<\"&(A153-10000)))+10000,\"\")","v":""},"",{"$f":"IF(A154=\"\",\"\",IF(VLOOKUP(A154-10000,'Data eshop'!D:G,2,FALSE)=\"\",PROPER(VLOOKUP(A154-10000,'Data eshop'!D:G,3,FALSE)&\" \"&VLOOKUP(A154-10000,'Data eshop'!D:G,4,FALSE)),VLOOKUP(A154-10000,'Data eshop'!D:G,2,FALSE)&\" - \"&PROPER(VLOOKUP(A154-10000,'Data eshop'!D:G,3,FALSE)&\" \"&VLOOKUP(A154-10000,'Data eshop'!D:G,4,FALSE))))","v":""},null,{"$f":"IF(A154=\"\",\"\",VLOOKUP(A154-10000,'Data eshop'!D:AD,5,FALSE))","v":""},{"$f":"IF(A154=\"\",\"\",IF(VLOOKUP('Místa dodání'!A154-10000,'Data eshop'!D:L,8,FALSE)=\"\",IF(VLOOKUP('Místa dodání'!A154-10000,'Data eshop'!D:L,9,FALSE)=\"\",\"\",\"DIČ: \"&VLOOKUP('Místa dodání'!A154-10000,'Data eshop'!D:L,9,FALSE)),IF(VLOOKUP('Místa dodání'!A154-10000,'Data eshop'!D:L,9,FALSE)=\"\",\"\",\"DIČ: \"&VLOOKUP('Místa dodání'!A154-10000,'Data eshop'!D:L,9,FALSE)&\", \")&\"IČO: \"&VLOOKUP('Místa dodání'!A154-10000,'Data eshop'!D:L,8,FALSE)))","v":""},{"$f":"IF(A154=\"\",\"\",VLOOKUP(A154-10000,'Data eshop'!D:AD,6,FALSE))","v":""},{"$f":"IF(A154=\"\",\"\",VLOOKUP(A154-10000,'Data eshop'!D:AD,7,FALSE))","v":""},{"$f":"IF(A154=\"\",\"\",VLOOKUP(A154-10000,'Data eshop'!D:AD,10,FALSE))","v":""},"","","",""]
[{"$f":"IFERROR(SMALL('Data eshop'!D:D,COUNTIF('Data eshop'!D:D,\"<\"&(A154-10000)))+10000,\"\")","v":""},"",{"$f":"IF(A155=\"\",\"\",IF(VLOOKUP(A155-10000,'Data eshop'!D:G,2,FALSE)=\"\",PROPER(VLOOKUP(A155-10000,'Data eshop'!D:G,3,FALSE)&\" \"&VLOOKUP(A155-10000,'Data eshop'!D:G,4,FALSE)),VLOOKUP(A155-10000,'Data eshop'!D:G,2,FALSE)&\" - \"&PROPER(VLOOKUP(A155-10000,'Data eshop'!D:G,3,FALSE)&\" \"&VLOOKUP(A155-10000,'Data eshop'!D:G,4,FALSE))))","v":""},null,{"$f":"IF(A155=\"\",\"\",VLOOKUP(A155-10000,'Data eshop'!D:AD,5,FALSE))","v":""},{"$f":"IF(A155=\"\",\"\",IF(VLOOKUP('Místa dodání'!A155-10000,'Data eshop'!D:L,8,FALSE)=\"\",IF(VLOOKUP('Místa dodání'!A155-10000,'Data eshop'!D:L,9,FALSE)=\"\",\"\",\"DIČ: \"&VLOOKUP('Místa dodání'!A155-10000,'Data eshop'!D:L,9,FALSE)),IF(VLOOKUP('Místa dodání'!A155-10000,'Data eshop'!D:L,9,FALSE)=\"\",\"\",\"DIČ: \"&VLOOKUP('Místa dodání'!A155-10000,'Data eshop'!D:L,9,FALSE)&\", \")&\"IČO: \"&VLOOKUP('Místa dodání'!A155-10000,'Data eshop'!D:L,8,FALSE)))","v":""},{"$f":"IF(A155=\"\",\"\",VLOOKUP(A155-10000,'Data eshop'!D:AD,6,FALSE))","v":""},{"$f":"IF(A155=\"\",\"\",VLOOKUP(A155-10000,'Data eshop'!D:AD,7,FALSE))","v":""},{"$f":"IF(A155=\"\",\"\",VLOOKUP(A155-10000,'Data eshop'!D:AD,10,FALSE))","v":""},"","","","","Roluj nahoru, až uvidíš žlutou"]
[{"$f":"IFERROR(SMALL('Data eshop'!D:D,COUNTIF('Data eshop'!D:D,\"<\"&(A155-10000)))+10000,\"\")","v":""},"",{"$f":"IF(A156=\"\",\"\",IF(VLOOKUP(A156-10000,'Data eshop'!D:G,2,FALSE)=\"\",PROPER(VLOOKUP(A156-10000,'Data eshop'!D:G,3,FALSE)&\" \"&VLOOKUP(A156-10000,'Data eshop'!D:G,4,FALSE)),VLOOKUP(A156-10000,'Data eshop'!D:G,2,FALSE)&\" - \"&PROPER(VLOOKUP(A156-10000,'Data eshop'!D:G,3,FALSE)&\" \"&VLOOKUP(A156-10000,'Data eshop'!D:G,4,FALSE))))","v":""},null,{"$f":"IF(A156=\"\",\"\",VLOOKUP(A156-10000,'Data eshop'!D:AD,5,FALSE))","v":""},{"$f":"IF(A156=\"\",\"\",IF(VLOOKUP('Místa dodání'!A156-10000,'Data eshop'!D:L,8,FALSE)=\"\",IF(VLOOKUP('Místa dodání'!A156-10000,'Data eshop'!D:L,9,FALSE)=\"\",\"\",\"DIČ: \"&VLOOKUP('Místa dodání'!A156-10000,'Data eshop'!D:L,9,FALSE)),IF(VLOOKUP('Místa dodání'!A156-10000,'Data eshop'!D:L,9,FALSE)=\"\",\"\",\"DIČ: \"&VLOOKUP('Místa dodání'!A156-10000,'Data eshop'!D:L,9,FALSE)&\", \")&\"IČO: \"&VLOOKUP('Místa dodání'!A156-10000,'Data eshop'!D:L,8,FALSE)))","v":""},{"$f":"IF(A156=\"\",\"\",VLOOKUP(A156-10000,'Data eshop'!D:AD,6,FALSE))","v":""},{"$f":"IF(A156=\"\",\"\",VLOOKUP(A156-10000,'Data eshop'!D:AD,7,FALSE))","v":""},{"$f":"IF(A156=\"\",\"\",VLOOKUP(A156-10000,'Data eshop'!D:AD,10,FALSE))","v":""},"","","",""]
[{"$f":"IFERROR(SMALL('Data eshop'!D:D,COUNTIF('Data eshop'!D:D,\"<\"&(A156-10000)))+10000,\"\")","v":""},"",{"$f":"IF(A157=\"\",\"\",IF(VLOOKUP(A157-10000,'Data eshop'!D:G,2,FALSE)=\"\",PROPER(VLOOKUP(A157-10000,'Data eshop'!D:G,3,FALSE)&\" \"&VLOOKUP(A157-10000,'Data eshop'!D:G,4,FALSE)),VLOOKUP(A157-10000,'Data eshop'!D:G,2,FALSE)&\" - \"&PROPER(VLOOKUP(A157-10000,'Data eshop'!D:G,3,FALSE)&\" \"&VLOOKUP(A157-10000,'Data eshop'!D:G,4,FALSE))))","v":""},null,{"$f":"IF(A157=\"\",\"\",VLOOKUP(A157-10000,'Data eshop'!D:AD,5,FALSE))","v":""},{"$f":"IF(A157=\"\",\"\",IF(VLOOKUP('Místa dodání'!A157-10000,'Data eshop'!D:L,8,FALSE)=\"\",IF(VLOOKUP('Místa dodání'!A157-10000,'Data eshop'!D:L,9,FALSE)=\"\",\"\",\"DIČ: \"&VLOOKUP('Místa dodání'!A157-10000,'Data eshop'!D:L,9,FALSE)),IF(VLOOKUP('Místa dodání'!A157-10000,'Data eshop'!D:L,9,FALSE)=\"\",\"\",\"DIČ: \"&VLOOKUP('Místa dodání'!A157-10000,'Data eshop'!D:L,9,FALSE)&\", \")&\"IČO: \"&VLOOKUP('Místa dodání'!A157-10000,'Data eshop'!D:L,8,FALSE)))","v":""},{"$f":"IF(A157=\"\",\"\",VLOOKUP(A157-10000,'Data eshop'!D:AD,6,FALSE))","v":""},{"$f":"IF(A157=\"\",\"\",VLOOKUP(A157-10000,'Data eshop'!D:AD,7,FALSE))","v":""},{"$f":"IF(A157=\"\",\"\",VLOOKUP(A157-10000,'Data eshop'!D:AD,10,FALSE))","v":""},"","","",""]
[{"$f":"IFERROR(SMALL('Data eshop'!D:D,COUNTIF('Data eshop'!D:D,\"<\"&(A157-10000)))+10000,\"\")","v":""},"",{"$f":"IF(A158=\"\",\"\",IF(VLOOKUP(A158-10000,'Data eshop'!D:G,2,FALSE)=\"\",PROPER(VLOOKUP(A158-10000,'Data eshop'!D:G,3,FALSE)&\" \"&VLOOKUP(A158-10000,'Data eshop'!D:G,4,FALSE)),VLOOKUP(A158-10000,'Data eshop'!D:G,2,FALSE)&\" - \"&PROPER(VLOOKUP(A158-10000,'Data eshop'!D:G,3,FALSE)&\" \"&VLOOKUP(A158-10000,'Data eshop'!D:G,4,FALSE))))","v":""},null,{"$f":"IF(A158=\"\",\"\",VLOOKUP(A158-10000,'Data eshop'!D:AD,5,FALSE))","v":""},{"$f":"IF(A158=\"\",\"\",IF(VLOOKUP('Místa dodání'!A158-10000,'Data eshop'!D:L,8,FALSE)=\"\",IF(VLOOKUP('Místa dodání'!A158-10000,'Data eshop'!D:L,9,FALSE)=\"\",\"\",\"DIČ: \"&VLOOKUP('Místa dodání'!A158-10000,'Data eshop'!D:L,9,FALSE)),IF(VLOOKUP('Místa dodání'!A158-10000,'Data eshop'!D:L,9,FALSE)=\"\",\"\",\"DIČ: \"&VLOOKUP('Místa dodání'!A158-10000,'Data eshop'!D:L,9,FALSE)&\", \")&\"IČO: \"&VLOOKUP('Místa dodání'!A158-10000,'Data eshop'!D:L,8,FALSE)))","v":""},{"$f":"IF(A158=\"\",\"\",VLOOKUP(A158-10000,'Data eshop'!D:AD,6,FALSE))","v":""},{"$f":"IF(A158=\"\",\"\",VLOOKUP(A158-10000,'Data eshop'!D:AD,7,FALSE))","v":""},{"$f":"IF(A158=\"\",\"\",VLOOKUP(A158-10000,'Data eshop'!D:AD,10,FALSE))","v":""},"","","",""]
[{"$f":"IFERROR(SMALL('Data eshop'!D:D,COUNTIF('Data eshop'!D:D,\"<\"&(A158-10000)))+10000,\"\")","v":""},"",{"$f":"IF(A159=\"\",\"\",IF(VLOOKUP(A159-10000,'Data eshop'!D:G,2,FALSE)=\"\",PROPER(VLOOKUP(A159-10000,'Data eshop'!D:G,3,FALSE)&\" \"&VLOOKUP(A159-10000,'Data eshop'!D:G,4,FALSE)),VLOOKUP(A159-10000,'Data eshop'!D:G,2,FALSE)&\" - \"&PROPER(VLOOKUP(A159-10000,'Data eshop'!D:G,3,FALSE)&\" \"&VLOOKUP(A159-10000,'Data eshop'!D:G,4,FALSE))))","v":""},null,{"$f":"IF(A159=\"\",\"\",VLOOKUP(A159-10000,'Data eshop'!D:AD,5,FALSE))","v":""},{"$f":"IF(A159=\"\",\"\",IF(VLOOKUP('Místa dodání'!A159-10000,'Data eshop'!D:L,8,FALSE)=\"\",IF(VLOOKUP('Místa dodání'!A159-10000,'Data eshop'!D:L,9,FALSE)=\"\",\"\",\"DIČ: \"&VLOOKUP('Místa dodání'!A159-10000,'Data eshop'!D:L,9,FALSE)),IF(VLOOKUP('Místa dodání'!A159-10000,'Data eshop'!D:L,9,FALSE)=\"\",\"\",\"DIČ: \"&VLOOKUP('Místa dodání'!A159-10000,'Data eshop'!D:L,9,FALSE)&\", \")&\"IČO: \"&VLOOKUP('Místa dodání'!A159-10000,'Data eshop'!D:L,8,FALSE)))","v":""},{"$f":"IF(A159=\"\",\"\",VLOOKUP(A159-10000,'Data eshop'!D:AD,6,FALSE))","v":""},{"$f":"IF(A159=\"\",\"\",VLOOKUP(A159-10000,'Data eshop'!D:AD,7,FALSE))","v":""},{"$f":"IF(A159=\"\",\"\",VLOOKUP(A159-10000,'Data eshop'!D:AD,10,FALSE))","v":""},"","","","","Roluj nahoru, až uvidíš žlutou"]
[{"$f":"IFERROR(SMALL('Data eshop'!D:D,COUNTIF('Data eshop'!D:D,\"<\"&(A159-10000)))+10000,\"\")","v":""},"",{"$f":"IF(A160=\"\",\"\",IF(VLOOKUP(A160-10000,'Data eshop'!D:G,2,FALSE)=\"\",PROPER(VLOOKUP(A160-10000,'Data eshop'!D:G,3,FALSE)&\" \"&VLOOKUP(A160-10000,'Data eshop'!D:G,4,FALSE)),VLOOKUP(A160-10000,'Data eshop'!D:G,2,FALSE)&\" - \"&PROPER(VLOOKUP(A160-10000,'Data eshop'!D:G,3,FALSE)&\" \"&VLOOKUP(A160-10000,'Data eshop'!D:G,4,FALSE))))","v":""},null,{"$f":"IF(A160=\"\",\"\",VLOOKUP(A160-10000,'Data eshop'!D:AD,5,FALSE))","v":""},{"$f":"IF(A160=\"\",\"\",IF(VLOOKUP('Místa dodání'!A160-10000,'Data eshop'!D:L,8,FALSE)=\"\",IF(VLOOKUP('Místa dodání'!A160-10000,'Data eshop'!D:L,9,FALSE)=\"\",\"\",\"DIČ: \"&VLOOKUP('Místa dodání'!A160-10000,'Data eshop'!D:L,9,FALSE)),IF(VLOOKUP('Místa dodání'!A160-10000,'Data eshop'!D:L,9,FALSE)=\"\",\"\",\"DIČ: \"&VLOOKUP('Místa dodání'!A160-10000,'Data eshop'!D:L,9,FALSE)&\", \")&\"IČO: \"&VLOOKUP('Místa dodání'!A160-10000,'Data eshop'!D:L,8,FALSE)))","v":""},{"$f":"IF(A160=\"\",\"\",VLOOKUP(A160-10000,'Data eshop'!D:AD,6,FALSE))","v":""},{"$f":"IF(A160=\"\",\"\",VLOOKUP(A160-10000,'Data eshop'!D:AD,7,FALSE))","v":""},{"$f":"IF(A160=\"\",\"\",VLOOKUP(A160-10000,'Data eshop'!D:AD,10,FALSE))","v":""},"","","",""]
[{"$f":"IFERROR(SMALL('Data eshop'!D:D,COUNTIF('Data eshop'!D:D,\"<\"&(A160-10000)))+10000,\"\")","v":""},"",{"$f":"IF(A161=\"\",\"\",IF(VLOOKUP(A161-10000,'Data eshop'!D:G,2,FALSE)=\"\",PROPER(VLOOKUP(A161-10000,'Data eshop'!D:G,3,FALSE)&\" \"&VLOOKUP(A161-10000,'Data eshop'!D:G,4,FALSE)),VLOOKUP(A161-10000,'Data eshop'!D:G,2,FALSE)&\" - \"&PROPER(VLOOKUP(A161-10000,'Data eshop'!D:G,3,FALSE)&\" \"&VLOOKUP(A161-10000,'Data eshop'!D:G,4,FALSE))))","v":""},null,{"$f":"IF(A161=\"\",\"\",VLOOKUP(A161-10000,'Data eshop'!D:AD,5,FALSE))","v":""},{"$f":"IF(A161=\"\",\"\",IF(VLOOKUP('Místa dodání'!A161-10000,'Data eshop'!D:L,8,FALSE)=\"\",IF(VLOOKUP('Místa dodání'!A161-10000,'Data eshop'!D:L,9,FALSE)=\"\",\"\",\"DIČ: \"&VLOOKUP('Místa dodání'!A161-10000,'Data eshop'!D:L,9,FALSE)),IF(VLOOKUP('Místa dodání'!A161-10000,'Data eshop'!D:L,9,FALSE)=\"\",\"\",\"DIČ: \"&VLOOKUP('Místa dodání'!A161-10000,'Data eshop'!D:L,9,FALSE)&\", \")&\"IČO: \"&VLOOKUP('Místa dodání'!A161-10000,'Data eshop'!D:L,8,FALSE)))","v":""},{"$f":"IF(A161=\"\",\"\",VLOOKUP(A161-10000,'Data eshop'!D:AD,6,FALSE))","v":""},{"$f":"IF(A161=\"\",\"\",VLOOKUP(A161-10000,'Data eshop'!D:AD,7,FALSE))","v":""},{"$f":"IF(A161=\"\",\"\",VLOOKUP(A161-10000,'Data eshop'!D:AD,10,FALSE))","v":""},"","","",""]
[{"$f":"IFERROR(SMALL('Data eshop'!D:D,COUNTIF('Data eshop'!D:D,\"<\"&(A161-10000)))+10000,\"\")","v":""},"",{"$f":"IF(A162=\"\",\"\",IF(VLOOKUP(A162-10000,'Data eshop'!D:G,2,FALSE)=\"\",PROPER(VLOOKUP(A162-10000,'Data eshop'!D:G,3,FALSE)&\" \"&VLOOKUP(A162-10000,'Data eshop'!D:G,4,FALSE)),VLOOKUP(A162-10000,'Data eshop'!D:G,2,FALSE)&\" - \"&PROPER(VLOOKUP(A162-10000,'Data eshop'!D:G,3,FALSE)&\" \"&VLOOKUP(A162-10000,'Data eshop'!D:G,4,FALSE))))","v":""},null,{"$f":"IF(A162=\"\",\"\",VLOOKUP(A162-10000,'Data eshop'!D:AD,5,FALSE))","v":""},{"$f":"IF(A162=\"\",\"\",IF(VLOOKUP('Místa dodání'!A162-10000,'Data eshop'!D:L,8,FALSE)=\"\",IF(VLOOKUP('Místa dodání'!A162-10000,'Data eshop'!D:L,9,FALSE)=\"\",\"\",\"DIČ: \"&VLOOKUP('Místa dodání'!A162-10000,'Data eshop'!D:L,9,FALSE)),IF(VLOOKUP('Místa dodání'!A162-10000,'Data eshop'!D:L,9,FALSE)=\"\",\"\",\"DIČ: \"&VLOOKUP('Místa dodání'!A162-10000,'Data eshop'!D:L,9,FALSE)&\", \")&\"IČO: \"&VLOOKUP('Místa dodání'!A162-10000,'Data eshop'!D:L,8,FALSE)))","v":""},{"$f":"IF(A162=\"\",\"\",VLOOKUP(A162-10000,'Data eshop'!D:AD,6,FALSE))","v":""},{"$f":"IF(A162=\"\",\"\",VLOOKUP(A162-10000,'Data eshop'!D:AD,7,FALSE))","v":""},{"$f":"IF(A162=\"\",\"\",VLOOKUP(A162-10000,'Data eshop'!D:AD,10,FALSE))","v":""},"","","",""]
[{"$f":"IFERROR(SMALL('Data eshop'!D:D,COUNTIF('Data eshop'!D:D,\"<\"&(A162-10000)))+10000,\"\")","v":""},"",{"$f":"IF(A163=\"\",\"\",IF(VLOOKUP(A163-10000,'Data eshop'!D:G,2,FALSE)=\"\",PROPER(VLOOKUP(A163-10000,'Data eshop'!D:G,3,FALSE)&\" \"&VLOOKUP(A163-10000,'Data eshop'!D:G,4,FALSE)),VLOOKUP(A163-10000,'Data eshop'!D:G,2,FALSE)&\" - \"&PROPER(VLOOKUP(A163-10000,'Data eshop'!D:G,3,FALSE)&\" \"&VLOOKUP(A163-10000,'Data eshop'!D:G,4,FALSE))))","v":""},null,{"$f":"IF(A163=\"\",\"\",VLOOKUP(A163-10000,'Data eshop'!D:AD,5,FALSE))","v":""},{"$f":"IF(A163=\"\",\"\",IF(VLOOKUP('Místa dodání'!A163-10000,'Data eshop'!D:L,8,FALSE)=\"\",IF(VLOOKUP('Místa dodání'!A163-10000,'Data eshop'!D:L,9,FALSE)=\"\",\"\",\"DIČ: \"&VLOOKUP('Místa dodání'!A163-10000,'Data eshop'!D:L,9,FALSE)),IF(VLOOKUP('Místa dodání'!A163-10000,'Data eshop'!D:L,9,FALSE)=\"\",\"\",\"DIČ: \"&VLOOKUP('Místa dodání'!A163-10000,'Data eshop'!D:L,9,FALSE)&\", \")&\"IČO: \"&VLOOKUP('Místa dodání'!A163-10000,'Data eshop'!D:L,8,FALSE)))","v":""},{"$f":"IF(A163=\"\",\"\",VLOOKUP(A163-10000,'Data eshop'!D:AD,6,FALSE))","v":""},{"$f":"IF(A163=\"\",\"\",VLOOKUP(A163-10000,'Data eshop'!D:AD,7,FALSE))","v":""},{"$f":"IF(A163=\"\",\"\",VLOOKUP(A163-10000,'Data eshop'!D:AD,10,FALSE))","v":""},"","","","","Roluj nahoru, až uvidíš žlutou"]
[{"$f":"IFERROR(SMALL('Data eshop'!D:D,COUNTIF('Data eshop'!D:D,\"<\"&(A163-10000)))+10000,\"\")","v":""},"",{"$f":"IF(A164=\"\",\"\",IF(VLOOKUP(A164-10000,'Data eshop'!D:G,2,FALSE)=\"\",PROPER(VLOOKUP(A164-10000,'Data eshop'!D:G,3,FALSE)&\" \"&VLOOKUP(A164-10000,'Data eshop'!D:G,4,FALSE)),VLOOKUP(A164-10000,'Data eshop'!D:G,2,FALSE)&\" - \"&PROPER(VLOOKUP(A164-10000,'Data eshop'!D:G,3,FALSE)&\" \"&VLOOKUP(A164-10000,'Data eshop'!D:G,4,FALSE))))","v":""},null,{"$f":"IF(A164=\"\",\"\",VLOOKUP(A164-10000,'Data eshop'!D:AD,5,FALSE))","v":""},{"$f":"IF(A164=\"\",\"\",IF(VLOOKUP('Místa dodání'!A164-10000,'Data eshop'!D:L,8,FALSE)=\"\",IF(VLOOKUP('Místa dodání'!A164-10000,'Data eshop'!D:L,9,FALSE)=\"\",\"\",\"DIČ: \"&VLOOKUP('Místa dodání'!A164-10000,'Data eshop'!D:L,9,FALSE)),IF(VLOOKUP('Místa dodání'!A164-10000,'Data eshop'!D:L,9,FALSE)=\"\",\"\",\"DIČ: \"&VLOOKUP('Místa dodání'!A164-10000,'Data eshop'!D:L,9,FALSE)&\", \")&\"IČO: \"&VLOOKUP('Místa dodání'!A164-10000,'Data eshop'!D:L,8,FALSE)))","v":""},{"$f":"IF(A164=\"\",\"\",VLOOKUP(A164-10000,'Data eshop'!D:AD,6,FALSE))","v":""},{"$f":"IF(A164=\"\",\"\",VLOOKUP(A164-10000,'Data eshop'!D:AD,7,FALSE))","v":""},{"$f":"IF(A164=\"\",\"\",VLOOKUP(A164-10000,'Data eshop'!D:AD,10,FALSE))","v":""},"","","",""]
[{"$f":"IFERROR(SMALL('Data eshop'!D:D,COUNTIF('Data eshop'!D:D,\"<\"&(A164-10000)))+10000,\"\")","v":""},"",{"$f":"IF(A165=\"\",\"\",IF(VLOOKUP(A165-10000,'Data eshop'!D:G,2,FALSE)=\"\",PROPER(VLOOKUP(A165-10000,'Data eshop'!D:G,3,FALSE)&\" \"&VLOOKUP(A165-10000,'Data eshop'!D:G,4,FALSE)),VLOOKUP(A165-10000,'Data eshop'!D:G,2,FALSE)&\" - \"&PROPER(VLOOKUP(A165-10000,'Data eshop'!D:G,3,FALSE)&\" \"&VLOOKUP(A165-10000,'Data eshop'!D:G,4,FALSE))))","v":""},null,{"$f":"IF(A165=\"\",\"\",VLOOKUP(A165-10000,'Data eshop'!D:AD,5,FALSE))","v":""},{"$f":"IF(A165=\"\",\"\",IF(VLOOKUP('Místa dodání'!A165-10000,'Data eshop'!D:L,8,FALSE)=\"\",IF(VLOOKUP('Místa dodání'!A165-10000,'Data eshop'!D:L,9,FALSE)=\"\",\"\",\"DIČ: \"&VLOOKUP('Místa dodání'!A165-10000,'Data eshop'!D:L,9,FALSE)),IF(VLOOKUP('Místa dodání'!A165-10000,'Data eshop'!D:L,9,FALSE)=\"\",\"\",\"DIČ: \"&VLOOKUP('Místa dodání'!A165-10000,'Data eshop'!D:L,9,FALSE)&\", \")&\"IČO: \"&VLOOKUP('Místa dodání'!A165-10000,'Data eshop'!D:L,8,FALSE)))","v":""},{"$f":"IF(A165=\"\",\"\",VLOOKUP(A165-10000,'Data eshop'!D:AD,6,FALSE))","v":""},{"$f":"IF(A165=\"\",\"\",VLOOKUP(A165-10000,'Data eshop'!D:AD,7,FALSE))","v":""},{"$f":"IF(A165=\"\",\"\",VLOOKUP(A165-10000,'Data eshop'!D:AD,10,FALSE))","v":""},"","","",""]
[{"$f":"IFERROR(SMALL('Data eshop'!D:D,COUNTIF('Data eshop'!D:D,\"<\"&(A165-10000)))+10000,\"\")","v":""},"",{"$f":"IF(A166=\"\",\"\",IF(VLOOKUP(A166-10000,'Data eshop'!D:G,2,FALSE)=\"\",PROPER(VLOOKUP(A166-10000,'Data eshop'!D:G,3,FALSE)&\" \"&VLOOKUP(A166-10000,'Data eshop'!D:G,4,FALSE)),VLOOKUP(A166-10000,'Data eshop'!D:G,2,FALSE)&\" - \"&PROPER(VLOOKUP(A166-10000,'Data eshop'!D:G,3,FALSE)&\" \"&VLOOKUP(A166-10000,'Data eshop'!D:G,4,FALSE))))","v":""},null,{"$f":"IF(A166=\"\",\"\",VLOOKUP(A166-10000,'Data eshop'!D:AD,5,FALSE))","v":""},{"$f":"IF(A166=\"\",\"\",IF(VLOOKUP('Místa dodání'!A166-10000,'Data eshop'!D:L,8,FALSE)=\"\",IF(VLOOKUP('Místa dodání'!A166-10000,'Data eshop'!D:L,9,FALSE)=\"\",\"\",\"DIČ: \"&VLOOKUP('Místa dodání'!A166-10000,'Data eshop'!D:L,9,FALSE)),IF(VLOOKUP('Místa dodání'!A166-10000,'Data eshop'!D:L,9,FALSE)=\"\",\"\",\"DIČ: \"&VLOOKUP('Místa dodání'!A166-10000,'Data eshop'!D:L,9,FALSE)&\", \")&\"IČO: \"&VLOOKUP('Místa dodání'!A166-10000,'Data eshop'!D:L,8,FALSE)))","v":""},{"$f":"IF(A166=\"\",\"\",VLOOKUP(A166-10000,'Data eshop'!D:AD,6,FALSE))","v":""},{"$f":"IF(A166=\"\",\"\",VLOOKUP(A166-10000,'Data eshop'!D:AD,7,FALSE))","v":""},{"$f":"IF(A166=\"\",\"\",VLOOKUP(A166-10000,'Data eshop'!D:AD,10,FALSE))","v":""},"","","",""]
[{"$f":"IFERROR(SMALL('Data eshop'!D:D,COUNTIF('Data eshop'!D:D,\"<\"&(A166-10000)))+10000,\"\")","v":""},"",{"$f":"IF(A167=\"\",\"\",IF(VLOOKUP(A167-10000,'Data eshop'!D:G,2,FALSE)=\"\",PROPER(VLOOKUP(A167-10000,'Data eshop'!D:G,3,FALSE)&\" \"&VLOOKUP(A167-10000,'Data eshop'!D:G,4,FALSE)),VLOOKUP(A167-10000,'Data eshop'!D:G,2,FALSE)&\" - \"&PROPER(VLOOKUP(A167-10000,'Data eshop'!D:G,3,FALSE)&\" \"&VLOOKUP(A167-10000,'Data eshop'!D:G,4,FALSE))))","v":""},null,{"$f":"IF(A167=\"\",\"\",VLOOKUP(A167-10000,'Data eshop'!D:AD,5,FALSE))","v":""},{"$f":"IF(A167=\"\",\"\",IF(VLOOKUP('Místa dodání'!A167-10000,'Data eshop'!D:L,8,FALSE)=\"\",IF(VLOOKUP('Místa dodání'!A167-10000,'Data eshop'!D:L,9,FALSE)=\"\",\"\",\"DIČ: \"&VLOOKUP('Místa dodání'!A167-10000,'Data eshop'!D:L,9,FALSE)),IF(VLOOKUP('Místa dodání'!A167-10000,'Data eshop'!D:L,9,FALSE)=\"\",\"\",\"DIČ: \"&VLOOKUP('Místa dodání'!A167-10000,'Data eshop'!D:L,9,FALSE)&\", \")&\"IČO: \"&VLOOKUP('Místa dodání'!A167-10000,'Data eshop'!D:L,8,FALSE)))","v":""},{"$f":"IF(A167=\"\",\"\",VLOOKUP(A167-10000,'Data eshop'!D:AD,6,FALSE))","v":""},{"$f":"IF(A167=\"\",\"\",VLOOKUP(A167-10000,'Data eshop'!D:AD,7,FALSE))","v":""},{"$f":"IF(A167=\"\",\"\",VLOOKUP(A167-10000,'Data eshop'!D:AD,10,FALSE))","v":""},"","","","","Roluj nahoru, až uvidíš žlutou"]
[{"$f":"IFERROR(SMALL('Data eshop'!D:D,COUNTIF('Data eshop'!D:D,\"<\"&(A167-10000)))+10000,\"\")","v":""},"",{"$f":"IF(A168=\"\",\"\",IF(VLOOKUP(A168-10000,'Data eshop'!D:G,2,FALSE)=\"\",PROPER(VLOOKUP(A168-10000,'Data eshop'!D:G,3,FALSE)&\" \"&VLOOKUP(A168-10000,'Data eshop'!D:G,4,FALSE)),VLOOKUP(A168-10000,'Data eshop'!D:G,2,FALSE)&\" - \"&PROPER(VLOOKUP(A168-10000,'Data eshop'!D:G,3,FALSE)&\" \"&VLOOKUP(A168-10000,'Data eshop'!D:G,4,FALSE))))","v":""},null,{"$f":"IF(A168=\"\",\"\",VLOOKUP(A168-10000,'Data eshop'!D:AD,5,FALSE))","v":""},{"$f":"IF(A168=\"\",\"\",IF(VLOOKUP('Místa dodání'!A168-10000,'Data eshop'!D:L,8,FALSE)=\"\",IF(VLOOKUP('Místa dodání'!A168-10000,'Data eshop'!D:L,9,FALSE)=\"\",\"\",\"DIČ: \"&VLOOKUP('Místa dodání'!A168-10000,'Data eshop'!D:L,9,FALSE)),IF(VLOOKUP('Místa dodání'!A168-10000,'Data eshop'!D:L,9,FALSE)=\"\",\"\",\"DIČ: \"&VLOOKUP('Místa dodání'!A168-10000,'Data eshop'!D:L,9,FALSE)&\", \")&\"IČO: \"&VLOOKUP('Místa dodání'!A168-10000,'Data eshop'!D:L,8,FALSE)))","v":""},{"$f":"IF(A168=\"\",\"\",VLOOKUP(A168-10000,'Data eshop'!D:AD,6,FALSE))","v":""},{"$f":"IF(A168=\"\",\"\",VLOOKUP(A168-10000,'Data eshop'!D:AD,7,FALSE))","v":""},{"$f":"IF(A168=\"\",\"\",VLOOKUP(A168-10000,'Data eshop'!D:AD,10,FALSE))","v":""},"","","",""]
[{"$f":"IFERROR(SMALL('Data eshop'!D:D,COUNTIF('Data eshop'!D:D,\"<\"&(A168-10000)))+10000,\"\")","v":""},"",{"$f":"IF(A169=\"\",\"\",IF(VLOOKUP(A169-10000,'Data eshop'!D:G,2,FALSE)=\"\",PROPER(VLOOKUP(A169-10000,'Data eshop'!D:G,3,FALSE)&\" \"&VLOOKUP(A169-10000,'Data eshop'!D:G,4,FALSE)),VLOOKUP(A169-10000,'Data eshop'!D:G,2,FALSE)&\" - \"&PROPER(VLOOKUP(A169-10000,'Data eshop'!D:G,3,FALSE)&\" \"&VLOOKUP(A169-10000,'Data eshop'!D:G,4,FALSE))))","v":""},null,{"$f":"IF(A169=\"\",\"\",VLOOKUP(A169-10000,'Data eshop'!D:AD,5,FALSE))","v":""},{"$f":"IF(A169=\"\",\"\",IF(VLOOKUP('Místa dodání'!A169-10000,'Data eshop'!D:L,8,FALSE)=\"\",IF(VLOOKUP('Místa dodání'!A169-10000,'Data eshop'!D:L,9,FALSE)=\"\",\"\",\"DIČ: \"&VLOOKUP('Místa dodání'!A169-10000,'Data eshop'!D:L,9,FALSE)),IF(VLOOKUP('Místa dodání'!A169-10000,'Data eshop'!D:L,9,FALSE)=\"\",\"\",\"DIČ: \"&VLOOKUP('Místa dodání'!A169-10000,'Data eshop'!D:L,9,FALSE)&\", \")&\"IČO: \"&VLOOKUP('Místa dodání'!A169-10000,'Data eshop'!D:L,8,FALSE)))","v":""},{"$f":"IF(A169=\"\",\"\",VLOOKUP(A169-10000,'Data eshop'!D:AD,6,FALSE))","v":""},{"$f":"IF(A169=\"\",\"\",VLOOKUP(A169-10000,'Data eshop'!D:AD,7,FALSE))","v":""},{"$f":"IF(A169=\"\",\"\",VLOOKUP(A169-10000,'Data eshop'!D:AD,10,FALSE))","v":""},"","","",""]
[{"$f":"IFERROR(SMALL('Data eshop'!D:D,COUNTIF('Data eshop'!D:D,\"<\"&(A169-10000)))+10000,\"\")","v":""},"",{"$f":"IF(A170=\"\",\"\",IF(VLOOKUP(A170-10000,'Data eshop'!D:G,2,FALSE)=\"\",PROPER(VLOOKUP(A170-10000,'Data eshop'!D:G,3,FALSE)&\" \"&VLOOKUP(A170-10000,'Data eshop'!D:G,4,FALSE)),VLOOKUP(A170-10000,'Data eshop'!D:G,2,FALSE)&\" - \"&PROPER(VLOOKUP(A170-10000,'Data eshop'!D:G,3,FALSE)&\" \"&VLOOKUP(A170-10000,'Data eshop'!D:G,4,FALSE))))","v":""},null,{"$f":"IF(A170=\"\",\"\",VLOOKUP(A170-10000,'Data eshop'!D:AD,5,FALSE))","v":""},{"$f":"IF(A170=\"\",\"\",IF(VLOOKUP('Místa dodání'!A170-10000,'Data eshop'!D:L,8,FALSE)=\"\",IF(VLOOKUP('Místa dodání'!A170-10000,'Data eshop'!D:L,9,FALSE)=\"\",\"\",\"DIČ: \"&VLOOKUP('Místa dodání'!A170-10000,'Data eshop'!D:L,9,FALSE)),IF(VLOOKUP('Místa dodání'!A170-10000,'Data eshop'!D:L,9,FALSE)=\"\",\"\",\"DIČ: \"&VLOOKUP('Místa dodání'!A170-10000,'Data eshop'!D:L,9,FALSE)&\", \")&\"IČO: \"&VLOOKUP('Místa dodání'!A170-10000,'Data eshop'!D:L,8,FALSE)))","v":""},{"$f":"IF(A170=\"\",\"\",VLOOKUP(A170-10000,'Data eshop'!D:AD,6,FALSE))","v":""},{"$f":"IF(A170=\"\",\"\",VLOOKUP(A170-10000,'Data eshop'!D:AD,7,FALSE))","v":""},{"$f":"IF(A170=\"\",\"\",VLOOKUP(A170-10000,'Data eshop'!D:AD,10,FALSE))","v":""},"","","",""]
[{"$f":"IFERROR(SMALL('Data eshop'!D:D,COUNTIF('Data eshop'!D:D,\"<\"&(A170-10000)))+10000,\"\")","v":""},"",{"$f":"IF(A171=\"\",\"\",IF(VLOOKUP(A171-10000,'Data eshop'!D:G,2,FALSE)=\"\",PROPER(VLOOKUP(A171-10000,'Data eshop'!D:G,3,FALSE)&\" \"&VLOOKUP(A171-10000,'Data eshop'!D:G,4,FALSE)),VLOOKUP(A171-10000,'Data eshop'!D:G,2,FALSE)&\" - \"&PROPER(VLOOKUP(A171-10000,'Data eshop'!D:G,3,FALSE)&\" \"&VLOOKUP(A171-10000,'Data eshop'!D:G,4,FALSE))))","v":""},null,{"$f":"IF(A171=\"\",\"\",VLOOKUP(A171-10000,'Data eshop'!D:AD,5,FALSE))","v":""},{"$f":"IF(A171=\"\",\"\",IF(VLOOKUP('Místa dodání'!A171-10000,'Data eshop'!D:L,8,FALSE)=\"\",IF(VLOOKUP('Místa dodání'!A171-10000,'Data eshop'!D:L,9,FALSE)=\"\",\"\",\"DIČ: \"&VLOOKUP('Místa dodání'!A171-10000,'Data eshop'!D:L,9,FALSE)),IF(VLOOKUP('Místa dodání'!A171-10000,'Data eshop'!D:L,9,FALSE)=\"\",\"\",\"DIČ: \"&VLOOKUP('Místa dodání'!A171-10000,'Data eshop'!D:L,9,FALSE)&\", \")&\"IČO: \"&VLOOKUP('Místa dodání'!A171-10000,'Data eshop'!D:L,8,FALSE)))","v":""},{"$f":"IF(A171=\"\",\"\",VLOOKUP(A171-10000,'Data eshop'!D:AD,6,FALSE))","v":""},{"$f":"IF(A171=\"\",\"\",VLOOKUP(A171-10000,'Data eshop'!D:AD,7,FALSE))","v":""},{"$f":"IF(A171=\"\",\"\",VLOOKUP(A171-10000,'Data eshop'!D:AD,10,FALSE))","v":""},"","","","","Roluj nahoru, až uvidíš žlutou"]
[{"$f":"IFERROR(SMALL('Data eshop'!D:D,COUNTIF('Data eshop'!D:D,\"<\"&(A171-10000)))+10000,\"\")","v":""},"",{"$f":"IF(A172=\"\",\"\",IF(VLOOKUP(A172-10000,'Data eshop'!D:G,2,FALSE)=\"\",PROPER(VLOOKUP(A172-10000,'Data eshop'!D:G,3,FALSE)&\" \"&VLOOKUP(A172-10000,'Data eshop'!D:G,4,FALSE)),VLOOKUP(A172-10000,'Data eshop'!D:G,2,FALSE)&\" - \"&PROPER(VLOOKUP(A172-10000,'Data eshop'!D:G,3,FALSE)&\" \"&VLOOKUP(A172-10000,'Data eshop'!D:G,4,FALSE))))","v":""},null,{"$f":"IF(A172=\"\",\"\",VLOOKUP(A172-10000,'Data eshop'!D:AD,5,FALSE))","v":""},{"$f":"IF(A172=\"\",\"\",IF(VLOOKUP('Místa dodání'!A172-10000,'Data eshop'!D:L,8,FALSE)=\"\",IF(VLOOKUP('Místa dodání'!A172-10000,'Data eshop'!D:L,9,FALSE)=\"\",\"\",\"DIČ: \"&VLOOKUP('Místa dodání'!A172-10000,'Data eshop'!D:L,9,FALSE)),IF(VLOOKUP('Místa dodání'!A172-10000,'Data eshop'!D:L,9,FALSE)=\"\",\"\",\"DIČ: \"&VLOOKUP('Místa dodání'!A172-10000,'Data eshop'!D:L,9,FALSE)&\", \")&\"IČO: \"&VLOOKUP('Místa dodání'!A172-10000,'Data eshop'!D:L,8,FALSE)))","v":""},{"$f":"IF(A172=\"\",\"\",VLOOKUP(A172-10000,'Data eshop'!D:AD,6,FALSE))","v":""},{"$f":"IF(A172=\"\",\"\",VLOOKUP(A172-10000,'Data eshop'!D:AD,7,FALSE))","v":""},{"$f":"IF(A172=\"\",\"\",VLOOKUP(A172-10000,'Data eshop'!D:AD,10,FALSE))","v":""},"","","",""]
[{"$f":"IFERROR(SMALL('Data eshop'!D:D,COUNTIF('Data eshop'!D:D,\"<\"&(A172-10000)))+10000,\"\")","v":""},"",{"$f":"IF(A173=\"\",\"\",IF(VLOOKUP(A173-10000,'Data eshop'!D:G,2,FALSE)=\"\",PROPER(VLOOKUP(A173-10000,'Data eshop'!D:G,3,FALSE)&\" \"&VLOOKUP(A173-10000,'Data eshop'!D:G,4,FALSE)),VLOOKUP(A173-10000,'Data eshop'!D:G,2,FALSE)&\" - \"&PROPER(VLOOKUP(A173-10000,'Data eshop'!D:G,3,FALSE)&\" \"&VLOOKUP(A173-10000,'Data eshop'!D:G,4,FALSE))))","v":""},null,{"$f":"IF(A173=\"\",\"\",VLOOKUP(A173-10000,'Data eshop'!D:AD,5,FALSE))","v":""},{"$f":"IF(A173=\"\",\"\",IF(VLOOKUP('Místa dodání'!A173-10000,'Data eshop'!D:L,8,FALSE)=\"\",IF(VLOOKUP('Místa dodání'!A173-10000,'Data eshop'!D:L,9,FALSE)=\"\",\"\",\"DIČ: \"&VLOOKUP('Místa dodání'!A173-10000,'Data eshop'!D:L,9,FALSE)),IF(VLOOKUP('Místa dodání'!A173-10000,'Data eshop'!D:L,9,FALSE)=\"\",\"\",\"DIČ: \"&VLOOKUP('Místa dodání'!A173-10000,'Data eshop'!D:L,9,FALSE)&\", \")&\"IČO: \"&VLOOKUP('Místa dodání'!A173-10000,'Data eshop'!D:L,8,FALSE)))","v":""},{"$f":"IF(A173=\"\",\"\",VLOOKUP(A173-10000,'Data eshop'!D:AD,6,FALSE))","v":""},{"$f":"IF(A173=\"\",\"\",VLOOKUP(A173-10000,'Data eshop'!D:AD,7,FALSE))","v":""},{"$f":"IF(A173=\"\",\"\",VLOOKUP(A173-10000,'Data eshop'!D:AD,10,FALSE))","v":""},"","","",""]
[{"$f":"IFERROR(SMALL('Data eshop'!D:D,COUNTIF('Data eshop'!D:D,\"<\"&(A173-10000)))+10000,\"\")","v":""},"",{"$f":"IF(A174=\"\",\"\",IF(VLOOKUP(A174-10000,'Data eshop'!D:G,2,FALSE)=\"\",PROPER(VLOOKUP(A174-10000,'Data eshop'!D:G,3,FALSE)&\" \"&VLOOKUP(A174-10000,'Data eshop'!D:G,4,FALSE)),VLOOKUP(A174-10000,'Data eshop'!D:G,2,FALSE)&\" - \"&PROPER(VLOOKUP(A174-10000,'Data eshop'!D:G,3,FALSE)&\" \"&VLOOKUP(A174-10000,'Data eshop'!D:G,4,FALSE))))","v":""},null,{"$f":"IF(A174=\"\",\"\",VLOOKUP(A174-10000,'Data eshop'!D:AD,5,FALSE))","v":""},{"$f":"IF(A174=\"\",\"\",IF(VLOOKUP('Místa dodání'!A174-10000,'Data eshop'!D:L,8,FALSE)=\"\",IF(VLOOKUP('Místa dodání'!A174-10000,'Data eshop'!D:L,9,FALSE)=\"\",\"\",\"DIČ: \"&VLOOKUP('Místa dodání'!A174-10000,'Data eshop'!D:L,9,FALSE)),IF(VLOOKUP('Místa dodání'!A174-10000,'Data eshop'!D:L,9,FALSE)=\"\",\"\",\"DIČ: \"&VLOOKUP('Místa dodání'!A174-10000,'Data eshop'!D:L,9,FALSE)&\", \")&\"IČO: \"&VLOOKUP('Místa dodání'!A174-10000,'Data eshop'!D:L,8,FALSE)))","v":""},{"$f":"IF(A174=\"\",\"\",VLOOKUP(A174-10000,'Data eshop'!D:AD,6,FALSE))","v":""},{"$f":"IF(A174=\"\",\"\",VLOOKUP(A174-10000,'Data eshop'!D:AD,7,FALSE))","v":""},{"$f":"IF(A174=\"\",\"\",VLOOKUP(A174-10000,'Data eshop'!D:AD,10,FALSE))","v":""},"","","",""]
[{"$f":"IFERROR(SMALL('Data eshop'!D:D,COUNTIF('Data eshop'!D:D,\"<\"&(A174-10000)))+10000,\"\")","v":""},"",{"$f":"IF(A175=\"\",\"\",IF(VLOOKUP(A175-10000,'Data eshop'!D:G,2,FALSE)=\"\",PROPER(VLOOKUP(A175-10000,'Data eshop'!D:G,3,FALSE)&\" \"&VLOOKUP(A175-10000,'Data eshop'!D:G,4,FALSE)),VLOOKUP(A175-10000,'Data eshop'!D:G,2,FALSE)&\" - \"&PROPER(VLOOKUP(A175-10000,'Data eshop'!D:G,3,FALSE)&\" \"&VLOOKUP(A175-10000,'Data eshop'!D:G,4,FALSE))))","v":""},null,{"$f":"IF(A175=\"\",\"\",VLOOKUP(A175-10000,'Data eshop'!D:AD,5,FALSE))","v":""},{"$f":"IF(A175=\"\",\"\",IF(VLOOKUP('Místa dodání'!A175-10000,'Data eshop'!D:L,8,FALSE)=\"\",IF(VLOOKUP('Místa dodání'!A175-10000,'Data eshop'!D:L,9,FALSE)=\"\",\"\",\"DIČ: \"&VLOOKUP('Místa dodání'!A175-10000,'Data eshop'!D:L,9,FALSE)),IF(VLOOKUP('Místa dodání'!A175-10000,'Data eshop'!D:L,9,FALSE)=\"\",\"\",\"DIČ: \"&VLOOKUP('Místa dodání'!A175-10000,'Data eshop'!D:L,9,FALSE)&\", \")&\"IČO: \"&VLOOKUP('Místa dodání'!A175-10000,'Data eshop'!D:L,8,FALSE)))","v":""},{"$f":"IF(A175=\"\",\"\",VLOOKUP(A175-10000,'Data eshop'!D:AD,6,FALSE))","v":""},{"$f":"IF(A175=\"\",\"\",VLOOKUP(A175-10000,'Data eshop'!D:AD,7,FALSE))","v":""},{"$f":"IF(A175=\"\",\"\",VLOOKUP(A175-10000,'Data eshop'!D:AD,10,FALSE))","v":""},"","","","","Roluj nahoru, až uvidíš žlutou"]
[{"$f":"IFERROR(SMALL('Data eshop'!D:D,COUNTIF('Data eshop'!D:D,\"<\"&(A175-10000)))+10000,\"\")","v":""},"",{"$f":"IF(A176=\"\",\"\",IF(VLOOKUP(A176-10000,'Data eshop'!D:G,2,FALSE)=\"\",PROPER(VLOOKUP(A176-10000,'Data eshop'!D:G,3,FALSE)&\" \"&VLOOKUP(A176-10000,'Data eshop'!D:G,4,FALSE)),VLOOKUP(A176-10000,'Data eshop'!D:G,2,FALSE)&\" - \"&PROPER(VLOOKUP(A176-10000,'Data eshop'!D:G,3,FALSE)&\" \"&VLOOKUP(A176-10000,'Data eshop'!D:G,4,FALSE))))","v":""},null,{"$f":"IF(A176=\"\",\"\",VLOOKUP(A176-10000,'Data eshop'!D:AD,5,FALSE))","v":""},{"$f":"IF(A176=\"\",\"\",IF(VLOOKUP('Místa dodání'!A176-10000,'Data eshop'!D:L,8,FALSE)=\"\",IF(VLOOKUP('Místa dodání'!A176-10000,'Data eshop'!D:L,9,FALSE)=\"\",\"\",\"DIČ: \"&VLOOKUP('Místa dodání'!A176-10000,'Data eshop'!D:L,9,FALSE)),IF(VLOOKUP('Místa dodání'!A176-10000,'Data eshop'!D:L,9,FALSE)=\"\",\"\",\"DIČ: \"&VLOOKUP('Místa dodání'!A176-10000,'Data eshop'!D:L,9,FALSE)&\", \")&\"IČO: \"&VLOOKUP('Místa dodání'!A176-10000,'Data eshop'!D:L,8,FALSE)))","v":""},{"$f":"IF(A176=\"\",\"\",VLOOKUP(A176-10000,'Data eshop'!D:AD,6,FALSE))","v":""},{"$f":"IF(A176=\"\",\"\",VLOOKUP(A176-10000,'Data eshop'!D:AD,7,FALSE))","v":""},{"$f":"IF(A176=\"\",\"\",VLOOKUP(A176-10000,'Data eshop'!D:AD,10,FALSE))","v":""},"","","",""]
[{"$f":"IFERROR(SMALL('Data eshop'!D:D,COUNTIF('Data eshop'!D:D,\"<\"&(A176-10000)))+10000,\"\")","v":""},"",{"$f":"IF(A177=\"\",\"\",IF(VLOOKUP(A177-10000,'Data eshop'!D:G,2,FALSE)=\"\",PROPER(VLOOKUP(A177-10000,'Data eshop'!D:G,3,FALSE)&\" \"&VLOOKUP(A177-10000,'Data eshop'!D:G,4,FALSE)),VLOOKUP(A177-10000,'Data eshop'!D:G,2,FALSE)&\" - \"&PROPER(VLOOKUP(A177-10000,'Data eshop'!D:G,3,FALSE)&\" \"&VLOOKUP(A177-10000,'Data eshop'!D:G,4,FALSE))))","v":""},null,{"$f":"IF(A177=\"\",\"\",VLOOKUP(A177-10000,'Data eshop'!D:AD,5,FALSE))","v":""},{"$f":"IF(A177=\"\",\"\",IF(VLOOKUP('Místa dodání'!A177-10000,'Data eshop'!D:L,8,FALSE)=\"\",IF(VLOOKUP('Místa dodání'!A177-10000,'Data eshop'!D:L,9,FALSE)=\"\",\"\",\"DIČ: \"&VLOOKUP('Místa dodání'!A177-10000,'Data eshop'!D:L,9,FALSE)),IF(VLOOKUP('Místa dodání'!A177-10000,'Data eshop'!D:L,9,FALSE)=\"\",\"\",\"DIČ: \"&VLOOKUP('Místa dodání'!A177-10000,'Data eshop'!D:L,9,FALSE)&\", \")&\"IČO: \"&VLOOKUP('Místa dodání'!A177-10000,'Data eshop'!D:L,8,FALSE)))","v":""},{"$f":"IF(A177=\"\",\"\",VLOOKUP(A177-10000,'Data eshop'!D:AD,6,FALSE))","v":""},{"$f":"IF(A177=\"\",\"\",VLOOKUP(A177-10000,'Data eshop'!D:AD,7,FALSE))","v":""},{"$f":"IF(A177=\"\",\"\",VLOOKUP(A177-10000,'Data eshop'!D:AD,10,FALSE))","v":""},"","","",""]
[{"$f":"IFERROR(SMALL('Data eshop'!D:D,COUNTIF('Data eshop'!D:D,\"<\"&(A177-10000)))+10000,\"\")","v":""},"",{"$f":"IF(A178=\"\",\"\",IF(VLOOKUP(A178-10000,'Data eshop'!D:G,2,FALSE)=\"\",PROPER(VLOOKUP(A178-10000,'Data eshop'!D:G,3,FALSE)&\" \"&VLOOKUP(A178-10000,'Data eshop'!D:G,4,FALSE)),VLOOKUP(A178-10000,'Data eshop'!D:G,2,FALSE)&\" - \"&PROPER(VLOOKUP(A178-10000,'Data eshop'!D:G,3,FALSE)&\" \"&VLOOKUP(A178-10000,'Data eshop'!D:G,4,FALSE))))","v":""},null,{"$f":"IF(A178=\"\",\"\",VLOOKUP(A178-10000,'Data eshop'!D:AD,5,FALSE))","v":""},{"$f":"IF(A178=\"\",\"\",IF(VLOOKUP('Místa dodání'!A178-10000,'Data eshop'!D:L,8,FALSE)=\"\",IF(VLOOKUP('Místa dodání'!A178-10000,'Data eshop'!D:L,9,FALSE)=\"\",\"\",\"DIČ: \"&VLOOKUP('Místa dodání'!A178-10000,'Data eshop'!D:L,9,FALSE)),IF(VLOOKUP('Místa dodání'!A178-10000,'Data eshop'!D:L,9,FALSE)=\"\",\"\",\"DIČ: \"&VLOOKUP('Místa dodání'!A178-10000,'Data eshop'!D:L,9,FALSE)&\", \")&\"IČO: \"&VLOOKUP('Místa dodání'!A178-10000,'Data eshop'!D:L,8,FALSE)))","v":""},{"$f":"IF(A178=\"\",\"\",VLOOKUP(A178-10000,'Data eshop'!D:AD,6,FALSE))","v":""},{"$f":"IF(A178=\"\",\"\",VLOOKUP(A178-10000,'Data eshop'!D:AD,7,FALSE))","v":""},{"$f":"IF(A178=\"\",\"\",VLOOKUP(A178-10000,'Data eshop'!D:AD,10,FALSE))","v":""},"","","",""]
[{"$f":"IFERROR(SMALL('Data eshop'!D:D,COUNTIF('Data eshop'!D:D,\"<\"&(A178-10000)))+10000,\"\")","v":""},"",{"$f":"IF(A179=\"\",\"\",IF(VLOOKUP(A179-10000,'Data eshop'!D:G,2,FALSE)=\"\",PROPER(VLOOKUP(A179-10000,'Data eshop'!D:G,3,FALSE)&\" \"&VLOOKUP(A179-10000,'Data eshop'!D:G,4,FALSE)),VLOOKUP(A179-10000,'Data eshop'!D:G,2,FALSE)&\" - \"&PROPER(VLOOKUP(A179-10000,'Data eshop'!D:G,3,FALSE)&\" \"&VLOOKUP(A179-10000,'Data eshop'!D:G,4,FALSE))))","v":""},null,{"$f":"IF(A179=\"\",\"\",VLOOKUP(A179-10000,'Data eshop'!D:AD,5,FALSE))","v":""},{"$f":"IF(A179=\"\",\"\",IF(VLOOKUP('Místa dodání'!A179-10000,'Data eshop'!D:L,8,FALSE)=\"\",IF(VLOOKUP('Místa dodání'!A179-10000,'Data eshop'!D:L,9,FALSE)=\"\",\"\",\"DIČ: \"&VLOOKUP('Místa dodání'!A179-10000,'Data eshop'!D:L,9,FALSE)),IF(VLOOKUP('Místa dodání'!A179-10000,'Data eshop'!D:L,9,FALSE)=\"\",\"\",\"DIČ: \"&VLOOKUP('Místa dodání'!A179-10000,'Data eshop'!D:L,9,FALSE)&\", \")&\"IČO: \"&VLOOKUP('Místa dodání'!A179-10000,'Data eshop'!D:L,8,FALSE)))","v":""},{"$f":"IF(A179=\"\",\"\",VLOOKUP(A179-10000,'Data eshop'!D:AD,6,FALSE))","v":""},{"$f":"IF(A179=\"\",\"\",VLOOKUP(A179-10000,'Data eshop'!D:AD,7,FALSE))","v":""},{"$f":"IF(A179=\"\",\"\",VLOOKUP(A179-10000,'Data eshop'!D:AD,10,FALSE))","v":""},"","","","","Roluj nahoru, až uvidíš žlutou"]
[{"$f":"IFERROR(SMALL('Data eshop'!D:D,COUNTIF('Data eshop'!D:D,\"<\"&(A179-10000)))+10000,\"\")","v":""},"",{"$f":"IF(A180=\"\",\"\",IF(VLOOKUP(A180-10000,'Data eshop'!D:G,2,FALSE)=\"\",PROPER(VLOOKUP(A180-10000,'Data eshop'!D:G,3,FALSE)&\" \"&VLOOKUP(A180-10000,'Data eshop'!D:G,4,FALSE)),VLOOKUP(A180-10000,'Data eshop'!D:G,2,FALSE)&\" - \"&PROPER(VLOOKUP(A180-10000,'Data eshop'!D:G,3,FALSE)&\" \"&VLOOKUP(A180-10000,'Data eshop'!D:G,4,FALSE))))","v":""},null,{"$f":"IF(A180=\"\",\"\",VLOOKUP(A180-10000,'Data eshop'!D:AD,5,FALSE))","v":""},{"$f":"IF(A180=\"\",\"\",IF(VLOOKUP('Místa dodání'!A180-10000,'Data eshop'!D:L,8,FALSE)=\"\",IF(VLOOKUP('Místa dodání'!A180-10000,'Data eshop'!D:L,9,FALSE)=\"\",\"\",\"DIČ: \"&VLOOKUP('Místa dodání'!A180-10000,'Data eshop'!D:L,9,FALSE)),IF(VLOOKUP('Místa dodání'!A180-10000,'Data eshop'!D:L,9,FALSE)=\"\",\"\",\"DIČ: \"&VLOOKUP('Místa dodání'!A180-10000,'Data eshop'!D:L,9,FALSE)&\", \")&\"IČO: \"&VLOOKUP('Místa dodání'!A180-10000,'Data eshop'!D:L,8,FALSE)))","v":""},{"$f":"IF(A180=\"\",\"\",VLOOKUP(A180-10000,'Data eshop'!D:AD,6,FALSE))","v":""},{"$f":"IF(A180=\"\",\"\",VLOOKUP(A180-10000,'Data eshop'!D:AD,7,FALSE))","v":""},{"$f":"IF(A180=\"\",\"\",VLOOKUP(A180-10000,'Data eshop'!D:AD,10,FALSE))","v":""},"","","",""]
[{"$f":"IFERROR(SMALL('Data eshop'!D:D,COUNTIF('Data eshop'!D:D,\"<\"&(A180-10000)))+10000,\"\")","v":""},"",{"$f":"IF(A181=\"\",\"\",IF(VLOOKUP(A181-10000,'Data eshop'!D:G,2,FALSE)=\"\",PROPER(VLOOKUP(A181-10000,'Data eshop'!D:G,3,FALSE)&\" \"&VLOOKUP(A181-10000,'Data eshop'!D:G,4,FALSE)),VLOOKUP(A181-10000,'Data eshop'!D:G,2,FALSE)&\" - \"&PROPER(VLOOKUP(A181-10000,'Data eshop'!D:G,3,FALSE)&\" \"&VLOOKUP(A181-10000,'Data eshop'!D:G,4,FALSE))))","v":""},null,{"$f":"IF(A181=\"\",\"\",VLOOKUP(A181-10000,'Data eshop'!D:AD,5,FALSE))","v":""},{"$f":"IF(A181=\"\",\"\",IF(VLOOKUP('Místa dodání'!A181-10000,'Data eshop'!D:L,8,FALSE)=\"\",IF(VLOOKUP('Místa dodání'!A181-10000,'Data eshop'!D:L,9,FALSE)=\"\",\"\",\"DIČ: \"&VLOOKUP('Místa dodání'!A181-10000,'Data eshop'!D:L,9,FALSE)),IF(VLOOKUP('Místa dodání'!A181-10000,'Data eshop'!D:L,9,FALSE)=\"\",\"\",\"DIČ: \"&VLOOKUP('Místa dodání'!A181-10000,'Data eshop'!D:L,9,FALSE)&\", \")&\"IČO: \"&VLOOKUP('Místa dodání'!A181-10000,'Data eshop'!D:L,8,FALSE)))","v":""},{"$f":"IF(A181=\"\",\"\",VLOOKUP(A181-10000,'Data eshop'!D:AD,6,FALSE))","v":""},{"$f":"IF(A181=\"\",\"\",VLOOKUP(A181-10000,'Data eshop'!D:AD,7,FALSE))","v":""},{"$f":"IF(A181=\"\",\"\",VLOOKUP(A181-10000,'Data eshop'!D:AD,10,FALSE))","v":""},"","","",""]
[{"$f":"IFERROR(SMALL('Data eshop'!D:D,COUNTIF('Data eshop'!D:D,\"<\"&(A181-10000)))+10000,\"\")","v":""},"",{"$f":"IF(A182=\"\",\"\",IF(VLOOKUP(A182-10000,'Data eshop'!D:G,2,FALSE)=\"\",PROPER(VLOOKUP(A182-10000,'Data eshop'!D:G,3,FALSE)&\" \"&VLOOKUP(A182-10000,'Data eshop'!D:G,4,FALSE)),VLOOKUP(A182-10000,'Data eshop'!D:G,2,FALSE)&\" - \"&PROPER(VLOOKUP(A182-10000,'Data eshop'!D:G,3,FALSE)&\" \"&VLOOKUP(A182-10000,'Data eshop'!D:G,4,FALSE))))","v":""},null,{"$f":"IF(A182=\"\",\"\",VLOOKUP(A182-10000,'Data eshop'!D:AD,5,FALSE))","v":""},{"$f":"IF(A182=\"\",\"\",IF(VLOOKUP('Místa dodání'!A182-10000,'Data eshop'!D:L,8,FALSE)=\"\",IF(VLOOKUP('Místa dodání'!A182-10000,'Data eshop'!D:L,9,FALSE)=\"\",\"\",\"DIČ: \"&VLOOKUP('Místa dodání'!A182-10000,'Data eshop'!D:L,9,FALSE)),IF(VLOOKUP('Místa dodání'!A182-10000,'Data eshop'!D:L,9,FALSE)=\"\",\"\",\"DIČ: \"&VLOOKUP('Místa dodání'!A182-10000,'Data eshop'!D:L,9,FALSE)&\", \")&\"IČO: \"&VLOOKUP('Místa dodání'!A182-10000,'Data eshop'!D:L,8,FALSE)))","v":""},{"$f":"IF(A182=\"\",\"\",VLOOKUP(A182-10000,'Data eshop'!D:AD,6,FALSE))","v":""},{"$f":"IF(A182=\"\",\"\",VLOOKUP(A182-10000,'Data eshop'!D:AD,7,FALSE))","v":""},{"$f":"IF(A182=\"\",\"\",VLOOKUP(A182-10000,'Data eshop'!D:AD,10,FALSE))","v":""},"","","",""]
[{"$f":"IFERROR(SMALL('Data eshop'!D:D,COUNTIF('Data eshop'!D:D,\"<\"&(A182-10000)))+10000,\"\")","v":""},"",{"$f":"IF(A183=\"\",\"\",IF(VLOOKUP(A183-10000,'Data eshop'!D:G,2,FALSE)=\"\",PROPER(VLOOKUP(A183-10000,'Data eshop'!D:G,3,FALSE)&\" \"&VLOOKUP(A183-10000,'Data eshop'!D:G,4,FALSE)),VLOOKUP(A183-10000,'Data eshop'!D:G,2,FALSE)&\" - \"&PROPER(VLOOKUP(A183-10000,'Data eshop'!D:G,3,FALSE)&\" \"&VLOOKUP(A183-10000,'Data eshop'!D:G,4,FALSE))))","v":""},null,{"$f":"IF(A183=\"\",\"\",VLOOKUP(A183-10000,'Data eshop'!D:AD,5,FALSE))","v":""},{"$f":"IF(A183=\"\",\"\",IF(VLOOKUP('Místa dodání'!A183-10000,'Data eshop'!D:L,8,FALSE)=\"\",IF(VLOOKUP('Místa dodání'!A183-10000,'Data eshop'!D:L,9,FALSE)=\"\",\"\",\"DIČ: \"&VLOOKUP('Místa dodání'!A183-10000,'Data eshop'!D:L,9,FALSE)),IF(VLOOKUP('Místa dodání'!A183-10000,'Data eshop'!D:L,9,FALSE)=\"\",\"\",\"DIČ: \"&VLOOKUP('Místa dodání'!A183-10000,'Data eshop'!D:L,9,FALSE)&\", \")&\"IČO: \"&VLOOKUP('Místa dodání'!A183-10000,'Data eshop'!D:L,8,FALSE)))","v":""},{"$f":"IF(A183=\"\",\"\",VLOOKUP(A183-10000,'Data eshop'!D:AD,6,FALSE))","v":""},{"$f":"IF(A183=\"\",\"\",VLOOKUP(A183-10000,'Data eshop'!D:AD,7,FALSE))","v":""},{"$f":"IF(A183=\"\",\"\",VLOOKUP(A183-10000,'Data eshop'!D:AD,10,FALSE))","v":""},"","","","","Roluj nahoru, až uvidíš žlutou"]
[{"$f":"IFERROR(SMALL('Data eshop'!D:D,COUNTIF('Data eshop'!D:D,\"<\"&(A183-10000)))+10000,\"\")","v":""},"",{"$f":"IF(A184=\"\",\"\",IF(VLOOKUP(A184-10000,'Data eshop'!D:G,2,FALSE)=\"\",PROPER(VLOOKUP(A184-10000,'Data eshop'!D:G,3,FALSE)&\" \"&VLOOKUP(A184-10000,'Data eshop'!D:G,4,FALSE)),VLOOKUP(A184-10000,'Data eshop'!D:G,2,FALSE)&\" - \"&PROPER(VLOOKUP(A184-10000,'Data eshop'!D:G,3,FALSE)&\" \"&VLOOKUP(A184-10000,'Data eshop'!D:G,4,FALSE))))","v":""},null,{"$f":"IF(A184=\"\",\"\",VLOOKUP(A184-10000,'Data eshop'!D:AD,5,FALSE))","v":""},{"$f":"IF(A184=\"\",\"\",IF(VLOOKUP('Místa dodání'!A184-10000,'Data eshop'!D:L,8,FALSE)=\"\",IF(VLOOKUP('Místa dodání'!A184-10000,'Data eshop'!D:L,9,FALSE)=\"\",\"\",\"DIČ: \"&VLOOKUP('Místa dodání'!A184-10000,'Data eshop'!D:L,9,FALSE)),IF(VLOOKUP('Místa dodání'!A184-10000,'Data eshop'!D:L,9,FALSE)=\"\",\"\",\"DIČ: \"&VLOOKUP('Místa dodání'!A184-10000,'Data eshop'!D:L,9,FALSE)&\", \")&\"IČO: \"&VLOOKUP('Místa dodání'!A184-10000,'Data eshop'!D:L,8,FALSE)))","v":""},{"$f":"IF(A184=\"\",\"\",VLOOKUP(A184-10000,'Data eshop'!D:AD,6,FALSE))","v":""},{"$f":"IF(A184=\"\",\"\",VLOOKUP(A184-10000,'Data eshop'!D:AD,7,FALSE))","v":""},{"$f":"IF(A184=\"\",\"\",VLOOKUP(A184-10000,'Data eshop'!D:AD,10,FALSE))","v":""},"","","",""]
[{"$f":"IFERROR(SMALL('Data eshop'!D:D,COUNTIF('Data eshop'!D:D,\"<\"&(A184-10000)))+10000,\"\")","v":""},"",{"$f":"IF(A185=\"\",\"\",IF(VLOOKUP(A185-10000,'Data eshop'!D:G,2,FALSE)=\"\",PROPER(VLOOKUP(A185-10000,'Data eshop'!D:G,3,FALSE)&\" \"&VLOOKUP(A185-10000,'Data eshop'!D:G,4,FALSE)),VLOOKUP(A185-10000,'Data eshop'!D:G,2,FALSE)&\" - \"&PROPER(VLOOKUP(A185-10000,'Data eshop'!D:G,3,FALSE)&\" \"&VLOOKUP(A185-10000,'Data eshop'!D:G,4,FALSE))))","v":""},null,{"$f":"IF(A185=\"\",\"\",VLOOKUP(A185-10000,'Data eshop'!D:AD,5,FALSE))","v":""},{"$f":"IF(A185=\"\",\"\",IF(VLOOKUP('Místa dodání'!A185-10000,'Data eshop'!D:L,8,FALSE)=\"\",IF(VLOOKUP('Místa dodání'!A185-10000,'Data eshop'!D:L,9,FALSE)=\"\",\"\",\"DIČ: \"&VLOOKUP('Místa dodání'!A185-10000,'Data eshop'!D:L,9,FALSE)),IF(VLOOKUP('Místa dodání'!A185-10000,'Data eshop'!D:L,9,FALSE)=\"\",\"\",\"DIČ: \"&VLOOKUP('Místa dodání'!A185-10000,'Data eshop'!D:L,9,FALSE)&\", \")&\"IČO: \"&VLOOKUP('Místa dodání'!A185-10000,'Data eshop'!D:L,8,FALSE)))","v":""},{"$f":"IF(A185=\"\",\"\",VLOOKUP(A185-10000,'Data eshop'!D:AD,6,FALSE))","v":""},{"$f":"IF(A185=\"\",\"\",VLOOKUP(A185-10000,'Data eshop'!D:AD,7,FALSE))","v":""},{"$f":"IF(A185=\"\",\"\",VLOOKUP(A185-10000,'Data eshop'!D:AD,10,FALSE))","v":""},"","","",""]
[{"$f":"IFERROR(SMALL('Data eshop'!D:D,COUNTIF('Data eshop'!D:D,\"<\"&(A185-10000)))+10000,\"\")","v":""},"",{"$f":"IF(A186=\"\",\"\",IF(VLOOKUP(A186-10000,'Data eshop'!D:G,2,FALSE)=\"\",PROPER(VLOOKUP(A186-10000,'Data eshop'!D:G,3,FALSE)&\" \"&VLOOKUP(A186-10000,'Data eshop'!D:G,4,FALSE)),VLOOKUP(A186-10000,'Data eshop'!D:G,2,FALSE)&\" - \"&PROPER(VLOOKUP(A186-10000,'Data eshop'!D:G,3,FALSE)&\" \"&VLOOKUP(A186-10000,'Data eshop'!D:G,4,FALSE))))","v":""},null,{"$f":"IF(A186=\"\",\"\",VLOOKUP(A186-10000,'Data eshop'!D:AD,5,FALSE))","v":""},{"$f":"IF(A186=\"\",\"\",IF(VLOOKUP('Místa dodání'!A186-10000,'Data eshop'!D:L,8,FALSE)=\"\",IF(VLOOKUP('Místa dodání'!A186-10000,'Data eshop'!D:L,9,FALSE)=\"\",\"\",\"DIČ: \"&VLOOKUP('Místa dodání'!A186-10000,'Data eshop'!D:L,9,FALSE)),IF(VLOOKUP('Místa dodání'!A186-10000,'Data eshop'!D:L,9,FALSE)=\"\",\"\",\"DIČ: \"&VLOOKUP('Místa dodání'!A186-10000,'Data eshop'!D:L,9,FALSE)&\", \")&\"IČO: \"&VLOOKUP('Místa dodání'!A186-10000,'Data eshop'!D:L,8,FALSE)))","v":""},{"$f":"IF(A186=\"\",\"\",VLOOKUP(A186-10000,'Data eshop'!D:AD,6,FALSE))","v":""},{"$f":"IF(A186=\"\",\"\",VLOOKUP(A186-10000,'Data eshop'!D:AD,7,FALSE))","v":""},{"$f":"IF(A186=\"\",\"\",VLOOKUP(A186-10000,'Data eshop'!D:AD,10,FALSE))","v":""},"","","",""]
[{"$f":"IFERROR(SMALL('Data eshop'!D:D,COUNTIF('Data eshop'!D:D,\"<\"&(A186-10000)))+10000,\"\")","v":""},"",{"$f":"IF(A187=\"\",\"\",IF(VLOOKUP(A187-10000,'Data eshop'!D:G,2,FALSE)=\"\",PROPER(VLOOKUP(A187-10000,'Data eshop'!D:G,3,FALSE)&\" \"&VLOOKUP(A187-10000,'Data eshop'!D:G,4,FALSE)),VLOOKUP(A187-10000,'Data eshop'!D:G,2,FALSE)&\" - \"&PROPER(VLOOKUP(A187-10000,'Data eshop'!D:G,3,FALSE)&\" \"&VLOOKUP(A187-10000,'Data eshop'!D:G,4,FALSE))))","v":""},null,{"$f":"IF(A187=\"\",\"\",VLOOKUP(A187-10000,'Data eshop'!D:AD,5,FALSE))","v":""},{"$f":"IF(A187=\"\",\"\",IF(VLOOKUP('Místa dodání'!A187-10000,'Data eshop'!D:L,8,FALSE)=\"\",IF(VLOOKUP('Místa dodání'!A187-10000,'Data eshop'!D:L,9,FALSE)=\"\",\"\",\"DIČ: \"&VLOOKUP('Místa dodání'!A187-10000,'Data eshop'!D:L,9,FALSE)),IF(VLOOKUP('Místa dodání'!A187-10000,'Data eshop'!D:L,9,FALSE)=\"\",\"\",\"DIČ: \"&VLOOKUP('Místa dodání'!A187-10000,'Data eshop'!D:L,9,FALSE)&\", \")&\"IČO: \"&VLOOKUP('Místa dodání'!A187-10000,'Data eshop'!D:L,8,FALSE)))","v":""},{"$f":"IF(A187=\"\",\"\",VLOOKUP(A187-10000,'Data eshop'!D:AD,6,FALSE))","v":""},{"$f":"IF(A187=\"\",\"\",VLOOKUP(A187-10000,'Data eshop'!D:AD,7,FALSE))","v":""},{"$f":"IF(A187=\"\",\"\",VLOOKUP(A187-10000,'Data eshop'!D:AD,10,FALSE))","v":""},"","","","","Roluj nahoru, až uvidíš žlutou"]
[{"$f":"IFERROR(SMALL('Data eshop'!D:D,COUNTIF('Data eshop'!D:D,\"<\"&(A187-10000)))+10000,\"\")","v":""},"",{"$f":"IF(A188=\"\",\"\",IF(VLOOKUP(A188-10000,'Data eshop'!D:G,2,FALSE)=\"\",PROPER(VLOOKUP(A188-10000,'Data eshop'!D:G,3,FALSE)&\" \"&VLOOKUP(A188-10000,'Data eshop'!D:G,4,FALSE)),VLOOKUP(A188-10000,'Data eshop'!D:G,2,FALSE)&\" - \"&PROPER(VLOOKUP(A188-10000,'Data eshop'!D:G,3,FALSE)&\" \"&VLOOKUP(A188-10000,'Data eshop'!D:G,4,FALSE))))","v":""},null,{"$f":"IF(A188=\"\",\"\",VLOOKUP(A188-10000,'Data eshop'!D:AD,5,FALSE))","v":""},{"$f":"IF(A188=\"\",\"\",IF(VLOOKUP('Místa dodání'!A188-10000,'Data eshop'!D:L,8,FALSE)=\"\",IF(VLOOKUP('Místa dodání'!A188-10000,'Data eshop'!D:L,9,FALSE)=\"\",\"\",\"DIČ: \"&VLOOKUP('Místa dodání'!A188-10000,'Data eshop'!D:L,9,FALSE)),IF(VLOOKUP('Místa dodání'!A188-10000,'Data eshop'!D:L,9,FALSE)=\"\",\"\",\"DIČ: \"&VLOOKUP('Místa dodání'!A188-10000,'Data eshop'!D:L,9,FALSE)&\", \")&\"IČO: \"&VLOOKUP('Místa dodání'!A188-10000,'Data eshop'!D:L,8,FALSE)))","v":""},{"$f":"IF(A188=\"\",\"\",VLOOKUP(A188-10000,'Data eshop'!D:AD,6,FALSE))","v":""},{"$f":"IF(A188=\"\",\"\",VLOOKUP(A188-10000,'Data eshop'!D:AD,7,FALSE))","v":""},{"$f":"IF(A188=\"\",\"\",VLOOKUP(A188-10000,'Data eshop'!D:AD,10,FALSE))","v":""},"","","",""]
[{"$f":"IFERROR(SMALL('Data eshop'!D:D,COUNTIF('Data eshop'!D:D,\"<\"&(A188-10000)))+10000,\"\")","v":""},"",{"$f":"IF(A189=\"\",\"\",IF(VLOOKUP(A189-10000,'Data eshop'!D:G,2,FALSE)=\"\",PROPER(VLOOKUP(A189-10000,'Data eshop'!D:G,3,FALSE)&\" \"&VLOOKUP(A189-10000,'Data eshop'!D:G,4,FALSE)),VLOOKUP(A189-10000,'Data eshop'!D:G,2,FALSE)&\" - \"&PROPER(VLOOKUP(A189-10000,'Data eshop'!D:G,3,FALSE)&\" \"&VLOOKUP(A189-10000,'Data eshop'!D:G,4,FALSE))))","v":""},null,{"$f":"IF(A189=\"\",\"\",VLOOKUP(A189-10000,'Data eshop'!D:AD,5,FALSE))","v":""},{"$f":"IF(A189=\"\",\"\",IF(VLOOKUP('Místa dodání'!A189-10000,'Data eshop'!D:L,8,FALSE)=\"\",IF(VLOOKUP('Místa dodání'!A189-10000,'Data eshop'!D:L,9,FALSE)=\"\",\"\",\"DIČ: \"&VLOOKUP('Místa dodání'!A189-10000,'Data eshop'!D:L,9,FALSE)),IF(VLOOKUP('Místa dodání'!A189-10000,'Data eshop'!D:L,9,FALSE)=\"\",\"\",\"DIČ: \"&VLOOKUP('Místa dodání'!A189-10000,'Data eshop'!D:L,9,FALSE)&\", \")&\"IČO: \"&VLOOKUP('Místa dodání'!A189-10000,'Data eshop'!D:L,8,FALSE)))","v":""},{"$f":"IF(A189=\"\",\"\",VLOOKUP(A189-10000,'Data eshop'!D:AD,6,FALSE))","v":""},{"$f":"IF(A189=\"\",\"\",VLOOKUP(A189-10000,'Data eshop'!D:AD,7,FALSE))","v":""},{"$f":"IF(A189=\"\",\"\",VLOOKUP(A189-10000,'Data eshop'!D:AD,10,FALSE))","v":""},"","","",""]
[{"$f":"IFERROR(SMALL('Data eshop'!D:D,COUNTIF('Data eshop'!D:D,\"<\"&(A189-10000)))+10000,\"\")","v":""},"",{"$f":"IF(A190=\"\",\"\",IF(VLOOKUP(A190-10000,'Data eshop'!D:G,2,FALSE)=\"\",PROPER(VLOOKUP(A190-10000,'Data eshop'!D:G,3,FALSE)&\" \"&VLOOKUP(A190-10000,'Data eshop'!D:G,4,FALSE)),VLOOKUP(A190-10000,'Data eshop'!D:G,2,FALSE)&\" - \"&PROPER(VLOOKUP(A190-10000,'Data eshop'!D:G,3,FALSE)&\" \"&VLOOKUP(A190-10000,'Data eshop'!D:G,4,FALSE))))","v":""},null,{"$f":"IF(A190=\"\",\"\",VLOOKUP(A190-10000,'Data eshop'!D:AD,5,FALSE))","v":""},{"$f":"IF(A190=\"\",\"\",IF(VLOOKUP('Místa dodání'!A190-10000,'Data eshop'!D:L,8,FALSE)=\"\",IF(VLOOKUP('Místa dodání'!A190-10000,'Data eshop'!D:L,9,FALSE)=\"\",\"\",\"DIČ: \"&VLOOKUP('Místa dodání'!A190-10000,'Data eshop'!D:L,9,FALSE)),IF(VLOOKUP('Místa dodání'!A190-10000,'Data eshop'!D:L,9,FALSE)=\"\",\"\",\"DIČ: \"&VLOOKUP('Místa dodání'!A190-10000,'Data eshop'!D:L,9,FALSE)&\", \")&\"IČO: \"&VLOOKUP('Místa dodání'!A190-10000,'Data eshop'!D:L,8,FALSE)))","v":""},{"$f":"IF(A190=\"\",\"\",VLOOKUP(A190-10000,'Data eshop'!D:AD,6,FALSE))","v":""},{"$f":"IF(A190=\"\",\"\",VLOOKUP(A190-10000,'Data eshop'!D:AD,7,FALSE))","v":""},{"$f":"IF(A190=\"\",\"\",VLOOKUP(A190-10000,'Data eshop'!D:AD,10,FALSE))","v":""},"","","",""]
[{"$f":"IFERROR(SMALL('Data eshop'!D:D,COUNTIF('Data eshop'!D:D,\"<\"&(A190-10000)))+10000,\"\")","v":""},"",{"$f":"IF(A191=\"\",\"\",IF(VLOOKUP(A191-10000,'Data eshop'!D:G,2,FALSE)=\"\",PROPER(VLOOKUP(A191-10000,'Data eshop'!D:G,3,FALSE)&\" \"&VLOOKUP(A191-10000,'Data eshop'!D:G,4,FALSE)),VLOOKUP(A191-10000,'Data eshop'!D:G,2,FALSE)&\" - \"&PROPER(VLOOKUP(A191-10000,'Data eshop'!D:G,3,FALSE)&\" \"&VLOOKUP(A191-10000,'Data eshop'!D:G,4,FALSE))))","v":""},null,{"$f":"IF(A191=\"\",\"\",VLOOKUP(A191-10000,'Data eshop'!D:AD,5,FALSE))","v":""},{"$f":"IF(A191=\"\",\"\",IF(VLOOKUP('Místa dodání'!A191-10000,'Data eshop'!D:L,8,FALSE)=\"\",IF(VLOOKUP('Místa dodání'!A191-10000,'Data eshop'!D:L,9,FALSE)=\"\",\"\",\"DIČ: \"&VLOOKUP('Místa dodání'!A191-10000,'Data eshop'!D:L,9,FALSE)),IF(VLOOKUP('Místa dodání'!A191-10000,'Data eshop'!D:L,9,FALSE)=\"\",\"\",\"DIČ: \"&VLOOKUP('Místa dodání'!A191-10000,'Data eshop'!D:L,9,FALSE)&\", \")&\"IČO: \"&VLOOKUP('Místa dodání'!A191-10000,'Data eshop'!D:L,8,FALSE)))","v":""},{"$f":"IF(A191=\"\",\"\",VLOOKUP(A191-10000,'Data eshop'!D:AD,6,FALSE))","v":""},{"$f":"IF(A191=\"\",\"\",VLOOKUP(A191-10000,'Data eshop'!D:AD,7,FALSE))","v":""},{"$f":"IF(A191=\"\",\"\",VLOOKUP(A191-10000,'Data eshop'!D:AD,10,FALSE))","v":""},"","","","","Roluj nahoru, až uvidíš žlutou"]
[{"$f":"IFERROR(SMALL('Data eshop'!D:D,COUNTIF('Data eshop'!D:D,\"<\"&(A191-10000)))+10000,\"\")","v":""},"",{"$f":"IF(A192=\"\",\"\",IF(VLOOKUP(A192-10000,'Data eshop'!D:G,2,FALSE)=\"\",PROPER(VLOOKUP(A192-10000,'Data eshop'!D:G,3,FALSE)&\" \"&VLOOKUP(A192-10000,'Data eshop'!D:G,4,FALSE)),VLOOKUP(A192-10000,'Data eshop'!D:G,2,FALSE)&\" - \"&PROPER(VLOOKUP(A192-10000,'Data eshop'!D:G,3,FALSE)&\" \"&VLOOKUP(A192-10000,'Data eshop'!D:G,4,FALSE))))","v":""},null,{"$f":"IF(A192=\"\",\"\",VLOOKUP(A192-10000,'Data eshop'!D:AD,5,FALSE))","v":""},{"$f":"IF(A192=\"\",\"\",IF(VLOOKUP('Místa dodání'!A192-10000,'Data eshop'!D:L,8,FALSE)=\"\",IF(VLOOKUP('Místa dodání'!A192-10000,'Data eshop'!D:L,9,FALSE)=\"\",\"\",\"DIČ: \"&VLOOKUP('Místa dodání'!A192-10000,'Data eshop'!D:L,9,FALSE)),IF(VLOOKUP('Místa dodání'!A192-10000,'Data eshop'!D:L,9,FALSE)=\"\",\"\",\"DIČ: \"&VLOOKUP('Místa dodání'!A192-10000,'Data eshop'!D:L,9,FALSE)&\", \")&\"IČO: \"&VLOOKUP('Místa dodání'!A192-10000,'Data eshop'!D:L,8,FALSE)))","v":""},{"$f":"IF(A192=\"\",\"\",VLOOKUP(A192-10000,'Data eshop'!D:AD,6,FALSE))","v":""},{"$f":"IF(A192=\"\",\"\",VLOOKUP(A192-10000,'Data eshop'!D:AD,7,FALSE))","v":""},{"$f":"IF(A192=\"\",\"\",VLOOKUP(A192-10000,'Data eshop'!D:AD,10,FALSE))","v":""},"","","",""]
[{"$f":"IFERROR(SMALL('Data eshop'!D:D,COUNTIF('Data eshop'!D:D,\"<\"&(A192-10000)))+10000,\"\")","v":""},"",{"$f":"IF(A193=\"\",\"\",IF(VLOOKUP(A193-10000,'Data eshop'!D:G,2,FALSE)=\"\",PROPER(VLOOKUP(A193-10000,'Data eshop'!D:G,3,FALSE)&\" \"&VLOOKUP(A193-10000,'Data eshop'!D:G,4,FALSE)),VLOOKUP(A193-10000,'Data eshop'!D:G,2,FALSE)&\" - \"&PROPER(VLOOKUP(A193-10000,'Data eshop'!D:G,3,FALSE)&\" \"&VLOOKUP(A193-10000,'Data eshop'!D:G,4,FALSE))))","v":""},null,{"$f":"IF(A193=\"\",\"\",VLOOKUP(A193-10000,'Data eshop'!D:AD,5,FALSE))","v":""},{"$f":"IF(A193=\"\",\"\",IF(VLOOKUP('Místa dodání'!A193-10000,'Data eshop'!D:L,8,FALSE)=\"\",IF(VLOOKUP('Místa dodání'!A193-10000,'Data eshop'!D:L,9,FALSE)=\"\",\"\",\"DIČ: \"&VLOOKUP('Místa dodání'!A193-10000,'Data eshop'!D:L,9,FALSE)),IF(VLOOKUP('Místa dodání'!A193-10000,'Data eshop'!D:L,9,FALSE)=\"\",\"\",\"DIČ: \"&VLOOKUP('Místa dodání'!A193-10000,'Data eshop'!D:L,9,FALSE)&\", \")&\"IČO: \"&VLOOKUP('Místa dodání'!A193-10000,'Data eshop'!D:L,8,FALSE)))","v":""},{"$f":"IF(A193=\"\",\"\",VLOOKUP(A193-10000,'Data eshop'!D:AD,6,FALSE))","v":""},{"$f":"IF(A193=\"\",\"\",VLOOKUP(A193-10000,'Data eshop'!D:AD,7,FALSE))","v":""},{"$f":"IF(A193=\"\",\"\",VLOOKUP(A193-10000,'Data eshop'!D:AD,10,FALSE))","v":""},"","","",""]
[{"$f":"IFERROR(SMALL('Data eshop'!D:D,COUNTIF('Data eshop'!D:D,\"<\"&(A193-10000)))+10000,\"\")","v":""},"",{"$f":"IF(A194=\"\",\"\",IF(VLOOKUP(A194-10000,'Data eshop'!D:G,2,FALSE)=\"\",PROPER(VLOOKUP(A194-10000,'Data eshop'!D:G,3,FALSE)&\" \"&VLOOKUP(A194-10000,'Data eshop'!D:G,4,FALSE)),VLOOKUP(A194-10000,'Data eshop'!D:G,2,FALSE)&\" - \"&PROPER(VLOOKUP(A194-10000,'Data eshop'!D:G,3,FALSE)&\" \"&VLOOKUP(A194-10000,'Data eshop'!D:G,4,FALSE))))","v":""},null,{"$f":"IF(A194=\"\",\"\",VLOOKUP(A194-10000,'Data eshop'!D:AD,5,FALSE))","v":""},{"$f":"IF(A194=\"\",\"\",IF(VLOOKUP('Místa dodání'!A194-10000,'Data eshop'!D:L,8,FALSE)=\"\",IF(VLOOKUP('Místa dodání'!A194-10000,'Data eshop'!D:L,9,FALSE)=\"\",\"\",\"DIČ: \"&VLOOKUP('Místa dodání'!A194-10000,'Data eshop'!D:L,9,FALSE)),IF(VLOOKUP('Místa dodání'!A194-10000,'Data eshop'!D:L,9,FALSE)=\"\",\"\",\"DIČ: \"&VLOOKUP('Místa dodání'!A194-10000,'Data eshop'!D:L,9,FALSE)&\", \")&\"IČO: \"&VLOOKUP('Místa dodání'!A194-10000,'Data eshop'!D:L,8,FALSE)))","v":""},{"$f":"IF(A194=\"\",\"\",VLOOKUP(A194-10000,'Data eshop'!D:AD,6,FALSE))","v":""},{"$f":"IF(A194=\"\",\"\",VLOOKUP(A194-10000,'Data eshop'!D:AD,7,FALSE))","v":""},{"$f":"IF(A194=\"\",\"\",VLOOKUP(A194-10000,'Data eshop'!D:AD,10,FALSE))","v":""},"","","",""]
[{"$f":"IFERROR(SMALL('Data eshop'!D:D,COUNTIF('Data eshop'!D:D,\"<\"&(A194-10000)))+10000,\"\")","v":""},"",{"$f":"IF(A195=\"\",\"\",IF(VLOOKUP(A195-10000,'Data eshop'!D:G,2,FALSE)=\"\",PROPER(VLOOKUP(A195-10000,'Data eshop'!D:G,3,FALSE)&\" \"&VLOOKUP(A195-10000,'Data eshop'!D:G,4,FALSE)),VLOOKUP(A195-10000,'Data eshop'!D:G,2,FALSE)&\" - \"&PROPER(VLOOKUP(A195-10000,'Data eshop'!D:G,3,FALSE)&\" \"&VLOOKUP(A195-10000,'Data eshop'!D:G,4,FALSE))))","v":""},null,{"$f":"IF(A195=\"\",\"\",VLOOKUP(A195-10000,'Data eshop'!D:AD,5,FALSE))","v":""},{"$f":"IF(A195=\"\",\"\",IF(VLOOKUP('Místa dodání'!A195-10000,'Data eshop'!D:L,8,FALSE)=\"\",IF(VLOOKUP('Místa dodání'!A195-10000,'Data eshop'!D:L,9,FALSE)=\"\",\"\",\"DIČ: \"&VLOOKUP('Místa dodání'!A195-10000,'Data eshop'!D:L,9,FALSE)),IF(VLOOKUP('Místa dodání'!A195-10000,'Data eshop'!D:L,9,FALSE)=\"\",\"\",\"DIČ: \"&VLOOKUP('Místa dodání'!A195-10000,'Data eshop'!D:L,9,FALSE)&\", \")&\"IČO: \"&VLOOKUP('Místa dodání'!A195-10000,'Data eshop'!D:L,8,FALSE)))","v":""},{"$f":"IF(A195=\"\",\"\",VLOOKUP(A195-10000,'Data eshop'!D:AD,6,FALSE))","v":""},{"$f":"IF(A195=\"\",\"\",VLOOKUP(A195-10000,'Data eshop'!D:AD,7,FALSE))","v":""},{"$f":"IF(A195=\"\",\"\",VLOOKUP(A195-10000,'Data eshop'!D:AD,10,FALSE))","v":""},"","","","","Roluj nahoru, až uvidíš žlutou"]
[{"$f":"IFERROR(SMALL('Data eshop'!D:D,COUNTIF('Data eshop'!D:D,\"<\"&(A195-10000)))+10000,\"\")","v":""},{"$f":"IF(I196=\"\",\"\",IF(I196=\"česká republika\",7,IF(I196=\"poland\",2,IF(I196=\"Slovakia\",87,IF(I196=\"Germany\",2695,IF(I196=\"Austria\",2695,\"\"))))))","v":""},{"$f":"IF(A196=\"\",\"\",IF(VLOOKUP(A196-10000,'Data eshop'!D:G,2,FALSE)=\"\",PROPER(VLOOKUP(A196-10000,'Data eshop'!D:G,3,FALSE)&\" \"&VLOOKUP(A196-10000,'Data eshop'!D:G,4,FALSE)),VLOOKUP(A196-10000,'Data eshop'!D:G,2,FALSE)&\" - \"&PROPER(VLOOKUP(A196-10000,'Data eshop'!D:G,3,FALSE)&\" \"&VLOOKUP(A196-10000,'Data eshop'!D:G,4,FALSE))))","v":""},null,{"$f":"IF(A196=\"\",\"\",VLOOKUP(A196-10000,'Data eshop'!D:AD,5,FALSE))","v":""},{"$f":"IF(A196=\"\",\"\",IF(VLOOKUP('Místa dodání'!A196-10000,'Data eshop'!D:L,8,FALSE)=\"\",IF(VLOOKUP('Místa dodání'!A196-10000,'Data eshop'!D:L,9,FALSE)=\"\",\"\",\"DIČ: \"&VLOOKUP('Místa dodání'!A196-10000,'Data eshop'!D:L,9,FALSE)),IF(VLOOKUP('Místa dodání'!A196-10000,'Data eshop'!D:L,9,FALSE)=\"\",\"\",\"DIČ: \"&VLOOKUP('Místa dodání'!A196-10000,'Data eshop'!D:L,9,FALSE)&\", \")&\"IČO: \"&VLOOKUP('Místa dodání'!A196-10000,'Data eshop'!D:L,8,FALSE)))","v":""},{"$f":"IF(A196=\"\",\"\",VLOOKUP(A196-10000,'Data eshop'!D:AD,6,FALSE))","v":""},{"$f":"IF(A196=\"\",\"\",VLOOKUP(A196-10000,'Data eshop'!D:AD,7,FALSE))","v":""},{"$f":"IF(A196=\"\",\"\",VLOOKUP(A196-10000,'Data eshop'!D:AD,10,FALSE))","v":""},{"$f":"IF(A196=\"\",\"\",1)","v":""},{"$f":"IF(A196=\"\",\"\",1)","v":""},{"$f":"IF(A196=\"\",\"\",\"Live\")","v":""},{"$f":"IF(A196=\"\",\"\",0)","v":""}]
[{"$f":"IFERROR(SMALL('Data eshop'!D:D,COUNTIF('Data eshop'!D:D,\"<\"&(A196-10000)))+10000,\"\")","v":""},"",{"$f":"IF(A197=\"\",\"\",IF(VLOOKUP(A197-10000,'Data eshop'!D:G,2,FALSE)=\"\",PROPER(VLOOKUP(A197-10000,'Data eshop'!D:G,3,FALSE)&\" \"&VLOOKUP(A197-10000,'Data eshop'!D:G,4,FALSE)),VLOOKUP(A197-10000,'Data eshop'!D:G,2,FALSE)&\" - \"&PROPER(VLOOKUP(A197-10000,'Data eshop'!D:G,3,FALSE)&\" \"&VLOOKUP(A197-10000,'Data eshop'!D:G,4,FALSE))))","v":""},null,{"$f":"IF(A197=\"\",\"\",VLOOKUP(A197-10000,'Data eshop'!D:AD,5,FALSE))","v":""},{"$f":"IF(A197=\"\",\"\",IF(VLOOKUP('Místa dodání'!A197-10000,'Data eshop'!D:L,8,FALSE)=\"\",IF(VLOOKUP('Místa dodání'!A197-10000,'Data eshop'!D:L,9,FALSE)=\"\",\"\",\"DIČ: \"&VLOOKUP('Místa dodání'!A197-10000,'Data eshop'!D:L,9,FALSE)),IF(VLOOKUP('Místa dodání'!A197-10000,'Data eshop'!D:L,9,FALSE)=\"\",\"\",\"DIČ: \"&VLOOKUP('Místa dodání'!A197-10000,'Data eshop'!D:L,9,FALSE)&\", \")&\"IČO: \"&VLOOKUP('Místa dodání'!A197-10000,'Data eshop'!D:L,8,FALSE)))","v":""},{"$f":"IF(A197=\"\",\"\",VLOOKUP(A197-10000,'Data eshop'!D:AD,6,FALSE))","v":""},{"$f":"IF(A197=\"\",\"\",VLOOKUP(A197-10000,'Data eshop'!D:AD,7,FALSE))","v":""},{"$f":"IF(A197=\"\",\"\",VLOOKUP(A197-10000,'Data eshop'!D:AD,10,FALSE))","v":""},"","","",""]
[{"$f":"IFERROR(SMALL('Data eshop'!D:D,COUNTIF('Data eshop'!D:D,\"<\"&(A197-10000)))+10000,\"\")","v":""},"",{"$f":"IF(A198=\"\",\"\",IF(VLOOKUP(A198-10000,'Data eshop'!D:G,2,FALSE)=\"\",PROPER(VLOOKUP(A198-10000,'Data eshop'!D:G,3,FALSE)&\" \"&VLOOKUP(A198-10000,'Data eshop'!D:G,4,FALSE)),VLOOKUP(A198-10000,'Data eshop'!D:G,2,FALSE)&\" - \"&PROPER(VLOOKUP(A198-10000,'Data eshop'!D:G,3,FALSE)&\" \"&VLOOKUP(A198-10000,'Data eshop'!D:G,4,FALSE))))","v":""},null,{"$f":"IF(A198=\"\",\"\",VLOOKUP(A198-10000,'Data eshop'!D:AD,5,FALSE))","v":""},{"$f":"IF(A198=\"\",\"\",IF(VLOOKUP('Místa dodání'!A198-10000,'Data eshop'!D:L,8,FALSE)=\"\",IF(VLOOKUP('Místa dodání'!A198-10000,'Data eshop'!D:L,9,FALSE)=\"\",\"\",\"DIČ: \"&VLOOKUP('Místa dodání'!A198-10000,'Data eshop'!D:L,9,FALSE)),IF(VLOOKUP('Místa dodání'!A198-10000,'Data eshop'!D:L,9,FALSE)=\"\",\"\",\"DIČ: \"&VLOOKUP('Místa dodání'!A198-10000,'Data eshop'!D:L,9,FALSE)&\", \")&\"IČO: \"&VLOOKUP('Místa dodání'!A198-10000,'Data eshop'!D:L,8,FALSE)))","v":""},{"$f":"IF(A198=\"\",\"\",VLOOKUP(A198-10000,'Data eshop'!D:AD,6,FALSE))","v":""},{"$f":"IF(A198=\"\",\"\",VLOOKUP(A198-10000,'Data eshop'!D:AD,7,FALSE))","v":""},{"$f":"IF(A198=\"\",\"\",VLOOKUP(A198-10000,'Data eshop'!D:AD,10,FALSE))","v":""},"","","",""]
[{"$f":"IFERROR(SMALL('Data eshop'!D:D,COUNTIF('Data eshop'!D:D,\"<\"&(A198-10000)))+10000,\"\")","v":""},"",{"$f":"IF(A199=\"\",\"\",IF(VLOOKUP(A199-10000,'Data eshop'!D:G,2,FALSE)=\"\",PROPER(VLOOKUP(A199-10000,'Data eshop'!D:G,3,FALSE)&\" \"&VLOOKUP(A199-10000,'Data eshop'!D:G,4,FALSE)),VLOOKUP(A199-10000,'Data eshop'!D:G,2,FALSE)&\" - \"&PROPER(VLOOKUP(A199-10000,'Data eshop'!D:G,3,FALSE)&\" \"&VLOOKUP(A199-10000,'Data eshop'!D:G,4,FALSE))))","v":""},null,{"$f":"IF(A199=\"\",\"\",VLOOKUP(A199-10000,'Data eshop'!D:AD,5,FALSE))","v":""},{"$f":"IF(A199=\"\",\"\",IF(VLOOKUP('Místa dodání'!A199-10000,'Data eshop'!D:L,8,FALSE)=\"\",IF(VLOOKUP('Místa dodání'!A199-10000,'Data eshop'!D:L,9,FALSE)=\"\",\"\",\"DIČ: \"&VLOOKUP('Místa dodání'!A199-10000,'Data eshop'!D:L,9,FALSE)),IF(VLOOKUP('Místa dodání'!A199-10000,'Data eshop'!D:L,9,FALSE)=\"\",\"\",\"DIČ: \"&VLOOKUP('Místa dodání'!A199-10000,'Data eshop'!D:L,9,FALSE)&\", \")&\"IČO: \"&VLOOKUP('Místa dodání'!A199-10000,'Data eshop'!D:L,8,FALSE)))","v":""},{"$f":"IF(A199=\"\",\"\",VLOOKUP(A199-10000,'Data eshop'!D:AD,6,FALSE))","v":""},{"$f":"IF(A199=\"\",\"\",VLOOKUP(A199-10000,'Data eshop'!D:AD,7,FALSE))","v":""},{"$f":"IF(A199=\"\",\"\",VLOOKUP(A199-10000,'Data eshop'!D:AD,10,FALSE))","v":""},"","","","","Roluj nahoru, až uvidíš žlutou"]
[{"$f":"IFERROR(SMALL('Data eshop'!D:D,COUNTIF('Data eshop'!D:D,\"<\"&(A199-10000)))+10000,\"\")","v":""},"",{"$f":"IF(A200=\"\",\"\",IF(VLOOKUP(A200-10000,'Data eshop'!D:G,2,FALSE)=\"\",PROPER(VLOOKUP(A200-10000,'Data eshop'!D:G,3,FALSE)&\" \"&VLOOKUP(A200-10000,'Data eshop'!D:G,4,FALSE)),VLOOKUP(A200-10000,'Data eshop'!D:G,2,FALSE)&\" - \"&PROPER(VLOOKUP(A200-10000,'Data eshop'!D:G,3,FALSE)&\" \"&VLOOKUP(A200-10000,'Data eshop'!D:G,4,FALSE))))","v":""},null,{"$f":"IF(A200=\"\",\"\",VLOOKUP(A200-10000,'Data eshop'!D:AD,5,FALSE))","v":""},{"$f":"IF(A200=\"\",\"\",IF(VLOOKUP('Místa dodání'!A200-10000,'Data eshop'!D:L,8,FALSE)=\"\",IF(VLOOKUP('Místa dodání'!A200-10000,'Data eshop'!D:L,9,FALSE)=\"\",\"\",\"DIČ: \"&VLOOKUP('Místa dodání'!A200-10000,'Data eshop'!D:L,9,FALSE)),IF(VLOOKUP('Místa dodání'!A200-10000,'Data eshop'!D:L,9,FALSE)=\"\",\"\",\"DIČ: \"&VLOOKUP('Místa dodání'!A200-10000,'Data eshop'!D:L,9,FALSE)&\", \")&\"IČO: \"&VLOOKUP('Místa dodání'!A200-10000,'Data eshop'!D:L,8,FALSE)))","v":""},{"$f":"IF(A200=\"\",\"\",VLOOKUP(A200-10000,'Data eshop'!D:AD,6,FALSE))","v":""},{"$f":"IF(A200=\"\",\"\",VLOOKUP(A200-10000,'Data eshop'!D:AD,7,FALSE))","v":""},{"$f":"IF(A200=\"\",\"\",VLOOKUP(A200-10000,'Data eshop'!D:AD,10,FALSE))","v":""},"","","",""]
[{"$f":"IFERROR(SMALL('Data eshop'!D:D,COUNTIF('Data eshop'!D:D,\"<\"&(A200-10000)))+10000,\"\")","v":""},"",{"$f":"IF(A201=\"\",\"\",IF(VLOOKUP(A201-10000,'Data eshop'!D:G,2,FALSE)=\"\",PROPER(VLOOKUP(A201-10000,'Data eshop'!D:G,3,FALSE)&\" \"&VLOOKUP(A201-10000,'Data eshop'!D:G,4,FALSE)),VLOOKUP(A201-10000,'Data eshop'!D:G,2,FALSE)&\" - \"&PROPER(VLOOKUP(A201-10000,'Data eshop'!D:G,3,FALSE)&\" \"&VLOOKUP(A201-10000,'Data eshop'!D:G,4,FALSE))))","v":""},null,{"$f":"IF(A201=\"\",\"\",VLOOKUP(A201-10000,'Data eshop'!D:AD,5,FALSE))","v":""},{"$f":"IF(A201=\"\",\"\",IF(VLOOKUP('Místa dodání'!A201-10000,'Data eshop'!D:L,8,FALSE)=\"\",IF(VLOOKUP('Místa dodání'!A201-10000,'Data eshop'!D:L,9,FALSE)=\"\",\"\",\"DIČ: \"&VLOOKUP('Místa dodání'!A201-10000,'Data eshop'!D:L,9,FALSE)),IF(VLOOKUP('Místa dodání'!A201-10000,'Data eshop'!D:L,9,FALSE)=\"\",\"\",\"DIČ: \"&VLOOKUP('Místa dodání'!A201-10000,'Data eshop'!D:L,9,FALSE)&\", \")&\"IČO: \"&VLOOKUP('Místa dodání'!A201-10000,'Data eshop'!D:L,8,FALSE)))","v":""},{"$f":"IF(A201=\"\",\"\",VLOOKUP(A201-10000,'Data eshop'!D:AD,6,FALSE))","v":""},{"$f":"IF(A201=\"\",\"\",VLOOKUP(A201-10000,'Data eshop'!D:AD,7,FALSE))","v":""},{"$f":"IF(A201=\"\",\"\",VLOOKUP(A201-10000,'Data eshop'!D:AD,10,FALSE))","v":""},"","","",""]
[{"$f":"IFERROR(SMALL('Data eshop'!D:D,COUNTIF('Data eshop'!D:D,\"<\"&(A201-10000)))+10000,\"\")","v":""},"",{"$f":"IF(A202=\"\",\"\",IF(VLOOKUP(A202-10000,'Data eshop'!D:G,2,FALSE)=\"\",PROPER(VLOOKUP(A202-10000,'Data eshop'!D:G,3,FALSE)&\" \"&VLOOKUP(A202-10000,'Data eshop'!D:G,4,FALSE)),VLOOKUP(A202-10000,'Data eshop'!D:G,2,FALSE)&\" - \"&PROPER(VLOOKUP(A202-10000,'Data eshop'!D:G,3,FALSE)&\" \"&VLOOKUP(A202-10000,'Data eshop'!D:G,4,FALSE))))","v":""},null,{"$f":"IF(A202=\"\",\"\",VLOOKUP(A202-10000,'Data eshop'!D:AD,5,FALSE))","v":""},{"$f":"IF(A202=\"\",\"\",IF(VLOOKUP('Místa dodání'!A202-10000,'Data eshop'!D:L,8,FALSE)=\"\",IF(VLOOKUP('Místa dodání'!A202-10000,'Data eshop'!D:L,9,FALSE)=\"\",\"\",\"DIČ: \"&VLOOKUP('Místa dodání'!A202-10000,'Data eshop'!D:L,9,FALSE)),IF(VLOOKUP('Místa dodání'!A202-10000,'Data eshop'!D:L,9,FALSE)=\"\",\"\",\"DIČ: \"&VLOOKUP('Místa dodání'!A202-10000,'Data eshop'!D:L,9,FALSE)&\", \")&\"IČO: \"&VLOOKUP('Místa dodání'!A202-10000,'Data eshop'!D:L,8,FALSE)))","v":""},{"$f":"IF(A202=\"\",\"\",VLOOKUP(A202-10000,'Data eshop'!D:AD,6,FALSE))","v":""},{"$f":"IF(A202=\"\",\"\",VLOOKUP(A202-10000,'Data eshop'!D:AD,7,FALSE))","v":""},{"$f":"IF(A202=\"\",\"\",VLOOKUP(A202-10000,'Data eshop'!D:AD,10,FALSE))","v":""},"","","",""]
[{"$f":"IFERROR(SMALL('Data eshop'!D:D,COUNTIF('Data eshop'!D:D,\"<\"&(A202-10000)))+10000,\"\")","v":""},"",{"$f":"IF(A203=\"\",\"\",IF(VLOOKUP(A203-10000,'Data eshop'!D:G,2,FALSE)=\"\",PROPER(VLOOKUP(A203-10000,'Data eshop'!D:G,3,FALSE)&\" \"&VLOOKUP(A203-10000,'Data eshop'!D:G,4,FALSE)),VLOOKUP(A203-10000,'Data eshop'!D:G,2,FALSE)&\" - \"&PROPER(VLOOKUP(A203-10000,'Data eshop'!D:G,3,FALSE)&\" \"&VLOOKUP(A203-10000,'Data eshop'!D:G,4,FALSE))))","v":""},null,{"$f":"IF(A203=\"\",\"\",VLOOKUP(A203-10000,'Data eshop'!D:AD,5,FALSE))","v":""},{"$f":"IF(A203=\"\",\"\",IF(VLOOKUP('Místa dodání'!A203-10000,'Data eshop'!D:L,8,FALSE)=\"\",IF(VLOOKUP('Místa dodání'!A203-10000,'Data eshop'!D:L,9,FALSE)=\"\",\"\",\"DIČ: \"&VLOOKUP('Místa dodání'!A203-10000,'Data eshop'!D:L,9,FALSE)),IF(VLOOKUP('Místa dodání'!A203-10000,'Data eshop'!D:L,9,FALSE)=\"\",\"\",\"DIČ: \"&VLOOKUP('Místa dodání'!A203-10000,'Data eshop'!D:L,9,FALSE)&\", \")&\"IČO: \"&VLOOKUP('Místa dodání'!A203-10000,'Data eshop'!D:L,8,FALSE)))","v":""},{"$f":"IF(A203=\"\",\"\",VLOOKUP(A203-10000,'Data eshop'!D:AD,6,FALSE))","v":""},{"$f":"IF(A203=\"\",\"\",VLOOKUP(A203-10000,'Data eshop'!D:AD,7,FALSE))","v":""},{"$f":"IF(A203=\"\",\"\",VLOOKUP(A203-10000,'Data eshop'!D:AD,10,FALSE))","v":""},"","","","","Roluj nahoru, až uvidíš žlutou"]
[{"$f":"IFERROR(SMALL('Data eshop'!D:D,COUNTIF('Data eshop'!D:D,\"<\"&(A203-10000)))+10000,\"\")","v":""},"",{"$f":"IF(A204=\"\",\"\",IF(VLOOKUP(A204-10000,'Data eshop'!D:G,2,FALSE)=\"\",PROPER(VLOOKUP(A204-10000,'Data eshop'!D:G,3,FALSE)&\" \"&VLOOKUP(A204-10000,'Data eshop'!D:G,4,FALSE)),VLOOKUP(A204-10000,'Data eshop'!D:G,2,FALSE)&\" - \"&PROPER(VLOOKUP(A204-10000,'Data eshop'!D:G,3,FALSE)&\" \"&VLOOKUP(A204-10000,'Data eshop'!D:G,4,FALSE))))","v":""},null,{"$f":"IF(A204=\"\",\"\",VLOOKUP(A204-10000,'Data eshop'!D:AD,5,FALSE))","v":""},{"$f":"IF(A204=\"\",\"\",IF(VLOOKUP('Místa dodání'!A204-10000,'Data eshop'!D:L,8,FALSE)=\"\",IF(VLOOKUP('Místa dodání'!A204-10000,'Data eshop'!D:L,9,FALSE)=\"\",\"\",\"DIČ: \"&VLOOKUP('Místa dodání'!A204-10000,'Data eshop'!D:L,9,FALSE)),IF(VLOOKUP('Místa dodání'!A204-10000,'Data eshop'!D:L,9,FALSE)=\"\",\"\",\"DIČ: \"&VLOOKUP('Místa dodání'!A204-10000,'Data eshop'!D:L,9,FALSE)&\", \")&\"IČO: \"&VLOOKUP('Místa dodání'!A204-10000,'Data eshop'!D:L,8,FALSE)))","v":""},{"$f":"IF(A204=\"\",\"\",VLOOKUP(A204-10000,'Data eshop'!D:AD,6,FALSE))","v":""},{"$f":"IF(A204=\"\",\"\",VLOOKUP(A204-10000,'Data eshop'!D:AD,7,FALSE))","v":""},{"$f":"IF(A204=\"\",\"\",VLOOKUP(A204-10000,'Data eshop'!D:AD,10,FALSE))","v":""},"","","",""]
[{"$f":"IFERROR(SMALL('Data eshop'!D:D,COUNTIF('Data eshop'!D:D,\"<\"&(A204-10000)))+10000,\"\")","v":""},"",{"$f":"IF(A205=\"\",\"\",IF(VLOOKUP(A205-10000,'Data eshop'!D:G,2,FALSE)=\"\",PROPER(VLOOKUP(A205-10000,'Data eshop'!D:G,3,FALSE)&\" \"&VLOOKUP(A205-10000,'Data eshop'!D:G,4,FALSE)),VLOOKUP(A205-10000,'Data eshop'!D:G,2,FALSE)&\" - \"&PROPER(VLOOKUP(A205-10000,'Data eshop'!D:G,3,FALSE)&\" \"&VLOOKUP(A205-10000,'Data eshop'!D:G,4,FALSE))))","v":""},null,{"$f":"IF(A205=\"\",\"\",VLOOKUP(A205-10000,'Data eshop'!D:AD,5,FALSE))","v":""},{"$f":"IF(A205=\"\",\"\",IF(VLOOKUP('Místa dodání'!A205-10000,'Data eshop'!D:L,8,FALSE)=\"\",IF(VLOOKUP('Místa dodání'!A205-10000,'Data eshop'!D:L,9,FALSE)=\"\",\"\",\"DIČ: \"&VLOOKUP('Místa dodání'!A205-10000,'Data eshop'!D:L,9,FALSE)),IF(VLOOKUP('Místa dodání'!A205-10000,'Data eshop'!D:L,9,FALSE)=\"\",\"\",\"DIČ: \"&VLOOKUP('Místa dodání'!A205-10000,'Data eshop'!D:L,9,FALSE)&\", \")&\"IČO: \"&VLOOKUP('Místa dodání'!A205-10000,'Data eshop'!D:L,8,FALSE)))","v":""},{"$f":"IF(A205=\"\",\"\",VLOOKUP(A205-10000,'Data eshop'!D:AD,6,FALSE))","v":""},{"$f":"IF(A205=\"\",\"\",VLOOKUP(A205-10000,'Data eshop'!D:AD,7,FALSE))","v":""},{"$f":"IF(A205=\"\",\"\",VLOOKUP(A205-10000,'Data eshop'!D:AD,10,FALSE))","v":""},"","","",""]
[{"$f":"IFERROR(SMALL('Data eshop'!D:D,COUNTIF('Data eshop'!D:D,\"<\"&(A205-10000)))+10000,\"\")","v":""},"",{"$f":"IF(A206=\"\",\"\",IF(VLOOKUP(A206-10000,'Data eshop'!D:G,2,FALSE)=\"\",PROPER(VLOOKUP(A206-10000,'Data eshop'!D:G,3,FALSE)&\" \"&VLOOKUP(A206-10000,'Data eshop'!D:G,4,FALSE)),VLOOKUP(A206-10000,'Data eshop'!D:G,2,FALSE)&\" - \"&PROPER(VLOOKUP(A206-10000,'Data eshop'!D:G,3,FALSE)&\" \"&VLOOKUP(A206-10000,'Data eshop'!D:G,4,FALSE))))","v":""},null,{"$f":"IF(A206=\"\",\"\",VLOOKUP(A206-10000,'Data eshop'!D:AD,5,FALSE))","v":""},{"$f":"IF(A206=\"\",\"\",IF(VLOOKUP('Místa dodání'!A206-10000,'Data eshop'!D:L,8,FALSE)=\"\",IF(VLOOKUP('Místa dodání'!A206-10000,'Data eshop'!D:L,9,FALSE)=\"\",\"\",\"DIČ: \"&VLOOKUP('Místa dodání'!A206-10000,'Data eshop'!D:L,9,FALSE)),IF(VLOOKUP('Místa dodání'!A206-10000,'Data eshop'!D:L,9,FALSE)=\"\",\"\",\"DIČ: \"&VLOOKUP('Místa dodání'!A206-10000,'Data eshop'!D:L,9,FALSE)&\", \")&\"IČO: \"&VLOOKUP('Místa dodání'!A206-10000,'Data eshop'!D:L,8,FALSE)))","v":""},{"$f":"IF(A206=\"\",\"\",VLOOKUP(A206-10000,'Data eshop'!D:AD,6,FALSE))","v":""},{"$f":"IF(A206=\"\",\"\",VLOOKUP(A206-10000,'Data eshop'!D:AD,7,FALSE))","v":""},{"$f":"IF(A206=\"\",\"\",VLOOKUP(A206-10000,'Data eshop'!D:AD,10,FALSE))","v":""},"","","",""]
[{"$f":"IFERROR(SMALL('Data eshop'!D:D,COUNTIF('Data eshop'!D:D,\"<\"&(A206-10000)))+10000,\"\")","v":""},"",{"$f":"IF(A207=\"\",\"\",IF(VLOOKUP(A207-10000,'Data eshop'!D:G,2,FALSE)=\"\",PROPER(VLOOKUP(A207-10000,'Data eshop'!D:G,3,FALSE)&\" \"&VLOOKUP(A207-10000,'Data eshop'!D:G,4,FALSE)),VLOOKUP(A207-10000,'Data eshop'!D:G,2,FALSE)&\" - \"&PROPER(VLOOKUP(A207-10000,'Data eshop'!D:G,3,FALSE)&\" \"&VLOOKUP(A207-10000,'Data eshop'!D:G,4,FALSE))))","v":""},null,{"$f":"IF(A207=\"\",\"\",VLOOKUP(A207-10000,'Data eshop'!D:AD,5,FALSE))","v":""},{"$f":"IF(A207=\"\",\"\",IF(VLOOKUP('Místa dodání'!A207-10000,'Data eshop'!D:L,8,FALSE)=\"\",IF(VLOOKUP('Místa dodání'!A207-10000,'Data eshop'!D:L,9,FALSE)=\"\",\"\",\"DIČ: \"&VLOOKUP('Místa dodání'!A207-10000,'Data eshop'!D:L,9,FALSE)),IF(VLOOKUP('Místa dodání'!A207-10000,'Data eshop'!D:L,9,FALSE)=\"\",\"\",\"DIČ: \"&VLOOKUP('Místa dodání'!A207-10000,'Data eshop'!D:L,9,FALSE)&\", \")&\"IČO: \"&VLOOKUP('Místa dodání'!A207-10000,'Data eshop'!D:L,8,FALSE)))","v":""},{"$f":"IF(A207=\"\",\"\",VLOOKUP(A207-10000,'Data eshop'!D:AD,6,FALSE))","v":""},{"$f":"IF(A207=\"\",\"\",VLOOKUP(A207-10000,'Data eshop'!D:AD,7,FALSE))","v":""},{"$f":"IF(A207=\"\",\"\",VLOOKUP(A207-10000,'Data eshop'!D:AD,10,FALSE))","v":""},"","","","","Roluj nahoru, až uvidíš žlutou"]
[{"$f":"IFERROR(SMALL('Data eshop'!D:D,COUNTIF('Data eshop'!D:D,\"<\"&(A207-10000)))+10000,\"\")","v":""},"",{"$f":"IF(A208=\"\",\"\",IF(VLOOKUP(A208-10000,'Data eshop'!D:G,2,FALSE)=\"\",PROPER(VLOOKUP(A208-10000,'Data eshop'!D:G,3,FALSE)&\" \"&VLOOKUP(A208-10000,'Data eshop'!D:G,4,FALSE)),VLOOKUP(A208-10000,'Data eshop'!D:G,2,FALSE)&\" - \"&PROPER(VLOOKUP(A208-10000,'Data eshop'!D:G,3,FALSE)&\" \"&VLOOKUP(A208-10000,'Data eshop'!D:G,4,FALSE))))","v":""},null,{"$f":"IF(A208=\"\",\"\",VLOOKUP(A208-10000,'Data eshop'!D:AD,5,FALSE))","v":""},{"$f":"IF(A208=\"\",\"\",IF(VLOOKUP('Místa dodání'!A208-10000,'Data eshop'!D:L,8,FALSE)=\"\",IF(VLOOKUP('Místa dodání'!A208-10000,'Data eshop'!D:L,9,FALSE)=\"\",\"\",\"DIČ: \"&VLOOKUP('Místa dodání'!A208-10000,'Data eshop'!D:L,9,FALSE)),IF(VLOOKUP('Místa dodání'!A208-10000,'Data eshop'!D:L,9,FALSE)=\"\",\"\",\"DIČ: \"&VLOOKUP('Místa dodání'!A208-10000,'Data eshop'!D:L,9,FALSE)&\", \")&\"IČO: \"&VLOOKUP('Místa dodání'!A208-10000,'Data eshop'!D:L,8,FALSE)))","v":""},{"$f":"IF(A208=\"\",\"\",VLOOKUP(A208-10000,'Data eshop'!D:AD,6,FALSE))","v":""},{"$f":"IF(A208=\"\",\"\",VLOOKUP(A208-10000,'Data eshop'!D:AD,7,FALSE))","v":""},{"$f":"IF(A208=\"\",\"\",VLOOKUP(A208-10000,'Data eshop'!D:AD,10,FALSE))","v":""},"","","",""]
[{"$f":"IFERROR(SMALL('Data eshop'!D:D,COUNTIF('Data eshop'!D:D,\"<\"&(A208-10000)))+10000,\"\")","v":""},"",{"$f":"IF(A209=\"\",\"\",IF(VLOOKUP(A209-10000,'Data eshop'!D:G,2,FALSE)=\"\",PROPER(VLOOKUP(A209-10000,'Data eshop'!D:G,3,FALSE)&\" \"&VLOOKUP(A209-10000,'Data eshop'!D:G,4,FALSE)),VLOOKUP(A209-10000,'Data eshop'!D:G,2,FALSE)&\" - \"&PROPER(VLOOKUP(A209-10000,'Data eshop'!D:G,3,FALSE)&\" \"&VLOOKUP(A209-10000,'Data eshop'!D:G,4,FALSE))))","v":""},null,{"$f":"IF(A209=\"\",\"\",VLOOKUP(A209-10000,'Data eshop'!D:AD,5,FALSE))","v":""},{"$f":"IF(A209=\"\",\"\",IF(VLOOKUP('Místa dodání'!A209-10000,'Data eshop'!D:L,8,FALSE)=\"\",IF(VLOOKUP('Místa dodání'!A209-10000,'Data eshop'!D:L,9,FALSE)=\"\",\"\",\"DIČ: \"&VLOOKUP('Místa dodání'!A209-10000,'Data eshop'!D:L,9,FALSE)),IF(VLOOKUP('Místa dodání'!A209-10000,'Data eshop'!D:L,9,FALSE)=\"\",\"\",\"DIČ: \"&VLOOKUP('Místa dodání'!A209-10000,'Data eshop'!D:L,9,FALSE)&\", \")&\"IČO: \"&VLOOKUP('Místa dodání'!A209-10000,'Data eshop'!D:L,8,FALSE)))","v":""},{"$f":"IF(A209=\"\",\"\",VLOOKUP(A209-10000,'Data eshop'!D:AD,6,FALSE))","v":""},{"$f":"IF(A209=\"\",\"\",VLOOKUP(A209-10000,'Data eshop'!D:AD,7,FALSE))","v":""},{"$f":"IF(A209=\"\",\"\",VLOOKUP(A209-10000,'Data eshop'!D:AD,10,FALSE))","v":""},"","","",""]
[{"$f":"IFERROR(SMALL('Data eshop'!D:D,COUNTIF('Data eshop'!D:D,\"<\"&(A209-10000)))+10000,\"\")","v":""},"",{"$f":"IF(A210=\"\",\"\",IF(VLOOKUP(A210-10000,'Data eshop'!D:G,2,FALSE)=\"\",PROPER(VLOOKUP(A210-10000,'Data eshop'!D:G,3,FALSE)&\" \"&VLOOKUP(A210-10000,'Data eshop'!D:G,4,FALSE)),VLOOKUP(A210-10000,'Data eshop'!D:G,2,FALSE)&\" - \"&PROPER(VLOOKUP(A210-10000,'Data eshop'!D:G,3,FALSE)&\" \"&VLOOKUP(A210-10000,'Data eshop'!D:G,4,FALSE))))","v":""},null,{"$f":"IF(A210=\"\",\"\",VLOOKUP(A210-10000,'Data eshop'!D:AD,5,FALSE))","v":""},{"$f":"IF(A210=\"\",\"\",IF(VLOOKUP('Místa dodání'!A210-10000,'Data eshop'!D:L,8,FALSE)=\"\",IF(VLOOKUP('Místa dodání'!A210-10000,'Data eshop'!D:L,9,FALSE)=\"\",\"\",\"DIČ: \"&VLOOKUP('Místa dodání'!A210-10000,'Data eshop'!D:L,9,FALSE)),IF(VLOOKUP('Místa dodání'!A210-10000,'Data eshop'!D:L,9,FALSE)=\"\",\"\",\"DIČ: \"&VLOOKUP('Místa dodání'!A210-10000,'Data eshop'!D:L,9,FALSE)&\", \")&\"IČO: \"&VLOOKUP('Místa dodání'!A210-10000,'Data eshop'!D:L,8,FALSE)))","v":""},{"$f":"IF(A210=\"\",\"\",VLOOKUP(A210-10000,'Data eshop'!D:AD,6,FALSE))","v":""},{"$f":"IF(A210=\"\",\"\",VLOOKUP(A210-10000,'Data eshop'!D:AD,7,FALSE))","v":""},{"$f":"IF(A210=\"\",\"\",VLOOKUP(A210-10000,'Data eshop'!D:AD,10,FALSE))","v":""},"","","",""]
[{"$f":"IFERROR(SMALL('Data eshop'!D:D,COUNTIF('Data eshop'!D:D,\"<\"&(A210-10000)))+10000,\"\")","v":""},"",{"$f":"IF(A211=\"\",\"\",IF(VLOOKUP(A211-10000,'Data eshop'!D:G,2,FALSE)=\"\",PROPER(VLOOKUP(A211-10000,'Data eshop'!D:G,3,FALSE)&\" \"&VLOOKUP(A211-10000,'Data eshop'!D:G,4,FALSE)),VLOOKUP(A211-10000,'Data eshop'!D:G,2,FALSE)&\" - \"&PROPER(VLOOKUP(A211-10000,'Data eshop'!D:G,3,FALSE)&\" \"&VLOOKUP(A211-10000,'Data eshop'!D:G,4,FALSE))))","v":""},null,{"$f":"IF(A211=\"\",\"\",VLOOKUP(A211-10000,'Data eshop'!D:AD,5,FALSE))","v":""},{"$f":"IF(A211=\"\",\"\",IF(VLOOKUP('Místa dodání'!A211-10000,'Data eshop'!D:L,8,FALSE)=\"\",IF(VLOOKUP('Místa dodání'!A211-10000,'Data eshop'!D:L,9,FALSE)=\"\",\"\",\"DIČ: \"&VLOOKUP('Místa dodání'!A211-10000,'Data eshop'!D:L,9,FALSE)),IF(VLOOKUP('Místa dodání'!A211-10000,'Data eshop'!D:L,9,FALSE)=\"\",\"\",\"DIČ: \"&VLOOKUP('Místa dodání'!A211-10000,'Data eshop'!D:L,9,FALSE)&\", \")&\"IČO: \"&VLOOKUP('Místa dodání'!A211-10000,'Data eshop'!D:L,8,FALSE)))","v":""},{"$f":"IF(A211=\"\",\"\",VLOOKUP(A211-10000,'Data eshop'!D:AD,6,FALSE))","v":""},{"$f":"IF(A211=\"\",\"\",VLOOKUP(A211-10000,'Data eshop'!D:AD,7,FALSE))","v":""},{"$f":"IF(A211=\"\",\"\",VLOOKUP(A211-10000,'Data eshop'!D:AD,10,FALSE))","v":""},"","","","","Roluj nahoru, až uvidíš žlutou"]
[{"$f":"IFERROR(SMALL('Data eshop'!D:D,COUNTIF('Data eshop'!D:D,\"<\"&(A211-10000)))+10000,\"\")","v":""},"",{"$f":"IF(A212=\"\",\"\",IF(VLOOKUP(A212-10000,'Data eshop'!D:G,2,FALSE)=\"\",PROPER(VLOOKUP(A212-10000,'Data eshop'!D:G,3,FALSE)&\" \"&VLOOKUP(A212-10000,'Data eshop'!D:G,4,FALSE)),VLOOKUP(A212-10000,'Data eshop'!D:G,2,FALSE)&\" - \"&PROPER(VLOOKUP(A212-10000,'Data eshop'!D:G,3,FALSE)&\" \"&VLOOKUP(A212-10000,'Data eshop'!D:G,4,FALSE))))","v":""},null,{"$f":"IF(A212=\"\",\"\",VLOOKUP(A212-10000,'Data eshop'!D:AD,5,FALSE))","v":""},{"$f":"IF(A212=\"\",\"\",IF(VLOOKUP('Místa dodání'!A212-10000,'Data eshop'!D:L,8,FALSE)=\"\",IF(VLOOKUP('Místa dodání'!A212-10000,'Data eshop'!D:L,9,FALSE)=\"\",\"\",\"DIČ: \"&VLOOKUP('Místa dodání'!A212-10000,'Data eshop'!D:L,9,FALSE)),IF(VLOOKUP('Místa dodání'!A212-10000,'Data eshop'!D:L,9,FALSE)=\"\",\"\",\"DIČ: \"&VLOOKUP('Místa dodání'!A212-10000,'Data eshop'!D:L,9,FALSE)&\", \")&\"IČO: \"&VLOOKUP('Místa dodání'!A212-10000,'Data eshop'!D:L,8,FALSE)))","v":""},{"$f":"IF(A212=\"\",\"\",VLOOKUP(A212-10000,'Data eshop'!D:AD,6,FALSE))","v":""},{"$f":"IF(A212=\"\",\"\",VLOOKUP(A212-10000,'Data eshop'!D:AD,7,FALSE))","v":""},{"$f":"IF(A212=\"\",\"\",VLOOKUP(A212-10000,'Data eshop'!D:AD,10,FALSE))","v":""},"","","",""]
[{"$f":"IFERROR(SMALL('Data eshop'!D:D,COUNTIF('Data eshop'!D:D,\"<\"&(A212-10000)))+10000,\"\")","v":""},"",{"$f":"IF(A213=\"\",\"\",IF(VLOOKUP(A213-10000,'Data eshop'!D:G,2,FALSE)=\"\",PROPER(VLOOKUP(A213-10000,'Data eshop'!D:G,3,FALSE)&\" \"&VLOOKUP(A213-10000,'Data eshop'!D:G,4,FALSE)),VLOOKUP(A213-10000,'Data eshop'!D:G,2,FALSE)&\" - \"&PROPER(VLOOKUP(A213-10000,'Data eshop'!D:G,3,FALSE)&\" \"&VLOOKUP(A213-10000,'Data eshop'!D:G,4,FALSE))))","v":""},null,{"$f":"IF(A213=\"\",\"\",VLOOKUP(A213-10000,'Data eshop'!D:AD,5,FALSE))","v":""},{"$f":"IF(A213=\"\",\"\",IF(VLOOKUP('Místa dodání'!A213-10000,'Data eshop'!D:L,8,FALSE)=\"\",IF(VLOOKUP('Místa dodání'!A213-10000,'Data eshop'!D:L,9,FALSE)=\"\",\"\",\"DIČ: \"&VLOOKUP('Místa dodání'!A213-10000,'Data eshop'!D:L,9,FALSE)),IF(VLOOKUP('Místa dodání'!A213-10000,'Data eshop'!D:L,9,FALSE)=\"\",\"\",\"DIČ: \"&VLOOKUP('Místa dodání'!A213-10000,'Data eshop'!D:L,9,FALSE)&\", \")&\"IČO: \"&VLOOKUP('Místa dodání'!A213-10000,'Data eshop'!D:L,8,FALSE)))","v":""},{"$f":"IF(A213=\"\",\"\",VLOOKUP(A213-10000,'Data eshop'!D:AD,6,FALSE))","v":""},{"$f":"IF(A213=\"\",\"\",VLOOKUP(A213-10000,'Data eshop'!D:AD,7,FALSE))","v":""},{"$f":"IF(A213=\"\",\"\",VLOOKUP(A213-10000,'Data eshop'!D:AD,10,FALSE))","v":""},"","","",""]
[{"$f":"IFERROR(SMALL('Data eshop'!D:D,COUNTIF('Data eshop'!D:D,\"<\"&(A213-10000)))+10000,\"\")","v":""},"",{"$f":"IF(A214=\"\",\"\",IF(VLOOKUP(A214-10000,'Data eshop'!D:G,2,FALSE)=\"\",PROPER(VLOOKUP(A214-10000,'Data eshop'!D:G,3,FALSE)&\" \"&VLOOKUP(A214-10000,'Data eshop'!D:G,4,FALSE)),VLOOKUP(A214-10000,'Data eshop'!D:G,2,FALSE)&\" - \"&PROPER(VLOOKUP(A214-10000,'Data eshop'!D:G,3,FALSE)&\" \"&VLOOKUP(A214-10000,'Data eshop'!D:G,4,FALSE))))","v":""},null,{"$f":"IF(A214=\"\",\"\",VLOOKUP(A214-10000,'Data eshop'!D:AD,5,FALSE))","v":""},{"$f":"IF(A214=\"\",\"\",IF(VLOOKUP('Místa dodání'!A214-10000,'Data eshop'!D:L,8,FALSE)=\"\",IF(VLOOKUP('Místa dodání'!A214-10000,'Data eshop'!D:L,9,FALSE)=\"\",\"\",\"DIČ: \"&VLOOKUP('Místa dodání'!A214-10000,'Data eshop'!D:L,9,FALSE)),IF(VLOOKUP('Místa dodání'!A214-10000,'Data eshop'!D:L,9,FALSE)=\"\",\"\",\"DIČ: \"&VLOOKUP('Místa dodání'!A214-10000,'Data eshop'!D:L,9,FALSE)&\", \")&\"IČO: \"&VLOOKUP('Místa dodání'!A214-10000,'Data eshop'!D:L,8,FALSE)))","v":""},{"$f":"IF(A214=\"\",\"\",VLOOKUP(A214-10000,'Data eshop'!D:AD,6,FALSE))","v":""},{"$f":"IF(A214=\"\",\"\",VLOOKUP(A214-10000,'Data eshop'!D:AD,7,FALSE))","v":""},{"$f":"IF(A214=\"\",\"\",VLOOKUP(A214-10000,'Data eshop'!D:AD,10,FALSE))","v":""},"","","",""]
[{"$f":"IFERROR(SMALL('Data eshop'!D:D,COUNTIF('Data eshop'!D:D,\"<\"&(A214-10000)))+10000,\"\")","v":""},"",{"$f":"IF(A215=\"\",\"\",IF(VLOOKUP(A215-10000,'Data eshop'!D:G,2,FALSE)=\"\",PROPER(VLOOKUP(A215-10000,'Data eshop'!D:G,3,FALSE)&\" \"&VLOOKUP(A215-10000,'Data eshop'!D:G,4,FALSE)),VLOOKUP(A215-10000,'Data eshop'!D:G,2,FALSE)&\" - \"&PROPER(VLOOKUP(A215-10000,'Data eshop'!D:G,3,FALSE)&\" \"&VLOOKUP(A215-10000,'Data eshop'!D:G,4,FALSE))))","v":""},null,{"$f":"IF(A215=\"\",\"\",VLOOKUP(A215-10000,'Data eshop'!D:AD,5,FALSE))","v":""},{"$f":"IF(A215=\"\",\"\",IF(VLOOKUP('Místa dodání'!A215-10000,'Data eshop'!D:L,8,FALSE)=\"\",IF(VLOOKUP('Místa dodání'!A215-10000,'Data eshop'!D:L,9,FALSE)=\"\",\"\",\"DIČ: \"&VLOOKUP('Místa dodání'!A215-10000,'Data eshop'!D:L,9,FALSE)),IF(VLOOKUP('Místa dodání'!A215-10000,'Data eshop'!D:L,9,FALSE)=\"\",\"\",\"DIČ: \"&VLOOKUP('Místa dodání'!A215-10000,'Data eshop'!D:L,9,FALSE)&\", \")&\"IČO: \"&VLOOKUP('Místa dodání'!A215-10000,'Data eshop'!D:L,8,FALSE)))","v":""},{"$f":"IF(A215=\"\",\"\",VLOOKUP(A215-10000,'Data eshop'!D:AD,6,FALSE))","v":""},{"$f":"IF(A215=\"\",\"\",VLOOKUP(A215-10000,'Data eshop'!D:AD,7,FALSE))","v":""},{"$f":"IF(A215=\"\",\"\",VLOOKUP(A215-10000,'Data eshop'!D:AD,10,FALSE))","v":""},"","","","","Roluj nahoru, až uvidíš žlutou"]
[{"$f":"IFERROR(SMALL('Data eshop'!D:D,COUNTIF('Data eshop'!D:D,\"<\"&(A215-10000)))+10000,\"\")","v":""},"",{"$f":"IF(A216=\"\",\"\",IF(VLOOKUP(A216-10000,'Data eshop'!D:G,2,FALSE)=\"\",PROPER(VLOOKUP(A216-10000,'Data eshop'!D:G,3,FALSE)&\" \"&VLOOKUP(A216-10000,'Data eshop'!D:G,4,FALSE)),VLOOKUP(A216-10000,'Data eshop'!D:G,2,FALSE)&\" - \"&PROPER(VLOOKUP(A216-10000,'Data eshop'!D:G,3,FALSE)&\" \"&VLOOKUP(A216-10000,'Data eshop'!D:G,4,FALSE))))","v":""},null,{"$f":"IF(A216=\"\",\"\",VLOOKUP(A216-10000,'Data eshop'!D:AD,5,FALSE))","v":""},{"$f":"IF(A216=\"\",\"\",IF(VLOOKUP('Místa dodání'!A216-10000,'Data eshop'!D:L,8,FALSE)=\"\",IF(VLOOKUP('Místa dodání'!A216-10000,'Data eshop'!D:L,9,FALSE)=\"\",\"\",\"DIČ: \"&VLOOKUP('Místa dodání'!A216-10000,'Data eshop'!D:L,9,FALSE)),IF(VLOOKUP('Místa dodání'!A216-10000,'Data eshop'!D:L,9,FALSE)=\"\",\"\",\"DIČ: \"&VLOOKUP('Místa dodání'!A216-10000,'Data eshop'!D:L,9,FALSE)&\", \")&\"IČO: \"&VLOOKUP('Místa dodání'!A216-10000,'Data eshop'!D:L,8,FALSE)))","v":""},{"$f":"IF(A216=\"\",\"\",VLOOKUP(A216-10000,'Data eshop'!D:AD,6,FALSE))","v":""},{"$f":"IF(A216=\"\",\"\",VLOOKUP(A216-10000,'Data eshop'!D:AD,7,FALSE))","v":""},{"$f":"IF(A216=\"\",\"\",VLOOKUP(A216-10000,'Data eshop'!D:AD,10,FALSE))","v":""},"","","",""]
[{"$f":"IFERROR(SMALL('Data eshop'!D:D,COUNTIF('Data eshop'!D:D,\"<\"&(A216-10000)))+10000,\"\")","v":""},"",{"$f":"IF(A217=\"\",\"\",IF(VLOOKUP(A217-10000,'Data eshop'!D:G,2,FALSE)=\"\",PROPER(VLOOKUP(A217-10000,'Data eshop'!D:G,3,FALSE)&\" \"&VLOOKUP(A217-10000,'Data eshop'!D:G,4,FALSE)),VLOOKUP(A217-10000,'Data eshop'!D:G,2,FALSE)&\" - \"&PROPER(VLOOKUP(A217-10000,'Data eshop'!D:G,3,FALSE)&\" \"&VLOOKUP(A217-10000,'Data eshop'!D:G,4,FALSE))))","v":""},null,{"$f":"IF(A217=\"\",\"\",VLOOKUP(A217-10000,'Data eshop'!D:AD,5,FALSE))","v":""},{"$f":"IF(A217=\"\",\"\",IF(VLOOKUP('Místa dodání'!A217-10000,'Data eshop'!D:L,8,FALSE)=\"\",IF(VLOOKUP('Místa dodání'!A217-10000,'Data eshop'!D:L,9,FALSE)=\"\",\"\",\"DIČ: \"&VLOOKUP('Místa dodání'!A217-10000,'Data eshop'!D:L,9,FALSE)),IF(VLOOKUP('Místa dodání'!A217-10000,'Data eshop'!D:L,9,FALSE)=\"\",\"\",\"DIČ: \"&VLOOKUP('Místa dodání'!A217-10000,'Data eshop'!D:L,9,FALSE)&\", \")&\"IČO: \"&VLOOKUP('Místa dodání'!A217-10000,'Data eshop'!D:L,8,FALSE)))","v":""},{"$f":"IF(A217=\"\",\"\",VLOOKUP(A217-10000,'Data eshop'!D:AD,6,FALSE))","v":""},{"$f":"IF(A217=\"\",\"\",VLOOKUP(A217-10000,'Data eshop'!D:AD,7,FALSE))","v":""},{"$f":"IF(A217=\"\",\"\",VLOOKUP(A217-10000,'Data eshop'!D:AD,10,FALSE))","v":""},"","","",""]
[{"$f":"IFERROR(SMALL('Data eshop'!D:D,COUNTIF('Data eshop'!D:D,\"<\"&(A217-10000)))+10000,\"\")","v":""},"",{"$f":"IF(A218=\"\",\"\",IF(VLOOKUP(A218-10000,'Data eshop'!D:G,2,FALSE)=\"\",PROPER(VLOOKUP(A218-10000,'Data eshop'!D:G,3,FALSE)&\" \"&VLOOKUP(A218-10000,'Data eshop'!D:G,4,FALSE)),VLOOKUP(A218-10000,'Data eshop'!D:G,2,FALSE)&\" - \"&PROPER(VLOOKUP(A218-10000,'Data eshop'!D:G,3,FALSE)&\" \"&VLOOKUP(A218-10000,'Data eshop'!D:G,4,FALSE))))","v":""},null,{"$f":"IF(A218=\"\",\"\",VLOOKUP(A218-10000,'Data eshop'!D:AD,5,FALSE))","v":""},{"$f":"IF(A218=\"\",\"\",IF(VLOOKUP('Místa dodání'!A218-10000,'Data eshop'!D:L,8,FALSE)=\"\",IF(VLOOKUP('Místa dodání'!A218-10000,'Data eshop'!D:L,9,FALSE)=\"\",\"\",\"DIČ: \"&VLOOKUP('Místa dodání'!A218-10000,'Data eshop'!D:L,9,FALSE)),IF(VLOOKUP('Místa dodání'!A218-10000,'Data eshop'!D:L,9,FALSE)=\"\",\"\",\"DIČ: \"&VLOOKUP('Místa dodání'!A218-10000,'Data eshop'!D:L,9,FALSE)&\", \")&\"IČO: \"&VLOOKUP('Místa dodání'!A218-10000,'Data eshop'!D:L,8,FALSE)))","v":""},{"$f":"IF(A218=\"\",\"\",VLOOKUP(A218-10000,'Data eshop'!D:AD,6,FALSE))","v":""},{"$f":"IF(A218=\"\",\"\",VLOOKUP(A218-10000,'Data eshop'!D:AD,7,FALSE))","v":""},{"$f":"IF(A218=\"\",\"\",VLOOKUP(A218-10000,'Data eshop'!D:AD,10,FALSE))","v":""},"","","",""]
[{"$f":"IFERROR(SMALL('Data eshop'!D:D,COUNTIF('Data eshop'!D:D,\"<\"&(A218-10000)))+10000,\"\")","v":""},"",{"$f":"IF(A219=\"\",\"\",IF(VLOOKUP(A219-10000,'Data eshop'!D:G,2,FALSE)=\"\",PROPER(VLOOKUP(A219-10000,'Data eshop'!D:G,3,FALSE)&\" \"&VLOOKUP(A219-10000,'Data eshop'!D:G,4,FALSE)),VLOOKUP(A219-10000,'Data eshop'!D:G,2,FALSE)&\" - \"&PROPER(VLOOKUP(A219-10000,'Data eshop'!D:G,3,FALSE)&\" \"&VLOOKUP(A219-10000,'Data eshop'!D:G,4,FALSE))))","v":""},null,{"$f":"IF(A219=\"\",\"\",VLOOKUP(A219-10000,'Data eshop'!D:AD,5,FALSE))","v":""},{"$f":"IF(A219=\"\",\"\",IF(VLOOKUP('Místa dodání'!A219-10000,'Data eshop'!D:L,8,FALSE)=\"\",IF(VLOOKUP('Místa dodání'!A219-10000,'Data eshop'!D:L,9,FALSE)=\"\",\"\",\"DIČ: \"&VLOOKUP('Místa dodání'!A219-10000,'Data eshop'!D:L,9,FALSE)),IF(VLOOKUP('Místa dodání'!A219-10000,'Data eshop'!D:L,9,FALSE)=\"\",\"\",\"DIČ: \"&VLOOKUP('Místa dodání'!A219-10000,'Data eshop'!D:L,9,FALSE)&\", \")&\"IČO: \"&VLOOKUP('Místa dodání'!A219-10000,'Data eshop'!D:L,8,FALSE)))","v":""},{"$f":"IF(A219=\"\",\"\",VLOOKUP(A219-10000,'Data eshop'!D:AD,6,FALSE))","v":""},{"$f":"IF(A219=\"\",\"\",VLOOKUP(A219-10000,'Data eshop'!D:AD,7,FALSE))","v":""},{"$f":"IF(A219=\"\",\"\",VLOOKUP(A219-10000,'Data eshop'!D:AD,10,FALSE))","v":""},"","","","","Roluj nahoru, až uvidíš žlutou"]
[{"$f":"IFERROR(SMALL('Data eshop'!D:D,COUNTIF('Data eshop'!D:D,\"<\"&(A219-10000)))+10000,\"\")","v":""},"",{"$f":"IF(A220=\"\",\"\",IF(VLOOKUP(A220-10000,'Data eshop'!D:G,2,FALSE)=\"\",PROPER(VLOOKUP(A220-10000,'Data eshop'!D:G,3,FALSE)&\" \"&VLOOKUP(A220-10000,'Data eshop'!D:G,4,FALSE)),VLOOKUP(A220-10000,'Data eshop'!D:G,2,FALSE)&\" - \"&PROPER(VLOOKUP(A220-10000,'Data eshop'!D:G,3,FALSE)&\" \"&VLOOKUP(A220-10000,'Data eshop'!D:G,4,FALSE))))","v":""},null,{"$f":"IF(A220=\"\",\"\",VLOOKUP(A220-10000,'Data eshop'!D:AD,5,FALSE))","v":""},{"$f":"IF(A220=\"\",\"\",IF(VLOOKUP('Místa dodání'!A220-10000,'Data eshop'!D:L,8,FALSE)=\"\",IF(VLOOKUP('Místa dodání'!A220-10000,'Data eshop'!D:L,9,FALSE)=\"\",\"\",\"DIČ: \"&VLOOKUP('Místa dodání'!A220-10000,'Data eshop'!D:L,9,FALSE)),IF(VLOOKUP('Místa dodání'!A220-10000,'Data eshop'!D:L,9,FALSE)=\"\",\"\",\"DIČ: \"&VLOOKUP('Místa dodání'!A220-10000,'Data eshop'!D:L,9,FALSE)&\", \")&\"IČO: \"&VLOOKUP('Místa dodání'!A220-10000,'Data eshop'!D:L,8,FALSE)))","v":""},{"$f":"IF(A220=\"\",\"\",VLOOKUP(A220-10000,'Data eshop'!D:AD,6,FALSE))","v":""},{"$f":"IF(A220=\"\",\"\",VLOOKUP(A220-10000,'Data eshop'!D:AD,7,FALSE))","v":""},{"$f":"IF(A220=\"\",\"\",VLOOKUP(A220-10000,'Data eshop'!D:AD,10,FALSE))","v":""},"","","",""]
[{"$f":"IFERROR(SMALL('Data eshop'!D:D,COUNTIF('Data eshop'!D:D,\"<\"&(A220-10000)))+10000,\"\")","v":""},"",{"$f":"IF(A221=\"\",\"\",IF(VLOOKUP(A221-10000,'Data eshop'!D:G,2,FALSE)=\"\",PROPER(VLOOKUP(A221-10000,'Data eshop'!D:G,3,FALSE)&\" \"&VLOOKUP(A221-10000,'Data eshop'!D:G,4,FALSE)),VLOOKUP(A221-10000,'Data eshop'!D:G,2,FALSE)&\" - \"&PROPER(VLOOKUP(A221-10000,'Data eshop'!D:G,3,FALSE)&\" \"&VLOOKUP(A221-10000,'Data eshop'!D:G,4,FALSE))))","v":""},null,{"$f":"IF(A221=\"\",\"\",VLOOKUP(A221-10000,'Data eshop'!D:AD,5,FALSE))","v":""},{"$f":"IF(A221=\"\",\"\",IF(VLOOKUP('Místa dodání'!A221-10000,'Data eshop'!D:L,8,FALSE)=\"\",IF(VLOOKUP('Místa dodání'!A221-10000,'Data eshop'!D:L,9,FALSE)=\"\",\"\",\"DIČ: \"&VLOOKUP('Místa dodání'!A221-10000,'Data eshop'!D:L,9,FALSE)),IF(VLOOKUP('Místa dodání'!A221-10000,'Data eshop'!D:L,9,FALSE)=\"\",\"\",\"DIČ: \"&VLOOKUP('Místa dodání'!A221-10000,'Data eshop'!D:L,9,FALSE)&\", \")&\"IČO: \"&VLOOKUP('Místa dodání'!A221-10000,'Data eshop'!D:L,8,FALSE)))","v":""},{"$f":"IF(A221=\"\",\"\",VLOOKUP(A221-10000,'Data eshop'!D:AD,6,FALSE))","v":""},{"$f":"IF(A221=\"\",\"\",VLOOKUP(A221-10000,'Data eshop'!D:AD,7,FALSE))","v":""},{"$f":"IF(A221=\"\",\"\",VLOOKUP(A221-10000,'Data eshop'!D:AD,10,FALSE))","v":""},"","","",""]
[{"$f":"IFERROR(SMALL('Data eshop'!D:D,COUNTIF('Data eshop'!D:D,\"<\"&(A221-10000)))+10000,\"\")","v":""},"",{"$f":"IF(A222=\"\",\"\",IF(VLOOKUP(A222-10000,'Data eshop'!D:G,2,FALSE)=\"\",PROPER(VLOOKUP(A222-10000,'Data eshop'!D:G,3,FALSE)&\" \"&VLOOKUP(A222-10000,'Data eshop'!D:G,4,FALSE)),VLOOKUP(A222-10000,'Data eshop'!D:G,2,FALSE)&\" - \"&PROPER(VLOOKUP(A222-10000,'Data eshop'!D:G,3,FALSE)&\" \"&VLOOKUP(A222-10000,'Data eshop'!D:G,4,FALSE))))","v":""},null,{"$f":"IF(A222=\"\",\"\",VLOOKUP(A222-10000,'Data eshop'!D:AD,5,FALSE))","v":""},{"$f":"IF(A222=\"\",\"\",IF(VLOOKUP('Místa dodání'!A222-10000,'Data eshop'!D:L,8,FALSE)=\"\",IF(VLOOKUP('Místa dodání'!A222-10000,'Data eshop'!D:L,9,FALSE)=\"\",\"\",\"DIČ: \"&VLOOKUP('Místa dodání'!A222-10000,'Data eshop'!D:L,9,FALSE)),IF(VLOOKUP('Místa dodání'!A222-10000,'Data eshop'!D:L,9,FALSE)=\"\",\"\",\"DIČ: \"&VLOOKUP('Místa dodání'!A222-10000,'Data eshop'!D:L,9,FALSE)&\", \")&\"IČO: \"&VLOOKUP('Místa dodání'!A222-10000,'Data eshop'!D:L,8,FALSE)))","v":""},{"$f":"IF(A222=\"\",\"\",VLOOKUP(A222-10000,'Data eshop'!D:AD,6,FALSE))","v":""},{"$f":"IF(A222=\"\",\"\",VLOOKUP(A222-10000,'Data eshop'!D:AD,7,FALSE))","v":""},{"$f":"IF(A222=\"\",\"\",VLOOKUP(A222-10000,'Data eshop'!D:AD,10,FALSE))","v":""},"","","",""]
[{"$f":"IFERROR(SMALL('Data eshop'!D:D,COUNTIF('Data eshop'!D:D,\"<\"&(A222-10000)))+10000,\"\")","v":""},"",{"$f":"IF(A223=\"\",\"\",IF(VLOOKUP(A223-10000,'Data eshop'!D:G,2,FALSE)=\"\",PROPER(VLOOKUP(A223-10000,'Data eshop'!D:G,3,FALSE)&\" \"&VLOOKUP(A223-10000,'Data eshop'!D:G,4,FALSE)),VLOOKUP(A223-10000,'Data eshop'!D:G,2,FALSE)&\" - \"&PROPER(VLOOKUP(A223-10000,'Data eshop'!D:G,3,FALSE)&\" \"&VLOOKUP(A223-10000,'Data eshop'!D:G,4,FALSE))))","v":""},null,{"$f":"IF(A223=\"\",\"\",VLOOKUP(A223-10000,'Data eshop'!D:AD,5,FALSE))","v":""},{"$f":"IF(A223=\"\",\"\",IF(VLOOKUP('Místa dodání'!A223-10000,'Data eshop'!D:L,8,FALSE)=\"\",IF(VLOOKUP('Místa dodání'!A223-10000,'Data eshop'!D:L,9,FALSE)=\"\",\"\",\"DIČ: \"&VLOOKUP('Místa dodání'!A223-10000,'Data eshop'!D:L,9,FALSE)),IF(VLOOKUP('Místa dodání'!A223-10000,'Data eshop'!D:L,9,FALSE)=\"\",\"\",\"DIČ: \"&VLOOKUP('Místa dodání'!A223-10000,'Data eshop'!D:L,9,FALSE)&\", \")&\"IČO: \"&VLOOKUP('Místa dodání'!A223-10000,'Data eshop'!D:L,8,FALSE)))","v":""},{"$f":"IF(A223=\"\",\"\",VLOOKUP(A223-10000,'Data eshop'!D:AD,6,FALSE))","v":""},{"$f":"IF(A223=\"\",\"\",VLOOKUP(A223-10000,'Data eshop'!D:AD,7,FALSE))","v":""},{"$f":"IF(A223=\"\",\"\",VLOOKUP(A223-10000,'Data eshop'!D:AD,10,FALSE))","v":""},"","","","","Roluj nahoru, až uvidíš žlutou"]
[{"$f":"IFERROR(SMALL('Data eshop'!D:D,COUNTIF('Data eshop'!D:D,\"<\"&(A223-10000)))+10000,\"\")","v":""},"",{"$f":"IF(A224=\"\",\"\",IF(VLOOKUP(A224-10000,'Data eshop'!D:G,2,FALSE)=\"\",PROPER(VLOOKUP(A224-10000,'Data eshop'!D:G,3,FALSE)&\" \"&VLOOKUP(A224-10000,'Data eshop'!D:G,4,FALSE)),VLOOKUP(A224-10000,'Data eshop'!D:G,2,FALSE)&\" - \"&PROPER(VLOOKUP(A224-10000,'Data eshop'!D:G,3,FALSE)&\" \"&VLOOKUP(A224-10000,'Data eshop'!D:G,4,FALSE))))","v":""},null,{"$f":"IF(A224=\"\",\"\",VLOOKUP(A224-10000,'Data eshop'!D:AD,5,FALSE))","v":""},{"$f":"IF(A224=\"\",\"\",IF(VLOOKUP('Místa dodání'!A224-10000,'Data eshop'!D:L,8,FALSE)=\"\",IF(VLOOKUP('Místa dodání'!A224-10000,'Data eshop'!D:L,9,FALSE)=\"\",\"\",\"DIČ: \"&VLOOKUP('Místa dodání'!A224-10000,'Data eshop'!D:L,9,FALSE)),IF(VLOOKUP('Místa dodání'!A224-10000,'Data eshop'!D:L,9,FALSE)=\"\",\"\",\"DIČ: \"&VLOOKUP('Místa dodání'!A224-10000,'Data eshop'!D:L,9,FALSE)&\", \")&\"IČO: \"&VLOOKUP('Místa dodání'!A224-10000,'Data eshop'!D:L,8,FALSE)))","v":""},{"$f":"IF(A224=\"\",\"\",VLOOKUP(A224-10000,'Data eshop'!D:AD,6,FALSE))","v":""},{"$f":"IF(A224=\"\",\"\",VLOOKUP(A224-10000,'Data eshop'!D:AD,7,FALSE))","v":""},{"$f":"IF(A224=\"\",\"\",VLOOKUP(A224-10000,'Data eshop'!D:AD,10,FALSE))","v":""},"","","",""]
[{"$f":"IFERROR(SMALL('Data eshop'!D:D,COUNTIF('Data eshop'!D:D,\"<\"&(A224-10000)))+10000,\"\")","v":""},"",{"$f":"IF(A225=\"\",\"\",IF(VLOOKUP(A225-10000,'Data eshop'!D:G,2,FALSE)=\"\",PROPER(VLOOKUP(A225-10000,'Data eshop'!D:G,3,FALSE)&\" \"&VLOOKUP(A225-10000,'Data eshop'!D:G,4,FALSE)),VLOOKUP(A225-10000,'Data eshop'!D:G,2,FALSE)&\" - \"&PROPER(VLOOKUP(A225-10000,'Data eshop'!D:G,3,FALSE)&\" \"&VLOOKUP(A225-10000,'Data eshop'!D:G,4,FALSE))))","v":""},null,{"$f":"IF(A225=\"\",\"\",VLOOKUP(A225-10000,'Data eshop'!D:AD,5,FALSE))","v":""},{"$f":"IF(A225=\"\",\"\",IF(VLOOKUP('Místa dodání'!A225-10000,'Data eshop'!D:L,8,FALSE)=\"\",IF(VLOOKUP('Místa dodání'!A225-10000,'Data eshop'!D:L,9,FALSE)=\"\",\"\",\"DIČ: \"&VLOOKUP('Místa dodání'!A225-10000,'Data eshop'!D:L,9,FALSE)),IF(VLOOKUP('Místa dodání'!A225-10000,'Data eshop'!D:L,9,FALSE)=\"\",\"\",\"DIČ: \"&VLOOKUP('Místa dodání'!A225-10000,'Data eshop'!D:L,9,FALSE)&\", \")&\"IČO: \"&VLOOKUP('Místa dodání'!A225-10000,'Data eshop'!D:L,8,FALSE)))","v":""},{"$f":"IF(A225=\"\",\"\",VLOOKUP(A225-10000,'Data eshop'!D:AD,6,FALSE))","v":""},{"$f":"IF(A225=\"\",\"\",VLOOKUP(A225-10000,'Data eshop'!D:AD,7,FALSE))","v":""},{"$f":"IF(A225=\"\",\"\",VLOOKUP(A225-10000,'Data eshop'!D:AD,10,FALSE))","v":""},"","","",""]
[{"$f":"IFERROR(SMALL('Data eshop'!D:D,COUNTIF('Data eshop'!D:D,\"<\"&(A225-10000)))+10000,\"\")","v":""},"",{"$f":"IF(A226=\"\",\"\",IF(VLOOKUP(A226-10000,'Data eshop'!D:G,2,FALSE)=\"\",PROPER(VLOOKUP(A226-10000,'Data eshop'!D:G,3,FALSE)&\" \"&VLOOKUP(A226-10000,'Data eshop'!D:G,4,FALSE)),VLOOKUP(A226-10000,'Data eshop'!D:G,2,FALSE)&\" - \"&PROPER(VLOOKUP(A226-10000,'Data eshop'!D:G,3,FALSE)&\" \"&VLOOKUP(A226-10000,'Data eshop'!D:G,4,FALSE))))","v":""},null,{"$f":"IF(A226=\"\",\"\",VLOOKUP(A226-10000,'Data eshop'!D:AD,5,FALSE))","v":""},{"$f":"IF(A226=\"\",\"\",IF(VLOOKUP('Místa dodání'!A226-10000,'Data eshop'!D:L,8,FALSE)=\"\",IF(VLOOKUP('Místa dodání'!A226-10000,'Data eshop'!D:L,9,FALSE)=\"\",\"\",\"DIČ: \"&VLOOKUP('Místa dodání'!A226-10000,'Data eshop'!D:L,9,FALSE)),IF(VLOOKUP('Místa dodání'!A226-10000,'Data eshop'!D:L,9,FALSE)=\"\",\"\",\"DIČ: \"&VLOOKUP('Místa dodání'!A226-10000,'Data eshop'!D:L,9,FALSE)&\", \")&\"IČO: \"&VLOOKUP('Místa dodání'!A226-10000,'Data eshop'!D:L,8,FALSE)))","v":""},{"$f":"IF(A226=\"\",\"\",VLOOKUP(A226-10000,'Data eshop'!D:AD,6,FALSE))","v":""},{"$f":"IF(A226=\"\",\"\",VLOOKUP(A226-10000,'Data eshop'!D:AD,7,FALSE))","v":""},{"$f":"IF(A226=\"\",\"\",VLOOKUP(A226-10000,'Data eshop'!D:AD,10,FALSE))","v":""},"","","",""]
[{"$f":"IFERROR(SMALL('Data eshop'!D:D,COUNTIF('Data eshop'!D:D,\"<\"&(A226-10000)))+10000,\"\")","v":""},"",{"$f":"IF(A227=\"\",\"\",IF(VLOOKUP(A227-10000,'Data eshop'!D:G,2,FALSE)=\"\",PROPER(VLOOKUP(A227-10000,'Data eshop'!D:G,3,FALSE)&\" \"&VLOOKUP(A227-10000,'Data eshop'!D:G,4,FALSE)),VLOOKUP(A227-10000,'Data eshop'!D:G,2,FALSE)&\" - \"&PROPER(VLOOKUP(A227-10000,'Data eshop'!D:G,3,FALSE)&\" \"&VLOOKUP(A227-10000,'Data eshop'!D:G,4,FALSE))))","v":""},null,{"$f":"IF(A227=\"\",\"\",VLOOKUP(A227-10000,'Data eshop'!D:AD,5,FALSE))","v":""},{"$f":"IF(A227=\"\",\"\",IF(VLOOKUP('Místa dodání'!A227-10000,'Data eshop'!D:L,8,FALSE)=\"\",IF(VLOOKUP('Místa dodání'!A227-10000,'Data eshop'!D:L,9,FALSE)=\"\",\"\",\"DIČ: \"&VLOOKUP('Místa dodání'!A227-10000,'Data eshop'!D:L,9,FALSE)),IF(VLOOKUP('Místa dodání'!A227-10000,'Data eshop'!D:L,9,FALSE)=\"\",\"\",\"DIČ: \"&VLOOKUP('Místa dodání'!A227-10000,'Data eshop'!D:L,9,FALSE)&\", \")&\"IČO: \"&VLOOKUP('Místa dodání'!A227-10000,'Data eshop'!D:L,8,FALSE)))","v":""},{"$f":"IF(A227=\"\",\"\",VLOOKUP(A227-10000,'Data eshop'!D:AD,6,FALSE))","v":""},{"$f":"IF(A227=\"\",\"\",VLOOKUP(A227-10000,'Data eshop'!D:AD,7,FALSE))","v":""},{"$f":"IF(A227=\"\",\"\",VLOOKUP(A227-10000,'Data eshop'!D:AD,10,FALSE))","v":""},"","","","","Roluj nahoru, až uvidíš žlutou"]
[{"$f":"IFERROR(SMALL('Data eshop'!D:D,COUNTIF('Data eshop'!D:D,\"<\"&(A227-10000)))+10000,\"\")","v":""},"",{"$f":"IF(A228=\"\",\"\",IF(VLOOKUP(A228-10000,'Data eshop'!D:G,2,FALSE)=\"\",PROPER(VLOOKUP(A228-10000,'Data eshop'!D:G,3,FALSE)&\" \"&VLOOKUP(A228-10000,'Data eshop'!D:G,4,FALSE)),VLOOKUP(A228-10000,'Data eshop'!D:G,2,FALSE)&\" - \"&PROPER(VLOOKUP(A228-10000,'Data eshop'!D:G,3,FALSE)&\" \"&VLOOKUP(A228-10000,'Data eshop'!D:G,4,FALSE))))","v":""},null,{"$f":"IF(A228=\"\",\"\",VLOOKUP(A228-10000,'Data eshop'!D:AD,5,FALSE))","v":""},{"$f":"IF(A228=\"\",\"\",IF(VLOOKUP('Místa dodání'!A228-10000,'Data eshop'!D:L,8,FALSE)=\"\",IF(VLOOKUP('Místa dodání'!A228-10000,'Data eshop'!D:L,9,FALSE)=\"\",\"\",\"DIČ: \"&VLOOKUP('Místa dodání'!A228-10000,'Data eshop'!D:L,9,FALSE)),IF(VLOOKUP('Místa dodání'!A228-10000,'Data eshop'!D:L,9,FALSE)=\"\",\"\",\"DIČ: \"&VLOOKUP('Místa dodání'!A228-10000,'Data eshop'!D:L,9,FALSE)&\", \")&\"IČO: \"&VLOOKUP('Místa dodání'!A228-10000,'Data eshop'!D:L,8,FALSE)))","v":""},{"$f":"IF(A228=\"\",\"\",VLOOKUP(A228-10000,'Data eshop'!D:AD,6,FALSE))","v":""},{"$f":"IF(A228=\"\",\"\",VLOOKUP(A228-10000,'Data eshop'!D:AD,7,FALSE))","v":""},{"$f":"IF(A228=\"\",\"\",VLOOKUP(A228-10000,'Data eshop'!D:AD,10,FALSE))","v":""},"","","",""]
[{"$f":"IFERROR(SMALL('Data eshop'!D:D,COUNTIF('Data eshop'!D:D,\"<\"&(A228-10000)))+10000,\"\")","v":""},"",{"$f":"IF(A229=\"\",\"\",IF(VLOOKUP(A229-10000,'Data eshop'!D:G,2,FALSE)=\"\",PROPER(VLOOKUP(A229-10000,'Data eshop'!D:G,3,FALSE)&\" \"&VLOOKUP(A229-10000,'Data eshop'!D:G,4,FALSE)),VLOOKUP(A229-10000,'Data eshop'!D:G,2,FALSE)&\" - \"&PROPER(VLOOKUP(A229-10000,'Data eshop'!D:G,3,FALSE)&\" \"&VLOOKUP(A229-10000,'Data eshop'!D:G,4,FALSE))))","v":""},null,{"$f":"IF(A229=\"\",\"\",VLOOKUP(A229-10000,'Data eshop'!D:AD,5,FALSE))","v":""},{"$f":"IF(A229=\"\",\"\",IF(VLOOKUP('Místa dodání'!A229-10000,'Data eshop'!D:L,8,FALSE)=\"\",IF(VLOOKUP('Místa dodání'!A229-10000,'Data eshop'!D:L,9,FALSE)=\"\",\"\",\"DIČ: \"&VLOOKUP('Místa dodání'!A229-10000,'Data eshop'!D:L,9,FALSE)),IF(VLOOKUP('Místa dodání'!A229-10000,'Data eshop'!D:L,9,FALSE)=\"\",\"\",\"DIČ: \"&VLOOKUP('Místa dodání'!A229-10000,'Data eshop'!D:L,9,FALSE)&\", \")&\"IČO: \"&VLOOKUP('Místa dodání'!A229-10000,'Data eshop'!D:L,8,FALSE)))","v":""},{"$f":"IF(A229=\"\",\"\",VLOOKUP(A229-10000,'Data eshop'!D:AD,6,FALSE))","v":""},{"$f":"IF(A229=\"\",\"\",VLOOKUP(A229-10000,'Data eshop'!D:AD,7,FALSE))","v":""},{"$f":"IF(A229=\"\",\"\",VLOOKUP(A229-10000,'Data eshop'!D:AD,10,FALSE))","v":""},"","","",""]
[{"$f":"IFERROR(SMALL('Data eshop'!D:D,COUNTIF('Data eshop'!D:D,\"<\"&(A229-10000)))+10000,\"\")","v":""},"",{"$f":"IF(A230=\"\",\"\",IF(VLOOKUP(A230-10000,'Data eshop'!D:G,2,FALSE)=\"\",PROPER(VLOOKUP(A230-10000,'Data eshop'!D:G,3,FALSE)&\" \"&VLOOKUP(A230-10000,'Data eshop'!D:G,4,FALSE)),VLOOKUP(A230-10000,'Data eshop'!D:G,2,FALSE)&\" - \"&PROPER(VLOOKUP(A230-10000,'Data eshop'!D:G,3,FALSE)&\" \"&VLOOKUP(A230-10000,'Data eshop'!D:G,4,FALSE))))","v":""},null,{"$f":"IF(A230=\"\",\"\",VLOOKUP(A230-10000,'Data eshop'!D:AD,5,FALSE))","v":""},{"$f":"IF(A230=\"\",\"\",IF(VLOOKUP('Místa dodání'!A230-10000,'Data eshop'!D:L,8,FALSE)=\"\",IF(VLOOKUP('Místa dodání'!A230-10000,'Data eshop'!D:L,9,FALSE)=\"\",\"\",\"DIČ: \"&VLOOKUP('Místa dodání'!A230-10000,'Data eshop'!D:L,9,FALSE)),IF(VLOOKUP('Místa dodání'!A230-10000,'Data eshop'!D:L,9,FALSE)=\"\",\"\",\"DIČ: \"&VLOOKUP('Místa dodání'!A230-10000,'Data eshop'!D:L,9,FALSE)&\", \")&\"IČO: \"&VLOOKUP('Místa dodání'!A230-10000,'Data eshop'!D:L,8,FALSE)))","v":""},{"$f":"IF(A230=\"\",\"\",VLOOKUP(A230-10000,'Data eshop'!D:AD,6,FALSE))","v":""},{"$f":"IF(A230=\"\",\"\",VLOOKUP(A230-10000,'Data eshop'!D:AD,7,FALSE))","v":""},{"$f":"IF(A230=\"\",\"\",VLOOKUP(A230-10000,'Data eshop'!D:AD,10,FALSE))","v":""},"","","",""]
[{"$f":"IFERROR(SMALL('Data eshop'!D:D,COUNTIF('Data eshop'!D:D,\"<\"&(A230-10000)))+10000,\"\")","v":""},"",{"$f":"IF(A231=\"\",\"\",IF(VLOOKUP(A231-10000,'Data eshop'!D:G,2,FALSE)=\"\",PROPER(VLOOKUP(A231-10000,'Data eshop'!D:G,3,FALSE)&\" \"&VLOOKUP(A231-10000,'Data eshop'!D:G,4,FALSE)),VLOOKUP(A231-10000,'Data eshop'!D:G,2,FALSE)&\" - \"&PROPER(VLOOKUP(A231-10000,'Data eshop'!D:G,3,FALSE)&\" \"&VLOOKUP(A231-10000,'Data eshop'!D:G,4,FALSE))))","v":""},null,{"$f":"IF(A231=\"\",\"\",VLOOKUP(A231-10000,'Data eshop'!D:AD,5,FALSE))","v":""},{"$f":"IF(A231=\"\",\"\",IF(VLOOKUP('Místa dodání'!A231-10000,'Data eshop'!D:L,8,FALSE)=\"\",IF(VLOOKUP('Místa dodání'!A231-10000,'Data eshop'!D:L,9,FALSE)=\"\",\"\",\"DIČ: \"&VLOOKUP('Místa dodání'!A231-10000,'Data eshop'!D:L,9,FALSE)),IF(VLOOKUP('Místa dodání'!A231-10000,'Data eshop'!D:L,9,FALSE)=\"\",\"\",\"DIČ: \"&VLOOKUP('Místa dodání'!A231-10000,'Data eshop'!D:L,9,FALSE)&\", \")&\"IČO: \"&VLOOKUP('Místa dodání'!A231-10000,'Data eshop'!D:L,8,FALSE)))","v":""},{"$f":"IF(A231=\"\",\"\",VLOOKUP(A231-10000,'Data eshop'!D:AD,6,FALSE))","v":""},{"$f":"IF(A231=\"\",\"\",VLOOKUP(A231-10000,'Data eshop'!D:AD,7,FALSE))","v":""},{"$f":"IF(A231=\"\",\"\",VLOOKUP(A231-10000,'Data eshop'!D:AD,10,FALSE))","v":""},"","","","","Roluj nahoru, až uvidíš žlutou"]
[{"$f":"IFERROR(SMALL('Data eshop'!D:D,COUNTIF('Data eshop'!D:D,\"<\"&(A231-10000)))+10000,\"\")","v":""},"",{"$f":"IF(A232=\"\",\"\",IF(VLOOKUP(A232-10000,'Data eshop'!D:G,2,FALSE)=\"\",PROPER(VLOOKUP(A232-10000,'Data eshop'!D:G,3,FALSE)&\" \"&VLOOKUP(A232-10000,'Data eshop'!D:G,4,FALSE)),VLOOKUP(A232-10000,'Data eshop'!D:G,2,FALSE)&\" - \"&PROPER(VLOOKUP(A232-10000,'Data eshop'!D:G,3,FALSE)&\" \"&VLOOKUP(A232-10000,'Data eshop'!D:G,4,FALSE))))","v":""},null,{"$f":"IF(A232=\"\",\"\",VLOOKUP(A232-10000,'Data eshop'!D:AD,5,FALSE))","v":""},{"$f":"IF(A232=\"\",\"\",IF(VLOOKUP('Místa dodání'!A232-10000,'Data eshop'!D:L,8,FALSE)=\"\",IF(VLOOKUP('Místa dodání'!A232-10000,'Data eshop'!D:L,9,FALSE)=\"\",\"\",\"DIČ: \"&VLOOKUP('Místa dodání'!A232-10000,'Data eshop'!D:L,9,FALSE)),IF(VLOOKUP('Místa dodání'!A232-10000,'Data eshop'!D:L,9,FALSE)=\"\",\"\",\"DIČ: \"&VLOOKUP('Místa dodání'!A232-10000,'Data eshop'!D:L,9,FALSE)&\", \")&\"IČO: \"&VLOOKUP('Místa dodání'!A232-10000,'Data eshop'!D:L,8,FALSE)))","v":""},{"$f":"IF(A232=\"\",\"\",VLOOKUP(A232-10000,'Data eshop'!D:AD,6,FALSE))","v":""},{"$f":"IF(A232=\"\",\"\",VLOOKUP(A232-10000,'Data eshop'!D:AD,7,FALSE))","v":""},{"$f":"IF(A232=\"\",\"\",VLOOKUP(A232-10000,'Data eshop'!D:AD,10,FALSE))","v":""},"","","",""]
[{"$f":"IFERROR(SMALL('Data eshop'!D:D,COUNTIF('Data eshop'!D:D,\"<\"&(A232-10000)))+10000,\"\")","v":""},"",{"$f":"IF(A233=\"\",\"\",IF(VLOOKUP(A233-10000,'Data eshop'!D:G,2,FALSE)=\"\",PROPER(VLOOKUP(A233-10000,'Data eshop'!D:G,3,FALSE)&\" \"&VLOOKUP(A233-10000,'Data eshop'!D:G,4,FALSE)),VLOOKUP(A233-10000,'Data eshop'!D:G,2,FALSE)&\" - \"&PROPER(VLOOKUP(A233-10000,'Data eshop'!D:G,3,FALSE)&\" \"&VLOOKUP(A233-10000,'Data eshop'!D:G,4,FALSE))))","v":""},null,{"$f":"IF(A233=\"\",\"\",VLOOKUP(A233-10000,'Data eshop'!D:AD,5,FALSE))","v":""},{"$f":"IF(A233=\"\",\"\",IF(VLOOKUP('Místa dodání'!A233-10000,'Data eshop'!D:L,8,FALSE)=\"\",IF(VLOOKUP('Místa dodání'!A233-10000,'Data eshop'!D:L,9,FALSE)=\"\",\"\",\"DIČ: \"&VLOOKUP('Místa dodání'!A233-10000,'Data eshop'!D:L,9,FALSE)),IF(VLOOKUP('Místa dodání'!A233-10000,'Data eshop'!D:L,9,FALSE)=\"\",\"\",\"DIČ: \"&VLOOKUP('Místa dodání'!A233-10000,'Data eshop'!D:L,9,FALSE)&\", \")&\"IČO: \"&VLOOKUP('Místa dodání'!A233-10000,'Data eshop'!D:L,8,FALSE)))","v":""},{"$f":"IF(A233=\"\",\"\",VLOOKUP(A233-10000,'Data eshop'!D:AD,6,FALSE))","v":""},{"$f":"IF(A233=\"\",\"\",VLOOKUP(A233-10000,'Data eshop'!D:AD,7,FALSE))","v":""},{"$f":"IF(A233=\"\",\"\",VLOOKUP(A233-10000,'Data eshop'!D:AD,10,FALSE))","v":""},"","","",""]
[{"$f":"IFERROR(SMALL('Data eshop'!D:D,COUNTIF('Data eshop'!D:D,\"<\"&(A233-10000)))+10000,\"\")","v":""},"",{"$f":"IF(A234=\"\",\"\",IF(VLOOKUP(A234-10000,'Data eshop'!D:G,2,FALSE)=\"\",PROPER(VLOOKUP(A234-10000,'Data eshop'!D:G,3,FALSE)&\" \"&VLOOKUP(A234-10000,'Data eshop'!D:G,4,FALSE)),VLOOKUP(A234-10000,'Data eshop'!D:G,2,FALSE)&\" - \"&PROPER(VLOOKUP(A234-10000,'Data eshop'!D:G,3,FALSE)&\" \"&VLOOKUP(A234-10000,'Data eshop'!D:G,4,FALSE))))","v":""},null,{"$f":"IF(A234=\"\",\"\",VLOOKUP(A234-10000,'Data eshop'!D:AD,5,FALSE))","v":""},{"$f":"IF(A234=\"\",\"\",IF(VLOOKUP('Místa dodání'!A234-10000,'Data eshop'!D:L,8,FALSE)=\"\",IF(VLOOKUP('Místa dodání'!A234-10000,'Data eshop'!D:L,9,FALSE)=\"\",\"\",\"DIČ: \"&VLOOKUP('Místa dodání'!A234-10000,'Data eshop'!D:L,9,FALSE)),IF(VLOOKUP('Místa dodání'!A234-10000,'Data eshop'!D:L,9,FALSE)=\"\",\"\",\"DIČ: \"&VLOOKUP('Místa dodání'!A234-10000,'Data eshop'!D:L,9,FALSE)&\", \")&\"IČO: \"&VLOOKUP('Místa dodání'!A234-10000,'Data eshop'!D:L,8,FALSE)))","v":""},{"$f":"IF(A234=\"\",\"\",VLOOKUP(A234-10000,'Data eshop'!D:AD,6,FALSE))","v":""},{"$f":"IF(A234=\"\",\"\",VLOOKUP(A234-10000,'Data eshop'!D:AD,7,FALSE))","v":""},{"$f":"IF(A234=\"\",\"\",VLOOKUP(A234-10000,'Data eshop'!D:AD,10,FALSE))","v":""},"","","",""]
[{"$f":"IFERROR(SMALL('Data eshop'!D:D,COUNTIF('Data eshop'!D:D,\"<\"&(A234-10000)))+10000,\"\")","v":""},"",{"$f":"IF(A235=\"\",\"\",IF(VLOOKUP(A235-10000,'Data eshop'!D:G,2,FALSE)=\"\",PROPER(VLOOKUP(A235-10000,'Data eshop'!D:G,3,FALSE)&\" \"&VLOOKUP(A235-10000,'Data eshop'!D:G,4,FALSE)),VLOOKUP(A235-10000,'Data eshop'!D:G,2,FALSE)&\" - \"&PROPER(VLOOKUP(A235-10000,'Data eshop'!D:G,3,FALSE)&\" \"&VLOOKUP(A235-10000,'Data eshop'!D:G,4,FALSE))))","v":""},null,{"$f":"IF(A235=\"\",\"\",VLOOKUP(A235-10000,'Data eshop'!D:AD,5,FALSE))","v":""},{"$f":"IF(A235=\"\",\"\",IF(VLOOKUP('Místa dodání'!A235-10000,'Data eshop'!D:L,8,FALSE)=\"\",IF(VLOOKUP('Místa dodání'!A235-10000,'Data eshop'!D:L,9,FALSE)=\"\",\"\",\"DIČ: \"&VLOOKUP('Místa dodání'!A235-10000,'Data eshop'!D:L,9,FALSE)),IF(VLOOKUP('Místa dodání'!A235-10000,'Data eshop'!D:L,9,FALSE)=\"\",\"\",\"DIČ: \"&VLOOKUP('Místa dodání'!A235-10000,'Data eshop'!D:L,9,FALSE)&\", \")&\"IČO: \"&VLOOKUP('Místa dodání'!A235-10000,'Data eshop'!D:L,8,FALSE)))","v":""},{"$f":"IF(A235=\"\",\"\",VLOOKUP(A235-10000,'Data eshop'!D:AD,6,FALSE))","v":""},{"$f":"IF(A235=\"\",\"\",VLOOKUP(A235-10000,'Data eshop'!D:AD,7,FALSE))","v":""},{"$f":"IF(A235=\"\",\"\",VLOOKUP(A235-10000,'Data eshop'!D:AD,10,FALSE))","v":""},"","","","","Roluj nahoru, až uvidíš žlutou"]
[{"$f":"IFERROR(SMALL('Data eshop'!D:D,COUNTIF('Data eshop'!D:D,\"<\"&(A235-10000)))+10000,\"\")","v":""},"",{"$f":"IF(A236=\"\",\"\",IF(VLOOKUP(A236-10000,'Data eshop'!D:G,2,FALSE)=\"\",PROPER(VLOOKUP(A236-10000,'Data eshop'!D:G,3,FALSE)&\" \"&VLOOKUP(A236-10000,'Data eshop'!D:G,4,FALSE)),VLOOKUP(A236-10000,'Data eshop'!D:G,2,FALSE)&\" - \"&PROPER(VLOOKUP(A236-10000,'Data eshop'!D:G,3,FALSE)&\" \"&VLOOKUP(A236-10000,'Data eshop'!D:G,4,FALSE))))","v":""},null,{"$f":"IF(A236=\"\",\"\",VLOOKUP(A236-10000,'Data eshop'!D:AD,5,FALSE))","v":""},{"$f":"IF(A236=\"\",\"\",IF(VLOOKUP('Místa dodání'!A236-10000,'Data eshop'!D:L,8,FALSE)=\"\",IF(VLOOKUP('Místa dodání'!A236-10000,'Data eshop'!D:L,9,FALSE)=\"\",\"\",\"DIČ: \"&VLOOKUP('Místa dodání'!A236-10000,'Data eshop'!D:L,9,FALSE)),IF(VLOOKUP('Místa dodání'!A236-10000,'Data eshop'!D:L,9,FALSE)=\"\",\"\",\"DIČ: \"&VLOOKUP('Místa dodání'!A236-10000,'Data eshop'!D:L,9,FALSE)&\", \")&\"IČO: \"&VLOOKUP('Místa dodání'!A236-10000,'Data eshop'!D:L,8,FALSE)))","v":""},{"$f":"IF(A236=\"\",\"\",VLOOKUP(A236-10000,'Data eshop'!D:AD,6,FALSE))","v":""},{"$f":"IF(A236=\"\",\"\",VLOOKUP(A236-10000,'Data eshop'!D:AD,7,FALSE))","v":""},{"$f":"IF(A236=\"\",\"\",VLOOKUP(A236-10000,'Data eshop'!D:AD,10,FALSE))","v":""},"","","",""]
[{"$f":"IFERROR(SMALL('Data eshop'!D:D,COUNTIF('Data eshop'!D:D,\"<\"&(A236-10000)))+10000,\"\")","v":""},"",{"$f":"IF(A237=\"\",\"\",IF(VLOOKUP(A237-10000,'Data eshop'!D:G,2,FALSE)=\"\",PROPER(VLOOKUP(A237-10000,'Data eshop'!D:G,3,FALSE)&\" \"&VLOOKUP(A237-10000,'Data eshop'!D:G,4,FALSE)),VLOOKUP(A237-10000,'Data eshop'!D:G,2,FALSE)&\" - \"&PROPER(VLOOKUP(A237-10000,'Data eshop'!D:G,3,FALSE)&\" \"&VLOOKUP(A237-10000,'Data eshop'!D:G,4,FALSE))))","v":""},null,{"$f":"IF(A237=\"\",\"\",VLOOKUP(A237-10000,'Data eshop'!D:AD,5,FALSE))","v":""},{"$f":"IF(A237=\"\",\"\",IF(VLOOKUP('Místa dodání'!A237-10000,'Data eshop'!D:L,8,FALSE)=\"\",IF(VLOOKUP('Místa dodání'!A237-10000,'Data eshop'!D:L,9,FALSE)=\"\",\"\",\"DIČ: \"&VLOOKUP('Místa dodání'!A237-10000,'Data eshop'!D:L,9,FALSE)),IF(VLOOKUP('Místa dodání'!A237-10000,'Data eshop'!D:L,9,FALSE)=\"\",\"\",\"DIČ: \"&VLOOKUP('Místa dodání'!A237-10000,'Data eshop'!D:L,9,FALSE)&\", \")&\"IČO: \"&VLOOKUP('Místa dodání'!A237-10000,'Data eshop'!D:L,8,FALSE)))","v":""},{"$f":"IF(A237=\"\",\"\",VLOOKUP(A237-10000,'Data eshop'!D:AD,6,FALSE))","v":""},{"$f":"IF(A237=\"\",\"\",VLOOKUP(A237-10000,'Data eshop'!D:AD,7,FALSE))","v":""},{"$f":"IF(A237=\"\",\"\",VLOOKUP(A237-10000,'Data eshop'!D:AD,10,FALSE))","v":""},"","","",""]
[{"$f":"IFERROR(SMALL('Data eshop'!D:D,COUNTIF('Data eshop'!D:D,\"<\"&(A237-10000)))+10000,\"\")","v":""},"",{"$f":"IF(A238=\"\",\"\",IF(VLOOKUP(A238-10000,'Data eshop'!D:G,2,FALSE)=\"\",PROPER(VLOOKUP(A238-10000,'Data eshop'!D:G,3,FALSE)&\" \"&VLOOKUP(A238-10000,'Data eshop'!D:G,4,FALSE)),VLOOKUP(A238-10000,'Data eshop'!D:G,2,FALSE)&\" - \"&PROPER(VLOOKUP(A238-10000,'Data eshop'!D:G,3,FALSE)&\" \"&VLOOKUP(A238-10000,'Data eshop'!D:G,4,FALSE))))","v":""},null,{"$f":"IF(A238=\"\",\"\",VLOOKUP(A238-10000,'Data eshop'!D:AD,5,FALSE))","v":""},{"$f":"IF(A238=\"\",\"\",IF(VLOOKUP('Místa dodání'!A238-10000,'Data eshop'!D:L,8,FALSE)=\"\",IF(VLOOKUP('Místa dodání'!A238-10000,'Data eshop'!D:L,9,FALSE)=\"\",\"\",\"DIČ: \"&VLOOKUP('Místa dodání'!A238-10000,'Data eshop'!D:L,9,FALSE)),IF(VLOOKUP('Místa dodání'!A238-10000,'Data eshop'!D:L,9,FALSE)=\"\",\"\",\"DIČ: \"&VLOOKUP('Místa dodání'!A238-10000,'Data eshop'!D:L,9,FALSE)&\", \")&\"IČO: \"&VLOOKUP('Místa dodání'!A238-10000,'Data eshop'!D:L,8,FALSE)))","v":""},{"$f":"IF(A238=\"\",\"\",VLOOKUP(A238-10000,'Data eshop'!D:AD,6,FALSE))","v":""},{"$f":"IF(A238=\"\",\"\",VLOOKUP(A238-10000,'Data eshop'!D:AD,7,FALSE))","v":""},{"$f":"IF(A238=\"\",\"\",VLOOKUP(A238-10000,'Data eshop'!D:AD,10,FALSE))","v":""},"","","",""]
[{"$f":"IFERROR(SMALL('Data eshop'!D:D,COUNTIF('Data eshop'!D:D,\"<\"&(A238-10000)))+10000,\"\")","v":""},"",{"$f":"IF(A239=\"\",\"\",IF(VLOOKUP(A239-10000,'Data eshop'!D:G,2,FALSE)=\"\",PROPER(VLOOKUP(A239-10000,'Data eshop'!D:G,3,FALSE)&\" \"&VLOOKUP(A239-10000,'Data eshop'!D:G,4,FALSE)),VLOOKUP(A239-10000,'Data eshop'!D:G,2,FALSE)&\" - \"&PROPER(VLOOKUP(A239-10000,'Data eshop'!D:G,3,FALSE)&\" \"&VLOOKUP(A239-10000,'Data eshop'!D:G,4,FALSE))))","v":""},null,{"$f":"IF(A239=\"\",\"\",VLOOKUP(A239-10000,'Data eshop'!D:AD,5,FALSE))","v":""},{"$f":"IF(A239=\"\",\"\",IF(VLOOKUP('Místa dodání'!A239-10000,'Data eshop'!D:L,8,FALSE)=\"\",IF(VLOOKUP('Místa dodání'!A239-10000,'Data eshop'!D:L,9,FALSE)=\"\",\"\",\"DIČ: \"&VLOOKUP('Místa dodání'!A239-10000,'Data eshop'!D:L,9,FALSE)),IF(VLOOKUP('Místa dodání'!A239-10000,'Data eshop'!D:L,9,FALSE)=\"\",\"\",\"DIČ: \"&VLOOKUP('Místa dodání'!A239-10000,'Data eshop'!D:L,9,FALSE)&\", \")&\"IČO: \"&VLOOKUP('Místa dodání'!A239-10000,'Data eshop'!D:L,8,FALSE)))","v":""},{"$f":"IF(A239=\"\",\"\",VLOOKUP(A239-10000,'Data eshop'!D:AD,6,FALSE))","v":""},{"$f":"IF(A239=\"\",\"\",VLOOKUP(A239-10000,'Data eshop'!D:AD,7,FALSE))","v":""},{"$f":"IF(A239=\"\",\"\",VLOOKUP(A239-10000,'Data eshop'!D:AD,10,FALSE))","v":""},"","","","","Roluj nahoru, až uvidíš žlutou"]
[{"$f":"IFERROR(SMALL('Data eshop'!D:D,COUNTIF('Data eshop'!D:D,\"<\"&(A239-10000)))+10000,\"\")","v":""},"",{"$f":"IF(A240=\"\",\"\",IF(VLOOKUP(A240-10000,'Data eshop'!D:G,2,FALSE)=\"\",PROPER(VLOOKUP(A240-10000,'Data eshop'!D:G,3,FALSE)&\" \"&VLOOKUP(A240-10000,'Data eshop'!D:G,4,FALSE)),VLOOKUP(A240-10000,'Data eshop'!D:G,2,FALSE)&\" - \"&PROPER(VLOOKUP(A240-10000,'Data eshop'!D:G,3,FALSE)&\" \"&VLOOKUP(A240-10000,'Data eshop'!D:G,4,FALSE))))","v":""},null,{"$f":"IF(A240=\"\",\"\",VLOOKUP(A240-10000,'Data eshop'!D:AD,5,FALSE))","v":""},{"$f":"IF(A240=\"\",\"\",IF(VLOOKUP('Místa dodání'!A240-10000,'Data eshop'!D:L,8,FALSE)=\"\",IF(VLOOKUP('Místa dodání'!A240-10000,'Data eshop'!D:L,9,FALSE)=\"\",\"\",\"DIČ: \"&VLOOKUP('Místa dodání'!A240-10000,'Data eshop'!D:L,9,FALSE)),IF(VLOOKUP('Místa dodání'!A240-10000,'Data eshop'!D:L,9,FALSE)=\"\",\"\",\"DIČ: \"&VLOOKUP('Místa dodání'!A240-10000,'Data eshop'!D:L,9,FALSE)&\", \")&\"IČO: \"&VLOOKUP('Místa dodání'!A240-10000,'Data eshop'!D:L,8,FALSE)))","v":""},{"$f":"IF(A240=\"\",\"\",VLOOKUP(A240-10000,'Data eshop'!D:AD,6,FALSE))","v":""},{"$f":"IF(A240=\"\",\"\",VLOOKUP(A240-10000,'Data eshop'!D:AD,7,FALSE))","v":""},{"$f":"IF(A240=\"\",\"\",VLOOKUP(A240-10000,'Data eshop'!D:AD,10,FALSE))","v":""},"","","",""]
[{"$f":"IFERROR(SMALL('Data eshop'!D:D,COUNTIF('Data eshop'!D:D,\"<\"&(A240-10000)))+10000,\"\")","v":""},"",{"$f":"IF(A241=\"\",\"\",IF(VLOOKUP(A241-10000,'Data eshop'!D:G,2,FALSE)=\"\",PROPER(VLOOKUP(A241-10000,'Data eshop'!D:G,3,FALSE)&\" \"&VLOOKUP(A241-10000,'Data eshop'!D:G,4,FALSE)),VLOOKUP(A241-10000,'Data eshop'!D:G,2,FALSE)&\" - \"&PROPER(VLOOKUP(A241-10000,'Data eshop'!D:G,3,FALSE)&\" \"&VLOOKUP(A241-10000,'Data eshop'!D:G,4,FALSE))))","v":""},null,{"$f":"IF(A241=\"\",\"\",VLOOKUP(A241-10000,'Data eshop'!D:AD,5,FALSE))","v":""},{"$f":"IF(A241=\"\",\"\",IF(VLOOKUP('Místa dodání'!A241-10000,'Data eshop'!D:L,8,FALSE)=\"\",IF(VLOOKUP('Místa dodání'!A241-10000,'Data eshop'!D:L,9,FALSE)=\"\",\"\",\"DIČ: \"&VLOOKUP('Místa dodání'!A241-10000,'Data eshop'!D:L,9,FALSE)),IF(VLOOKUP('Místa dodání'!A241-10000,'Data eshop'!D:L,9,FALSE)=\"\",\"\",\"DIČ: \"&VLOOKUP('Místa dodání'!A241-10000,'Data eshop'!D:L,9,FALSE)&\", \")&\"IČO: \"&VLOOKUP('Místa dodání'!A241-10000,'Data eshop'!D:L,8,FALSE)))","v":""},{"$f":"IF(A241=\"\",\"\",VLOOKUP(A241-10000,'Data eshop'!D:AD,6,FALSE))","v":""},{"$f":"IF(A241=\"\",\"\",VLOOKUP(A241-10000,'Data eshop'!D:AD,7,FALSE))","v":""},{"$f":"IF(A241=\"\",\"\",VLOOKUP(A241-10000,'Data eshop'!D:AD,10,FALSE))","v":""},"","","",""]
[{"$f":"IFERROR(SMALL('Data eshop'!D:D,COUNTIF('Data eshop'!D:D,\"<\"&(A241-10000)))+10000,\"\")","v":""},"",{"$f":"IF(A242=\"\",\"\",IF(VLOOKUP(A242-10000,'Data eshop'!D:G,2,FALSE)=\"\",PROPER(VLOOKUP(A242-10000,'Data eshop'!D:G,3,FALSE)&\" \"&VLOOKUP(A242-10000,'Data eshop'!D:G,4,FALSE)),VLOOKUP(A242-10000,'Data eshop'!D:G,2,FALSE)&\" - \"&PROPER(VLOOKUP(A242-10000,'Data eshop'!D:G,3,FALSE)&\" \"&VLOOKUP(A242-10000,'Data eshop'!D:G,4,FALSE))))","v":""},null,{"$f":"IF(A242=\"\",\"\",VLOOKUP(A242-10000,'Data eshop'!D:AD,5,FALSE))","v":""},{"$f":"IF(A242=\"\",\"\",IF(VLOOKUP('Místa dodání'!A242-10000,'Data eshop'!D:L,8,FALSE)=\"\",IF(VLOOKUP('Místa dodání'!A242-10000,'Data eshop'!D:L,9,FALSE)=\"\",\"\",\"DIČ: \"&VLOOKUP('Místa dodání'!A242-10000,'Data eshop'!D:L,9,FALSE)),IF(VLOOKUP('Místa dodání'!A242-10000,'Data eshop'!D:L,9,FALSE)=\"\",\"\",\"DIČ: \"&VLOOKUP('Místa dodání'!A242-10000,'Data eshop'!D:L,9,FALSE)&\", \")&\"IČO: \"&VLOOKUP('Místa dodání'!A242-10000,'Data eshop'!D:L,8,FALSE)))","v":""},{"$f":"IF(A242=\"\",\"\",VLOOKUP(A242-10000,'Data eshop'!D:AD,6,FALSE))","v":""},{"$f":"IF(A242=\"\",\"\",VLOOKUP(A242-10000,'Data eshop'!D:AD,7,FALSE))","v":""},{"$f":"IF(A242=\"\",\"\",VLOOKUP(A242-10000,'Data eshop'!D:AD,10,FALSE))","v":""},"","","",""]
[{"$f":"IFERROR(SMALL('Data eshop'!D:D,COUNTIF('Data eshop'!D:D,\"<\"&(A242-10000)))+10000,\"\")","v":""},"",{"$f":"IF(A243=\"\",\"\",IF(VLOOKUP(A243-10000,'Data eshop'!D:G,2,FALSE)=\"\",PROPER(VLOOKUP(A243-10000,'Data eshop'!D:G,3,FALSE)&\" \"&VLOOKUP(A243-10000,'Data eshop'!D:G,4,FALSE)),VLOOKUP(A243-10000,'Data eshop'!D:G,2,FALSE)&\" - \"&PROPER(VLOOKUP(A243-10000,'Data eshop'!D:G,3,FALSE)&\" \"&VLOOKUP(A243-10000,'Data eshop'!D:G,4,FALSE))))","v":""},null,{"$f":"IF(A243=\"\",\"\",VLOOKUP(A243-10000,'Data eshop'!D:AD,5,FALSE))","v":""},{"$f":"IF(A243=\"\",\"\",IF(VLOOKUP('Místa dodání'!A243-10000,'Data eshop'!D:L,8,FALSE)=\"\",IF(VLOOKUP('Místa dodání'!A243-10000,'Data eshop'!D:L,9,FALSE)=\"\",\"\",\"DIČ: \"&VLOOKUP('Místa dodání'!A243-10000,'Data eshop'!D:L,9,FALSE)),IF(VLOOKUP('Místa dodání'!A243-10000,'Data eshop'!D:L,9,FALSE)=\"\",\"\",\"DIČ: \"&VLOOKUP('Místa dodání'!A243-10000,'Data eshop'!D:L,9,FALSE)&\", \")&\"IČO: \"&VLOOKUP('Místa dodání'!A243-10000,'Data eshop'!D:L,8,FALSE)))","v":""},{"$f":"IF(A243=\"\",\"\",VLOOKUP(A243-10000,'Data eshop'!D:AD,6,FALSE))","v":""},{"$f":"IF(A243=\"\",\"\",VLOOKUP(A243-10000,'Data eshop'!D:AD,7,FALSE))","v":""},{"$f":"IF(A243=\"\",\"\",VLOOKUP(A243-10000,'Data eshop'!D:AD,10,FALSE))","v":""},"","","","","Roluj nahoru, až uvidíš žlutou"]
[{"$f":"IFERROR(SMALL('Data eshop'!D:D,COUNTIF('Data eshop'!D:D,\"<\"&(A243-10000)))+10000,\"\")","v":""},"",{"$f":"IF(A244=\"\",\"\",IF(VLOOKUP(A244-10000,'Data eshop'!D:G,2,FALSE)=\"\",PROPER(VLOOKUP(A244-10000,'Data eshop'!D:G,3,FALSE)&\" \"&VLOOKUP(A244-10000,'Data eshop'!D:G,4,FALSE)),VLOOKUP(A244-10000,'Data eshop'!D:G,2,FALSE)&\" - \"&PROPER(VLOOKUP(A244-10000,'Data eshop'!D:G,3,FALSE)&\" \"&VLOOKUP(A244-10000,'Data eshop'!D:G,4,FALSE))))","v":""},null,{"$f":"IF(A244=\"\",\"\",VLOOKUP(A244-10000,'Data eshop'!D:AD,5,FALSE))","v":""},{"$f":"IF(A244=\"\",\"\",IF(VLOOKUP('Místa dodání'!A244-10000,'Data eshop'!D:L,8,FALSE)=\"\",IF(VLOOKUP('Místa dodání'!A244-10000,'Data eshop'!D:L,9,FALSE)=\"\",\"\",\"DIČ: \"&VLOOKUP('Místa dodání'!A244-10000,'Data eshop'!D:L,9,FALSE)),IF(VLOOKUP('Místa dodání'!A244-10000,'Data eshop'!D:L,9,FALSE)=\"\",\"\",\"DIČ: \"&VLOOKUP('Místa dodání'!A244-10000,'Data eshop'!D:L,9,FALSE)&\", \")&\"IČO: \"&VLOOKUP('Místa dodání'!A244-10000,'Data eshop'!D:L,8,FALSE)))","v":""},{"$f":"IF(A244=\"\",\"\",VLOOKUP(A244-10000,'Data eshop'!D:AD,6,FALSE))","v":""},{"$f":"IF(A244=\"\",\"\",VLOOKUP(A244-10000,'Data eshop'!D:AD,7,FALSE))","v":""},{"$f":"IF(A244=\"\",\"\",VLOOKUP(A244-10000,'Data eshop'!D:AD,10,FALSE))","v":""},"","","",""]
[{"$f":"IFERROR(SMALL('Data eshop'!D:D,COUNTIF('Data eshop'!D:D,\"<\"&(A244-10000)))+10000,\"\")","v":""},"",{"$f":"IF(A245=\"\",\"\",IF(VLOOKUP(A245-10000,'Data eshop'!D:G,2,FALSE)=\"\",PROPER(VLOOKUP(A245-10000,'Data eshop'!D:G,3,FALSE)&\" \"&VLOOKUP(A245-10000,'Data eshop'!D:G,4,FALSE)),VLOOKUP(A245-10000,'Data eshop'!D:G,2,FALSE)&\" - \"&PROPER(VLOOKUP(A245-10000,'Data eshop'!D:G,3,FALSE)&\" \"&VLOOKUP(A245-10000,'Data eshop'!D:G,4,FALSE))))","v":""},null,{"$f":"IF(A245=\"\",\"\",VLOOKUP(A245-10000,'Data eshop'!D:AD,5,FALSE))","v":""},{"$f":"IF(A245=\"\",\"\",IF(VLOOKUP('Místa dodání'!A245-10000,'Data eshop'!D:L,8,FALSE)=\"\",IF(VLOOKUP('Místa dodání'!A245-10000,'Data eshop'!D:L,9,FALSE)=\"\",\"\",\"DIČ: \"&VLOOKUP('Místa dodání'!A245-10000,'Data eshop'!D:L,9,FALSE)),IF(VLOOKUP('Místa dodání'!A245-10000,'Data eshop'!D:L,9,FALSE)=\"\",\"\",\"DIČ: \"&VLOOKUP('Místa dodání'!A245-10000,'Data eshop'!D:L,9,FALSE)&\", \")&\"IČO: \"&VLOOKUP('Místa dodání'!A245-10000,'Data eshop'!D:L,8,FALSE)))","v":""},{"$f":"IF(A245=\"\",\"\",VLOOKUP(A245-10000,'Data eshop'!D:AD,6,FALSE))","v":""},{"$f":"IF(A245=\"\",\"\",VLOOKUP(A245-10000,'Data eshop'!D:AD,7,FALSE))","v":""},{"$f":"IF(A245=\"\",\"\",VLOOKUP(A245-10000,'Data eshop'!D:AD,10,FALSE))","v":""},"","","",""]
[{"$f":"IFERROR(SMALL('Data eshop'!D:D,COUNTIF('Data eshop'!D:D,\"<\"&(A245-10000)))+10000,\"\")","v":""},"",{"$f":"IF(A246=\"\",\"\",IF(VLOOKUP(A246-10000,'Data eshop'!D:G,2,FALSE)=\"\",PROPER(VLOOKUP(A246-10000,'Data eshop'!D:G,3,FALSE)&\" \"&VLOOKUP(A246-10000,'Data eshop'!D:G,4,FALSE)),VLOOKUP(A246-10000,'Data eshop'!D:G,2,FALSE)&\" - \"&PROPER(VLOOKUP(A246-10000,'Data eshop'!D:G,3,FALSE)&\" \"&VLOOKUP(A246-10000,'Data eshop'!D:G,4,FALSE))))","v":""},null,{"$f":"IF(A246=\"\",\"\",VLOOKUP(A246-10000,'Data eshop'!D:AD,5,FALSE))","v":""},{"$f":"IF(A246=\"\",\"\",IF(VLOOKUP('Místa dodání'!A246-10000,'Data eshop'!D:L,8,FALSE)=\"\",IF(VLOOKUP('Místa dodání'!A246-10000,'Data eshop'!D:L,9,FALSE)=\"\",\"\",\"DIČ: \"&VLOOKUP('Místa dodání'!A246-10000,'Data eshop'!D:L,9,FALSE)),IF(VLOOKUP('Místa dodání'!A246-10000,'Data eshop'!D:L,9,FALSE)=\"\",\"\",\"DIČ: \"&VLOOKUP('Místa dodání'!A246-10000,'Data eshop'!D:L,9,FALSE)&\", \")&\"IČO: \"&VLOOKUP('Místa dodání'!A246-10000,'Data eshop'!D:L,8,FALSE)))","v":""},{"$f":"IF(A246=\"\",\"\",VLOOKUP(A246-10000,'Data eshop'!D:AD,6,FALSE))","v":""},{"$f":"IF(A246=\"\",\"\",VLOOKUP(A246-10000,'Data eshop'!D:AD,7,FALSE))","v":""},{"$f":"IF(A246=\"\",\"\",VLOOKUP(A246-10000,'Data eshop'!D:AD,10,FALSE))","v":""},"","","",""]
[{"$f":"IFERROR(SMALL('Data eshop'!D:D,COUNTIF('Data eshop'!D:D,\"<\"&(A246-10000)))+10000,\"\")","v":""},"",{"$f":"IF(A247=\"\",\"\",IF(VLOOKUP(A247-10000,'Data eshop'!D:G,2,FALSE)=\"\",PROPER(VLOOKUP(A247-10000,'Data eshop'!D:G,3,FALSE)&\" \"&VLOOKUP(A247-10000,'Data eshop'!D:G,4,FALSE)),VLOOKUP(A247-10000,'Data eshop'!D:G,2,FALSE)&\" - \"&PROPER(VLOOKUP(A247-10000,'Data eshop'!D:G,3,FALSE)&\" \"&VLOOKUP(A247-10000,'Data eshop'!D:G,4,FALSE))))","v":""},null,{"$f":"IF(A247=\"\",\"\",VLOOKUP(A247-10000,'Data eshop'!D:AD,5,FALSE))","v":""},{"$f":"IF(A247=\"\",\"\",IF(VLOOKUP('Místa dodání'!A247-10000,'Data eshop'!D:L,8,FALSE)=\"\",IF(VLOOKUP('Místa dodání'!A247-10000,'Data eshop'!D:L,9,FALSE)=\"\",\"\",\"DIČ: \"&VLOOKUP('Místa dodání'!A247-10000,'Data eshop'!D:L,9,FALSE)),IF(VLOOKUP('Místa dodání'!A247-10000,'Data eshop'!D:L,9,FALSE)=\"\",\"\",\"DIČ: \"&VLOOKUP('Místa dodání'!A247-10000,'Data eshop'!D:L,9,FALSE)&\", \")&\"IČO: \"&VLOOKUP('Místa dodání'!A247-10000,'Data eshop'!D:L,8,FALSE)))","v":""},{"$f":"IF(A247=\"\",\"\",VLOOKUP(A247-10000,'Data eshop'!D:AD,6,FALSE))","v":""},{"$f":"IF(A247=\"\",\"\",VLOOKUP(A247-10000,'Data eshop'!D:AD,7,FALSE))","v":""},{"$f":"IF(A247=\"\",\"\",VLOOKUP(A247-10000,'Data eshop'!D:AD,10,FALSE))","v":""},"","","","","Roluj nahoru, až uvidíš žlutou"]
[{"$f":"IFERROR(SMALL('Data eshop'!D:D,COUNTIF('Data eshop'!D:D,\"<\"&(A247-10000)))+10000,\"\")","v":""},"",{"$f":"IF(A248=\"\",\"\",IF(VLOOKUP(A248-10000,'Data eshop'!D:G,2,FALSE)=\"\",PROPER(VLOOKUP(A248-10000,'Data eshop'!D:G,3,FALSE)&\" \"&VLOOKUP(A248-10000,'Data eshop'!D:G,4,FALSE)),VLOOKUP(A248-10000,'Data eshop'!D:G,2,FALSE)&\" - \"&PROPER(VLOOKUP(A248-10000,'Data eshop'!D:G,3,FALSE)&\" \"&VLOOKUP(A248-10000,'Data eshop'!D:G,4,FALSE))))","v":""},null,{"$f":"IF(A248=\"\",\"\",VLOOKUP(A248-10000,'Data eshop'!D:AD,5,FALSE))","v":""},{"$f":"IF(A248=\"\",\"\",IF(VLOOKUP('Místa dodání'!A248-10000,'Data eshop'!D:L,8,FALSE)=\"\",IF(VLOOKUP('Místa dodání'!A248-10000,'Data eshop'!D:L,9,FALSE)=\"\",\"\",\"DIČ: \"&VLOOKUP('Místa dodání'!A248-10000,'Data eshop'!D:L,9,FALSE)),IF(VLOOKUP('Místa dodání'!A248-10000,'Data eshop'!D:L,9,FALSE)=\"\",\"\",\"DIČ: \"&VLOOKUP('Místa dodání'!A248-10000,'Data eshop'!D:L,9,FALSE)&\", \")&\"IČO: \"&VLOOKUP('Místa dodání'!A248-10000,'Data eshop'!D:L,8,FALSE)))","v":""},{"$f":"IF(A248=\"\",\"\",VLOOKUP(A248-10000,'Data eshop'!D:AD,6,FALSE))","v":""},{"$f":"IF(A248=\"\",\"\",VLOOKUP(A248-10000,'Data eshop'!D:AD,7,FALSE))","v":""},{"$f":"IF(A248=\"\",\"\",VLOOKUP(A248-10000,'Data eshop'!D:AD,10,FALSE))","v":""},"","","",""]
[{"$f":"IFERROR(SMALL('Data eshop'!D:D,COUNTIF('Data eshop'!D:D,\"<\"&(A248-10000)))+10000,\"\")","v":""},"",{"$f":"IF(A249=\"\",\"\",IF(VLOOKUP(A249-10000,'Data eshop'!D:G,2,FALSE)=\"\",PROPER(VLOOKUP(A249-10000,'Data eshop'!D:G,3,FALSE)&\" \"&VLOOKUP(A249-10000,'Data eshop'!D:G,4,FALSE)),VLOOKUP(A249-10000,'Data eshop'!D:G,2,FALSE)&\" - \"&PROPER(VLOOKUP(A249-10000,'Data eshop'!D:G,3,FALSE)&\" \"&VLOOKUP(A249-10000,'Data eshop'!D:G,4,FALSE))))","v":""},null,{"$f":"IF(A249=\"\",\"\",VLOOKUP(A249-10000,'Data eshop'!D:AD,5,FALSE))","v":""},{"$f":"IF(A249=\"\",\"\",IF(VLOOKUP('Místa dodání'!A249-10000,'Data eshop'!D:L,8,FALSE)=\"\",IF(VLOOKUP('Místa dodání'!A249-10000,'Data eshop'!D:L,9,FALSE)=\"\",\"\",\"DIČ: \"&VLOOKUP('Místa dodání'!A249-10000,'Data eshop'!D:L,9,FALSE)),IF(VLOOKUP('Místa dodání'!A249-10000,'Data eshop'!D:L,9,FALSE)=\"\",\"\",\"DIČ: \"&VLOOKUP('Místa dodání'!A249-10000,'Data eshop'!D:L,9,FALSE)&\", \")&\"IČO: \"&VLOOKUP('Místa dodání'!A249-10000,'Data eshop'!D:L,8,FALSE)))","v":""},{"$f":"IF(A249=\"\",\"\",VLOOKUP(A249-10000,'Data eshop'!D:AD,6,FALSE))","v":""},{"$f":"IF(A249=\"\",\"\",VLOOKUP(A249-10000,'Data eshop'!D:AD,7,FALSE))","v":""},{"$f":"IF(A249=\"\",\"\",VLOOKUP(A249-10000,'Data eshop'!D:AD,10,FALSE))","v":""},"","","",""]
[{"$f":"IFERROR(SMALL('Data eshop'!D:D,COUNTIF('Data eshop'!D:D,\"<\"&(A249-10000)))+10000,\"\")","v":""},"",{"$f":"IF(A250=\"\",\"\",IF(VLOOKUP(A250-10000,'Data eshop'!D:G,2,FALSE)=\"\",PROPER(VLOOKUP(A250-10000,'Data eshop'!D:G,3,FALSE)&\" \"&VLOOKUP(A250-10000,'Data eshop'!D:G,4,FALSE)),VLOOKUP(A250-10000,'Data eshop'!D:G,2,FALSE)&\" - \"&PROPER(VLOOKUP(A250-10000,'Data eshop'!D:G,3,FALSE)&\" \"&VLOOKUP(A250-10000,'Data eshop'!D:G,4,FALSE))))","v":""},null,{"$f":"IF(A250=\"\",\"\",VLOOKUP(A250-10000,'Data eshop'!D:AD,5,FALSE))","v":""},{"$f":"IF(A250=\"\",\"\",IF(VLOOKUP('Místa dodání'!A250-10000,'Data eshop'!D:L,8,FALSE)=\"\",IF(VLOOKUP('Místa dodání'!A250-10000,'Data eshop'!D:L,9,FALSE)=\"\",\"\",\"DIČ: \"&VLOOKUP('Místa dodání'!A250-10000,'Data eshop'!D:L,9,FALSE)),IF(VLOOKUP('Místa dodání'!A250-10000,'Data eshop'!D:L,9,FALSE)=\"\",\"\",\"DIČ: \"&VLOOKUP('Místa dodání'!A250-10000,'Data eshop'!D:L,9,FALSE)&\", \")&\"IČO: \"&VLOOKUP('Místa dodání'!A250-10000,'Data eshop'!D:L,8,FALSE)))","v":""},{"$f":"IF(A250=\"\",\"\",VLOOKUP(A250-10000,'Data eshop'!D:AD,6,FALSE))","v":""},{"$f":"IF(A250=\"\",\"\",VLOOKUP(A250-10000,'Data eshop'!D:AD,7,FALSE))","v":""},{"$f":"IF(A250=\"\",\"\",VLOOKUP(A250-10000,'Data eshop'!D:AD,10,FALSE))","v":""},"","","",""]
[{"$f":"IFERROR(SMALL('Data eshop'!D:D,COUNTIF('Data eshop'!D:D,\"<\"&(A250-10000)))+10000,\"\")","v":""},"",{"$f":"IF(A251=\"\",\"\",IF(VLOOKUP(A251-10000,'Data eshop'!D:G,2,FALSE)=\"\",PROPER(VLOOKUP(A251-10000,'Data eshop'!D:G,3,FALSE)&\" \"&VLOOKUP(A251-10000,'Data eshop'!D:G,4,FALSE)),VLOOKUP(A251-10000,'Data eshop'!D:G,2,FALSE)&\" - \"&PROPER(VLOOKUP(A251-10000,'Data eshop'!D:G,3,FALSE)&\" \"&VLOOKUP(A251-10000,'Data eshop'!D:G,4,FALSE))))","v":""},null,{"$f":"IF(A251=\"\",\"\",VLOOKUP(A251-10000,'Data eshop'!D:AD,5,FALSE))","v":""},{"$f":"IF(A251=\"\",\"\",IF(VLOOKUP('Místa dodání'!A251-10000,'Data eshop'!D:L,8,FALSE)=\"\",IF(VLOOKUP('Místa dodání'!A251-10000,'Data eshop'!D:L,9,FALSE)=\"\",\"\",\"DIČ: \"&VLOOKUP('Místa dodání'!A251-10000,'Data eshop'!D:L,9,FALSE)),IF(VLOOKUP('Místa dodání'!A251-10000,'Data eshop'!D:L,9,FALSE)=\"\",\"\",\"DIČ: \"&VLOOKUP('Místa dodání'!A251-10000,'Data eshop'!D:L,9,FALSE)&\", \")&\"IČO: \"&VLOOKUP('Místa dodání'!A251-10000,'Data eshop'!D:L,8,FALSE)))","v":""},{"$f":"IF(A251=\"\",\"\",VLOOKUP(A251-10000,'Data eshop'!D:AD,6,FALSE))","v":""},{"$f":"IF(A251=\"\",\"\",VLOOKUP(A251-10000,'Data eshop'!D:AD,7,FALSE))","v":""},{"$f":"IF(A251=\"\",\"\",VLOOKUP(A251-10000,'Data eshop'!D:AD,10,FALSE))","v":""},"","","","","Roluj nahoru, až uvidíš žlutou"]
[{"$f":"IFERROR(SMALL('Data eshop'!D:D,COUNTIF('Data eshop'!D:D,\"<\"&(A251-10000)))+10000,\"\")","v":""},"",{"$f":"IF(A252=\"\",\"\",IF(VLOOKUP(A252-10000,'Data eshop'!D:G,2,FALSE)=\"\",PROPER(VLOOKUP(A252-10000,'Data eshop'!D:G,3,FALSE)&\" \"&VLOOKUP(A252-10000,'Data eshop'!D:G,4,FALSE)),VLOOKUP(A252-10000,'Data eshop'!D:G,2,FALSE)&\" - \"&PROPER(VLOOKUP(A252-10000,'Data eshop'!D:G,3,FALSE)&\" \"&VLOOKUP(A252-10000,'Data eshop'!D:G,4,FALSE))))","v":""},null,{"$f":"IF(A252=\"\",\"\",VLOOKUP(A252-10000,'Data eshop'!D:AD,5,FALSE))","v":""},{"$f":"IF(A252=\"\",\"\",IF(VLOOKUP('Místa dodání'!A252-10000,'Data eshop'!D:L,8,FALSE)=\"\",IF(VLOOKUP('Místa dodání'!A252-10000,'Data eshop'!D:L,9,FALSE)=\"\",\"\",\"DIČ: \"&VLOOKUP('Místa dodání'!A252-10000,'Data eshop'!D:L,9,FALSE)),IF(VLOOKUP('Místa dodání'!A252-10000,'Data eshop'!D:L,9,FALSE)=\"\",\"\",\"DIČ: \"&VLOOKUP('Místa dodání'!A252-10000,'Data eshop'!D:L,9,FALSE)&\", \")&\"IČO: \"&VLOOKUP('Místa dodání'!A252-10000,'Data eshop'!D:L,8,FALSE)))","v":""},{"$f":"IF(A252=\"\",\"\",VLOOKUP(A252-10000,'Data eshop'!D:AD,6,FALSE))","v":""},{"$f":"IF(A252=\"\",\"\",VLOOKUP(A252-10000,'Data eshop'!D:AD,7,FALSE))","v":""},{"$f":"IF(A252=\"\",\"\",VLOOKUP(A252-10000,'Data eshop'!D:AD,10,FALSE))","v":""},"","","",""]
[{"$f":"IFERROR(SMALL('Data eshop'!D:D,COUNTIF('Data eshop'!D:D,\"<\"&(A252-10000)))+10000,\"\")","v":""},"",{"$f":"IF(A253=\"\",\"\",IF(VLOOKUP(A253-10000,'Data eshop'!D:G,2,FALSE)=\"\",PROPER(VLOOKUP(A253-10000,'Data eshop'!D:G,3,FALSE)&\" \"&VLOOKUP(A253-10000,'Data eshop'!D:G,4,FALSE)),VLOOKUP(A253-10000,'Data eshop'!D:G,2,FALSE)&\" - \"&PROPER(VLOOKUP(A253-10000,'Data eshop'!D:G,3,FALSE)&\" \"&VLOOKUP(A253-10000,'Data eshop'!D:G,4,FALSE))))","v":""},null,{"$f":"IF(A253=\"\",\"\",VLOOKUP(A253-10000,'Data eshop'!D:AD,5,FALSE))","v":""},{"$f":"IF(A253=\"\",\"\",IF(VLOOKUP('Místa dodání'!A253-10000,'Data eshop'!D:L,8,FALSE)=\"\",IF(VLOOKUP('Místa dodání'!A253-10000,'Data eshop'!D:L,9,FALSE)=\"\",\"\",\"DIČ: \"&VLOOKUP('Místa dodání'!A253-10000,'Data eshop'!D:L,9,FALSE)),IF(VLOOKUP('Místa dodání'!A253-10000,'Data eshop'!D:L,9,FALSE)=\"\",\"\",\"DIČ: \"&VLOOKUP('Místa dodání'!A253-10000,'Data eshop'!D:L,9,FALSE)&\", \")&\"IČO: \"&VLOOKUP('Místa dodání'!A253-10000,'Data eshop'!D:L,8,FALSE)))","v":""},{"$f":"IF(A253=\"\",\"\",VLOOKUP(A253-10000,'Data eshop'!D:AD,6,FALSE))","v":""},{"$f":"IF(A253=\"\",\"\",VLOOKUP(A253-10000,'Data eshop'!D:AD,7,FALSE))","v":""},{"$f":"IF(A253=\"\",\"\",VLOOKUP(A253-10000,'Data eshop'!D:AD,10,FALSE))","v":""},"","","",""]
[{"$f":"IFERROR(SMALL('Data eshop'!D:D,COUNTIF('Data eshop'!D:D,\"<\"&(A253-10000)))+10000,\"\")","v":""},"",{"$f":"IF(A254=\"\",\"\",IF(VLOOKUP(A254-10000,'Data eshop'!D:G,2,FALSE)=\"\",PROPER(VLOOKUP(A254-10000,'Data eshop'!D:G,3,FALSE)&\" \"&VLOOKUP(A254-10000,'Data eshop'!D:G,4,FALSE)),VLOOKUP(A254-10000,'Data eshop'!D:G,2,FALSE)&\" - \"&PROPER(VLOOKUP(A254-10000,'Data eshop'!D:G,3,FALSE)&\" \"&VLOOKUP(A254-10000,'Data eshop'!D:G,4,FALSE))))","v":""},null,{"$f":"IF(A254=\"\",\"\",VLOOKUP(A254-10000,'Data eshop'!D:AD,5,FALSE))","v":""},{"$f":"IF(A254=\"\",\"\",IF(VLOOKUP('Místa dodání'!A254-10000,'Data eshop'!D:L,8,FALSE)=\"\",IF(VLOOKUP('Místa dodání'!A254-10000,'Data eshop'!D:L,9,FALSE)=\"\",\"\",\"DIČ: \"&VLOOKUP('Místa dodání'!A254-10000,'Data eshop'!D:L,9,FALSE)),IF(VLOOKUP('Místa dodání'!A254-10000,'Data eshop'!D:L,9,FALSE)=\"\",\"\",\"DIČ: \"&VLOOKUP('Místa dodání'!A254-10000,'Data eshop'!D:L,9,FALSE)&\", \")&\"IČO: \"&VLOOKUP('Místa dodání'!A254-10000,'Data eshop'!D:L,8,FALSE)))","v":""},{"$f":"IF(A254=\"\",\"\",VLOOKUP(A254-10000,'Data eshop'!D:AD,6,FALSE))","v":""},{"$f":"IF(A254=\"\",\"\",VLOOKUP(A254-10000,'Data eshop'!D:AD,7,FALSE))","v":""},{"$f":"IF(A254=\"\",\"\",VLOOKUP(A254-10000,'Data eshop'!D:AD,10,FALSE))","v":""},"","","",""]
[{"$f":"IFERROR(SMALL('Data eshop'!D:D,COUNTIF('Data eshop'!D:D,\"<\"&(A254-10000)))+10000,\"\")","v":""},"",{"$f":"IF(A255=\"\",\"\",IF(VLOOKUP(A255-10000,'Data eshop'!D:G,2,FALSE)=\"\",PROPER(VLOOKUP(A255-10000,'Data eshop'!D:G,3,FALSE)&\" \"&VLOOKUP(A255-10000,'Data eshop'!D:G,4,FALSE)),VLOOKUP(A255-10000,'Data eshop'!D:G,2,FALSE)&\" - \"&PROPER(VLOOKUP(A255-10000,'Data eshop'!D:G,3,FALSE)&\" \"&VLOOKUP(A255-10000,'Data eshop'!D:G,4,FALSE))))","v":""},null,{"$f":"IF(A255=\"\",\"\",VLOOKUP(A255-10000,'Data eshop'!D:AD,5,FALSE))","v":""},{"$f":"IF(A255=\"\",\"\",IF(VLOOKUP('Místa dodání'!A255-10000,'Data eshop'!D:L,8,FALSE)=\"\",IF(VLOOKUP('Místa dodání'!A255-10000,'Data eshop'!D:L,9,FALSE)=\"\",\"\",\"DIČ: \"&VLOOKUP('Místa dodání'!A255-10000,'Data eshop'!D:L,9,FALSE)),IF(VLOOKUP('Místa dodání'!A255-10000,'Data eshop'!D:L,9,FALSE)=\"\",\"\",\"DIČ: \"&VLOOKUP('Místa dodání'!A255-10000,'Data eshop'!D:L,9,FALSE)&\", \")&\"IČO: \"&VLOOKUP('Místa dodání'!A255-10000,'Data eshop'!D:L,8,FALSE)))","v":""},{"$f":"IF(A255=\"\",\"\",VLOOKUP(A255-10000,'Data eshop'!D:AD,6,FALSE))","v":""},{"$f":"IF(A255=\"\",\"\",VLOOKUP(A255-10000,'Data eshop'!D:AD,7,FALSE))","v":""},{"$f":"IF(A255=\"\",\"\",VLOOKUP(A255-10000,'Data eshop'!D:AD,10,FALSE))","v":""},"","","","","Roluj nahoru, až uvidíš žlutou"]
[{"$f":"IFERROR(SMALL('Data eshop'!D:D,COUNTIF('Data eshop'!D:D,\"<\"&(A255-10000)))+10000,\"\")","v":""},"",{"$f":"IF(A256=\"\",\"\",IF(VLOOKUP(A256-10000,'Data eshop'!D:G,2,FALSE)=\"\",PROPER(VLOOKUP(A256-10000,'Data eshop'!D:G,3,FALSE)&\" \"&VLOOKUP(A256-10000,'Data eshop'!D:G,4,FALSE)),VLOOKUP(A256-10000,'Data eshop'!D:G,2,FALSE)&\" - \"&PROPER(VLOOKUP(A256-10000,'Data eshop'!D:G,3,FALSE)&\" \"&VLOOKUP(A256-10000,'Data eshop'!D:G,4,FALSE))))","v":""},null,{"$f":"IF(A256=\"\",\"\",VLOOKUP(A256-10000,'Data eshop'!D:AD,5,FALSE))","v":""},{"$f":"IF(A256=\"\",\"\",IF(VLOOKUP('Místa dodání'!A256-10000,'Data eshop'!D:L,8,FALSE)=\"\",IF(VLOOKUP('Místa dodání'!A256-10000,'Data eshop'!D:L,9,FALSE)=\"\",\"\",\"DIČ: \"&VLOOKUP('Místa dodání'!A256-10000,'Data eshop'!D:L,9,FALSE)),IF(VLOOKUP('Místa dodání'!A256-10000,'Data eshop'!D:L,9,FALSE)=\"\",\"\",\"DIČ: \"&VLOOKUP('Místa dodání'!A256-10000,'Data eshop'!D:L,9,FALSE)&\", \")&\"IČO: \"&VLOOKUP('Místa dodání'!A256-10000,'Data eshop'!D:L,8,FALSE)))","v":""},{"$f":"IF(A256=\"\",\"\",VLOOKUP(A256-10000,'Data eshop'!D:AD,6,FALSE))","v":""},{"$f":"IF(A256=\"\",\"\",VLOOKUP(A256-10000,'Data eshop'!D:AD,7,FALSE))","v":""},{"$f":"IF(A256=\"\",\"\",VLOOKUP(A256-10000,'Data eshop'!D:AD,10,FALSE))","v":""},"","","",""]
[{"$f":"IFERROR(SMALL('Data eshop'!D:D,COUNTIF('Data eshop'!D:D,\"<\"&(A256-10000)))+10000,\"\")","v":""},"",{"$f":"IF(A257=\"\",\"\",IF(VLOOKUP(A257-10000,'Data eshop'!D:G,2,FALSE)=\"\",PROPER(VLOOKUP(A257-10000,'Data eshop'!D:G,3,FALSE)&\" \"&VLOOKUP(A257-10000,'Data eshop'!D:G,4,FALSE)),VLOOKUP(A257-10000,'Data eshop'!D:G,2,FALSE)&\" - \"&PROPER(VLOOKUP(A257-10000,'Data eshop'!D:G,3,FALSE)&\" \"&VLOOKUP(A257-10000,'Data eshop'!D:G,4,FALSE))))","v":""},null,{"$f":"IF(A257=\"\",\"\",VLOOKUP(A257-10000,'Data eshop'!D:AD,5,FALSE))","v":""},{"$f":"IF(A257=\"\",\"\",IF(VLOOKUP('Místa dodání'!A257-10000,'Data eshop'!D:L,8,FALSE)=\"\",IF(VLOOKUP('Místa dodání'!A257-10000,'Data eshop'!D:L,9,FALSE)=\"\",\"\",\"DIČ: \"&VLOOKUP('Místa dodání'!A257-10000,'Data eshop'!D:L,9,FALSE)),IF(VLOOKUP('Místa dodání'!A257-10000,'Data eshop'!D:L,9,FALSE)=\"\",\"\",\"DIČ: \"&VLOOKUP('Místa dodání'!A257-10000,'Data eshop'!D:L,9,FALSE)&\", \")&\"IČO: \"&VLOOKUP('Místa dodání'!A257-10000,'Data eshop'!D:L,8,FALSE)))","v":""},{"$f":"IF(A257=\"\",\"\",VLOOKUP(A257-10000,'Data eshop'!D:AD,6,FALSE))","v":""},{"$f":"IF(A257=\"\",\"\",VLOOKUP(A257-10000,'Data eshop'!D:AD,7,FALSE))","v":""},{"$f":"IF(A257=\"\",\"\",VLOOKUP(A257-10000,'Data eshop'!D:AD,10,FALSE))","v":""},"","","",""]
[{"$f":"IFERROR(SMALL('Data eshop'!D:D,COUNTIF('Data eshop'!D:D,\"<\"&(A257-10000)))+10000,\"\")","v":""},"",{"$f":"IF(A258=\"\",\"\",IF(VLOOKUP(A258-10000,'Data eshop'!D:G,2,FALSE)=\"\",PROPER(VLOOKUP(A258-10000,'Data eshop'!D:G,3,FALSE)&\" \"&VLOOKUP(A258-10000,'Data eshop'!D:G,4,FALSE)),VLOOKUP(A258-10000,'Data eshop'!D:G,2,FALSE)&\" - \"&PROPER(VLOOKUP(A258-10000,'Data eshop'!D:G,3,FALSE)&\" \"&VLOOKUP(A258-10000,'Data eshop'!D:G,4,FALSE))))","v":""},null,{"$f":"IF(A258=\"\",\"\",VLOOKUP(A258-10000,'Data eshop'!D:AD,5,FALSE))","v":""},{"$f":"IF(A258=\"\",\"\",IF(VLOOKUP('Místa dodání'!A258-10000,'Data eshop'!D:L,8,FALSE)=\"\",IF(VLOOKUP('Místa dodání'!A258-10000,'Data eshop'!D:L,9,FALSE)=\"\",\"\",\"DIČ: \"&VLOOKUP('Místa dodání'!A258-10000,'Data eshop'!D:L,9,FALSE)),IF(VLOOKUP('Místa dodání'!A258-10000,'Data eshop'!D:L,9,FALSE)=\"\",\"\",\"DIČ: \"&VLOOKUP('Místa dodání'!A258-10000,'Data eshop'!D:L,9,FALSE)&\", \")&\"IČO: \"&VLOOKUP('Místa dodání'!A258-10000,'Data eshop'!D:L,8,FALSE)))","v":""},{"$f":"IF(A258=\"\",\"\",VLOOKUP(A258-10000,'Data eshop'!D:AD,6,FALSE))","v":""},{"$f":"IF(A258=\"\",\"\",VLOOKUP(A258-10000,'Data eshop'!D:AD,7,FALSE))","v":""},{"$f":"IF(A258=\"\",\"\",VLOOKUP(A258-10000,'Data eshop'!D:AD,10,FALSE))","v":""},"","","",""]
[{"$f":"IFERROR(SMALL('Data eshop'!D:D,COUNTIF('Data eshop'!D:D,\"<\"&(A258-10000)))+10000,\"\")","v":""},"",{"$f":"IF(A259=\"\",\"\",IF(VLOOKUP(A259-10000,'Data eshop'!D:G,2,FALSE)=\"\",PROPER(VLOOKUP(A259-10000,'Data eshop'!D:G,3,FALSE)&\" \"&VLOOKUP(A259-10000,'Data eshop'!D:G,4,FALSE)),VLOOKUP(A259-10000,'Data eshop'!D:G,2,FALSE)&\" - \"&PROPER(VLOOKUP(A259-10000,'Data eshop'!D:G,3,FALSE)&\" \"&VLOOKUP(A259-10000,'Data eshop'!D:G,4,FALSE))))","v":""},null,{"$f":"IF(A259=\"\",\"\",VLOOKUP(A259-10000,'Data eshop'!D:AD,5,FALSE))","v":""},{"$f":"IF(A259=\"\",\"\",IF(VLOOKUP('Místa dodání'!A259-10000,'Data eshop'!D:L,8,FALSE)=\"\",IF(VLOOKUP('Místa dodání'!A259-10000,'Data eshop'!D:L,9,FALSE)=\"\",\"\",\"DIČ: \"&VLOOKUP('Místa dodání'!A259-10000,'Data eshop'!D:L,9,FALSE)),IF(VLOOKUP('Místa dodání'!A259-10000,'Data eshop'!D:L,9,FALSE)=\"\",\"\",\"DIČ: \"&VLOOKUP('Místa dodání'!A259-10000,'Data eshop'!D:L,9,FALSE)&\", \")&\"IČO: \"&VLOOKUP('Místa dodání'!A259-10000,'Data eshop'!D:L,8,FALSE)))","v":""},{"$f":"IF(A259=\"\",\"\",VLOOKUP(A259-10000,'Data eshop'!D:AD,6,FALSE))","v":""},{"$f":"IF(A259=\"\",\"\",VLOOKUP(A259-10000,'Data eshop'!D:AD,7,FALSE))","v":""},{"$f":"IF(A259=\"\",\"\",VLOOKUP(A259-10000,'Data eshop'!D:AD,10,FALSE))","v":""},"","","","","Roluj nahoru, až uvidíš žlutou"]
[{"$f":"IFERROR(SMALL('Data eshop'!D:D,COUNTIF('Data eshop'!D:D,\"<\"&(A259-10000)))+10000,\"\")","v":""},{"$f":"IF(I260=\"\",\"\",IF(I260=\"česká republika\",7,IF(I260=\"poland\",2,IF(I260=\"Slovakia\",87,IF(I260=\"Germany\",2695,IF(I260=\"Austria\",2695,\"\"))))))","v":""},{"$f":"IF(A260=\"\",\"\",IF(VLOOKUP(A260-10000,'Data eshop'!D:G,2,FALSE)=\"\",PROPER(VLOOKUP(A260-10000,'Data eshop'!D:G,3,FALSE)&\" \"&VLOOKUP(A260-10000,'Data eshop'!D:G,4,FALSE)),VLOOKUP(A260-10000,'Data eshop'!D:G,2,FALSE)&\" - \"&PROPER(VLOOKUP(A260-10000,'Data eshop'!D:G,3,FALSE)&\" \"&VLOOKUP(A260-10000,'Data eshop'!D:G,4,FALSE))))","v":""},null,{"$f":"IF(A260=\"\",\"\",VLOOKUP(A260-10000,'Data eshop'!D:AD,5,FALSE))","v":""},{"$f":"IF(A260=\"\",\"\",IF(VLOOKUP('Místa dodání'!A260-10000,'Data eshop'!D:L,8,FALSE)=\"\",IF(VLOOKUP('Místa dodání'!A260-10000,'Data eshop'!D:L,9,FALSE)=\"\",\"\",\"DIČ: \"&VLOOKUP('Místa dodání'!A260-10000,'Data eshop'!D:L,9,FALSE)),IF(VLOOKUP('Místa dodání'!A260-10000,'Data eshop'!D:L,9,FALSE)=\"\",\"\",\"DIČ: \"&VLOOKUP('Místa dodání'!A260-10000,'Data eshop'!D:L,9,FALSE)&\", \")&\"IČO: \"&VLOOKUP('Místa dodání'!A260-10000,'Data eshop'!D:L,8,FALSE)))","v":""},{"$f":"IF(A260=\"\",\"\",VLOOKUP(A260-10000,'Data eshop'!D:AD,6,FALSE))","v":""},{"$f":"IF(A260=\"\",\"\",VLOOKUP(A260-10000,'Data eshop'!D:AD,7,FALSE))","v":""},{"$f":"IF(A260=\"\",\"\",VLOOKUP(A260-10000,'Data eshop'!D:AD,10,FALSE))","v":""},{"$f":"IF(A260=\"\",\"\",1)","v":""},{"$f":"IF(A260=\"\",\"\",1)","v":""},{"$f":"IF(A260=\"\",\"\",\"Live\")","v":""},{"$f":"IF(A260=\"\",\"\",0)","v":""}]
[{"$f":"IFERROR(SMALL('Data eshop'!D:D,COUNTIF('Data eshop'!D:D,\"<\"&(A260-10000)))+10000,\"\")","v":""},"",{"$f":"IF(A261=\"\",\"\",IF(VLOOKUP(A261-10000,'Data eshop'!D:G,2,FALSE)=\"\",PROPER(VLOOKUP(A261-10000,'Data eshop'!D:G,3,FALSE)&\" \"&VLOOKUP(A261-10000,'Data eshop'!D:G,4,FALSE)),VLOOKUP(A261-10000,'Data eshop'!D:G,2,FALSE)&\" - \"&PROPER(VLOOKUP(A261-10000,'Data eshop'!D:G,3,FALSE)&\" \"&VLOOKUP(A261-10000,'Data eshop'!D:G,4,FALSE))))","v":""},null,{"$f":"IF(A261=\"\",\"\",VLOOKUP(A261-10000,'Data eshop'!D:AD,5,FALSE))","v":""},{"$f":"IF(A261=\"\",\"\",IF(VLOOKUP('Místa dodání'!A261-10000,'Data eshop'!D:L,8,FALSE)=\"\",IF(VLOOKUP('Místa dodání'!A261-10000,'Data eshop'!D:L,9,FALSE)=\"\",\"\",\"DIČ: \"&VLOOKUP('Místa dodání'!A261-10000,'Data eshop'!D:L,9,FALSE)),IF(VLOOKUP('Místa dodání'!A261-10000,'Data eshop'!D:L,9,FALSE)=\"\",\"\",\"DIČ: \"&VLOOKUP('Místa dodání'!A261-10000,'Data eshop'!D:L,9,FALSE)&\", \")&\"IČO: \"&VLOOKUP('Místa dodání'!A261-10000,'Data eshop'!D:L,8,FALSE)))","v":""},{"$f":"IF(A261=\"\",\"\",VLOOKUP(A261-10000,'Data eshop'!D:AD,6,FALSE))","v":""},{"$f":"IF(A261=\"\",\"\",VLOOKUP(A261-10000,'Data eshop'!D:AD,7,FALSE))","v":""},{"$f":"IF(A261=\"\",\"\",VLOOKUP(A261-10000,'Data eshop'!D:AD,10,FALSE))","v":""},"","","",""]
[{"$f":"IFERROR(SMALL('Data eshop'!D:D,COUNTIF('Data eshop'!D:D,\"<\"&(A261-10000)))+10000,\"\")","v":""},"",{"$f":"IF(A262=\"\",\"\",IF(VLOOKUP(A262-10000,'Data eshop'!D:G,2,FALSE)=\"\",PROPER(VLOOKUP(A262-10000,'Data eshop'!D:G,3,FALSE)&\" \"&VLOOKUP(A262-10000,'Data eshop'!D:G,4,FALSE)),VLOOKUP(A262-10000,'Data eshop'!D:G,2,FALSE)&\" - \"&PROPER(VLOOKUP(A262-10000,'Data eshop'!D:G,3,FALSE)&\" \"&VLOOKUP(A262-10000,'Data eshop'!D:G,4,FALSE))))","v":""},null,{"$f":"IF(A262=\"\",\"\",VLOOKUP(A262-10000,'Data eshop'!D:AD,5,FALSE))","v":""},{"$f":"IF(A262=\"\",\"\",IF(VLOOKUP('Místa dodání'!A262-10000,'Data eshop'!D:L,8,FALSE)=\"\",IF(VLOOKUP('Místa dodání'!A262-10000,'Data eshop'!D:L,9,FALSE)=\"\",\"\",\"DIČ: \"&VLOOKUP('Místa dodání'!A262-10000,'Data eshop'!D:L,9,FALSE)),IF(VLOOKUP('Místa dodání'!A262-10000,'Data eshop'!D:L,9,FALSE)=\"\",\"\",\"DIČ: \"&VLOOKUP('Místa dodání'!A262-10000,'Data eshop'!D:L,9,FALSE)&\", \")&\"IČO: \"&VLOOKUP('Místa dodání'!A262-10000,'Data eshop'!D:L,8,FALSE)))","v":""},{"$f":"IF(A262=\"\",\"\",VLOOKUP(A262-10000,'Data eshop'!D:AD,6,FALSE))","v":""},{"$f":"IF(A262=\"\",\"\",VLOOKUP(A262-10000,'Data eshop'!D:AD,7,FALSE))","v":""},{"$f":"IF(A262=\"\",\"\",VLOOKUP(A262-10000,'Data eshop'!D:AD,10,FALSE))","v":""},"","","",""]
[{"$f":"IFERROR(SMALL('Data eshop'!D:D,COUNTIF('Data eshop'!D:D,\"<\"&(A262-10000)))+10000,\"\")","v":""},"",{"$f":"IF(A263=\"\",\"\",IF(VLOOKUP(A263-10000,'Data eshop'!D:G,2,FALSE)=\"\",PROPER(VLOOKUP(A263-10000,'Data eshop'!D:G,3,FALSE)&\" \"&VLOOKUP(A263-10000,'Data eshop'!D:G,4,FALSE)),VLOOKUP(A263-10000,'Data eshop'!D:G,2,FALSE)&\" - \"&PROPER(VLOOKUP(A263-10000,'Data eshop'!D:G,3,FALSE)&\" \"&VLOOKUP(A263-10000,'Data eshop'!D:G,4,FALSE))))","v":""},null,{"$f":"IF(A263=\"\",\"\",VLOOKUP(A263-10000,'Data eshop'!D:AD,5,FALSE))","v":""},{"$f":"IF(A263=\"\",\"\",IF(VLOOKUP('Místa dodání'!A263-10000,'Data eshop'!D:L,8,FALSE)=\"\",IF(VLOOKUP('Místa dodání'!A263-10000,'Data eshop'!D:L,9,FALSE)=\"\",\"\",\"DIČ: \"&VLOOKUP('Místa dodání'!A263-10000,'Data eshop'!D:L,9,FALSE)),IF(VLOOKUP('Místa dodání'!A263-10000,'Data eshop'!D:L,9,FALSE)=\"\",\"\",\"DIČ: \"&VLOOKUP('Místa dodání'!A263-10000,'Data eshop'!D:L,9,FALSE)&\", \")&\"IČO: \"&VLOOKUP('Místa dodání'!A263-10000,'Data eshop'!D:L,8,FALSE)))","v":""},{"$f":"IF(A263=\"\",\"\",VLOOKUP(A263-10000,'Data eshop'!D:AD,6,FALSE))","v":""},{"$f":"IF(A263=\"\",\"\",VLOOKUP(A263-10000,'Data eshop'!D:AD,7,FALSE))","v":""},{"$f":"IF(A263=\"\",\"\",VLOOKUP(A263-10000,'Data eshop'!D:AD,10,FALSE))","v":""},"","","","","Roluj nahoru, až uvidíš žlutou"]
[{"$f":"IFERROR(SMALL('Data eshop'!D:D,COUNTIF('Data eshop'!D:D,\"<\"&(A263-10000)))+10000,\"\")","v":""},"",{"$f":"IF(A264=\"\",\"\",IF(VLOOKUP(A264-10000,'Data eshop'!D:G,2,FALSE)=\"\",PROPER(VLOOKUP(A264-10000,'Data eshop'!D:G,3,FALSE)&\" \"&VLOOKUP(A264-10000,'Data eshop'!D:G,4,FALSE)),VLOOKUP(A264-10000,'Data eshop'!D:G,2,FALSE)&\" - \"&PROPER(VLOOKUP(A264-10000,'Data eshop'!D:G,3,FALSE)&\" \"&VLOOKUP(A264-10000,'Data eshop'!D:G,4,FALSE))))","v":""},null,{"$f":"IF(A264=\"\",\"\",VLOOKUP(A264-10000,'Data eshop'!D:AD,5,FALSE))","v":""},{"$f":"IF(A264=\"\",\"\",IF(VLOOKUP('Místa dodání'!A264-10000,'Data eshop'!D:L,8,FALSE)=\"\",IF(VLOOKUP('Místa dodání'!A264-10000,'Data eshop'!D:L,9,FALSE)=\"\",\"\",\"DIČ: \"&VLOOKUP('Místa dodání'!A264-10000,'Data eshop'!D:L,9,FALSE)),IF(VLOOKUP('Místa dodání'!A264-10000,'Data eshop'!D:L,9,FALSE)=\"\",\"\",\"DIČ: \"&VLOOKUP('Místa dodání'!A264-10000,'Data eshop'!D:L,9,FALSE)&\", \")&\"IČO: \"&VLOOKUP('Místa dodání'!A264-10000,'Data eshop'!D:L,8,FALSE)))","v":""},{"$f":"IF(A264=\"\",\"\",VLOOKUP(A264-10000,'Data eshop'!D:AD,6,FALSE))","v":""},{"$f":"IF(A264=\"\",\"\",VLOOKUP(A264-10000,'Data eshop'!D:AD,7,FALSE))","v":""},{"$f":"IF(A264=\"\",\"\",VLOOKUP(A264-10000,'Data eshop'!D:AD,10,FALSE))","v":""},"","","",""]
[{"$f":"IFERROR(SMALL('Data eshop'!D:D,COUNTIF('Data eshop'!D:D,\"<\"&(A264-10000)))+10000,\"\")","v":""},"",{"$f":"IF(A265=\"\",\"\",IF(VLOOKUP(A265-10000,'Data eshop'!D:G,2,FALSE)=\"\",PROPER(VLOOKUP(A265-10000,'Data eshop'!D:G,3,FALSE)&\" \"&VLOOKUP(A265-10000,'Data eshop'!D:G,4,FALSE)),VLOOKUP(A265-10000,'Data eshop'!D:G,2,FALSE)&\" - \"&PROPER(VLOOKUP(A265-10000,'Data eshop'!D:G,3,FALSE)&\" \"&VLOOKUP(A265-10000,'Data eshop'!D:G,4,FALSE))))","v":""},null,{"$f":"IF(A265=\"\",\"\",VLOOKUP(A265-10000,'Data eshop'!D:AD,5,FALSE))","v":""},{"$f":"IF(A265=\"\",\"\",IF(VLOOKUP('Místa dodání'!A265-10000,'Data eshop'!D:L,8,FALSE)=\"\",IF(VLOOKUP('Místa dodání'!A265-10000,'Data eshop'!D:L,9,FALSE)=\"\",\"\",\"DIČ: \"&VLOOKUP('Místa dodání'!A265-10000,'Data eshop'!D:L,9,FALSE)),IF(VLOOKUP('Místa dodání'!A265-10000,'Data eshop'!D:L,9,FALSE)=\"\",\"\",\"DIČ: \"&VLOOKUP('Místa dodání'!A265-10000,'Data eshop'!D:L,9,FALSE)&\", \")&\"IČO: \"&VLOOKUP('Místa dodání'!A265-10000,'Data eshop'!D:L,8,FALSE)))","v":""},{"$f":"IF(A265=\"\",\"\",VLOOKUP(A265-10000,'Data eshop'!D:AD,6,FALSE))","v":""},{"$f":"IF(A265=\"\",\"\",VLOOKUP(A265-10000,'Data eshop'!D:AD,7,FALSE))","v":""},{"$f":"IF(A265=\"\",\"\",VLOOKUP(A265-10000,'Data eshop'!D:AD,10,FALSE))","v":""},"","","",""]
[{"$f":"IFERROR(SMALL('Data eshop'!D:D,COUNTIF('Data eshop'!D:D,\"<\"&(A265-10000)))+10000,\"\")","v":""},"",{"$f":"IF(A266=\"\",\"\",IF(VLOOKUP(A266-10000,'Data eshop'!D:G,2,FALSE)=\"\",PROPER(VLOOKUP(A266-10000,'Data eshop'!D:G,3,FALSE)&\" \"&VLOOKUP(A266-10000,'Data eshop'!D:G,4,FALSE)),VLOOKUP(A266-10000,'Data eshop'!D:G,2,FALSE)&\" - \"&PROPER(VLOOKUP(A266-10000,'Data eshop'!D:G,3,FALSE)&\" \"&VLOOKUP(A266-10000,'Data eshop'!D:G,4,FALSE))))","v":""},null,{"$f":"IF(A266=\"\",\"\",VLOOKUP(A266-10000,'Data eshop'!D:AD,5,FALSE))","v":""},{"$f":"IF(A266=\"\",\"\",IF(VLOOKUP('Místa dodání'!A266-10000,'Data eshop'!D:L,8,FALSE)=\"\",IF(VLOOKUP('Místa dodání'!A266-10000,'Data eshop'!D:L,9,FALSE)=\"\",\"\",\"DIČ: \"&VLOOKUP('Místa dodání'!A266-10000,'Data eshop'!D:L,9,FALSE)),IF(VLOOKUP('Místa dodání'!A266-10000,'Data eshop'!D:L,9,FALSE)=\"\",\"\",\"DIČ: \"&VLOOKUP('Místa dodání'!A266-10000,'Data eshop'!D:L,9,FALSE)&\", \")&\"IČO: \"&VLOOKUP('Místa dodání'!A266-10000,'Data eshop'!D:L,8,FALSE)))","v":""},{"$f":"IF(A266=\"\",\"\",VLOOKUP(A266-10000,'Data eshop'!D:AD,6,FALSE))","v":""},{"$f":"IF(A266=\"\",\"\",VLOOKUP(A266-10000,'Data eshop'!D:AD,7,FALSE))","v":""},{"$f":"IF(A266=\"\",\"\",VLOOKUP(A266-10000,'Data eshop'!D:AD,10,FALSE))","v":""},"","","",""]
[{"$f":"IFERROR(SMALL('Data eshop'!D:D,COUNTIF('Data eshop'!D:D,\"<\"&(A266-10000)))+10000,\"\")","v":""},"",{"$f":"IF(A267=\"\",\"\",IF(VLOOKUP(A267-10000,'Data eshop'!D:G,2,FALSE)=\"\",PROPER(VLOOKUP(A267-10000,'Data eshop'!D:G,3,FALSE)&\" \"&VLOOKUP(A267-10000,'Data eshop'!D:G,4,FALSE)),VLOOKUP(A267-10000,'Data eshop'!D:G,2,FALSE)&\" - \"&PROPER(VLOOKUP(A267-10000,'Data eshop'!D:G,3,FALSE)&\" \"&VLOOKUP(A267-10000,'Data eshop'!D:G,4,FALSE))))","v":""},null,{"$f":"IF(A267=\"\",\"\",VLOOKUP(A267-10000,'Data eshop'!D:AD,5,FALSE))","v":""},{"$f":"IF(A267=\"\",\"\",IF(VLOOKUP('Místa dodání'!A267-10000,'Data eshop'!D:L,8,FALSE)=\"\",IF(VLOOKUP('Místa dodání'!A267-10000,'Data eshop'!D:L,9,FALSE)=\"\",\"\",\"DIČ: \"&VLOOKUP('Místa dodání'!A267-10000,'Data eshop'!D:L,9,FALSE)),IF(VLOOKUP('Místa dodání'!A267-10000,'Data eshop'!D:L,9,FALSE)=\"\",\"\",\"DIČ: \"&VLOOKUP('Místa dodání'!A267-10000,'Data eshop'!D:L,9,FALSE)&\", \")&\"IČO: \"&VLOOKUP('Místa dodání'!A267-10000,'Data eshop'!D:L,8,FALSE)))","v":""},{"$f":"IF(A267=\"\",\"\",VLOOKUP(A267-10000,'Data eshop'!D:AD,6,FALSE))","v":""},{"$f":"IF(A267=\"\",\"\",VLOOKUP(A267-10000,'Data eshop'!D:AD,7,FALSE))","v":""},{"$f":"IF(A267=\"\",\"\",VLOOKUP(A267-10000,'Data eshop'!D:AD,10,FALSE))","v":""},"","","","","Roluj nahoru, až uvidíš žlutou"]
[{"$f":"IFERROR(SMALL('Data eshop'!D:D,COUNTIF('Data eshop'!D:D,\"<\"&(A267-10000)))+10000,\"\")","v":""},"",{"$f":"IF(A268=\"\",\"\",IF(VLOOKUP(A268-10000,'Data eshop'!D:G,2,FALSE)=\"\",PROPER(VLOOKUP(A268-10000,'Data eshop'!D:G,3,FALSE)&\" \"&VLOOKUP(A268-10000,'Data eshop'!D:G,4,FALSE)),VLOOKUP(A268-10000,'Data eshop'!D:G,2,FALSE)&\" - \"&PROPER(VLOOKUP(A268-10000,'Data eshop'!D:G,3,FALSE)&\" \"&VLOOKUP(A268-10000,'Data eshop'!D:G,4,FALSE))))","v":""},null,{"$f":"IF(A268=\"\",\"\",VLOOKUP(A268-10000,'Data eshop'!D:AD,5,FALSE))","v":""},{"$f":"IF(A268=\"\",\"\",IF(VLOOKUP('Místa dodání'!A268-10000,'Data eshop'!D:L,8,FALSE)=\"\",IF(VLOOKUP('Místa dodání'!A268-10000,'Data eshop'!D:L,9,FALSE)=\"\",\"\",\"DIČ: \"&VLOOKUP('Místa dodání'!A268-10000,'Data eshop'!D:L,9,FALSE)),IF(VLOOKUP('Místa dodání'!A268-10000,'Data eshop'!D:L,9,FALSE)=\"\",\"\",\"DIČ: \"&VLOOKUP('Místa dodání'!A268-10000,'Data eshop'!D:L,9,FALSE)&\", \")&\"IČO: \"&VLOOKUP('Místa dodání'!A268-10000,'Data eshop'!D:L,8,FALSE)))","v":""},{"$f":"IF(A268=\"\",\"\",VLOOKUP(A268-10000,'Data eshop'!D:AD,6,FALSE))","v":""},{"$f":"IF(A268=\"\",\"\",VLOOKUP(A268-10000,'Data eshop'!D:AD,7,FALSE))","v":""},{"$f":"IF(A268=\"\",\"\",VLOOKUP(A268-10000,'Data eshop'!D:AD,10,FALSE))","v":""},"","","",""]
[{"$f":"IFERROR(SMALL('Data eshop'!D:D,COUNTIF('Data eshop'!D:D,\"<\"&(A268-10000)))+10000,\"\")","v":""},"",{"$f":"IF(A269=\"\",\"\",IF(VLOOKUP(A269-10000,'Data eshop'!D:G,2,FALSE)=\"\",PROPER(VLOOKUP(A269-10000,'Data eshop'!D:G,3,FALSE)&\" \"&VLOOKUP(A269-10000,'Data eshop'!D:G,4,FALSE)),VLOOKUP(A269-10000,'Data eshop'!D:G,2,FALSE)&\" - \"&PROPER(VLOOKUP(A269-10000,'Data eshop'!D:G,3,FALSE)&\" \"&VLOOKUP(A269-10000,'Data eshop'!D:G,4,FALSE))))","v":""},null,{"$f":"IF(A269=\"\",\"\",VLOOKUP(A269-10000,'Data eshop'!D:AD,5,FALSE))","v":""},{"$f":"IF(A269=\"\",\"\",IF(VLOOKUP('Místa dodání'!A269-10000,'Data eshop'!D:L,8,FALSE)=\"\",IF(VLOOKUP('Místa dodání'!A269-10000,'Data eshop'!D:L,9,FALSE)=\"\",\"\",\"DIČ: \"&VLOOKUP('Místa dodání'!A269-10000,'Data eshop'!D:L,9,FALSE)),IF(VLOOKUP('Místa dodání'!A269-10000,'Data eshop'!D:L,9,FALSE)=\"\",\"\",\"DIČ: \"&VLOOKUP('Místa dodání'!A269-10000,'Data eshop'!D:L,9,FALSE)&\", \")&\"IČO: \"&VLOOKUP('Místa dodání'!A269-10000,'Data eshop'!D:L,8,FALSE)))","v":""},{"$f":"IF(A269=\"\",\"\",VLOOKUP(A269-10000,'Data eshop'!D:AD,6,FALSE))","v":""},{"$f":"IF(A269=\"\",\"\",VLOOKUP(A269-10000,'Data eshop'!D:AD,7,FALSE))","v":""},{"$f":"IF(A269=\"\",\"\",VLOOKUP(A269-10000,'Data eshop'!D:AD,10,FALSE))","v":""},"","","",""]
[{"$f":"IFERROR(SMALL('Data eshop'!D:D,COUNTIF('Data eshop'!D:D,\"<\"&(A269-10000)))+10000,\"\")","v":""},"",{"$f":"IF(A270=\"\",\"\",IF(VLOOKUP(A270-10000,'Data eshop'!D:G,2,FALSE)=\"\",PROPER(VLOOKUP(A270-10000,'Data eshop'!D:G,3,FALSE)&\" \"&VLOOKUP(A270-10000,'Data eshop'!D:G,4,FALSE)),VLOOKUP(A270-10000,'Data eshop'!D:G,2,FALSE)&\" - \"&PROPER(VLOOKUP(A270-10000,'Data eshop'!D:G,3,FALSE)&\" \"&VLOOKUP(A270-10000,'Data eshop'!D:G,4,FALSE))))","v":""},null,{"$f":"IF(A270=\"\",\"\",VLOOKUP(A270-10000,'Data eshop'!D:AD,5,FALSE))","v":""},{"$f":"IF(A270=\"\",\"\",IF(VLOOKUP('Místa dodání'!A270-10000,'Data eshop'!D:L,8,FALSE)=\"\",IF(VLOOKUP('Místa dodání'!A270-10000,'Data eshop'!D:L,9,FALSE)=\"\",\"\",\"DIČ: \"&VLOOKUP('Místa dodání'!A270-10000,'Data eshop'!D:L,9,FALSE)),IF(VLOOKUP('Místa dodání'!A270-10000,'Data eshop'!D:L,9,FALSE)=\"\",\"\",\"DIČ: \"&VLOOKUP('Místa dodání'!A270-10000,'Data eshop'!D:L,9,FALSE)&\", \")&\"IČO: \"&VLOOKUP('Místa dodání'!A270-10000,'Data eshop'!D:L,8,FALSE)))","v":""},{"$f":"IF(A270=\"\",\"\",VLOOKUP(A270-10000,'Data eshop'!D:AD,6,FALSE))","v":""},{"$f":"IF(A270=\"\",\"\",VLOOKUP(A270-10000,'Data eshop'!D:AD,7,FALSE))","v":""},{"$f":"IF(A270=\"\",\"\",VLOOKUP(A270-10000,'Data eshop'!D:AD,10,FALSE))","v":""},"","","",""]
[{"$f":"IFERROR(SMALL('Data eshop'!D:D,COUNTIF('Data eshop'!D:D,\"<\"&(A270-10000)))+10000,\"\")","v":""},"",{"$f":"IF(A271=\"\",\"\",IF(VLOOKUP(A271-10000,'Data eshop'!D:G,2,FALSE)=\"\",PROPER(VLOOKUP(A271-10000,'Data eshop'!D:G,3,FALSE)&\" \"&VLOOKUP(A271-10000,'Data eshop'!D:G,4,FALSE)),VLOOKUP(A271-10000,'Data eshop'!D:G,2,FALSE)&\" - \"&PROPER(VLOOKUP(A271-10000,'Data eshop'!D:G,3,FALSE)&\" \"&VLOOKUP(A271-10000,'Data eshop'!D:G,4,FALSE))))","v":""},null,{"$f":"IF(A271=\"\",\"\",VLOOKUP(A271-10000,'Data eshop'!D:AD,5,FALSE))","v":""},{"$f":"IF(A271=\"\",\"\",IF(VLOOKUP('Místa dodání'!A271-10000,'Data eshop'!D:L,8,FALSE)=\"\",IF(VLOOKUP('Místa dodání'!A271-10000,'Data eshop'!D:L,9,FALSE)=\"\",\"\",\"DIČ: \"&VLOOKUP('Místa dodání'!A271-10000,'Data eshop'!D:L,9,FALSE)),IF(VLOOKUP('Místa dodání'!A271-10000,'Data eshop'!D:L,9,FALSE)=\"\",\"\",\"DIČ: \"&VLOOKUP('Místa dodání'!A271-10000,'Data eshop'!D:L,9,FALSE)&\", \")&\"IČO: \"&VLOOKUP('Místa dodání'!A271-10000,'Data eshop'!D:L,8,FALSE)))","v":""},{"$f":"IF(A271=\"\",\"\",VLOOKUP(A271-10000,'Data eshop'!D:AD,6,FALSE))","v":""},{"$f":"IF(A271=\"\",\"\",VLOOKUP(A271-10000,'Data eshop'!D:AD,7,FALSE))","v":""},{"$f":"IF(A271=\"\",\"\",VLOOKUP(A271-10000,'Data eshop'!D:AD,10,FALSE))","v":""},"","","","","Roluj nahoru, až uvidíš žlutou"]
[{"$f":"IFERROR(SMALL('Data eshop'!D:D,COUNTIF('Data eshop'!D:D,\"<\"&(A271-10000)))+10000,\"\")","v":""},"",{"$f":"IF(A272=\"\",\"\",IF(VLOOKUP(A272-10000,'Data eshop'!D:G,2,FALSE)=\"\",PROPER(VLOOKUP(A272-10000,'Data eshop'!D:G,3,FALSE)&\" \"&VLOOKUP(A272-10000,'Data eshop'!D:G,4,FALSE)),VLOOKUP(A272-10000,'Data eshop'!D:G,2,FALSE)&\" - \"&PROPER(VLOOKUP(A272-10000,'Data eshop'!D:G,3,FALSE)&\" \"&VLOOKUP(A272-10000,'Data eshop'!D:G,4,FALSE))))","v":""},null,{"$f":"IF(A272=\"\",\"\",VLOOKUP(A272-10000,'Data eshop'!D:AD,5,FALSE))","v":""},{"$f":"IF(A272=\"\",\"\",IF(VLOOKUP('Místa dodání'!A272-10000,'Data eshop'!D:L,8,FALSE)=\"\",IF(VLOOKUP('Místa dodání'!A272-10000,'Data eshop'!D:L,9,FALSE)=\"\",\"\",\"DIČ: \"&VLOOKUP('Místa dodání'!A272-10000,'Data eshop'!D:L,9,FALSE)),IF(VLOOKUP('Místa dodání'!A272-10000,'Data eshop'!D:L,9,FALSE)=\"\",\"\",\"DIČ: \"&VLOOKUP('Místa dodání'!A272-10000,'Data eshop'!D:L,9,FALSE)&\", \")&\"IČO: \"&VLOOKUP('Místa dodání'!A272-10000,'Data eshop'!D:L,8,FALSE)))","v":""},{"$f":"IF(A272=\"\",\"\",VLOOKUP(A272-10000,'Data eshop'!D:AD,6,FALSE))","v":""},{"$f":"IF(A272=\"\",\"\",VLOOKUP(A272-10000,'Data eshop'!D:AD,7,FALSE))","v":""},{"$f":"IF(A272=\"\",\"\",VLOOKUP(A272-10000,'Data eshop'!D:AD,10,FALSE))","v":""},"","","",""]
[{"$f":"IFERROR(SMALL('Data eshop'!D:D,COUNTIF('Data eshop'!D:D,\"<\"&(A272-10000)))+10000,\"\")","v":""},"",{"$f":"IF(A273=\"\",\"\",IF(VLOOKUP(A273-10000,'Data eshop'!D:G,2,FALSE)=\"\",PROPER(VLOOKUP(A273-10000,'Data eshop'!D:G,3,FALSE)&\" \"&VLOOKUP(A273-10000,'Data eshop'!D:G,4,FALSE)),VLOOKUP(A273-10000,'Data eshop'!D:G,2,FALSE)&\" - \"&PROPER(VLOOKUP(A273-10000,'Data eshop'!D:G,3,FALSE)&\" \"&VLOOKUP(A273-10000,'Data eshop'!D:G,4,FALSE))))","v":""},null,{"$f":"IF(A273=\"\",\"\",VLOOKUP(A273-10000,'Data eshop'!D:AD,5,FALSE))","v":""},{"$f":"IF(A273=\"\",\"\",IF(VLOOKUP('Místa dodání'!A273-10000,'Data eshop'!D:L,8,FALSE)=\"\",IF(VLOOKUP('Místa dodání'!A273-10000,'Data eshop'!D:L,9,FALSE)=\"\",\"\",\"DIČ: \"&VLOOKUP('Místa dodání'!A273-10000,'Data eshop'!D:L,9,FALSE)),IF(VLOOKUP('Místa dodání'!A273-10000,'Data eshop'!D:L,9,FALSE)=\"\",\"\",\"DIČ: \"&VLOOKUP('Místa dodání'!A273-10000,'Data eshop'!D:L,9,FALSE)&\", \")&\"IČO: \"&VLOOKUP('Místa dodání'!A273-10000,'Data eshop'!D:L,8,FALSE)))","v":""},{"$f":"IF(A273=\"\",\"\",VLOOKUP(A273-10000,'Data eshop'!D:AD,6,FALSE))","v":""},{"$f":"IF(A273=\"\",\"\",VLOOKUP(A273-10000,'Data eshop'!D:AD,7,FALSE))","v":""},{"$f":"IF(A273=\"\",\"\",VLOOKUP(A273-10000,'Data eshop'!D:AD,10,FALSE))","v":""},"","","",""]
[{"$f":"IFERROR(SMALL('Data eshop'!D:D,COUNTIF('Data eshop'!D:D,\"<\"&(A273-10000)))+10000,\"\")","v":""},"",{"$f":"IF(A274=\"\",\"\",IF(VLOOKUP(A274-10000,'Data eshop'!D:G,2,FALSE)=\"\",PROPER(VLOOKUP(A274-10000,'Data eshop'!D:G,3,FALSE)&\" \"&VLOOKUP(A274-10000,'Data eshop'!D:G,4,FALSE)),VLOOKUP(A274-10000,'Data eshop'!D:G,2,FALSE)&\" - \"&PROPER(VLOOKUP(A274-10000,'Data eshop'!D:G,3,FALSE)&\" \"&VLOOKUP(A274-10000,'Data eshop'!D:G,4,FALSE))))","v":""},null,{"$f":"IF(A274=\"\",\"\",VLOOKUP(A274-10000,'Data eshop'!D:AD,5,FALSE))","v":""},{"$f":"IF(A274=\"\",\"\",IF(VLOOKUP('Místa dodání'!A274-10000,'Data eshop'!D:L,8,FALSE)=\"\",IF(VLOOKUP('Místa dodání'!A274-10000,'Data eshop'!D:L,9,FALSE)=\"\",\"\",\"DIČ: \"&VLOOKUP('Místa dodání'!A274-10000,'Data eshop'!D:L,9,FALSE)),IF(VLOOKUP('Místa dodání'!A274-10000,'Data eshop'!D:L,9,FALSE)=\"\",\"\",\"DIČ: \"&VLOOKUP('Místa dodání'!A274-10000,'Data eshop'!D:L,9,FALSE)&\", \")&\"IČO: \"&VLOOKUP('Místa dodání'!A274-10000,'Data eshop'!D:L,8,FALSE)))","v":""},{"$f":"IF(A274=\"\",\"\",VLOOKUP(A274-10000,'Data eshop'!D:AD,6,FALSE))","v":""},{"$f":"IF(A274=\"\",\"\",VLOOKUP(A274-10000,'Data eshop'!D:AD,7,FALSE))","v":""},{"$f":"IF(A274=\"\",\"\",VLOOKUP(A274-10000,'Data eshop'!D:AD,10,FALSE))","v":""},"","","",""]
[{"$f":"IFERROR(SMALL('Data eshop'!D:D,COUNTIF('Data eshop'!D:D,\"<\"&(A274-10000)))+10000,\"\")","v":""},"",{"$f":"IF(A275=\"\",\"\",IF(VLOOKUP(A275-10000,'Data eshop'!D:G,2,FALSE)=\"\",PROPER(VLOOKUP(A275-10000,'Data eshop'!D:G,3,FALSE)&\" \"&VLOOKUP(A275-10000,'Data eshop'!D:G,4,FALSE)),VLOOKUP(A275-10000,'Data eshop'!D:G,2,FALSE)&\" - \"&PROPER(VLOOKUP(A275-10000,'Data eshop'!D:G,3,FALSE)&\" \"&VLOOKUP(A275-10000,'Data eshop'!D:G,4,FALSE))))","v":""},null,{"$f":"IF(A275=\"\",\"\",VLOOKUP(A275-10000,'Data eshop'!D:AD,5,FALSE))","v":""},{"$f":"IF(A275=\"\",\"\",IF(VLOOKUP('Místa dodání'!A275-10000,'Data eshop'!D:L,8,FALSE)=\"\",IF(VLOOKUP('Místa dodání'!A275-10000,'Data eshop'!D:L,9,FALSE)=\"\",\"\",\"DIČ: \"&VLOOKUP('Místa dodání'!A275-10000,'Data eshop'!D:L,9,FALSE)),IF(VLOOKUP('Místa dodání'!A275-10000,'Data eshop'!D:L,9,FALSE)=\"\",\"\",\"DIČ: \"&VLOOKUP('Místa dodání'!A275-10000,'Data eshop'!D:L,9,FALSE)&\", \")&\"IČO: \"&VLOOKUP('Místa dodání'!A275-10000,'Data eshop'!D:L,8,FALSE)))","v":""},{"$f":"IF(A275=\"\",\"\",VLOOKUP(A275-10000,'Data eshop'!D:AD,6,FALSE))","v":""},{"$f":"IF(A275=\"\",\"\",VLOOKUP(A275-10000,'Data eshop'!D:AD,7,FALSE))","v":""},{"$f":"IF(A275=\"\",\"\",VLOOKUP(A275-10000,'Data eshop'!D:AD,10,FALSE))","v":""},"","","","","Roluj nahoru, až uvidíš žlutou"]
[{"$f":"IFERROR(SMALL('Data eshop'!D:D,COUNTIF('Data eshop'!D:D,\"<\"&(A275-10000)))+10000,\"\")","v":""},"",{"$f":"IF(A276=\"\",\"\",IF(VLOOKUP(A276-10000,'Data eshop'!D:G,2,FALSE)=\"\",PROPER(VLOOKUP(A276-10000,'Data eshop'!D:G,3,FALSE)&\" \"&VLOOKUP(A276-10000,'Data eshop'!D:G,4,FALSE)),VLOOKUP(A276-10000,'Data eshop'!D:G,2,FALSE)&\" - \"&PROPER(VLOOKUP(A276-10000,'Data eshop'!D:G,3,FALSE)&\" \"&VLOOKUP(A276-10000,'Data eshop'!D:G,4,FALSE))))","v":""},null,{"$f":"IF(A276=\"\",\"\",VLOOKUP(A276-10000,'Data eshop'!D:AD,5,FALSE))","v":""},{"$f":"IF(A276=\"\",\"\",IF(VLOOKUP('Místa dodání'!A276-10000,'Data eshop'!D:L,8,FALSE)=\"\",IF(VLOOKUP('Místa dodání'!A276-10000,'Data eshop'!D:L,9,FALSE)=\"\",\"\",\"DIČ: \"&VLOOKUP('Místa dodání'!A276-10000,'Data eshop'!D:L,9,FALSE)),IF(VLOOKUP('Místa dodání'!A276-10000,'Data eshop'!D:L,9,FALSE)=\"\",\"\",\"DIČ: \"&VLOOKUP('Místa dodání'!A276-10000,'Data eshop'!D:L,9,FALSE)&\", \")&\"IČO: \"&VLOOKUP('Místa dodání'!A276-10000,'Data eshop'!D:L,8,FALSE)))","v":""},{"$f":"IF(A276=\"\",\"\",VLOOKUP(A276-10000,'Data eshop'!D:AD,6,FALSE))","v":""},{"$f":"IF(A276=\"\",\"\",VLOOKUP(A276-10000,'Data eshop'!D:AD,7,FALSE))","v":""},{"$f":"IF(A276=\"\",\"\",VLOOKUP(A276-10000,'Data eshop'!D:AD,10,FALSE))","v":""},"","","",""]
[{"$f":"IFERROR(SMALL('Data eshop'!D:D,COUNTIF('Data eshop'!D:D,\"<\"&(A276-10000)))+10000,\"\")","v":""},"",{"$f":"IF(A277=\"\",\"\",IF(VLOOKUP(A277-10000,'Data eshop'!D:G,2,FALSE)=\"\",PROPER(VLOOKUP(A277-10000,'Data eshop'!D:G,3,FALSE)&\" \"&VLOOKUP(A277-10000,'Data eshop'!D:G,4,FALSE)),VLOOKUP(A277-10000,'Data eshop'!D:G,2,FALSE)&\" - \"&PROPER(VLOOKUP(A277-10000,'Data eshop'!D:G,3,FALSE)&\" \"&VLOOKUP(A277-10000,'Data eshop'!D:G,4,FALSE))))","v":""},null,{"$f":"IF(A277=\"\",\"\",VLOOKUP(A277-10000,'Data eshop'!D:AD,5,FALSE))","v":""},{"$f":"IF(A277=\"\",\"\",IF(VLOOKUP('Místa dodání'!A277-10000,'Data eshop'!D:L,8,FALSE)=\"\",IF(VLOOKUP('Místa dodání'!A277-10000,'Data eshop'!D:L,9,FALSE)=\"\",\"\",\"DIČ: \"&VLOOKUP('Místa dodání'!A277-10000,'Data eshop'!D:L,9,FALSE)),IF(VLOOKUP('Místa dodání'!A277-10000,'Data eshop'!D:L,9,FALSE)=\"\",\"\",\"DIČ: \"&VLOOKUP('Místa dodání'!A277-10000,'Data eshop'!D:L,9,FALSE)&\", \")&\"IČO: \"&VLOOKUP('Místa dodání'!A277-10000,'Data eshop'!D:L,8,FALSE)))","v":""},{"$f":"IF(A277=\"\",\"\",VLOOKUP(A277-10000,'Data eshop'!D:AD,6,FALSE))","v":""},{"$f":"IF(A277=\"\",\"\",VLOOKUP(A277-10000,'Data eshop'!D:AD,7,FALSE))","v":""},{"$f":"IF(A277=\"\",\"\",VLOOKUP(A277-10000,'Data eshop'!D:AD,10,FALSE))","v":""},"","","",""]
[{"$f":"IFERROR(SMALL('Data eshop'!D:D,COUNTIF('Data eshop'!D:D,\"<\"&(A277-10000)))+10000,\"\")","v":""},"",{"$f":"IF(A278=\"\",\"\",IF(VLOOKUP(A278-10000,'Data eshop'!D:G,2,FALSE)=\"\",PROPER(VLOOKUP(A278-10000,'Data eshop'!D:G,3,FALSE)&\" \"&VLOOKUP(A278-10000,'Data eshop'!D:G,4,FALSE)),VLOOKUP(A278-10000,'Data eshop'!D:G,2,FALSE)&\" - \"&PROPER(VLOOKUP(A278-10000,'Data eshop'!D:G,3,FALSE)&\" \"&VLOOKUP(A278-10000,'Data eshop'!D:G,4,FALSE))))","v":""},null,{"$f":"IF(A278=\"\",\"\",VLOOKUP(A278-10000,'Data eshop'!D:AD,5,FALSE))","v":""},{"$f":"IF(A278=\"\",\"\",IF(VLOOKUP('Místa dodání'!A278-10000,'Data eshop'!D:L,8,FALSE)=\"\",IF(VLOOKUP('Místa dodání'!A278-10000,'Data eshop'!D:L,9,FALSE)=\"\",\"\",\"DIČ: \"&VLOOKUP('Místa dodání'!A278-10000,'Data eshop'!D:L,9,FALSE)),IF(VLOOKUP('Místa dodání'!A278-10000,'Data eshop'!D:L,9,FALSE)=\"\",\"\",\"DIČ: \"&VLOOKUP('Místa dodání'!A278-10000,'Data eshop'!D:L,9,FALSE)&\", \")&\"IČO: \"&VLOOKUP('Místa dodání'!A278-10000,'Data eshop'!D:L,8,FALSE)))","v":""},{"$f":"IF(A278=\"\",\"\",VLOOKUP(A278-10000,'Data eshop'!D:AD,6,FALSE))","v":""},{"$f":"IF(A278=\"\",\"\",VLOOKUP(A278-10000,'Data eshop'!D:AD,7,FALSE))","v":""},{"$f":"IF(A278=\"\",\"\",VLOOKUP(A278-10000,'Data eshop'!D:AD,10,FALSE))","v":""},"","","",""]
[{"$f":"IFERROR(SMALL('Data eshop'!D:D,COUNTIF('Data eshop'!D:D,\"<\"&(A278-10000)))+10000,\"\")","v":""},"",{"$f":"IF(A279=\"\",\"\",IF(VLOOKUP(A279-10000,'Data eshop'!D:G,2,FALSE)=\"\",PROPER(VLOOKUP(A279-10000,'Data eshop'!D:G,3,FALSE)&\" \"&VLOOKUP(A279-10000,'Data eshop'!D:G,4,FALSE)),VLOOKUP(A279-10000,'Data eshop'!D:G,2,FALSE)&\" - \"&PROPER(VLOOKUP(A279-10000,'Data eshop'!D:G,3,FALSE)&\" \"&VLOOKUP(A279-10000,'Data eshop'!D:G,4,FALSE))))","v":""},null,{"$f":"IF(A279=\"\",\"\",VLOOKUP(A279-10000,'Data eshop'!D:AD,5,FALSE))","v":""},{"$f":"IF(A279=\"\",\"\",IF(VLOOKUP('Místa dodání'!A279-10000,'Data eshop'!D:L,8,FALSE)=\"\",IF(VLOOKUP('Místa dodání'!A279-10000,'Data eshop'!D:L,9,FALSE)=\"\",\"\",\"DIČ: \"&VLOOKUP('Místa dodání'!A279-10000,'Data eshop'!D:L,9,FALSE)),IF(VLOOKUP('Místa dodání'!A279-10000,'Data eshop'!D:L,9,FALSE)=\"\",\"\",\"DIČ: \"&VLOOKUP('Místa dodání'!A279-10000,'Data eshop'!D:L,9,FALSE)&\", \")&\"IČO: \"&VLOOKUP('Místa dodání'!A279-10000,'Data eshop'!D:L,8,FALSE)))","v":""},{"$f":"IF(A279=\"\",\"\",VLOOKUP(A279-10000,'Data eshop'!D:AD,6,FALSE))","v":""},{"$f":"IF(A279=\"\",\"\",VLOOKUP(A279-10000,'Data eshop'!D:AD,7,FALSE))","v":""},{"$f":"IF(A279=\"\",\"\",VLOOKUP(A279-10000,'Data eshop'!D:AD,10,FALSE))","v":""},"","","","","Roluj nahoru, až uvidíš žlutou"]
[{"$f":"IFERROR(SMALL('Data eshop'!D:D,COUNTIF('Data eshop'!D:D,\"<\"&(A279-10000)))+10000,\"\")","v":""},"",{"$f":"IF(A280=\"\",\"\",IF(VLOOKUP(A280-10000,'Data eshop'!D:G,2,FALSE)=\"\",PROPER(VLOOKUP(A280-10000,'Data eshop'!D:G,3,FALSE)&\" \"&VLOOKUP(A280-10000,'Data eshop'!D:G,4,FALSE)),VLOOKUP(A280-10000,'Data eshop'!D:G,2,FALSE)&\" - \"&PROPER(VLOOKUP(A280-10000,'Data eshop'!D:G,3,FALSE)&\" \"&VLOOKUP(A280-10000,'Data eshop'!D:G,4,FALSE))))","v":""},null,{"$f":"IF(A280=\"\",\"\",VLOOKUP(A280-10000,'Data eshop'!D:AD,5,FALSE))","v":""},{"$f":"IF(A280=\"\",\"\",IF(VLOOKUP('Místa dodání'!A280-10000,'Data eshop'!D:L,8,FALSE)=\"\",IF(VLOOKUP('Místa dodání'!A280-10000,'Data eshop'!D:L,9,FALSE)=\"\",\"\",\"DIČ: \"&VLOOKUP('Místa dodání'!A280-10000,'Data eshop'!D:L,9,FALSE)),IF(VLOOKUP('Místa dodání'!A280-10000,'Data eshop'!D:L,9,FALSE)=\"\",\"\",\"DIČ: \"&VLOOKUP('Místa dodání'!A280-10000,'Data eshop'!D:L,9,FALSE)&\", \")&\"IČO: \"&VLOOKUP('Místa dodání'!A280-10000,'Data eshop'!D:L,8,FALSE)))","v":""},{"$f":"IF(A280=\"\",\"\",VLOOKUP(A280-10000,'Data eshop'!D:AD,6,FALSE))","v":""},{"$f":"IF(A280=\"\",\"\",VLOOKUP(A280-10000,'Data eshop'!D:AD,7,FALSE))","v":""},{"$f":"IF(A280=\"\",\"\",VLOOKUP(A280-10000,'Data eshop'!D:AD,10,FALSE))","v":""},"","","",""]
[{"$f":"IFERROR(SMALL('Data eshop'!D:D,COUNTIF('Data eshop'!D:D,\"<\"&(A280-10000)))+10000,\"\")","v":""},"",{"$f":"IF(A281=\"\",\"\",IF(VLOOKUP(A281-10000,'Data eshop'!D:G,2,FALSE)=\"\",PROPER(VLOOKUP(A281-10000,'Data eshop'!D:G,3,FALSE)&\" \"&VLOOKUP(A281-10000,'Data eshop'!D:G,4,FALSE)),VLOOKUP(A281-10000,'Data eshop'!D:G,2,FALSE)&\" - \"&PROPER(VLOOKUP(A281-10000,'Data eshop'!D:G,3,FALSE)&\" \"&VLOOKUP(A281-10000,'Data eshop'!D:G,4,FALSE))))","v":""},null,{"$f":"IF(A281=\"\",\"\",VLOOKUP(A281-10000,'Data eshop'!D:AD,5,FALSE))","v":""},{"$f":"IF(A281=\"\",\"\",IF(VLOOKUP('Místa dodání'!A281-10000,'Data eshop'!D:L,8,FALSE)=\"\",IF(VLOOKUP('Místa dodání'!A281-10000,'Data eshop'!D:L,9,FALSE)=\"\",\"\",\"DIČ: \"&VLOOKUP('Místa dodání'!A281-10000,'Data eshop'!D:L,9,FALSE)),IF(VLOOKUP('Místa dodání'!A281-10000,'Data eshop'!D:L,9,FALSE)=\"\",\"\",\"DIČ: \"&VLOOKUP('Místa dodání'!A281-10000,'Data eshop'!D:L,9,FALSE)&\", \")&\"IČO: \"&VLOOKUP('Místa dodání'!A281-10000,'Data eshop'!D:L,8,FALSE)))","v":""},{"$f":"IF(A281=\"\",\"\",VLOOKUP(A281-10000,'Data eshop'!D:AD,6,FALSE))","v":""},{"$f":"IF(A281=\"\",\"\",VLOOKUP(A281-10000,'Data eshop'!D:AD,7,FALSE))","v":""},{"$f":"IF(A281=\"\",\"\",VLOOKUP(A281-10000,'Data eshop'!D:AD,10,FALSE))","v":""},"","","",""]
[{"$f":"IFERROR(SMALL('Data eshop'!D:D,COUNTIF('Data eshop'!D:D,\"<\"&(A281-10000)))+10000,\"\")","v":""},"",{"$f":"IF(A282=\"\",\"\",IF(VLOOKUP(A282-10000,'Data eshop'!D:G,2,FALSE)=\"\",PROPER(VLOOKUP(A282-10000,'Data eshop'!D:G,3,FALSE)&\" \"&VLOOKUP(A282-10000,'Data eshop'!D:G,4,FALSE)),VLOOKUP(A282-10000,'Data eshop'!D:G,2,FALSE)&\" - \"&PROPER(VLOOKUP(A282-10000,'Data eshop'!D:G,3,FALSE)&\" \"&VLOOKUP(A282-10000,'Data eshop'!D:G,4,FALSE))))","v":""},null,{"$f":"IF(A282=\"\",\"\",VLOOKUP(A282-10000,'Data eshop'!D:AD,5,FALSE))","v":""},{"$f":"IF(A282=\"\",\"\",IF(VLOOKUP('Místa dodání'!A282-10000,'Data eshop'!D:L,8,FALSE)=\"\",IF(VLOOKUP('Místa dodání'!A282-10000,'Data eshop'!D:L,9,FALSE)=\"\",\"\",\"DIČ: \"&VLOOKUP('Místa dodání'!A282-10000,'Data eshop'!D:L,9,FALSE)),IF(VLOOKUP('Místa dodání'!A282-10000,'Data eshop'!D:L,9,FALSE)=\"\",\"\",\"DIČ: \"&VLOOKUP('Místa dodání'!A282-10000,'Data eshop'!D:L,9,FALSE)&\", \")&\"IČO: \"&VLOOKUP('Místa dodání'!A282-10000,'Data eshop'!D:L,8,FALSE)))","v":""},{"$f":"IF(A282=\"\",\"\",VLOOKUP(A282-10000,'Data eshop'!D:AD,6,FALSE))","v":""},{"$f":"IF(A282=\"\",\"\",VLOOKUP(A282-10000,'Data eshop'!D:AD,7,FALSE))","v":""},{"$f":"IF(A282=\"\",\"\",VLOOKUP(A282-10000,'Data eshop'!D:AD,10,FALSE))","v":""},"","","",""]
[{"$f":"IFERROR(SMALL('Data eshop'!D:D,COUNTIF('Data eshop'!D:D,\"<\"&(A282-10000)))+10000,\"\")","v":""},"",{"$f":"IF(A283=\"\",\"\",IF(VLOOKUP(A283-10000,'Data eshop'!D:G,2,FALSE)=\"\",PROPER(VLOOKUP(A283-10000,'Data eshop'!D:G,3,FALSE)&\" \"&VLOOKUP(A283-10000,'Data eshop'!D:G,4,FALSE)),VLOOKUP(A283-10000,'Data eshop'!D:G,2,FALSE)&\" - \"&PROPER(VLOOKUP(A283-10000,'Data eshop'!D:G,3,FALSE)&\" \"&VLOOKUP(A283-10000,'Data eshop'!D:G,4,FALSE))))","v":""},null,{"$f":"IF(A283=\"\",\"\",VLOOKUP(A283-10000,'Data eshop'!D:AD,5,FALSE))","v":""},{"$f":"IF(A283=\"\",\"\",IF(VLOOKUP('Místa dodání'!A283-10000,'Data eshop'!D:L,8,FALSE)=\"\",IF(VLOOKUP('Místa dodání'!A283-10000,'Data eshop'!D:L,9,FALSE)=\"\",\"\",\"DIČ: \"&VLOOKUP('Místa dodání'!A283-10000,'Data eshop'!D:L,9,FALSE)),IF(VLOOKUP('Místa dodání'!A283-10000,'Data eshop'!D:L,9,FALSE)=\"\",\"\",\"DIČ: \"&VLOOKUP('Místa dodání'!A283-10000,'Data eshop'!D:L,9,FALSE)&\", \")&\"IČO: \"&VLOOKUP('Místa dodání'!A283-10000,'Data eshop'!D:L,8,FALSE)))","v":""},{"$f":"IF(A283=\"\",\"\",VLOOKUP(A283-10000,'Data eshop'!D:AD,6,FALSE))","v":""},{"$f":"IF(A283=\"\",\"\",VLOOKUP(A283-10000,'Data eshop'!D:AD,7,FALSE))","v":""},{"$f":"IF(A283=\"\",\"\",VLOOKUP(A283-10000,'Data eshop'!D:AD,10,FALSE))","v":""},"","","","","Roluj nahoru, až uvidíš žlutou"]
[{"$f":"IFERROR(SMALL('Data eshop'!D:D,COUNTIF('Data eshop'!D:D,\"<\"&(A283-10000)))+10000,\"\")","v":""},"",{"$f":"IF(A284=\"\",\"\",IF(VLOOKUP(A284-10000,'Data eshop'!D:G,2,FALSE)=\"\",PROPER(VLOOKUP(A284-10000,'Data eshop'!D:G,3,FALSE)&\" \"&VLOOKUP(A284-10000,'Data eshop'!D:G,4,FALSE)),VLOOKUP(A284-10000,'Data eshop'!D:G,2,FALSE)&\" - \"&PROPER(VLOOKUP(A284-10000,'Data eshop'!D:G,3,FALSE)&\" \"&VLOOKUP(A284-10000,'Data eshop'!D:G,4,FALSE))))","v":""},null,{"$f":"IF(A284=\"\",\"\",VLOOKUP(A284-10000,'Data eshop'!D:AD,5,FALSE))","v":""},{"$f":"IF(A284=\"\",\"\",IF(VLOOKUP('Místa dodání'!A284-10000,'Data eshop'!D:L,8,FALSE)=\"\",IF(VLOOKUP('Místa dodání'!A284-10000,'Data eshop'!D:L,9,FALSE)=\"\",\"\",\"DIČ: \"&VLOOKUP('Místa dodání'!A284-10000,'Data eshop'!D:L,9,FALSE)),IF(VLOOKUP('Místa dodání'!A284-10000,'Data eshop'!D:L,9,FALSE)=\"\",\"\",\"DIČ: \"&VLOOKUP('Místa dodání'!A284-10000,'Data eshop'!D:L,9,FALSE)&\", \")&\"IČO: \"&VLOOKUP('Místa dodání'!A284-10000,'Data eshop'!D:L,8,FALSE)))","v":""},{"$f":"IF(A284=\"\",\"\",VLOOKUP(A284-10000,'Data eshop'!D:AD,6,FALSE))","v":""},{"$f":"IF(A284=\"\",\"\",VLOOKUP(A284-10000,'Data eshop'!D:AD,7,FALSE))","v":""},{"$f":"IF(A284=\"\",\"\",VLOOKUP(A284-10000,'Data eshop'!D:AD,10,FALSE))","v":""},"","","",""]
[{"$f":"IFERROR(SMALL('Data eshop'!D:D,COUNTIF('Data eshop'!D:D,\"<\"&(A284-10000)))+10000,\"\")","v":""},"",{"$f":"IF(A285=\"\",\"\",IF(VLOOKUP(A285-10000,'Data eshop'!D:G,2,FALSE)=\"\",PROPER(VLOOKUP(A285-10000,'Data eshop'!D:G,3,FALSE)&\" \"&VLOOKUP(A285-10000,'Data eshop'!D:G,4,FALSE)),VLOOKUP(A285-10000,'Data eshop'!D:G,2,FALSE)&\" - \"&PROPER(VLOOKUP(A285-10000,'Data eshop'!D:G,3,FALSE)&\" \"&VLOOKUP(A285-10000,'Data eshop'!D:G,4,FALSE))))","v":""},null,{"$f":"IF(A285=\"\",\"\",VLOOKUP(A285-10000,'Data eshop'!D:AD,5,FALSE))","v":""},{"$f":"IF(A285=\"\",\"\",IF(VLOOKUP('Místa dodání'!A285-10000,'Data eshop'!D:L,8,FALSE)=\"\",IF(VLOOKUP('Místa dodání'!A285-10000,'Data eshop'!D:L,9,FALSE)=\"\",\"\",\"DIČ: \"&VLOOKUP('Místa dodání'!A285-10000,'Data eshop'!D:L,9,FALSE)),IF(VLOOKUP('Místa dodání'!A285-10000,'Data eshop'!D:L,9,FALSE)=\"\",\"\",\"DIČ: \"&VLOOKUP('Místa dodání'!A285-10000,'Data eshop'!D:L,9,FALSE)&\", \")&\"IČO: \"&VLOOKUP('Místa dodání'!A285-10000,'Data eshop'!D:L,8,FALSE)))","v":""},{"$f":"IF(A285=\"\",\"\",VLOOKUP(A285-10000,'Data eshop'!D:AD,6,FALSE))","v":""},{"$f":"IF(A285=\"\",\"\",VLOOKUP(A285-10000,'Data eshop'!D:AD,7,FALSE))","v":""},{"$f":"IF(A285=\"\",\"\",VLOOKUP(A285-10000,'Data eshop'!D:AD,10,FALSE))","v":""},"","","",""]
[{"$f":"IFERROR(SMALL('Data eshop'!D:D,COUNTIF('Data eshop'!D:D,\"<\"&(A285-10000)))+10000,\"\")","v":""},"",{"$f":"IF(A286=\"\",\"\",IF(VLOOKUP(A286-10000,'Data eshop'!D:G,2,FALSE)=\"\",PROPER(VLOOKUP(A286-10000,'Data eshop'!D:G,3,FALSE)&\" \"&VLOOKUP(A286-10000,'Data eshop'!D:G,4,FALSE)),VLOOKUP(A286-10000,'Data eshop'!D:G,2,FALSE)&\" - \"&PROPER(VLOOKUP(A286-10000,'Data eshop'!D:G,3,FALSE)&\" \"&VLOOKUP(A286-10000,'Data eshop'!D:G,4,FALSE))))","v":""},null,{"$f":"IF(A286=\"\",\"\",VLOOKUP(A286-10000,'Data eshop'!D:AD,5,FALSE))","v":""},{"$f":"IF(A286=\"\",\"\",IF(VLOOKUP('Místa dodání'!A286-10000,'Data eshop'!D:L,8,FALSE)=\"\",IF(VLOOKUP('Místa dodání'!A286-10000,'Data eshop'!D:L,9,FALSE)=\"\",\"\",\"DIČ: \"&VLOOKUP('Místa dodání'!A286-10000,'Data eshop'!D:L,9,FALSE)),IF(VLOOKUP('Místa dodání'!A286-10000,'Data eshop'!D:L,9,FALSE)=\"\",\"\",\"DIČ: \"&VLOOKUP('Místa dodání'!A286-10000,'Data eshop'!D:L,9,FALSE)&\", \")&\"IČO: \"&VLOOKUP('Místa dodání'!A286-10000,'Data eshop'!D:L,8,FALSE)))","v":""},{"$f":"IF(A286=\"\",\"\",VLOOKUP(A286-10000,'Data eshop'!D:AD,6,FALSE))","v":""},{"$f":"IF(A286=\"\",\"\",VLOOKUP(A286-10000,'Data eshop'!D:AD,7,FALSE))","v":""},{"$f":"IF(A286=\"\",\"\",VLOOKUP(A286-10000,'Data eshop'!D:AD,10,FALSE))","v":""},"","","",""]
[{"$f":"IFERROR(SMALL('Data eshop'!D:D,COUNTIF('Data eshop'!D:D,\"<\"&(A286-10000)))+10000,\"\")","v":""},"",{"$f":"IF(A287=\"\",\"\",IF(VLOOKUP(A287-10000,'Data eshop'!D:G,2,FALSE)=\"\",PROPER(VLOOKUP(A287-10000,'Data eshop'!D:G,3,FALSE)&\" \"&VLOOKUP(A287-10000,'Data eshop'!D:G,4,FALSE)),VLOOKUP(A287-10000,'Data eshop'!D:G,2,FALSE)&\" - \"&PROPER(VLOOKUP(A287-10000,'Data eshop'!D:G,3,FALSE)&\" \"&VLOOKUP(A287-10000,'Data eshop'!D:G,4,FALSE))))","v":""},null,{"$f":"IF(A287=\"\",\"\",VLOOKUP(A287-10000,'Data eshop'!D:AD,5,FALSE))","v":""},{"$f":"IF(A287=\"\",\"\",IF(VLOOKUP('Místa dodání'!A287-10000,'Data eshop'!D:L,8,FALSE)=\"\",IF(VLOOKUP('Místa dodání'!A287-10000,'Data eshop'!D:L,9,FALSE)=\"\",\"\",\"DIČ: \"&VLOOKUP('Místa dodání'!A287-10000,'Data eshop'!D:L,9,FALSE)),IF(VLOOKUP('Místa dodání'!A287-10000,'Data eshop'!D:L,9,FALSE)=\"\",\"\",\"DIČ: \"&VLOOKUP('Místa dodání'!A287-10000,'Data eshop'!D:L,9,FALSE)&\", \")&\"IČO: \"&VLOOKUP('Místa dodání'!A287-10000,'Data eshop'!D:L,8,FALSE)))","v":""},{"$f":"IF(A287=\"\",\"\",VLOOKUP(A287-10000,'Data eshop'!D:AD,6,FALSE))","v":""},{"$f":"IF(A287=\"\",\"\",VLOOKUP(A287-10000,'Data eshop'!D:AD,7,FALSE))","v":""},{"$f":"IF(A287=\"\",\"\",VLOOKUP(A287-10000,'Data eshop'!D:AD,10,FALSE))","v":""},"","","","","Roluj nahoru, až uvidíš žlutou"]
[{"$f":"IFERROR(SMALL('Data eshop'!D:D,COUNTIF('Data eshop'!D:D,\"<\"&(A287-10000)))+10000,\"\")","v":""},"",{"$f":"IF(A288=\"\",\"\",IF(VLOOKUP(A288-10000,'Data eshop'!D:G,2,FALSE)=\"\",PROPER(VLOOKUP(A288-10000,'Data eshop'!D:G,3,FALSE)&\" \"&VLOOKUP(A288-10000,'Data eshop'!D:G,4,FALSE)),VLOOKUP(A288-10000,'Data eshop'!D:G,2,FALSE)&\" - \"&PROPER(VLOOKUP(A288-10000,'Data eshop'!D:G,3,FALSE)&\" \"&VLOOKUP(A288-10000,'Data eshop'!D:G,4,FALSE))))","v":""},null,{"$f":"IF(A288=\"\",\"\",VLOOKUP(A288-10000,'Data eshop'!D:AD,5,FALSE))","v":""},{"$f":"IF(A288=\"\",\"\",IF(VLOOKUP('Místa dodání'!A288-10000,'Data eshop'!D:L,8,FALSE)=\"\",IF(VLOOKUP('Místa dodání'!A288-10000,'Data eshop'!D:L,9,FALSE)=\"\",\"\",\"DIČ: \"&VLOOKUP('Místa dodání'!A288-10000,'Data eshop'!D:L,9,FALSE)),IF(VLOOKUP('Místa dodání'!A288-10000,'Data eshop'!D:L,9,FALSE)=\"\",\"\",\"DIČ: \"&VLOOKUP('Místa dodání'!A288-10000,'Data eshop'!D:L,9,FALSE)&\", \")&\"IČO: \"&VLOOKUP('Místa dodání'!A288-10000,'Data eshop'!D:L,8,FALSE)))","v":""},{"$f":"IF(A288=\"\",\"\",VLOOKUP(A288-10000,'Data eshop'!D:AD,6,FALSE))","v":""},{"$f":"IF(A288=\"\",\"\",VLOOKUP(A288-10000,'Data eshop'!D:AD,7,FALSE))","v":""},{"$f":"IF(A288=\"\",\"\",VLOOKUP(A288-10000,'Data eshop'!D:AD,10,FALSE))","v":""},"","","",""]
[{"$f":"IFERROR(SMALL('Data eshop'!D:D,COUNTIF('Data eshop'!D:D,\"<\"&(A288-10000)))+10000,\"\")","v":""},"",{"$f":"IF(A289=\"\",\"\",IF(VLOOKUP(A289-10000,'Data eshop'!D:G,2,FALSE)=\"\",PROPER(VLOOKUP(A289-10000,'Data eshop'!D:G,3,FALSE)&\" \"&VLOOKUP(A289-10000,'Data eshop'!D:G,4,FALSE)),VLOOKUP(A289-10000,'Data eshop'!D:G,2,FALSE)&\" - \"&PROPER(VLOOKUP(A289-10000,'Data eshop'!D:G,3,FALSE)&\" \"&VLOOKUP(A289-10000,'Data eshop'!D:G,4,FALSE))))","v":""},null,{"$f":"IF(A289=\"\",\"\",VLOOKUP(A289-10000,'Data eshop'!D:AD,5,FALSE))","v":""},{"$f":"IF(A289=\"\",\"\",IF(VLOOKUP('Místa dodání'!A289-10000,'Data eshop'!D:L,8,FALSE)=\"\",IF(VLOOKUP('Místa dodání'!A289-10000,'Data eshop'!D:L,9,FALSE)=\"\",\"\",\"DIČ: \"&VLOOKUP('Místa dodání'!A289-10000,'Data eshop'!D:L,9,FALSE)),IF(VLOOKUP('Místa dodání'!A289-10000,'Data eshop'!D:L,9,FALSE)=\"\",\"\",\"DIČ: \"&VLOOKUP('Místa dodání'!A289-10000,'Data eshop'!D:L,9,FALSE)&\", \")&\"IČO: \"&VLOOKUP('Místa dodání'!A289-10000,'Data eshop'!D:L,8,FALSE)))","v":""},{"$f":"IF(A289=\"\",\"\",VLOOKUP(A289-10000,'Data eshop'!D:AD,6,FALSE))","v":""},{"$f":"IF(A289=\"\",\"\",VLOOKUP(A289-10000,'Data eshop'!D:AD,7,FALSE))","v":""},{"$f":"IF(A289=\"\",\"\",VLOOKUP(A289-10000,'Data eshop'!D:AD,10,FALSE))","v":""},"","","",""]
[{"$f":"IFERROR(SMALL('Data eshop'!D:D,COUNTIF('Data eshop'!D:D,\"<\"&(A289-10000)))+10000,\"\")","v":""},"",{"$f":"IF(A290=\"\",\"\",IF(VLOOKUP(A290-10000,'Data eshop'!D:G,2,FALSE)=\"\",PROPER(VLOOKUP(A290-10000,'Data eshop'!D:G,3,FALSE)&\" \"&VLOOKUP(A290-10000,'Data eshop'!D:G,4,FALSE)),VLOOKUP(A290-10000,'Data eshop'!D:G,2,FALSE)&\" - \"&PROPER(VLOOKUP(A290-10000,'Data eshop'!D:G,3,FALSE)&\" \"&VLOOKUP(A290-10000,'Data eshop'!D:G,4,FALSE))))","v":""},null,{"$f":"IF(A290=\"\",\"\",VLOOKUP(A290-10000,'Data eshop'!D:AD,5,FALSE))","v":""},{"$f":"IF(A290=\"\",\"\",IF(VLOOKUP('Místa dodání'!A290-10000,'Data eshop'!D:L,8,FALSE)=\"\",IF(VLOOKUP('Místa dodání'!A290-10000,'Data eshop'!D:L,9,FALSE)=\"\",\"\",\"DIČ: \"&VLOOKUP('Místa dodání'!A290-10000,'Data eshop'!D:L,9,FALSE)),IF(VLOOKUP('Místa dodání'!A290-10000,'Data eshop'!D:L,9,FALSE)=\"\",\"\",\"DIČ: \"&VLOOKUP('Místa dodání'!A290-10000,'Data eshop'!D:L,9,FALSE)&\", \")&\"IČO: \"&VLOOKUP('Místa dodání'!A290-10000,'Data eshop'!D:L,8,FALSE)))","v":""},{"$f":"IF(A290=\"\",\"\",VLOOKUP(A290-10000,'Data eshop'!D:AD,6,FALSE))","v":""},{"$f":"IF(A290=\"\",\"\",VLOOKUP(A290-10000,'Data eshop'!D:AD,7,FALSE))","v":""},{"$f":"IF(A290=\"\",\"\",VLOOKUP(A290-10000,'Data eshop'!D:AD,10,FALSE))","v":""},"","","",""]
[{"$f":"IFERROR(SMALL('Data eshop'!D:D,COUNTIF('Data eshop'!D:D,\"<\"&(A290-10000)))+10000,\"\")","v":""},"",{"$f":"IF(A291=\"\",\"\",IF(VLOOKUP(A291-10000,'Data eshop'!D:G,2,FALSE)=\"\",PROPER(VLOOKUP(A291-10000,'Data eshop'!D:G,3,FALSE)&\" \"&VLOOKUP(A291-10000,'Data eshop'!D:G,4,FALSE)),VLOOKUP(A291-10000,'Data eshop'!D:G,2,FALSE)&\" - \"&PROPER(VLOOKUP(A291-10000,'Data eshop'!D:G,3,FALSE)&\" \"&VLOOKUP(A291-10000,'Data eshop'!D:G,4,FALSE))))","v":""},null,{"$f":"IF(A291=\"\",\"\",VLOOKUP(A291-10000,'Data eshop'!D:AD,5,FALSE))","v":""},{"$f":"IF(A291=\"\",\"\",IF(VLOOKUP('Místa dodání'!A291-10000,'Data eshop'!D:L,8,FALSE)=\"\",IF(VLOOKUP('Místa dodání'!A291-10000,'Data eshop'!D:L,9,FALSE)=\"\",\"\",\"DIČ: \"&VLOOKUP('Místa dodání'!A291-10000,'Data eshop'!D:L,9,FALSE)),IF(VLOOKUP('Místa dodání'!A291-10000,'Data eshop'!D:L,9,FALSE)=\"\",\"\",\"DIČ: \"&VLOOKUP('Místa dodání'!A291-10000,'Data eshop'!D:L,9,FALSE)&\", \")&\"IČO: \"&VLOOKUP('Místa dodání'!A291-10000,'Data eshop'!D:L,8,FALSE)))","v":""},{"$f":"IF(A291=\"\",\"\",VLOOKUP(A291-10000,'Data eshop'!D:AD,6,FALSE))","v":""},{"$f":"IF(A291=\"\",\"\",VLOOKUP(A291-10000,'Data eshop'!D:AD,7,FALSE))","v":""},{"$f":"IF(A291=\"\",\"\",VLOOKUP(A291-10000,'Data eshop'!D:AD,10,FALSE))","v":""},"","","","","Roluj nahoru, až uvidíš žlutou"]
[{"$f":"IFERROR(SMALL('Data eshop'!D:D,COUNTIF('Data eshop'!D:D,\"<\"&(A291-10000)))+10000,\"\")","v":""},"",{"$f":"IF(A292=\"\",\"\",IF(VLOOKUP(A292-10000,'Data eshop'!D:G,2,FALSE)=\"\",PROPER(VLOOKUP(A292-10000,'Data eshop'!D:G,3,FALSE)&\" \"&VLOOKUP(A292-10000,'Data eshop'!D:G,4,FALSE)),VLOOKUP(A292-10000,'Data eshop'!D:G,2,FALSE)&\" - \"&PROPER(VLOOKUP(A292-10000,'Data eshop'!D:G,3,FALSE)&\" \"&VLOOKUP(A292-10000,'Data eshop'!D:G,4,FALSE))))","v":""},null,{"$f":"IF(A292=\"\",\"\",VLOOKUP(A292-10000,'Data eshop'!D:AD,5,FALSE))","v":""},{"$f":"IF(A292=\"\",\"\",IF(VLOOKUP('Místa dodání'!A292-10000,'Data eshop'!D:L,8,FALSE)=\"\",IF(VLOOKUP('Místa dodání'!A292-10000,'Data eshop'!D:L,9,FALSE)=\"\",\"\",\"DIČ: \"&VLOOKUP('Místa dodání'!A292-10000,'Data eshop'!D:L,9,FALSE)),IF(VLOOKUP('Místa dodání'!A292-10000,'Data eshop'!D:L,9,FALSE)=\"\",\"\",\"DIČ: \"&VLOOKUP('Místa dodání'!A292-10000,'Data eshop'!D:L,9,FALSE)&\", \")&\"IČO: \"&VLOOKUP('Místa dodání'!A292-10000,'Data eshop'!D:L,8,FALSE)))","v":""},{"$f":"IF(A292=\"\",\"\",VLOOKUP(A292-10000,'Data eshop'!D:AD,6,FALSE))","v":""},{"$f":"IF(A292=\"\",\"\",VLOOKUP(A292-10000,'Data eshop'!D:AD,7,FALSE))","v":""},{"$f":"IF(A292=\"\",\"\",VLOOKUP(A292-10000,'Data eshop'!D:AD,10,FALSE))","v":""},"","","",""]
[{"$f":"IFERROR(SMALL('Data eshop'!D:D,COUNTIF('Data eshop'!D:D,\"<\"&(A292-10000)))+10000,\"\")","v":""},"",{"$f":"IF(A293=\"\",\"\",IF(VLOOKUP(A293-10000,'Data eshop'!D:G,2,FALSE)=\"\",PROPER(VLOOKUP(A293-10000,'Data eshop'!D:G,3,FALSE)&\" \"&VLOOKUP(A293-10000,'Data eshop'!D:G,4,FALSE)),VLOOKUP(A293-10000,'Data eshop'!D:G,2,FALSE)&\" - \"&PROPER(VLOOKUP(A293-10000,'Data eshop'!D:G,3,FALSE)&\" \"&VLOOKUP(A293-10000,'Data eshop'!D:G,4,FALSE))))","v":""},null,{"$f":"IF(A293=\"\",\"\",VLOOKUP(A293-10000,'Data eshop'!D:AD,5,FALSE))","v":""},{"$f":"IF(A293=\"\",\"\",IF(VLOOKUP('Místa dodání'!A293-10000,'Data eshop'!D:L,8,FALSE)=\"\",IF(VLOOKUP('Místa dodání'!A293-10000,'Data eshop'!D:L,9,FALSE)=\"\",\"\",\"DIČ: \"&VLOOKUP('Místa dodání'!A293-10000,'Data eshop'!D:L,9,FALSE)),IF(VLOOKUP('Místa dodání'!A293-10000,'Data eshop'!D:L,9,FALSE)=\"\",\"\",\"DIČ: \"&VLOOKUP('Místa dodání'!A293-10000,'Data eshop'!D:L,9,FALSE)&\", \")&\"IČO: \"&VLOOKUP('Místa dodání'!A293-10000,'Data eshop'!D:L,8,FALSE)))","v":""},{"$f":"IF(A293=\"\",\"\",VLOOKUP(A293-10000,'Data eshop'!D:AD,6,FALSE))","v":""},{"$f":"IF(A293=\"\",\"\",VLOOKUP(A293-10000,'Data eshop'!D:AD,7,FALSE))","v":""},{"$f":"IF(A293=\"\",\"\",VLOOKUP(A293-10000,'Data eshop'!D:AD,10,FALSE))","v":""},"","","",""]
[{"$f":"IFERROR(SMALL('Data eshop'!D:D,COUNTIF('Data eshop'!D:D,\"<\"&(A293-10000)))+10000,\"\")","v":""},"",{"$f":"IF(A294=\"\",\"\",IF(VLOOKUP(A294-10000,'Data eshop'!D:G,2,FALSE)=\"\",PROPER(VLOOKUP(A294-10000,'Data eshop'!D:G,3,FALSE)&\" \"&VLOOKUP(A294-10000,'Data eshop'!D:G,4,FALSE)),VLOOKUP(A294-10000,'Data eshop'!D:G,2,FALSE)&\" - \"&PROPER(VLOOKUP(A294-10000,'Data eshop'!D:G,3,FALSE)&\" \"&VLOOKUP(A294-10000,'Data eshop'!D:G,4,FALSE))))","v":""},null,{"$f":"IF(A294=\"\",\"\",VLOOKUP(A294-10000,'Data eshop'!D:AD,5,FALSE))","v":""},{"$f":"IF(A294=\"\",\"\",IF(VLOOKUP('Místa dodání'!A294-10000,'Data eshop'!D:L,8,FALSE)=\"\",IF(VLOOKUP('Místa dodání'!A294-10000,'Data eshop'!D:L,9,FALSE)=\"\",\"\",\"DIČ: \"&VLOOKUP('Místa dodání'!A294-10000,'Data eshop'!D:L,9,FALSE)),IF(VLOOKUP('Místa dodání'!A294-10000,'Data eshop'!D:L,9,FALSE)=\"\",\"\",\"DIČ: \"&VLOOKUP('Místa dodání'!A294-10000,'Data eshop'!D:L,9,FALSE)&\", \")&\"IČO: \"&VLOOKUP('Místa dodání'!A294-10000,'Data eshop'!D:L,8,FALSE)))","v":""},{"$f":"IF(A294=\"\",\"\",VLOOKUP(A294-10000,'Data eshop'!D:AD,6,FALSE))","v":""},{"$f":"IF(A294=\"\",\"\",VLOOKUP(A294-10000,'Data eshop'!D:AD,7,FALSE))","v":""},{"$f":"IF(A294=\"\",\"\",VLOOKUP(A294-10000,'Data eshop'!D:AD,10,FALSE))","v":""},"","","",""]
[{"$f":"IFERROR(SMALL('Data eshop'!D:D,COUNTIF('Data eshop'!D:D,\"<\"&(A294-10000)))+10000,\"\")","v":""},"",{"$f":"IF(A295=\"\",\"\",IF(VLOOKUP(A295-10000,'Data eshop'!D:G,2,FALSE)=\"\",PROPER(VLOOKUP(A295-10000,'Data eshop'!D:G,3,FALSE)&\" \"&VLOOKUP(A295-10000,'Data eshop'!D:G,4,FALSE)),VLOOKUP(A295-10000,'Data eshop'!D:G,2,FALSE)&\" - \"&PROPER(VLOOKUP(A295-10000,'Data eshop'!D:G,3,FALSE)&\" \"&VLOOKUP(A295-10000,'Data eshop'!D:G,4,FALSE))))","v":""},null,{"$f":"IF(A295=\"\",\"\",VLOOKUP(A295-10000,'Data eshop'!D:AD,5,FALSE))","v":""},{"$f":"IF(A295=\"\",\"\",IF(VLOOKUP('Místa dodání'!A295-10000,'Data eshop'!D:L,8,FALSE)=\"\",IF(VLOOKUP('Místa dodání'!A295-10000,'Data eshop'!D:L,9,FALSE)=\"\",\"\",\"DIČ: \"&VLOOKUP('Místa dodání'!A295-10000,'Data eshop'!D:L,9,FALSE)),IF(VLOOKUP('Místa dodání'!A295-10000,'Data eshop'!D:L,9,FALSE)=\"\",\"\",\"DIČ: \"&VLOOKUP('Místa dodání'!A295-10000,'Data eshop'!D:L,9,FALSE)&\", \")&\"IČO: \"&VLOOKUP('Místa dodání'!A295-10000,'Data eshop'!D:L,8,FALSE)))","v":""},{"$f":"IF(A295=\"\",\"\",VLOOKUP(A295-10000,'Data eshop'!D:AD,6,FALSE))","v":""},{"$f":"IF(A295=\"\",\"\",VLOOKUP(A295-10000,'Data eshop'!D:AD,7,FALSE))","v":""},{"$f":"IF(A295=\"\",\"\",VLOOKUP(A295-10000,'Data eshop'!D:AD,10,FALSE))","v":""},"","","","","Roluj nahoru, až uvidíš žlutou"]
[{"$f":"IFERROR(SMALL('Data eshop'!D:D,COUNTIF('Data eshop'!D:D,\"<\"&(A295-10000)))+10000,\"\")","v":""},"",{"$f":"IF(A296=\"\",\"\",IF(VLOOKUP(A296-10000,'Data eshop'!D:G,2,FALSE)=\"\",PROPER(VLOOKUP(A296-10000,'Data eshop'!D:G,3,FALSE)&\" \"&VLOOKUP(A296-10000,'Data eshop'!D:G,4,FALSE)),VLOOKUP(A296-10000,'Data eshop'!D:G,2,FALSE)&\" - \"&PROPER(VLOOKUP(A296-10000,'Data eshop'!D:G,3,FALSE)&\" \"&VLOOKUP(A296-10000,'Data eshop'!D:G,4,FALSE))))","v":""},null,{"$f":"IF(A296=\"\",\"\",VLOOKUP(A296-10000,'Data eshop'!D:AD,5,FALSE))","v":""},{"$f":"IF(A296=\"\",\"\",IF(VLOOKUP('Místa dodání'!A296-10000,'Data eshop'!D:L,8,FALSE)=\"\",IF(VLOOKUP('Místa dodání'!A296-10000,'Data eshop'!D:L,9,FALSE)=\"\",\"\",\"DIČ: \"&VLOOKUP('Místa dodání'!A296-10000,'Data eshop'!D:L,9,FALSE)),IF(VLOOKUP('Místa dodání'!A296-10000,'Data eshop'!D:L,9,FALSE)=\"\",\"\",\"DIČ: \"&VLOOKUP('Místa dodání'!A296-10000,'Data eshop'!D:L,9,FALSE)&\", \")&\"IČO: \"&VLOOKUP('Místa dodání'!A296-10000,'Data eshop'!D:L,8,FALSE)))","v":""},{"$f":"IF(A296=\"\",\"\",VLOOKUP(A296-10000,'Data eshop'!D:AD,6,FALSE))","v":""},{"$f":"IF(A296=\"\",\"\",VLOOKUP(A296-10000,'Data eshop'!D:AD,7,FALSE))","v":""},{"$f":"IF(A296=\"\",\"\",VLOOKUP(A296-10000,'Data eshop'!D:AD,10,FALSE))","v":""},"","","",""]
[{"$f":"IFERROR(SMALL('Data eshop'!D:D,COUNTIF('Data eshop'!D:D,\"<\"&(A296-10000)))+10000,\"\")","v":""},"",{"$f":"IF(A297=\"\",\"\",IF(VLOOKUP(A297-10000,'Data eshop'!D:G,2,FALSE)=\"\",PROPER(VLOOKUP(A297-10000,'Data eshop'!D:G,3,FALSE)&\" \"&VLOOKUP(A297-10000,'Data eshop'!D:G,4,FALSE)),VLOOKUP(A297-10000,'Data eshop'!D:G,2,FALSE)&\" - \"&PROPER(VLOOKUP(A297-10000,'Data eshop'!D:G,3,FALSE)&\" \"&VLOOKUP(A297-10000,'Data eshop'!D:G,4,FALSE))))","v":""},null,{"$f":"IF(A297=\"\",\"\",VLOOKUP(A297-10000,'Data eshop'!D:AD,5,FALSE))","v":""},{"$f":"IF(A297=\"\",\"\",IF(VLOOKUP('Místa dodání'!A297-10000,'Data eshop'!D:L,8,FALSE)=\"\",IF(VLOOKUP('Místa dodání'!A297-10000,'Data eshop'!D:L,9,FALSE)=\"\",\"\",\"DIČ: \"&VLOOKUP('Místa dodání'!A297-10000,'Data eshop'!D:L,9,FALSE)),IF(VLOOKUP('Místa dodání'!A297-10000,'Data eshop'!D:L,9,FALSE)=\"\",\"\",\"DIČ: \"&VLOOKUP('Místa dodání'!A297-10000,'Data eshop'!D:L,9,FALSE)&\", \")&\"IČO: \"&VLOOKUP('Místa dodání'!A297-10000,'Data eshop'!D:L,8,FALSE)))","v":""},{"$f":"IF(A297=\"\",\"\",VLOOKUP(A297-10000,'Data eshop'!D:AD,6,FALSE))","v":""},{"$f":"IF(A297=\"\",\"\",VLOOKUP(A297-10000,'Data eshop'!D:AD,7,FALSE))","v":""},{"$f":"IF(A297=\"\",\"\",VLOOKUP(A297-10000,'Data eshop'!D:AD,10,FALSE))","v":""},"","","",""]
[{"$f":"IFERROR(SMALL('Data eshop'!D:D,COUNTIF('Data eshop'!D:D,\"<\"&(A297-10000)))+10000,\"\")","v":""},"",{"$f":"IF(A298=\"\",\"\",IF(VLOOKUP(A298-10000,'Data eshop'!D:G,2,FALSE)=\"\",PROPER(VLOOKUP(A298-10000,'Data eshop'!D:G,3,FALSE)&\" \"&VLOOKUP(A298-10000,'Data eshop'!D:G,4,FALSE)),VLOOKUP(A298-10000,'Data eshop'!D:G,2,FALSE)&\" - \"&PROPER(VLOOKUP(A298-10000,'Data eshop'!D:G,3,FALSE)&\" \"&VLOOKUP(A298-10000,'Data eshop'!D:G,4,FALSE))))","v":""},null,{"$f":"IF(A298=\"\",\"\",VLOOKUP(A298-10000,'Data eshop'!D:AD,5,FALSE))","v":""},{"$f":"IF(A298=\"\",\"\",IF(VLOOKUP('Místa dodání'!A298-10000,'Data eshop'!D:L,8,FALSE)=\"\",IF(VLOOKUP('Místa dodání'!A298-10000,'Data eshop'!D:L,9,FALSE)=\"\",\"\",\"DIČ: \"&VLOOKUP('Místa dodání'!A298-10000,'Data eshop'!D:L,9,FALSE)),IF(VLOOKUP('Místa dodání'!A298-10000,'Data eshop'!D:L,9,FALSE)=\"\",\"\",\"DIČ: \"&VLOOKUP('Místa dodání'!A298-10000,'Data eshop'!D:L,9,FALSE)&\", \")&\"IČO: \"&VLOOKUP('Místa dodání'!A298-10000,'Data eshop'!D:L,8,FALSE)))","v":""},{"$f":"IF(A298=\"\",\"\",VLOOKUP(A298-10000,'Data eshop'!D:AD,6,FALSE))","v":""},{"$f":"IF(A298=\"\",\"\",VLOOKUP(A298-10000,'Data eshop'!D:AD,7,FALSE))","v":""},{"$f":"IF(A298=\"\",\"\",VLOOKUP(A298-10000,'Data eshop'!D:AD,10,FALSE))","v":""},"","","",""]
[{"$f":"IFERROR(SMALL('Data eshop'!D:D,COUNTIF('Data eshop'!D:D,\"<\"&(A298-10000)))+10000,\"\")","v":""},"",{"$f":"IF(A299=\"\",\"\",IF(VLOOKUP(A299-10000,'Data eshop'!D:G,2,FALSE)=\"\",PROPER(VLOOKUP(A299-10000,'Data eshop'!D:G,3,FALSE)&\" \"&VLOOKUP(A299-10000,'Data eshop'!D:G,4,FALSE)),VLOOKUP(A299-10000,'Data eshop'!D:G,2,FALSE)&\" - \"&PROPER(VLOOKUP(A299-10000,'Data eshop'!D:G,3,FALSE)&\" \"&VLOOKUP(A299-10000,'Data eshop'!D:G,4,FALSE))))","v":""},null,{"$f":"IF(A299=\"\",\"\",VLOOKUP(A299-10000,'Data eshop'!D:AD,5,FALSE))","v":""},{"$f":"IF(A299=\"\",\"\",IF(VLOOKUP('Místa dodání'!A299-10000,'Data eshop'!D:L,8,FALSE)=\"\",IF(VLOOKUP('Místa dodání'!A299-10000,'Data eshop'!D:L,9,FALSE)=\"\",\"\",\"DIČ: \"&VLOOKUP('Místa dodání'!A299-10000,'Data eshop'!D:L,9,FALSE)),IF(VLOOKUP('Místa dodání'!A299-10000,'Data eshop'!D:L,9,FALSE)=\"\",\"\",\"DIČ: \"&VLOOKUP('Místa dodání'!A299-10000,'Data eshop'!D:L,9,FALSE)&\", \")&\"IČO: \"&VLOOKUP('Místa dodání'!A299-10000,'Data eshop'!D:L,8,FALSE)))","v":""},{"$f":"IF(A299=\"\",\"\",VLOOKUP(A299-10000,'Data eshop'!D:AD,6,FALSE))","v":""},{"$f":"IF(A299=\"\",\"\",VLOOKUP(A299-10000,'Data eshop'!D:AD,7,FALSE))","v":""},{"$f":"IF(A299=\"\",\"\",VLOOKUP(A299-10000,'Data eshop'!D:AD,10,FALSE))","v":""},"","","",""]
[{"$f":"IFERROR(SMALL('Data eshop'!D:D,COUNTIF('Data eshop'!D:D,\"<\"&(A299-10000)))+10000,\"\")","v":""},"",{"$f":"IF(A300=\"\",\"\",IF(VLOOKUP(A300-10000,'Data eshop'!D:G,2,FALSE)=\"\",PROPER(VLOOKUP(A300-10000,'Data eshop'!D:G,3,FALSE)&\" \"&VLOOKUP(A300-10000,'Data eshop'!D:G,4,FALSE)),VLOOKUP(A300-10000,'Data eshop'!D:G,2,FALSE)&\" - \"&PROPER(VLOOKUP(A300-10000,'Data eshop'!D:G,3,FALSE)&\" \"&VLOOKUP(A300-10000,'Data eshop'!D:G,4,FALSE))))","v":""},null,{"$f":"IF(A300=\"\",\"\",VLOOKUP(A300-10000,'Data eshop'!D:AD,5,FALSE))","v":""},{"$f":"IF(A300=\"\",\"\",IF(VLOOKUP('Místa dodání'!A300-10000,'Data eshop'!D:L,8,FALSE)=\"\",IF(VLOOKUP('Místa dodání'!A300-10000,'Data eshop'!D:L,9,FALSE)=\"\",\"\",\"DIČ: \"&VLOOKUP('Místa dodání'!A300-10000,'Data eshop'!D:L,9,FALSE)),IF(VLOOKUP('Místa dodání'!A300-10000,'Data eshop'!D:L,9,FALSE)=\"\",\"\",\"DIČ: \"&VLOOKUP('Místa dodání'!A300-10000,'Data eshop'!D:L,9,FALSE)&\", \")&\"IČO: \"&VLOOKUP('Místa dodání'!A300-10000,'Data eshop'!D:L,8,FALSE)))","v":""},{"$f":"IF(A300=\"\",\"\",VLOOKUP(A300-10000,'Data eshop'!D:AD,6,FALSE))","v":""},{"$f":"IF(A300=\"\",\"\",VLOOKUP(A300-10000,'Data eshop'!D:AD,7,FALSE))","v":""},{"$f":"IF(A300=\"\",\"\",VLOOKUP(A300-10000,'Data eshop'!D:AD,10,FALSE))","v":""},"","","",""]

{"sheet":"Zakázky","index":2,"n_rows":299,"n_cols":18,"rows_kept":299,"cut":false,"hidden":false,"merged":[]}
["ZA/NO","Zákazník","Dodání","Datum","Splatnost","NO Zák.","Zp.dodání","Typ","Stav","Sklad","Přijal","Záloha","Doprav.","Ost.poplatky",null,"Řádek DPD"]
[{"$f":"IF(F2=\"\",\"\",\"19ESh\"&IF(LEN(F2)=4,\"0\",\"\")&F2)","v":""},{"$f":"IF(F2=\"\",\"\",VLOOKUP(O2,DATA!R:S,2,FALSE)&VLOOKUP(Zakázky!F2+10000,'Místa dodání'!A:B,2,FALSE))","v":""},{"$f":"IF(F2=\"\",\"\",F2+10000)","v":""},{"$f":"IF(F2=\"\",\"\",TODAY())","v":""},{"$f":"IF(F2=\"\",\"\",VLOOKUP(VLOOKUP(F2,'Data eshop'!D:N,11,FALSE),DATA!A:B,2,FALSE))","v":""},{"$f":"IF('Místa dodání'!A3=\"\",\"\",'Místa dodání'!A3-10000)","v":""},{"$f":"IF(F2=\"\",\"\",VLOOKUP(VLOOKUP(F2,'Data eshop'!D:AD,12,FALSE),DATA!D:E,2,FALSE))","v":""},{"$f":"IF(F2=\"\",\"\",\"Řádná\")","v":""},{"$f":"IF(F2=\"\",\"\",\"Objednáno\")","v":""},{"$f":"IF(F2=\"\",\"\",\"SKL\")","v":""},{"$f":"IF(F2=\"\",\"\",\"PR\")","v":""},{"$f":"IF(F2=\"\",\"\",0)","v":""},{"$f":"IF(F2=\"\",\"\",0)","v":""},{"$f":"IF(F2=\"\",\"\",0)","v":""},{"$f":"IF(A2=\"\",\"\",VLOOKUP(RIGHT(A2,5)*1,'Data eshop'!D:M,10,FALSE))","v":""},{"$f":"IF(A2=\"\",\"\",IF(OR(VLOOKUP(RIGHT(A2,5)*1,'Data eshop'!D:O,12,FALSE)=\"Kurýrní službou\",VLOOKUP(RIGHT(A2,5)*1,'Data eshop'!D:O,12,FALSE)=\"Kuriérskou službou\",VLOOKUP(RIGHT(A2,5)*1,'Data eshop'!D:O,12,FALSE)=\"Usługa kurierską\"),MAX($P$1:P1)+1,\"\"))","v":""},{"$f":"IF(A2=\"\",\"\",A2)","v":""}]
["",{"$f":"IF(F3=\"\",\"\",VLOOKUP(O3,DATA!R:S,2,FALSE)&VLOOKUP(Zakázky!F3+10000,'Místa dodání'!A:B,2,FALSE))","v":""},"",{"$f":"IF(F3=\"\",\"\",TODAY())","v":""},{"$f":"IF(F3=\"\",\"\",VLOOKUP(VLOOKUP(F3,'Data eshop'!D:N,11,FALSE),DATA!A:B,2,FALSE))","v":""},{"$f":"IF('Místa dodání'!A4=\"\",\"\",'Místa dodání'!A4-10000)","v":""},{"$f":"IF(F3=\"\",\"\",VLOOKUP(VLOOKUP(F3,'Data eshop'!D:AD,12,FALSE),DATA!D:E,2,FALSE))","v":""},{"$f":"IF(F3=\"\",\"\",\"Řádná\")","v":""},{"$f":"IF(F3=\"\",\"\",\"Objednáno\")","v":""},{"$f":"IF(F3=\"\",\"\",\"SKL\")","v":""},{"$f":"IF(F3=\"\",\"\",\"PR\")","v":""},{"$f":"IF(F3=\"\",\"\",0)","v":""},{"$f":"IF(F3=\"\",\"\",0)","v":""},{"$f":"IF(F3=\"\",\"\",0)","v":""},{"$f":"IF(A3=\"\",\"\",VLOOKUP(RIGHT(A3,5)*1,'Data eshop'!D:M,10,FALSE))","v":""},{"$f":"IF(A3=\"\",\"\",IF(OR(VLOOKUP(RIGHT(A3,5)*1,'Data eshop'!D:O,12,FALSE)=\"Kurýrní službou\",VLOOKUP(RIGHT(A3,5)*1,'Data eshop'!D:O,12,FALSE)=\"Kuriérskou službou\",VLOOKUP(RIGHT(A3,5)*1,'Data eshop'!D:O,12,FALSE)=\"Usługa kurierską\"),MAX($P$1:P2)+1,\"\"))","v":""},{"$f":"IF(A3=\"\",\"\",A3)","v":""},"Roluj nahoru, až uvidíš žlutou"]
["",{"$f":"IF(F4=\"\",\"\",VLOOKUP(O4,DATA!R:S,2,FALSE)&VLOOKUP(Zakázky!F4+10000,'Místa dodání'!A:B,2,FALSE))","v":""},"","",{"$f":"IF(F4=\"\",\"\",VLOOKUP(VLOOKUP(F4,'Data eshop'!D:N,11,FALSE),DATA!A:B,2,FALSE))","v":""},{"$f":"IF('Místa dodání'!A5=\"\",\"\",'Místa dodání'!A5-10000)","v":""},{"$f":"IF(F4=\"\",\"\",VLOOKUP(VLOOKUP(F4,'Data eshop'!D:AD,12,FALSE),DATA!D:E,2,FALSE))","v":""},"","","","","","","",{"$f":"IF(A4=\"\",\"\",VLOOKUP(RIGHT(A4,5)*1,'Data eshop'!D:M,10,FALSE))","v":""},{"$f":"IF(A4=\"\",\"\",IF(OR(VLOOKUP(RIGHT(A4,5)*1,'Data eshop'!D:O,12,FALSE)=\"Kurýrní službou\",VLOOKUP(RIGHT(A4,5)*1,'Data eshop'!D:O,12,FALSE)=\"Kuriérskou službou\",VLOOKUP(RIGHT(A4,5)*1,'Data eshop'!D:O,12,FALSE)=\"Usługa kurierską\"),MAX($P$1:P3)+1,\"\"))","v":""},""]
["",{"$f":"IF(F5=\"\",\"\",VLOOKUP(O5,DATA!R:S,2,FALSE)&VLOOKUP(Zakázky!F5+10000,'Místa dodání'!A:B,2,FALSE))","v":""},"","",{"$f":"IF(F5=\"\",\"\",VLOOKUP(VLOOKUP(F5,'Data eshop'!D:N,11,FALSE),DATA!A:B,2,FALSE))","v":""},{"$f":"IF('Místa dodání'!A6=\"\",\"\",'Místa dodání'!A6-10000)","v":""},{"$f":"IF(F5=\"\",\"\",VLOOKUP(VLOOKUP(F5,'Data eshop'!D:AD,12,FALSE),DATA!D:E,2,FALSE))","v":""},"","","","","","","",{"$f":"IF(A5=\"\",\"\",VLOOKUP(RIGHT(A5,5)*1,'Data eshop'!D:M,10,FALSE))","v":""},{"$f":"IF(A5=\"\",\"\",IF(OR(VLOOKUP(RIGHT(A5,5)*1,'Data eshop'!D:O,12,FALSE)=\"Kurýrní službou\",VLOOKUP(RIGHT(A5,5)*1,'Data eshop'!D:O,12,FALSE)=\"Kuriérskou službou\",VLOOKUP(RIGHT(A5,5)*1,'Data eshop'!D:O,12,FALSE)=\"Usługa kurierską\"),MAX($P$1:P4)+1,\"\"))","v":""},""]
["",{"$f":"IF(F6=\"\",\"\",VLOOKUP(O6,DATA!R:S,2,FALSE)&VLOOKUP(Zakázky!F6+10000,'Místa dodání'!A:B,2,FALSE))","v":""},"","",{"$f":"IF(F6=\"\",\"\",VLOOKUP(VLOOKUP(F6,'Data eshop'!D:N,11,FALSE),DATA!A:B,2,FALSE))","v":""},{"$f":"IF('Místa dodání'!A7=\"\",\"\",'Místa dodání'!A7-10000)","v":""},{"$f":"IF(F6=\"\",\"\",VLOOKUP(VLOOKUP(F6,'Data eshop'!D:AD,12,FALSE),DATA!D:E,2,FALSE))","v":""},"","","","","","","",{"$f":"IF(A6=\"\",\"\",VLOOKUP(RIGHT(A6,5)*1,'Data eshop'!D:M,10,FALSE))","v":""},{"$f":"IF(A6=\"\",\"\",IF(OR(VLOOKUP(RIGHT(A6,5)*1,'Data eshop'!D:O,12,FALSE)=\"Kurýrní službou\",VLOOKUP(RIGHT(A6,5)*1,'Data eshop'!D:O,12,FALSE)=\"Kuriérskou službou\",VLOOKUP(RIGHT(A6,5)*1,'Data eshop'!D:O,12,FALSE)=\"Usługa kurierską\"),MAX($P$1:P5)+1,\"\"))","v":""},""]
["",{"$f":"IF(F7=\"\",\"\",VLOOKUP(O7,DATA!R:S,2,FALSE)&VLOOKUP(Zakázky!F7+10000,'Místa dodání'!A:B,2,FALSE))","v":""},"","",{"$f":"IF(F7=\"\",\"\",VLOOKUP(VLOOKUP(F7,'Data eshop'!D:N,11,FALSE),DATA!A:B,2,FALSE))","v":""},{"$f":"IF('Místa dodání'!A8=\"\",\"\",'Místa dodání'!A8-10000)","v":""},{"$f":"IF(F7=\"\",\"\",VLOOKUP(VLOOKUP(F7,'Data eshop'!D:AD,12,FALSE),DATA!D:E,2,FALSE))","v":""},"","","","","","","",{"$f":"IF(A7=\"\",\"\",VLOOKUP(RIGHT(A7,5)*1,'Data eshop'!D:M,10,FALSE))","v":""},{"$f":"IF(A7=\"\",\"\",IF(OR(VLOOKUP(RIGHT(A7,5)*1,'Data eshop'!D:O,12,FALSE)=\"Kurýrní službou\",VLOOKUP(RIGHT(A7,5)*1,'Data eshop'!D:O,12,FALSE)=\"Kuriérskou službou\",VLOOKUP(RIGHT(A7,5)*1,'Data eshop'!D:O,12,FALSE)=\"Usługa kurierską\"),MAX($P$1:P6)+1,\"\"))","v":""},"","Roluj nahoru, až uvidíš žlutou"]
["",{"$f":"IF(F8=\"\",\"\",VLOOKUP(O8,DATA!R:S,2,FALSE)&VLOOKUP(Zakázky!F8+10000,'Místa dodání'!A:B,2,FALSE))","v":""},"","",{"$f":"IF(F8=\"\",\"\",VLOOKUP(VLOOKUP(F8,'Data eshop'!D:N,11,FALSE),DATA!A:B,2,FALSE))","v":""},{"$f":"IF('Místa dodání'!A9=\"\",\"\",'Místa dodání'!A9-10000)","v":""},{"$f":"IF(F8=\"\",\"\",VLOOKUP(VLOOKUP(F8,'Data eshop'!D:AD,12,FALSE),DATA!D:E,2,FALSE))","v":""},"","","","","","","",{"$f":"IF(A8=\"\",\"\",VLOOKUP(RIGHT(A8,5)*1,'Data eshop'!D:M,10,FALSE))","v":""},{"$f":"IF(A8=\"\",\"\",IF(OR(VLOOKUP(RIGHT(A8,5)*1,'Data eshop'!D:O,12,FALSE)=\"Kurýrní službou\",VLOOKUP(RIGHT(A8,5)*1,'Data eshop'!D:O,12,FALSE)=\"Kuriérskou službou\",VLOOKUP(RIGHT(A8,5)*1,'Data eshop'!D:O,12,FALSE)=\"Usługa kurierską\"),MAX($P$1:P7)+1,\"\"))","v":""},""]
["",{"$f":"IF(F9=\"\",\"\",VLOOKUP(O9,DATA!R:S,2,FALSE)&VLOOKUP(Zakázky!F9+10000,'Místa dodání'!A:B,2,FALSE))","v":""},"","",{"$f":"IF(F9=\"\",\"\",VLOOKUP(VLOOKUP(F9,'Data eshop'!D:N,11,FALSE),DATA!A:B,2,FALSE))","v":""},{"$f":"IF('Místa dodání'!A10=\"\",\"\",'Místa dodání'!A10-10000)","v":""},{"$f":"IF(F9=\"\",\"\",VLOOKUP(VLOOKUP(F9,'Data eshop'!D:AD,12,FALSE),DATA!D:E,2,FALSE))","v":""},"","","","","","","",{"$f":"IF(A9=\"\",\"\",VLOOKUP(RIGHT(A9,5)*1,'Data eshop'!D:M,10,FALSE))","v":""},{"$f":"IF(A9=\"\",\"\",IF(OR(VLOOKUP(RIGHT(A9,5)*1,'Data eshop'!D:O,12,FALSE)=\"Kurýrní službou\",VLOOKUP(RIGHT(A9,5)*1,'Data eshop'!D:O,12,FALSE)=\"Kuriérskou službou\",VLOOKUP(RIGHT(A9,5)*1,'Data eshop'!D:O,12,FALSE)=\"Usługa kurierską\"),MAX($P$1:P8)+1,\"\"))","v":""},""]
["",{"$f":"IF(F10=\"\",\"\",VLOOKUP(O10,DATA!R:S,2,FALSE)&VLOOKUP(Zakázky!F10+10000,'Místa dodání'!A:B,2,FALSE))","v":""},"","",{"$f":"IF(F10=\"\",\"\",VLOOKUP(VLOOKUP(F10,'Data eshop'!D:N,11,FALSE),DATA!A:B,2,FALSE))","v":""},{"$f":"IF('Místa dodání'!A11=\"\",\"\",'Místa dodání'!A11-10000)","v":""},{"$f":"IF(F10=\"\",\"\",VLOOKUP(VLOOKUP(F10,'Data eshop'!D:AD,12,FALSE),DATA!D:E,2,FALSE))","v":""},"","","","","","","",{"$f":"IF(A10=\"\",\"\",VLOOKUP(RIGHT(A10,5)*1,'Data eshop'!D:M,10,FALSE))","v":""},{"$f":"IF(A10=\"\",\"\",IF(OR(VLOOKUP(RIGHT(A10,5)*1,'Data eshop'!D:O,12,FALSE)=\"Kurýrní službou\",VLOOKUP(RIGHT(A10,5)*1,'Data eshop'!D:O,12,FALSE)=\"Kuriérskou službou\",VLOOKUP(RIGHT(A10,5)*1,'Data eshop'!D:O,12,FALSE)=\"Usługa kurierską\"),MAX($P$1:P9)+1,\"\"))","v":""},""]
["",{"$f":"IF(F11=\"\",\"\",VLOOKUP(O11,DATA!R:S,2,FALSE)&VLOOKUP(Zakázky!F11+10000,'Místa dodání'!A:B,2,FALSE))","v":""},"","",{"$f":"IF(F11=\"\",\"\",VLOOKUP(VLOOKUP(F11,'Data eshop'!D:N,11,FALSE),DATA!A:B,2,FALSE))","v":""},{"$f":"IF('Místa dodání'!A12=\"\",\"\",'Místa dodání'!A12-10000)","v":""},{"$f":"IF(F11=\"\",\"\",VLOOKUP(VLOOKUP(F11,'Data eshop'!D:AD,12,FALSE),DATA!D:E,2,FALSE))","v":""},"","","","","","","",{"$f":"IF(A11=\"\",\"\",VLOOKUP(RIGHT(A11,5)*1,'Data eshop'!D:M,10,FALSE))","v":""},{"$f":"IF(A11=\"\",\"\",IF(OR(VLOOKUP(RIGHT(A11,5)*1,'Data eshop'!D:O,12,FALSE)=\"Kurýrní službou\",VLOOKUP(RIGHT(A11,5)*1,'Data eshop'!D:O,12,FALSE)=\"Kuriérskou službou\",VLOOKUP(RIGHT(A11,5)*1,'Data eshop'!D:O,12,FALSE)=\"Usługa kurierską\"),MAX($P$1:P10)+1,\"\"))","v":""},"","Roluj nahoru, až uvidíš žlutou"]
["",{"$f":"IF(F12=\"\",\"\",VLOOKUP(O12,DATA!R:S,2,FALSE)&VLOOKUP(Zakázky!F12+10000,'Místa dodání'!A:B,2,FALSE))","v":""},"","",{"$f":"IF(F12=\"\",\"\",VLOOKUP(VLOOKUP(F12,'Data eshop'!D:N,11,FALSE),DATA!A:B,2,FALSE))","v":""},{"$f":"IF('Místa dodání'!A13=\"\",\"\",'Místa dodání'!A13-10000)","v":""},{"$f":"IF(F12=\"\",\"\",VLOOKUP(VLOOKUP(F12,'Data eshop'!D:AD,12,FALSE),DATA!D:E,2,FALSE))","v":""},"","","","","","","",{"$f":"IF(A12=\"\",\"\",VLOOKUP(RIGHT(A12,5)*1,'Data eshop'!D:M,10,FALSE))","v":""},{"$f":"IF(A12=\"\",\"\",IF(OR(VLOOKUP(RIGHT(A12,5)*1,'Data eshop'!D:O,12,FALSE)=\"Kurýrní službou\",VLOOKUP(RIGHT(A12,5)*1,'Data eshop'!D:O,12,FALSE)=\"Kuriérskou službou\",VLOOKUP(RIGHT(A12,5)*1,'Data eshop'!D:O,12,FALSE)=\"Usługa kurierską\"),MAX($P$1:P11)+1,\"\"))","v":""},""]
["",{"$f":"IF(F13=\"\",\"\",VLOOKUP(O13,DATA!R:S,2,FALSE)&VLOOKUP(Zakázky!F13+10000,'Místa dodání'!A:B,2,FALSE))","v":""},"","",{"$f":"IF(F13=\"\",\"\",VLOOKUP(VLOOKUP(F13,'Data eshop'!D:N,11,FALSE),DATA!A:B,2,FALSE))","v":""},{"$f":"IF('Místa dodání'!A14=\"\",\"\",'Místa dodání'!A14-10000)","v":""},{"$f":"IF(F13=\"\",\"\",VLOOKUP(VLOOKUP(F13,'Data eshop'!D:AD,12,FALSE),DATA!D:E,2,FALSE))","v":""},"","","","","","","",{"$f":"IF(A13=\"\",\"\",VLOOKUP(RIGHT(A13,5)*1,'Data eshop'!D:M,10,FALSE))","v":""},{"$f":"IF(A13=\"\",\"\",IF(OR(VLOOKUP(RIGHT(A13,5)*1,'Data eshop'!D:O,12,FALSE)=\"Kurýrní službou\",VLOOKUP(RIGHT(A13,5)*1,'Data eshop'!D:O,12,FALSE)=\"Kuriérskou službou\",VLOOKUP(RIGHT(A13,5)*1,'Data eshop'!D:O,12,FALSE)=\"Usługa kurierską\"),MAX($P$1:P12)+1,\"\"))","v":""},""]
["",{"$f":"IF(F14=\"\",\"\",VLOOKUP(O14,DATA!R:S,2,FALSE)&VLOOKUP(Zakázky!F14+10000,'Místa dodání'!A:B,2,FALSE))","v":""},"","",{"$f":"IF(F14=\"\",\"\",VLOOKUP(VLOOKUP(F14,'Data eshop'!D:N,11,FALSE),DATA!A:B,2,FALSE))","v":""},{"$f":"IF('Místa dodání'!A15=\"\",\"\",'Místa dodání'!A15-10000)","v":""},{"$f":"IF(F14=\"\",\"\",VLOOKUP(VLOOKUP(F14,'Data eshop'!D:AD,12,FALSE),DATA!D:E,2,FALSE))","v":""},"","","","","","","",{"$f":"IF(A14=\"\",\"\",VLOOKUP(RIGHT(A14,5)*1,'Data eshop'!D:M,10,FALSE))","v":""},{"$f":"IF(A14=\"\",\"\",IF(OR(VLOOKUP(RIGHT(A14,5)*1,'Data eshop'!D:O,12,FALSE)=\"Kurýrní službou\",VLOOKUP(RIGHT(A14,5)*1,'Data eshop'!D:O,12,FALSE)=\"Kuriérskou službou\",VLOOKUP(RIGHT(A14,5)*1,'Data eshop'!D:O,12,FALSE)=\"Usługa kurierską\"),MAX($P$1:P13)+1,\"\"))","v":""},""]
["",{"$f":"IF(F15=\"\",\"\",VLOOKUP(O15,DATA!R:S,2,FALSE)&VLOOKUP(Zakázky!F15+10000,'Místa dodání'!A:B,2,FALSE))","v":""},"","",{"$f":"IF(F15=\"\",\"\",VLOOKUP(VLOOKUP(F15,'Data eshop'!D:N,11,FALSE),DATA!A:B,2,FALSE))","v":""},{"$f":"IF('Místa dodání'!A16=\"\",\"\",'Místa dodání'!A16-10000)","v":""},{"$f":"IF(F15=\"\",\"\",VLOOKUP(VLOOKUP(F15,'Data eshop'!D:AD,12,FALSE),DATA!D:E,2,FALSE))","v":""},"","","","","","","",{"$f":"IF(A15=\"\",\"\",VLOOKUP(RIGHT(A15,5)*1,'Data eshop'!D:M,10,FALSE))","v":""},{"$f":"IF(A15=\"\",\"\",IF(OR(VLOOKUP(RIGHT(A15,5)*1,'Data eshop'!D:O,12,FALSE)=\"Kurýrní službou\",VLOOKUP(RIGHT(A15,5)*1,'Data eshop'!D:O,12,FALSE)=\"Kuriérskou službou\",VLOOKUP(RIGHT(A15,5)*1,'Data eshop'!D:O,12,FALSE)=\"Usługa kurierską\"),MAX($P$1:P14)+1,\"\"))","v":""},"","Roluj nahoru, až uvidíš žlutou"]
["",{"$f":"IF(F16=\"\",\"\",VLOOKUP(O16,DATA!R:S,2,FALSE)&VLOOKUP(Zakázky!F16+10000,'Místa dodání'!A:B,2,FALSE))","v":""},"","",{"$f":"IF(F16=\"\",\"\",VLOOKUP(VLOOKUP(F16,'Data eshop'!D:N,11,FALSE),DATA!A:B,2,FALSE))","v":""},{"$f":"IF('Místa dodání'!A17=\"\",\"\",'Místa dodání'!A17-10000)","v":""},{"$f":"IF(F16=\"\",\"\",VLOOKUP(VLOOKUP(F16,'Data eshop'!D:AD,12,FALSE),DATA!D:E,2,FALSE))","v":""},"","","","","","","",{"$f":"IF(A16=\"\",\"\",VLOOKUP(RIGHT(A16,5)*1,'Data eshop'!D:M,10,FALSE))","v":""},{"$f":"IF(A16=\"\",\"\",IF(OR(VLOOKUP(RIGHT(A16,5)*1,'Data eshop'!D:O,12,FALSE)=\"Kurýrní službou\",VLOOKUP(RIGHT(A16,5)*1,'Data eshop'!D:O,12,FALSE)=\"Kuriérskou službou\",VLOOKUP(RIGHT(A16,5)*1,'Data eshop'!D:O,12,FALSE)=\"Usługa kurierską\"),MAX($P$1:P15)+1,\"\"))","v":""},""]
["",{"$f":"IF(F17=\"\",\"\",VLOOKUP(O17,DATA!R:S,2,FALSE)&VLOOKUP(Zakázky!F17+10000,'Místa dodání'!A:B,2,FALSE))","v":""},"","",{"$f":"IF(F17=\"\",\"\",VLOOKUP(VLOOKUP(F17,'Data eshop'!D:N,11,FALSE),DATA!A:B,2,FALSE))","v":""},{"$f":"IF('Místa dodání'!A18=\"\",\"\",'Místa dodání'!A18-10000)","v":""},{"$f":"IF(F17=\"\",\"\",VLOOKUP(VLOOKUP(F17,'Data eshop'!D:AD,12,FALSE),DATA!D:E,2,FALSE))","v":""},"","","","","","","",{"$f":"IF(A17=\"\",\"\",VLOOKUP(RIGHT(A17,5)*1,'Data eshop'!D:M,10,FALSE))","v":""},{"$f":"IF(A17=\"\",\"\",IF(OR(VLOOKUP(RIGHT(A17,5)*1,'Data eshop'!D:O,12,FALSE)=\"Kurýrní službou\",VLOOKUP(RIGHT(A17,5)*1,'Data eshop'!D:O,12,FALSE)=\"Kuriérskou službou\",VLOOKUP(RIGHT(A17,5)*1,'Data eshop'!D:O,12,FALSE)=\"Usługa kurierską\"),MAX($P$1:P16)+1,\"\"))","v":""},""]
["",{"$f":"IF(F18=\"\",\"\",VLOOKUP(O18,DATA!R:S,2,FALSE)&VLOOKUP(Zakázky!F18+10000,'Místa dodání'!A:B,2,FALSE))","v":""},"","",{"$f":"IF(F18=\"\",\"\",VLOOKUP(VLOOKUP(F18,'Data eshop'!D:N,11,FALSE),DATA!A:B,2,FALSE))","v":""},{"$f":"IF('Místa dodání'!A19=\"\",\"\",'Místa dodání'!A19-10000)","v":""},{"$f":"IF(F18=\"\",\"\",VLOOKUP(VLOOKUP(F18,'Data eshop'!D:AD,12,FALSE),DATA!D:E,2,FALSE))","v":""},"","","","","","","",{"$f":"IF(A18=\"\",\"\",VLOOKUP(RIGHT(A18,5)*1,'Data eshop'!D:M,10,FALSE))","v":""},{"$f":"IF(A18=\"\",\"\",IF(OR(VLOOKUP(RIGHT(A18,5)*1,'Data eshop'!D:O,12,FALSE)=\"Kurýrní službou\",VLOOKUP(RIGHT(A18,5)*1,'Data eshop'!D:O,12,FALSE)=\"Kuriérskou službou\",VLOOKUP(RIGHT(A18,5)*1,'Data eshop'!D:O,12,FALSE)=\"Usługa kurierską\"),MAX($P$1:P17)+1,\"\"))","v":""},""]
["",{"$f":"IF(F19=\"\",\"\",VLOOKUP(O19,DATA!R:S,2,FALSE)&VLOOKUP(Zakázky!F19+10000,'Místa dodání'!A:B,2,FALSE))","v":""},"","",{"$f":"IF(F19=\"\",\"\",VLOOKUP(VLOOKUP(F19,'Data eshop'!D:N,11,FALSE),DATA!A:B,2,FALSE))","v":""},{"$f":"IF('Místa dodání'!A20=\"\",\"\",'Místa dodání'!A20-10000)","v":""},{"$f":"IF(F19=\"\",\"\",VLOOKUP(VLOOKUP(F19,'Data eshop'!D:AD,12,FALSE),DATA!D:E,2,FALSE))","v":""},"","","","","","","",{"$f":"IF(A19=\"\",\"\",VLOOKUP(RIGHT(A19,5)*1,'Data eshop'!D:M,10,FALSE))","v":""},{"$f":"IF(A19=\"\",\"\",IF(OR(VLOOKUP(RIGHT(A19,5)*1,'Data eshop'!D:O,12,FALSE)=\"Kurýrní službou\",VLOOKUP(RIGHT(A19,5)*1,'Data eshop'!D:O,12,FALSE)=\"Kuriérskou službou\",VLOOKUP(RIGHT(A19,5)*1,'Data eshop'!D:O,12,FALSE)=\"Usługa kurierską\"),MAX($P$1:P18)+1,\"\"))","v":""},"","Roluj nahoru, až uvidíš žlutou"]
["",{"$f":"IF(F20=\"\",\"\",VLOOKUP(O20,DATA!R:S,2,FALSE)&VLOOKUP(Zakázky!F20+10000,'Místa dodání'!A:B,2,FALSE))","v":""},"","",{"$f":"IF(F20=\"\",\"\",VLOOKUP(VLOOKUP(F20,'Data eshop'!D:N,11,FALSE),DATA!A:B,2,FALSE))","v":""},{"$f":"IF('Místa dodání'!A21=\"\",\"\",'Místa dodání'!A21-10000)","v":""},{"$f":"IF(F20=\"\",\"\",VLOOKUP(VLOOKUP(F20,'Data eshop'!D:AD,12,FALSE),DATA!D:E,2,FALSE))","v":""},"","","","","","","",{"$f":"IF(A20=\"\",\"\",VLOOKUP(RIGHT(A20,5)*1,'Data eshop'!D:M,10,FALSE))","v":""},{"$f":"IF(A20=\"\",\"\",IF(OR(VLOOKUP(RIGHT(A20,5)*1,'Data eshop'!D:O,12,FALSE)=\"Kurýrní službou\",VLOOKUP(RIGHT(A20,5)*1,'Data eshop'!D:O,12,FALSE)=\"Kuriérskou službou\",VLOOKUP(RIGHT(A20,5)*1,'Data eshop'!D:O,12,FALSE)=\"Usługa kurierską\"),MAX($P$1:P19)+1,\"\"))","v":""},""]
["",{"$f":"IF(F21=\"\",\"\",VLOOKUP(O21,DATA!R:S,2,FALSE)&VLOOKUP(Zakázky!F21+10000,'Místa dodání'!A:B,2,FALSE))","v":""},"","",{"$f":"IF(F21=\"\",\"\",VLOOKUP(VLOOKUP(F21,'Data eshop'!D:N,11,FALSE),DATA!A:B,2,FALSE))","v":""},{"$f":"IF('Místa dodání'!A22=\"\",\"\",'Místa dodání'!A22-10000)","v":""},{"$f":"IF(F21=\"\",\"\",VLOOKUP(VLOOKUP(F21,'Data eshop'!D:AD,12,FALSE),DATA!D:E,2,FALSE))","v":""},"","","","","","","",{"$f":"IF(A21=\"\",\"\",VLOOKUP(RIGHT(A21,5)*1,'Data eshop'!D:M,10,FALSE))","v":""},{"$f":"IF(A21=\"\",\"\",IF(OR(VLOOKUP(RIGHT(A21,5)*1,'Data eshop'!D:O,12,FALSE)=\"Kurýrní službou\",VLOOKUP(RIGHT(A21,5)*1,'Data eshop'!D:O,12,FALSE)=\"Kuriérskou službou\",VLOOKUP(RIGHT(A21,5)*1,'Data eshop'!D:O,12,FALSE)=\"Usługa kurierską\"),MAX($P$1:P20)+1,\"\"))","v":""},""]
["",{"$f":"IF(F22=\"\",\"\",VLOOKUP(O22,DATA!R:S,2,FALSE)&VLOOKUP(Zakázky!F22+10000,'Místa dodání'!A:B,2,FALSE))","v":""},"","",{"$f":"IF(F22=\"\",\"\",VLOOKUP(VLOOKUP(F22,'Data eshop'!D:N,11,FALSE),DATA!A:B,2,FALSE))","v":""},{"$f":"IF('Místa dodání'!A23=\"\",\"\",'Místa dodání'!A23-10000)","v":""},{"$f":"IF(F22=\"\",\"\",VLOOKUP(VLOOKUP(F22,'Data eshop'!D:AD,12,FALSE),DATA!D:E,2,FALSE))","v":""},"","","","","","","",{"$f":"IF(A22=\"\",\"\",VLOOKUP(RIGHT(A22,5)*1,'Data eshop'!D:M,10,FALSE))","v":""},{"$f":"IF(A22=\"\",\"\",IF(OR(VLOOKUP(RIGHT(A22,5)*1,'Data eshop'!D:O,12,FALSE)=\"Kurýrní službou\",VLOOKUP(RIGHT(A22,5)*1,'Data eshop'!D:O,12,FALSE)=\"Kuriérskou službou\",VLOOKUP(RIGHT(A22,5)*1,'Data eshop'!D:O,12,FALSE)=\"Usługa kurierską\"),MAX($P$1:P21)+1,\"\"))","v":""},""]
["",{"$f":"IF(F23=\"\",\"\",VLOOKUP(O23,DATA!R:S,2,FALSE)&VLOOKUP(Zakázky!F23+10000,'Místa dodání'!A:B,2,FALSE))","v":""},"","",{"$f":"IF(F23=\"\",\"\",VLOOKUP(VLOOKUP(F23,'Data eshop'!D:N,11,FALSE),DATA!A:B,2,FALSE))","v":""},{"$f":"IF('Místa dodání'!A24=\"\",\"\",'Místa dodání'!A24-10000)","v":""},{"$f":"IF(F23=\"\",\"\",VLOOKUP(VLOOKUP(F23,'Data eshop'!D:AD,12,FALSE),DATA!D:E,2,FALSE))","v":""},"","","","","","","",{"$f":"IF(A23=\"\",\"\",VLOOKUP(RIGHT(A23,5)*1,'Data eshop'!D:M,10,FALSE))","v":""},{"$f":"IF(A23=\"\",\"\",IF(OR(VLOOKUP(RIGHT(A23,5)*1,'Data eshop'!D:O,12,FALSE)=\"Kurýrní službou\",VLOOKUP(RIGHT(A23,5)*1,'Data eshop'!D:O,12,FALSE)=\"Kuriérskou službou\",VLOOKUP(RIGHT(A23,5)*1,'Data eshop'!D:O,12,FALSE)=\"Usługa kurierską\"),MAX($P$1:P22)+1,\"\"))","v":""},"","Roluj nahoru, až uvidíš žlutou"]
["",{"$f":"IF(F24=\"\",\"\",VLOOKUP(O24,DATA!R:S,2,FALSE)&VLOOKUP(Zakázky!F24+10000,'Místa dodání'!A:B,2,FALSE))","v":""},"","",{"$f":"IF(F24=\"\",\"\",VLOOKUP(VLOOKUP(F24,'Data eshop'!D:N,11,FALSE),DATA!A:B,2,FALSE))","v":""},{"$f":"IF('Místa dodání'!A25=\"\",\"\",'Místa dodání'!A25-10000)","v":""},{"$f":"IF(F24=\"\",\"\",VLOOKUP(VLOOKUP(F24,'Data eshop'!D:AD,12,FALSE),DATA!D:E,2,FALSE))","v":""},"","","","","","","",{"$f":"IF(A24=\"\",\"\",VLOOKUP(RIGHT(A24,5)*1,'Data eshop'!D:M,10,FALSE))","v":""},{"$f":"IF(A24=\"\",\"\",IF(OR(VLOOKUP(RIGHT(A24,5)*1,'Data eshop'!D:O,12,FALSE)=\"Kurýrní službou\",VLOOKUP(RIGHT(A24,5)*1,'Data eshop'!D:O,12,FALSE)=\"Kuriérskou službou\",VLOOKUP(RIGHT(A24,5)*1,'Data eshop'!D:O,12,FALSE)=\"Usługa kurierską\"),MAX($P$1:P23)+1,\"\"))","v":""},""]
["",{"$f":"IF(F25=\"\",\"\",VLOOKUP(O25,DATA!R:S,2,FALSE)&VLOOKUP(Zakázky!F25+10000,'Místa dodání'!A:B,2,FALSE))","v":""},"","",{"$f":"IF(F25=\"\",\"\",VLOOKUP(VLOOKUP(F25,'Data eshop'!D:N,11,FALSE),DATA!A:B,2,FALSE))","v":""},{"$f":"IF('Místa dodání'!A26=\"\",\"\",'Místa dodání'!A26-10000)","v":""},{"$f":"IF(F25=\"\",\"\",VLOOKUP(VLOOKUP(F25,'Data eshop'!D:AD,12,FALSE),DATA!D:E,2,FALSE))","v":""},"","","","","","","",{"$f":"IF(A25=\"\",\"\",VLOOKUP(RIGHT(A25,5)*1,'Data eshop'!D:M,10,FALSE))","v":""},{"$f":"IF(A25=\"\",\"\",IF(OR(VLOOKUP(RIGHT(A25,5)*1,'Data eshop'!D:O,12,FALSE)=\"Kurýrní službou\",VLOOKUP(RIGHT(A25,5)*1,'Data eshop'!D:O,12,FALSE)=\"Kuriérskou službou\",VLOOKUP(RIGHT(A25,5)*1,'Data eshop'!D:O,12,FALSE)=\"Usługa kurierską\"),MAX($P$1:P24)+1,\"\"))","v":""},""]
["",{"$f":"IF(F26=\"\",\"\",VLOOKUP(O26,DATA!R:S,2,FALSE)&VLOOKUP(Zakázky!F26+10000,'Místa dodání'!A:B,2,FALSE))","v":""},"","",{"$f":"IF(F26=\"\",\"\",VLOOKUP(VLOOKUP(F26,'Data eshop'!D:N,11,FALSE),DATA!A:B,2,FALSE))","v":""},{"$f":"IF('Místa dodání'!A27=\"\",\"\",'Místa dodání'!A27-10000)","v":""},{"$f":"IF(F26=\"\",\"\",VLOOKUP(VLOOKUP(F26,'Data eshop'!D:AD,12,FALSE),DATA!D:E,2,FALSE))","v":""},"","","","","","","",{"$f":"IF(A26=\"\",\"\",VLOOKUP(RIGHT(A26,5)*1,'Data eshop'!D:M,10,FALSE))","v":""},{"$f":"IF(A26=\"\",\"\",IF(OR(VLOOKUP(RIGHT(A26,5)*1,'Data eshop'!D:O,12,FALSE)=\"Kurýrní službou\",VLOOKUP(RIGHT(A26,5)*1,'Data eshop'!D:O,12,FALSE)=\"Kuriérskou službou\",VLOOKUP(RIGHT(A26,5)*1,'Data eshop'!D:O,12,FALSE)=\"Usługa kurierską\"),MAX($P$1:P25)+1,\"\"))","v":""},""]
["",{"$f":"IF(F27=\"\",\"\",VLOOKUP(O27,DATA!R:S,2,FALSE)&VLOOKUP(Zakázky!F27+10000,'Místa dodání'!A:B,2,FALSE))","v":""},"","",{"$f":"IF(F27=\"\",\"\",VLOOKUP(VLOOKUP(F27,'Data eshop'!D:N,11,FALSE),DATA!A:B,2,FALSE))","v":""},{"$f":"IF('Místa dodání'!A28=\"\",\"\",'Místa dodání'!A28-10000)","v":""},{"$f":"IF(F27=\"\",\"\",VLOOKUP(VLOOKUP(F27,'Data eshop'!D:AD,12,FALSE),DATA!D:E,2,FALSE))","v":""},"","","","","","","",{"$f":"IF(A27=\"\",\"\",VLOOKUP(RIGHT(A27,5)*1,'Data eshop'!D:M,10,FALSE))","v":""},{"$f":"IF(A27=\"\",\"\",IF(OR(VLOOKUP(RIGHT(A27,5)*1,'Data eshop'!D:O,12,FALSE)=\"Kurýrní službou\",VLOOKUP(RIGHT(A27,5)*1,'Data eshop'!D:O,12,FALSE)=\"Kuriérskou službou\",VLOOKUP(RIGHT(A27,5)*1,'Data eshop'!D:O,12,FALSE)=\"Usługa kurierską\"),MAX($P$1:P26)+1,\"\"))","v":""},"","Roluj nahoru, až uvidíš žlutou"]
["",{"$f":"IF(F28=\"\",\"\",VLOOKUP(O28,DATA!R:S,2,FALSE)&VLOOKUP(Zakázky!F28+10000,'Místa dodání'!A:B,2,FALSE))","v":""},"","",{"$f":"IF(F28=\"\",\"\",VLOOKUP(VLOOKUP(F28,'Data eshop'!D:N,11,FALSE),DATA!A:B,2,FALSE))","v":""},{"$f":"IF('Místa dodání'!A29=\"\",\"\",'Místa dodání'!A29-10000)","v":""},{"$f":"IF(F28=\"\",\"\",VLOOKUP(VLOOKUP(F28,'Data eshop'!D:AD,12,FALSE),DATA!D:E,2,FALSE))","v":""},"","","","","","","",{"$f":"IF(A28=\"\",\"\",VLOOKUP(RIGHT(A28,5)*1,'Data eshop'!D:M,10,FALSE))","v":""},{"$f":"IF(A28=\"\",\"\",IF(OR(VLOOKUP(RIGHT(A28,5)*1,'Data eshop'!D:O,12,FALSE)=\"Kurýrní službou\",VLOOKUP(RIGHT(A28,5)*1,'Data eshop'!D:O,12,FALSE)=\"Kuriérskou službou\",VLOOKUP(RIGHT(A28,5)*1,'Data eshop'!D:O,12,FALSE)=\"Usługa kurierską\"),MAX($P$1:P27)+1,\"\"))","v":""},""]
["",{"$f":"IF(F29=\"\",\"\",VLOOKUP(O29,DATA!R:S,2,FALSE)&VLOOKUP(Zakázky!F29+10000,'Místa dodání'!A:B,2,FALSE))","v":""},"","",{"$f":"IF(F29=\"\",\"\",VLOOKUP(VLOOKUP(F29,'Data eshop'!D:N,11,FALSE),DATA!A:B,2,FALSE))","v":""},{"$f":"IF('Místa dodání'!A30=\"\",\"\",'Místa dodání'!A30-10000)","v":""},{"$f":"IF(F29=\"\",\"\",VLOOKUP(VLOOKUP(F29,'Data eshop'!D:AD,12,FALSE),DATA!D:E,2,FALSE))","v":""},"","","","","","","",{"$f":"IF(A29=\"\",\"\",VLOOKUP(RIGHT(A29,5)*1,'Data eshop'!D:M,10,FALSE))","v":""},{"$f":"IF(A29=\"\",\"\",IF(OR(VLOOKUP(RIGHT(A29,5)*1,'Data eshop'!D:O,12,FALSE)=\"Kurýrní službou\",VLOOKUP(RIGHT(A29,5)*1,'Data eshop'!D:O,12,FALSE)=\"Kuriérskou službou\",VLOOKUP(RIGHT(A29,5)*1,'Data eshop'!D:O,12,FALSE)=\"Usługa kurierską\"),MAX($P$1:P28)+1,\"\"))","v":""},""]
["",{"$f":"IF(F30=\"\",\"\",VLOOKUP(O30,DATA!R:S,2,FALSE)&VLOOKUP(Zakázky!F30+10000,'Místa dodání'!A:B,2,FALSE))","v":""},"","",{"$f":"IF(F30=\"\",\"\",VLOOKUP(VLOOKUP(F30,'Data eshop'!D:N,11,FALSE),DATA!A:B,2,FALSE))","v":""},{"$f":"IF('Místa dodání'!A31=\"\",\"\",'Místa dodání'!A31-10000)","v":""},{"$f":"IF(F30=\"\",\"\",VLOOKUP(VLOOKUP(F30,'Data eshop'!D:AD,12,FALSE),DATA!D:E,2,FALSE))","v":""},"","","","","","","",{"$f":"IF(A30=\"\",\"\",VLOOKUP(RIGHT(A30,5)*1,'Data eshop'!D:M,10,FALSE))","v":""},{"$f":"IF(A30=\"\",\"\",IF(OR(VLOOKUP(RIGHT(A30,5)*1,'Data eshop'!D:O,12,FALSE)=\"Kurýrní službou\",VLOOKUP(RIGHT(A30,5)*1,'Data eshop'!D:O,12,FALSE)=\"Kuriérskou službou\",VLOOKUP(RIGHT(A30,5)*1,'Data eshop'!D:O,12,FALSE)=\"Usługa kurierską\"),MAX($P$1:P29)+1,\"\"))","v":""},""]
["",{"$f":"IF(F31=\"\",\"\",VLOOKUP(O31,DATA!R:S,2,FALSE)&VLOOKUP(Zakázky!F31+10000,'Místa dodání'!A:B,2,FALSE))","v":""},"","",{"$f":"IF(F31=\"\",\"\",VLOOKUP(VLOOKUP(F31,'Data eshop'!D:N,11,FALSE),DATA!A:B,2,FALSE))","v":""},{"$f":"IF('Místa dodání'!A32=\"\",\"\",'Místa dodání'!A32-10000)","v":""},{"$f":"IF(F31=\"\",\"\",VLOOKUP(VLOOKUP(F31,'Data eshop'!D:AD,12,FALSE),DATA!D:E,2,FALSE))","v":""},"","","","","","","",{"$f":"IF(A31=\"\",\"\",VLOOKUP(RIGHT(A31,5)*1,'Data eshop'!D:M,10,FALSE))","v":""},{"$f":"IF(A31=\"\",\"\",IF(OR(VLOOKUP(RIGHT(A31,5)*1,'Data eshop'!D:O,12,FALSE)=\"Kurýrní službou\",VLOOKUP(RIGHT(A31,5)*1,'Data eshop'!D:O,12,FALSE)=\"Kuriérskou službou\",VLOOKUP(RIGHT(A31,5)*1,'Data eshop'!D:O,12,FALSE)=\"Usługa kurierską\"),MAX($P$1:P30)+1,\"\"))","v":""},"","Roluj nahoru, až uvidíš žlutou"]
["",{"$f":"IF(F32=\"\",\"\",VLOOKUP(O32,DATA!R:S,2,FALSE)&VLOOKUP(Zakázky!F32+10000,'Místa dodání'!A:B,2,FALSE))","v":""},"","",{"$f":"IF(F32=\"\",\"\",VLOOKUP(VLOOKUP(F32,'Data eshop'!D:N,11,FALSE),DATA!A:B,2,FALSE))","v":""},{"$f":"IF('Místa dodání'!A33=\"\",\"\",'Místa dodání'!A33-10000)","v":""},{"$f":"IF(F32=\"\",\"\",VLOOKUP(VLOOKUP(F32,'Data eshop'!D:AD,12,FALSE),DATA!D:E,2,FALSE))","v":""},"","","","","","","",{"$f":"IF(A32=\"\",\"\",VLOOKUP(RIGHT(A32,5)*1,'Data eshop'!D:M,10,FALSE))","v":""},{"$f":"IF(A32=\"\",\"\",IF(OR(VLOOKUP(RIGHT(A32,5)*1,'Data eshop'!D:O,12,FALSE)=\"Kurýrní službou\",VLOOKUP(RIGHT(A32,5)*1,'Data eshop'!D:O,12,FALSE)=\"Kuriérskou službou\",VLOOKUP(RIGHT(A32,5)*1,'Data eshop'!D:O,12,FALSE)=\"Usługa kurierską\"),MAX($P$1:P31)+1,\"\"))","v":""},""]
["",{"$f":"IF(F33=\"\",\"\",VLOOKUP(O33,DATA!R:S,2,FALSE)&VLOOKUP(Zakázky!F33+10000,'Místa dodání'!A:B,2,FALSE))","v":""},"","",{"$f":"IF(F33=\"\",\"\",VLOOKUP(VLOOKUP(F33,'Data eshop'!D:N,11,FALSE),DATA!A:B,2,FALSE))","v":""},{"$f":"IF('Místa dodání'!A34=\"\",\"\",'Místa dodání'!A34-10000)","v":""},{"$f":"IF(F33=\"\",\"\",VLOOKUP(VLOOKUP(F33,'Data eshop'!D:AD,12,FALSE),DATA!D:E,2,FALSE))","v":""},"","","","","","","",{"$f":"IF(A33=\"\",\"\",VLOOKUP(RIGHT(A33,5)*1,'Data eshop'!D:M,10,FALSE))","v":""},{"$f":"IF(A33=\"\",\"\",IF(OR(VLOOKUP(RIGHT(A33,5)*1,'Data eshop'!D:O,12,FALSE)=\"Kurýrní službou\",VLOOKUP(RIGHT(A33,5)*1,'Data eshop'!D:O,12,FALSE)=\"Kuriérskou službou\",VLOOKUP(RIGHT(A33,5)*1,'Data eshop'!D:O,12,FALSE)=\"Usługa kurierską\"),MAX($P$1:P32)+1,\"\"))","v":""},""]
["",{"$f":"IF(F34=\"\",\"\",VLOOKUP(O34,DATA!R:S,2,FALSE)&VLOOKUP(Zakázky!F34+10000,'Místa dodání'!A:B,2,FALSE))","v":""},"","",{"$f":"IF(F34=\"\",\"\",VLOOKUP(VLOOKUP(F34,'Data eshop'!D:N,11,FALSE),DATA!A:B,2,FALSE))","v":""},{"$f":"IF('Místa dodání'!A35=\"\",\"\",'Místa dodání'!A35-10000)","v":""},{"$f":"IF(F34=\"\",\"\",VLOOKUP(VLOOKUP(F34,'Data eshop'!D:AD,12,FALSE),DATA!D:E,2,FALSE))","v":""},"","","","","","","",{"$f":"IF(A34=\"\",\"\",VLOOKUP(RIGHT(A34,5)*1,'Data eshop'!D:M,10,FALSE))","v":""},{"$f":"IF(A34=\"\",\"\",IF(OR(VLOOKUP(RIGHT(A34,5)*1,'Data eshop'!D:O,12,FALSE)=\"Kurýrní službou\",VLOOKUP(RIGHT(A34,5)*1,'Data eshop'!D:O,12,FALSE)=\"Kuriérskou službou\",VLOOKUP(RIGHT(A34,5)*1,'Data eshop'!D:O,12,FALSE)=\"Usługa kurierską\"),MAX($P$1:P33)+1,\"\"))","v":""},""]
["",{"$f":"IF(F35=\"\",\"\",VLOOKUP(O35,DATA!R:S,2,FALSE)&VLOOKUP(Zakázky!F35+10000,'Místa dodání'!A:B,2,FALSE))","v":""},"","",{"$f":"IF(F35=\"\",\"\",VLOOKUP(VLOOKUP(F35,'Data eshop'!D:N,11,FALSE),DATA!A:B,2,FALSE))","v":""},{"$f":"IF('Místa dodání'!A36=\"\",\"\",'Místa dodání'!A36-10000)","v":""},{"$f":"IF(F35=\"\",\"\",VLOOKUP(VLOOKUP(F35,'Data eshop'!D:AD,12,FALSE),DATA!D:E,2,FALSE))","v":""},"","","","","","","",{"$f":"IF(A35=\"\",\"\",VLOOKUP(RIGHT(A35,5)*1,'Data eshop'!D:M,10,FALSE))","v":""},{"$f":"IF(A35=\"\",\"\",IF(OR(VLOOKUP(RIGHT(A35,5)*1,'Data eshop'!D:O,12,FALSE)=\"Kurýrní službou\",VLOOKUP(RIGHT(A35,5)*1,'Data eshop'!D:O,12,FALSE)=\"Kuriérskou službou\",VLOOKUP(RIGHT(A35,5)*1,'Data eshop'!D:O,12,FALSE)=\"Usługa kurierską\"),MAX($P$1:P34)+1,\"\"))","v":""},"","Roluj nahoru, až uvidíš žlutou"]
["",{"$f":"IF(F36=\"\",\"\",VLOOKUP(O36,DATA!R:S,2,FALSE)&VLOOKUP(Zakázky!F36+10000,'Místa dodání'!A:B,2,FALSE))","v":""},"","",{"$f":"IF(F36=\"\",\"\",VLOOKUP(VLOOKUP(F36,'Data eshop'!D:N,11,FALSE),DATA!A:B,2,FALSE))","v":""},{"$f":"IF('Místa dodání'!A37=\"\",\"\",'Místa dodání'!A37-10000)","v":""},{"$f":"IF(F36=\"\",\"\",VLOOKUP(VLOOKUP(F36,'Data eshop'!D:AD,12,FALSE),DATA!D:E,2,FALSE))","v":""},"","","","","","","",{"$f":"IF(A36=\"\",\"\",VLOOKUP(RIGHT(A36,5)*1,'Data eshop'!D:M,10,FALSE))","v":""},{"$f":"IF(A36=\"\",\"\",IF(OR(VLOOKUP(RIGHT(A36,5)*1,'Data eshop'!D:O,12,FALSE)=\"Kurýrní službou\",VLOOKUP(RIGHT(A36,5)*1,'Data eshop'!D:O,12,FALSE)=\"Kuriérskou službou\",VLOOKUP(RIGHT(A36,5)*1,'Data eshop'!D:O,12,FALSE)=\"Usługa kurierską\"),MAX($P$1:P35)+1,\"\"))","v":""},""]
["",{"$f":"IF(F37=\"\",\"\",VLOOKUP(O37,DATA!R:S,2,FALSE)&VLOOKUP(Zakázky!F37+10000,'Místa dodání'!A:B,2,FALSE))","v":""},"","",{"$f":"IF(F37=\"\",\"\",VLOOKUP(VLOOKUP(F37,'Data eshop'!D:N,11,FALSE),DATA!A:B,2,FALSE))","v":""},{"$f":"IF('Místa dodání'!A38=\"\",\"\",'Místa dodání'!A38-10000)","v":""},{"$f":"IF(F37=\"\",\"\",VLOOKUP(VLOOKUP(F37,'Data eshop'!D:AD,12,FALSE),DATA!D:E,2,FALSE))","v":""},"","","","","","","",{"$f":"IF(A37=\"\",\"\",VLOOKUP(RIGHT(A37,5)*1,'Data eshop'!D:M,10,FALSE))","v":""},{"$f":"IF(A37=\"\",\"\",IF(OR(VLOOKUP(RIGHT(A37,5)*1,'Data eshop'!D:O,12,FALSE)=\"Kurýrní službou\",VLOOKUP(RIGHT(A37,5)*1,'Data eshop'!D:O,12,FALSE)=\"Kuriérskou službou\",VLOOKUP(RIGHT(A37,5)*1,'Data eshop'!D:O,12,FALSE)=\"Usługa kurierską\"),MAX($P$1:P36)+1,\"\"))","v":""},""]
["",{"$f":"IF(F38=\"\",\"\",VLOOKUP(O38,DATA!R:S,2,FALSE)&VLOOKUP(Zakázky!F38+10000,'Místa dodání'!A:B,2,FALSE))","v":""},"","",{"$f":"IF(F38=\"\",\"\",VLOOKUP(VLOOKUP(F38,'Data eshop'!D:N,11,FALSE),DATA!A:B,2,FALSE))","v":""},{"$f":"IF('Místa dodání'!A39=\"\",\"\",'Místa dodání'!A39-10000)","v":""},{"$f":"IF(F38=\"\",\"\",VLOOKUP(VLOOKUP(F38,'Data eshop'!D:AD,12,FALSE),DATA!D:E,2,FALSE))","v":""},"","","","","","","",{"$f":"IF(A38=\"\",\"\",VLOOKUP(RIGHT(A38,5)*1,'Data eshop'!D:M,10,FALSE))","v":""},{"$f":"IF(A38=\"\",\"\",IF(OR(VLOOKUP(RIGHT(A38,5)*1,'Data eshop'!D:O,12,FALSE)=\"Kurýrní službou\",VLOOKUP(RIGHT(A38,5)*1,'Data eshop'!D:O,12,FALSE)=\"Kuriérskou službou\",VLOOKUP(RIGHT(A38,5)*1,'Data eshop'!D:O,12,FALSE)=\"Usługa kurierską\"),MAX($P$1:P37)+1,\"\"))","v":""},""]
["",{"$f":"IF(F39=\"\",\"\",VLOOKUP(O39,DATA!R:S,2,FALSE)&VLOOKUP(Zakázky!F39+10000,'Místa dodání'!A:B,2,FALSE))","v":""},"","",{"$f":"IF(F39=\"\",\"\",VLOOKUP(VLOOKUP(F39,'Data eshop'!D:N,11,FALSE),DATA!A:B,2,FALSE))","v":""},{"$f":"IF('Místa dodání'!A40=\"\",\"\",'Místa dodání'!A40-10000)","v":""},{"$f":"IF(F39=\"\",\"\",VLOOKUP(VLOOKUP(F39,'Data eshop'!D:AD,12,FALSE),DATA!D:E,2,FALSE))","v":""},"","","","","","","",{"$f":"IF(A39=\"\",\"\",VLOOKUP(RIGHT(A39,5)*1,'Data eshop'!D:M,10,FALSE))","v":""},{"$f":"IF(A39=\"\",\"\",IF(OR(VLOOKUP(RIGHT(A39,5)*1,'Data eshop'!D:O,12,FALSE)=\"Kurýrní službou\",VLOOKUP(RIGHT(A39,5)*1,'Data eshop'!D:O,12,FALSE)=\"Kuriérskou službou\",VLOOKUP(RIGHT(A39,5)*1,'Data eshop'!D:O,12,FALSE)=\"Usługa kurierską\"),MAX($P$1:P38)+1,\"\"))","v":""},"","Roluj nahoru, až uvidíš žlutou"]
["",{"$f":"IF(F40=\"\",\"\",VLOOKUP(O40,DATA!R:S,2,FALSE)&VLOOKUP(Zakázky!F40+10000,'Místa dodání'!A:B,2,FALSE))","v":""},"","",{"$f":"IF(F40=\"\",\"\",VLOOKUP(VLOOKUP(F40,'Data eshop'!D:N,11,FALSE),DATA!A:B,2,FALSE))","v":""},{"$f":"IF('Místa dodání'!A41=\"\",\"\",'Místa dodání'!A41-10000)","v":""},{"$f":"IF(F40=\"\",\"\",VLOOKUP(VLOOKUP(F40,'Data eshop'!D:AD,12,FALSE),DATA!D:E,2,FALSE))","v":""},"","","","","","","",{"$f":"IF(A40=\"\",\"\",VLOOKUP(RIGHT(A40,5)*1,'Data eshop'!D:M,10,FALSE))","v":""},{"$f":"IF(A40=\"\",\"\",IF(OR(VLOOKUP(RIGHT(A40,5)*1,'Data eshop'!D:O,12,FALSE)=\"Kurýrní službou\",VLOOKUP(RIGHT(A40,5)*1,'Data eshop'!D:O,12,FALSE)=\"Kuriérskou službou\",VLOOKUP(RIGHT(A40,5)*1,'Data eshop'!D:O,12,FALSE)=\"Usługa kurierską\"),MAX($P$1:P39)+1,\"\"))","v":""},""]
["",{"$f":"IF(F41=\"\",\"\",VLOOKUP(O41,DATA!R:S,2,FALSE)&VLOOKUP(Zakázky!F41+10000,'Místa dodání'!A:B,2,FALSE))","v":""},"","",{"$f":"IF(F41=\"\",\"\",VLOOKUP(VLOOKUP(F41,'Data eshop'!D:N,11,FALSE),DATA!A:B,2,FALSE))","v":""},{"$f":"IF('Místa dodání'!A42=\"\",\"\",'Místa dodání'!A42-10000)","v":""},{"$f":"IF(F41=\"\",\"\",VLOOKUP(VLOOKUP(F41,'Data eshop'!D:AD,12,FALSE),DATA!D:E,2,FALSE))","v":""},"","","","","","","",{"$f":"IF(A41=\"\",\"\",VLOOKUP(RIGHT(A41,5)*1,'Data eshop'!D:M,10,FALSE))","v":""},{"$f":"IF(A41=\"\",\"\",IF(OR(VLOOKUP(RIGHT(A41,5)*1,'Data eshop'!D:O,12,FALSE)=\"Kurýrní službou\",VLOOKUP(RIGHT(A41,5)*1,'Data eshop'!D:O,12,FALSE)=\"Kuriérskou službou\",VLOOKUP(RIGHT(A41,5)*1,'Data eshop'!D:O,12,FALSE)=\"Usługa kurierską\"),MAX($P$1:P40)+1,\"\"))","v":""},""]
["",{"$f":"IF(F42=\"\",\"\",VLOOKUP(O42,DATA!R:S,2,FALSE)&VLOOKUP(Zakázky!F42+10000,'Místa dodání'!A:B,2,FALSE))","v":""},"","",{"$f":"IF(F42=\"\",\"\",VLOOKUP(VLOOKUP(F42,'Data eshop'!D:N,11,FALSE),DATA!A:B,2,FALSE))","v":""},{"$f":"IF('Místa dodání'!A43=\"\",\"\",'Místa dodání'!A43-10000)","v":""},{"$f":"IF(F42=\"\",\"\",VLOOKUP(VLOOKUP(F42,'Data eshop'!D:AD,12,FALSE),DATA!D:E,2,FALSE))","v":""},"","","","","","","",{"$f":"IF(A42=\"\",\"\",VLOOKUP(RIGHT(A42,5)*1,'Data eshop'!D:M,10,FALSE))","v":""},{"$f":"IF(A42=\"\",\"\",IF(OR(VLOOKUP(RIGHT(A42,5)*1,'Data eshop'!D:O,12,FALSE)=\"Kurýrní službou\",VLOOKUP(RIGHT(A42,5)*1,'Data eshop'!D:O,12,FALSE)=\"Kuriérskou službou\",VLOOKUP(RIGHT(A42,5)*1,'Data eshop'!D:O,12,FALSE)=\"Usługa kurierską\"),MAX($P$1:P41)+1,\"\"))","v":""},""]
["",{"$f":"IF(F43=\"\",\"\",VLOOKUP(O43,DATA!R:S,2,FALSE)&VLOOKUP(Zakázky!F43+10000,'Místa dodání'!A:B,2,FALSE))","v":""},"","",{"$f":"IF(F43=\"\",\"\",VLOOKUP(VLOOKUP(F43,'Data eshop'!D:N,11,FALSE),DATA!A:B,2,FALSE))","v":""},{"$f":"IF('Místa dodání'!A44=\"\",\"\",'Místa dodání'!A44-10000)","v":""},{"$f":"IF(F43=\"\",\"\",VLOOKUP(VLOOKUP(F43,'Data eshop'!D:AD,12,FALSE),DATA!D:E,2,FALSE))","v":""},"","","","","","","",{"$f":"IF(A43=\"\",\"\",VLOOKUP(RIGHT(A43,5)*1,'Data eshop'!D:M,10,FALSE))","v":""},{"$f":"IF(A43=\"\",\"\",IF(OR(VLOOKUP(RIGHT(A43,5)*1,'Data eshop'!D:O,12,FALSE)=\"Kurýrní službou\",VLOOKUP(RIGHT(A43,5)*1,'Data eshop'!D:O,12,FALSE)=\"Kuriérskou službou\",VLOOKUP(RIGHT(A43,5)*1,'Data eshop'!D:O,12,FALSE)=\"Usługa kurierską\"),MAX($P$1:P42)+1,\"\"))","v":""},"","Roluj nahoru, až uvidíš žlutou"]
["",{"$f":"IF(F44=\"\",\"\",VLOOKUP(O44,DATA!R:S,2,FALSE)&VLOOKUP(Zakázky!F44+10000,'Místa dodání'!A:B,2,FALSE))","v":""},"","",{"$f":"IF(F44=\"\",\"\",VLOOKUP(VLOOKUP(F44,'Data eshop'!D:N,11,FALSE),DATA!A:B,2,FALSE))","v":""},{"$f":"IF('Místa dodání'!A45=\"\",\"\",'Místa dodání'!A45-10000)","v":""},{"$f":"IF(F44=\"\",\"\",VLOOKUP(VLOOKUP(F44,'Data eshop'!D:AD,12,FALSE),DATA!D:E,2,FALSE))","v":""},"","","","","","","",{"$f":"IF(A44=\"\",\"\",VLOOKUP(RIGHT(A44,5)*1,'Data eshop'!D:M,10,FALSE))","v":""},{"$f":"IF(A44=\"\",\"\",IF(OR(VLOOKUP(RIGHT(A44,5)*1,'Data eshop'!D:O,12,FALSE)=\"Kurýrní službou\",VLOOKUP(RIGHT(A44,5)*1,'Data eshop'!D:O,12,FALSE)=\"Kuriérskou službou\",VLOOKUP(RIGHT(A44,5)*1,'Data eshop'!D:O,12,FALSE)=\"Usługa kurierską\"),MAX($P$1:P43)+1,\"\"))","v":""},""]
["",{"$f":"IF(F45=\"\",\"\",VLOOKUP(O45,DATA!R:S,2,FALSE)&VLOOKUP(Zakázky!F45+10000,'Místa dodání'!A:B,2,FALSE))","v":""},"","",{"$f":"IF(F45=\"\",\"\",VLOOKUP(VLOOKUP(F45,'Data eshop'!D:N,11,FALSE),DATA!A:B,2,FALSE))","v":""},{"$f":"IF('Místa dodání'!A46=\"\",\"\",'Místa dodání'!A46-10000)","v":""},{"$f":"IF(F45=\"\",\"\",VLOOKUP(VLOOKUP(F45,'Data eshop'!D:AD,12,FALSE),DATA!D:E,2,FALSE))","v":""},"","","","","","","",{"$f":"IF(A45=\"\",\"\",VLOOKUP(RIGHT(A45,5)*1,'Data eshop'!D:M,10,FALSE))","v":""},{"$f":"IF(A45=\"\",\"\",IF(OR(VLOOKUP(RIGHT(A45,5)*1,'Data eshop'!D:O,12,FALSE)=\"Kurýrní službou\",VLOOKUP(RIGHT(A45,5)*1,'Data eshop'!D:O,12,FALSE)=\"Kuriérskou službou\",VLOOKUP(RIGHT(A45,5)*1,'Data eshop'!D:O,12,FALSE)=\"Usługa kurierską\"),MAX($P$1:P44)+1,\"\"))","v":""},""]
["",{"$f":"IF(F46=\"\",\"\",VLOOKUP(O46,DATA!R:S,2,FALSE)&VLOOKUP(Zakázky!F46+10000,'Místa dodání'!A:B,2,FALSE))","v":""},"","",{"$f":"IF(F46=\"\",\"\",VLOOKUP(VLOOKUP(F46,'Data eshop'!D:N,11,FALSE),DATA!A:B,2,FALSE))","v":""},{"$f":"IF('Místa dodání'!A47=\"\",\"\",'Místa dodání'!A47-10000)","v":""},{"$f":"IF(F46=\"\",\"\",VLOOKUP(VLOOKUP(F46,'Data eshop'!D:AD,12,FALSE),DATA!D:E,2,FALSE))","v":""},"","","","","","","",{"$f":"IF(A46=\"\",\"\",VLOOKUP(RIGHT(A46,5)*1,'Data eshop'!D:M,10,FALSE))","v":""},{"$f":"IF(A46=\"\",\"\",IF(OR(VLOOKUP(RIGHT(A46,5)*1,'Data eshop'!D:O,12,FALSE)=\"Kurýrní službou\",VLOOKUP(RIGHT(A46,5)*1,'Data eshop'!D:O,12,FALSE)=\"Kuriérskou službou\",VLOOKUP(RIGHT(A46,5)*1,'Data eshop'!D:O,12,FALSE)=\"Usługa kurierską\"),MAX($P$1:P45)+1,\"\"))","v":""},""]
["",{"$f":"IF(F47=\"\",\"\",VLOOKUP(O47,DATA!R:S,2,FALSE)&VLOOKUP(Zakázky!F47+10000,'Místa dodání'!A:B,2,FALSE))","v":""},"","",{"$f":"IF(F47=\"\",\"\",VLOOKUP(VLOOKUP(F47,'Data eshop'!D:N,11,FALSE),DATA!A:B,2,FALSE))","v":""},{"$f":"IF('Místa dodání'!A48=\"\",\"\",'Místa dodání'!A48-10000)","v":""},{"$f":"IF(F47=\"\",\"\",VLOOKUP(VLOOKUP(F47,'Data eshop'!D:AD,12,FALSE),DATA!D:E,2,FALSE))","v":""},"","","","","","","",{"$f":"IF(A47=\"\",\"\",VLOOKUP(RIGHT(A47,5)*1,'Data eshop'!D:M,10,FALSE))","v":""},{"$f":"IF(A47=\"\",\"\",IF(OR(VLOOKUP(RIGHT(A47,5)*1,'Data eshop'!D:O,12,FALSE)=\"Kurýrní službou\",VLOOKUP(RIGHT(A47,5)*1,'Data eshop'!D:O,12,FALSE)=\"Kuriérskou službou\",VLOOKUP(RIGHT(A47,5)*1,'Data eshop'!D:O,12,FALSE)=\"Usługa kurierską\"),MAX($P$1:P46)+1,\"\"))","v":""},"","Roluj nahoru, až uvidíš žlutou"]
["",{"$f":"IF(F48=\"\",\"\",VLOOKUP(O48,DATA!R:S,2,FALSE)&VLOOKUP(Zakázky!F48+10000,'Místa dodání'!A:B,2,FALSE))","v":""},"","",{"$f":"IF(F48=\"\",\"\",VLOOKUP(VLOOKUP(F48,'Data eshop'!D:N,11,FALSE),DATA!A:B,2,FALSE))","v":""},{"$f":"IF('Místa dodání'!A49=\"\",\"\",'Místa dodání'!A49-10000)","v":""},{"$f":"IF(F48=\"\",\"\",VLOOKUP(VLOOKUP(F48,'Data eshop'!D:AD,12,FALSE),DATA!D:E,2,FALSE))","v":""},"","","","","","","",{"$f":"IF(A48=\"\",\"\",VLOOKUP(RIGHT(A48,5)*1,'Data eshop'!D:M,10,FALSE))","v":""},{"$f":"IF(A48=\"\",\"\",IF(OR(VLOOKUP(RIGHT(A48,5)*1,'Data eshop'!D:O,12,FALSE)=\"Kurýrní službou\",VLOOKUP(RIGHT(A48,5)*1,'Data eshop'!D:O,12,FALSE)=\"Kuriérskou službou\",VLOOKUP(RIGHT(A48,5)*1,'Data eshop'!D:O,12,FALSE)=\"Usługa kurierską\"),MAX($P$1:P47)+1,\"\"))","v":""},""]
["",{"$f":"IF(F49=\"\",\"\",VLOOKUP(O49,DATA!R:S,2,FALSE)&VLOOKUP(Zakázky!F49+10000,'Místa dodání'!A:B,2,FALSE))","v":""},"","",{"$f":"IF(F49=\"\",\"\",VLOOKUP(VLOOKUP(F49,'Data eshop'!D:N,11,FALSE),DATA!A:B,2,FALSE))","v":""},{"$f":"IF('Místa dodání'!A50=\"\",\"\",'Místa dodání'!A50-10000)","v":""},{"$f":"IF(F49=\"\",\"\",VLOOKUP(VLOOKUP(F49,'Data eshop'!D:AD,12,FALSE),DATA!D:E,2,FALSE))","v":""},"","","","","","","",{"$f":"IF(A49=\"\",\"\",VLOOKUP(RIGHT(A49,5)*1,'Data eshop'!D:M,10,FALSE))","v":""},{"$f":"IF(A49=\"\",\"\",IF(OR(VLOOKUP(RIGHT(A49,5)*1,'Data eshop'!D:O,12,FALSE)=\"Kurýrní službou\",VLOOKUP(RIGHT(A49,5)*1,'Data eshop'!D:O,12,FALSE)=\"Kuriérskou službou\",VLOOKUP(RIGHT(A49,5)*1,'Data eshop'!D:O,12,FALSE)=\"Usługa kurierską\"),MAX($P$1:P48)+1,\"\"))","v":""},""]
["",{"$f":"IF(F50=\"\",\"\",VLOOKUP(O50,DATA!R:S,2,FALSE)&VLOOKUP(Zakázky!F50+10000,'Místa dodání'!A:B,2,FALSE))","v":""},"","",{"$f":"IF(F50=\"\",\"\",VLOOKUP(VLOOKUP(F50,'Data eshop'!D:N,11,FALSE),DATA!A:B,2,FALSE))","v":""},{"$f":"IF('Místa dodání'!A51=\"\",\"\",'Místa dodání'!A51-10000)","v":""},{"$f":"IF(F50=\"\",\"\",VLOOKUP(VLOOKUP(F50,'Data eshop'!D:AD,12,FALSE),DATA!D:E,2,FALSE))","v":""},"","","","","","","",{"$f":"IF(A50=\"\",\"\",VLOOKUP(RIGHT(A50,5)*1,'Data eshop'!D:M,10,FALSE))","v":""},{"$f":"IF(A50=\"\",\"\",IF(OR(VLOOKUP(RIGHT(A50,5)*1,'Data eshop'!D:O,12,FALSE)=\"Kurýrní službou\",VLOOKUP(RIGHT(A50,5)*1,'Data eshop'!D:O,12,FALSE)=\"Kuriérskou službou\",VLOOKUP(RIGHT(A50,5)*1,'Data eshop'!D:O,12,FALSE)=\"Usługa kurierską\"),MAX($P$1:P49)+1,\"\"))","v":""},""]
["",{"$f":"IF(F51=\"\",\"\",VLOOKUP(O51,DATA!R:S,2,FALSE)&VLOOKUP(Zakázky!F51+10000,'Místa dodání'!A:B,2,FALSE))","v":""},"","",{"$f":"IF(F51=\"\",\"\",VLOOKUP(VLOOKUP(F51,'Data eshop'!D:N,11,FALSE),DATA!A:B,2,FALSE))","v":""},{"$f":"IF('Místa dodání'!A52=\"\",\"\",'Místa dodání'!A52-10000)","v":""},{"$f":"IF(F51=\"\",\"\",VLOOKUP(VLOOKUP(F51,'Data eshop'!D:AD,12,FALSE),DATA!D:E,2,FALSE))","v":""},"","","","","","","",{"$f":"IF(A51=\"\",\"\",VLOOKUP(RIGHT(A51,5)*1,'Data eshop'!D:M,10,FALSE))","v":""},{"$f":"IF(A51=\"\",\"\",IF(OR(VLOOKUP(RIGHT(A51,5)*1,'Data eshop'!D:O,12,FALSE)=\"Kurýrní službou\",VLOOKUP(RIGHT(A51,5)*1,'Data eshop'!D:O,12,FALSE)=\"Kuriérskou službou\",VLOOKUP(RIGHT(A51,5)*1,'Data eshop'!D:O,12,FALSE)=\"Usługa kurierską\"),MAX($P$1:P50)+1,\"\"))","v":""},"","Roluj nahoru, až uvidíš žlutou"]
["",{"$f":"IF(F52=\"\",\"\",VLOOKUP(O52,DATA!R:S,2,FALSE)&VLOOKUP(Zakázky!F52+10000,'Místa dodání'!A:B,2,FALSE))","v":""},"","",{"$f":"IF(F52=\"\",\"\",VLOOKUP(VLOOKUP(F52,'Data eshop'!D:N,11,FALSE),DATA!A:B,2,FALSE))","v":""},{"$f":"IF('Místa dodání'!A53=\"\",\"\",'Místa dodání'!A53-10000)","v":""},{"$f":"IF(F52=\"\",\"\",VLOOKUP(VLOOKUP(F52,'Data eshop'!D:AD,12,FALSE),DATA!D:E,2,FALSE))","v":""},"","","","","","","",{"$f":"IF(A52=\"\",\"\",VLOOKUP(RIGHT(A52,5)*1,'Data eshop'!D:M,10,FALSE))","v":""},{"$f":"IF(A52=\"\",\"\",IF(OR(VLOOKUP(RIGHT(A52,5)*1,'Data eshop'!D:O,12,FALSE)=\"Kurýrní službou\",VLOOKUP(RIGHT(A52,5)*1,'Data eshop'!D:O,12,FALSE)=\"Kuriérskou službou\",VLOOKUP(RIGHT(A52,5)*1,'Data eshop'!D:O,12,FALSE)=\"Usługa kurierską\"),MAX($P$1:P51)+1,\"\"))","v":""},""]
["",{"$f":"IF(F53=\"\",\"\",VLOOKUP(O53,DATA!R:S,2,FALSE)&VLOOKUP(Zakázky!F53+10000,'Místa dodání'!A:B,2,FALSE))","v":""},"","",{"$f":"IF(F53=\"\",\"\",VLOOKUP(VLOOKUP(F53,'Data eshop'!D:N,11,FALSE),DATA!A:B,2,FALSE))","v":""},{"$f":"IF('Místa dodání'!A54=\"\",\"\",'Místa dodání'!A54-10000)","v":""},{"$f":"IF(F53=\"\",\"\",VLOOKUP(VLOOKUP(F53,'Data eshop'!D:AD,12,FALSE),DATA!D:E,2,FALSE))","v":""},"","","","","","","",{"$f":"IF(A53=\"\",\"\",VLOOKUP(RIGHT(A53,5)*1,'Data eshop'!D:M,10,FALSE))","v":""},{"$f":"IF(A53=\"\",\"\",IF(OR(VLOOKUP(RIGHT(A53,5)*1,'Data eshop'!D:O,12,FALSE)=\"Kurýrní službou\",VLOOKUP(RIGHT(A53,5)*1,'Data eshop'!D:O,12,FALSE)=\"Kuriérskou službou\",VLOOKUP(RIGHT(A53,5)*1,'Data eshop'!D:O,12,FALSE)=\"Usługa kurierską\"),MAX($P$1:P52)+1,\"\"))","v":""},""]
["",{"$f":"IF(F54=\"\",\"\",VLOOKUP(O54,DATA!R:S,2,FALSE)&VLOOKUP(Zakázky!F54+10000,'Místa dodání'!A:B,2,FALSE))","v":""},"","",{"$f":"IF(F54=\"\",\"\",VLOOKUP(VLOOKUP(F54,'Data eshop'!D:N,11,FALSE),DATA!A:B,2,FALSE))","v":""},{"$f":"IF('Místa dodání'!A55=\"\",\"\",'Místa dodání'!A55-10000)","v":""},{"$f":"IF(F54=\"\",\"\",VLOOKUP(VLOOKUP(F54,'Data eshop'!D:AD,12,FALSE),DATA!D:E,2,FALSE))","v":""},"","","","","","","",{"$f":"IF(A54=\"\",\"\",VLOOKUP(RIGHT(A54,5)*1,'Data eshop'!D:M,10,FALSE))","v":""},{"$f":"IF(A54=\"\",\"\",IF(OR(VLOOKUP(RIGHT(A54,5)*1,'Data eshop'!D:O,12,FALSE)=\"Kurýrní službou\",VLOOKUP(RIGHT(A54,5)*1,'Data eshop'!D:O,12,FALSE)=\"Kuriérskou službou\",VLOOKUP(RIGHT(A54,5)*1,'Data eshop'!D:O,12,FALSE)=\"Usługa kurierską\"),MAX($P$1:P53)+1,\"\"))","v":""},""]
["",{"$f":"IF(F55=\"\",\"\",VLOOKUP(O55,DATA!R:S,2,FALSE)&VLOOKUP(Zakázky!F55+10000,'Místa dodání'!A:B,2,FALSE))","v":""},"","",{"$f":"IF(F55=\"\",\"\",VLOOKUP(VLOOKUP(F55,'Data eshop'!D:N,11,FALSE),DATA!A:B,2,FALSE))","v":""},{"$f":"IF('Místa dodání'!A56=\"\",\"\",'Místa dodání'!A56-10000)","v":""},{"$f":"IF(F55=\"\",\"\",VLOOKUP(VLOOKUP(F55,'Data eshop'!D:AD,12,FALSE),DATA!D:E,2,FALSE))","v":""},"","","","","","","",{"$f":"IF(A55=\"\",\"\",VLOOKUP(RIGHT(A55,5)*1,'Data eshop'!D:M,10,FALSE))","v":""},{"$f":"IF(A55=\"\",\"\",IF(OR(VLOOKUP(RIGHT(A55,5)*1,'Data eshop'!D:O,12,FALSE)=\"Kurýrní službou\",VLOOKUP(RIGHT(A55,5)*1,'Data eshop'!D:O,12,FALSE)=\"Kuriérskou službou\",VLOOKUP(RIGHT(A55,5)*1,'Data eshop'!D:O,12,FALSE)=\"Usługa kurierską\"),MAX($P$1:P54)+1,\"\"))","v":""},"","Roluj nahoru, až uvidíš žlutou"]
["",{"$f":"IF(F56=\"\",\"\",VLOOKUP(O56,DATA!R:S,2,FALSE)&VLOOKUP(Zakázky!F56+10000,'Místa dodání'!A:B,2,FALSE))","v":""},"","",{"$f":"IF(F56=\"\",\"\",VLOOKUP(VLOOKUP(F56,'Data eshop'!D:N,11,FALSE),DATA!A:B,2,FALSE))","v":""},{"$f":"IF('Místa dodání'!A57=\"\",\"\",'Místa dodání'!A57-10000)","v":""},{"$f":"IF(F56=\"\",\"\",VLOOKUP(VLOOKUP(F56,'Data eshop'!D:AD,12,FALSE),DATA!D:E,2,FALSE))","v":""},"","","","","","","",{"$f":"IF(A56=\"\",\"\",VLOOKUP(RIGHT(A56,5)*1,'Data eshop'!D:M,10,FALSE))","v":""},{"$f":"IF(A56=\"\",\"\",IF(OR(VLOOKUP(RIGHT(A56,5)*1,'Data eshop'!D:O,12,FALSE)=\"Kurýrní službou\",VLOOKUP(RIGHT(A56,5)*1,'Data eshop'!D:O,12,FALSE)=\"Kuriérskou službou\",VLOOKUP(RIGHT(A56,5)*1,'Data eshop'!D:O,12,FALSE)=\"Usługa kurierską\"),MAX($P$1:P55)+1,\"\"))","v":""},""]
["",{"$f":"IF(F57=\"\",\"\",VLOOKUP(O57,DATA!R:S,2,FALSE)&VLOOKUP(Zakázky!F57+10000,'Místa dodání'!A:B,2,FALSE))","v":""},"","",{"$f":"IF(F57=\"\",\"\",VLOOKUP(VLOOKUP(F57,'Data eshop'!D:N,11,FALSE),DATA!A:B,2,FALSE))","v":""},{"$f":"IF('Místa dodání'!A58=\"\",\"\",'Místa dodání'!A58-10000)","v":""},{"$f":"IF(F57=\"\",\"\",VLOOKUP(VLOOKUP(F57,'Data eshop'!D:AD,12,FALSE),DATA!D:E,2,FALSE))","v":""},"","","","","","","",{"$f":"IF(A57=\"\",\"\",VLOOKUP(RIGHT(A57,5)*1,'Data eshop'!D:M,10,FALSE))","v":""},{"$f":"IF(A57=\"\",\"\",IF(OR(VLOOKUP(RIGHT(A57,5)*1,'Data eshop'!D:O,12,FALSE)=\"Kurýrní službou\",VLOOKUP(RIGHT(A57,5)*1,'Data eshop'!D:O,12,FALSE)=\"Kuriérskou službou\",VLOOKUP(RIGHT(A57,5)*1,'Data eshop'!D:O,12,FALSE)=\"Usługa kurierską\"),MAX($P$1:P56)+1,\"\"))","v":""},""]
["",{"$f":"IF(F58=\"\",\"\",VLOOKUP(O58,DATA!R:S,2,FALSE)&VLOOKUP(Zakázky!F58+10000,'Místa dodání'!A:B,2,FALSE))","v":""},"","",{"$f":"IF(F58=\"\",\"\",VLOOKUP(VLOOKUP(F58,'Data eshop'!D:N,11,FALSE),DATA!A:B,2,FALSE))","v":""},{"$f":"IF('Místa dodání'!A59=\"\",\"\",'Místa dodání'!A59-10000)","v":""},{"$f":"IF(F58=\"\",\"\",VLOOKUP(VLOOKUP(F58,'Data eshop'!D:AD,12,FALSE),DATA!D:E,2,FALSE))","v":""},"","","","","","","",{"$f":"IF(A58=\"\",\"\",VLOOKUP(RIGHT(A58,5)*1,'Data eshop'!D:M,10,FALSE))","v":""},{"$f":"IF(A58=\"\",\"\",IF(OR(VLOOKUP(RIGHT(A58,5)*1,'Data eshop'!D:O,12,FALSE)=\"Kurýrní službou\",VLOOKUP(RIGHT(A58,5)*1,'Data eshop'!D:O,12,FALSE)=\"Kuriérskou službou\",VLOOKUP(RIGHT(A58,5)*1,'Data eshop'!D:O,12,FALSE)=\"Usługa kurierską\"),MAX($P$1:P57)+1,\"\"))","v":""},""]
["",{"$f":"IF(F59=\"\",\"\",VLOOKUP(O59,DATA!R:S,2,FALSE)&VLOOKUP(Zakázky!F59+10000,'Místa dodání'!A:B,2,FALSE))","v":""},"","",{"$f":"IF(F59=\"\",\"\",VLOOKUP(VLOOKUP(F59,'Data eshop'!D:N,11,FALSE),DATA!A:B,2,FALSE))","v":""},{"$f":"IF('Místa dodání'!A60=\"\",\"\",'Místa dodání'!A60-10000)","v":""},{"$f":"IF(F59=\"\",\"\",VLOOKUP(VLOOKUP(F59,'Data eshop'!D:AD,12,FALSE),DATA!D:E,2,FALSE))","v":""},"","","","","","","",{"$f":"IF(A59=\"\",\"\",VLOOKUP(RIGHT(A59,5)*1,'Data eshop'!D:M,10,FALSE))","v":""},{"$f":"IF(A59=\"\",\"\",IF(OR(VLOOKUP(RIGHT(A59,5)*1,'Data eshop'!D:O,12,FALSE)=\"Kurýrní službou\",VLOOKUP(RIGHT(A59,5)*1,'Data eshop'!D:O,12,FALSE)=\"Kuriérskou službou\",VLOOKUP(RIGHT(A59,5)*1,'Data eshop'!D:O,12,FALSE)=\"Usługa kurierską\"),MAX($P$1:P58)+1,\"\"))","v":""},"","Roluj nahoru, až uvidíš žlutou"]
["",{"$f":"IF(F60=\"\",\"\",VLOOKUP(O60,DATA!R:S,2,FALSE)&VLOOKUP(Zakázky!F60+10000,'Místa dodání'!A:B,2,FALSE))","v":""},"","",{"$f":"IF(F60=\"\",\"\",VLOOKUP(VLOOKUP(F60,'Data eshop'!D:N,11,FALSE),DATA!A:B,2,FALSE))","v":""},{"$f":"IF('Místa dodání'!A61=\"\",\"\",'Místa dodání'!A61-10000)","v":""},{"$f":"IF(F60=\"\",\"\",VLOOKUP(VLOOKUP(F60,'Data eshop'!D:AD,12,FALSE),DATA!D:E,2,FALSE))","v":""},"","","","","","","",{"$f":"IF(A60=\"\",\"\",VLOOKUP(RIGHT(A60,5)*1,'Data eshop'!D:M,10,FALSE))","v":""},{"$f":"IF(A60=\"\",\"\",IF(OR(VLOOKUP(RIGHT(A60,5)*1,'Data eshop'!D:O,12,FALSE)=\"Kurýrní službou\",VLOOKUP(RIGHT(A60,5)*1,'Data eshop'!D:O,12,FALSE)=\"Kuriérskou službou\",VLOOKUP(RIGHT(A60,5)*1,'Data eshop'!D:O,12,FALSE)=\"Usługa kurierską\"),MAX($P$1:P59)+1,\"\"))","v":""},""]
["",{"$f":"IF(F61=\"\",\"\",VLOOKUP(O61,DATA!R:S,2,FALSE)&VLOOKUP(Zakázky!F61+10000,'Místa dodání'!A:B,2,FALSE))","v":""},"","",{"$f":"IF(F61=\"\",\"\",VLOOKUP(VLOOKUP(F61,'Data eshop'!D:N,11,FALSE),DATA!A:B,2,FALSE))","v":""},{"$f":"IF('Místa dodání'!A62=\"\",\"\",'Místa dodání'!A62-10000)","v":""},{"$f":"IF(F61=\"\",\"\",VLOOKUP(VLOOKUP(F61,'Data eshop'!D:AD,12,FALSE),DATA!D:E,2,FALSE))","v":""},"","","","","","","",{"$f":"IF(A61=\"\",\"\",VLOOKUP(RIGHT(A61,5)*1,'Data eshop'!D:M,10,FALSE))","v":""},{"$f":"IF(A61=\"\",\"\",IF(OR(VLOOKUP(RIGHT(A61,5)*1,'Data eshop'!D:O,12,FALSE)=\"Kurýrní službou\",VLOOKUP(RIGHT(A61,5)*1,'Data eshop'!D:O,12,FALSE)=\"Kuriérskou službou\",VLOOKUP(RIGHT(A61,5)*1,'Data eshop'!D:O,12,FALSE)=\"Usługa kurierską\"),MAX($P$1:P60)+1,\"\"))","v":""},""]
["",{"$f":"IF(F62=\"\",\"\",VLOOKUP(O62,DATA!R:S,2,FALSE)&VLOOKUP(Zakázky!F62+10000,'Místa dodání'!A:B,2,FALSE))","v":""},"","",{"$f":"IF(F62=\"\",\"\",VLOOKUP(VLOOKUP(F62,'Data eshop'!D:N,11,FALSE),DATA!A:B,2,FALSE))","v":""},{"$f":"IF('Místa dodání'!A63=\"\",\"\",'Místa dodání'!A63-10000)","v":""},{"$f":"IF(F62=\"\",\"\",VLOOKUP(VLOOKUP(F62,'Data eshop'!D:AD,12,FALSE),DATA!D:E,2,FALSE))","v":""},"","","","","","","",{"$f":"IF(A62=\"\",\"\",VLOOKUP(RIGHT(A62,5)*1,'Data eshop'!D:M,10,FALSE))","v":""},{"$f":"IF(A62=\"\",\"\",IF(OR(VLOOKUP(RIGHT(A62,5)*1,'Data eshop'!D:O,12,FALSE)=\"Kurýrní službou\",VLOOKUP(RIGHT(A62,5)*1,'Data eshop'!D:O,12,FALSE)=\"Kuriérskou službou\",VLOOKUP(RIGHT(A62,5)*1,'Data eshop'!D:O,12,FALSE)=\"Usługa kurierską\"),MAX($P$1:P61)+1,\"\"))","v":""},""]
["",{"$f":"IF(F63=\"\",\"\",VLOOKUP(O63,DATA!R:S,2,FALSE)&VLOOKUP(Zakázky!F63+10000,'Místa dodání'!A:B,2,FALSE))","v":""},"","",{"$f":"IF(F63=\"\",\"\",VLOOKUP(VLOOKUP(F63,'Data eshop'!D:N,11,FALSE),DATA!A:B,2,FALSE))","v":""},{"$f":"IF('Místa dodání'!A64=\"\",\"\",'Místa dodání'!A64-10000)","v":""},{"$f":"IF(F63=\"\",\"\",VLOOKUP(VLOOKUP(F63,'Data eshop'!D:AD,12,FALSE),DATA!D:E,2,FALSE))","v":""},"","","","","","","",{"$f":"IF(A63=\"\",\"\",VLOOKUP(RIGHT(A63,5)*1,'Data eshop'!D:M,10,FALSE))","v":""},{"$f":"IF(A63=\"\",\"\",IF(OR(VLOOKUP(RIGHT(A63,5)*1,'Data eshop'!D:O,12,FALSE)=\"Kurýrní službou\",VLOOKUP(RIGHT(A63,5)*1,'Data eshop'!D:O,12,FALSE)=\"Kuriérskou službou\",VLOOKUP(RIGHT(A63,5)*1,'Data eshop'!D:O,12,FALSE)=\"Usługa kurierską\"),MAX($P$1:P62)+1,\"\"))","v":""},"","Roluj nahoru, až uvidíš žlutou"]
["",{"$f":"IF(F64=\"\",\"\",VLOOKUP(O64,DATA!R:S,2,FALSE)&VLOOKUP(Zakázky!F64+10000,'Místa dodání'!A:B,2,FALSE))","v":""},"","",{"$f":"IF(F64=\"\",\"\",VLOOKUP(VLOOKUP(F64,'Data eshop'!D:N,11,FALSE),DATA!A:B,2,FALSE))","v":""},{"$f":"IF('Místa dodání'!A65=\"\",\"\",'Místa dodání'!A65-10000)","v":""},{"$f":"IF(F64=\"\",\"\",VLOOKUP(VLOOKUP(F64,'Data eshop'!D:AD,12,FALSE),DATA!D:E,2,FALSE))","v":""},"","","","","","","",{"$f":"IF(A64=\"\",\"\",VLOOKUP(RIGHT(A64,5)*1,'Data eshop'!D:M,10,FALSE))","v":""},{"$f":"IF(A64=\"\",\"\",IF(OR(VLOOKUP(RIGHT(A64,5)*1,'Data eshop'!D:O,12,FALSE)=\"Kurýrní službou\",VLOOKUP(RIGHT(A64,5)*1,'Data eshop'!D:O,12,FALSE)=\"Kuriérskou službou\",VLOOKUP(RIGHT(A64,5)*1,'Data eshop'!D:O,12,FALSE)=\"Usługa kurierską\"),MAX($P$1:P63)+1,\"\"))","v":""},""]
["",{"$f":"IF(F65=\"\",\"\",VLOOKUP(O65,DATA!R:S,2,FALSE)&VLOOKUP(Zakázky!F65+10000,'Místa dodání'!A:B,2,FALSE))","v":""},"","",{"$f":"IF(F65=\"\",\"\",VLOOKUP(VLOOKUP(F65,'Data eshop'!D:N,11,FALSE),DATA!A:B,2,FALSE))","v":""},{"$f":"IF('Místa dodání'!A66=\"\",\"\",'Místa dodání'!A66-10000)","v":""},{"$f":"IF(F65=\"\",\"\",VLOOKUP(VLOOKUP(F65,'Data eshop'!D:AD,12,FALSE),DATA!D:E,2,FALSE))","v":""},"","","","","","","",{"$f":"IF(A65=\"\",\"\",VLOOKUP(RIGHT(A65,5)*1,'Data eshop'!D:M,10,FALSE))","v":""},{"$f":"IF(A65=\"\",\"\",IF(OR(VLOOKUP(RIGHT(A65,5)*1,'Data eshop'!D:O,12,FALSE)=\"Kurýrní službou\",VLOOKUP(RIGHT(A65,5)*1,'Data eshop'!D:O,12,FALSE)=\"Kuriérskou službou\",VLOOKUP(RIGHT(A65,5)*1,'Data eshop'!D:O,12,FALSE)=\"Usługa kurierską\"),MAX($P$1:P64)+1,\"\"))","v":""},""]
[{"$f":"IF(F66=\"\",\"\",\"19ESh\"&IF(LEN(F66)=4,\"0\",\"\")&F66)","v":""},{"$f":"IF(F66=\"\",\"\",VLOOKUP(O66,DATA!R:S,2,FALSE)&VLOOKUP(Zakázky!F66+10000,'Místa dodání'!A:B,2,FALSE))","v":""},{"$f":"IF(F66=\"\",\"\",F66+10000)","v":""},"",{"$f":"IF(F66=\"\",\"\",VLOOKUP(VLOOKUP(F66,'Data eshop'!D:N,11,FALSE),DATA!A:B,2,FALSE))","v":""},{"$f":"IF('Místa dodání'!A67=\"\",\"\",'Místa dodání'!A67-10000)","v":""},{"$f":"IF(F66=\"\",\"\",VLOOKUP(VLOOKUP(F66,'Data eshop'!D:AD,12,FALSE),DATA!D:E,2,FALSE))","v":""},"","","","","","","",{"$f":"IF(A66=\"\",\"\",VLOOKUP(RIGHT(A66,5)*1,'Data eshop'!D:M,10,FALSE))","v":""},{"$f":"IF(A66=\"\",\"\",IF(OR(VLOOKUP(RIGHT(A66,5)*1,'Data eshop'!D:O,12,FALSE)=\"Kurýrní službou\",VLOOKUP(RIGHT(A66,5)*1,'Data eshop'!D:O,12,FALSE)=\"Kuriérskou službou\",VLOOKUP(RIGHT(A66,5)*1,'Data eshop'!D:O,12,FALSE)=\"Usługa kurierską\"),MAX($P$1:P65)+1,\"\"))","v":""},""]
["",{"$f":"IF(F67=\"\",\"\",VLOOKUP(O67,DATA!R:S,2,FALSE)&VLOOKUP(Zakázky!F67+10000,'Místa dodání'!A:B,2,FALSE))","v":""},"",{"$f":"IF(F67=\"\",\"\",TODAY())","v":""},{"$f":"IF(F67=\"\",\"\",VLOOKUP(VLOOKUP(F67,'Data eshop'!D:N,11,FALSE),DATA!A:B,2,FALSE))","v":""},{"$f":"IF('Místa dodání'!A68=\"\",\"\",'Místa dodání'!A68-10000)","v":""},{"$f":"IF(F67=\"\",\"\",VLOOKUP(VLOOKUP(F67,'Data eshop'!D:AD,12,FALSE),DATA!D:E,2,FALSE))","v":""},{"$f":"IF(F67=\"\",\"\",\"Řádná\")","v":""},{"$f":"IF(F67=\"\",\"\",\"Objednáno\")","v":""},{"$f":"IF(F67=\"\",\"\",\"SKL\")","v":""},{"$f":"IF(F67=\"\",\"\",\"PR\")","v":""},{"$f":"IF(F67=\"\",\"\",0)","v":""},{"$f":"IF(F67=\"\",\"\",0)","v":""},{"$f":"IF(F67=\"\",\"\",0)","v":""},{"$f":"IF(A67=\"\",\"\",VLOOKUP(RIGHT(A67,5)*1,'Data eshop'!D:M,10,FALSE))","v":""},{"$f":"IF(A67=\"\",\"\",IF(OR(VLOOKUP(RIGHT(A67,5)*1,'Data eshop'!D:O,12,FALSE)=\"Kurýrní službou\",VLOOKUP(RIGHT(A67,5)*1,'Data eshop'!D:O,12,FALSE)=\"Kuriérskou službou\",VLOOKUP(RIGHT(A67,5)*1,'Data eshop'!D:O,12,FALSE)=\"Usługa kurierską\"),MAX($P$1:P66)+1,\"\"))","v":""},{"$f":"IF(A67=\"\",\"\",A67)","v":""},"Roluj nahoru, až uvidíš žlutou"]
["",{"$f":"IF(F68=\"\",\"\",VLOOKUP(O68,DATA!R:S,2,FALSE)&VLOOKUP(Zakázky!F68+10000,'Místa dodání'!A:B,2,FALSE))","v":""},"","",{"$f":"IF(F68=\"\",\"\",VLOOKUP(VLOOKUP(F68,'Data eshop'!D:N,11,FALSE),DATA!A:B,2,FALSE))","v":""},{"$f":"IF('Místa dodání'!A69=\"\",\"\",'Místa dodání'!A69-10000)","v":""},{"$f":"IF(F68=\"\",\"\",VLOOKUP(VLOOKUP(F68,'Data eshop'!D:AD,12,FALSE),DATA!D:E,2,FALSE))","v":""},"","","","","","","",{"$f":"IF(A68=\"\",\"\",VLOOKUP(RIGHT(A68,5)*1,'Data eshop'!D:M,10,FALSE))","v":""},{"$f":"IF(A68=\"\",\"\",IF(OR(VLOOKUP(RIGHT(A68,5)*1,'Data eshop'!D:O,12,FALSE)=\"Kurýrní službou\",VLOOKUP(RIGHT(A68,5)*1,'Data eshop'!D:O,12,FALSE)=\"Kuriérskou službou\",VLOOKUP(RIGHT(A68,5)*1,'Data eshop'!D:O,12,FALSE)=\"Usługa kurierską\"),MAX($P$1:P67)+1,\"\"))","v":""},""]
["",{"$f":"IF(F69=\"\",\"\",VLOOKUP(O69,DATA!R:S,2,FALSE)&VLOOKUP(Zakázky!F69+10000,'Místa dodání'!A:B,2,FALSE))","v":""},"","",{"$f":"IF(F69=\"\",\"\",VLOOKUP(VLOOKUP(F69,'Data eshop'!D:N,11,FALSE),DATA!A:B,2,FALSE))","v":""},{"$f":"IF('Místa dodání'!A70=\"\",\"\",'Místa dodání'!A70-10000)","v":""},{"$f":"IF(F69=\"\",\"\",VLOOKUP(VLOOKUP(F69,'Data eshop'!D:AD,12,FALSE),DATA!D:E,2,FALSE))","v":""},"","","","","","","",{"$f":"IF(A69=\"\",\"\",VLOOKUP(RIGHT(A69,5)*1,'Data eshop'!D:M,10,FALSE))","v":""},{"$f":"IF(A69=\"\",\"\",IF(OR(VLOOKUP(RIGHT(A69,5)*1,'Data eshop'!D:O,12,FALSE)=\"Kurýrní službou\",VLOOKUP(RIGHT(A69,5)*1,'Data eshop'!D:O,12,FALSE)=\"Kuriérskou službou\",VLOOKUP(RIGHT(A69,5)*1,'Data eshop'!D:O,12,FALSE)=\"Usługa kurierską\"),MAX($P$1:P68)+1,\"\"))","v":""},""]
["",{"$f":"IF(F70=\"\",\"\",VLOOKUP(O70,DATA!R:S,2,FALSE)&VLOOKUP(Zakázky!F70+10000,'Místa dodání'!A:B,2,FALSE))","v":""},"","",{"$f":"IF(F70=\"\",\"\",VLOOKUP(VLOOKUP(F70,'Data eshop'!D:N,11,FALSE),DATA!A:B,2,FALSE))","v":""},{"$f":"IF('Místa dodání'!A71=\"\",\"\",'Místa dodání'!A71-10000)","v":""},{"$f":"IF(F70=\"\",\"\",VLOOKUP(VLOOKUP(F70,'Data eshop'!D:AD,12,FALSE),DATA!D:E,2,FALSE))","v":""},"","","","","","","",{"$f":"IF(A70=\"\",\"\",VLOOKUP(RIGHT(A70,5)*1,'Data eshop'!D:M,10,FALSE))","v":""},{"$f":"IF(A70=\"\",\"\",IF(OR(VLOOKUP(RIGHT(A70,5)*1,'Data eshop'!D:O,12,FALSE)=\"Kurýrní službou\",VLOOKUP(RIGHT(A70,5)*1,'Data eshop'!D:O,12,FALSE)=\"Kuriérskou službou\",VLOOKUP(RIGHT(A70,5)*1,'Data eshop'!D:O,12,FALSE)=\"Usługa kurierską\"),MAX($P$1:P69)+1,\"\"))","v":""},""]
["",{"$f":"IF(F71=\"\",\"\",VLOOKUP(O71,DATA!R:S,2,FALSE)&VLOOKUP(Zakázky!F71+10000,'Místa dodání'!A:B,2,FALSE))","v":""},"","",{"$f":"IF(F71=\"\",\"\",VLOOKUP(VLOOKUP(F71,'Data eshop'!D:N,11,FALSE),DATA!A:B,2,FALSE))","v":""},{"$f":"IF('Místa dodání'!A72=\"\",\"\",'Místa dodání'!A72-10000)","v":""},{"$f":"IF(F71=\"\",\"\",VLOOKUP(VLOOKUP(F71,'Data eshop'!D:AD,12,FALSE),DATA!D:E,2,FALSE))","v":""},"","","","","","","",{"$f":"IF(A71=\"\",\"\",VLOOKUP(RIGHT(A71,5)*1,'Data eshop'!D:M,10,FALSE))","v":""},{"$f":"IF(A71=\"\",\"\",IF(OR(VLOOKUP(RIGHT(A71,5)*1,'Data eshop'!D:O,12,FALSE)=\"Kurýrní službou\",VLOOKUP(RIGHT(A71,5)*1,'Data eshop'!D:O,12,FALSE)=\"Kuriérskou službou\",VLOOKUP(RIGHT(A71,5)*1,'Data eshop'!D:O,12,FALSE)=\"Usługa kurierską\"),MAX($P$1:P70)+1,\"\"))","v":""},"","Roluj nahoru, až uvidíš žlutou"]
["",{"$f":"IF(F72=\"\",\"\",VLOOKUP(O72,DATA!R:S,2,FALSE)&VLOOKUP(Zakázky!F72+10000,'Místa dodání'!A:B,2,FALSE))","v":""},"","",{"$f":"IF(F72=\"\",\"\",VLOOKUP(VLOOKUP(F72,'Data eshop'!D:N,11,FALSE),DATA!A:B,2,FALSE))","v":""},{"$f":"IF('Místa dodání'!A73=\"\",\"\",'Místa dodání'!A73-10000)","v":""},{"$f":"IF(F72=\"\",\"\",VLOOKUP(VLOOKUP(F72,'Data eshop'!D:AD,12,FALSE),DATA!D:E,2,FALSE))","v":""},"","","","","","","",{"$f":"IF(A72=\"\",\"\",VLOOKUP(RIGHT(A72,5)*1,'Data eshop'!D:M,10,FALSE))","v":""},{"$f":"IF(A72=\"\",\"\",IF(OR(VLOOKUP(RIGHT(A72,5)*1,'Data eshop'!D:O,12,FALSE)=\"Kurýrní službou\",VLOOKUP(RIGHT(A72,5)*1,'Data eshop'!D:O,12,FALSE)=\"Kuriérskou službou\",VLOOKUP(RIGHT(A72,5)*1,'Data eshop'!D:O,12,FALSE)=\"Usługa kurierską\"),MAX($P$1:P71)+1,\"\"))","v":""},""]
["",{"$f":"IF(F73=\"\",\"\",VLOOKUP(O73,DATA!R:S,2,FALSE)&VLOOKUP(Zakázky!F73+10000,'Místa dodání'!A:B,2,FALSE))","v":""},"","",{"$f":"IF(F73=\"\",\"\",VLOOKUP(VLOOKUP(F73,'Data eshop'!D:N,11,FALSE),DATA!A:B,2,FALSE))","v":""},{"$f":"IF('Místa dodání'!A74=\"\",\"\",'Místa dodání'!A74-10000)","v":""},{"$f":"IF(F73=\"\",\"\",VLOOKUP(VLOOKUP(F73,'Data eshop'!D:AD,12,FALSE),DATA!D:E,2,FALSE))","v":""},"","","","","","","",{"$f":"IF(A73=\"\",\"\",VLOOKUP(RIGHT(A73,5)*1,'Data eshop'!D:M,10,FALSE))","v":""},{"$f":"IF(A73=\"\",\"\",IF(OR(VLOOKUP(RIGHT(A73,5)*1,'Data eshop'!D:O,12,FALSE)=\"Kurýrní službou\",VLOOKUP(RIGHT(A73,5)*1,'Data eshop'!D:O,12,FALSE)=\"Kuriérskou službou\",VLOOKUP(RIGHT(A73,5)*1,'Data eshop'!D:O,12,FALSE)=\"Usługa kurierską\"),MAX($P$1:P72)+1,\"\"))","v":""},""]
["",{"$f":"IF(F74=\"\",\"\",VLOOKUP(O74,DATA!R:S,2,FALSE)&VLOOKUP(Zakázky!F74+10000,'Místa dodání'!A:B,2,FALSE))","v":""},"","",{"$f":"IF(F74=\"\",\"\",VLOOKUP(VLOOKUP(F74,'Data eshop'!D:N,11,FALSE),DATA!A:B,2,FALSE))","v":""},{"$f":"IF('Místa dodání'!A75=\"\",\"\",'Místa dodání'!A75-10000)","v":""},{"$f":"IF(F74=\"\",\"\",VLOOKUP(VLOOKUP(F74,'Data eshop'!D:AD,12,FALSE),DATA!D:E,2,FALSE))","v":""},"","","","","","","",{"$f":"IF(A74=\"\",\"\",VLOOKUP(RIGHT(A74,5)*1,'Data eshop'!D:M,10,FALSE))","v":""},{"$f":"IF(A74=\"\",\"\",IF(OR(VLOOKUP(RIGHT(A74,5)*1,'Data eshop'!D:O,12,FALSE)=\"Kurýrní službou\",VLOOKUP(RIGHT(A74,5)*1,'Data eshop'!D:O,12,FALSE)=\"Kuriérskou službou\",VLOOKUP(RIGHT(A74,5)*1,'Data eshop'!D:O,12,FALSE)=\"Usługa kurierską\"),MAX($P$1:P73)+1,\"\"))","v":""},""]
["",{"$f":"IF(F75=\"\",\"\",VLOOKUP(O75,DATA!R:S,2,FALSE)&VLOOKUP(Zakázky!F75+10000,'Místa dodání'!A:B,2,FALSE))","v":""},"","",{"$f":"IF(F75=\"\",\"\",VLOOKUP(VLOOKUP(F75,'Data eshop'!D:N,11,FALSE),DATA!A:B,2,FALSE))","v":""},{"$f":"IF('Místa dodání'!A76=\"\",\"\",'Místa dodání'!A76-10000)","v":""},{"$f":"IF(F75=\"\",\"\",VLOOKUP(VLOOKUP(F75,'Data eshop'!D:AD,12,FALSE),DATA!D:E,2,FALSE))","v":""},"","","","","","","",{"$f":"IF(A75=\"\",\"\",VLOOKUP(RIGHT(A75,5)*1,'Data eshop'!D:M,10,FALSE))","v":""},{"$f":"IF(A75=\"\",\"\",IF(OR(VLOOKUP(RIGHT(A75,5)*1,'Data eshop'!D:O,12,FALSE)=\"Kurýrní službou\",VLOOKUP(RIGHT(A75,5)*1,'Data eshop'!D:O,12,FALSE)=\"Kuriérskou službou\",VLOOKUP(RIGHT(A75,5)*1,'Data eshop'!D:O,12,FALSE)=\"Usługa kurierską\"),MAX($P$1:P74)+1,\"\"))","v":""},"","Roluj nahoru, až uvidíš žlutou"]
["",{"$f":"IF(F76=\"\",\"\",VLOOKUP(O76,DATA!R:S,2,FALSE)&VLOOKUP(Zakázky!F76+10000,'Místa dodání'!A:B,2,FALSE))","v":""},"","",{"$f":"IF(F76=\"\",\"\",VLOOKUP(VLOOKUP(F76,'Data eshop'!D:N,11,FALSE),DATA!A:B,2,FALSE))","v":""},{"$f":"IF('Místa dodání'!A77=\"\",\"\",'Místa dodání'!A77-10000)","v":""},{"$f":"IF(F76=\"\",\"\",VLOOKUP(VLOOKUP(F76,'Data eshop'!D:AD,12,FALSE),DATA!D:E,2,FALSE))","v":""},"","","","","","","",{"$f":"IF(A76=\"\",\"\",VLOOKUP(RIGHT(A76,5)*1,'Data eshop'!D:M,10,FALSE))","v":""},{"$f":"IF(A76=\"\",\"\",IF(OR(VLOOKUP(RIGHT(A76,5)*1,'Data eshop'!D:O,12,FALSE)=\"Kurýrní službou\",VLOOKUP(RIGHT(A76,5)*1,'Data eshop'!D:O,12,FALSE)=\"Kuriérskou službou\",VLOOKUP(RIGHT(A76,5)*1,'Data eshop'!D:O,12,FALSE)=\"Usługa kurierską\"),MAX($P$1:P75)+1,\"\"))","v":""},""]
["",{"$f":"IF(F77=\"\",\"\",VLOOKUP(O77,DATA!R:S,2,FALSE)&VLOOKUP(Zakázky!F77+10000,'Místa dodání'!A:B,2,FALSE))","v":""},"","",{"$f":"IF(F77=\"\",\"\",VLOOKUP(VLOOKUP(F77,'Data eshop'!D:N,11,FALSE),DATA!A:B,2,FALSE))","v":""},{"$f":"IF('Místa dodání'!A78=\"\",\"\",'Místa dodání'!A78-10000)","v":""},{"$f":"IF(F77=\"\",\"\",VLOOKUP(VLOOKUP(F77,'Data eshop'!D:AD,12,FALSE),DATA!D:E,2,FALSE))","v":""},"","","","","","","",{"$f":"IF(A77=\"\",\"\",VLOOKUP(RIGHT(A77,5)*1,'Data eshop'!D:M,10,FALSE))","v":""},{"$f":"IF(A77=\"\",\"\",IF(OR(VLOOKUP(RIGHT(A77,5)*1,'Data eshop'!D:O,12,FALSE)=\"Kurýrní službou\",VLOOKUP(RIGHT(A77,5)*1,'Data eshop'!D:O,12,FALSE)=\"Kuriérskou službou\",VLOOKUP(RIGHT(A77,5)*1,'Data eshop'!D:O,12,FALSE)=\"Usługa kurierską\"),MAX($P$1:P76)+1,\"\"))","v":""},""]
["",{"$f":"IF(F78=\"\",\"\",VLOOKUP(O78,DATA!R:S,2,FALSE)&VLOOKUP(Zakázky!F78+10000,'Místa dodání'!A:B,2,FALSE))","v":""},"","",{"$f":"IF(F78=\"\",\"\",VLOOKUP(VLOOKUP(F78,'Data eshop'!D:N,11,FALSE),DATA!A:B,2,FALSE))","v":""},{"$f":"IF('Místa dodání'!A79=\"\",\"\",'Místa dodání'!A79-10000)","v":""},{"$f":"IF(F78=\"\",\"\",VLOOKUP(VLOOKUP(F78,'Data eshop'!D:AD,12,FALSE),DATA!D:E,2,FALSE))","v":""},"","","","","","","",{"$f":"IF(A78=\"\",\"\",VLOOKUP(RIGHT(A78,5)*1,'Data eshop'!D:M,10,FALSE))","v":""},{"$f":"IF(A78=\"\",\"\",IF(OR(VLOOKUP(RIGHT(A78,5)*1,'Data eshop'!D:O,12,FALSE)=\"Kurýrní službou\",VLOOKUP(RIGHT(A78,5)*1,'Data eshop'!D:O,12,FALSE)=\"Kuriérskou službou\",VLOOKUP(RIGHT(A78,5)*1,'Data eshop'!D:O,12,FALSE)=\"Usługa kurierską\"),MAX($P$1:P77)+1,\"\"))","v":""},""]
["",{"$f":"IF(F79=\"\",\"\",VLOOKUP(O79,DATA!R:S,2,FALSE)&VLOOKUP(Zakázky!F79+10000,'Místa dodání'!A:B,2,FALSE))","v":""},"","",{"$f":"IF(F79=\"\",\"\",VLOOKUP(VLOOKUP(F79,'Data eshop'!D:N,11,FALSE),DATA!A:B,2,FALSE))","v":""},{"$f":"IF('Místa dodání'!A80=\"\",\"\",'Místa dodání'!A80-10000)","v":""},{"$f":"IF(F79=\"\",\"\",VLOOKUP(VLOOKUP(F79,'Data eshop'!D:AD,12,FALSE),DATA!D:E,2,FALSE))","v":""},"","","","","","","",{"$f":"IF(A79=\"\",\"\",VLOOKUP(RIGHT(A79,5)*1,'Data eshop'!D:M,10,FALSE))","v":""},{"$f":"IF(A79=\"\",\"\",IF(OR(VLOOKUP(RIGHT(A79,5)*1,'Data eshop'!D:O,12,FALSE)=\"Kurýrní službou\",VLOOKUP(RIGHT(A79,5)*1,'Data eshop'!D:O,12,FALSE)=\"Kuriérskou službou\",VLOOKUP(RIGHT(A79,5)*1,'Data eshop'!D:O,12,FALSE)=\"Usługa kurierską\"),MAX($P$1:P78)+1,\"\"))","v":""},"","Roluj nahoru, až uvidíš žlutou"]
["",{"$f":"IF(F80=\"\",\"\",VLOOKUP(O80,DATA!R:S,2,FALSE)&VLOOKUP(Zakázky!F80+10000,'Místa dodání'!A:B,2,FALSE))","v":""},"","",{"$f":"IF(F80=\"\",\"\",VLOOKUP(VLOOKUP(F80,'Data eshop'!D:N,11,FALSE),DATA!A:B,2,FALSE))","v":""},{"$f":"IF('Místa dodání'!A81=\"\",\"\",'Místa dodání'!A81-10000)","v":""},{"$f":"IF(F80=\"\",\"\",VLOOKUP(VLOOKUP(F80,'Data eshop'!D:AD,12,FALSE),DATA!D:E,2,FALSE))","v":""},"","","","","","","",{"$f":"IF(A80=\"\",\"\",VLOOKUP(RIGHT(A80,5)*1,'Data eshop'!D:M,10,FALSE))","v":""},{"$f":"IF(A80=\"\",\"\",IF(OR(VLOOKUP(RIGHT(A80,5)*1,'Data eshop'!D:O,12,FALSE)=\"Kurýrní službou\",VLOOKUP(RIGHT(A80,5)*1,'Data eshop'!D:O,12,FALSE)=\"Kuriérskou službou\",VLOOKUP(RIGHT(A80,5)*1,'Data eshop'!D:O,12,FALSE)=\"Usługa kurierską\"),MAX($P$1:P79)+1,\"\"))","v":""},""]
["",{"$f":"IF(F81=\"\",\"\",VLOOKUP(O81,DATA!R:S,2,FALSE)&VLOOKUP(Zakázky!F81+10000,'Místa dodání'!A:B,2,FALSE))","v":""},"","",{"$f":"IF(F81=\"\",\"\",VLOOKUP(VLOOKUP(F81,'Data eshop'!D:N,11,FALSE),DATA!A:B,2,FALSE))","v":""},{"$f":"IF('Místa dodání'!A82=\"\",\"\",'Místa dodání'!A82-10000)","v":""},{"$f":"IF(F81=\"\",\"\",VLOOKUP(VLOOKUP(F81,'Data eshop'!D:AD,12,FALSE),DATA!D:E,2,FALSE))","v":""},"","","","","","","",{"$f":"IF(A81=\"\",\"\",VLOOKUP(RIGHT(A81,5)*1,'Data eshop'!D:M,10,FALSE))","v":""},{"$f":"IF(A81=\"\",\"\",IF(OR(VLOOKUP(RIGHT(A81,5)*1,'Data eshop'!D:O,12,FALSE)=\"Kurýrní službou\",VLOOKUP(RIGHT(A81,5)*1,'Data eshop'!D:O,12,FALSE)=\"Kuriérskou službou\",VLOOKUP(RIGHT(A81,5)*1,'Data eshop'!D:O,12,FALSE)=\"Usługa kurierską\"),MAX($P$1:P80)+1,\"\"))","v":""},""]
["",{"$f":"IF(F82=\"\",\"\",VLOOKUP(O82,DATA!R:S,2,FALSE)&VLOOKUP(Zakázky!F82+10000,'Místa dodání'!A:B,2,FALSE))","v":""},"","",{"$f":"IF(F82=\"\",\"\",VLOOKUP(VLOOKUP(F82,'Data eshop'!D:N,11,FALSE),DATA!A:B,2,FALSE))","v":""},{"$f":"IF('Místa dodání'!A83=\"\",\"\",'Místa dodání'!A83-10000)","v":""},{"$f":"IF(F82=\"\",\"\",VLOOKUP(VLOOKUP(F82,'Data eshop'!D:AD,12,FALSE),DATA!D:E,2,FALSE))","v":""},"","","","","","","",{"$f":"IF(A82=\"\",\"\",VLOOKUP(RIGHT(A82,5)*1,'Data eshop'!D:M,10,FALSE))","v":""},{"$f":"IF(A82=\"\",\"\",IF(OR(VLOOKUP(RIGHT(A82,5)*1,'Data eshop'!D:O,12,FALSE)=\"Kurýrní službou\",VLOOKUP(RIGHT(A82,5)*1,'Data eshop'!D:O,12,FALSE)=\"Kuriérskou službou\",VLOOKUP(RIGHT(A82,5)*1,'Data eshop'!D:O,12,FALSE)=\"Usługa kurierską\"),MAX($P$1:P81)+1,\"\"))","v":""},""]
["",{"$f":"IF(F83=\"\",\"\",VLOOKUP(O83,DATA!R:S,2,FALSE)&VLOOKUP(Zakázky!F83+10000,'Místa dodání'!A:B,2,FALSE))","v":""},"","",{"$f":"IF(F83=\"\",\"\",VLOOKUP(VLOOKUP(F83,'Data eshop'!D:N,11,FALSE),DATA!A:B,2,FALSE))","v":""},{"$f":"IF('Místa dodání'!A84=\"\",\"\",'Místa dodání'!A84-10000)","v":""},{"$f":"IF(F83=\"\",\"\",VLOOKUP(VLOOKUP(F83,'Data eshop'!D:AD,12,FALSE),DATA!D:E,2,FALSE))","v":""},"","","","","","","",{"$f":"IF(A83=\"\",\"\",VLOOKUP(RIGHT(A83,5)*1,'Data eshop'!D:M,10,FALSE))","v":""},{"$f":"IF(A83=\"\",\"\",IF(OR(VLOOKUP(RIGHT(A83,5)*1,'Data eshop'!D:O,12,FALSE)=\"Kurýrní službou\",VLOOKUP(RIGHT(A83,5)*1,'Data eshop'!D:O,12,FALSE)=\"Kuriérskou službou\",VLOOKUP(RIGHT(A83,5)*1,'Data eshop'!D:O,12,FALSE)=\"Usługa kurierską\"),MAX($P$1:P82)+1,\"\"))","v":""},"","Roluj nahoru, až uvidíš žlutou"]
["",{"$f":"IF(F84=\"\",\"\",VLOOKUP(O84,DATA!R:S,2,FALSE)&VLOOKUP(Zakázky!F84+10000,'Místa dodání'!A:B,2,FALSE))","v":""},"","",{"$f":"IF(F84=\"\",\"\",VLOOKUP(VLOOKUP(F84,'Data eshop'!D:N,11,FALSE),DATA!A:B,2,FALSE))","v":""},{"$f":"IF('Místa dodání'!A85=\"\",\"\",'Místa dodání'!A85-10000)","v":""},{"$f":"IF(F84=\"\",\"\",VLOOKUP(VLOOKUP(F84,'Data eshop'!D:AD,12,FALSE),DATA!D:E,2,FALSE))","v":""},"","","","","","","",{"$f":"IF(A84=\"\",\"\",VLOOKUP(RIGHT(A84,5)*1,'Data eshop'!D:M,10,FALSE))","v":""},{"$f":"IF(A84=\"\",\"\",IF(OR(VLOOKUP(RIGHT(A84,5)*1,'Data eshop'!D:O,12,FALSE)=\"Kurýrní službou\",VLOOKUP(RIGHT(A84,5)*1,'Data eshop'!D:O,12,FALSE)=\"Kuriérskou službou\",VLOOKUP(RIGHT(A84,5)*1,'Data eshop'!D:O,12,FALSE)=\"Usługa kurierską\"),MAX($P$1:P83)+1,\"\"))","v":""},""]
["",{"$f":"IF(F85=\"\",\"\",VLOOKUP(O85,DATA!R:S,2,FALSE)&VLOOKUP(Zakázky!F85+10000,'Místa dodání'!A:B,2,FALSE))","v":""},"","",{"$f":"IF(F85=\"\",\"\",VLOOKUP(VLOOKUP(F85,'Data eshop'!D:N,11,FALSE),DATA!A:B,2,FALSE))","v":""},{"$f":"IF('Místa dodání'!A86=\"\",\"\",'Místa dodání'!A86-10000)","v":""},{"$f":"IF(F85=\"\",\"\",VLOOKUP(VLOOKUP(F85,'Data eshop'!D:AD,12,FALSE),DATA!D:E,2,FALSE))","v":""},"","","","","","","",{"$f":"IF(A85=\"\",\"\",VLOOKUP(RIGHT(A85,5)*1,'Data eshop'!D:M,10,FALSE))","v":""},{"$f":"IF(A85=\"\",\"\",IF(OR(VLOOKUP(RIGHT(A85,5)*1,'Data eshop'!D:O,12,FALSE)=\"Kurýrní službou\",VLOOKUP(RIGHT(A85,5)*1,'Data eshop'!D:O,12,FALSE)=\"Kuriérskou službou\",VLOOKUP(RIGHT(A85,5)*1,'Data eshop'!D:O,12,FALSE)=\"Usługa kurierską\"),MAX($P$1:P84)+1,\"\"))","v":""},""]
["",{"$f":"IF(F86=\"\",\"\",VLOOKUP(O86,DATA!R:S,2,FALSE)&VLOOKUP(Zakázky!F86+10000,'Místa dodání'!A:B,2,FALSE))","v":""},"","",{"$f":"IF(F86=\"\",\"\",VLOOKUP(VLOOKUP(F86,'Data eshop'!D:N,11,FALSE),DATA!A:B,2,FALSE))","v":""},{"$f":"IF('Místa dodání'!A87=\"\",\"\",'Místa dodání'!A87-10000)","v":""},{"$f":"IF(F86=\"\",\"\",VLOOKUP(VLOOKUP(F86,'Data eshop'!D:AD,12,FALSE),DATA!D:E,2,FALSE))","v":""},"","","","","","","",{"$f":"IF(A86=\"\",\"\",VLOOKUP(RIGHT(A86,5)*1,'Data eshop'!D:M,10,FALSE))","v":""},{"$f":"IF(A86=\"\",\"\",IF(OR(VLOOKUP(RIGHT(A86,5)*1,'Data eshop'!D:O,12,FALSE)=\"Kurýrní službou\",VLOOKUP(RIGHT(A86,5)*1,'Data eshop'!D:O,12,FALSE)=\"Kuriérskou službou\",VLOOKUP(RIGHT(A86,5)*1,'Data eshop'!D:O,12,FALSE)=\"Usługa kurierską\"),MAX($P$1:P85)+1,\"\"))","v":""},""]
["",{"$f":"IF(F87=\"\",\"\",VLOOKUP(O87,DATA!R:S,2,FALSE)&VLOOKUP(Zakázky!F87+10000,'Místa dodání'!A:B,2,FALSE))","v":""},"","",{"$f":"IF(F87=\"\",\"\",VLOOKUP(VLOOKUP(F87,'Data eshop'!D:N,11,FALSE),DATA!A:B,2,FALSE))","v":""},{"$f":"IF('Místa dodání'!A88=\"\",\"\",'Místa dodání'!A88-10000)","v":""},{"$f":"IF(F87=\"\",\"\",VLOOKUP(VLOOKUP(F87,'Data eshop'!D:AD,12,FALSE),DATA!D:E,2,FALSE))","v":""},"","","","","","","",{"$f":"IF(A87=\"\",\"\",VLOOKUP(RIGHT(A87,5)*1,'Data eshop'!D:M,10,FALSE))","v":""},{"$f":"IF(A87=\"\",\"\",IF(OR(VLOOKUP(RIGHT(A87,5)*1,'Data eshop'!D:O,12,FALSE)=\"Kurýrní službou\",VLOOKUP(RIGHT(A87,5)*1,'Data eshop'!D:O,12,FALSE)=\"Kuriérskou službou\",VLOOKUP(RIGHT(A87,5)*1,'Data eshop'!D:O,12,FALSE)=\"Usługa kurierską\"),MAX($P$1:P86)+1,\"\"))","v":""},"","Roluj nahoru, až uvidíš žlutou"]
["",{"$f":"IF(F88=\"\",\"\",VLOOKUP(O88,DATA!R:S,2,FALSE)&VLOOKUP(Zakázky!F88+10000,'Místa dodání'!A:B,2,FALSE))","v":""},"","",{"$f":"IF(F88=\"\",\"\",VLOOKUP(VLOOKUP(F88,'Data eshop'!D:N,11,FALSE),DATA!A:B,2,FALSE))","v":""},{"$f":"IF('Místa dodání'!A89=\"\",\"\",'Místa dodání'!A89-10000)","v":""},{"$f":"IF(F88=\"\",\"\",VLOOKUP(VLOOKUP(F88,'Data eshop'!D:AD,12,FALSE),DATA!D:E,2,FALSE))","v":""},"","","","","","","",{"$f":"IF(A88=\"\",\"\",VLOOKUP(RIGHT(A88,5)*1,'Data eshop'!D:M,10,FALSE))","v":""},{"$f":"IF(A88=\"\",\"\",IF(OR(VLOOKUP(RIGHT(A88,5)*1,'Data eshop'!D:O,12,FALSE)=\"Kurýrní službou\",VLOOKUP(RIGHT(A88,5)*1,'Data eshop'!D:O,12,FALSE)=\"Kuriérskou službou\",VLOOKUP(RIGHT(A88,5)*1,'Data eshop'!D:O,12,FALSE)=\"Usługa kurierską\"),MAX($P$1:P87)+1,\"\"))","v":""},""]
["",{"$f":"IF(F89=\"\",\"\",VLOOKUP(O89,DATA!R:S,2,FALSE)&VLOOKUP(Zakázky!F89+10000,'Místa dodání'!A:B,2,FALSE))","v":""},"","",{"$f":"IF(F89=\"\",\"\",VLOOKUP(VLOOKUP(F89,'Data eshop'!D:N,11,FALSE),DATA!A:B,2,FALSE))","v":""},{"$f":"IF('Místa dodání'!A90=\"\",\"\",'Místa dodání'!A90-10000)","v":""},{"$f":"IF(F89=\"\",\"\",VLOOKUP(VLOOKUP(F89,'Data eshop'!D:AD,12,FALSE),DATA!D:E,2,FALSE))","v":""},"","","","","","","",{"$f":"IF(A89=\"\",\"\",VLOOKUP(RIGHT(A89,5)*1,'Data eshop'!D:M,10,FALSE))","v":""},{"$f":"IF(A89=\"\",\"\",IF(OR(VLOOKUP(RIGHT(A89,5)*1,'Data eshop'!D:O,12,FALSE)=\"Kurýrní službou\",VLOOKUP(RIGHT(A89,5)*1,'Data eshop'!D:O,12,FALSE)=\"Kuriérskou službou\",VLOOKUP(RIGHT(A89,5)*1,'Data eshop'!D:O,12,FALSE)=\"Usługa kurierską\"),MAX($P$1:P88)+1,\"\"))","v":""},""]
["",{"$f":"IF(F90=\"\",\"\",VLOOKUP(O90,DATA!R:S,2,FALSE)&VLOOKUP(Zakázky!F90+10000,'Místa dodání'!A:B,2,FALSE))","v":""},"","",{"$f":"IF(F90=\"\",\"\",VLOOKUP(VLOOKUP(F90,'Data eshop'!D:N,11,FALSE),DATA!A:B,2,FALSE))","v":""},{"$f":"IF('Místa dodání'!A91=\"\",\"\",'Místa dodání'!A91-10000)","v":""},{"$f":"IF(F90=\"\",\"\",VLOOKUP(VLOOKUP(F90,'Data eshop'!D:AD,12,FALSE),DATA!D:E,2,FALSE))","v":""},"","","","","","","",{"$f":"IF(A90=\"\",\"\",VLOOKUP(RIGHT(A90,5)*1,'Data eshop'!D:M,10,FALSE))","v":""},{"$f":"IF(A90=\"\",\"\",IF(OR(VLOOKUP(RIGHT(A90,5)*1,'Data eshop'!D:O,12,FALSE)=\"Kurýrní službou\",VLOOKUP(RIGHT(A90,5)*1,'Data eshop'!D:O,12,FALSE)=\"Kuriérskou službou\",VLOOKUP(RIGHT(A90,5)*1,'Data eshop'!D:O,12,FALSE)=\"Usługa kurierską\"),MAX($P$1:P89)+1,\"\"))","v":""},""]
["",{"$f":"IF(F91=\"\",\"\",VLOOKUP(O91,DATA!R:S,2,FALSE)&VLOOKUP(Zakázky!F91+10000,'Místa dodání'!A:B,2,FALSE))","v":""},"","",{"$f":"IF(F91=\"\",\"\",VLOOKUP(VLOOKUP(F91,'Data eshop'!D:N,11,FALSE),DATA!A:B,2,FALSE))","v":""},{"$f":"IF('Místa dodání'!A92=\"\",\"\",'Místa dodání'!A92-10000)","v":""},{"$f":"IF(F91=\"\",\"\",VLOOKUP(VLOOKUP(F91,'Data eshop'!D:AD,12,FALSE),DATA!D:E,2,FALSE))","v":""},"","","","","","","",{"$f":"IF(A91=\"\",\"\",VLOOKUP(RIGHT(A91,5)*1,'Data eshop'!D:M,10,FALSE))","v":""},{"$f":"IF(A91=\"\",\"\",IF(OR(VLOOKUP(RIGHT(A91,5)*1,'Data eshop'!D:O,12,FALSE)=\"Kurýrní službou\",VLOOKUP(RIGHT(A91,5)*1,'Data eshop'!D:O,12,FALSE)=\"Kuriérskou službou\",VLOOKUP(RIGHT(A91,5)*1,'Data eshop'!D:O,12,FALSE)=\"Usługa kurierską\"),MAX($P$1:P90)+1,\"\"))","v":""},"","Roluj nahoru, až uvidíš žlutou"]
["",{"$f":"IF(F92=\"\",\"\",VLOOKUP(O92,DATA!R:S,2,FALSE)&VLOOKUP(Zakázky!F92+10000,'Místa dodání'!A:B,2,FALSE))","v":""},"","",{"$f":"IF(F92=\"\",\"\",VLOOKUP(VLOOKUP(F92,'Data eshop'!D:N,11,FALSE),DATA!A:B,2,FALSE))","v":""},{"$f":"IF('Místa dodání'!A93=\"\",\"\",'Místa dodání'!A93-10000)","v":""},{"$f":"IF(F92=\"\",\"\",VLOOKUP(VLOOKUP(F92,'Data eshop'!D:AD,12,FALSE),DATA!D:E,2,FALSE))","v":""},"","","","","","","",{"$f":"IF(A92=\"\",\"\",VLOOKUP(RIGHT(A92,5)*1,'Data eshop'!D:M,10,FALSE))","v":""},{"$f":"IF(A92=\"\",\"\",IF(OR(VLOOKUP(RIGHT(A92,5)*1,'Data eshop'!D:O,12,FALSE)=\"Kurýrní službou\",VLOOKUP(RIGHT(A92,5)*1,'Data eshop'!D:O,12,FALSE)=\"Kuriérskou službou\",VLOOKUP(RIGHT(A92,5)*1,'Data eshop'!D:O,12,FALSE)=\"Usługa kurierską\"),MAX($P$1:P91)+1,\"\"))","v":""},""]
["",{"$f":"IF(F93=\"\",\"\",VLOOKUP(O93,DATA!R:S,2,FALSE)&VLOOKUP(Zakázky!F93+10000,'Místa dodání'!A:B,2,FALSE))","v":""},"","",{"$f":"IF(F93=\"\",\"\",VLOOKUP(VLOOKUP(F93,'Data eshop'!D:N,11,FALSE),DATA!A:B,2,FALSE))","v":""},{"$f":"IF('Místa dodání'!A94=\"\",\"\",'Místa dodání'!A94-10000)","v":""},{"$f":"IF(F93=\"\",\"\",VLOOKUP(VLOOKUP(F93,'Data eshop'!D:AD,12,FALSE),DATA!D:E,2,FALSE))","v":""},"","","","","","","",{"$f":"IF(A93=\"\",\"\",VLOOKUP(RIGHT(A93,5)*1,'Data eshop'!D:M,10,FALSE))","v":""},{"$f":"IF(A93=\"\",\"\",IF(OR(VLOOKUP(RIGHT(A93,5)*1,'Data eshop'!D:O,12,FALSE)=\"Kurýrní službou\",VLOOKUP(RIGHT(A93,5)*1,'Data eshop'!D:O,12,FALSE)=\"Kuriérskou službou\",VLOOKUP(RIGHT(A93,5)*1,'Data eshop'!D:O,12,FALSE)=\"Usługa kurierską\"),MAX($P$1:P92)+1,\"\"))","v":""},""]
["",{"$f":"IF(F94=\"\",\"\",VLOOKUP(O94,DATA!R:S,2,FALSE)&VLOOKUP(Zakázky!F94+10000,'Místa dodání'!A:B,2,FALSE))","v":""},"","",{"$f":"IF(F94=\"\",\"\",VLOOKUP(VLOOKUP(F94,'Data eshop'!D:N,11,FALSE),DATA!A:B,2,FALSE))","v":""},{"$f":"IF('Místa dodání'!A95=\"\",\"\",'Místa dodání'!A95-10000)","v":""},{"$f":"IF(F94=\"\",\"\",VLOOKUP(VLOOKUP(F94,'Data eshop'!D:AD,12,FALSE),DATA!D:E,2,FALSE))","v":""},"","","","","","","",{"$f":"IF(A94=\"\",\"\",VLOOKUP(RIGHT(A94,5)*1,'Data eshop'!D:M,10,FALSE))","v":""},{"$f":"IF(A94=\"\",\"\",IF(OR(VLOOKUP(RIGHT(A94,5)*1,'Data eshop'!D:O,12,FALSE)=\"Kurýrní službou\",VLOOKUP(RIGHT(A94,5)*1,'Data eshop'!D:O,12,FALSE)=\"Kuriérskou službou\",VLOOKUP(RIGHT(A94,5)*1,'Data eshop'!D:O,12,FALSE)=\"Usługa kurierską\"),MAX($P$1:P93)+1,\"\"))","v":""},""]
["",{"$f":"IF(F95=\"\",\"\",VLOOKUP(O95,DATA!R:S,2,FALSE)&VLOOKUP(Zakázky!F95+10000,'Místa dodání'!A:B,2,FALSE))","v":""},"","",{"$f":"IF(F95=\"\",\"\",VLOOKUP(VLOOKUP(F95,'Data eshop'!D:N,11,FALSE),DATA!A:B,2,FALSE))","v":""},{"$f":"IF('Místa dodání'!A96=\"\",\"\",'Místa dodání'!A96-10000)","v":""},{"$f":"IF(F95=\"\",\"\",VLOOKUP(VLOOKUP(F95,'Data eshop'!D:AD,12,FALSE),DATA!D:E,2,FALSE))","v":""},"","","","","","","",{"$f":"IF(A95=\"\",\"\",VLOOKUP(RIGHT(A95,5)*1,'Data eshop'!D:M,10,FALSE))","v":""},{"$f":"IF(A95=\"\",\"\",IF(OR(VLOOKUP(RIGHT(A95,5)*1,'Data eshop'!D:O,12,FALSE)=\"Kurýrní službou\",VLOOKUP(RIGHT(A95,5)*1,'Data eshop'!D:O,12,FALSE)=\"Kuriérskou službou\",VLOOKUP(RIGHT(A95,5)*1,'Data eshop'!D:O,12,FALSE)=\"Usługa kurierską\"),MAX($P$1:P94)+1,\"\"))","v":""},"","Roluj nahoru, až uvidíš žlutou"]
["",{"$f":"IF(F96=\"\",\"\",VLOOKUP(O96,DATA!R:S,2,FALSE)&VLOOKUP(Zakázky!F96+10000,'Místa dodání'!A:B,2,FALSE))","v":""},"","",{"$f":"IF(F96=\"\",\"\",VLOOKUP(VLOOKUP(F96,'Data eshop'!D:N,11,FALSE),DATA!A:B,2,FALSE))","v":""},{"$f":"IF('Místa dodání'!A97=\"\",\"\",'Místa dodání'!A97-10000)","v":""},{"$f":"IF(F96=\"\",\"\",VLOOKUP(VLOOKUP(F96,'Data eshop'!D:AD,12,FALSE),DATA!D:E,2,FALSE))","v":""},"","","","","","","",{"$f":"IF(A96=\"\",\"\",VLOOKUP(RIGHT(A96,5)*1,'Data eshop'!D:M,10,FALSE))","v":""},{"$f":"IF(A96=\"\",\"\",IF(OR(VLOOKUP(RIGHT(A96,5)*1,'Data eshop'!D:O,12,FALSE)=\"Kurýrní službou\",VLOOKUP(RIGHT(A96,5)*1,'Data eshop'!D:O,12,FALSE)=\"Kuriérskou službou\",VLOOKUP(RIGHT(A96,5)*1,'Data eshop'!D:O,12,FALSE)=\"Usługa kurierską\"),MAX($P$1:P95)+1,\"\"))","v":""},""]
["",{"$f":"IF(F97=\"\",\"\",VLOOKUP(O97,DATA!R:S,2,FALSE)&VLOOKUP(Zakázky!F97+10000,'Místa dodání'!A:B,2,FALSE))","v":""},"","",{"$f":"IF(F97=\"\",\"\",VLOOKUP(VLOOKUP(F97,'Data eshop'!D:N,11,FALSE),DATA!A:B,2,FALSE))","v":""},{"$f":"IF('Místa dodání'!A98=\"\",\"\",'Místa dodání'!A98-10000)","v":""},{"$f":"IF(F97=\"\",\"\",VLOOKUP(VLOOKUP(F97,'Data eshop'!D:AD,12,FALSE),DATA!D:E,2,FALSE))","v":""},"","","","","","","",{"$f":"IF(A97=\"\",\"\",VLOOKUP(RIGHT(A97,5)*1,'Data eshop'!D:M,10,FALSE))","v":""},{"$f":"IF(A97=\"\",\"\",IF(OR(VLOOKUP(RIGHT(A97,5)*1,'Data eshop'!D:O,12,FALSE)=\"Kurýrní službou\",VLOOKUP(RIGHT(A97,5)*1,'Data eshop'!D:O,12,FALSE)=\"Kuriérskou službou\",VLOOKUP(RIGHT(A97,5)*1,'Data eshop'!D:O,12,FALSE)=\"Usługa kurierską\"),MAX($P$1:P96)+1,\"\"))","v":""},""]
["",{"$f":"IF(F98=\"\",\"\",VLOOKUP(O98,DATA!R:S,2,FALSE)&VLOOKUP(Zakázky!F98+10000,'Místa dodání'!A:B,2,FALSE))","v":""},"","",{"$f":"IF(F98=\"\",\"\",VLOOKUP(VLOOKUP(F98,'Data eshop'!D:N,11,FALSE),DATA!A:B,2,FALSE))","v":""},{"$f":"IF('Místa dodání'!A99=\"\",\"\",'Místa dodání'!A99-10000)","v":""},{"$f":"IF(F98=\"\",\"\",VLOOKUP(VLOOKUP(F98,'Data eshop'!D:AD,12,FALSE),DATA!D:E,2,FALSE))","v":""},"","","","","","","",{"$f":"IF(A98=\"\",\"\",VLOOKUP(RIGHT(A98,5)*1,'Data eshop'!D:M,10,FALSE))","v":""},{"$f":"IF(A98=\"\",\"\",IF(OR(VLOOKUP(RIGHT(A98,5)*1,'Data eshop'!D:O,12,FALSE)=\"Kurýrní službou\",VLOOKUP(RIGHT(A98,5)*1,'Data eshop'!D:O,12,FALSE)=\"Kuriérskou službou\",VLOOKUP(RIGHT(A98,5)*1,'Data eshop'!D:O,12,FALSE)=\"Usługa kurierską\"),MAX($P$1:P97)+1,\"\"))","v":""},""]
["",{"$f":"IF(F99=\"\",\"\",VLOOKUP(O99,DATA!R:S,2,FALSE)&VLOOKUP(Zakázky!F99+10000,'Místa dodání'!A:B,2,FALSE))","v":""},"","",{"$f":"IF(F99=\"\",\"\",VLOOKUP(VLOOKUP(F99,'Data eshop'!D:N,11,FALSE),DATA!A:B,2,FALSE))","v":""},{"$f":"IF('Místa dodání'!A100=\"\",\"\",'Místa dodání'!A100-10000)","v":""},{"$f":"IF(F99=\"\",\"\",VLOOKUP(VLOOKUP(F99,'Data eshop'!D:AD,12,FALSE),DATA!D:E,2,FALSE))","v":""},"","","","","","","",{"$f":"IF(A99=\"\",\"\",VLOOKUP(RIGHT(A99,5)*1,'Data eshop'!D:M,10,FALSE))","v":""},{"$f":"IF(A99=\"\",\"\",IF(OR(VLOOKUP(RIGHT(A99,5)*1,'Data eshop'!D:O,12,FALSE)=\"Kurýrní službou\",VLOOKUP(RIGHT(A99,5)*1,'Data eshop'!D:O,12,FALSE)=\"Kuriérskou službou\",VLOOKUP(RIGHT(A99,5)*1,'Data eshop'!D:O,12,FALSE)=\"Usługa kurierską\"),MAX($P$1:P98)+1,\"\"))","v":""},"","Roluj nahoru, až uvidíš žlutou"]
["",{"$f":"IF(F100=\"\",\"\",VLOOKUP(O100,DATA!R:S,2,FALSE)&VLOOKUP(Zakázky!F100+10000,'Místa dodání'!A:B,2,FALSE))","v":""},"","",{"$f":"IF(F100=\"\",\"\",VLOOKUP(VLOOKUP(F100,'Data eshop'!D:N,11,FALSE),DATA!A:B,2,FALSE))","v":""},{"$f":"IF('Místa dodání'!A101=\"\",\"\",'Místa dodání'!A101-10000)","v":""},{"$f":"IF(F100=\"\",\"\",VLOOKUP(VLOOKUP(F100,'Data eshop'!D:AD,12,FALSE),DATA!D:E,2,FALSE))","v":""},"","","","","","","",{"$f":"IF(A100=\"\",\"\",VLOOKUP(RIGHT(A100,5)*1,'Data eshop'!D:M,10,FALSE))","v":""},{"$f":"IF(A100=\"\",\"\",IF(OR(VLOOKUP(RIGHT(A100,5)*1,'Data eshop'!D:O,12,FALSE)=\"Kurýrní službou\",VLOOKUP(RIGHT(A100,5)*1,'Data eshop'!D:O,12,FALSE)=\"Kuriérskou službou\",VLOOKUP(RIGHT(A100,5)*1,'Data eshop'!D:O,12,FALSE)=\"Usługa kurierską\"),MAX($P$1:P99)+1,\"\"))","v":""},""]
["",{"$f":"IF(F101=\"\",\"\",VLOOKUP(O101,DATA!R:S,2,FALSE)&VLOOKUP(Zakázky!F101+10000,'Místa dodání'!A:B,2,FALSE))","v":""},"","",{"$f":"IF(F101=\"\",\"\",VLOOKUP(VLOOKUP(F101,'Data eshop'!D:N,11,FALSE),DATA!A:B,2,FALSE))","v":""},{"$f":"IF('Místa dodání'!A102=\"\",\"\",'Místa dodání'!A102-10000)","v":""},{"$f":"IF(F101=\"\",\"\",VLOOKUP(VLOOKUP(F101,'Data eshop'!D:AD,12,FALSE),DATA!D:E,2,FALSE))","v":""},"","","","","","","",{"$f":"IF(A101=\"\",\"\",VLOOKUP(RIGHT(A101,5)*1,'Data eshop'!D:M,10,FALSE))","v":""},{"$f":"IF(A101=\"\",\"\",IF(OR(VLOOKUP(RIGHT(A101,5)*1,'Data eshop'!D:O,12,FALSE)=\"Kurýrní službou\",VLOOKUP(RIGHT(A101,5)*1,'Data eshop'!D:O,12,FALSE)=\"Kuriérskou službou\",VLOOKUP(RIGHT(A101,5)*1,'Data eshop'!D:O,12,FALSE)=\"Usługa kurierską\"),MAX($P$1:P100)+1,\"\"))","v":""},""]
["",{"$f":"IF(F102=\"\",\"\",VLOOKUP(O102,DATA!R:S,2,FALSE)&VLOOKUP(Zakázky!F102+10000,'Místa dodání'!A:B,2,FALSE))","v":""},"","",{"$f":"IF(F102=\"\",\"\",VLOOKUP(VLOOKUP(F102,'Data eshop'!D:N,11,FALSE),DATA!A:B,2,FALSE))","v":""},{"$f":"IF('Místa dodání'!A103=\"\",\"\",'Místa dodání'!A103-10000)","v":""},{"$f":"IF(F102=\"\",\"\",VLOOKUP(VLOOKUP(F102,'Data eshop'!D:AD,12,FALSE),DATA!D:E,2,FALSE))","v":""},"","","","","","","",{"$f":"IF(A102=\"\",\"\",VLOOKUP(RIGHT(A102,5)*1,'Data eshop'!D:M,10,FALSE))","v":""},{"$f":"IF(A102=\"\",\"\",IF(OR(VLOOKUP(RIGHT(A102,5)*1,'Data eshop'!D:O,12,FALSE)=\"Kurýrní službou\",VLOOKUP(RIGHT(A102,5)*1,'Data eshop'!D:O,12,FALSE)=\"Kuriérskou službou\",VLOOKUP(RIGHT(A102,5)*1,'Data eshop'!D:O,12,FALSE)=\"Usługa kurierską\"),MAX($P$1:P101)+1,\"\"))","v":""},""]
["",{"$f":"IF(F103=\"\",\"\",VLOOKUP(O103,DATA!R:S,2,FALSE)&VLOOKUP(Zakázky!F103+10000,'Místa dodání'!A:B,2,FALSE))","v":""},"","",{"$f":"IF(F103=\"\",\"\",VLOOKUP(VLOOKUP(F103,'Data eshop'!D:N,11,FALSE),DATA!A:B,2,FALSE))","v":""},{"$f":"IF('Místa dodání'!A104=\"\",\"\",'Místa dodání'!A104-10000)","v":""},{"$f":"IF(F103=\"\",\"\",VLOOKUP(VLOOKUP(F103,'Data eshop'!D:AD,12,FALSE),DATA!D:E,2,FALSE))","v":""},"","","","","","","",{"$f":"IF(A103=\"\",\"\",VLOOKUP(RIGHT(A103,5)*1,'Data eshop'!D:M,10,FALSE))","v":""},{"$f":"IF(A103=\"\",\"\",IF(OR(VLOOKUP(RIGHT(A103,5)*1,'Data eshop'!D:O,12,FALSE)=\"Kurýrní službou\",VLOOKUP(RIGHT(A103,5)*1,'Data eshop'!D:O,12,FALSE)=\"Kuriérskou službou\",VLOOKUP(RIGHT(A103,5)*1,'Data eshop'!D:O,12,FALSE)=\"Usługa kurierską\"),MAX($P$1:P102)+1,\"\"))","v":""},"","Roluj nahoru, až uvidíš žlutou"]
["",{"$f":"IF(F104=\"\",\"\",VLOOKUP(O104,DATA!R:S,2,FALSE)&VLOOKUP(Zakázky!F104+10000,'Místa dodání'!A:B,2,FALSE))","v":""},"","",{"$f":"IF(F104=\"\",\"\",VLOOKUP(VLOOKUP(F104,'Data eshop'!D:N,11,FALSE),DATA!A:B,2,FALSE))","v":""},{"$f":"IF('Místa dodání'!A105=\"\",\"\",'Místa dodání'!A105-10000)","v":""},{"$f":"IF(F104=\"\",\"\",VLOOKUP(VLOOKUP(F104,'Data eshop'!D:AD,12,FALSE),DATA!D:E,2,FALSE))","v":""},"","","","","","","",{"$f":"IF(A104=\"\",\"\",VLOOKUP(RIGHT(A104,5)*1,'Data eshop'!D:M,10,FALSE))","v":""},{"$f":"IF(A104=\"\",\"\",IF(OR(VLOOKUP(RIGHT(A104,5)*1,'Data eshop'!D:O,12,FALSE)=\"Kurýrní službou\",VLOOKUP(RIGHT(A104,5)*1,'Data eshop'!D:O,12,FALSE)=\"Kuriérskou službou\",VLOOKUP(RIGHT(A104,5)*1,'Data eshop'!D:O,12,FALSE)=\"Usługa kurierską\"),MAX($P$1:P103)+1,\"\"))","v":""},""]
["",{"$f":"IF(F105=\"\",\"\",VLOOKUP(O105,DATA!R:S,2,FALSE)&VLOOKUP(Zakázky!F105+10000,'Místa dodání'!A:B,2,FALSE))","v":""},"","",{"$f":"IF(F105=\"\",\"\",VLOOKUP(VLOOKUP(F105,'Data eshop'!D:N,11,FALSE),DATA!A:B,2,FALSE))","v":""},{"$f":"IF('Místa dodání'!A106=\"\",\"\",'Místa dodání'!A106-10000)","v":""},{"$f":"IF(F105=\"\",\"\",VLOOKUP(VLOOKUP(F105,'Data eshop'!D:AD,12,FALSE),DATA!D:E,2,FALSE))","v":""},"","","","","","","",{"$f":"IF(A105=\"\",\"\",VLOOKUP(RIGHT(A105,5)*1,'Data eshop'!D:M,10,FALSE))","v":""},{"$f":"IF(A105=\"\",\"\",IF(OR(VLOOKUP(RIGHT(A105,5)*1,'Data eshop'!D:O,12,FALSE)=\"Kurýrní službou\",VLOOKUP(RIGHT(A105,5)*1,'Data eshop'!D:O,12,FALSE)=\"Kuriérskou službou\",VLOOKUP(RIGHT(A105,5)*1,'Data eshop'!D:O,12,FALSE)=\"Usługa kurierską\"),MAX($P$1:P104)+1,\"\"))","v":""},""]
["",{"$f":"IF(F106=\"\",\"\",VLOOKUP(O106,DATA!R:S,2,FALSE)&VLOOKUP(Zakázky!F106+10000,'Místa dodání'!A:B,2,FALSE))","v":""},"","",{"$f":"IF(F106=\"\",\"\",VLOOKUP(VLOOKUP(F106,'Data eshop'!D:N,11,FALSE),DATA!A:B,2,FALSE))","v":""},{"$f":"IF('Místa dodání'!A107=\"\",\"\",'Místa dodání'!A107-10000)","v":""},{"$f":"IF(F106=\"\",\"\",VLOOKUP(VLOOKUP(F106,'Data eshop'!D:AD,12,FALSE),DATA!D:E,2,FALSE))","v":""},"","","","","","","",{"$f":"IF(A106=\"\",\"\",VLOOKUP(RIGHT(A106,5)*1,'Data eshop'!D:M,10,FALSE))","v":""},{"$f":"IF(A106=\"\",\"\",IF(OR(VLOOKUP(RIGHT(A106,5)*1,'Data eshop'!D:O,12,FALSE)=\"Kurýrní službou\",VLOOKUP(RIGHT(A106,5)*1,'Data eshop'!D:O,12,FALSE)=\"Kuriérskou službou\",VLOOKUP(RIGHT(A106,5)*1,'Data eshop'!D:O,12,FALSE)=\"Usługa kurierską\"),MAX($P$1:P105)+1,\"\"))","v":""},""]
["",{"$f":"IF(F107=\"\",\"\",VLOOKUP(O107,DATA!R:S,2,FALSE)&VLOOKUP(Zakázky!F107+10000,'Místa dodání'!A:B,2,FALSE))","v":""},"","",{"$f":"IF(F107=\"\",\"\",VLOOKUP(VLOOKUP(F107,'Data eshop'!D:N,11,FALSE),DATA!A:B,2,FALSE))","v":""},{"$f":"IF('Místa dodání'!A108=\"\",\"\",'Místa dodání'!A108-10000)","v":""},{"$f":"IF(F107=\"\",\"\",VLOOKUP(VLOOKUP(F107,'Data eshop'!D:AD,12,FALSE),DATA!D:E,2,FALSE))","v":""},"","","","","","","",{"$f":"IF(A107=\"\",\"\",VLOOKUP(RIGHT(A107,5)*1,'Data eshop'!D:M,10,FALSE))","v":""},{"$f":"IF(A107=\"\",\"\",IF(OR(VLOOKUP(RIGHT(A107,5)*1,'Data eshop'!D:O,12,FALSE)=\"Kurýrní službou\",VLOOKUP(RIGHT(A107,5)*1,'Data eshop'!D:O,12,FALSE)=\"Kuriérskou službou\",VLOOKUP(RIGHT(A107,5)*1,'Data eshop'!D:O,12,FALSE)=\"Usługa kurierską\"),MAX($P$1:P106)+1,\"\"))","v":""},"","Roluj nahoru, až uvidíš žlutou"]
["",{"$f":"IF(F108=\"\",\"\",VLOOKUP(O108,DATA!R:S,2,FALSE)&VLOOKUP(Zakázky!F108+10000,'Místa dodání'!A:B,2,FALSE))","v":""},"","",{"$f":"IF(F108=\"\",\"\",VLOOKUP(VLOOKUP(F108,'Data eshop'!D:N,11,FALSE),DATA!A:B,2,FALSE))","v":""},{"$f":"IF('Místa dodání'!A109=\"\",\"\",'Místa dodání'!A109-10000)","v":""},{"$f":"IF(F108=\"\",\"\",VLOOKUP(VLOOKUP(F108,'Data eshop'!D:AD,12,FALSE),DATA!D:E,2,FALSE))","v":""},"","","","","","","",{"$f":"IF(A108=\"\",\"\",VLOOKUP(RIGHT(A108,5)*1,'Data eshop'!D:M,10,FALSE))","v":""},{"$f":"IF(A108=\"\",\"\",IF(OR(VLOOKUP(RIGHT(A108,5)*1,'Data eshop'!D:O,12,FALSE)=\"Kurýrní službou\",VLOOKUP(RIGHT(A108,5)*1,'Data eshop'!D:O,12,FALSE)=\"Kuriérskou službou\",VLOOKUP(RIGHT(A108,5)*1,'Data eshop'!D:O,12,FALSE)=\"Usługa kurierską\"),MAX($P$1:P107)+1,\"\"))","v":""},""]
["",{"$f":"IF(F109=\"\",\"\",VLOOKUP(O109,DATA!R:S,2,FALSE)&VLOOKUP(Zakázky!F109+10000,'Místa dodání'!A:B,2,FALSE))","v":""},"","",{"$f":"IF(F109=\"\",\"\",VLOOKUP(VLOOKUP(F109,'Data eshop'!D:N,11,FALSE),DATA!A:B,2,FALSE))","v":""},{"$f":"IF('Místa dodání'!A110=\"\",\"\",'Místa dodání'!A110-10000)","v":""},{"$f":"IF(F109=\"\",\"\",VLOOKUP(VLOOKUP(F109,'Data eshop'!D:AD,12,FALSE),DATA!D:E,2,FALSE))","v":""},"","","","","","","",{"$f":"IF(A109=\"\",\"\",VLOOKUP(RIGHT(A109,5)*1,'Data eshop'!D:M,10,FALSE))","v":""},{"$f":"IF(A109=\"\",\"\",IF(OR(VLOOKUP(RIGHT(A109,5)*1,'Data eshop'!D:O,12,FALSE)=\"Kurýrní službou\",VLOOKUP(RIGHT(A109,5)*1,'Data eshop'!D:O,12,FALSE)=\"Kuriérskou službou\",VLOOKUP(RIGHT(A109,5)*1,'Data eshop'!D:O,12,FALSE)=\"Usługa kurierską\"),MAX($P$1:P108)+1,\"\"))","v":""},""]
["",{"$f":"IF(F110=\"\",\"\",VLOOKUP(O110,DATA!R:S,2,FALSE)&VLOOKUP(Zakázky!F110+10000,'Místa dodání'!A:B,2,FALSE))","v":""},"","",{"$f":"IF(F110=\"\",\"\",VLOOKUP(VLOOKUP(F110,'Data eshop'!D:N,11,FALSE),DATA!A:B,2,FALSE))","v":""},{"$f":"IF('Místa dodání'!A111=\"\",\"\",'Místa dodání'!A111-10000)","v":""},{"$f":"IF(F110=\"\",\"\",VLOOKUP(VLOOKUP(F110,'Data eshop'!D:AD,12,FALSE),DATA!D:E,2,FALSE))","v":""},"","","","","","","",{"$f":"IF(A110=\"\",\"\",VLOOKUP(RIGHT(A110,5)*1,'Data eshop'!D:M,10,FALSE))","v":""},{"$f":"IF(A110=\"\",\"\",IF(OR(VLOOKUP(RIGHT(A110,5)*1,'Data eshop'!D:O,12,FALSE)=\"Kurýrní službou\",VLOOKUP(RIGHT(A110,5)*1,'Data eshop'!D:O,12,FALSE)=\"Kuriérskou službou\",VLOOKUP(RIGHT(A110,5)*1,'Data eshop'!D:O,12,FALSE)=\"Usługa kurierską\"),MAX($P$1:P109)+1,\"\"))","v":""},""]
["",{"$f":"IF(F111=\"\",\"\",VLOOKUP(O111,DATA!R:S,2,FALSE)&VLOOKUP(Zakázky!F111+10000,'Místa dodání'!A:B,2,FALSE))","v":""},"","",{"$f":"IF(F111=\"\",\"\",VLOOKUP(VLOOKUP(F111,'Data eshop'!D:N,11,FALSE),DATA!A:B,2,FALSE))","v":""},{"$f":"IF('Místa dodání'!A112=\"\",\"\",'Místa dodání'!A112-10000)","v":""},{"$f":"IF(F111=\"\",\"\",VLOOKUP(VLOOKUP(F111,'Data eshop'!D:AD,12,FALSE),DATA!D:E,2,FALSE))","v":""},"","","","","","","",{"$f":"IF(A111=\"\",\"\",VLOOKUP(RIGHT(A111,5)*1,'Data eshop'!D:M,10,FALSE))","v":""},{"$f":"IF(A111=\"\",\"\",IF(OR(VLOOKUP(RIGHT(A111,5)*1,'Data eshop'!D:O,12,FALSE)=\"Kurýrní službou\",VLOOKUP(RIGHT(A111,5)*1,'Data eshop'!D:O,12,FALSE)=\"Kuriérskou službou\",VLOOKUP(RIGHT(A111,5)*1,'Data eshop'!D:O,12,FALSE)=\"Usługa kurierską\"),MAX($P$1:P110)+1,\"\"))","v":""},"","Roluj nahoru, až uvidíš žlutou"]
["",{"$f":"IF(F112=\"\",\"\",VLOOKUP(O112,DATA!R:S,2,FALSE)&VLOOKUP(Zakázky!F112+10000,'Místa dodání'!A:B,2,FALSE))","v":""},"","",{"$f":"IF(F112=\"\",\"\",VLOOKUP(VLOOKUP(F112,'Data eshop'!D:N,11,FALSE),DATA!A:B,2,FALSE))","v":""},{"$f":"IF('Místa dodání'!A113=\"\",\"\",'Místa dodání'!A113-10000)","v":""},{"$f":"IF(F112=\"\",\"\",VLOOKUP(VLOOKUP(F112,'Data eshop'!D:AD,12,FALSE),DATA!D:E,2,FALSE))","v":""},"","","","","","","",{"$f":"IF(A112=\"\",\"\",VLOOKUP(RIGHT(A112,5)*1,'Data eshop'!D:M,10,FALSE))","v":""},{"$f":"IF(A112=\"\",\"\",IF(OR(VLOOKUP(RIGHT(A112,5)*1,'Data eshop'!D:O,12,FALSE)=\"Kurýrní službou\",VLOOKUP(RIGHT(A112,5)*1,'Data eshop'!D:O,12,FALSE)=\"Kuriérskou službou\",VLOOKUP(RIGHT(A112,5)*1,'Data eshop'!D:O,12,FALSE)=\"Usługa kurierską\"),MAX($P$1:P111)+1,\"\"))","v":""},""]
["",{"$f":"IF(F113=\"\",\"\",VLOOKUP(O113,DATA!R:S,2,FALSE)&VLOOKUP(Zakázky!F113+10000,'Místa dodání'!A:B,2,FALSE))","v":""},"","",{"$f":"IF(F113=\"\",\"\",VLOOKUP(VLOOKUP(F113,'Data eshop'!D:N,11,FALSE),DATA!A:B,2,FALSE))","v":""},{"$f":"IF('Místa dodání'!A114=\"\",\"\",'Místa dodání'!A114-10000)","v":""},{"$f":"IF(F113=\"\",\"\",VLOOKUP(VLOOKUP(F113,'Data eshop'!D:AD,12,FALSE),DATA!D:E,2,FALSE))","v":""},"","","","","","","",{"$f":"IF(A113=\"\",\"\",VLOOKUP(RIGHT(A113,5)*1,'Data eshop'!D:M,10,FALSE))","v":""},{"$f":"IF(A113=\"\",\"\",IF(OR(VLOOKUP(RIGHT(A113,5)*1,'Data eshop'!D:O,12,FALSE)=\"Kurýrní službou\",VLOOKUP(RIGHT(A113,5)*1,'Data eshop'!D:O,12,FALSE)=\"Kuriérskou službou\",VLOOKUP(RIGHT(A113,5)*1,'Data eshop'!D:O,12,FALSE)=\"Usługa kurierską\"),MAX($P$1:P112)+1,\"\"))","v":""},""]
["",{"$f":"IF(F114=\"\",\"\",VLOOKUP(O114,DATA!R:S,2,FALSE)&VLOOKUP(Zakázky!F114+10000,'Místa dodání'!A:B,2,FALSE))","v":""},"","",{"$f":"IF(F114=\"\",\"\",VLOOKUP(VLOOKUP(F114,'Data eshop'!D:N,11,FALSE),DATA!A:B,2,FALSE))","v":""},{"$f":"IF('Místa dodání'!A115=\"\",\"\",'Místa dodání'!A115-10000)","v":""},{"$f":"IF(F114=\"\",\"\",VLOOKUP(VLOOKUP(F114,'Data eshop'!D:AD,12,FALSE),DATA!D:E,2,FALSE))","v":""},"","","","","","","",{"$f":"IF(A114=\"\",\"\",VLOOKUP(RIGHT(A114,5)*1,'Data eshop'!D:M,10,FALSE))","v":""},{"$f":"IF(A114=\"\",\"\",IF(OR(VLOOKUP(RIGHT(A114,5)*1,'Data eshop'!D:O,12,FALSE)=\"Kurýrní službou\",VLOOKUP(RIGHT(A114,5)*1,'Data eshop'!D:O,12,FALSE)=\"Kuriérskou službou\",VLOOKUP(RIGHT(A114,5)*1,'Data eshop'!D:O,12,FALSE)=\"Usługa kurierską\"),MAX($P$1:P113)+1,\"\"))","v":""},""]
["",{"$f":"IF(F115=\"\",\"\",VLOOKUP(O115,DATA!R:S,2,FALSE)&VLOOKUP(Zakázky!F115+10000,'Místa dodání'!A:B,2,FALSE))","v":""},"","",{"$f":"IF(F115=\"\",\"\",VLOOKUP(VLOOKUP(F115,'Data eshop'!D:N,11,FALSE),DATA!A:B,2,FALSE))","v":""},{"$f":"IF('Místa dodání'!A116=\"\",\"\",'Místa dodání'!A116-10000)","v":""},{"$f":"IF(F115=\"\",\"\",VLOOKUP(VLOOKUP(F115,'Data eshop'!D:AD,12,FALSE),DATA!D:E,2,FALSE))","v":""},"","","","","","","",{"$f":"IF(A115=\"\",\"\",VLOOKUP(RIGHT(A115,5)*1,'Data eshop'!D:M,10,FALSE))","v":""},{"$f":"IF(A115=\"\",\"\",IF(OR(VLOOKUP(RIGHT(A115,5)*1,'Data eshop'!D:O,12,FALSE)=\"Kurýrní službou\",VLOOKUP(RIGHT(A115,5)*1,'Data eshop'!D:O,12,FALSE)=\"Kuriérskou službou\",VLOOKUP(RIGHT(A115,5)*1,'Data eshop'!D:O,12,FALSE)=\"Usługa kurierską\"),MAX($P$1:P114)+1,\"\"))","v":""},"","Roluj nahoru, až uvidíš žlutou"]
["",{"$f":"IF(F116=\"\",\"\",VLOOKUP(O116,DATA!R:S,2,FALSE)&VLOOKUP(Zakázky!F116+10000,'Místa dodání'!A:B,2,FALSE))","v":""},"","",{"$f":"IF(F116=\"\",\"\",VLOOKUP(VLOOKUP(F116,'Data eshop'!D:N,11,FALSE),DATA!A:B,2,FALSE))","v":""},{"$f":"IF('Místa dodání'!A117=\"\",\"\",'Místa dodání'!A117-10000)","v":""},{"$f":"IF(F116=\"\",\"\",VLOOKUP(VLOOKUP(F116,'Data eshop'!D:AD,12,FALSE),DATA!D:E,2,FALSE))","v":""},"","","","","","","",{"$f":"IF(A116=\"\",\"\",VLOOKUP(RIGHT(A116,5)*1,'Data eshop'!D:M,10,FALSE))","v":""},{"$f":"IF(A116=\"\",\"\",IF(OR(VLOOKUP(RIGHT(A116,5)*1,'Data eshop'!D:O,12,FALSE)=\"Kurýrní službou\",VLOOKUP(RIGHT(A116,5)*1,'Data eshop'!D:O,12,FALSE)=\"Kuriérskou službou\",VLOOKUP(RIGHT(A116,5)*1,'Data eshop'!D:O,12,FALSE)=\"Usługa kurierską\"),MAX($P$1:P115)+1,\"\"))","v":""},""]
["",{"$f":"IF(F117=\"\",\"\",VLOOKUP(O117,DATA!R:S,2,FALSE)&VLOOKUP(Zakázky!F117+10000,'Místa dodání'!A:B,2,FALSE))","v":""},"","",{"$f":"IF(F117=\"\",\"\",VLOOKUP(VLOOKUP(F117,'Data eshop'!D:N,11,FALSE),DATA!A:B,2,FALSE))","v":""},{"$f":"IF('Místa dodání'!A118=\"\",\"\",'Místa dodání'!A118-10000)","v":""},{"$f":"IF(F117=\"\",\"\",VLOOKUP(VLOOKUP(F117,'Data eshop'!D:AD,12,FALSE),DATA!D:E,2,FALSE))","v":""},"","","","","","","",{"$f":"IF(A117=\"\",\"\",VLOOKUP(RIGHT(A117,5)*1,'Data eshop'!D:M,10,FALSE))","v":""},{"$f":"IF(A117=\"\",\"\",IF(OR(VLOOKUP(RIGHT(A117,5)*1,'Data eshop'!D:O,12,FALSE)=\"Kurýrní službou\",VLOOKUP(RIGHT(A117,5)*1,'Data eshop'!D:O,12,FALSE)=\"Kuriérskou službou\",VLOOKUP(RIGHT(A117,5)*1,'Data eshop'!D:O,12,FALSE)=\"Usługa kurierską\"),MAX($P$1:P116)+1,\"\"))","v":""},""]
["",{"$f":"IF(F118=\"\",\"\",VLOOKUP(O118,DATA!R:S,2,FALSE)&VLOOKUP(Zakázky!F118+10000,'Místa dodání'!A:B,2,FALSE))","v":""},"","",{"$f":"IF(F118=\"\",\"\",VLOOKUP(VLOOKUP(F118,'Data eshop'!D:N,11,FALSE),DATA!A:B,2,FALSE))","v":""},{"$f":"IF('Místa dodání'!A119=\"\",\"\",'Místa dodání'!A119-10000)","v":""},{"$f":"IF(F118=\"\",\"\",VLOOKUP(VLOOKUP(F118,'Data eshop'!D:AD,12,FALSE),DATA!D:E,2,FALSE))","v":""},"","","","","","","",{"$f":"IF(A118=\"\",\"\",VLOOKUP(RIGHT(A118,5)*1,'Data eshop'!D:M,10,FALSE))","v":""},{"$f":"IF(A118=\"\",\"\",IF(OR(VLOOKUP(RIGHT(A118,5)*1,'Data eshop'!D:O,12,FALSE)=\"Kurýrní službou\",VLOOKUP(RIGHT(A118,5)*1,'Data eshop'!D:O,12,FALSE)=\"Kuriérskou službou\",VLOOKUP(RIGHT(A118,5)*1,'Data eshop'!D:O,12,FALSE)=\"Usługa kurierską\"),MAX($P$1:P117)+1,\"\"))","v":""},""]
["",{"$f":"IF(F119=\"\",\"\",VLOOKUP(O119,DATA!R:S,2,FALSE)&VLOOKUP(Zakázky!F119+10000,'Místa dodání'!A:B,2,FALSE))","v":""},"","",{"$f":"IF(F119=\"\",\"\",VLOOKUP(VLOOKUP(F119,'Data eshop'!D:N,11,FALSE),DATA!A:B,2,FALSE))","v":""},{"$f":"IF('Místa dodání'!A120=\"\",\"\",'Místa dodání'!A120-10000)","v":""},{"$f":"IF(F119=\"\",\"\",VLOOKUP(VLOOKUP(F119,'Data eshop'!D:AD,12,FALSE),DATA!D:E,2,FALSE))","v":""},"","","","","","","",{"$f":"IF(A119=\"\",\"\",VLOOKUP(RIGHT(A119,5)*1,'Data eshop'!D:M,10,FALSE))","v":""},{"$f":"IF(A119=\"\",\"\",IF(OR(VLOOKUP(RIGHT(A119,5)*1,'Data eshop'!D:O,12,FALSE)=\"Kurýrní službou\",VLOOKUP(RIGHT(A119,5)*1,'Data eshop'!D:O,12,FALSE)=\"Kuriérskou službou\",VLOOKUP(RIGHT(A119,5)*1,'Data eshop'!D:O,12,FALSE)=\"Usługa kurierską\"),MAX($P$1:P118)+1,\"\"))","v":""},"","Roluj nahoru, až uvidíš žlutou"]
["",{"$f":"IF(F120=\"\",\"\",VLOOKUP(O120,DATA!R:S,2,FALSE)&VLOOKUP(Zakázky!F120+10000,'Místa dodání'!A:B,2,FALSE))","v":""},"","",{"$f":"IF(F120=\"\",\"\",VLOOKUP(VLOOKUP(F120,'Data eshop'!D:N,11,FALSE),DATA!A:B,2,FALSE))","v":""},{"$f":"IF('Místa dodání'!A121=\"\",\"\",'Místa dodání'!A121-10000)","v":""},{"$f":"IF(F120=\"\",\"\",VLOOKUP(VLOOKUP(F120,'Data eshop'!D:AD,12,FALSE),DATA!D:E,2,FALSE))","v":""},"","","","","","","",{"$f":"IF(A120=\"\",\"\",VLOOKUP(RIGHT(A120,5)*1,'Data eshop'!D:M,10,FALSE))","v":""},{"$f":"IF(A120=\"\",\"\",IF(OR(VLOOKUP(RIGHT(A120,5)*1,'Data eshop'!D:O,12,FALSE)=\"Kurýrní službou\",VLOOKUP(RIGHT(A120,5)*1,'Data eshop'!D:O,12,FALSE)=\"Kuriérskou službou\",VLOOKUP(RIGHT(A120,5)*1,'Data eshop'!D:O,12,FALSE)=\"Usługa kurierską\"),MAX($P$1:P119)+1,\"\"))","v":""},""]
["",{"$f":"IF(F121=\"\",\"\",VLOOKUP(O121,DATA!R:S,2,FALSE)&VLOOKUP(Zakázky!F121+10000,'Místa dodání'!A:B,2,FALSE))","v":""},"","",{"$f":"IF(F121=\"\",\"\",VLOOKUP(VLOOKUP(F121,'Data eshop'!D:N,11,FALSE),DATA!A:B,2,FALSE))","v":""},{"$f":"IF('Místa dodání'!A122=\"\",\"\",'Místa dodání'!A122-10000)","v":""},{"$f":"IF(F121=\"\",\"\",VLOOKUP(VLOOKUP(F121,'Data eshop'!D:AD,12,FALSE),DATA!D:E,2,FALSE))","v":""},"","","","","","","",{"$f":"IF(A121=\"\",\"\",VLOOKUP(RIGHT(A121,5)*1,'Data eshop'!D:M,10,FALSE))","v":""},{"$f":"IF(A121=\"\",\"\",IF(OR(VLOOKUP(RIGHT(A121,5)*1,'Data eshop'!D:O,12,FALSE)=\"Kurýrní službou\",VLOOKUP(RIGHT(A121,5)*1,'Data eshop'!D:O,12,FALSE)=\"Kuriérskou službou\",VLOOKUP(RIGHT(A121,5)*1,'Data eshop'!D:O,12,FALSE)=\"Usługa kurierską\"),MAX($P$1:P120)+1,\"\"))","v":""},""]
["",{"$f":"IF(F122=\"\",\"\",VLOOKUP(O122,DATA!R:S,2,FALSE)&VLOOKUP(Zakázky!F122+10000,'Místa dodání'!A:B,2,FALSE))","v":""},"","",{"$f":"IF(F122=\"\",\"\",VLOOKUP(VLOOKUP(F122,'Data eshop'!D:N,11,FALSE),DATA!A:B,2,FALSE))","v":""},{"$f":"IF('Místa dodání'!A123=\"\",\"\",'Místa dodání'!A123-10000)","v":""},{"$f":"IF(F122=\"\",\"\",VLOOKUP(VLOOKUP(F122,'Data eshop'!D:AD,12,FALSE),DATA!D:E,2,FALSE))","v":""},"","","","","","","",{"$f":"IF(A122=\"\",\"\",VLOOKUP(RIGHT(A122,5)*1,'Data eshop'!D:M,10,FALSE))","v":""},{"$f":"IF(A122=\"\",\"\",IF(OR(VLOOKUP(RIGHT(A122,5)*1,'Data eshop'!D:O,12,FALSE)=\"Kurýrní službou\",VLOOKUP(RIGHT(A122,5)*1,'Data eshop'!D:O,12,FALSE)=\"Kuriérskou službou\",VLOOKUP(RIGHT(A122,5)*1,'Data eshop'!D:O,12,FALSE)=\"Usługa kurierską\"),MAX($P$1:P121)+1,\"\"))","v":""},""]
["",{"$f":"IF(F123=\"\",\"\",VLOOKUP(O123,DATA!R:S,2,FALSE)&VLOOKUP(Zakázky!F123+10000,'Místa dodání'!A:B,2,FALSE))","v":""},"","",{"$f":"IF(F123=\"\",\"\",VLOOKUP(VLOOKUP(F123,'Data eshop'!D:N,11,FALSE),DATA!A:B,2,FALSE))","v":""},{"$f":"IF('Místa dodání'!A124=\"\",\"\",'Místa dodání'!A124-10000)","v":""},{"$f":"IF(F123=\"\",\"\",VLOOKUP(VLOOKUP(F123,'Data eshop'!D:AD,12,FALSE),DATA!D:E,2,FALSE))","v":""},"","","","","","","",{"$f":"IF(A123=\"\",\"\",VLOOKUP(RIGHT(A123,5)*1,'Data eshop'!D:M,10,FALSE))","v":""},{"$f":"IF(A123=\"\",\"\",IF(OR(VLOOKUP(RIGHT(A123,5)*1,'Data eshop'!D:O,12,FALSE)=\"Kurýrní službou\",VLOOKUP(RIGHT(A123,5)*1,'Data eshop'!D:O,12,FALSE)=\"Kuriérskou službou\",VLOOKUP(RIGHT(A123,5)*1,'Data eshop'!D:O,12,FALSE)=\"Usługa kurierską\"),MAX($P$1:P122)+1,\"\"))","v":""},"","Roluj nahoru, až uvidíš žlutou"]
["",{"$f":"IF(F124=\"\",\"\",VLOOKUP(O124,DATA!R:S,2,FALSE)&VLOOKUP(Zakázky!F124+10000,'Místa dodání'!A:B,2,FALSE))","v":""},"","",{"$f":"IF(F124=\"\",\"\",VLOOKUP(VLOOKUP(F124,'Data eshop'!D:N,11,FALSE),DATA!A:B,2,FALSE))","v":""},{"$f":"IF('Místa dodání'!A125=\"\",\"\",'Místa dodání'!A125-10000)","v":""},{"$f":"IF(F124=\"\",\"\",VLOOKUP(VLOOKUP(F124,'Data eshop'!D:AD,12,FALSE),DATA!D:E,2,FALSE))","v":""},"","","","","","","",{"$f":"IF(A124=\"\",\"\",VLOOKUP(RIGHT(A124,5)*1,'Data eshop'!D:M,10,FALSE))","v":""},{"$f":"IF(A124=\"\",\"\",IF(OR(VLOOKUP(RIGHT(A124,5)*1,'Data eshop'!D:O,12,FALSE)=\"Kurýrní službou\",VLOOKUP(RIGHT(A124,5)*1,'Data eshop'!D:O,12,FALSE)=\"Kuriérskou službou\",VLOOKUP(RIGHT(A124,5)*1,'Data eshop'!D:O,12,FALSE)=\"Usługa kurierską\"),MAX($P$1:P123)+1,\"\"))","v":""},""]
["",{"$f":"IF(F125=\"\",\"\",VLOOKUP(O125,DATA!R:S,2,FALSE)&VLOOKUP(Zakázky!F125+10000,'Místa dodání'!A:B,2,FALSE))","v":""},"","",{"$f":"IF(F125=\"\",\"\",VLOOKUP(VLOOKUP(F125,'Data eshop'!D:N,11,FALSE),DATA!A:B,2,FALSE))","v":""},{"$f":"IF('Místa dodání'!A126=\"\",\"\",'Místa dodání'!A126-10000)","v":""},{"$f":"IF(F125=\"\",\"\",VLOOKUP(VLOOKUP(F125,'Data eshop'!D:AD,12,FALSE),DATA!D:E,2,FALSE))","v":""},"","","","","","","",{"$f":"IF(A125=\"\",\"\",VLOOKUP(RIGHT(A125,5)*1,'Data eshop'!D:M,10,FALSE))","v":""},{"$f":"IF(A125=\"\",\"\",IF(OR(VLOOKUP(RIGHT(A125,5)*1,'Data eshop'!D:O,12,FALSE)=\"Kurýrní službou\",VLOOKUP(RIGHT(A125,5)*1,'Data eshop'!D:O,12,FALSE)=\"Kuriérskou službou\",VLOOKUP(RIGHT(A125,5)*1,'Data eshop'!D:O,12,FALSE)=\"Usługa kurierską\"),MAX($P$1:P124)+1,\"\"))","v":""},""]
["",{"$f":"IF(F126=\"\",\"\",VLOOKUP(O126,DATA!R:S,2,FALSE)&VLOOKUP(Zakázky!F126+10000,'Místa dodání'!A:B,2,FALSE))","v":""},"","",{"$f":"IF(F126=\"\",\"\",VLOOKUP(VLOOKUP(F126,'Data eshop'!D:N,11,FALSE),DATA!A:B,2,FALSE))","v":""},{"$f":"IF('Místa dodání'!A127=\"\",\"\",'Místa dodání'!A127-10000)","v":""},{"$f":"IF(F126=\"\",\"\",VLOOKUP(VLOOKUP(F126,'Data eshop'!D:AD,12,FALSE),DATA!D:E,2,FALSE))","v":""},"","","","","","","",{"$f":"IF(A126=\"\",\"\",VLOOKUP(RIGHT(A126,5)*1,'Data eshop'!D:M,10,FALSE))","v":""},{"$f":"IF(A126=\"\",\"\",IF(OR(VLOOKUP(RIGHT(A126,5)*1,'Data eshop'!D:O,12,FALSE)=\"Kurýrní službou\",VLOOKUP(RIGHT(A126,5)*1,'Data eshop'!D:O,12,FALSE)=\"Kuriérskou službou\",VLOOKUP(RIGHT(A126,5)*1,'Data eshop'!D:O,12,FALSE)=\"Usługa kurierską\"),MAX($P$1:P125)+1,\"\"))","v":""},""]
["",{"$f":"IF(F127=\"\",\"\",VLOOKUP(O127,DATA!R:S,2,FALSE)&VLOOKUP(Zakázky!F127+10000,'Místa dodání'!A:B,2,FALSE))","v":""},"","",{"$f":"IF(F127=\"\",\"\",VLOOKUP(VLOOKUP(F127,'Data eshop'!D:N,11,FALSE),DATA!A:B,2,FALSE))","v":""},{"$f":"IF('Místa dodání'!A128=\"\",\"\",'Místa dodání'!A128-10000)","v":""},{"$f":"IF(F127=\"\",\"\",VLOOKUP(VLOOKUP(F127,'Data eshop'!D:AD,12,FALSE),DATA!D:E,2,FALSE))","v":""},"","","","","","","",{"$f":"IF(A127=\"\",\"\",VLOOKUP(RIGHT(A127,5)*1,'Data eshop'!D:M,10,FALSE))","v":""},{"$f":"IF(A127=\"\",\"\",IF(OR(VLOOKUP(RIGHT(A127,5)*1,'Data eshop'!D:O,12,FALSE)=\"Kurýrní službou\",VLOOKUP(RIGHT(A127,5)*1,'Data eshop'!D:O,12,FALSE)=\"Kuriérskou službou\",VLOOKUP(RIGHT(A127,5)*1,'Data eshop'!D:O,12,FALSE)=\"Usługa kurierską\"),MAX($P$1:P126)+1,\"\"))","v":""},"","Roluj nahoru, až uvidíš žlutou"]
["",{"$f":"IF(F128=\"\",\"\",VLOOKUP(O128,DATA!R:S,2,FALSE)&VLOOKUP(Zakázky!F128+10000,'Místa dodání'!A:B,2,FALSE))","v":""},"","",{"$f":"IF(F128=\"\",\"\",VLOOKUP(VLOOKUP(F128,'Data eshop'!D:N,11,FALSE),DATA!A:B,2,FALSE))","v":""},{"$f":"IF('Místa dodání'!A129=\"\",\"\",'Místa dodání'!A129-10000)","v":""},{"$f":"IF(F128=\"\",\"\",VLOOKUP(VLOOKUP(F128,'Data eshop'!D:AD,12,FALSE),DATA!D:E,2,FALSE))","v":""},"","","","","","","",{"$f":"IF(A128=\"\",\"\",VLOOKUP(RIGHT(A128,5)*1,'Data eshop'!D:M,10,FALSE))","v":""},{"$f":"IF(A128=\"\",\"\",IF(OR(VLOOKUP(RIGHT(A128,5)*1,'Data eshop'!D:O,12,FALSE)=\"Kurýrní službou\",VLOOKUP(RIGHT(A128,5)*1,'Data eshop'!D:O,12,FALSE)=\"Kuriérskou službou\",VLOOKUP(RIGHT(A128,5)*1,'Data eshop'!D:O,12,FALSE)=\"Usługa kurierską\"),MAX($P$1:P127)+1,\"\"))","v":""},""]
["",{"$f":"IF(F129=\"\",\"\",VLOOKUP(O129,DATA!R:S,2,FALSE)&VLOOKUP(Zakázky!F129+10000,'Místa dodání'!A:B,2,FALSE))","v":""},"","",{"$f":"IF(F129=\"\",\"\",VLOOKUP(VLOOKUP(F129,'Data eshop'!D:N,11,FALSE),DATA!A:B,2,FALSE))","v":""},{"$f":"IF('Místa dodání'!A130=\"\",\"\",'Místa dodání'!A130-10000)","v":""},{"$f":"IF(F129=\"\",\"\",VLOOKUP(VLOOKUP(F129,'Data eshop'!D:AD,12,FALSE),DATA!D:E,2,FALSE))","v":""},"","","","","","","",{"$f":"IF(A129=\"\",\"\",VLOOKUP(RIGHT(A129,5)*1,'Data eshop'!D:M,10,FALSE))","v":""},{"$f":"IF(A129=\"\",\"\",IF(OR(VLOOKUP(RIGHT(A129,5)*1,'Data eshop'!D:O,12,FALSE)=\"Kurýrní službou\",VLOOKUP(RIGHT(A129,5)*1,'Data eshop'!D:O,12,FALSE)=\"Kuriérskou službou\",VLOOKUP(RIGHT(A129,5)*1,'Data eshop'!D:O,12,FALSE)=\"Usługa kurierską\"),MAX($P$1:P128)+1,\"\"))","v":""},""]
[{"$f":"IF(F130=\"\",\"\",\"19ESh\"&IF(LEN(F130)=4,\"0\",\"\")&F130)","v":""},{"$f":"IF(F130=\"\",\"\",VLOOKUP(O130,DATA!R:S,2,FALSE)&VLOOKUP(Zakázky!F130+10000,'Místa dodání'!A:B,2,FALSE))","v":""},{"$f":"IF(F130=\"\",\"\",F130+10000)","v":""},"",{"$f":"IF(F130=\"\",\"\",VLOOKUP(VLOOKUP(F130,'Data eshop'!D:N,11,FALSE),DATA!A:B,2,FALSE))","v":""},{"$f":"IF('Místa dodání'!A131=\"\",\"\",'Místa dodání'!A131-10000)","v":""},{"$f":"IF(F130=\"\",\"\",VLOOKUP(VLOOKUP(F130,'Data eshop'!D:AD,12,FALSE),DATA!D:E,2,FALSE))","v":""},"","","","","","","",{"$f":"IF(A130=\"\",\"\",VLOOKUP(RIGHT(A130,5)*1,'Data eshop'!D:M,10,FALSE))","v":""},{"$f":"IF(A130=\"\",\"\",IF(OR(VLOOKUP(RIGHT(A130,5)*1,'Data eshop'!D:O,12,FALSE)=\"Kurýrní službou\",VLOOKUP(RIGHT(A130,5)*1,'Data eshop'!D:O,12,FALSE)=\"Kuriérskou službou\",VLOOKUP(RIGHT(A130,5)*1,'Data eshop'!D:O,12,FALSE)=\"Usługa kurierską\"),MAX($P$1:P129)+1,\"\"))","v":""},""]
["",{"$f":"IF(F131=\"\",\"\",VLOOKUP(O131,DATA!R:S,2,FALSE)&VLOOKUP(Zakázky!F131+10000,'Místa dodání'!A:B,2,FALSE))","v":""},"",{"$f":"IF(F131=\"\",\"\",TODAY())","v":""},{"$f":"IF(F131=\"\",\"\",VLOOKUP(VLOOKUP(F131,'Data eshop'!D:N,11,FALSE),DATA!A:B,2,FALSE))","v":""},{"$f":"IF('Místa dodání'!A132=\"\",\"\",'Místa dodání'!A132-10000)","v":""},{"$f":"IF(F131=\"\",\"\",VLOOKUP(VLOOKUP(F131,'Data eshop'!D:AD,12,FALSE),DATA!D:E,2,FALSE))","v":""},{"$f":"IF(F131=\"\",\"\",\"Řádná\")","v":""},{"$f":"IF(F131=\"\",\"\",\"Objednáno\")","v":""},{"$f":"IF(F131=\"\",\"\",\"SKL\")","v":""},{"$f":"IF(F131=\"\",\"\",\"PR\")","v":""},{"$f":"IF(F131=\"\",\"\",0)","v":""},{"$f":"IF(F131=\"\",\"\",0)","v":""},{"$f":"IF(F131=\"\",\"\",0)","v":""},{"$f":"IF(A131=\"\",\"\",VLOOKUP(RIGHT(A131,5)*1,'Data eshop'!D:M,10,FALSE))","v":""},{"$f":"IF(A131=\"\",\"\",IF(OR(VLOOKUP(RIGHT(A131,5)*1,'Data eshop'!D:O,12,FALSE)=\"Kurýrní službou\",VLOOKUP(RIGHT(A131,5)*1,'Data eshop'!D:O,12,FALSE)=\"Kuriérskou službou\",VLOOKUP(RIGHT(A131,5)*1,'Data eshop'!D:O,12,FALSE)=\"Usługa kurierską\"),MAX($P$1:P130)+1,\"\"))","v":""},{"$f":"IF(A131=\"\",\"\",A131)","v":""},"Roluj nahoru, až uvidíš žlutou"]
["",{"$f":"IF(F132=\"\",\"\",VLOOKUP(O132,DATA!R:S,2,FALSE)&VLOOKUP(Zakázky!F132+10000,'Místa dodání'!A:B,2,FALSE))","v":""},"","",{"$f":"IF(F132=\"\",\"\",VLOOKUP(VLOOKUP(F132,'Data eshop'!D:N,11,FALSE),DATA!A:B,2,FALSE))","v":""},{"$f":"IF('Místa dodání'!A133=\"\",\"\",'Místa dodání'!A133-10000)","v":""},{"$f":"IF(F132=\"\",\"\",VLOOKUP(VLOOKUP(F132,'Data eshop'!D:AD,12,FALSE),DATA!D:E,2,FALSE))","v":""},"","","","","","","",{"$f":"IF(A132=\"\",\"\",VLOOKUP(RIGHT(A132,5)*1,'Data eshop'!D:M,10,FALSE))","v":""},{"$f":"IF(A132=\"\",\"\",IF(OR(VLOOKUP(RIGHT(A132,5)*1,'Data eshop'!D:O,12,FALSE)=\"Kurýrní službou\",VLOOKUP(RIGHT(A132,5)*1,'Data eshop'!D:O,12,FALSE)=\"Kuriérskou službou\",VLOOKUP(RIGHT(A132,5)*1,'Data eshop'!D:O,12,FALSE)=\"Usługa kurierską\"),MAX($P$1:P131)+1,\"\"))","v":""},""]
["",{"$f":"IF(F133=\"\",\"\",VLOOKUP(O133,DATA!R:S,2,FALSE)&VLOOKUP(Zakázky!F133+10000,'Místa dodání'!A:B,2,FALSE))","v":""},"","",{"$f":"IF(F133=\"\",\"\",VLOOKUP(VLOOKUP(F133,'Data eshop'!D:N,11,FALSE),DATA!A:B,2,FALSE))","v":""},{"$f":"IF('Místa dodání'!A134=\"\",\"\",'Místa dodání'!A134-10000)","v":""},{"$f":"IF(F133=\"\",\"\",VLOOKUP(VLOOKUP(F133,'Data eshop'!D:AD,12,FALSE),DATA!D:E,2,FALSE))","v":""},"","","","","","","",{"$f":"IF(A133=\"\",\"\",VLOOKUP(RIGHT(A133,5)*1,'Data eshop'!D:M,10,FALSE))","v":""},{"$f":"IF(A133=\"\",\"\",IF(OR(VLOOKUP(RIGHT(A133,5)*1,'Data eshop'!D:O,12,FALSE)=\"Kurýrní službou\",VLOOKUP(RIGHT(A133,5)*1,'Data eshop'!D:O,12,FALSE)=\"Kuriérskou službou\",VLOOKUP(RIGHT(A133,5)*1,'Data eshop'!D:O,12,FALSE)=\"Usługa kurierską\"),MAX($P$1:P132)+1,\"\"))","v":""},""]
["",{"$f":"IF(F134=\"\",\"\",VLOOKUP(O134,DATA!R:S,2,FALSE)&VLOOKUP(Zakázky!F134+10000,'Místa dodání'!A:B,2,FALSE))","v":""},"","",{"$f":"IF(F134=\"\",\"\",VLOOKUP(VLOOKUP(F134,'Data eshop'!D:N,11,FALSE),DATA!A:B,2,FALSE))","v":""},{"$f":"IF('Místa dodání'!A135=\"\",\"\",'Místa dodání'!A135-10000)","v":""},{"$f":"IF(F134=\"\",\"\",VLOOKUP(VLOOKUP(F134,'Data eshop'!D:AD,12,FALSE),DATA!D:E,2,FALSE))","v":""},"","","","","","","",{"$f":"IF(A134=\"\",\"\",VLOOKUP(RIGHT(A134,5)*1,'Data eshop'!D:M,10,FALSE))","v":""},{"$f":"IF(A134=\"\",\"\",IF(OR(VLOOKUP(RIGHT(A134,5)*1,'Data eshop'!D:O,12,FALSE)=\"Kurýrní službou\",VLOOKUP(RIGHT(A134,5)*1,'Data eshop'!D:O,12,FALSE)=\"Kuriérskou službou\",VLOOKUP(RIGHT(A134,5)*1,'Data eshop'!D:O,12,FALSE)=\"Usługa kurierską\"),MAX($P$1:P133)+1,\"\"))","v":""},""]
["",{"$f":"IF(F135=\"\",\"\",VLOOKUP(O135,DATA!R:S,2,FALSE)&VLOOKUP(Zakázky!F135+10000,'Místa dodání'!A:B,2,FALSE))","v":""},"","",{"$f":"IF(F135=\"\",\"\",VLOOKUP(VLOOKUP(F135,'Data eshop'!D:N,11,FALSE),DATA!A:B,2,FALSE))","v":""},{"$f":"IF('Místa dodání'!A136=\"\",\"\",'Místa dodání'!A136-10000)","v":""},{"$f":"IF(F135=\"\",\"\",VLOOKUP(VLOOKUP(F135,'Data eshop'!D:AD,12,FALSE),DATA!D:E,2,FALSE))","v":""},"","","","","","","",{"$f":"IF(A135=\"\",\"\",VLOOKUP(RIGHT(A135,5)*1,'Data eshop'!D:M,10,FALSE))","v":""},{"$f":"IF(A135=\"\",\"\",IF(OR(VLOOKUP(RIGHT(A135,5)*1,'Data eshop'!D:O,12,FALSE)=\"Kurýrní službou\",VLOOKUP(RIGHT(A135,5)*1,'Data eshop'!D:O,12,FALSE)=\"Kuriérskou službou\",VLOOKUP(RIGHT(A135,5)*1,'Data eshop'!D:O,12,FALSE)=\"Usługa kurierską\"),MAX($P$1:P134)+1,\"\"))","v":""},"","Roluj nahoru, až uvidíš žlutou"]
["",{"$f":"IF(F136=\"\",\"\",VLOOKUP(O136,DATA!R:S,2,FALSE)&VLOOKUP(Zakázky!F136+10000,'Místa dodání'!A:B,2,FALSE))","v":""},"","",{"$f":"IF(F136=\"\",\"\",VLOOKUP(VLOOKUP(F136,'Data eshop'!D:N,11,FALSE),DATA!A:B,2,FALSE))","v":""},{"$f":"IF('Místa dodání'!A137=\"\",\"\",'Místa dodání'!A137-10000)","v":""},{"$f":"IF(F136=\"\",\"\",VLOOKUP(VLOOKUP(F136,'Data eshop'!D:AD,12,FALSE),DATA!D:E,2,FALSE))","v":""},"","","","","","","",{"$f":"IF(A136=\"\",\"\",VLOOKUP(RIGHT(A136,5)*1,'Data eshop'!D:M,10,FALSE))","v":""},{"$f":"IF(A136=\"\",\"\",IF(OR(VLOOKUP(RIGHT(A136,5)*1,'Data eshop'!D:O,12,FALSE)=\"Kurýrní službou\",VLOOKUP(RIGHT(A136,5)*1,'Data eshop'!D:O,12,FALSE)=\"Kuriérskou službou\",VLOOKUP(RIGHT(A136,5)*1,'Data eshop'!D:O,12,FALSE)=\"Usługa kurierską\"),MAX($P$1:P135)+1,\"\"))","v":""},""]
["",{"$f":"IF(F137=\"\",\"\",VLOOKUP(O137,DATA!R:S,2,FALSE)&VLOOKUP(Zakázky!F137+10000,'Místa dodání'!A:B,2,FALSE))","v":""},"","",{"$f":"IF(F137=\"\",\"\",VLOOKUP(VLOOKUP(F137,'Data eshop'!D:N,11,FALSE),DATA!A:B,2,FALSE))","v":""},{"$f":"IF('Místa dodání'!A138=\"\",\"\",'Místa dodání'!A138-10000)","v":""},{"$f":"IF(F137=\"\",\"\",VLOOKUP(VLOOKUP(F137,'Data eshop'!D:AD,12,FALSE),DATA!D:E,2,FALSE))","v":""},"","","","","","","",{"$f":"IF(A137=\"\",\"\",VLOOKUP(RIGHT(A137,5)*1,'Data eshop'!D:M,10,FALSE))","v":""},{"$f":"IF(A137=\"\",\"\",IF(OR(VLOOKUP(RIGHT(A137,5)*1,'Data eshop'!D:O,12,FALSE)=\"Kurýrní službou\",VLOOKUP(RIGHT(A137,5)*1,'Data eshop'!D:O,12,FALSE)=\"Kuriérskou službou\",VLOOKUP(RIGHT(A137,5)*1,'Data eshop'!D:O,12,FALSE)=\"Usługa kurierską\"),MAX($P$1:P136)+1,\"\"))","v":""},""]
["",{"$f":"IF(F138=\"\",\"\",VLOOKUP(O138,DATA!R:S,2,FALSE)&VLOOKUP(Zakázky!F138+10000,'Místa dodání'!A:B,2,FALSE))","v":""},"","",{"$f":"IF(F138=\"\",\"\",VLOOKUP(VLOOKUP(F138,'Data eshop'!D:N,11,FALSE),DATA!A:B,2,FALSE))","v":""},{"$f":"IF('Místa dodání'!A139=\"\",\"\",'Místa dodání'!A139-10000)","v":""},{"$f":"IF(F138=\"\",\"\",VLOOKUP(VLOOKUP(F138,'Data eshop'!D:AD,12,FALSE),DATA!D:E,2,FALSE))","v":""},"","","","","","","",{"$f":"IF(A138=\"\",\"\",VLOOKUP(RIGHT(A138,5)*1,'Data eshop'!D:M,10,FALSE))","v":""},{"$f":"IF(A138=\"\",\"\",IF(OR(VLOOKUP(RIGHT(A138,5)*1,'Data eshop'!D:O,12,FALSE)=\"Kurýrní službou\",VLOOKUP(RIGHT(A138,5)*1,'Data eshop'!D:O,12,FALSE)=\"Kuriérskou službou\",VLOOKUP(RIGHT(A138,5)*1,'Data eshop'!D:O,12,FALSE)=\"Usługa kurierską\"),MAX($P$1:P137)+1,\"\"))","v":""},""]
["",{"$f":"IF(F139=\"\",\"\",VLOOKUP(O139,DATA!R:S,2,FALSE)&VLOOKUP(Zakázky!F139+10000,'Místa dodání'!A:B,2,FALSE))","v":""},"","",{"$f":"IF(F139=\"\",\"\",VLOOKUP(VLOOKUP(F139,'Data eshop'!D:N,11,FALSE),DATA!A:B,2,FALSE))","v":""},{"$f":"IF('Místa dodání'!A140=\"\",\"\",'Místa dodání'!A140-10000)","v":""},{"$f":"IF(F139=\"\",\"\",VLOOKUP(VLOOKUP(F139,'Data eshop'!D:AD,12,FALSE),DATA!D:E,2,FALSE))","v":""},"","","","","","","",{"$f":"IF(A139=\"\",\"\",VLOOKUP(RIGHT(A139,5)*1,'Data eshop'!D:M,10,FALSE))","v":""},{"$f":"IF(A139=\"\",\"\",IF(OR(VLOOKUP(RIGHT(A139,5)*1,'Data eshop'!D:O,12,FALSE)=\"Kurýrní službou\",VLOOKUP(RIGHT(A139,5)*1,'Data eshop'!D:O,12,FALSE)=\"Kuriérskou službou\",VLOOKUP(RIGHT(A139,5)*1,'Data eshop'!D:O,12,FALSE)=\"Usługa kurierską\"),MAX($P$1:P138)+1,\"\"))","v":""},"","Roluj nahoru, až uvidíš žlutou"]
["",{"$f":"IF(F140=\"\",\"\",VLOOKUP(O140,DATA!R:S,2,FALSE)&VLOOKUP(Zakázky!F140+10000,'Místa dodání'!A:B,2,FALSE))","v":""},"","",{"$f":"IF(F140=\"\",\"\",VLOOKUP(VLOOKUP(F140,'Data eshop'!D:N,11,FALSE),DATA!A:B,2,FALSE))","v":""},{"$f":"IF('Místa dodání'!A141=\"\",\"\",'Místa dodání'!A141-10000)","v":""},{"$f":"IF(F140=\"\",\"\",VLOOKUP(VLOOKUP(F140,'Data eshop'!D:AD,12,FALSE),DATA!D:E,2,FALSE))","v":""},"","","","","","","",{"$f":"IF(A140=\"\",\"\",VLOOKUP(RIGHT(A140,5)*1,'Data eshop'!D:M,10,FALSE))","v":""},{"$f":"IF(A140=\"\",\"\",IF(OR(VLOOKUP(RIGHT(A140,5)*1,'Data eshop'!D:O,12,FALSE)=\"Kurýrní službou\",VLOOKUP(RIGHT(A140,5)*1,'Data eshop'!D:O,12,FALSE)=\"Kuriérskou službou\",VLOOKUP(RIGHT(A140,5)*1,'Data eshop'!D:O,12,FALSE)=\"Usługa kurierską\"),MAX($P$1:P139)+1,\"\"))","v":""},""]
["",{"$f":"IF(F141=\"\",\"\",VLOOKUP(O141,DATA!R:S,2,FALSE)&VLOOKUP(Zakázky!F141+10000,'Místa dodání'!A:B,2,FALSE))","v":""},"","",{"$f":"IF(F141=\"\",\"\",VLOOKUP(VLOOKUP(F141,'Data eshop'!D:N,11,FALSE),DATA!A:B,2,FALSE))","v":""},{"$f":"IF('Místa dodání'!A142=\"\",\"\",'Místa dodání'!A142-10000)","v":""},{"$f":"IF(F141=\"\",\"\",VLOOKUP(VLOOKUP(F141,'Data eshop'!D:AD,12,FALSE),DATA!D:E,2,FALSE))","v":""},"","","","","","","",{"$f":"IF(A141=\"\",\"\",VLOOKUP(RIGHT(A141,5)*1,'Data eshop'!D:M,10,FALSE))","v":""},{"$f":"IF(A141=\"\",\"\",IF(OR(VLOOKUP(RIGHT(A141,5)*1,'Data eshop'!D:O,12,FALSE)=\"Kurýrní službou\",VLOOKUP(RIGHT(A141,5)*1,'Data eshop'!D:O,12,FALSE)=\"Kuriérskou službou\",VLOOKUP(RIGHT(A141,5)*1,'Data eshop'!D:O,12,FALSE)=\"Usługa kurierską\"),MAX($P$1:P140)+1,\"\"))","v":""},""]
["",{"$f":"IF(F142=\"\",\"\",VLOOKUP(O142,DATA!R:S,2,FALSE)&VLOOKUP(Zakázky!F142+10000,'Místa dodání'!A:B,2,FALSE))","v":""},"","",{"$f":"IF(F142=\"\",\"\",VLOOKUP(VLOOKUP(F142,'Data eshop'!D:N,11,FALSE),DATA!A:B,2,FALSE))","v":""},{"$f":"IF('Místa dodání'!A143=\"\",\"\",'Místa dodání'!A143-10000)","v":""},{"$f":"IF(F142=\"\",\"\",VLOOKUP(VLOOKUP(F142,'Data eshop'!D:AD,12,FALSE),DATA!D:E,2,FALSE))","v":""},"","","","","","","",{"$f":"IF(A142=\"\",\"\",VLOOKUP(RIGHT(A142,5)*1,'Data eshop'!D:M,10,FALSE))","v":""},{"$f":"IF(A142=\"\",\"\",IF(OR(VLOOKUP(RIGHT(A142,5)*1,'Data eshop'!D:O,12,FALSE)=\"Kurýrní službou\",VLOOKUP(RIGHT(A142,5)*1,'Data eshop'!D:O,12,FALSE)=\"Kuriérskou službou\",VLOOKUP(RIGHT(A142,5)*1,'Data eshop'!D:O,12,FALSE)=\"Usługa kurierską\"),MAX($P$1:P141)+1,\"\"))","v":""},""]
["",{"$f":"IF(F143=\"\",\"\",VLOOKUP(O143,DATA!R:S,2,FALSE)&VLOOKUP(Zakázky!F143+10000,'Místa dodání'!A:B,2,FALSE))","v":""},"","",{"$f":"IF(F143=\"\",\"\",VLOOKUP(VLOOKUP(F143,'Data eshop'!D:N,11,FALSE),DATA!A:B,2,FALSE))","v":""},{"$f":"IF('Místa dodání'!A144=\"\",\"\",'Místa dodání'!A144-10000)","v":""},{"$f":"IF(F143=\"\",\"\",VLOOKUP(VLOOKUP(F143,'Data eshop'!D:AD,12,FALSE),DATA!D:E,2,FALSE))","v":""},"","","","","","","",{"$f":"IF(A143=\"\",\"\",VLOOKUP(RIGHT(A143,5)*1,'Data eshop'!D:M,10,FALSE))","v":""},{"$f":"IF(A143=\"\",\"\",IF(OR(VLOOKUP(RIGHT(A143,5)*1,'Data eshop'!D:O,12,FALSE)=\"Kurýrní službou\",VLOOKUP(RIGHT(A143,5)*1,'Data eshop'!D:O,12,FALSE)=\"Kuriérskou službou\",VLOOKUP(RIGHT(A143,5)*1,'Data eshop'!D:O,12,FALSE)=\"Usługa kurierską\"),MAX($P$1:P142)+1,\"\"))","v":""},"","Roluj nahoru, až uvidíš žlutou"]
["",{"$f":"IF(F144=\"\",\"\",VLOOKUP(O144,DATA!R:S,2,FALSE)&VLOOKUP(Zakázky!F144+10000,'Místa dodání'!A:B,2,FALSE))","v":""},"","",{"$f":"IF(F144=\"\",\"\",VLOOKUP(VLOOKUP(F144,'Data eshop'!D:N,11,FALSE),DATA!A:B,2,FALSE))","v":""},{"$f":"IF('Místa dodání'!A145=\"\",\"\",'Místa dodání'!A145-10000)","v":""},{"$f":"IF(F144=\"\",\"\",VLOOKUP(VLOOKUP(F144,'Data eshop'!D:AD,12,FALSE),DATA!D:E,2,FALSE))","v":""},"","","","","","","",{"$f":"IF(A144=\"\",\"\",VLOOKUP(RIGHT(A144,5)*1,'Data eshop'!D:M,10,FALSE))","v":""},{"$f":"IF(A144=\"\",\"\",IF(OR(VLOOKUP(RIGHT(A144,5)*1,'Data eshop'!D:O,12,FALSE)=\"Kurýrní službou\",VLOOKUP(RIGHT(A144,5)*1,'Data eshop'!D:O,12,FALSE)=\"Kuriérskou službou\",VLOOKUP(RIGHT(A144,5)*1,'Data eshop'!D:O,12,FALSE)=\"Usługa kurierską\"),MAX($P$1:P143)+1,\"\"))","v":""},""]
["",{"$f":"IF(F145=\"\",\"\",VLOOKUP(O145,DATA!R:S,2,FALSE)&VLOOKUP(Zakázky!F145+10000,'Místa dodání'!A:B,2,FALSE))","v":""},"","",{"$f":"IF(F145=\"\",\"\",VLOOKUP(VLOOKUP(F145,'Data eshop'!D:N,11,FALSE),DATA!A:B,2,FALSE))","v":""},{"$f":"IF('Místa dodání'!A146=\"\",\"\",'Místa dodání'!A146-10000)","v":""},{"$f":"IF(F145=\"\",\"\",VLOOKUP(VLOOKUP(F145,'Data eshop'!D:AD,12,FALSE),DATA!D:E,2,FALSE))","v":""},"","","","","","","",{"$f":"IF(A145=\"\",\"\",VLOOKUP(RIGHT(A145,5)*1,'Data eshop'!D:M,10,FALSE))","v":""},{"$f":"IF(A145=\"\",\"\",IF(OR(VLOOKUP(RIGHT(A145,5)*1,'Data eshop'!D:O,12,FALSE)=\"Kurýrní službou\",VLOOKUP(RIGHT(A145,5)*1,'Data eshop'!D:O,12,FALSE)=\"Kuriérskou službou\",VLOOKUP(RIGHT(A145,5)*1,'Data eshop'!D:O,12,FALSE)=\"Usługa kurierską\"),MAX($P$1:P144)+1,\"\"))","v":""},""]
["",{"$f":"IF(F146=\"\",\"\",VLOOKUP(O146,DATA!R:S,2,FALSE)&VLOOKUP(Zakázky!F146+10000,'Místa dodání'!A:B,2,FALSE))","v":""},"","",{"$f":"IF(F146=\"\",\"\",VLOOKUP(VLOOKUP(F146,'Data eshop'!D:N,11,FALSE),DATA!A:B,2,FALSE))","v":""},{"$f":"IF('Místa dodání'!A147=\"\",\"\",'Místa dodání'!A147-10000)","v":""},{"$f":"IF(F146=\"\",\"\",VLOOKUP(VLOOKUP(F146,'Data eshop'!D:AD,12,FALSE),DATA!D:E,2,FALSE))","v":""},"","","","","","","",{"$f":"IF(A146=\"\",\"\",VLOOKUP(RIGHT(A146,5)*1,'Data eshop'!D:M,10,FALSE))","v":""},{"$f":"IF(A146=\"\",\"\",IF(OR(VLOOKUP(RIGHT(A146,5)*1,'Data eshop'!D:O,12,FALSE)=\"Kurýrní službou\",VLOOKUP(RIGHT(A146,5)*1,'Data eshop'!D:O,12,FALSE)=\"Kuriérskou službou\",VLOOKUP(RIGHT(A146,5)*1,'Data eshop'!D:O,12,FALSE)=\"Usługa kurierską\"),MAX($P$1:P145)+1,\"\"))","v":""},""]
["",{"$f":"IF(F147=\"\",\"\",VLOOKUP(O147,DATA!R:S,2,FALSE)&VLOOKUP(Zakázky!F147+10000,'Místa dodání'!A:B,2,FALSE))","v":""},"","",{"$f":"IF(F147=\"\",\"\",VLOOKUP(VLOOKUP(F147,'Data eshop'!D:N,11,FALSE),DATA!A:B,2,FALSE))","v":""},{"$f":"IF('Místa dodání'!A148=\"\",\"\",'Místa dodání'!A148-10000)","v":""},{"$f":"IF(F147=\"\",\"\",VLOOKUP(VLOOKUP(F147,'Data eshop'!D:AD,12,FALSE),DATA!D:E,2,FALSE))","v":""},"","","","","","","",{"$f":"IF(A147=\"\",\"\",VLOOKUP(RIGHT(A147,5)*1,'Data eshop'!D:M,10,FALSE))","v":""},{"$f":"IF(A147=\"\",\"\",IF(OR(VLOOKUP(RIGHT(A147,5)*1,'Data eshop'!D:O,12,FALSE)=\"Kurýrní službou\",VLOOKUP(RIGHT(A147,5)*1,'Data eshop'!D:O,12,FALSE)=\"Kuriérskou službou\",VLOOKUP(RIGHT(A147,5)*1,'Data eshop'!D:O,12,FALSE)=\"Usługa kurierską\"),MAX($P$1:P146)+1,\"\"))","v":""},"","Roluj nahoru, až uvidíš žlutou"]
["",{"$f":"IF(F148=\"\",\"\",VLOOKUP(O148,DATA!R:S,2,FALSE)&VLOOKUP(Zakázky!F148+10000,'Místa dodání'!A:B,2,FALSE))","v":""},"","",{"$f":"IF(F148=\"\",\"\",VLOOKUP(VLOOKUP(F148,'Data eshop'!D:N,11,FALSE),DATA!A:B,2,FALSE))","v":""},{"$f":"IF('Místa dodání'!A149=\"\",\"\",'Místa dodání'!A149-10000)","v":""},{"$f":"IF(F148=\"\",\"\",VLOOKUP(VLOOKUP(F148,'Data eshop'!D:AD,12,FALSE),DATA!D:E,2,FALSE))","v":""},"","","","","","","",{"$f":"IF(A148=\"\",\"\",VLOOKUP(RIGHT(A148,5)*1,'Data eshop'!D:M,10,FALSE))","v":""},{"$f":"IF(A148=\"\",\"\",IF(OR(VLOOKUP(RIGHT(A148,5)*1,'Data eshop'!D:O,12,FALSE)=\"Kurýrní službou\",VLOOKUP(RIGHT(A148,5)*1,'Data eshop'!D:O,12,FALSE)=\"Kuriérskou službou\",VLOOKUP(RIGHT(A148,5)*1,'Data eshop'!D:O,12,FALSE)=\"Usługa kurierską\"),MAX($P$1:P147)+1,\"\"))","v":""},""]
["",{"$f":"IF(F149=\"\",\"\",VLOOKUP(O149,DATA!R:S,2,FALSE)&VLOOKUP(Zakázky!F149+10000,'Místa dodání'!A:B,2,FALSE))","v":""},"","",{"$f":"IF(F149=\"\",\"\",VLOOKUP(VLOOKUP(F149,'Data eshop'!D:N,11,FALSE),DATA!A:B,2,FALSE))","v":""},{"$f":"IF('Místa dodání'!A150=\"\",\"\",'Místa dodání'!A150-10000)","v":""},{"$f":"IF(F149=\"\",\"\",VLOOKUP(VLOOKUP(F149,'Data eshop'!D:AD,12,FALSE),DATA!D:E,2,FALSE))","v":""},"","","","","","","",{"$f":"IF(A149=\"\",\"\",VLOOKUP(RIGHT(A149,5)*1,'Data eshop'!D:M,10,FALSE))","v":""},{"$f":"IF(A149=\"\",\"\",IF(OR(VLOOKUP(RIGHT(A149,5)*1,'Data eshop'!D:O,12,FALSE)=\"Kurýrní službou\",VLOOKUP(RIGHT(A149,5)*1,'Data eshop'!D:O,12,FALSE)=\"Kuriérskou službou\",VLOOKUP(RIGHT(A149,5)*1,'Data eshop'!D:O,12,FALSE)=\"Usługa kurierską\"),MAX($P$1:P148)+1,\"\"))","v":""},""]
["",{"$f":"IF(F150=\"\",\"\",VLOOKUP(O150,DATA!R:S,2,FALSE)&VLOOKUP(Zakázky!F150+10000,'Místa dodání'!A:B,2,FALSE))","v":""},"","",{"$f":"IF(F150=\"\",\"\",VLOOKUP(VLOOKUP(F150,'Data eshop'!D:N,11,FALSE),DATA!A:B,2,FALSE))","v":""},{"$f":"IF('Místa dodání'!A151=\"\",\"\",'Místa dodání'!A151-10000)","v":""},{"$f":"IF(F150=\"\",\"\",VLOOKUP(VLOOKUP(F150,'Data eshop'!D:AD,12,FALSE),DATA!D:E,2,FALSE))","v":""},"","","","","","","",{"$f":"IF(A150=\"\",\"\",VLOOKUP(RIGHT(A150,5)*1,'Data eshop'!D:M,10,FALSE))","v":""},{"$f":"IF(A150=\"\",\"\",IF(OR(VLOOKUP(RIGHT(A150,5)*1,'Data eshop'!D:O,12,FALSE)=\"Kurýrní službou\",VLOOKUP(RIGHT(A150,5)*1,'Data eshop'!D:O,12,FALSE)=\"Kuriérskou službou\",VLOOKUP(RIGHT(A150,5)*1,'Data eshop'!D:O,12,FALSE)=\"Usługa kurierską\"),MAX($P$1:P149)+1,\"\"))","v":""},""]
["",{"$f":"IF(F151=\"\",\"\",VLOOKUP(O151,DATA!R:S,2,FALSE)&VLOOKUP(Zakázky!F151+10000,'Místa dodání'!A:B,2,FALSE))","v":""},"","",{"$f":"IF(F151=\"\",\"\",VLOOKUP(VLOOKUP(F151,'Data eshop'!D:N,11,FALSE),DATA!A:B,2,FALSE))","v":""},{"$f":"IF('Místa dodání'!A152=\"\",\"\",'Místa dodání'!A152-10000)","v":""},{"$f":"IF(F151=\"\",\"\",VLOOKUP(VLOOKUP(F151,'Data eshop'!D:AD,12,FALSE),DATA!D:E,2,FALSE))","v":""},"","","","","","","",{"$f":"IF(A151=\"\",\"\",VLOOKUP(RIGHT(A151,5)*1,'Data eshop'!D:M,10,FALSE))","v":""},{"$f":"IF(A151=\"\",\"\",IF(OR(VLOOKUP(RIGHT(A151,5)*1,'Data eshop'!D:O,12,FALSE)=\"Kurýrní službou\",VLOOKUP(RIGHT(A151,5)*1,'Data eshop'!D:O,12,FALSE)=\"Kuriérskou službou\",VLOOKUP(RIGHT(A151,5)*1,'Data eshop'!D:O,12,FALSE)=\"Usługa kurierską\"),MAX($P$1:P150)+1,\"\"))","v":""},"","Roluj nahoru, až uvidíš žlutou"]
["",{"$f":"IF(F152=\"\",\"\",VLOOKUP(O152,DATA!R:S,2,FALSE)&VLOOKUP(Zakázky!F152+10000,'Místa dodání'!A:B,2,FALSE))","v":""},"","",{"$f":"IF(F152=\"\",\"\",VLOOKUP(VLOOKUP(F152,'Data eshop'!D:N,11,FALSE),DATA!A:B,2,FALSE))","v":""},{"$f":"IF('Místa dodání'!A153=\"\",\"\",'Místa dodání'!A153-10000)","v":""},{"$f":"IF(F152=\"\",\"\",VLOOKUP(VLOOKUP(F152,'Data eshop'!D:AD,12,FALSE),DATA!D:E,2,FALSE))","v":""},"","","","","","","",{"$f":"IF(A152=\"\",\"\",VLOOKUP(RIGHT(A152,5)*1,'Data eshop'!D:M,10,FALSE))","v":""},{"$f":"IF(A152=\"\",\"\",IF(OR(VLOOKUP(RIGHT(A152,5)*1,'Data eshop'!D:O,12,FALSE)=\"Kurýrní službou\",VLOOKUP(RIGHT(A152,5)*1,'Data eshop'!D:O,12,FALSE)=\"Kuriérskou službou\",VLOOKUP(RIGHT(A152,5)*1,'Data eshop'!D:O,12,FALSE)=\"Usługa kurierską\"),MAX($P$1:P151)+1,\"\"))","v":""},""]
["",{"$f":"IF(F153=\"\",\"\",VLOOKUP(O153,DATA!R:S,2,FALSE)&VLOOKUP(Zakázky!F153+10000,'Místa dodání'!A:B,2,FALSE))","v":""},"","",{"$f":"IF(F153=\"\",\"\",VLOOKUP(VLOOKUP(F153,'Data eshop'!D:N,11,FALSE),DATA!A:B,2,FALSE))","v":""},{"$f":"IF('Místa dodání'!A154=\"\",\"\",'Místa dodání'!A154-10000)","v":""},{"$f":"IF(F153=\"\",\"\",VLOOKUP(VLOOKUP(F153,'Data eshop'!D:AD,12,FALSE),DATA!D:E,2,FALSE))","v":""},"","","","","","","",{"$f":"IF(A153=\"\",\"\",VLOOKUP(RIGHT(A153,5)*1,'Data eshop'!D:M,10,FALSE))","v":""},{"$f":"IF(A153=\"\",\"\",IF(OR(VLOOKUP(RIGHT(A153,5)*1,'Data eshop'!D:O,12,FALSE)=\"Kurýrní službou\",VLOOKUP(RIGHT(A153,5)*1,'Data eshop'!D:O,12,FALSE)=\"Kuriérskou službou\",VLOOKUP(RIGHT(A153,5)*1,'Data eshop'!D:O,12,FALSE)=\"Usługa kurierską\"),MAX($P$1:P152)+1,\"\"))","v":""},""]
["",{"$f":"IF(F154=\"\",\"\",VLOOKUP(O154,DATA!R:S,2,FALSE)&VLOOKUP(Zakázky!F154+10000,'Místa dodání'!A:B,2,FALSE))","v":""},"","",{"$f":"IF(F154=\"\",\"\",VLOOKUP(VLOOKUP(F154,'Data eshop'!D:N,11,FALSE),DATA!A:B,2,FALSE))","v":""},{"$f":"IF('Místa dodání'!A155=\"\",\"\",'Místa dodání'!A155-10000)","v":""},{"$f":"IF(F154=\"\",\"\",VLOOKUP(VLOOKUP(F154,'Data eshop'!D:AD,12,FALSE),DATA!D:E,2,FALSE))","v":""},"","","","","","","",{"$f":"IF(A154=\"\",\"\",VLOOKUP(RIGHT(A154,5)*1,'Data eshop'!D:M,10,FALSE))","v":""},{"$f":"IF(A154=\"\",\"\",IF(OR(VLOOKUP(RIGHT(A154,5)*1,'Data eshop'!D:O,12,FALSE)=\"Kurýrní službou\",VLOOKUP(RIGHT(A154,5)*1,'Data eshop'!D:O,12,FALSE)=\"Kuriérskou službou\",VLOOKUP(RIGHT(A154,5)*1,'Data eshop'!D:O,12,FALSE)=\"Usługa kurierską\"),MAX($P$1:P153)+1,\"\"))","v":""},""]
["",{"$f":"IF(F155=\"\",\"\",VLOOKUP(O155,DATA!R:S,2,FALSE)&VLOOKUP(Zakázky!F155+10000,'Místa dodání'!A:B,2,FALSE))","v":""},"","",{"$f":"IF(F155=\"\",\"\",VLOOKUP(VLOOKUP(F155,'Data eshop'!D:N,11,FALSE),DATA!A:B,2,FALSE))","v":""},{"$f":"IF('Místa dodání'!A156=\"\",\"\",'Místa dodání'!A156-10000)","v":""},{"$f":"IF(F155=\"\",\"\",VLOOKUP(VLOOKUP(F155,'Data eshop'!D:AD,12,FALSE),DATA!D:E,2,FALSE))","v":""},"","","","","","","",{"$f":"IF(A155=\"\",\"\",VLOOKUP(RIGHT(A155,5)*1,'Data eshop'!D:M,10,FALSE))","v":""},{"$f":"IF(A155=\"\",\"\",IF(OR(VLOOKUP(RIGHT(A155,5)*1,'Data eshop'!D:O,12,FALSE)=\"Kurýrní službou\",VLOOKUP(RIGHT(A155,5)*1,'Data eshop'!D:O,12,FALSE)=\"Kuriérskou službou\",VLOOKUP(RIGHT(A155,5)*1,'Data eshop'!D:O,12,FALSE)=\"Usługa kurierską\"),MAX($P$1:P154)+1,\"\"))","v":""},"","Roluj nahoru, až uvidíš žlutou"]
["",{"$f":"IF(F156=\"\",\"\",VLOOKUP(O156,DATA!R:S,2,FALSE)&VLOOKUP(Zakázky!F156+10000,'Místa dodání'!A:B,2,FALSE))","v":""},"","",{"$f":"IF(F156=\"\",\"\",VLOOKUP(VLOOKUP(F156,'Data eshop'!D:N,11,FALSE),DATA!A:B,2,FALSE))","v":""},{"$f":"IF('Místa dodání'!A157=\"\",\"\",'Místa dodání'!A157-10000)","v":""},{"$f":"IF(F156=\"\",\"\",VLOOKUP(VLOOKUP(F156,'Data eshop'!D:AD,12,FALSE),DATA!D:E,2,FALSE))","v":""},"","","","","","","",{"$f":"IF(A156=\"\",\"\",VLOOKUP(RIGHT(A156,5)*1,'Data eshop'!D:M,10,FALSE))","v":""},{"$f":"IF(A156=\"\",\"\",IF(OR(VLOOKUP(RIGHT(A156,5)*1,'Data eshop'!D:O,12,FALSE)=\"Kurýrní službou\",VLOOKUP(RIGHT(A156,5)*1,'Data eshop'!D:O,12,FALSE)=\"Kuriérskou službou\",VLOOKUP(RIGHT(A156,5)*1,'Data eshop'!D:O,12,FALSE)=\"Usługa kurierską\"),MAX($P$1:P155)+1,\"\"))","v":""},""]
["",{"$f":"IF(F157=\"\",\"\",VLOOKUP(O157,DATA!R:S,2,FALSE)&VLOOKUP(Zakázky!F157+10000,'Místa dodání'!A:B,2,FALSE))","v":""},"","",{"$f":"IF(F157=\"\",\"\",VLOOKUP(VLOOKUP(F157,'Data eshop'!D:N,11,FALSE),DATA!A:B,2,FALSE))","v":""},{"$f":"IF('Místa dodání'!A158=\"\",\"\",'Místa dodání'!A158-10000)","v":""},{"$f":"IF(F157=\"\",\"\",VLOOKUP(VLOOKUP(F157,'Data eshop'!D:AD,12,FALSE),DATA!D:E,2,FALSE))","v":""},"","","","","","","",{"$f":"IF(A157=\"\",\"\",VLOOKUP(RIGHT(A157,5)*1,'Data eshop'!D:M,10,FALSE))","v":""},{"$f":"IF(A157=\"\",\"\",IF(OR(VLOOKUP(RIGHT(A157,5)*1,'Data eshop'!D:O,12,FALSE)=\"Kurýrní službou\",VLOOKUP(RIGHT(A157,5)*1,'Data eshop'!D:O,12,FALSE)=\"Kuriérskou službou\",VLOOKUP(RIGHT(A157,5)*1,'Data eshop'!D:O,12,FALSE)=\"Usługa kurierską\"),MAX($P$1:P156)+1,\"\"))","v":""},""]
["",{"$f":"IF(F158=\"\",\"\",VLOOKUP(O158,DATA!R:S,2,FALSE)&VLOOKUP(Zakázky!F158+10000,'Místa dodání'!A:B,2,FALSE))","v":""},"","",{"$f":"IF(F158=\"\",\"\",VLOOKUP(VLOOKUP(F158,'Data eshop'!D:N,11,FALSE),DATA!A:B,2,FALSE))","v":""},{"$f":"IF('Místa dodání'!A159=\"\",\"\",'Místa dodání'!A159-10000)","v":""},{"$f":"IF(F158=\"\",\"\",VLOOKUP(VLOOKUP(F158,'Data eshop'!D:AD,12,FALSE),DATA!D:E,2,FALSE))","v":""},"","","","","","","",{"$f":"IF(A158=\"\",\"\",VLOOKUP(RIGHT(A158,5)*1,'Data eshop'!D:M,10,FALSE))","v":""},{"$f":"IF(A158=\"\",\"\",IF(OR(VLOOKUP(RIGHT(A158,5)*1,'Data eshop'!D:O,12,FALSE)=\"Kurýrní službou\",VLOOKUP(RIGHT(A158,5)*1,'Data eshop'!D:O,12,FALSE)=\"Kuriérskou službou\",VLOOKUP(RIGHT(A158,5)*1,'Data eshop'!D:O,12,FALSE)=\"Usługa kurierską\"),MAX($P$1:P157)+1,\"\"))","v":""},""]
["",{"$f":"IF(F159=\"\",\"\",VLOOKUP(O159,DATA!R:S,2,FALSE)&VLOOKUP(Zakázky!F159+10000,'Místa dodání'!A:B,2,FALSE))","v":""},"","",{"$f":"IF(F159=\"\",\"\",VLOOKUP(VLOOKUP(F159,'Data eshop'!D:N,11,FALSE),DATA!A:B,2,FALSE))","v":""},{"$f":"IF('Místa dodání'!A160=\"\",\"\",'Místa dodání'!A160-10000)","v":""},{"$f":"IF(F159=\"\",\"\",VLOOKUP(VLOOKUP(F159,'Data eshop'!D:AD,12,FALSE),DATA!D:E,2,FALSE))","v":""},"","","","","","","",{"$f":"IF(A159=\"\",\"\",VLOOKUP(RIGHT(A159,5)*1,'Data eshop'!D:M,10,FALSE))","v":""},{"$f":"IF(A159=\"\",\"\",IF(OR(VLOOKUP(RIGHT(A159,5)*1,'Data eshop'!D:O,12,FALSE)=\"Kurýrní službou\",VLOOKUP(RIGHT(A159,5)*1,'Data eshop'!D:O,12,FALSE)=\"Kuriérskou službou\",VLOOKUP(RIGHT(A159,5)*1,'Data eshop'!D:O,12,FALSE)=\"Usługa kurierską\"),MAX($P$1:P158)+1,\"\"))","v":""},"","Roluj nahoru, až uvidíš žlutou"]
["",{"$f":"IF(F160=\"\",\"\",VLOOKUP(O160,DATA!R:S,2,FALSE)&VLOOKUP(Zakázky!F160+10000,'Místa dodání'!A:B,2,FALSE))","v":""},"","",{"$f":"IF(F160=\"\",\"\",VLOOKUP(VLOOKUP(F160,'Data eshop'!D:N,11,FALSE),DATA!A:B,2,FALSE))","v":""},{"$f":"IF('Místa dodání'!A161=\"\",\"\",'Místa dodání'!A161-10000)","v":""},{"$f":"IF(F160=\"\",\"\",VLOOKUP(VLOOKUP(F160,'Data eshop'!D:AD,12,FALSE),DATA!D:E,2,FALSE))","v":""},"","","","","","","",{"$f":"IF(A160=\"\",\"\",VLOOKUP(RIGHT(A160,5)*1,'Data eshop'!D:M,10,FALSE))","v":""},{"$f":"IF(A160=\"\",\"\",IF(OR(VLOOKUP(RIGHT(A160,5)*1,'Data eshop'!D:O,12,FALSE)=\"Kurýrní službou\",VLOOKUP(RIGHT(A160,5)*1,'Data eshop'!D:O,12,FALSE)=\"Kuriérskou službou\",VLOOKUP(RIGHT(A160,5)*1,'Data eshop'!D:O,12,FALSE)=\"Usługa kurierską\"),MAX($P$1:P159)+1,\"\"))","v":""},""]
["",{"$f":"IF(F161=\"\",\"\",VLOOKUP(O161,DATA!R:S,2,FALSE)&VLOOKUP(Zakázky!F161+10000,'Místa dodání'!A:B,2,FALSE))","v":""},"","",{"$f":"IF(F161=\"\",\"\",VLOOKUP(VLOOKUP(F161,'Data eshop'!D:N,11,FALSE),DATA!A:B,2,FALSE))","v":""},{"$f":"IF('Místa dodání'!A162=\"\",\"\",'Místa dodání'!A162-10000)","v":""},{"$f":"IF(F161=\"\",\"\",VLOOKUP(VLOOKUP(F161,'Data eshop'!D:AD,12,FALSE),DATA!D:E,2,FALSE))","v":""},"","","","","","","",{"$f":"IF(A161=\"\",\"\",VLOOKUP(RIGHT(A161,5)*1,'Data eshop'!D:M,10,FALSE))","v":""},{"$f":"IF(A161=\"\",\"\",IF(OR(VLOOKUP(RIGHT(A161,5)*1,'Data eshop'!D:O,12,FALSE)=\"Kurýrní službou\",VLOOKUP(RIGHT(A161,5)*1,'Data eshop'!D:O,12,FALSE)=\"Kuriérskou službou\",VLOOKUP(RIGHT(A161,5)*1,'Data eshop'!D:O,12,FALSE)=\"Usługa kurierską\"),MAX($P$1:P160)+1,\"\"))","v":""},""]
["",{"$f":"IF(F162=\"\",\"\",VLOOKUP(O162,DATA!R:S,2,FALSE)&VLOOKUP(Zakázky!F162+10000,'Místa dodání'!A:B,2,FALSE))","v":""},"","",{"$f":"IF(F162=\"\",\"\",VLOOKUP(VLOOKUP(F162,'Data eshop'!D:N,11,FALSE),DATA!A:B,2,FALSE))","v":""},{"$f":"IF('Místa dodání'!A163=\"\",\"\",'Místa dodání'!A163-10000)","v":""},{"$f":"IF(F162=\"\",\"\",VLOOKUP(VLOOKUP(F162,'Data eshop'!D:AD,12,FALSE),DATA!D:E,2,FALSE))","v":""},"","","","","","","",{"$f":"IF(A162=\"\",\"\",VLOOKUP(RIGHT(A162,5)*1,'Data eshop'!D:M,10,FALSE))","v":""},{"$f":"IF(A162=\"\",\"\",IF(OR(VLOOKUP(RIGHT(A162,5)*1,'Data eshop'!D:O,12,FALSE)=\"Kurýrní službou\",VLOOKUP(RIGHT(A162,5)*1,'Data eshop'!D:O,12,FALSE)=\"Kuriérskou službou\",VLOOKUP(RIGHT(A162,5)*1,'Data eshop'!D:O,12,FALSE)=\"Usługa kurierską\"),MAX($P$1:P161)+1,\"\"))","v":""},""]
["",{"$f":"IF(F163=\"\",\"\",VLOOKUP(O163,DATA!R:S,2,FALSE)&VLOOKUP(Zakázky!F163+10000,'Místa dodání'!A:B,2,FALSE))","v":""},"","",{"$f":"IF(F163=\"\",\"\",VLOOKUP(VLOOKUP(F163,'Data eshop'!D:N,11,FALSE),DATA!A:B,2,FALSE))","v":""},{"$f":"IF('Místa dodání'!A164=\"\",\"\",'Místa dodání'!A164-10000)","v":""},{"$f":"IF(F163=\"\",\"\",VLOOKUP(VLOOKUP(F163,'Data eshop'!D:AD,12,FALSE),DATA!D:E,2,FALSE))","v":""},"","","","","","","",{"$f":"IF(A163=\"\",\"\",VLOOKUP(RIGHT(A163,5)*1,'Data eshop'!D:M,10,FALSE))","v":""},{"$f":"IF(A163=\"\",\"\",IF(OR(VLOOKUP(RIGHT(A163,5)*1,'Data eshop'!D:O,12,FALSE)=\"Kurýrní službou\",VLOOKUP(RIGHT(A163,5)*1,'Data eshop'!D:O,12,FALSE)=\"Kuriérskou službou\",VLOOKUP(RIGHT(A163,5)*1,'Data eshop'!D:O,12,FALSE)=\"Usługa kurierską\"),MAX($P$1:P162)+1,\"\"))","v":""},"","Roluj nahoru, až uvidíš žlutou"]
["",{"$f":"IF(F164=\"\",\"\",VLOOKUP(O164,DATA!R:S,2,FALSE)&VLOOKUP(Zakázky!F164+10000,'Místa dodání'!A:B,2,FALSE))","v":""},"","",{"$f":"IF(F164=\"\",\"\",VLOOKUP(VLOOKUP(F164,'Data eshop'!D:N,11,FALSE),DATA!A:B,2,FALSE))","v":""},{"$f":"IF('Místa dodání'!A165=\"\",\"\",'Místa dodání'!A165-10000)","v":""},{"$f":"IF(F164=\"\",\"\",VLOOKUP(VLOOKUP(F164,'Data eshop'!D:AD,12,FALSE),DATA!D:E,2,FALSE))","v":""},"","","","","","","",{"$f":"IF(A164=\"\",\"\",VLOOKUP(RIGHT(A164,5)*1,'Data eshop'!D:M,10,FALSE))","v":""},{"$f":"IF(A164=\"\",\"\",IF(OR(VLOOKUP(RIGHT(A164,5)*1,'Data eshop'!D:O,12,FALSE)=\"Kurýrní službou\",VLOOKUP(RIGHT(A164,5)*1,'Data eshop'!D:O,12,FALSE)=\"Kuriérskou službou\",VLOOKUP(RIGHT(A164,5)*1,'Data eshop'!D:O,12,FALSE)=\"Usługa kurierską\"),MAX($P$1:P163)+1,\"\"))","v":""},""]
["",{"$f":"IF(F165=\"\",\"\",VLOOKUP(O165,DATA!R:S,2,FALSE)&VLOOKUP(Zakázky!F165+10000,'Místa dodání'!A:B,2,FALSE))","v":""},"","",{"$f":"IF(F165=\"\",\"\",VLOOKUP(VLOOKUP(F165,'Data eshop'!D:N,11,FALSE),DATA!A:B,2,FALSE))","v":""},{"$f":"IF('Místa dodání'!A166=\"\",\"\",'Místa dodání'!A166-10000)","v":""},{"$f":"IF(F165=\"\",\"\",VLOOKUP(VLOOKUP(F165,'Data eshop'!D:AD,12,FALSE),DATA!D:E,2,FALSE))","v":""},"","","","","","","",{"$f":"IF(A165=\"\",\"\",VLOOKUP(RIGHT(A165,5)*1,'Data eshop'!D:M,10,FALSE))","v":""},{"$f":"IF(A165=\"\",\"\",IF(OR(VLOOKUP(RIGHT(A165,5)*1,'Data eshop'!D:O,12,FALSE)=\"Kurýrní službou\",VLOOKUP(RIGHT(A165,5)*1,'Data eshop'!D:O,12,FALSE)=\"Kuriérskou službou\",VLOOKUP(RIGHT(A165,5)*1,'Data eshop'!D:O,12,FALSE)=\"Usługa kurierską\"),MAX($P$1:P164)+1,\"\"))","v":""},""]
["",{"$f":"IF(F166=\"\",\"\",VLOOKUP(O166,DATA!R:S,2,FALSE)&VLOOKUP(Zakázky!F166+10000,'Místa dodání'!A:B,2,FALSE))","v":""},"","",{"$f":"IF(F166=\"\",\"\",VLOOKUP(VLOOKUP(F166,'Data eshop'!D:N,11,FALSE),DATA!A:B,2,FALSE))","v":""},{"$f":"IF('Místa dodání'!A167=\"\",\"\",'Místa dodání'!A167-10000)","v":""},{"$f":"IF(F166=\"\",\"\",VLOOKUP(VLOOKUP(F166,'Data eshop'!D:AD,12,FALSE),DATA!D:E,2,FALSE))","v":""},"","","","","","","",{"$f":"IF(A166=\"\",\"\",VLOOKUP(RIGHT(A166,5)*1,'Data eshop'!D:M,10,FALSE))","v":""},{"$f":"IF(A166=\"\",\"\",IF(OR(VLOOKUP(RIGHT(A166,5)*1,'Data eshop'!D:O,12,FALSE)=\"Kurýrní službou\",VLOOKUP(RIGHT(A166,5)*1,'Data eshop'!D:O,12,FALSE)=\"Kuriérskou službou\",VLOOKUP(RIGHT(A166,5)*1,'Data eshop'!D:O,12,FALSE)=\"Usługa kurierską\"),MAX($P$1:P165)+1,\"\"))","v":""},""]
["",{"$f":"IF(F167=\"\",\"\",VLOOKUP(O167,DATA!R:S,2,FALSE)&VLOOKUP(Zakázky!F167+10000,'Místa dodání'!A:B,2,FALSE))","v":""},"","",{"$f":"IF(F167=\"\",\"\",VLOOKUP(VLOOKUP(F167,'Data eshop'!D:N,11,FALSE),DATA!A:B,2,FALSE))","v":""},{"$f":"IF('Místa dodání'!A168=\"\",\"\",'Místa dodání'!A168-10000)","v":""},{"$f":"IF(F167=\"\",\"\",VLOOKUP(VLOOKUP(F167,'Data eshop'!D:AD,12,FALSE),DATA!D:E,2,FALSE))","v":""},"","","","","","","",{"$f":"IF(A167=\"\",\"\",VLOOKUP(RIGHT(A167,5)*1,'Data eshop'!D:M,10,FALSE))","v":""},{"$f":"IF(A167=\"\",\"\",IF(OR(VLOOKUP(RIGHT(A167,5)*1,'Data eshop'!D:O,12,FALSE)=\"Kurýrní službou\",VLOOKUP(RIGHT(A167,5)*1,'Data eshop'!D:O,12,FALSE)=\"Kuriérskou službou\",VLOOKUP(RIGHT(A167,5)*1,'Data eshop'!D:O,12,FALSE)=\"Usługa kurierską\"),MAX($P$1:P166)+1,\"\"))","v":""},"","Roluj nahoru, až uvidíš žlutou"]
["",{"$f":"IF(F168=\"\",\"\",VLOOKUP(O168,DATA!R:S,2,FALSE)&VLOOKUP(Zakázky!F168+10000,'Místa dodání'!A:B,2,FALSE))","v":""},"","",{"$f":"IF(F168=\"\",\"\",VLOOKUP(VLOOKUP(F168,'Data eshop'!D:N,11,FALSE),DATA!A:B,2,FALSE))","v":""},{"$f":"IF('Místa dodání'!A169=\"\",\"\",'Místa dodání'!A169-10000)","v":""},{"$f":"IF(F168=\"\",\"\",VLOOKUP(VLOOKUP(F168,'Data eshop'!D:AD,12,FALSE),DATA!D:E,2,FALSE))","v":""},"","","","","","","",{"$f":"IF(A168=\"\",\"\",VLOOKUP(RIGHT(A168,5)*1,'Data eshop'!D:M,10,FALSE))","v":""},{"$f":"IF(A168=\"\",\"\",IF(OR(VLOOKUP(RIGHT(A168,5)*1,'Data eshop'!D:O,12,FALSE)=\"Kurýrní službou\",VLOOKUP(RIGHT(A168,5)*1,'Data eshop'!D:O,12,FALSE)=\"Kuriérskou službou\",VLOOKUP(RIGHT(A168,5)*1,'Data eshop'!D:O,12,FALSE)=\"Usługa kurierską\"),MAX($P$1:P167)+1,\"\"))","v":""},""]
["",{"$f":"IF(F169=\"\",\"\",VLOOKUP(O169,DATA!R:S,2,FALSE)&VLOOKUP(Zakázky!F169+10000,'Místa dodání'!A:B,2,FALSE))","v":""},"","",{"$f":"IF(F169=\"\",\"\",VLOOKUP(VLOOKUP(F169,'Data eshop'!D:N,11,FALSE),DATA!A:B,2,FALSE))","v":""},{"$f":"IF('Místa dodání'!A170=\"\",\"\",'Místa dodání'!A170-10000)","v":""},{"$f":"IF(F169=\"\",\"\",VLOOKUP(VLOOKUP(F169,'Data eshop'!D:AD,12,FALSE),DATA!D:E,2,FALSE))","v":""},"","","","","","","",{"$f":"IF(A169=\"\",\"\",VLOOKUP(RIGHT(A169,5)*1,'Data eshop'!D:M,10,FALSE))","v":""},{"$f":"IF(A169=\"\",\"\",IF(OR(VLOOKUP(RIGHT(A169,5)*1,'Data eshop'!D:O,12,FALSE)=\"Kurýrní službou\",VLOOKUP(RIGHT(A169,5)*1,'Data eshop'!D:O,12,FALSE)=\"Kuriérskou službou\",VLOOKUP(RIGHT(A169,5)*1,'Data eshop'!D:O,12,FALSE)=\"Usługa kurierską\"),MAX($P$1:P168)+1,\"\"))","v":""},""]
["",{"$f":"IF(F170=\"\",\"\",VLOOKUP(O170,DATA!R:S,2,FALSE)&VLOOKUP(Zakázky!F170+10000,'Místa dodání'!A:B,2,FALSE))","v":""},"","",{"$f":"IF(F170=\"\",\"\",VLOOKUP(VLOOKUP(F170,'Data eshop'!D:N,11,FALSE),DATA!A:B,2,FALSE))","v":""},{"$f":"IF('Místa dodání'!A171=\"\",\"\",'Místa dodání'!A171-10000)","v":""},{"$f":"IF(F170=\"\",\"\",VLOOKUP(VLOOKUP(F170,'Data eshop'!D:AD,12,FALSE),DATA!D:E,2,FALSE))","v":""},"","","","","","","",{"$f":"IF(A170=\"\",\"\",VLOOKUP(RIGHT(A170,5)*1,'Data eshop'!D:M,10,FALSE))","v":""},{"$f":"IF(A170=\"\",\"\",IF(OR(VLOOKUP(RIGHT(A170,5)*1,'Data eshop'!D:O,12,FALSE)=\"Kurýrní službou\",VLOOKUP(RIGHT(A170,5)*1,'Data eshop'!D:O,12,FALSE)=\"Kuriérskou službou\",VLOOKUP(RIGHT(A170,5)*1,'Data eshop'!D:O,12,FALSE)=\"Usługa kurierską\"),MAX($P$1:P169)+1,\"\"))","v":""},""]
["",{"$f":"IF(F171=\"\",\"\",VLOOKUP(O171,DATA!R:S,2,FALSE)&VLOOKUP(Zakázky!F171+10000,'Místa dodání'!A:B,2,FALSE))","v":""},"","",{"$f":"IF(F171=\"\",\"\",VLOOKUP(VLOOKUP(F171,'Data eshop'!D:N,11,FALSE),DATA!A:B,2,FALSE))","v":""},{"$f":"IF('Místa dodání'!A172=\"\",\"\",'Místa dodání'!A172-10000)","v":""},{"$f":"IF(F171=\"\",\"\",VLOOKUP(VLOOKUP(F171,'Data eshop'!D:AD,12,FALSE),DATA!D:E,2,FALSE))","v":""},"","","","","","","",{"$f":"IF(A171=\"\",\"\",VLOOKUP(RIGHT(A171,5)*1,'Data eshop'!D:M,10,FALSE))","v":""},{"$f":"IF(A171=\"\",\"\",IF(OR(VLOOKUP(RIGHT(A171,5)*1,'Data eshop'!D:O,12,FALSE)=\"Kurýrní službou\",VLOOKUP(RIGHT(A171,5)*1,'Data eshop'!D:O,12,FALSE)=\"Kuriérskou službou\",VLOOKUP(RIGHT(A171,5)*1,'Data eshop'!D:O,12,FALSE)=\"Usługa kurierską\"),MAX($P$1:P170)+1,\"\"))","v":""},"","Roluj nahoru, až uvidíš žlutou"]
["",{"$f":"IF(F172=\"\",\"\",VLOOKUP(O172,DATA!R:S,2,FALSE)&VLOOKUP(Zakázky!F172+10000,'Místa dodání'!A:B,2,FALSE))","v":""},"","",{"$f":"IF(F172=\"\",\"\",VLOOKUP(VLOOKUP(F172,'Data eshop'!D:N,11,FALSE),DATA!A:B,2,FALSE))","v":""},{"$f":"IF('Místa dodání'!A173=\"\",\"\",'Místa dodání'!A173-10000)","v":""},{"$f":"IF(F172=\"\",\"\",VLOOKUP(VLOOKUP(F172,'Data eshop'!D:AD,12,FALSE),DATA!D:E,2,FALSE))","v":""},"","","","","","","",{"$f":"IF(A172=\"\",\"\",VLOOKUP(RIGHT(A172,5)*1,'Data eshop'!D:M,10,FALSE))","v":""},{"$f":"IF(A172=\"\",\"\",IF(OR(VLOOKUP(RIGHT(A172,5)*1,'Data eshop'!D:O,12,FALSE)=\"Kurýrní službou\",VLOOKUP(RIGHT(A172,5)*1,'Data eshop'!D:O,12,FALSE)=\"Kuriérskou službou\",VLOOKUP(RIGHT(A172,5)*1,'Data eshop'!D:O,12,FALSE)=\"Usługa kurierską\"),MAX($P$1:P171)+1,\"\"))","v":""},""]
["",{"$f":"IF(F173=\"\",\"\",VLOOKUP(O173,DATA!R:S,2,FALSE)&VLOOKUP(Zakázky!F173+10000,'Místa dodání'!A:B,2,FALSE))","v":""},"","",{"$f":"IF(F173=\"\",\"\",VLOOKUP(VLOOKUP(F173,'Data eshop'!D:N,11,FALSE),DATA!A:B,2,FALSE))","v":""},{"$f":"IF('Místa dodání'!A174=\"\",\"\",'Místa dodání'!A174-10000)","v":""},{"$f":"IF(F173=\"\",\"\",VLOOKUP(VLOOKUP(F173,'Data eshop'!D:AD,12,FALSE),DATA!D:E,2,FALSE))","v":""},"","","","","","","",{"$f":"IF(A173=\"\",\"\",VLOOKUP(RIGHT(A173,5)*1,'Data eshop'!D:M,10,FALSE))","v":""},{"$f":"IF(A173=\"\",\"\",IF(OR(VLOOKUP(RIGHT(A173,5)*1,'Data eshop'!D:O,12,FALSE)=\"Kurýrní službou\",VLOOKUP(RIGHT(A173,5)*1,'Data eshop'!D:O,12,FALSE)=\"Kuriérskou službou\",VLOOKUP(RIGHT(A173,5)*1,'Data eshop'!D:O,12,FALSE)=\"Usługa kurierską\"),MAX($P$1:P172)+1,\"\"))","v":""},""]
["",{"$f":"IF(F174=\"\",\"\",VLOOKUP(O174,DATA!R:S,2,FALSE)&VLOOKUP(Zakázky!F174+10000,'Místa dodání'!A:B,2,FALSE))","v":""},"","",{"$f":"IF(F174=\"\",\"\",VLOOKUP(VLOOKUP(F174,'Data eshop'!D:N,11,FALSE),DATA!A:B,2,FALSE))","v":""},{"$f":"IF('Místa dodání'!A175=\"\",\"\",'Místa dodání'!A175-10000)","v":""},{"$f":"IF(F174=\"\",\"\",VLOOKUP(VLOOKUP(F174,'Data eshop'!D:AD,12,FALSE),DATA!D:E,2,FALSE))","v":""},"","","","","","","",{"$f":"IF(A174=\"\",\"\",VLOOKUP(RIGHT(A174,5)*1,'Data eshop'!D:M,10,FALSE))","v":""},{"$f":"IF(A174=\"\",\"\",IF(OR(VLOOKUP(RIGHT(A174,5)*1,'Data eshop'!D:O,12,FALSE)=\"Kurýrní službou\",VLOOKUP(RIGHT(A174,5)*1,'Data eshop'!D:O,12,FALSE)=\"Kuriérskou službou\",VLOOKUP(RIGHT(A174,5)*1,'Data eshop'!D:O,12,FALSE)=\"Usługa kurierską\"),MAX($P$1:P173)+1,\"\"))","v":""},""]
["",{"$f":"IF(F175=\"\",\"\",VLOOKUP(O175,DATA!R:S,2,FALSE)&VLOOKUP(Zakázky!F175+10000,'Místa dodání'!A:B,2,FALSE))","v":""},"","",{"$f":"IF(F175=\"\",\"\",VLOOKUP(VLOOKUP(F175,'Data eshop'!D:N,11,FALSE),DATA!A:B,2,FALSE))","v":""},{"$f":"IF('Místa dodání'!A176=\"\",\"\",'Místa dodání'!A176-10000)","v":""},{"$f":"IF(F175=\"\",\"\",VLOOKUP(VLOOKUP(F175,'Data eshop'!D:AD,12,FALSE),DATA!D:E,2,FALSE))","v":""},"","","","","","","",{"$f":"IF(A175=\"\",\"\",VLOOKUP(RIGHT(A175,5)*1,'Data eshop'!D:M,10,FALSE))","v":""},{"$f":"IF(A175=\"\",\"\",IF(OR(VLOOKUP(RIGHT(A175,5)*1,'Data eshop'!D:O,12,FALSE)=\"Kurýrní službou\",VLOOKUP(RIGHT(A175,5)*1,'Data eshop'!D:O,12,FALSE)=\"Kuriérskou službou\",VLOOKUP(RIGHT(A175,5)*1,'Data eshop'!D:O,12,FALSE)=\"Usługa kurierską\"),MAX($P$1:P174)+1,\"\"))","v":""},"","Roluj nahoru, až uvidíš žlutou"]
["",{"$f":"IF(F176=\"\",\"\",VLOOKUP(O176,DATA!R:S,2,FALSE)&VLOOKUP(Zakázky!F176+10000,'Místa dodání'!A:B,2,FALSE))","v":""},"","",{"$f":"IF(F176=\"\",\"\",VLOOKUP(VLOOKUP(F176,'Data eshop'!D:N,11,FALSE),DATA!A:B,2,FALSE))","v":""},{"$f":"IF('Místa dodání'!A177=\"\",\"\",'Místa dodání'!A177-10000)","v":""},{"$f":"IF(F176=\"\",\"\",VLOOKUP(VLOOKUP(F176,'Data eshop'!D:AD,12,FALSE),DATA!D:E,2,FALSE))","v":""},"","","","","","","",{"$f":"IF(A176=\"\",\"\",VLOOKUP(RIGHT(A176,5)*1,'Data eshop'!D:M,10,FALSE))","v":""},{"$f":"IF(A176=\"\",\"\",IF(OR(VLOOKUP(RIGHT(A176,5)*1,'Data eshop'!D:O,12,FALSE)=\"Kurýrní službou\",VLOOKUP(RIGHT(A176,5)*1,'Data eshop'!D:O,12,FALSE)=\"Kuriérskou službou\",VLOOKUP(RIGHT(A176,5)*1,'Data eshop'!D:O,12,FALSE)=\"Usługa kurierską\"),MAX($P$1:P175)+1,\"\"))","v":""},""]
["",{"$f":"IF(F177=\"\",\"\",VLOOKUP(O177,DATA!R:S,2,FALSE)&VLOOKUP(Zakázky!F177+10000,'Místa dodání'!A:B,2,FALSE))","v":""},"","",{"$f":"IF(F177=\"\",\"\",VLOOKUP(VLOOKUP(F177,'Data eshop'!D:N,11,FALSE),DATA!A:B,2,FALSE))","v":""},{"$f":"IF('Místa dodání'!A178=\"\",\"\",'Místa dodání'!A178-10000)","v":""},{"$f":"IF(F177=\"\",\"\",VLOOKUP(VLOOKUP(F177,'Data eshop'!D:AD,12,FALSE),DATA!D:E,2,FALSE))","v":""},"","","","","","","",{"$f":"IF(A177=\"\",\"\",VLOOKUP(RIGHT(A177,5)*1,'Data eshop'!D:M,10,FALSE))","v":""},{"$f":"IF(A177=\"\",\"\",IF(OR(VLOOKUP(RIGHT(A177,5)*1,'Data eshop'!D:O,12,FALSE)=\"Kurýrní službou\",VLOOKUP(RIGHT(A177,5)*1,'Data eshop'!D:O,12,FALSE)=\"Kuriérskou službou\",VLOOKUP(RIGHT(A177,5)*1,'Data eshop'!D:O,12,FALSE)=\"Usługa kurierską\"),MAX($P$1:P176)+1,\"\"))","v":""},""]
["",{"$f":"IF(F178=\"\",\"\",VLOOKUP(O178,DATA!R:S,2,FALSE)&VLOOKUP(Zakázky!F178+10000,'Místa dodání'!A:B,2,FALSE))","v":""},"","",{"$f":"IF(F178=\"\",\"\",VLOOKUP(VLOOKUP(F178,'Data eshop'!D:N,11,FALSE),DATA!A:B,2,FALSE))","v":""},{"$f":"IF('Místa dodání'!A179=\"\",\"\",'Místa dodání'!A179-10000)","v":""},{"$f":"IF(F178=\"\",\"\",VLOOKUP(VLOOKUP(F178,'Data eshop'!D:AD,12,FALSE),DATA!D:E,2,FALSE))","v":""},"","","","","","","",{"$f":"IF(A178=\"\",\"\",VLOOKUP(RIGHT(A178,5)*1,'Data eshop'!D:M,10,FALSE))","v":""},{"$f":"IF(A178=\"\",\"\",IF(OR(VLOOKUP(RIGHT(A178,5)*1,'Data eshop'!D:O,12,FALSE)=\"Kurýrní službou\",VLOOKUP(RIGHT(A178,5)*1,'Data eshop'!D:O,12,FALSE)=\"Kuriérskou službou\",VLOOKUP(RIGHT(A178,5)*1,'Data eshop'!D:O,12,FALSE)=\"Usługa kurierską\"),MAX($P$1:P177)+1,\"\"))","v":""},""]
["",{"$f":"IF(F179=\"\",\"\",VLOOKUP(O179,DATA!R:S,2,FALSE)&VLOOKUP(Zakázky!F179+10000,'Místa dodání'!A:B,2,FALSE))","v":""},"","",{"$f":"IF(F179=\"\",\"\",VLOOKUP(VLOOKUP(F179,'Data eshop'!D:N,11,FALSE),DATA!A:B,2,FALSE))","v":""},{"$f":"IF('Místa dodání'!A180=\"\",\"\",'Místa dodání'!A180-10000)","v":""},{"$f":"IF(F179=\"\",\"\",VLOOKUP(VLOOKUP(F179,'Data eshop'!D:AD,12,FALSE),DATA!D:E,2,FALSE))","v":""},"","","","","","","",{"$f":"IF(A179=\"\",\"\",VLOOKUP(RIGHT(A179,5)*1,'Data eshop'!D:M,10,FALSE))","v":""},{"$f":"IF(A179=\"\",\"\",IF(OR(VLOOKUP(RIGHT(A179,5)*1,'Data eshop'!D:O,12,FALSE)=\"Kurýrní službou\",VLOOKUP(RIGHT(A179,5)*1,'Data eshop'!D:O,12,FALSE)=\"Kuriérskou službou\",VLOOKUP(RIGHT(A179,5)*1,'Data eshop'!D:O,12,FALSE)=\"Usługa kurierską\"),MAX($P$1:P178)+1,\"\"))","v":""},"","Roluj nahoru, až uvidíš žlutou"]
["",{"$f":"IF(F180=\"\",\"\",VLOOKUP(O180,DATA!R:S,2,FALSE)&VLOOKUP(Zakázky!F180+10000,'Místa dodání'!A:B,2,FALSE))","v":""},"","",{"$f":"IF(F180=\"\",\"\",VLOOKUP(VLOOKUP(F180,'Data eshop'!D:N,11,FALSE),DATA!A:B,2,FALSE))","v":""},{"$f":"IF('Místa dodání'!A181=\"\",\"\",'Místa dodání'!A181-10000)","v":""},{"$f":"IF(F180=\"\",\"\",VLOOKUP(VLOOKUP(F180,'Data eshop'!D:AD,12,FALSE),DATA!D:E,2,FALSE))","v":""},"","","","","","","",{"$f":"IF(A180=\"\",\"\",VLOOKUP(RIGHT(A180,5)*1,'Data eshop'!D:M,10,FALSE))","v":""},{"$f":"IF(A180=\"\",\"\",IF(OR(VLOOKUP(RIGHT(A180,5)*1,'Data eshop'!D:O,12,FALSE)=\"Kurýrní službou\",VLOOKUP(RIGHT(A180,5)*1,'Data eshop'!D:O,12,FALSE)=\"Kuriérskou službou\",VLOOKUP(RIGHT(A180,5)*1,'Data eshop'!D:O,12,FALSE)=\"Usługa kurierską\"),MAX($P$1:P179)+1,\"\"))","v":""},""]
["",{"$f":"IF(F181=\"\",\"\",VLOOKUP(O181,DATA!R:S,2,FALSE)&VLOOKUP(Zakázky!F181+10000,'Místa dodání'!A:B,2,FALSE))","v":""},"","",{"$f":"IF(F181=\"\",\"\",VLOOKUP(VLOOKUP(F181,'Data eshop'!D:N,11,FALSE),DATA!A:B,2,FALSE))","v":""},{"$f":"IF('Místa dodání'!A182=\"\",\"\",'Místa dodání'!A182-10000)","v":""},{"$f":"IF(F181=\"\",\"\",VLOOKUP(VLOOKUP(F181,'Data eshop'!D:AD,12,FALSE),DATA!D:E,2,FALSE))","v":""},"","","","","","","",{"$f":"IF(A181=\"\",\"\",VLOOKUP(RIGHT(A181,5)*1,'Data eshop'!D:M,10,FALSE))","v":""},{"$f":"IF(A181=\"\",\"\",IF(OR(VLOOKUP(RIGHT(A181,5)*1,'Data eshop'!D:O,12,FALSE)=\"Kurýrní službou\",VLOOKUP(RIGHT(A181,5)*1,'Data eshop'!D:O,12,FALSE)=\"Kuriérskou službou\",VLOOKUP(RIGHT(A181,5)*1,'Data eshop'!D:O,12,FALSE)=\"Usługa kurierską\"),MAX($P$1:P180)+1,\"\"))","v":""},""]
["",{"$f":"IF(F182=\"\",\"\",VLOOKUP(O182,DATA!R:S,2,FALSE)&VLOOKUP(Zakázky!F182+10000,'Místa dodání'!A:B,2,FALSE))","v":""},"","",{"$f":"IF(F182=\"\",\"\",VLOOKUP(VLOOKUP(F182,'Data eshop'!D:N,11,FALSE),DATA!A:B,2,FALSE))","v":""},{"$f":"IF('Místa dodání'!A183=\"\",\"\",'Místa dodání'!A183-10000)","v":""},{"$f":"IF(F182=\"\",\"\",VLOOKUP(VLOOKUP(F182,'Data eshop'!D:AD,12,FALSE),DATA!D:E,2,FALSE))","v":""},"","","","","","","",{"$f":"IF(A182=\"\",\"\",VLOOKUP(RIGHT(A182,5)*1,'Data eshop'!D:M,10,FALSE))","v":""},{"$f":"IF(A182=\"\",\"\",IF(OR(VLOOKUP(RIGHT(A182,5)*1,'Data eshop'!D:O,12,FALSE)=\"Kurýrní službou\",VLOOKUP(RIGHT(A182,5)*1,'Data eshop'!D:O,12,FALSE)=\"Kuriérskou službou\",VLOOKUP(RIGHT(A182,5)*1,'Data eshop'!D:O,12,FALSE)=\"Usługa kurierską\"),MAX($P$1:P181)+1,\"\"))","v":""},""]
["",{"$f":"IF(F183=\"\",\"\",VLOOKUP(O183,DATA!R:S,2,FALSE)&VLOOKUP(Zakázky!F183+10000,'Místa dodání'!A:B,2,FALSE))","v":""},"","",{"$f":"IF(F183=\"\",\"\",VLOOKUP(VLOOKUP(F183,'Data eshop'!D:N,11,FALSE),DATA!A:B,2,FALSE))","v":""},{"$f":"IF('Místa dodání'!A184=\"\",\"\",'Místa dodání'!A184-10000)","v":""},{"$f":"IF(F183=\"\",\"\",VLOOKUP(VLOOKUP(F183,'Data eshop'!D:AD,12,FALSE),DATA!D:E,2,FALSE))","v":""},"","","","","","","",{"$f":"IF(A183=\"\",\"\",VLOOKUP(RIGHT(A183,5)*1,'Data eshop'!D:M,10,FALSE))","v":""},{"$f":"IF(A183=\"\",\"\",IF(OR(VLOOKUP(RIGHT(A183,5)*1,'Data eshop'!D:O,12,FALSE)=\"Kurýrní službou\",VLOOKUP(RIGHT(A183,5)*1,'Data eshop'!D:O,12,FALSE)=\"Kuriérskou službou\",VLOOKUP(RIGHT(A183,5)*1,'Data eshop'!D:O,12,FALSE)=\"Usługa kurierską\"),MAX($P$1:P182)+1,\"\"))","v":""},"","Roluj nahoru, až uvidíš žlutou"]
["",{"$f":"IF(F184=\"\",\"\",VLOOKUP(O184,DATA!R:S,2,FALSE)&VLOOKUP(Zakázky!F184+10000,'Místa dodání'!A:B,2,FALSE))","v":""},"","",{"$f":"IF(F184=\"\",\"\",VLOOKUP(VLOOKUP(F184,'Data eshop'!D:N,11,FALSE),DATA!A:B,2,FALSE))","v":""},{"$f":"IF('Místa dodání'!A185=\"\",\"\",'Místa dodání'!A185-10000)","v":""},{"$f":"IF(F184=\"\",\"\",VLOOKUP(VLOOKUP(F184,'Data eshop'!D:AD,12,FALSE),DATA!D:E,2,FALSE))","v":""},"","","","","","","",{"$f":"IF(A184=\"\",\"\",VLOOKUP(RIGHT(A184,5)*1,'Data eshop'!D:M,10,FALSE))","v":""},{"$f":"IF(A184=\"\",\"\",IF(OR(VLOOKUP(RIGHT(A184,5)*1,'Data eshop'!D:O,12,FALSE)=\"Kurýrní službou\",VLOOKUP(RIGHT(A184,5)*1,'Data eshop'!D:O,12,FALSE)=\"Kuriérskou službou\",VLOOKUP(RIGHT(A184,5)*1,'Data eshop'!D:O,12,FALSE)=\"Usługa kurierską\"),MAX($P$1:P183)+1,\"\"))","v":""},""]
["",{"$f":"IF(F185=\"\",\"\",VLOOKUP(O185,DATA!R:S,2,FALSE)&VLOOKUP(Zakázky!F185+10000,'Místa dodání'!A:B,2,FALSE))","v":""},"","",{"$f":"IF(F185=\"\",\"\",VLOOKUP(VLOOKUP(F185,'Data eshop'!D:N,11,FALSE),DATA!A:B,2,FALSE))","v":""},{"$f":"IF('Místa dodání'!A186=\"\",\"\",'Místa dodání'!A186-10000)","v":""},{"$f":"IF(F185=\"\",\"\",VLOOKUP(VLOOKUP(F185,'Data eshop'!D:AD,12,FALSE),DATA!D:E,2,FALSE))","v":""},"","","","","","","",{"$f":"IF(A185=\"\",\"\",VLOOKUP(RIGHT(A185,5)*1,'Data eshop'!D:M,10,FALSE))","v":""},{"$f":"IF(A185=\"\",\"\",IF(OR(VLOOKUP(RIGHT(A185,5)*1,'Data eshop'!D:O,12,FALSE)=\"Kurýrní službou\",VLOOKUP(RIGHT(A185,5)*1,'Data eshop'!D:O,12,FALSE)=\"Kuriérskou službou\",VLOOKUP(RIGHT(A185,5)*1,'Data eshop'!D:O,12,FALSE)=\"Usługa kurierską\"),MAX($P$1:P184)+1,\"\"))","v":""},""]
["",{"$f":"IF(F186=\"\",\"\",VLOOKUP(O186,DATA!R:S,2,FALSE)&VLOOKUP(Zakázky!F186+10000,'Místa dodání'!A:B,2,FALSE))","v":""},"","",{"$f":"IF(F186=\"\",\"\",VLOOKUP(VLOOKUP(F186,'Data eshop'!D:N,11,FALSE),DATA!A:B,2,FALSE))","v":""},{"$f":"IF('Místa dodání'!A187=\"\",\"\",'Místa dodání'!A187-10000)","v":""},{"$f":"IF(F186=\"\",\"\",VLOOKUP(VLOOKUP(F186,'Data eshop'!D:AD,12,FALSE),DATA!D:E,2,FALSE))","v":""},"","","","","","","",{"$f":"IF(A186=\"\",\"\",VLOOKUP(RIGHT(A186,5)*1,'Data eshop'!D:M,10,FALSE))","v":""},{"$f":"IF(A186=\"\",\"\",IF(OR(VLOOKUP(RIGHT(A186,5)*1,'Data eshop'!D:O,12,FALSE)=\"Kurýrní službou\",VLOOKUP(RIGHT(A186,5)*1,'Data eshop'!D:O,12,FALSE)=\"Kuriérskou službou\",VLOOKUP(RIGHT(A186,5)*1,'Data eshop'!D:O,12,FALSE)=\"Usługa kurierską\"),MAX($P$1:P185)+1,\"\"))","v":""},""]
["",{"$f":"IF(F187=\"\",\"\",VLOOKUP(O187,DATA!R:S,2,FALSE)&VLOOKUP(Zakázky!F187+10000,'Místa dodání'!A:B,2,FALSE))","v":""},"","",{"$f":"IF(F187=\"\",\"\",VLOOKUP(VLOOKUP(F187,'Data eshop'!D:N,11,FALSE),DATA!A:B,2,FALSE))","v":""},{"$f":"IF('Místa dodání'!A188=\"\",\"\",'Místa dodání'!A188-10000)","v":""},{"$f":"IF(F187=\"\",\"\",VLOOKUP(VLOOKUP(F187,'Data eshop'!D:AD,12,FALSE),DATA!D:E,2,FALSE))","v":""},"","","","","","","",{"$f":"IF(A187=\"\",\"\",VLOOKUP(RIGHT(A187,5)*1,'Data eshop'!D:M,10,FALSE))","v":""},{"$f":"IF(A187=\"\",\"\",IF(OR(VLOOKUP(RIGHT(A187,5)*1,'Data eshop'!D:O,12,FALSE)=\"Kurýrní službou\",VLOOKUP(RIGHT(A187,5)*1,'Data eshop'!D:O,12,FALSE)=\"Kuriérskou službou\",VLOOKUP(RIGHT(A187,5)*1,'Data eshop'!D:O,12,FALSE)=\"Usługa kurierską\"),MAX($P$1:P186)+1,\"\"))","v":""},"","Roluj nahoru, až uvidíš žlutou"]
["",{"$f":"IF(F188=\"\",\"\",VLOOKUP(O188,DATA!R:S,2,FALSE)&VLOOKUP(Zakázky!F188+10000,'Místa dodání'!A:B,2,FALSE))","v":""},"","",{"$f":"IF(F188=\"\",\"\",VLOOKUP(VLOOKUP(F188,'Data eshop'!D:N,11,FALSE),DATA!A:B,2,FALSE))","v":""},{"$f":"IF('Místa dodání'!A189=\"\",\"\",'Místa dodání'!A189-10000)","v":""},{"$f":"IF(F188=\"\",\"\",VLOOKUP(VLOOKUP(F188,'Data eshop'!D:AD,12,FALSE),DATA!D:E,2,FALSE))","v":""},"","","","","","","",{"$f":"IF(A188=\"\",\"\",VLOOKUP(RIGHT(A188,5)*1,'Data eshop'!D:M,10,FALSE))","v":""},{"$f":"IF(A188=\"\",\"\",IF(OR(VLOOKUP(RIGHT(A188,5)*1,'Data eshop'!D:O,12,FALSE)=\"Kurýrní službou\",VLOOKUP(RIGHT(A188,5)*1,'Data eshop'!D:O,12,FALSE)=\"Kuriérskou službou\",VLOOKUP(RIGHT(A188,5)*1,'Data eshop'!D:O,12,FALSE)=\"Usługa kurierską\"),MAX($P$1:P187)+1,\"\"))","v":""},""]
["",{"$f":"IF(F189=\"\",\"\",VLOOKUP(O189,DATA!R:S,2,FALSE)&VLOOKUP(Zakázky!F189+10000,'Místa dodání'!A:B,2,FALSE))","v":""},"","",{"$f":"IF(F189=\"\",\"\",VLOOKUP(VLOOKUP(F189,'Data eshop'!D:N,11,FALSE),DATA!A:B,2,FALSE))","v":""},{"$f":"IF('Místa dodání'!A190=\"\",\"\",'Místa dodání'!A190-10000)","v":""},{"$f":"IF(F189=\"\",\"\",VLOOKUP(VLOOKUP(F189,'Data eshop'!D:AD,12,FALSE),DATA!D:E,2,FALSE))","v":""},"","","","","","","",{"$f":"IF(A189=\"\",\"\",VLOOKUP(RIGHT(A189,5)*1,'Data eshop'!D:M,10,FALSE))","v":""},{"$f":"IF(A189=\"\",\"\",IF(OR(VLOOKUP(RIGHT(A189,5)*1,'Data eshop'!D:O,12,FALSE)=\"Kurýrní službou\",VLOOKUP(RIGHT(A189,5)*1,'Data eshop'!D:O,12,FALSE)=\"Kuriérskou službou\",VLOOKUP(RIGHT(A189,5)*1,'Data eshop'!D:O,12,FALSE)=\"Usługa kurierską\"),MAX($P$1:P188)+1,\"\"))","v":""},""]
["",{"$f":"IF(F190=\"\",\"\",VLOOKUP(O190,DATA!R:S,2,FALSE)&VLOOKUP(Zakázky!F190+10000,'Místa dodání'!A:B,2,FALSE))","v":""},"","",{"$f":"IF(F190=\"\",\"\",VLOOKUP(VLOOKUP(F190,'Data eshop'!D:N,11,FALSE),DATA!A:B,2,FALSE))","v":""},{"$f":"IF('Místa dodání'!A191=\"\",\"\",'Místa dodání'!A191-10000)","v":""},{"$f":"IF(F190=\"\",\"\",VLOOKUP(VLOOKUP(F190,'Data eshop'!D:AD,12,FALSE),DATA!D:E,2,FALSE))","v":""},"","","","","","","",{"$f":"IF(A190=\"\",\"\",VLOOKUP(RIGHT(A190,5)*1,'Data eshop'!D:M,10,FALSE))","v":""},{"$f":"IF(A190=\"\",\"\",IF(OR(VLOOKUP(RIGHT(A190,5)*1,'Data eshop'!D:O,12,FALSE)=\"Kurýrní službou\",VLOOKUP(RIGHT(A190,5)*1,'Data eshop'!D:O,12,FALSE)=\"Kuriérskou službou\",VLOOKUP(RIGHT(A190,5)*1,'Data eshop'!D:O,12,FALSE)=\"Usługa kurierską\"),MAX($P$1:P189)+1,\"\"))","v":""},""]
["",{"$f":"IF(F191=\"\",\"\",VLOOKUP(O191,DATA!R:S,2,FALSE)&VLOOKUP(Zakázky!F191+10000,'Místa dodání'!A:B,2,FALSE))","v":""},"","",{"$f":"IF(F191=\"\",\"\",VLOOKUP(VLOOKUP(F191,'Data eshop'!D:N,11,FALSE),DATA!A:B,2,FALSE))","v":""},{"$f":"IF('Místa dodání'!A192=\"\",\"\",'Místa dodání'!A192-10000)","v":""},{"$f":"IF(F191=\"\",\"\",VLOOKUP(VLOOKUP(F191,'Data eshop'!D:AD,12,FALSE),DATA!D:E,2,FALSE))","v":""},"","","","","","","",{"$f":"IF(A191=\"\",\"\",VLOOKUP(RIGHT(A191,5)*1,'Data eshop'!D:M,10,FALSE))","v":""},{"$f":"IF(A191=\"\",\"\",IF(OR(VLOOKUP(RIGHT(A191,5)*1,'Data eshop'!D:O,12,FALSE)=\"Kurýrní službou\",VLOOKUP(RIGHT(A191,5)*1,'Data eshop'!D:O,12,FALSE)=\"Kuriérskou službou\",VLOOKUP(RIGHT(A191,5)*1,'Data eshop'!D:O,12,FALSE)=\"Usługa kurierską\"),MAX($P$1:P190)+1,\"\"))","v":""},"","Roluj nahoru, až uvidíš žlutou"]
["",{"$f":"IF(F192=\"\",\"\",VLOOKUP(O192,DATA!R:S,2,FALSE)&VLOOKUP(Zakázky!F192+10000,'Místa dodání'!A:B,2,FALSE))","v":""},"","",{"$f":"IF(F192=\"\",\"\",VLOOKUP(VLOOKUP(F192,'Data eshop'!D:N,11,FALSE),DATA!A:B,2,FALSE))","v":""},{"$f":"IF('Místa dodání'!A193=\"\",\"\",'Místa dodání'!A193-10000)","v":""},{"$f":"IF(F192=\"\",\"\",VLOOKUP(VLOOKUP(F192,'Data eshop'!D:AD,12,FALSE),DATA!D:E,2,FALSE))","v":""},"","","","","","","",{"$f":"IF(A192=\"\",\"\",VLOOKUP(RIGHT(A192,5)*1,'Data eshop'!D:M,10,FALSE))","v":""},{"$f":"IF(A192=\"\",\"\",IF(OR(VLOOKUP(RIGHT(A192,5)*1,'Data eshop'!D:O,12,FALSE)=\"Kurýrní službou\",VLOOKUP(RIGHT(A192,5)*1,'Data eshop'!D:O,12,FALSE)=\"Kuriérskou službou\",VLOOKUP(RIGHT(A192,5)*1,'Data eshop'!D:O,12,FALSE)=\"Usługa kurierską\"),MAX($P$1:P191)+1,\"\"))","v":""},""]
["",{"$f":"IF(F193=\"\",\"\",VLOOKUP(O193,DATA!R:S,2,FALSE)&VLOOKUP(Zakázky!F193+10000,'Místa dodání'!A:B,2,FALSE))","v":""},"","",{"$f":"IF(F193=\"\",\"\",VLOOKUP(VLOOKUP(F193,'Data eshop'!D:N,11,FALSE),DATA!A:B,2,FALSE))","v":""},{"$f":"IF('Místa dodání'!A194=\"\",\"\",'Místa dodání'!A194-10000)","v":""},{"$f":"IF(F193=\"\",\"\",VLOOKUP(VLOOKUP(F193,'Data eshop'!D:AD,12,FALSE),DATA!D:E,2,FALSE))","v":""},"","","","","","","",{"$f":"IF(A193=\"\",\"\",VLOOKUP(RIGHT(A193,5)*1,'Data eshop'!D:M,10,FALSE))","v":""},{"$f":"IF(A193=\"\",\"\",IF(OR(VLOOKUP(RIGHT(A193,5)*1,'Data eshop'!D:O,12,FALSE)=\"Kurýrní službou\",VLOOKUP(RIGHT(A193,5)*1,'Data eshop'!D:O,12,FALSE)=\"Kuriérskou službou\",VLOOKUP(RIGHT(A193,5)*1,'Data eshop'!D:O,12,FALSE)=\"Usługa kurierską\"),MAX($P$1:P192)+1,\"\"))","v":""},""]
[{"$f":"IF(F194=\"\",\"\",\"19ESh\"&IF(LEN(F194)=4,\"0\",\"\")&F194)","v":""},{"$f":"IF(F194=\"\",\"\",VLOOKUP(O194,DATA!R:S,2,FALSE)&VLOOKUP(Zakázky!F194+10000,'Místa dodání'!A:B,2,FALSE))","v":""},{"$f":"IF(F194=\"\",\"\",F194+10000)","v":""},"",{"$f":"IF(F194=\"\",\"\",VLOOKUP(VLOOKUP(F194,'Data eshop'!D:N,11,FALSE),DATA!A:B,2,FALSE))","v":""},{"$f":"IF('Místa dodání'!A195=\"\",\"\",'Místa dodání'!A195-10000)","v":""},{"$f":"IF(F194=\"\",\"\",VLOOKUP(VLOOKUP(F194,'Data eshop'!D:AD,12,FALSE),DATA!D:E,2,FALSE))","v":""},"","","","","","","",{"$f":"IF(A194=\"\",\"\",VLOOKUP(RIGHT(A194,5)*1,'Data eshop'!D:M,10,FALSE))","v":""},{"$f":"IF(A194=\"\",\"\",IF(OR(VLOOKUP(RIGHT(A194,5)*1,'Data eshop'!D:O,12,FALSE)=\"Kurýrní službou\",VLOOKUP(RIGHT(A194,5)*1,'Data eshop'!D:O,12,FALSE)=\"Kuriérskou službou\",VLOOKUP(RIGHT(A194,5)*1,'Data eshop'!D:O,12,FALSE)=\"Usługa kurierską\"),MAX($P$1:P193)+1,\"\"))","v":""},""]
["",{"$f":"IF(F195=\"\",\"\",VLOOKUP(O195,DATA!R:S,2,FALSE)&VLOOKUP(Zakázky!F195+10000,'Místa dodání'!A:B,2,FALSE))","v":""},"",{"$f":"IF(F195=\"\",\"\",TODAY())","v":""},{"$f":"IF(F195=\"\",\"\",VLOOKUP(VLOOKUP(F195,'Data eshop'!D:N,11,FALSE),DATA!A:B,2,FALSE))","v":""},{"$f":"IF('Místa dodání'!A196=\"\",\"\",'Místa dodání'!A196-10000)","v":""},{"$f":"IF(F195=\"\",\"\",VLOOKUP(VLOOKUP(F195,'Data eshop'!D:AD,12,FALSE),DATA!D:E,2,FALSE))","v":""},{"$f":"IF(F195=\"\",\"\",\"Řádná\")","v":""},{"$f":"IF(F195=\"\",\"\",\"Objednáno\")","v":""},{"$f":"IF(F195=\"\",\"\",\"SKL\")","v":""},{"$f":"IF(F195=\"\",\"\",\"PR\")","v":""},{"$f":"IF(F195=\"\",\"\",0)","v":""},{"$f":"IF(F195=\"\",\"\",0)","v":""},{"$f":"IF(F195=\"\",\"\",0)","v":""},{"$f":"IF(A195=\"\",\"\",VLOOKUP(RIGHT(A195,5)*1,'Data eshop'!D:M,10,FALSE))","v":""},{"$f":"IF(A195=\"\",\"\",IF(OR(VLOOKUP(RIGHT(A195,5)*1,'Data eshop'!D:O,12,FALSE)=\"Kurýrní službou\",VLOOKUP(RIGHT(A195,5)*1,'Data eshop'!D:O,12,FALSE)=\"Kuriérskou službou\",VLOOKUP(RIGHT(A195,5)*1,'Data eshop'!D:O,12,FALSE)=\"Usługa kurierską\"),MAX($P$1:P194)+1,\"\"))","v":""},{"$f":"IF(A195=\"\",\"\",A195)","v":""},"Roluj nahoru, až uvidíš žlutou"]
["",{"$f":"IF(F196=\"\",\"\",VLOOKUP(O196,DATA!R:S,2,FALSE)&VLOOKUP(Zakázky!F196+10000,'Místa dodání'!A:B,2,FALSE))","v":""},"","",{"$f":"IF(F196=\"\",\"\",VLOOKUP(VLOOKUP(F196,'Data eshop'!D:N,11,FALSE),DATA!A:B,2,FALSE))","v":""},{"$f":"IF('Místa dodání'!A197=\"\",\"\",'Místa dodání'!A197-10000)","v":""},{"$f":"IF(F196=\"\",\"\",VLOOKUP(VLOOKUP(F196,'Data eshop'!D:AD,12,FALSE),DATA!D:E,2,FALSE))","v":""},"","","","","","","",{"$f":"IF(A196=\"\",\"\",VLOOKUP(RIGHT(A196,5)*1,'Data eshop'!D:M,10,FALSE))","v":""},{"$f":"IF(A196=\"\",\"\",IF(OR(VLOOKUP(RIGHT(A196,5)*1,'Data eshop'!D:O,12,FALSE)=\"Kurýrní službou\",VLOOKUP(RIGHT(A196,5)*1,'Data eshop'!D:O,12,FALSE)=\"Kuriérskou službou\",VLOOKUP(RIGHT(A196,5)*1,'Data eshop'!D:O,12,FALSE)=\"Usługa kurierską\"),MAX($P$1:P195)+1,\"\"))","v":""},""]
["",{"$f":"IF(F197=\"\",\"\",VLOOKUP(O197,DATA!R:S,2,FALSE)&VLOOKUP(Zakázky!F197+10000,'Místa dodání'!A:B,2,FALSE))","v":""},"","",{"$f":"IF(F197=\"\",\"\",VLOOKUP(VLOOKUP(F197,'Data eshop'!D:N,11,FALSE),DATA!A:B,2,FALSE))","v":""},{"$f":"IF('Místa dodání'!A198=\"\",\"\",'Místa dodání'!A198-10000)","v":""},{"$f":"IF(F197=\"\",\"\",VLOOKUP(VLOOKUP(F197,'Data eshop'!D:AD,12,FALSE),DATA!D:E,2,FALSE))","v":""},"","","","","","","",{"$f":"IF(A197=\"\",\"\",VLOOKUP(RIGHT(A197,5)*1,'Data eshop'!D:M,10,FALSE))","v":""},{"$f":"IF(A197=\"\",\"\",IF(OR(VLOOKUP(RIGHT(A197,5)*1,'Data eshop'!D:O,12,FALSE)=\"Kurýrní službou\",VLOOKUP(RIGHT(A197,5)*1,'Data eshop'!D:O,12,FALSE)=\"Kuriérskou službou\",VLOOKUP(RIGHT(A197,5)*1,'Data eshop'!D:O,12,FALSE)=\"Usługa kurierską\"),MAX($P$1:P196)+1,\"\"))","v":""},""]
["",{"$f":"IF(F198=\"\",\"\",VLOOKUP(O198,DATA!R:S,2,FALSE)&VLOOKUP(Zakázky!F198+10000,'Místa dodání'!A:B,2,FALSE))","v":""},"","",{"$f":"IF(F198=\"\",\"\",VLOOKUP(VLOOKUP(F198,'Data eshop'!D:N,11,FALSE),DATA!A:B,2,FALSE))","v":""},{"$f":"IF('Místa dodání'!A199=\"\",\"\",'Místa dodání'!A199-10000)","v":""},{"$f":"IF(F198=\"\",\"\",VLOOKUP(VLOOKUP(F198,'Data eshop'!D:AD,12,FALSE),DATA!D:E,2,FALSE))","v":""},"","","","","","","",{"$f":"IF(A198=\"\",\"\",VLOOKUP(RIGHT(A198,5)*1,'Data eshop'!D:M,10,FALSE))","v":""},{"$f":"IF(A198=\"\",\"\",IF(OR(VLOOKUP(RIGHT(A198,5)*1,'Data eshop'!D:O,12,FALSE)=\"Kurýrní službou\",VLOOKUP(RIGHT(A198,5)*1,'Data eshop'!D:O,12,FALSE)=\"Kuriérskou službou\",VLOOKUP(RIGHT(A198,5)*1,'Data eshop'!D:O,12,FALSE)=\"Usługa kurierską\"),MAX($P$1:P197)+1,\"\"))","v":""},""]
["",{"$f":"IF(F199=\"\",\"\",VLOOKUP(O199,DATA!R:S,2,FALSE)&VLOOKUP(Zakázky!F199+10000,'Místa dodání'!A:B,2,FALSE))","v":""},"","",{"$f":"IF(F199=\"\",\"\",VLOOKUP(VLOOKUP(F199,'Data eshop'!D:N,11,FALSE),DATA!A:B,2,FALSE))","v":""},{"$f":"IF('Místa dodání'!A200=\"\",\"\",'Místa dodání'!A200-10000)","v":""},{"$f":"IF(F199=\"\",\"\",VLOOKUP(VLOOKUP(F199,'Data eshop'!D:AD,12,FALSE),DATA!D:E,2,FALSE))","v":""},"","","","","","","",{"$f":"IF(A199=\"\",\"\",VLOOKUP(RIGHT(A199,5)*1,'Data eshop'!D:M,10,FALSE))","v":""},{"$f":"IF(A199=\"\",\"\",IF(OR(VLOOKUP(RIGHT(A199,5)*1,'Data eshop'!D:O,12,FALSE)=\"Kurýrní službou\",VLOOKUP(RIGHT(A199,5)*1,'Data eshop'!D:O,12,FALSE)=\"Kuriérskou službou\",VLOOKUP(RIGHT(A199,5)*1,'Data eshop'!D:O,12,FALSE)=\"Usługa kurierską\"),MAX($P$1:P198)+1,\"\"))","v":""},"","Roluj nahoru, až uvidíš žlutou"]
["",{"$f":"IF(F200=\"\",\"\",VLOOKUP(O200,DATA!R:S,2,FALSE)&VLOOKUP(Zakázky!F200+10000,'Místa dodání'!A:B,2,FALSE))","v":""},"","",{"$f":"IF(F200=\"\",\"\",VLOOKUP(VLOOKUP(F200,'Data eshop'!D:N,11,FALSE),DATA!A:B,2,FALSE))","v":""},{"$f":"IF('Místa dodání'!A201=\"\",\"\",'Místa dodání'!A201-10000)","v":""},{"$f":"IF(F200=\"\",\"\",VLOOKUP(VLOOKUP(F200,'Data eshop'!D:AD,12,FALSE),DATA!D:E,2,FALSE))","v":""},"","","","","","","",{"$f":"IF(A200=\"\",\"\",VLOOKUP(RIGHT(A200,5)*1,'Data eshop'!D:M,10,FALSE))","v":""},{"$f":"IF(A200=\"\",\"\",IF(OR(VLOOKUP(RIGHT(A200,5)*1,'Data eshop'!D:O,12,FALSE)=\"Kurýrní službou\",VLOOKUP(RIGHT(A200,5)*1,'Data eshop'!D:O,12,FALSE)=\"Kuriérskou službou\",VLOOKUP(RIGHT(A200,5)*1,'Data eshop'!D:O,12,FALSE)=\"Usługa kurierską\"),MAX($P$1:P199)+1,\"\"))","v":""},""]
["",{"$f":"IF(F201=\"\",\"\",VLOOKUP(O201,DATA!R:S,2,FALSE)&VLOOKUP(Zakázky!F201+10000,'Místa dodání'!A:B,2,FALSE))","v":""},"","",{"$f":"IF(F201=\"\",\"\",VLOOKUP(VLOOKUP(F201,'Data eshop'!D:N,11,FALSE),DATA!A:B,2,FALSE))","v":""},{"$f":"IF('Místa dodání'!A202=\"\",\"\",'Místa dodání'!A202-10000)","v":""},{"$f":"IF(F201=\"\",\"\",VLOOKUP(VLOOKUP(F201,'Data eshop'!D:AD,12,FALSE),DATA!D:E,2,FALSE))","v":""},"","","","","","","",{"$f":"IF(A201=\"\",\"\",VLOOKUP(RIGHT(A201,5)*1,'Data eshop'!D:M,10,FALSE))","v":""},{"$f":"IF(A201=\"\",\"\",IF(OR(VLOOKUP(RIGHT(A201,5)*1,'Data eshop'!D:O,12,FALSE)=\"Kurýrní službou\",VLOOKUP(RIGHT(A201,5)*1,'Data eshop'!D:O,12,FALSE)=\"Kuriérskou službou\",VLOOKUP(RIGHT(A201,5)*1,'Data eshop'!D:O,12,FALSE)=\"Usługa kurierską\"),MAX($P$1:P200)+1,\"\"))","v":""},""]
["",{"$f":"IF(F202=\"\",\"\",VLOOKUP(O202,DATA!R:S,2,FALSE)&VLOOKUP(Zakázky!F202+10000,'Místa dodání'!A:B,2,FALSE))","v":""},"","",{"$f":"IF(F202=\"\",\"\",VLOOKUP(VLOOKUP(F202,'Data eshop'!D:N,11,FALSE),DATA!A:B,2,FALSE))","v":""},{"$f":"IF('Místa dodání'!A203=\"\",\"\",'Místa dodání'!A203-10000)","v":""},{"$f":"IF(F202=\"\",\"\",VLOOKUP(VLOOKUP(F202,'Data eshop'!D:AD,12,FALSE),DATA!D:E,2,FALSE))","v":""},"","","","","","","",{"$f":"IF(A202=\"\",\"\",VLOOKUP(RIGHT(A202,5)*1,'Data eshop'!D:M,10,FALSE))","v":""},{"$f":"IF(A202=\"\",\"\",IF(OR(VLOOKUP(RIGHT(A202,5)*1,'Data eshop'!D:O,12,FALSE)=\"Kurýrní službou\",VLOOKUP(RIGHT(A202,5)*1,'Data eshop'!D:O,12,FALSE)=\"Kuriérskou službou\",VLOOKUP(RIGHT(A202,5)*1,'Data eshop'!D:O,12,FALSE)=\"Usługa kurierską\"),MAX($P$1:P201)+1,\"\"))","v":""},""]
["",{"$f":"IF(F203=\"\",\"\",VLOOKUP(O203,DATA!R:S,2,FALSE)&VLOOKUP(Zakázky!F203+10000,'Místa dodání'!A:B,2,FALSE))","v":""},"","",{"$f":"IF(F203=\"\",\"\",VLOOKUP(VLOOKUP(F203,'Data eshop'!D:N,11,FALSE),DATA!A:B,2,FALSE))","v":""},{"$f":"IF('Místa dodání'!A204=\"\",\"\",'Místa dodání'!A204-10000)","v":""},{"$f":"IF(F203=\"\",\"\",VLOOKUP(VLOOKUP(F203,'Data eshop'!D:AD,12,FALSE),DATA!D:E,2,FALSE))","v":""},"","","","","","","",{"$f":"IF(A203=\"\",\"\",VLOOKUP(RIGHT(A203,5)*1,'Data eshop'!D:M,10,FALSE))","v":""},{"$f":"IF(A203=\"\",\"\",IF(OR(VLOOKUP(RIGHT(A203,5)*1,'Data eshop'!D:O,12,FALSE)=\"Kurýrní službou\",VLOOKUP(RIGHT(A203,5)*1,'Data eshop'!D:O,12,FALSE)=\"Kuriérskou službou\",VLOOKUP(RIGHT(A203,5)*1,'Data eshop'!D:O,12,FALSE)=\"Usługa kurierską\"),MAX($P$1:P202)+1,\"\"))","v":""},"","Roluj nahoru, až uvidíš žlutou"]
["",{"$f":"IF(F204=\"\",\"\",VLOOKUP(O204,DATA!R:S,2,FALSE)&VLOOKUP(Zakázky!F204+10000,'Místa dodání'!A:B,2,FALSE))","v":""},"","",{"$f":"IF(F204=\"\",\"\",VLOOKUP(VLOOKUP(F204,'Data eshop'!D:N,11,FALSE),DATA!A:B,2,FALSE))","v":""},{"$f":"IF('Místa dodání'!A205=\"\",\"\",'Místa dodání'!A205-10000)","v":""},{"$f":"IF(F204=\"\",\"\",VLOOKUP(VLOOKUP(F204,'Data eshop'!D:AD,12,FALSE),DATA!D:E,2,FALSE))","v":""},"","","","","","","",{"$f":"IF(A204=\"\",\"\",VLOOKUP(RIGHT(A204,5)*1,'Data eshop'!D:M,10,FALSE))","v":""},{"$f":"IF(A204=\"\",\"\",IF(OR(VLOOKUP(RIGHT(A204,5)*1,'Data eshop'!D:O,12,FALSE)=\"Kurýrní službou\",VLOOKUP(RIGHT(A204,5)*1,'Data eshop'!D:O,12,FALSE)=\"Kuriérskou službou\",VLOOKUP(RIGHT(A204,5)*1,'Data eshop'!D:O,12,FALSE)=\"Usługa kurierską\"),MAX($P$1:P203)+1,\"\"))","v":""},""]
["",{"$f":"IF(F205=\"\",\"\",VLOOKUP(O205,DATA!R:S,2,FALSE)&VLOOKUP(Zakázky!F205+10000,'Místa dodání'!A:B,2,FALSE))","v":""},"","",{"$f":"IF(F205=\"\",\"\",VLOOKUP(VLOOKUP(F205,'Data eshop'!D:N,11,FALSE),DATA!A:B,2,FALSE))","v":""},{"$f":"IF('Místa dodání'!A206=\"\",\"\",'Místa dodání'!A206-10000)","v":""},{"$f":"IF(F205=\"\",\"\",VLOOKUP(VLOOKUP(F205,'Data eshop'!D:AD,12,FALSE),DATA!D:E,2,FALSE))","v":""},"","","","","","","",{"$f":"IF(A205=\"\",\"\",VLOOKUP(RIGHT(A205,5)*1,'Data eshop'!D:M,10,FALSE))","v":""},{"$f":"IF(A205=\"\",\"\",IF(OR(VLOOKUP(RIGHT(A205,5)*1,'Data eshop'!D:O,12,FALSE)=\"Kurýrní službou\",VLOOKUP(RIGHT(A205,5)*1,'Data eshop'!D:O,12,FALSE)=\"Kuriérskou službou\",VLOOKUP(RIGHT(A205,5)*1,'Data eshop'!D:O,12,FALSE)=\"Usługa kurierską\"),MAX($P$1:P204)+1,\"\"))","v":""},""]
["",{"$f":"IF(F206=\"\",\"\",VLOOKUP(O206,DATA!R:S,2,FALSE)&VLOOKUP(Zakázky!F206+10000,'Místa dodání'!A:B,2,FALSE))","v":""},"","",{"$f":"IF(F206=\"\",\"\",VLOOKUP(VLOOKUP(F206,'Data eshop'!D:N,11,FALSE),DATA!A:B,2,FALSE))","v":""},{"$f":"IF('Místa dodání'!A207=\"\",\"\",'Místa dodání'!A207-10000)","v":""},{"$f":"IF(F206=\"\",\"\",VLOOKUP(VLOOKUP(F206,'Data eshop'!D:AD,12,FALSE),DATA!D:E,2,FALSE))","v":""},"","","","","","","",{"$f":"IF(A206=\"\",\"\",VLOOKUP(RIGHT(A206,5)*1,'Data eshop'!D:M,10,FALSE))","v":""},{"$f":"IF(A206=\"\",\"\",IF(OR(VLOOKUP(RIGHT(A206,5)*1,'Data eshop'!D:O,12,FALSE)=\"Kurýrní službou\",VLOOKUP(RIGHT(A206,5)*1,'Data eshop'!D:O,12,FALSE)=\"Kuriérskou službou\",VLOOKUP(RIGHT(A206,5)*1,'Data eshop'!D:O,12,FALSE)=\"Usługa kurierską\"),MAX($P$1:P205)+1,\"\"))","v":""},""]
["",{"$f":"IF(F207=\"\",\"\",VLOOKUP(O207,DATA!R:S,2,FALSE)&VLOOKUP(Zakázky!F207+10000,'Místa dodání'!A:B,2,FALSE))","v":""},"","",{"$f":"IF(F207=\"\",\"\",VLOOKUP(VLOOKUP(F207,'Data eshop'!D:N,11,FALSE),DATA!A:B,2,FALSE))","v":""},{"$f":"IF('Místa dodání'!A208=\"\",\"\",'Místa dodání'!A208-10000)","v":""},{"$f":"IF(F207=\"\",\"\",VLOOKUP(VLOOKUP(F207,'Data eshop'!D:AD,12,FALSE),DATA!D:E,2,FALSE))","v":""},"","","","","","","",{"$f":"IF(A207=\"\",\"\",VLOOKUP(RIGHT(A207,5)*1,'Data eshop'!D:M,10,FALSE))","v":""},{"$f":"IF(A207=\"\",\"\",IF(OR(VLOOKUP(RIGHT(A207,5)*1,'Data eshop'!D:O,12,FALSE)=\"Kurýrní službou\",VLOOKUP(RIGHT(A207,5)*1,'Data eshop'!D:O,12,FALSE)=\"Kuriérskou službou\",VLOOKUP(RIGHT(A207,5)*1,'Data eshop'!D:O,12,FALSE)=\"Usługa kurierską\"),MAX($P$1:P206)+1,\"\"))","v":""},"","Roluj nahoru, až uvidíš žlutou"]
["",{"$f":"IF(F208=\"\",\"\",VLOOKUP(O208,DATA!R:S,2,FALSE)&VLOOKUP(Zakázky!F208+10000,'Místa dodání'!A:B,2,FALSE))","v":""},"","",{"$f":"IF(F208=\"\",\"\",VLOOKUP(VLOOKUP(F208,'Data eshop'!D:N,11,FALSE),DATA!A:B,2,FALSE))","v":""},{"$f":"IF('Místa dodání'!A209=\"\",\"\",'Místa dodání'!A209-10000)","v":""},{"$f":"IF(F208=\"\",\"\",VLOOKUP(VLOOKUP(F208,'Data eshop'!D:AD,12,FALSE),DATA!D:E,2,FALSE))","v":""},"","","","","","","",{"$f":"IF(A208=\"\",\"\",VLOOKUP(RIGHT(A208,5)*1,'Data eshop'!D:M,10,FALSE))","v":""},{"$f":"IF(A208=\"\",\"\",IF(OR(VLOOKUP(RIGHT(A208,5)*1,'Data eshop'!D:O,12,FALSE)=\"Kurýrní službou\",VLOOKUP(RIGHT(A208,5)*1,'Data eshop'!D:O,12,FALSE)=\"Kuriérskou službou\",VLOOKUP(RIGHT(A208,5)*1,'Data eshop'!D:O,12,FALSE)=\"Usługa kurierską\"),MAX($P$1:P207)+1,\"\"))","v":""},""]
["",{"$f":"IF(F209=\"\",\"\",VLOOKUP(O209,DATA!R:S,2,FALSE)&VLOOKUP(Zakázky!F209+10000,'Místa dodání'!A:B,2,FALSE))","v":""},"","",{"$f":"IF(F209=\"\",\"\",VLOOKUP(VLOOKUP(F209,'Data eshop'!D:N,11,FALSE),DATA!A:B,2,FALSE))","v":""},{"$f":"IF('Místa dodání'!A210=\"\",\"\",'Místa dodání'!A210-10000)","v":""},{"$f":"IF(F209=\"\",\"\",VLOOKUP(VLOOKUP(F209,'Data eshop'!D:AD,12,FALSE),DATA!D:E,2,FALSE))","v":""},"","","","","","","",{"$f":"IF(A209=\"\",\"\",VLOOKUP(RIGHT(A209,5)*1,'Data eshop'!D:M,10,FALSE))","v":""},{"$f":"IF(A209=\"\",\"\",IF(OR(VLOOKUP(RIGHT(A209,5)*1,'Data eshop'!D:O,12,FALSE)=\"Kurýrní službou\",VLOOKUP(RIGHT(A209,5)*1,'Data eshop'!D:O,12,FALSE)=\"Kuriérskou službou\",VLOOKUP(RIGHT(A209,5)*1,'Data eshop'!D:O,12,FALSE)=\"Usługa kurierską\"),MAX($P$1:P208)+1,\"\"))","v":""},""]
["",{"$f":"IF(F210=\"\",\"\",VLOOKUP(O210,DATA!R:S,2,FALSE)&VLOOKUP(Zakázky!F210+10000,'Místa dodání'!A:B,2,FALSE))","v":""},"","",{"$f":"IF(F210=\"\",\"\",VLOOKUP(VLOOKUP(F210,'Data eshop'!D:N,11,FALSE),DATA!A:B,2,FALSE))","v":""},{"$f":"IF('Místa dodání'!A211=\"\",\"\",'Místa dodání'!A211-10000)","v":""},{"$f":"IF(F210=\"\",\"\",VLOOKUP(VLOOKUP(F210,'Data eshop'!D:AD,12,FALSE),DATA!D:E,2,FALSE))","v":""},"","","","","","","",{"$f":"IF(A210=\"\",\"\",VLOOKUP(RIGHT(A210,5)*1,'Data eshop'!D:M,10,FALSE))","v":""},{"$f":"IF(A210=\"\",\"\",IF(OR(VLOOKUP(RIGHT(A210,5)*1,'Data eshop'!D:O,12,FALSE)=\"Kurýrní službou\",VLOOKUP(RIGHT(A210,5)*1,'Data eshop'!D:O,12,FALSE)=\"Kuriérskou službou\",VLOOKUP(RIGHT(A210,5)*1,'Data eshop'!D:O,12,FALSE)=\"Usługa kurierską\"),MAX($P$1:P209)+1,\"\"))","v":""},""]
["",{"$f":"IF(F211=\"\",\"\",VLOOKUP(O211,DATA!R:S,2,FALSE)&VLOOKUP(Zakázky!F211+10000,'Místa dodání'!A:B,2,FALSE))","v":""},"","",{"$f":"IF(F211=\"\",\"\",VLOOKUP(VLOOKUP(F211,'Data eshop'!D:N,11,FALSE),DATA!A:B,2,FALSE))","v":""},{"$f":"IF('Místa dodání'!A212=\"\",\"\",'Místa dodání'!A212-10000)","v":""},{"$f":"IF(F211=\"\",\"\",VLOOKUP(VLOOKUP(F211,'Data eshop'!D:AD,12,FALSE),DATA!D:E,2,FALSE))","v":""},"","","","","","","",{"$f":"IF(A211=\"\",\"\",VLOOKUP(RIGHT(A211,5)*1,'Data eshop'!D:M,10,FALSE))","v":""},{"$f":"IF(A211=\"\",\"\",IF(OR(VLOOKUP(RIGHT(A211,5)*1,'Data eshop'!D:O,12,FALSE)=\"Kurýrní službou\",VLOOKUP(RIGHT(A211,5)*1,'Data eshop'!D:O,12,FALSE)=\"Kuriérskou službou\",VLOOKUP(RIGHT(A211,5)*1,'Data eshop'!D:O,12,FALSE)=\"Usługa kurierską\"),MAX($P$1:P210)+1,\"\"))","v":""},"","Roluj nahoru, až uvidíš žlutou"]
["",{"$f":"IF(F212=\"\",\"\",VLOOKUP(O212,DATA!R:S,2,FALSE)&VLOOKUP(Zakázky!F212+10000,'Místa dodání'!A:B,2,FALSE))","v":""},"","",{"$f":"IF(F212=\"\",\"\",VLOOKUP(VLOOKUP(F212,'Data eshop'!D:N,11,FALSE),DATA!A:B,2,FALSE))","v":""},{"$f":"IF('Místa dodání'!A213=\"\",\"\",'Místa dodání'!A213-10000)","v":""},{"$f":"IF(F212=\"\",\"\",VLOOKUP(VLOOKUP(F212,'Data eshop'!D:AD,12,FALSE),DATA!D:E,2,FALSE))","v":""},"","","","","","","",{"$f":"IF(A212=\"\",\"\",VLOOKUP(RIGHT(A212,5)*1,'Data eshop'!D:M,10,FALSE))","v":""},{"$f":"IF(A212=\"\",\"\",IF(OR(VLOOKUP(RIGHT(A212,5)*1,'Data eshop'!D:O,12,FALSE)=\"Kurýrní službou\",VLOOKUP(RIGHT(A212,5)*1,'Data eshop'!D:O,12,FALSE)=\"Kuriérskou službou\",VLOOKUP(RIGHT(A212,5)*1,'Data eshop'!D:O,12,FALSE)=\"Usługa kurierską\"),MAX($P$1:P211)+1,\"\"))","v":""},""]
["",{"$f":"IF(F213=\"\",\"\",VLOOKUP(O213,DATA!R:S,2,FALSE)&VLOOKUP(Zakázky!F213+10000,'Místa dodání'!A:B,2,FALSE))","v":""},"","",{"$f":"IF(F213=\"\",\"\",VLOOKUP(VLOOKUP(F213,'Data eshop'!D:N,11,FALSE),DATA!A:B,2,FALSE))","v":""},{"$f":"IF('Místa dodání'!A214=\"\",\"\",'Místa dodání'!A214-10000)","v":""},{"$f":"IF(F213=\"\",\"\",VLOOKUP(VLOOKUP(F213,'Data eshop'!D:AD,12,FALSE),DATA!D:E,2,FALSE))","v":""},"","","","","","","",{"$f":"IF(A213=\"\",\"\",VLOOKUP(RIGHT(A213,5)*1,'Data eshop'!D:M,10,FALSE))","v":""},{"$f":"IF(A213=\"\",\"\",IF(OR(VLOOKUP(RIGHT(A213,5)*1,'Data eshop'!D:O,12,FALSE)=\"Kurýrní službou\",VLOOKUP(RIGHT(A213,5)*1,'Data eshop'!D:O,12,FALSE)=\"Kuriérskou službou\",VLOOKUP(RIGHT(A213,5)*1,'Data eshop'!D:O,12,FALSE)=\"Usługa kurierską\"),MAX($P$1:P212)+1,\"\"))","v":""},""]
["",{"$f":"IF(F214=\"\",\"\",VLOOKUP(O214,DATA!R:S,2,FALSE)&VLOOKUP(Zakázky!F214+10000,'Místa dodání'!A:B,2,FALSE))","v":""},"","",{"$f":"IF(F214=\"\",\"\",VLOOKUP(VLOOKUP(F214,'Data eshop'!D:N,11,FALSE),DATA!A:B,2,FALSE))","v":""},{"$f":"IF('Místa dodání'!A215=\"\",\"\",'Místa dodání'!A215-10000)","v":""},{"$f":"IF(F214=\"\",\"\",VLOOKUP(VLOOKUP(F214,'Data eshop'!D:AD,12,FALSE),DATA!D:E,2,FALSE))","v":""},"","","","","","","",{"$f":"IF(A214=\"\",\"\",VLOOKUP(RIGHT(A214,5)*1,'Data eshop'!D:M,10,FALSE))","v":""},{"$f":"IF(A214=\"\",\"\",IF(OR(VLOOKUP(RIGHT(A214,5)*1,'Data eshop'!D:O,12,FALSE)=\"Kurýrní službou\",VLOOKUP(RIGHT(A214,5)*1,'Data eshop'!D:O,12,FALSE)=\"Kuriérskou službou\",VLOOKUP(RIGHT(A214,5)*1,'Data eshop'!D:O,12,FALSE)=\"Usługa kurierską\"),MAX($P$1:P213)+1,\"\"))","v":""},""]
["",{"$f":"IF(F215=\"\",\"\",VLOOKUP(O215,DATA!R:S,2,FALSE)&VLOOKUP(Zakázky!F215+10000,'Místa dodání'!A:B,2,FALSE))","v":""},"","",{"$f":"IF(F215=\"\",\"\",VLOOKUP(VLOOKUP(F215,'Data eshop'!D:N,11,FALSE),DATA!A:B,2,FALSE))","v":""},{"$f":"IF('Místa dodání'!A216=\"\",\"\",'Místa dodání'!A216-10000)","v":""},{"$f":"IF(F215=\"\",\"\",VLOOKUP(VLOOKUP(F215,'Data eshop'!D:AD,12,FALSE),DATA!D:E,2,FALSE))","v":""},"","","","","","","",{"$f":"IF(A215=\"\",\"\",VLOOKUP(RIGHT(A215,5)*1,'Data eshop'!D:M,10,FALSE))","v":""},{"$f":"IF(A215=\"\",\"\",IF(OR(VLOOKUP(RIGHT(A215,5)*1,'Data eshop'!D:O,12,FALSE)=\"Kurýrní službou\",VLOOKUP(RIGHT(A215,5)*1,'Data eshop'!D:O,12,FALSE)=\"Kuriérskou službou\",VLOOKUP(RIGHT(A215,5)*1,'Data eshop'!D:O,12,FALSE)=\"Usługa kurierską\"),MAX($P$1:P214)+1,\"\"))","v":""},"","Roluj nahoru, až uvidíš žlutou"]
["",{"$f":"IF(F216=\"\",\"\",VLOOKUP(O216,DATA!R:S,2,FALSE)&VLOOKUP(Zakázky!F216+10000,'Místa dodání'!A:B,2,FALSE))","v":""},"","",{"$f":"IF(F216=\"\",\"\",VLOOKUP(VLOOKUP(F216,'Data eshop'!D:N,11,FALSE),DATA!A:B,2,FALSE))","v":""},{"$f":"IF('Místa dodání'!A217=\"\",\"\",'Místa dodání'!A217-10000)","v":""},{"$f":"IF(F216=\"\",\"\",VLOOKUP(VLOOKUP(F216,'Data eshop'!D:AD,12,FALSE),DATA!D:E,2,FALSE))","v":""},"","","","","","","",{"$f":"IF(A216=\"\",\"\",VLOOKUP(RIGHT(A216,5)*1,'Data eshop'!D:M,10,FALSE))","v":""},{"$f":"IF(A216=\"\",\"\",IF(OR(VLOOKUP(RIGHT(A216,5)*1,'Data eshop'!D:O,12,FALSE)=\"Kurýrní službou\",VLOOKUP(RIGHT(A216,5)*1,'Data eshop'!D:O,12,FALSE)=\"Kuriérskou službou\",VLOOKUP(RIGHT(A216,5)*1,'Data eshop'!D:O,12,FALSE)=\"Usługa kurierską\"),MAX($P$1:P215)+1,\"\"))","v":""},""]
["",{"$f":"IF(F217=\"\",\"\",VLOOKUP(O217,DATA!R:S,2,FALSE)&VLOOKUP(Zakázky!F217+10000,'Místa dodání'!A:B,2,FALSE))","v":""},"","",{"$f":"IF(F217=\"\",\"\",VLOOKUP(VLOOKUP(F217,'Data eshop'!D:N,11,FALSE),DATA!A:B,2,FALSE))","v":""},{"$f":"IF('Místa dodání'!A218=\"\",\"\",'Místa dodání'!A218-10000)","v":""},{"$f":"IF(F217=\"\",\"\",VLOOKUP(VLOOKUP(F217,'Data eshop'!D:AD,12,FALSE),DATA!D:E,2,FALSE))","v":""},"","","","","","","",{"$f":"IF(A217=\"\",\"\",VLOOKUP(RIGHT(A217,5)*1,'Data eshop'!D:M,10,FALSE))","v":""},{"$f":"IF(A217=\"\",\"\",IF(OR(VLOOKUP(RIGHT(A217,5)*1,'Data eshop'!D:O,12,FALSE)=\"Kurýrní službou\",VLOOKUP(RIGHT(A217,5)*1,'Data eshop'!D:O,12,FALSE)=\"Kuriérskou službou\",VLOOKUP(RIGHT(A217,5)*1,'Data eshop'!D:O,12,FALSE)=\"Usługa kurierską\"),MAX($P$1:P216)+1,\"\"))","v":""},""]
["",{"$f":"IF(F218=\"\",\"\",VLOOKUP(O218,DATA!R:S,2,FALSE)&VLOOKUP(Zakázky!F218+10000,'Místa dodání'!A:B,2,FALSE))","v":""},"","",{"$f":"IF(F218=\"\",\"\",VLOOKUP(VLOOKUP(F218,'Data eshop'!D:N,11,FALSE),DATA!A:B,2,FALSE))","v":""},{"$f":"IF('Místa dodání'!A219=\"\",\"\",'Místa dodání'!A219-10000)","v":""},{"$f":"IF(F218=\"\",\"\",VLOOKUP(VLOOKUP(F218,'Data eshop'!D:AD,12,FALSE),DATA!D:E,2,FALSE))","v":""},"","","","","","","",{"$f":"IF(A218=\"\",\"\",VLOOKUP(RIGHT(A218,5)*1,'Data eshop'!D:M,10,FALSE))","v":""},{"$f":"IF(A218=\"\",\"\",IF(OR(VLOOKUP(RIGHT(A218,5)*1,'Data eshop'!D:O,12,FALSE)=\"Kurýrní službou\",VLOOKUP(RIGHT(A218,5)*1,'Data eshop'!D:O,12,FALSE)=\"Kuriérskou službou\",VLOOKUP(RIGHT(A218,5)*1,'Data eshop'!D:O,12,FALSE)=\"Usługa kurierską\"),MAX($P$1:P217)+1,\"\"))","v":""},""]
["",{"$f":"IF(F219=\"\",\"\",VLOOKUP(O219,DATA!R:S,2,FALSE)&VLOOKUP(Zakázky!F219+10000,'Místa dodání'!A:B,2,FALSE))","v":""},"","",{"$f":"IF(F219=\"\",\"\",VLOOKUP(VLOOKUP(F219,'Data eshop'!D:N,11,FALSE),DATA!A:B,2,FALSE))","v":""},{"$f":"IF('Místa dodání'!A220=\"\",\"\",'Místa dodání'!A220-10000)","v":""},{"$f":"IF(F219=\"\",\"\",VLOOKUP(VLOOKUP(F219,'Data eshop'!D:AD,12,FALSE),DATA!D:E,2,FALSE))","v":""},"","","","","","","",{"$f":"IF(A219=\"\",\"\",VLOOKUP(RIGHT(A219,5)*1,'Data eshop'!D:M,10,FALSE))","v":""},{"$f":"IF(A219=\"\",\"\",IF(OR(VLOOKUP(RIGHT(A219,5)*1,'Data eshop'!D:O,12,FALSE)=\"Kurýrní službou\",VLOOKUP(RIGHT(A219,5)*1,'Data eshop'!D:O,12,FALSE)=\"Kuriérskou službou\",VLOOKUP(RIGHT(A219,5)*1,'Data eshop'!D:O,12,FALSE)=\"Usługa kurierską\"),MAX($P$1:P218)+1,\"\"))","v":""},"","Roluj nahoru, až uvidíš žlutou"]
["",{"$f":"IF(F220=\"\",\"\",VLOOKUP(O220,DATA!R:S,2,FALSE)&VLOOKUP(Zakázky!F220+10000,'Místa dodání'!A:B,2,FALSE))","v":""},"","",{"$f":"IF(F220=\"\",\"\",VLOOKUP(VLOOKUP(F220,'Data eshop'!D:N,11,FALSE),DATA!A:B,2,FALSE))","v":""},{"$f":"IF('Místa dodání'!A221=\"\",\"\",'Místa dodání'!A221-10000)","v":""},{"$f":"IF(F220=\"\",\"\",VLOOKUP(VLOOKUP(F220,'Data eshop'!D:AD,12,FALSE),DATA!D:E,2,FALSE))","v":""},"","","","","","","",{"$f":"IF(A220=\"\",\"\",VLOOKUP(RIGHT(A220,5)*1,'Data eshop'!D:M,10,FALSE))","v":""},{"$f":"IF(A220=\"\",\"\",IF(OR(VLOOKUP(RIGHT(A220,5)*1,'Data eshop'!D:O,12,FALSE)=\"Kurýrní službou\",VLOOKUP(RIGHT(A220,5)*1,'Data eshop'!D:O,12,FALSE)=\"Kuriérskou službou\",VLOOKUP(RIGHT(A220,5)*1,'Data eshop'!D:O,12,FALSE)=\"Usługa kurierską\"),MAX($P$1:P219)+1,\"\"))","v":""},""]
["",{"$f":"IF(F221=\"\",\"\",VLOOKUP(O221,DATA!R:S,2,FALSE)&VLOOKUP(Zakázky!F221+10000,'Místa dodání'!A:B,2,FALSE))","v":""},"","",{"$f":"IF(F221=\"\",\"\",VLOOKUP(VLOOKUP(F221,'Data eshop'!D:N,11,FALSE),DATA!A:B,2,FALSE))","v":""},{"$f":"IF('Místa dodání'!A222=\"\",\"\",'Místa dodání'!A222-10000)","v":""},{"$f":"IF(F221=\"\",\"\",VLOOKUP(VLOOKUP(F221,'Data eshop'!D:AD,12,FALSE),DATA!D:E,2,FALSE))","v":""},"","","","","","","",{"$f":"IF(A221=\"\",\"\",VLOOKUP(RIGHT(A221,5)*1,'Data eshop'!D:M,10,FALSE))","v":""},{"$f":"IF(A221=\"\",\"\",IF(OR(VLOOKUP(RIGHT(A221,5)*1,'Data eshop'!D:O,12,FALSE)=\"Kurýrní službou\",VLOOKUP(RIGHT(A221,5)*1,'Data eshop'!D:O,12,FALSE)=\"Kuriérskou službou\",VLOOKUP(RIGHT(A221,5)*1,'Data eshop'!D:O,12,FALSE)=\"Usługa kurierską\"),MAX($P$1:P220)+1,\"\"))","v":""},""]
["",{"$f":"IF(F222=\"\",\"\",VLOOKUP(O222,DATA!R:S,2,FALSE)&VLOOKUP(Zakázky!F222+10000,'Místa dodání'!A:B,2,FALSE))","v":""},"","",{"$f":"IF(F222=\"\",\"\",VLOOKUP(VLOOKUP(F222,'Data eshop'!D:N,11,FALSE),DATA!A:B,2,FALSE))","v":""},{"$f":"IF('Místa dodání'!A223=\"\",\"\",'Místa dodání'!A223-10000)","v":""},{"$f":"IF(F222=\"\",\"\",VLOOKUP(VLOOKUP(F222,'Data eshop'!D:AD,12,FALSE),DATA!D:E,2,FALSE))","v":""},"","","","","","","",{"$f":"IF(A222=\"\",\"\",VLOOKUP(RIGHT(A222,5)*1,'Data eshop'!D:M,10,FALSE))","v":""},{"$f":"IF(A222=\"\",\"\",IF(OR(VLOOKUP(RIGHT(A222,5)*1,'Data eshop'!D:O,12,FALSE)=\"Kurýrní službou\",VLOOKUP(RIGHT(A222,5)*1,'Data eshop'!D:O,12,FALSE)=\"Kuriérskou službou\",VLOOKUP(RIGHT(A222,5)*1,'Data eshop'!D:O,12,FALSE)=\"Usługa kurierską\"),MAX($P$1:P221)+1,\"\"))","v":""},""]
["",{"$f":"IF(F223=\"\",\"\",VLOOKUP(O223,DATA!R:S,2,FALSE)&VLOOKUP(Zakázky!F223+10000,'Místa dodání'!A:B,2,FALSE))","v":""},"","",{"$f":"IF(F223=\"\",\"\",VLOOKUP(VLOOKUP(F223,'Data eshop'!D:N,11,FALSE),DATA!A:B,2,FALSE))","v":""},{"$f":"IF('Místa dodání'!A224=\"\",\"\",'Místa dodání'!A224-10000)","v":""},{"$f":"IF(F223=\"\",\"\",VLOOKUP(VLOOKUP(F223,'Data eshop'!D:AD,12,FALSE),DATA!D:E,2,FALSE))","v":""},"","","","","","","",{"$f":"IF(A223=\"\",\"\",VLOOKUP(RIGHT(A223,5)*1,'Data eshop'!D:M,10,FALSE))","v":""},{"$f":"IF(A223=\"\",\"\",IF(OR(VLOOKUP(RIGHT(A223,5)*1,'Data eshop'!D:O,12,FALSE)=\"Kurýrní službou\",VLOOKUP(RIGHT(A223,5)*1,'Data eshop'!D:O,12,FALSE)=\"Kuriérskou službou\",VLOOKUP(RIGHT(A223,5)*1,'Data eshop'!D:O,12,FALSE)=\"Usługa kurierską\"),MAX($P$1:P222)+1,\"\"))","v":""},"","Roluj nahoru, až uvidíš žlutou"]
["",{"$f":"IF(F224=\"\",\"\",VLOOKUP(O224,DATA!R:S,2,FALSE)&VLOOKUP(Zakázky!F224+10000,'Místa dodání'!A:B,2,FALSE))","v":""},"","",{"$f":"IF(F224=\"\",\"\",VLOOKUP(VLOOKUP(F224,'Data eshop'!D:N,11,FALSE),DATA!A:B,2,FALSE))","v":""},{"$f":"IF('Místa dodání'!A225=\"\",\"\",'Místa dodání'!A225-10000)","v":""},{"$f":"IF(F224=\"\",\"\",VLOOKUP(VLOOKUP(F224,'Data eshop'!D:AD,12,FALSE),DATA!D:E,2,FALSE))","v":""},"","","","","","","",{"$f":"IF(A224=\"\",\"\",VLOOKUP(RIGHT(A224,5)*1,'Data eshop'!D:M,10,FALSE))","v":""},{"$f":"IF(A224=\"\",\"\",IF(OR(VLOOKUP(RIGHT(A224,5)*1,'Data eshop'!D:O,12,FALSE)=\"Kurýrní službou\",VLOOKUP(RIGHT(A224,5)*1,'Data eshop'!D:O,12,FALSE)=\"Kuriérskou službou\",VLOOKUP(RIGHT(A224,5)*1,'Data eshop'!D:O,12,FALSE)=\"Usługa kurierską\"),MAX($P$1:P223)+1,\"\"))","v":""},""]
["",{"$f":"IF(F225=\"\",\"\",VLOOKUP(O225,DATA!R:S,2,FALSE)&VLOOKUP(Zakázky!F225+10000,'Místa dodání'!A:B,2,FALSE))","v":""},"","",{"$f":"IF(F225=\"\",\"\",VLOOKUP(VLOOKUP(F225,'Data eshop'!D:N,11,FALSE),DATA!A:B,2,FALSE))","v":""},{"$f":"IF('Místa dodání'!A226=\"\",\"\",'Místa dodání'!A226-10000)","v":""},{"$f":"IF(F225=\"\",\"\",VLOOKUP(VLOOKUP(F225,'Data eshop'!D:AD,12,FALSE),DATA!D:E,2,FALSE))","v":""},"","","","","","","",{"$f":"IF(A225=\"\",\"\",VLOOKUP(RIGHT(A225,5)*1,'Data eshop'!D:M,10,FALSE))","v":""},{"$f":"IF(A225=\"\",\"\",IF(OR(VLOOKUP(RIGHT(A225,5)*1,'Data eshop'!D:O,12,FALSE)=\"Kurýrní službou\",VLOOKUP(RIGHT(A225,5)*1,'Data eshop'!D:O,12,FALSE)=\"Kuriérskou službou\",VLOOKUP(RIGHT(A225,5)*1,'Data eshop'!D:O,12,FALSE)=\"Usługa kurierską\"),MAX($P$1:P224)+1,\"\"))","v":""},""]
["",{"$f":"IF(F226=\"\",\"\",VLOOKUP(O226,DATA!R:S,2,FALSE)&VLOOKUP(Zakázky!F226+10000,'Místa dodání'!A:B,2,FALSE))","v":""},"","",{"$f":"IF(F226=\"\",\"\",VLOOKUP(VLOOKUP(F226,'Data eshop'!D:N,11,FALSE),DATA!A:B,2,FALSE))","v":""},{"$f":"IF('Místa dodání'!A227=\"\",\"\",'Místa dodání'!A227-10000)","v":""},{"$f":"IF(F226=\"\",\"\",VLOOKUP(VLOOKUP(F226,'Data eshop'!D:AD,12,FALSE),DATA!D:E,2,FALSE))","v":""},"","","","","","","",{"$f":"IF(A226=\"\",\"\",VLOOKUP(RIGHT(A226,5)*1,'Data eshop'!D:M,10,FALSE))","v":""},{"$f":"IF(A226=\"\",\"\",IF(OR(VLOOKUP(RIGHT(A226,5)*1,'Data eshop'!D:O,12,FALSE)=\"Kurýrní službou\",VLOOKUP(RIGHT(A226,5)*1,'Data eshop'!D:O,12,FALSE)=\"Kuriérskou službou\",VLOOKUP(RIGHT(A226,5)*1,'Data eshop'!D:O,12,FALSE)=\"Usługa kurierską\"),MAX($P$1:P225)+1,\"\"))","v":""},""]
["",{"$f":"IF(F227=\"\",\"\",VLOOKUP(O227,DATA!R:S,2,FALSE)&VLOOKUP(Zakázky!F227+10000,'Místa dodání'!A:B,2,FALSE))","v":""},"","",{"$f":"IF(F227=\"\",\"\",VLOOKUP(VLOOKUP(F227,'Data eshop'!D:N,11,FALSE),DATA!A:B,2,FALSE))","v":""},{"$f":"IF('Místa dodání'!A228=\"\",\"\",'Místa dodání'!A228-10000)","v":""},{"$f":"IF(F227=\"\",\"\",VLOOKUP(VLOOKUP(F227,'Data eshop'!D:AD,12,FALSE),DATA!D:E,2,FALSE))","v":""},"","","","","","","",{"$f":"IF(A227=\"\",\"\",VLOOKUP(RIGHT(A227,5)*1,'Data eshop'!D:M,10,FALSE))","v":""},{"$f":"IF(A227=\"\",\"\",IF(OR(VLOOKUP(RIGHT(A227,5)*1,'Data eshop'!D:O,12,FALSE)=\"Kurýrní službou\",VLOOKUP(RIGHT(A227,5)*1,'Data eshop'!D:O,12,FALSE)=\"Kuriérskou službou\",VLOOKUP(RIGHT(A227,5)*1,'Data eshop'!D:O,12,FALSE)=\"Usługa kurierską\"),MAX($P$1:P226)+1,\"\"))","v":""},"","Roluj nahoru, až uvidíš žlutou"]
["",{"$f":"IF(F228=\"\",\"\",VLOOKUP(O228,DATA!R:S,2,FALSE)&VLOOKUP(Zakázky!F228+10000,'Místa dodání'!A:B,2,FALSE))","v":""},"","",{"$f":"IF(F228=\"\",\"\",VLOOKUP(VLOOKUP(F228,'Data eshop'!D:N,11,FALSE),DATA!A:B,2,FALSE))","v":""},{"$f":"IF('Místa dodání'!A229=\"\",\"\",'Místa dodání'!A229-10000)","v":""},{"$f":"IF(F228=\"\",\"\",VLOOKUP(VLOOKUP(F228,'Data eshop'!D:AD,12,FALSE),DATA!D:E,2,FALSE))","v":""},"","","","","","","",{"$f":"IF(A228=\"\",\"\",VLOOKUP(RIGHT(A228,5)*1,'Data eshop'!D:M,10,FALSE))","v":""},{"$f":"IF(A228=\"\",\"\",IF(OR(VLOOKUP(RIGHT(A228,5)*1,'Data eshop'!D:O,12,FALSE)=\"Kurýrní službou\",VLOOKUP(RIGHT(A228,5)*1,'Data eshop'!D:O,12,FALSE)=\"Kuriérskou službou\",VLOOKUP(RIGHT(A228,5)*1,'Data eshop'!D:O,12,FALSE)=\"Usługa kurierską\"),MAX($P$1:P227)+1,\"\"))","v":""},""]
["",{"$f":"IF(F229=\"\",\"\",VLOOKUP(O229,DATA!R:S,2,FALSE)&VLOOKUP(Zakázky!F229+10000,'Místa dodání'!A:B,2,FALSE))","v":""},"","",{"$f":"IF(F229=\"\",\"\",VLOOKUP(VLOOKUP(F229,'Data eshop'!D:N,11,FALSE),DATA!A:B,2,FALSE))","v":""},{"$f":"IF('Místa dodání'!A230=\"\",\"\",'Místa dodání'!A230-10000)","v":""},{"$f":"IF(F229=\"\",\"\",VLOOKUP(VLOOKUP(F229,'Data eshop'!D:AD,12,FALSE),DATA!D:E,2,FALSE))","v":""},"","","","","","","",{"$f":"IF(A229=\"\",\"\",VLOOKUP(RIGHT(A229,5)*1,'Data eshop'!D:M,10,FALSE))","v":""},{"$f":"IF(A229=\"\",\"\",IF(OR(VLOOKUP(RIGHT(A229,5)*1,'Data eshop'!D:O,12,FALSE)=\"Kurýrní službou\",VLOOKUP(RIGHT(A229,5)*1,'Data eshop'!D:O,12,FALSE)=\"Kuriérskou službou\",VLOOKUP(RIGHT(A229,5)*1,'Data eshop'!D:O,12,FALSE)=\"Usługa kurierską\"),MAX($P$1:P228)+1,\"\"))","v":""},""]
["",{"$f":"IF(F230=\"\",\"\",VLOOKUP(O230,DATA!R:S,2,FALSE)&VLOOKUP(Zakázky!F230+10000,'Místa dodání'!A:B,2,FALSE))","v":""},"","",{"$f":"IF(F230=\"\",\"\",VLOOKUP(VLOOKUP(F230,'Data eshop'!D:N,11,FALSE),DATA!A:B,2,FALSE))","v":""},{"$f":"IF('Místa dodání'!A231=\"\",\"\",'Místa dodání'!A231-10000)","v":""},{"$f":"IF(F230=\"\",\"\",VLOOKUP(VLOOKUP(F230,'Data eshop'!D:AD,12,FALSE),DATA!D:E,2,FALSE))","v":""},"","","","","","","",{"$f":"IF(A230=\"\",\"\",VLOOKUP(RIGHT(A230,5)*1,'Data eshop'!D:M,10,FALSE))","v":""},{"$f":"IF(A230=\"\",\"\",IF(OR(VLOOKUP(RIGHT(A230,5)*1,'Data eshop'!D:O,12,FALSE)=\"Kurýrní službou\",VLOOKUP(RIGHT(A230,5)*1,'Data eshop'!D:O,12,FALSE)=\"Kuriérskou službou\",VLOOKUP(RIGHT(A230,5)*1,'Data eshop'!D:O,12,FALSE)=\"Usługa kurierską\"),MAX($P$1:P229)+1,\"\"))","v":""},""]
["",{"$f":"IF(F231=\"\",\"\",VLOOKUP(O231,DATA!R:S,2,FALSE)&VLOOKUP(Zakázky!F231+10000,'Místa dodání'!A:B,2,FALSE))","v":""},"","",{"$f":"IF(F231=\"\",\"\",VLOOKUP(VLOOKUP(F231,'Data eshop'!D:N,11,FALSE),DATA!A:B,2,FALSE))","v":""},{"$f":"IF('Místa dodání'!A232=\"\",\"\",'Místa dodání'!A232-10000)","v":""},{"$f":"IF(F231=\"\",\"\",VLOOKUP(VLOOKUP(F231,'Data eshop'!D:AD,12,FALSE),DATA!D:E,2,FALSE))","v":""},"","","","","","","",{"$f":"IF(A231=\"\",\"\",VLOOKUP(RIGHT(A231,5)*1,'Data eshop'!D:M,10,FALSE))","v":""},{"$f":"IF(A231=\"\",\"\",IF(OR(VLOOKUP(RIGHT(A231,5)*1,'Data eshop'!D:O,12,FALSE)=\"Kurýrní službou\",VLOOKUP(RIGHT(A231,5)*1,'Data eshop'!D:O,12,FALSE)=\"Kuriérskou službou\",VLOOKUP(RIGHT(A231,5)*1,'Data eshop'!D:O,12,FALSE)=\"Usługa kurierską\"),MAX($P$1:P230)+1,\"\"))","v":""},"","Roluj nahoru, až uvidíš žlutou"]
["",{"$f":"IF(F232=\"\",\"\",VLOOKUP(O232,DATA!R:S,2,FALSE)&VLOOKUP(Zakázky!F232+10000,'Místa dodání'!A:B,2,FALSE))","v":""},"","",{"$f":"IF(F232=\"\",\"\",VLOOKUP(VLOOKUP(F232,'Data eshop'!D:N,11,FALSE),DATA!A:B,2,FALSE))","v":""},{"$f":"IF('Místa dodání'!A233=\"\",\"\",'Místa dodání'!A233-10000)","v":""},{"$f":"IF(F232=\"\",\"\",VLOOKUP(VLOOKUP(F232,'Data eshop'!D:AD,12,FALSE),DATA!D:E,2,FALSE))","v":""},"","","","","","","",{"$f":"IF(A232=\"\",\"\",VLOOKUP(RIGHT(A232,5)*1,'Data eshop'!D:M,10,FALSE))","v":""},{"$f":"IF(A232=\"\",\"\",IF(OR(VLOOKUP(RIGHT(A232,5)*1,'Data eshop'!D:O,12,FALSE)=\"Kurýrní službou\",VLOOKUP(RIGHT(A232,5)*1,'Data eshop'!D:O,12,FALSE)=\"Kuriérskou službou\",VLOOKUP(RIGHT(A232,5)*1,'Data eshop'!D:O,12,FALSE)=\"Usługa kurierską\"),MAX($P$1:P231)+1,\"\"))","v":""},""]
["",{"$f":"IF(F233=\"\",\"\",VLOOKUP(O233,DATA!R:S,2,FALSE)&VLOOKUP(Zakázky!F233+10000,'Místa dodání'!A:B,2,FALSE))","v":""},"","",{"$f":"IF(F233=\"\",\"\",VLOOKUP(VLOOKUP(F233,'Data eshop'!D:N,11,FALSE),DATA!A:B,2,FALSE))","v":""},{"$f":"IF('Místa dodání'!A234=\"\",\"\",'Místa dodání'!A234-10000)","v":""},{"$f":"IF(F233=\"\",\"\",VLOOKUP(VLOOKUP(F233,'Data eshop'!D:AD,12,FALSE),DATA!D:E,2,FALSE))","v":""},"","","","","","","",{"$f":"IF(A233=\"\",\"\",VLOOKUP(RIGHT(A233,5)*1,'Data eshop'!D:M,10,FALSE))","v":""},{"$f":"IF(A233=\"\",\"\",IF(OR(VLOOKUP(RIGHT(A233,5)*1,'Data eshop'!D:O,12,FALSE)=\"Kurýrní službou\",VLOOKUP(RIGHT(A233,5)*1,'Data eshop'!D:O,12,FALSE)=\"Kuriérskou službou\",VLOOKUP(RIGHT(A233,5)*1,'Data eshop'!D:O,12,FALSE)=\"Usługa kurierską\"),MAX($P$1:P232)+1,\"\"))","v":""},""]
["",{"$f":"IF(F234=\"\",\"\",VLOOKUP(O234,DATA!R:S,2,FALSE)&VLOOKUP(Zakázky!F234+10000,'Místa dodání'!A:B,2,FALSE))","v":""},"","",{"$f":"IF(F234=\"\",\"\",VLOOKUP(VLOOKUP(F234,'Data eshop'!D:N,11,FALSE),DATA!A:B,2,FALSE))","v":""},{"$f":"IF('Místa dodání'!A235=\"\",\"\",'Místa dodání'!A235-10000)","v":""},{"$f":"IF(F234=\"\",\"\",VLOOKUP(VLOOKUP(F234,'Data eshop'!D:AD,12,FALSE),DATA!D:E,2,FALSE))","v":""},"","","","","","","",{"$f":"IF(A234=\"\",\"\",VLOOKUP(RIGHT(A234,5)*1,'Data eshop'!D:M,10,FALSE))","v":""},{"$f":"IF(A234=\"\",\"\",IF(OR(VLOOKUP(RIGHT(A234,5)*1,'Data eshop'!D:O,12,FALSE)=\"Kurýrní službou\",VLOOKUP(RIGHT(A234,5)*1,'Data eshop'!D:O,12,FALSE)=\"Kuriérskou službou\",VLOOKUP(RIGHT(A234,5)*1,'Data eshop'!D:O,12,FALSE)=\"Usługa kurierską\"),MAX($P$1:P233)+1,\"\"))","v":""},""]
["",{"$f":"IF(F235=\"\",\"\",VLOOKUP(O235,DATA!R:S,2,FALSE)&VLOOKUP(Zakázky!F235+10000,'Místa dodání'!A:B,2,FALSE))","v":""},"","",{"$f":"IF(F235=\"\",\"\",VLOOKUP(VLOOKUP(F235,'Data eshop'!D:N,11,FALSE),DATA!A:B,2,FALSE))","v":""},{"$f":"IF('Místa dodání'!A236=\"\",\"\",'Místa dodání'!A236-10000)","v":""},{"$f":"IF(F235=\"\",\"\",VLOOKUP(VLOOKUP(F235,'Data eshop'!D:AD,12,FALSE),DATA!D:E,2,FALSE))","v":""},"","","","","","","",{"$f":"IF(A235=\"\",\"\",VLOOKUP(RIGHT(A235,5)*1,'Data eshop'!D:M,10,FALSE))","v":""},{"$f":"IF(A235=\"\",\"\",IF(OR(VLOOKUP(RIGHT(A235,5)*1,'Data eshop'!D:O,12,FALSE)=\"Kurýrní službou\",VLOOKUP(RIGHT(A235,5)*1,'Data eshop'!D:O,12,FALSE)=\"Kuriérskou službou\",VLOOKUP(RIGHT(A235,5)*1,'Data eshop'!D:O,12,FALSE)=\"Usługa kurierską\"),MAX($P$1:P234)+1,\"\"))","v":""},"","Roluj nahoru, až uvidíš žlutou"]
["",{"$f":"IF(F236=\"\",\"\",VLOOKUP(O236,DATA!R:S,2,FALSE)&VLOOKUP(Zakázky!F236+10000,'Místa dodání'!A:B,2,FALSE))","v":""},"","",{"$f":"IF(F236=\"\",\"\",VLOOKUP(VLOOKUP(F236,'Data eshop'!D:N,11,FALSE),DATA!A:B,2,FALSE))","v":""},{"$f":"IF('Místa dodání'!A237=\"\",\"\",'Místa dodání'!A237-10000)","v":""},{"$f":"IF(F236=\"\",\"\",VLOOKUP(VLOOKUP(F236,'Data eshop'!D:AD,12,FALSE),DATA!D:E,2,FALSE))","v":""},"","","","","","","",{"$f":"IF(A236=\"\",\"\",VLOOKUP(RIGHT(A236,5)*1,'Data eshop'!D:M,10,FALSE))","v":""},{"$f":"IF(A236=\"\",\"\",IF(OR(VLOOKUP(RIGHT(A236,5)*1,'Data eshop'!D:O,12,FALSE)=\"Kurýrní službou\",VLOOKUP(RIGHT(A236,5)*1,'Data eshop'!D:O,12,FALSE)=\"Kuriérskou službou\",VLOOKUP(RIGHT(A236,5)*1,'Data eshop'!D:O,12,FALSE)=\"Usługa kurierską\"),MAX($P$1:P235)+1,\"\"))","v":""},""]
["",{"$f":"IF(F237=\"\",\"\",VLOOKUP(O237,DATA!R:S,2,FALSE)&VLOOKUP(Zakázky!F237+10000,'Místa dodání'!A:B,2,FALSE))","v":""},"","",{"$f":"IF(F237=\"\",\"\",VLOOKUP(VLOOKUP(F237,'Data eshop'!D:N,11,FALSE),DATA!A:B,2,FALSE))","v":""},{"$f":"IF('Místa dodání'!A238=\"\",\"\",'Místa dodání'!A238-10000)","v":""},{"$f":"IF(F237=\"\",\"\",VLOOKUP(VLOOKUP(F237,'Data eshop'!D:AD,12,FALSE),DATA!D:E,2,FALSE))","v":""},"","","","","","","",{"$f":"IF(A237=\"\",\"\",VLOOKUP(RIGHT(A237,5)*1,'Data eshop'!D:M,10,FALSE))","v":""},{"$f":"IF(A237=\"\",\"\",IF(OR(VLOOKUP(RIGHT(A237,5)*1,'Data eshop'!D:O,12,FALSE)=\"Kurýrní službou\",VLOOKUP(RIGHT(A237,5)*1,'Data eshop'!D:O,12,FALSE)=\"Kuriérskou službou\",VLOOKUP(RIGHT(A237,5)*1,'Data eshop'!D:O,12,FALSE)=\"Usługa kurierską\"),MAX($P$1:P236)+1,\"\"))","v":""},""]
["",{"$f":"IF(F238=\"\",\"\",VLOOKUP(O238,DATA!R:S,2,FALSE)&VLOOKUP(Zakázky!F238+10000,'Místa dodání'!A:B,2,FALSE))","v":""},"","",{"$f":"IF(F238=\"\",\"\",VLOOKUP(VLOOKUP(F238,'Data eshop'!D:N,11,FALSE),DATA!A:B,2,FALSE))","v":""},{"$f":"IF('Místa dodání'!A239=\"\",\"\",'Místa dodání'!A239-10000)","v":""},{"$f":"IF(F238=\"\",\"\",VLOOKUP(VLOOKUP(F238,'Data eshop'!D:AD,12,FALSE),DATA!D:E,2,FALSE))","v":""},"","","","","","","",{"$f":"IF(A238=\"\",\"\",VLOOKUP(RIGHT(A238,5)*1,'Data eshop'!D:M,10,FALSE))","v":""},{"$f":"IF(A238=\"\",\"\",IF(OR(VLOOKUP(RIGHT(A238,5)*1,'Data eshop'!D:O,12,FALSE)=\"Kurýrní službou\",VLOOKUP(RIGHT(A238,5)*1,'Data eshop'!D:O,12,FALSE)=\"Kuriérskou službou\",VLOOKUP(RIGHT(A238,5)*1,'Data eshop'!D:O,12,FALSE)=\"Usługa kurierską\"),MAX($P$1:P237)+1,\"\"))","v":""},""]
["",{"$f":"IF(F239=\"\",\"\",VLOOKUP(O239,DATA!R:S,2,FALSE)&VLOOKUP(Zakázky!F239+10000,'Místa dodání'!A:B,2,FALSE))","v":""},"","",{"$f":"IF(F239=\"\",\"\",VLOOKUP(VLOOKUP(F239,'Data eshop'!D:N,11,FALSE),DATA!A:B,2,FALSE))","v":""},{"$f":"IF('Místa dodání'!A240=\"\",\"\",'Místa dodání'!A240-10000)","v":""},{"$f":"IF(F239=\"\",\"\",VLOOKUP(VLOOKUP(F239,'Data eshop'!D:AD,12,FALSE),DATA!D:E,2,FALSE))","v":""},"","","","","","","",{"$f":"IF(A239=\"\",\"\",VLOOKUP(RIGHT(A239,5)*1,'Data eshop'!D:M,10,FALSE))","v":""},{"$f":"IF(A239=\"\",\"\",IF(OR(VLOOKUP(RIGHT(A239,5)*1,'Data eshop'!D:O,12,FALSE)=\"Kurýrní službou\",VLOOKUP(RIGHT(A239,5)*1,'Data eshop'!D:O,12,FALSE)=\"Kuriérskou službou\",VLOOKUP(RIGHT(A239,5)*1,'Data eshop'!D:O,12,FALSE)=\"Usługa kurierską\"),MAX($P$1:P238)+1,\"\"))","v":""},"","Roluj nahoru, až uvidíš žlutou"]
["",{"$f":"IF(F240=\"\",\"\",VLOOKUP(O240,DATA!R:S,2,FALSE)&VLOOKUP(Zakázky!F240+10000,'Místa dodání'!A:B,2,FALSE))","v":""},"","",{"$f":"IF(F240=\"\",\"\",VLOOKUP(VLOOKUP(F240,'Data eshop'!D:N,11,FALSE),DATA!A:B,2,FALSE))","v":""},{"$f":"IF('Místa dodání'!A241=\"\",\"\",'Místa dodání'!A241-10000)","v":""},{"$f":"IF(F240=\"\",\"\",VLOOKUP(VLOOKUP(F240,'Data eshop'!D:AD,12,FALSE),DATA!D:E,2,FALSE))","v":""},"","","","","","","",{"$f":"IF(A240=\"\",\"\",VLOOKUP(RIGHT(A240,5)*1,'Data eshop'!D:M,10,FALSE))","v":""},{"$f":"IF(A240=\"\",\"\",IF(OR(VLOOKUP(RIGHT(A240,5)*1,'Data eshop'!D:O,12,FALSE)=\"Kurýrní službou\",VLOOKUP(RIGHT(A240,5)*1,'Data eshop'!D:O,12,FALSE)=\"Kuriérskou službou\",VLOOKUP(RIGHT(A240,5)*1,'Data eshop'!D:O,12,FALSE)=\"Usługa kurierską\"),MAX($P$1:P239)+1,\"\"))","v":""},""]
["",{"$f":"IF(F241=\"\",\"\",VLOOKUP(O241,DATA!R:S,2,FALSE)&VLOOKUP(Zakázky!F241+10000,'Místa dodání'!A:B,2,FALSE))","v":""},"","",{"$f":"IF(F241=\"\",\"\",VLOOKUP(VLOOKUP(F241,'Data eshop'!D:N,11,FALSE),DATA!A:B,2,FALSE))","v":""},{"$f":"IF('Místa dodání'!A242=\"\",\"\",'Místa dodání'!A242-10000)","v":""},{"$f":"IF(F241=\"\",\"\",VLOOKUP(VLOOKUP(F241,'Data eshop'!D:AD,12,FALSE),DATA!D:E,2,FALSE))","v":""},"","","","","","","",{"$f":"IF(A241=\"\",\"\",VLOOKUP(RIGHT(A241,5)*1,'Data eshop'!D:M,10,FALSE))","v":""},{"$f":"IF(A241=\"\",\"\",IF(OR(VLOOKUP(RIGHT(A241,5)*1,'Data eshop'!D:O,12,FALSE)=\"Kurýrní službou\",VLOOKUP(RIGHT(A241,5)*1,'Data eshop'!D:O,12,FALSE)=\"Kuriérskou službou\",VLOOKUP(RIGHT(A241,5)*1,'Data eshop'!D:O,12,FALSE)=\"Usługa kurierską\"),MAX($P$1:P240)+1,\"\"))","v":""},""]
["",{"$f":"IF(F242=\"\",\"\",VLOOKUP(O242,DATA!R:S,2,FALSE)&VLOOKUP(Zakázky!F242+10000,'Místa dodání'!A:B,2,FALSE))","v":""},"","",{"$f":"IF(F242=\"\",\"\",VLOOKUP(VLOOKUP(F242,'Data eshop'!D:N,11,FALSE),DATA!A:B,2,FALSE))","v":""},{"$f":"IF('Místa dodání'!A243=\"\",\"\",'Místa dodání'!A243-10000)","v":""},{"$f":"IF(F242=\"\",\"\",VLOOKUP(VLOOKUP(F242,'Data eshop'!D:AD,12,FALSE),DATA!D:E,2,FALSE))","v":""},"","","","","","","",{"$f":"IF(A242=\"\",\"\",VLOOKUP(RIGHT(A242,5)*1,'Data eshop'!D:M,10,FALSE))","v":""},{"$f":"IF(A242=\"\",\"\",IF(OR(VLOOKUP(RIGHT(A242,5)*1,'Data eshop'!D:O,12,FALSE)=\"Kurýrní službou\",VLOOKUP(RIGHT(A242,5)*1,'Data eshop'!D:O,12,FALSE)=\"Kuriérskou službou\",VLOOKUP(RIGHT(A242,5)*1,'Data eshop'!D:O,12,FALSE)=\"Usługa kurierską\"),MAX($P$1:P241)+1,\"\"))","v":""},""]
["",{"$f":"IF(F243=\"\",\"\",VLOOKUP(O243,DATA!R:S,2,FALSE)&VLOOKUP(Zakázky!F243+10000,'Místa dodání'!A:B,2,FALSE))","v":""},"","",{"$f":"IF(F243=\"\",\"\",VLOOKUP(VLOOKUP(F243,'Data eshop'!D:N,11,FALSE),DATA!A:B,2,FALSE))","v":""},{"$f":"IF('Místa dodání'!A244=\"\",\"\",'Místa dodání'!A244-10000)","v":""},{"$f":"IF(F243=\"\",\"\",VLOOKUP(VLOOKUP(F243,'Data eshop'!D:AD,12,FALSE),DATA!D:E,2,FALSE))","v":""},"","","","","","","",{"$f":"IF(A243=\"\",\"\",VLOOKUP(RIGHT(A243,5)*1,'Data eshop'!D:M,10,FALSE))","v":""},{"$f":"IF(A243=\"\",\"\",IF(OR(VLOOKUP(RIGHT(A243,5)*1,'Data eshop'!D:O,12,FALSE)=\"Kurýrní službou\",VLOOKUP(RIGHT(A243,5)*1,'Data eshop'!D:O,12,FALSE)=\"Kuriérskou službou\",VLOOKUP(RIGHT(A243,5)*1,'Data eshop'!D:O,12,FALSE)=\"Usługa kurierską\"),MAX($P$1:P242)+1,\"\"))","v":""},"","Roluj nahoru, až uvidíš žlutou"]
["",{"$f":"IF(F244=\"\",\"\",VLOOKUP(O244,DATA!R:S,2,FALSE)&VLOOKUP(Zakázky!F244+10000,'Místa dodání'!A:B,2,FALSE))","v":""},"","",{"$f":"IF(F244=\"\",\"\",VLOOKUP(VLOOKUP(F244,'Data eshop'!D:N,11,FALSE),DATA!A:B,2,FALSE))","v":""},{"$f":"IF('Místa dodání'!A245=\"\",\"\",'Místa dodání'!A245-10000)","v":""},{"$f":"IF(F244=\"\",\"\",VLOOKUP(VLOOKUP(F244,'Data eshop'!D:AD,12,FALSE),DATA!D:E,2,FALSE))","v":""},"","","","","","","",{"$f":"IF(A244=\"\",\"\",VLOOKUP(RIGHT(A244,5)*1,'Data eshop'!D:M,10,FALSE))","v":""},{"$f":"IF(A244=\"\",\"\",IF(OR(VLOOKUP(RIGHT(A244,5)*1,'Data eshop'!D:O,12,FALSE)=\"Kurýrní službou\",VLOOKUP(RIGHT(A244,5)*1,'Data eshop'!D:O,12,FALSE)=\"Kuriérskou službou\",VLOOKUP(RIGHT(A244,5)*1,'Data eshop'!D:O,12,FALSE)=\"Usługa kurierską\"),MAX($P$1:P243)+1,\"\"))","v":""},""]
["",{"$f":"IF(F245=\"\",\"\",VLOOKUP(O245,DATA!R:S,2,FALSE)&VLOOKUP(Zakázky!F245+10000,'Místa dodání'!A:B,2,FALSE))","v":""},"","",{"$f":"IF(F245=\"\",\"\",VLOOKUP(VLOOKUP(F245,'Data eshop'!D:N,11,FALSE),DATA!A:B,2,FALSE))","v":""},{"$f":"IF('Místa dodání'!A246=\"\",\"\",'Místa dodání'!A246-10000)","v":""},{"$f":"IF(F245=\"\",\"\",VLOOKUP(VLOOKUP(F245,'Data eshop'!D:AD,12,FALSE),DATA!D:E,2,FALSE))","v":""},"","","","","","","",{"$f":"IF(A245=\"\",\"\",VLOOKUP(RIGHT(A245,5)*1,'Data eshop'!D:M,10,FALSE))","v":""},{"$f":"IF(A245=\"\",\"\",IF(OR(VLOOKUP(RIGHT(A245,5)*1,'Data eshop'!D:O,12,FALSE)=\"Kurýrní službou\",VLOOKUP(RIGHT(A245,5)*1,'Data eshop'!D:O,12,FALSE)=\"Kuriérskou službou\",VLOOKUP(RIGHT(A245,5)*1,'Data eshop'!D:O,12,FALSE)=\"Usługa kurierską\"),MAX($P$1:P244)+1,\"\"))","v":""},""]
["",{"$f":"IF(F246=\"\",\"\",VLOOKUP(O246,DATA!R:S,2,FALSE)&VLOOKUP(Zakázky!F246+10000,'Místa dodání'!A:B,2,FALSE))","v":""},"","",{"$f":"IF(F246=\"\",\"\",VLOOKUP(VLOOKUP(F246,'Data eshop'!D:N,11,FALSE),DATA!A:B,2,FALSE))","v":""},{"$f":"IF('Místa dodání'!A247=\"\",\"\",'Místa dodání'!A247-10000)","v":""},{"$f":"IF(F246=\"\",\"\",VLOOKUP(VLOOKUP(F246,'Data eshop'!D:AD,12,FALSE),DATA!D:E,2,FALSE))","v":""},"","","","","","","",{"$f":"IF(A246=\"\",\"\",VLOOKUP(RIGHT(A246,5)*1,'Data eshop'!D:M,10,FALSE))","v":""},{"$f":"IF(A246=\"\",\"\",IF(OR(VLOOKUP(RIGHT(A246,5)*1,'Data eshop'!D:O,12,FALSE)=\"Kurýrní službou\",VLOOKUP(RIGHT(A246,5)*1,'Data eshop'!D:O,12,FALSE)=\"Kuriérskou službou\",VLOOKUP(RIGHT(A246,5)*1,'Data eshop'!D:O,12,FALSE)=\"Usługa kurierską\"),MAX($P$1:P245)+1,\"\"))","v":""},""]
["",{"$f":"IF(F247=\"\",\"\",VLOOKUP(O247,DATA!R:S,2,FALSE)&VLOOKUP(Zakázky!F247+10000,'Místa dodání'!A:B,2,FALSE))","v":""},"","",{"$f":"IF(F247=\"\",\"\",VLOOKUP(VLOOKUP(F247,'Data eshop'!D:N,11,FALSE),DATA!A:B,2,FALSE))","v":""},{"$f":"IF('Místa dodání'!A248=\"\",\"\",'Místa dodání'!A248-10000)","v":""},{"$f":"IF(F247=\"\",\"\",VLOOKUP(VLOOKUP(F247,'Data eshop'!D:AD,12,FALSE),DATA!D:E,2,FALSE))","v":""},"","","","","","","",{"$f":"IF(A247=\"\",\"\",VLOOKUP(RIGHT(A247,5)*1,'Data eshop'!D:M,10,FALSE))","v":""},{"$f":"IF(A247=\"\",\"\",IF(OR(VLOOKUP(RIGHT(A247,5)*1,'Data eshop'!D:O,12,FALSE)=\"Kurýrní službou\",VLOOKUP(RIGHT(A247,5)*1,'Data eshop'!D:O,12,FALSE)=\"Kuriérskou službou\",VLOOKUP(RIGHT(A247,5)*1,'Data eshop'!D:O,12,FALSE)=\"Usługa kurierską\"),MAX($P$1:P246)+1,\"\"))","v":""},"","Roluj nahoru, až uvidíš žlutou"]
["",{"$f":"IF(F248=\"\",\"\",VLOOKUP(O248,DATA!R:S,2,FALSE)&VLOOKUP(Zakázky!F248+10000,'Místa dodání'!A:B,2,FALSE))","v":""},"","",{"$f":"IF(F248=\"\",\"\",VLOOKUP(VLOOKUP(F248,'Data eshop'!D:N,11,FALSE),DATA!A:B,2,FALSE))","v":""},{"$f":"IF('Místa dodání'!A249=\"\",\"\",'Místa dodání'!A249-10000)","v":""},{"$f":"IF(F248=\"\",\"\",VLOOKUP(VLOOKUP(F248,'Data eshop'!D:AD,12,FALSE),DATA!D:E,2,FALSE))","v":""},"","","","","","","",{"$f":"IF(A248=\"\",\"\",VLOOKUP(RIGHT(A248,5)*1,'Data eshop'!D:M,10,FALSE))","v":""},{"$f":"IF(A248=\"\",\"\",IF(OR(VLOOKUP(RIGHT(A248,5)*1,'Data eshop'!D:O,12,FALSE)=\"Kurýrní službou\",VLOOKUP(RIGHT(A248,5)*1,'Data eshop'!D:O,12,FALSE)=\"Kuriérskou službou\",VLOOKUP(RIGHT(A248,5)*1,'Data eshop'!D:O,12,FALSE)=\"Usługa kurierską\"),MAX($P$1:P247)+1,\"\"))","v":""},""]
["",{"$f":"IF(F249=\"\",\"\",VLOOKUP(O249,DATA!R:S,2,FALSE)&VLOOKUP(Zakázky!F249+10000,'Místa dodání'!A:B,2,FALSE))","v":""},"","",{"$f":"IF(F249=\"\",\"\",VLOOKUP(VLOOKUP(F249,'Data eshop'!D:N,11,FALSE),DATA!A:B,2,FALSE))","v":""},{"$f":"IF('Místa dodání'!A250=\"\",\"\",'Místa dodání'!A250-10000)","v":""},{"$f":"IF(F249=\"\",\"\",VLOOKUP(VLOOKUP(F249,'Data eshop'!D:AD,12,FALSE),DATA!D:E,2,FALSE))","v":""},"","","","","","","",{"$f":"IF(A249=\"\",\"\",VLOOKUP(RIGHT(A249,5)*1,'Data eshop'!D:M,10,FALSE))","v":""},{"$f":"IF(A249=\"\",\"\",IF(OR(VLOOKUP(RIGHT(A249,5)*1,'Data eshop'!D:O,12,FALSE)=\"Kurýrní službou\",VLOOKUP(RIGHT(A249,5)*1,'Data eshop'!D:O,12,FALSE)=\"Kuriérskou službou\",VLOOKUP(RIGHT(A249,5)*1,'Data eshop'!D:O,12,FALSE)=\"Usługa kurierską\"),MAX($P$1:P248)+1,\"\"))","v":""},""]
["",{"$f":"IF(F250=\"\",\"\",VLOOKUP(O250,DATA!R:S,2,FALSE)&VLOOKUP(Zakázky!F250+10000,'Místa dodání'!A:B,2,FALSE))","v":""},"","",{"$f":"IF(F250=\"\",\"\",VLOOKUP(VLOOKUP(F250,'Data eshop'!D:N,11,FALSE),DATA!A:B,2,FALSE))","v":""},{"$f":"IF('Místa dodání'!A251=\"\",\"\",'Místa dodání'!A251-10000)","v":""},{"$f":"IF(F250=\"\",\"\",VLOOKUP(VLOOKUP(F250,'Data eshop'!D:AD,12,FALSE),DATA!D:E,2,FALSE))","v":""},"","","","","","","",{"$f":"IF(A250=\"\",\"\",VLOOKUP(RIGHT(A250,5)*1,'Data eshop'!D:M,10,FALSE))","v":""},{"$f":"IF(A250=\"\",\"\",IF(OR(VLOOKUP(RIGHT(A250,5)*1,'Data eshop'!D:O,12,FALSE)=\"Kurýrní službou\",VLOOKUP(RIGHT(A250,5)*1,'Data eshop'!D:O,12,FALSE)=\"Kuriérskou službou\",VLOOKUP(RIGHT(A250,5)*1,'Data eshop'!D:O,12,FALSE)=\"Usługa kurierską\"),MAX($P$1:P249)+1,\"\"))","v":""},""]
["",{"$f":"IF(F251=\"\",\"\",VLOOKUP(O251,DATA!R:S,2,FALSE)&VLOOKUP(Zakázky!F251+10000,'Místa dodání'!A:B,2,FALSE))","v":""},"","",{"$f":"IF(F251=\"\",\"\",VLOOKUP(VLOOKUP(F251,'Data eshop'!D:N,11,FALSE),DATA!A:B,2,FALSE))","v":""},{"$f":"IF('Místa dodání'!A252=\"\",\"\",'Místa dodání'!A252-10000)","v":""},{"$f":"IF(F251=\"\",\"\",VLOOKUP(VLOOKUP(F251,'Data eshop'!D:AD,12,FALSE),DATA!D:E,2,FALSE))","v":""},"","","","","","","",{"$f":"IF(A251=\"\",\"\",VLOOKUP(RIGHT(A251,5)*1,'Data eshop'!D:M,10,FALSE))","v":""},{"$f":"IF(A251=\"\",\"\",IF(OR(VLOOKUP(RIGHT(A251,5)*1,'Data eshop'!D:O,12,FALSE)=\"Kurýrní službou\",VLOOKUP(RIGHT(A251,5)*1,'Data eshop'!D:O,12,FALSE)=\"Kuriérskou službou\",VLOOKUP(RIGHT(A251,5)*1,'Data eshop'!D:O,12,FALSE)=\"Usługa kurierską\"),MAX($P$1:P250)+1,\"\"))","v":""},"","Roluj nahoru, až uvidíš žlutou"]
["",{"$f":"IF(F252=\"\",\"\",VLOOKUP(O252,DATA!R:S,2,FALSE)&VLOOKUP(Zakázky!F252+10000,'Místa dodání'!A:B,2,FALSE))","v":""},"","",{"$f":"IF(F252=\"\",\"\",VLOOKUP(VLOOKUP(F252,'Data eshop'!D:N,11,FALSE),DATA!A:B,2,FALSE))","v":""},{"$f":"IF('Místa dodání'!A253=\"\",\"\",'Místa dodání'!A253-10000)","v":""},{"$f":"IF(F252=\"\",\"\",VLOOKUP(VLOOKUP(F252,'Data eshop'!D:AD,12,FALSE),DATA!D:E,2,FALSE))","v":""},"","","","","","","",{"$f":"IF(A252=\"\",\"\",VLOOKUP(RIGHT(A252,5)*1,'Data eshop'!D:M,10,FALSE))","v":""},{"$f":"IF(A252=\"\",\"\",IF(OR(VLOOKUP(RIGHT(A252,5)*1,'Data eshop'!D:O,12,FALSE)=\"Kurýrní službou\",VLOOKUP(RIGHT(A252,5)*1,'Data eshop'!D:O,12,FALSE)=\"Kuriérskou službou\",VLOOKUP(RIGHT(A252,5)*1,'Data eshop'!D:O,12,FALSE)=\"Usługa kurierską\"),MAX($P$1:P251)+1,\"\"))","v":""},""]
["",{"$f":"IF(F253=\"\",\"\",VLOOKUP(O253,DATA!R:S,2,FALSE)&VLOOKUP(Zakázky!F253+10000,'Místa dodání'!A:B,2,FALSE))","v":""},"","",{"$f":"IF(F253=\"\",\"\",VLOOKUP(VLOOKUP(F253,'Data eshop'!D:N,11,FALSE),DATA!A:B,2,FALSE))","v":""},{"$f":"IF('Místa dodání'!A254=\"\",\"\",'Místa dodání'!A254-10000)","v":""},{"$f":"IF(F253=\"\",\"\",VLOOKUP(VLOOKUP(F253,'Data eshop'!D:AD,12,FALSE),DATA!D:E,2,FALSE))","v":""},"","","","","","","",{"$f":"IF(A253=\"\",\"\",VLOOKUP(RIGHT(A253,5)*1,'Data eshop'!D:M,10,FALSE))","v":""},{"$f":"IF(A253=\"\",\"\",IF(OR(VLOOKUP(RIGHT(A253,5)*1,'Data eshop'!D:O,12,FALSE)=\"Kurýrní službou\",VLOOKUP(RIGHT(A253,5)*1,'Data eshop'!D:O,12,FALSE)=\"Kuriérskou službou\",VLOOKUP(RIGHT(A253,5)*1,'Data eshop'!D:O,12,FALSE)=\"Usługa kurierską\"),MAX($P$1:P252)+1,\"\"))","v":""},""]
["",{"$f":"IF(F254=\"\",\"\",VLOOKUP(O254,DATA!R:S,2,FALSE)&VLOOKUP(Zakázky!F254+10000,'Místa dodání'!A:B,2,FALSE))","v":""},"","",{"$f":"IF(F254=\"\",\"\",VLOOKUP(VLOOKUP(F254,'Data eshop'!D:N,11,FALSE),DATA!A:B,2,FALSE))","v":""},{"$f":"IF('Místa dodání'!A255=\"\",\"\",'Místa dodání'!A255-10000)","v":""},{"$f":"IF(F254=\"\",\"\",VLOOKUP(VLOOKUP(F254,'Data eshop'!D:AD,12,FALSE),DATA!D:E,2,FALSE))","v":""},"","","","","","","",{"$f":"IF(A254=\"\",\"\",VLOOKUP(RIGHT(A254,5)*1,'Data eshop'!D:M,10,FALSE))","v":""},{"$f":"IF(A254=\"\",\"\",IF(OR(VLOOKUP(RIGHT(A254,5)*1,'Data eshop'!D:O,12,FALSE)=\"Kurýrní službou\",VLOOKUP(RIGHT(A254,5)*1,'Data eshop'!D:O,12,FALSE)=\"Kuriérskou službou\",VLOOKUP(RIGHT(A254,5)*1,'Data eshop'!D:O,12,FALSE)=\"Usługa kurierską\"),MAX($P$1:P253)+1,\"\"))","v":""},""]
["",{"$f":"IF(F255=\"\",\"\",VLOOKUP(O255,DATA!R:S,2,FALSE)&VLOOKUP(Zakázky!F255+10000,'Místa dodání'!A:B,2,FALSE))","v":""},"","",{"$f":"IF(F255=\"\",\"\",VLOOKUP(VLOOKUP(F255,'Data eshop'!D:N,11,FALSE),DATA!A:B,2,FALSE))","v":""},{"$f":"IF('Místa dodání'!A256=\"\",\"\",'Místa dodání'!A256-10000)","v":""},{"$f":"IF(F255=\"\",\"\",VLOOKUP(VLOOKUP(F255,'Data eshop'!D:AD,12,FALSE),DATA!D:E,2,FALSE))","v":""},"","","","","","","",{"$f":"IF(A255=\"\",\"\",VLOOKUP(RIGHT(A255,5)*1,'Data eshop'!D:M,10,FALSE))","v":""},{"$f":"IF(A255=\"\",\"\",IF(OR(VLOOKUP(RIGHT(A255,5)*1,'Data eshop'!D:O,12,FALSE)=\"Kurýrní službou\",VLOOKUP(RIGHT(A255,5)*1,'Data eshop'!D:O,12,FALSE)=\"Kuriérskou službou\",VLOOKUP(RIGHT(A255,5)*1,'Data eshop'!D:O,12,FALSE)=\"Usługa kurierską\"),MAX($P$1:P254)+1,\"\"))","v":""},"","Roluj nahoru, až uvidíš žlutou"]
["",{"$f":"IF(F256=\"\",\"\",VLOOKUP(O256,DATA!R:S,2,FALSE)&VLOOKUP(Zakázky!F256+10000,'Místa dodání'!A:B,2,FALSE))","v":""},"","",{"$f":"IF(F256=\"\",\"\",VLOOKUP(VLOOKUP(F256,'Data eshop'!D:N,11,FALSE),DATA!A:B,2,FALSE))","v":""},{"$f":"IF('Místa dodání'!A257=\"\",\"\",'Místa dodání'!A257-10000)","v":""},{"$f":"IF(F256=\"\",\"\",VLOOKUP(VLOOKUP(F256,'Data eshop'!D:AD,12,FALSE),DATA!D:E,2,FALSE))","v":""},"","","","","","","",{"$f":"IF(A256=\"\",\"\",VLOOKUP(RIGHT(A256,5)*1,'Data eshop'!D:M,10,FALSE))","v":""},{"$f":"IF(A256=\"\",\"\",IF(OR(VLOOKUP(RIGHT(A256,5)*1,'Data eshop'!D:O,12,FALSE)=\"Kurýrní službou\",VLOOKUP(RIGHT(A256,5)*1,'Data eshop'!D:O,12,FALSE)=\"Kuriérskou službou\",VLOOKUP(RIGHT(A256,5)*1,'Data eshop'!D:O,12,FALSE)=\"Usługa kurierską\"),MAX($P$1:P255)+1,\"\"))","v":""},""]
["",{"$f":"IF(F257=\"\",\"\",VLOOKUP(O257,DATA!R:S,2,FALSE)&VLOOKUP(Zakázky!F257+10000,'Místa dodání'!A:B,2,FALSE))","v":""},"","",{"$f":"IF(F257=\"\",\"\",VLOOKUP(VLOOKUP(F257,'Data eshop'!D:N,11,FALSE),DATA!A:B,2,FALSE))","v":""},{"$f":"IF('Místa dodání'!A258=\"\",\"\",'Místa dodání'!A258-10000)","v":""},{"$f":"IF(F257=\"\",\"\",VLOOKUP(VLOOKUP(F257,'Data eshop'!D:AD,12,FALSE),DATA!D:E,2,FALSE))","v":""},"","","","","","","",{"$f":"IF(A257=\"\",\"\",VLOOKUP(RIGHT(A257,5)*1,'Data eshop'!D:M,10,FALSE))","v":""},{"$f":"IF(A257=\"\",\"\",IF(OR(VLOOKUP(RIGHT(A257,5)*1,'Data eshop'!D:O,12,FALSE)=\"Kurýrní službou\",VLOOKUP(RIGHT(A257,5)*1,'Data eshop'!D:O,12,FALSE)=\"Kuriérskou službou\",VLOOKUP(RIGHT(A257,5)*1,'Data eshop'!D:O,12,FALSE)=\"Usługa kurierską\"),MAX($P$1:P256)+1,\"\"))","v":""},""]
[{"$f":"IF(F258=\"\",\"\",\"19ESh\"&IF(LEN(F258)=4,\"0\",\"\")&F258)","v":""},{"$f":"IF(F258=\"\",\"\",VLOOKUP(O258,DATA!R:S,2,FALSE)&VLOOKUP(Zakázky!F258+10000,'Místa dodání'!A:B,2,FALSE))","v":""},{"$f":"IF(F258=\"\",\"\",F258+10000)","v":""},"",{"$f":"IF(F258=\"\",\"\",VLOOKUP(VLOOKUP(F258,'Data eshop'!D:N,11,FALSE),DATA!A:B,2,FALSE))","v":""},{"$f":"IF('Místa dodání'!A259=\"\",\"\",'Místa dodání'!A259-10000)","v":""},{"$f":"IF(F258=\"\",\"\",VLOOKUP(VLOOKUP(F258,'Data eshop'!D:AD,12,FALSE),DATA!D:E,2,FALSE))","v":""},"","","","","","","",{"$f":"IF(A258=\"\",\"\",VLOOKUP(RIGHT(A258,5)*1,'Data eshop'!D:M,10,FALSE))","v":""},{"$f":"IF(A258=\"\",\"\",IF(OR(VLOOKUP(RIGHT(A258,5)*1,'Data eshop'!D:O,12,FALSE)=\"Kurýrní službou\",VLOOKUP(RIGHT(A258,5)*1,'Data eshop'!D:O,12,FALSE)=\"Kuriérskou službou\",VLOOKUP(RIGHT(A258,5)*1,'Data eshop'!D:O,12,FALSE)=\"Usługa kurierską\"),MAX($P$1:P257)+1,\"\"))","v":""},""]
["",{"$f":"IF(F259=\"\",\"\",VLOOKUP(O259,DATA!R:S,2,FALSE)&VLOOKUP(Zakázky!F259+10000,'Místa dodání'!A:B,2,FALSE))","v":""},"",{"$f":"IF(F259=\"\",\"\",TODAY())","v":""},{"$f":"IF(F259=\"\",\"\",VLOOKUP(VLOOKUP(F259,'Data eshop'!D:N,11,FALSE),DATA!A:B,2,FALSE))","v":""},{"$f":"IF('Místa dodání'!A260=\"\",\"\",'Místa dodání'!A260-10000)","v":""},{"$f":"IF(F259=\"\",\"\",VLOOKUP(VLOOKUP(F259,'Data eshop'!D:AD,12,FALSE),DATA!D:E,2,FALSE))","v":""},{"$f":"IF(F259=\"\",\"\",\"Řádná\")","v":""},{"$f":"IF(F259=\"\",\"\",\"Objednáno\")","v":""},{"$f":"IF(F259=\"\",\"\",\"SKL\")","v":""},{"$f":"IF(F259=\"\",\"\",\"PR\")","v":""},{"$f":"IF(F259=\"\",\"\",0)","v":""},{"$f":"IF(F259=\"\",\"\",0)","v":""},{"$f":"IF(F259=\"\",\"\",0)","v":""},{"$f":"IF(A259=\"\",\"\",VLOOKUP(RIGHT(A259,5)*1,'Data eshop'!D:M,10,FALSE))","v":""},{"$f":"IF(A259=\"\",\"\",IF(OR(VLOOKUP(RIGHT(A259,5)*1,'Data eshop'!D:O,12,FALSE)=\"Kurýrní službou\",VLOOKUP(RIGHT(A259,5)*1,'Data eshop'!D:O,12,FALSE)=\"Kuriérskou službou\",VLOOKUP(RIGHT(A259,5)*1,'Data eshop'!D:O,12,FALSE)=\"Usługa kurierską\"),MAX($P$1:P258)+1,\"\"))","v":""},{"$f":"IF(A259=\"\",\"\",A259)","v":""},"Roluj nahoru, až uvidíš žlutou"]
["",{"$f":"IF(F260=\"\",\"\",VLOOKUP(O260,DATA!R:S,2,FALSE)&VLOOKUP(Zakázky!F260+10000,'Místa dodání'!A:B,2,FALSE))","v":""},"","",{"$f":"IF(F260=\"\",\"\",VLOOKUP(VLOOKUP(F260,'Data eshop'!D:N,11,FALSE),DATA!A:B,2,FALSE))","v":""},{"$f":"IF('Místa dodání'!A261=\"\",\"\",'Místa dodání'!A261-10000)","v":""},{"$f":"IF(F260=\"\",\"\",VLOOKUP(VLOOKUP(F260,'Data eshop'!D:AD,12,FALSE),DATA!D:E,2,FALSE))","v":""},"","","","","","","",{"$f":"IF(A260=\"\",\"\",VLOOKUP(RIGHT(A260,5)*1,'Data eshop'!D:M,10,FALSE))","v":""},{"$f":"IF(A260=\"\",\"\",IF(OR(VLOOKUP(RIGHT(A260,5)*1,'Data eshop'!D:O,12,FALSE)=\"Kurýrní službou\",VLOOKUP(RIGHT(A260,5)*1,'Data eshop'!D:O,12,FALSE)=\"Kuriérskou službou\",VLOOKUP(RIGHT(A260,5)*1,'Data eshop'!D:O,12,FALSE)=\"Usługa kurierską\"),MAX($P$1:P259)+1,\"\"))","v":""},""]
["",{"$f":"IF(F261=\"\",\"\",VLOOKUP(O261,DATA!R:S,2,FALSE)&VLOOKUP(Zakázky!F261+10000,'Místa dodání'!A:B,2,FALSE))","v":""},"","",{"$f":"IF(F261=\"\",\"\",VLOOKUP(VLOOKUP(F261,'Data eshop'!D:N,11,FALSE),DATA!A:B,2,FALSE))","v":""},{"$f":"IF('Místa dodání'!A262=\"\",\"\",'Místa dodání'!A262-10000)","v":""},{"$f":"IF(F261=\"\",\"\",VLOOKUP(VLOOKUP(F261,'Data eshop'!D:AD,12,FALSE),DATA!D:E,2,FALSE))","v":""},"","","","","","","",{"$f":"IF(A261=\"\",\"\",VLOOKUP(RIGHT(A261,5)*1,'Data eshop'!D:M,10,FALSE))","v":""},{"$f":"IF(A261=\"\",\"\",IF(OR(VLOOKUP(RIGHT(A261,5)*1,'Data eshop'!D:O,12,FALSE)=\"Kurýrní službou\",VLOOKUP(RIGHT(A261,5)*1,'Data eshop'!D:O,12,FALSE)=\"Kuriérskou službou\",VLOOKUP(RIGHT(A261,5)*1,'Data eshop'!D:O,12,FALSE)=\"Usługa kurierską\"),MAX($P$1:P260)+1,\"\"))","v":""},""]
["",{"$f":"IF(F262=\"\",\"\",VLOOKUP(O262,DATA!R:S,2,FALSE)&VLOOKUP(Zakázky!F262+10000,'Místa dodání'!A:B,2,FALSE))","v":""},"","",{"$f":"IF(F262=\"\",\"\",VLOOKUP(VLOOKUP(F262,'Data eshop'!D:N,11,FALSE),DATA!A:B,2,FALSE))","v":""},{"$f":"IF('Místa dodání'!A263=\"\",\"\",'Místa dodání'!A263-10000)","v":""},{"$f":"IF(F262=\"\",\"\",VLOOKUP(VLOOKUP(F262,'Data eshop'!D:AD,12,FALSE),DATA!D:E,2,FALSE))","v":""},"","","","","","","",{"$f":"IF(A262=\"\",\"\",VLOOKUP(RIGHT(A262,5)*1,'Data eshop'!D:M,10,FALSE))","v":""},{"$f":"IF(A262=\"\",\"\",IF(OR(VLOOKUP(RIGHT(A262,5)*1,'Data eshop'!D:O,12,FALSE)=\"Kurýrní službou\",VLOOKUP(RIGHT(A262,5)*1,'Data eshop'!D:O,12,FALSE)=\"Kuriérskou službou\",VLOOKUP(RIGHT(A262,5)*1,'Data eshop'!D:O,12,FALSE)=\"Usługa kurierską\"),MAX($P$1:P261)+1,\"\"))","v":""},""]
["",{"$f":"IF(F263=\"\",\"\",VLOOKUP(O263,DATA!R:S,2,FALSE)&VLOOKUP(Zakázky!F263+10000,'Místa dodání'!A:B,2,FALSE))","v":""},"","",{"$f":"IF(F263=\"\",\"\",VLOOKUP(VLOOKUP(F263,'Data eshop'!D:N,11,FALSE),DATA!A:B,2,FALSE))","v":""},{"$f":"IF('Místa dodání'!A264=\"\",\"\",'Místa dodání'!A264-10000)","v":""},{"$f":"IF(F263=\"\",\"\",VLOOKUP(VLOOKUP(F263,'Data eshop'!D:AD,12,FALSE),DATA!D:E,2,FALSE))","v":""},"","","","","","","",{"$f":"IF(A263=\"\",\"\",VLOOKUP(RIGHT(A263,5)*1,'Data eshop'!D:M,10,FALSE))","v":""},{"$f":"IF(A263=\"\",\"\",IF(OR(VLOOKUP(RIGHT(A263,5)*1,'Data eshop'!D:O,12,FALSE)=\"Kurýrní službou\",VLOOKUP(RIGHT(A263,5)*1,'Data eshop'!D:O,12,FALSE)=\"Kuriérskou službou\",VLOOKUP(RIGHT(A263,5)*1,'Data eshop'!D:O,12,FALSE)=\"Usługa kurierską\"),MAX($P$1:P262)+1,\"\"))","v":""},"","Roluj nahoru, až uvidíš žlutou"]
["",{"$f":"IF(F264=\"\",\"\",VLOOKUP(O264,DATA!R:S,2,FALSE)&VLOOKUP(Zakázky!F264+10000,'Místa dodání'!A:B,2,FALSE))","v":""},"","",{"$f":"IF(F264=\"\",\"\",VLOOKUP(VLOOKUP(F264,'Data eshop'!D:N,11,FALSE),DATA!A:B,2,FALSE))","v":""},{"$f":"IF('Místa dodání'!A265=\"\",\"\",'Místa dodání'!A265-10000)","v":""},{"$f":"IF(F264=\"\",\"\",VLOOKUP(VLOOKUP(F264,'Data eshop'!D:AD,12,FALSE),DATA!D:E,2,FALSE))","v":""},"","","","","","","",{"$f":"IF(A264=\"\",\"\",VLOOKUP(RIGHT(A264,5)*1,'Data eshop'!D:M,10,FALSE))","v":""},{"$f":"IF(A264=\"\",\"\",IF(OR(VLOOKUP(RIGHT(A264,5)*1,'Data eshop'!D:O,12,FALSE)=\"Kurýrní službou\",VLOOKUP(RIGHT(A264,5)*1,'Data eshop'!D:O,12,FALSE)=\"Kuriérskou službou\",VLOOKUP(RIGHT(A264,5)*1,'Data eshop'!D:O,12,FALSE)=\"Usługa kurierską\"),MAX($P$1:P263)+1,\"\"))","v":""},""]
["",{"$f":"IF(F265=\"\",\"\",VLOOKUP(O265,DATA!R:S,2,FALSE)&VLOOKUP(Zakázky!F265+10000,'Místa dodání'!A:B,2,FALSE))","v":""},"","",{"$f":"IF(F265=\"\",\"\",VLOOKUP(VLOOKUP(F265,'Data eshop'!D:N,11,FALSE),DATA!A:B,2,FALSE))","v":""},{"$f":"IF('Místa dodání'!A266=\"\",\"\",'Místa dodání'!A266-10000)","v":""},{"$f":"IF(F265=\"\",\"\",VLOOKUP(VLOOKUP(F265,'Data eshop'!D:AD,12,FALSE),DATA!D:E,2,FALSE))","v":""},"","","","","","","",{"$f":"IF(A265=\"\",\"\",VLOOKUP(RIGHT(A265,5)*1,'Data eshop'!D:M,10,FALSE))","v":""},{"$f":"IF(A265=\"\",\"\",IF(OR(VLOOKUP(RIGHT(A265,5)*1,'Data eshop'!D:O,12,FALSE)=\"Kurýrní službou\",VLOOKUP(RIGHT(A265,5)*1,'Data eshop'!D:O,12,FALSE)=\"Kuriérskou službou\",VLOOKUP(RIGHT(A265,5)*1,'Data eshop'!D:O,12,FALSE)=\"Usługa kurierską\"),MAX($P$1:P264)+1,\"\"))","v":""},""]
["",{"$f":"IF(F266=\"\",\"\",VLOOKUP(O266,DATA!R:S,2,FALSE)&VLOOKUP(Zakázky!F266+10000,'Místa dodání'!A:B,2,FALSE))","v":""},"","",{"$f":"IF(F266=\"\",\"\",VLOOKUP(VLOOKUP(F266,'Data eshop'!D:N,11,FALSE),DATA!A:B,2,FALSE))","v":""},{"$f":"IF('Místa dodání'!A267=\"\",\"\",'Místa dodání'!A267-10000)","v":""},{"$f":"IF(F266=\"\",\"\",VLOOKUP(VLOOKUP(F266,'Data eshop'!D:AD,12,FALSE),DATA!D:E,2,FALSE))","v":""},"","","","","","","",{"$f":"IF(A266=\"\",\"\",VLOOKUP(RIGHT(A266,5)*1,'Data eshop'!D:M,10,FALSE))","v":""},{"$f":"IF(A266=\"\",\"\",IF(OR(VLOOKUP(RIGHT(A266,5)*1,'Data eshop'!D:O,12,FALSE)=\"Kurýrní službou\",VLOOKUP(RIGHT(A266,5)*1,'Data eshop'!D:O,12,FALSE)=\"Kuriérskou službou\",VLOOKUP(RIGHT(A266,5)*1,'Data eshop'!D:O,12,FALSE)=\"Usługa kurierską\"),MAX($P$1:P265)+1,\"\"))","v":""},""]
["",{"$f":"IF(F267=\"\",\"\",VLOOKUP(O267,DATA!R:S,2,FALSE)&VLOOKUP(Zakázky!F267+10000,'Místa dodání'!A:B,2,FALSE))","v":""},"","",{"$f":"IF(F267=\"\",\"\",VLOOKUP(VLOOKUP(F267,'Data eshop'!D:N,11,FALSE),DATA!A:B,2,FALSE))","v":""},{"$f":"IF('Místa dodání'!A268=\"\",\"\",'Místa dodání'!A268-10000)","v":""},{"$f":"IF(F267=\"\",\"\",VLOOKUP(VLOOKUP(F267,'Data eshop'!D:AD,12,FALSE),DATA!D:E,2,FALSE))","v":""},"","","","","","","",{"$f":"IF(A267=\"\",\"\",VLOOKUP(RIGHT(A267,5)*1,'Data eshop'!D:M,10,FALSE))","v":""},{"$f":"IF(A267=\"\",\"\",IF(OR(VLOOKUP(RIGHT(A267,5)*1,'Data eshop'!D:O,12,FALSE)=\"Kurýrní službou\",VLOOKUP(RIGHT(A267,5)*1,'Data eshop'!D:O,12,FALSE)=\"Kuriérskou službou\",VLOOKUP(RIGHT(A267,5)*1,'Data eshop'!D:O,12,FALSE)=\"Usługa kurierską\"),MAX($P$1:P266)+1,\"\"))","v":""},"","Roluj nahoru, až uvidíš žlutou"]
["",{"$f":"IF(F268=\"\",\"\",VLOOKUP(O268,DATA!R:S,2,FALSE)&VLOOKUP(Zakázky!F268+10000,'Místa dodání'!A:B,2,FALSE))","v":""},"","",{"$f":"IF(F268=\"\",\"\",VLOOKUP(VLOOKUP(F268,'Data eshop'!D:N,11,FALSE),DATA!A:B,2,FALSE))","v":""},{"$f":"IF('Místa dodání'!A269=\"\",\"\",'Místa dodání'!A269-10000)","v":""},{"$f":"IF(F268=\"\",\"\",VLOOKUP(VLOOKUP(F268,'Data eshop'!D:AD,12,FALSE),DATA!D:E,2,FALSE))","v":""},"","","","","","","",{"$f":"IF(A268=\"\",\"\",VLOOKUP(RIGHT(A268,5)*1,'Data eshop'!D:M,10,FALSE))","v":""},{"$f":"IF(A268=\"\",\"\",IF(OR(VLOOKUP(RIGHT(A268,5)*1,'Data eshop'!D:O,12,FALSE)=\"Kurýrní službou\",VLOOKUP(RIGHT(A268,5)*1,'Data eshop'!D:O,12,FALSE)=\"Kuriérskou službou\",VLOOKUP(RIGHT(A268,5)*1,'Data eshop'!D:O,12,FALSE)=\"Usługa kurierską\"),MAX($P$1:P267)+1,\"\"))","v":""},""]
["",{"$f":"IF(F269=\"\",\"\",VLOOKUP(O269,DATA!R:S,2,FALSE)&VLOOKUP(Zakázky!F269+10000,'Místa dodání'!A:B,2,FALSE))","v":""},"","",{"$f":"IF(F269=\"\",\"\",VLOOKUP(VLOOKUP(F269,'Data eshop'!D:N,11,FALSE),DATA!A:B,2,FALSE))","v":""},{"$f":"IF('Místa dodání'!A270=\"\",\"\",'Místa dodání'!A270-10000)","v":""},{"$f":"IF(F269=\"\",\"\",VLOOKUP(VLOOKUP(F269,'Data eshop'!D:AD,12,FALSE),DATA!D:E,2,FALSE))","v":""},"","","","","","","",{"$f":"IF(A269=\"\",\"\",VLOOKUP(RIGHT(A269,5)*1,'Data eshop'!D:M,10,FALSE))","v":""},{"$f":"IF(A269=\"\",\"\",IF(OR(VLOOKUP(RIGHT(A269,5)*1,'Data eshop'!D:O,12,FALSE)=\"Kurýrní službou\",VLOOKUP(RIGHT(A269,5)*1,'Data eshop'!D:O,12,FALSE)=\"Kuriérskou službou\",VLOOKUP(RIGHT(A269,5)*1,'Data eshop'!D:O,12,FALSE)=\"Usługa kurierską\"),MAX($P$1:P268)+1,\"\"))","v":""},""]
["",{"$f":"IF(F270=\"\",\"\",VLOOKUP(O270,DATA!R:S,2,FALSE)&VLOOKUP(Zakázky!F270+10000,'Místa dodání'!A:B,2,FALSE))","v":""},"","",{"$f":"IF(F270=\"\",\"\",VLOOKUP(VLOOKUP(F270,'Data eshop'!D:N,11,FALSE),DATA!A:B,2,FALSE))","v":""},{"$f":"IF('Místa dodání'!A271=\"\",\"\",'Místa dodání'!A271-10000)","v":""},{"$f":"IF(F270=\"\",\"\",VLOOKUP(VLOOKUP(F270,'Data eshop'!D:AD,12,FALSE),DATA!D:E,2,FALSE))","v":""},"","","","","","","",{"$f":"IF(A270=\"\",\"\",VLOOKUP(RIGHT(A270,5)*1,'Data eshop'!D:M,10,FALSE))","v":""},{"$f":"IF(A270=\"\",\"\",IF(OR(VLOOKUP(RIGHT(A270,5)*1,'Data eshop'!D:O,12,FALSE)=\"Kurýrní službou\",VLOOKUP(RIGHT(A270,5)*1,'Data eshop'!D:O,12,FALSE)=\"Kuriérskou službou\",VLOOKUP(RIGHT(A270,5)*1,'Data eshop'!D:O,12,FALSE)=\"Usługa kurierską\"),MAX($P$1:P269)+1,\"\"))","v":""},""]
["",{"$f":"IF(F271=\"\",\"\",VLOOKUP(O271,DATA!R:S,2,FALSE)&VLOOKUP(Zakázky!F271+10000,'Místa dodání'!A:B,2,FALSE))","v":""},"","",{"$f":"IF(F271=\"\",\"\",VLOOKUP(VLOOKUP(F271,'Data eshop'!D:N,11,FALSE),DATA!A:B,2,FALSE))","v":""},{"$f":"IF('Místa dodání'!A272=\"\",\"\",'Místa dodání'!A272-10000)","v":""},{"$f":"IF(F271=\"\",\"\",VLOOKUP(VLOOKUP(F271,'Data eshop'!D:AD,12,FALSE),DATA!D:E,2,FALSE))","v":""},"","","","","","","",{"$f":"IF(A271=\"\",\"\",VLOOKUP(RIGHT(A271,5)*1,'Data eshop'!D:M,10,FALSE))","v":""},{"$f":"IF(A271=\"\",\"\",IF(OR(VLOOKUP(RIGHT(A271,5)*1,'Data eshop'!D:O,12,FALSE)=\"Kurýrní službou\",VLOOKUP(RIGHT(A271,5)*1,'Data eshop'!D:O,12,FALSE)=\"Kuriérskou službou\",VLOOKUP(RIGHT(A271,5)*1,'Data eshop'!D:O,12,FALSE)=\"Usługa kurierską\"),MAX($P$1:P270)+1,\"\"))","v":""},"","Roluj nahoru, až uvidíš žlutou"]
["",{"$f":"IF(F272=\"\",\"\",VLOOKUP(O272,DATA!R:S,2,FALSE)&VLOOKUP(Zakázky!F272+10000,'Místa dodání'!A:B,2,FALSE))","v":""},"","",{"$f":"IF(F272=\"\",\"\",VLOOKUP(VLOOKUP(F272,'Data eshop'!D:N,11,FALSE),DATA!A:B,2,FALSE))","v":""},{"$f":"IF('Místa dodání'!A273=\"\",\"\",'Místa dodání'!A273-10000)","v":""},{"$f":"IF(F272=\"\",\"\",VLOOKUP(VLOOKUP(F272,'Data eshop'!D:AD,12,FALSE),DATA!D:E,2,FALSE))","v":""},"","","","","","","",{"$f":"IF(A272=\"\",\"\",VLOOKUP(RIGHT(A272,5)*1,'Data eshop'!D:M,10,FALSE))","v":""},{"$f":"IF(A272=\"\",\"\",IF(OR(VLOOKUP(RIGHT(A272,5)*1,'Data eshop'!D:O,12,FALSE)=\"Kurýrní službou\",VLOOKUP(RIGHT(A272,5)*1,'Data eshop'!D:O,12,FALSE)=\"Kuriérskou službou\",VLOOKUP(RIGHT(A272,5)*1,'Data eshop'!D:O,12,FALSE)=\"Usługa kurierską\"),MAX($P$1:P271)+1,\"\"))","v":""},""]
["",{"$f":"IF(F273=\"\",\"\",VLOOKUP(O273,DATA!R:S,2,FALSE)&VLOOKUP(Zakázky!F273+10000,'Místa dodání'!A:B,2,FALSE))","v":""},"","",{"$f":"IF(F273=\"\",\"\",VLOOKUP(VLOOKUP(F273,'Data eshop'!D:N,11,FALSE),DATA!A:B,2,FALSE))","v":""},{"$f":"IF('Místa dodání'!A274=\"\",\"\",'Místa dodání'!A274-10000)","v":""},{"$f":"IF(F273=\"\",\"\",VLOOKUP(VLOOKUP(F273,'Data eshop'!D:AD,12,FALSE),DATA!D:E,2,FALSE))","v":""},"","","","","","","",{"$f":"IF(A273=\"\",\"\",VLOOKUP(RIGHT(A273,5)*1,'Data eshop'!D:M,10,FALSE))","v":""},{"$f":"IF(A273=\"\",\"\",IF(OR(VLOOKUP(RIGHT(A273,5)*1,'Data eshop'!D:O,12,FALSE)=\"Kurýrní službou\",VLOOKUP(RIGHT(A273,5)*1,'Data eshop'!D:O,12,FALSE)=\"Kuriérskou službou\",VLOOKUP(RIGHT(A273,5)*1,'Data eshop'!D:O,12,FALSE)=\"Usługa kurierską\"),MAX($P$1:P272)+1,\"\"))","v":""},""]
["",{"$f":"IF(F274=\"\",\"\",VLOOKUP(O274,DATA!R:S,2,FALSE)&VLOOKUP(Zakázky!F274+10000,'Místa dodání'!A:B,2,FALSE))","v":""},"","",{"$f":"IF(F274=\"\",\"\",VLOOKUP(VLOOKUP(F274,'Data eshop'!D:N,11,FALSE),DATA!A:B,2,FALSE))","v":""},{"$f":"IF('Místa dodání'!A275=\"\",\"\",'Místa dodání'!A275-10000)","v":""},{"$f":"IF(F274=\"\",\"\",VLOOKUP(VLOOKUP(F274,'Data eshop'!D:AD,12,FALSE),DATA!D:E,2,FALSE))","v":""},"","","","","","","",{"$f":"IF(A274=\"\",\"\",VLOOKUP(RIGHT(A274,5)*1,'Data eshop'!D:M,10,FALSE))","v":""},{"$f":"IF(A274=\"\",\"\",IF(OR(VLOOKUP(RIGHT(A274,5)*1,'Data eshop'!D:O,12,FALSE)=\"Kurýrní službou\",VLOOKUP(RIGHT(A274,5)*1,'Data eshop'!D:O,12,FALSE)=\"Kuriérskou službou\",VLOOKUP(RIGHT(A274,5)*1,'Data eshop'!D:O,12,FALSE)=\"Usługa kurierską\"),MAX($P$1:P273)+1,\"\"))","v":""},""]
["",{"$f":"IF(F275=\"\",\"\",VLOOKUP(O275,DATA!R:S,2,FALSE)&VLOOKUP(Zakázky!F275+10000,'Místa dodání'!A:B,2,FALSE))","v":""},"","",{"$f":"IF(F275=\"\",\"\",VLOOKUP(VLOOKUP(F275,'Data eshop'!D:N,11,FALSE),DATA!A:B,2,FALSE))","v":""},{"$f":"IF('Místa dodání'!A276=\"\",\"\",'Místa dodání'!A276-10000)","v":""},{"$f":"IF(F275=\"\",\"\",VLOOKUP(VLOOKUP(F275,'Data eshop'!D:AD,12,FALSE),DATA!D:E,2,FALSE))","v":""},"","","","","","","",{"$f":"IF(A275=\"\",\"\",VLOOKUP(RIGHT(A275,5)*1,'Data eshop'!D:M,10,FALSE))","v":""},{"$f":"IF(A275=\"\",\"\",IF(OR(VLOOKUP(RIGHT(A275,5)*1,'Data eshop'!D:O,12,FALSE)=\"Kurýrní službou\",VLOOKUP(RIGHT(A275,5)*1,'Data eshop'!D:O,12,FALSE)=\"Kuriérskou službou\",VLOOKUP(RIGHT(A275,5)*1,'Data eshop'!D:O,12,FALSE)=\"Usługa kurierską\"),MAX($P$1:P274)+1,\"\"))","v":""},"","Roluj nahoru, až uvidíš žlutou"]
["",{"$f":"IF(F276=\"\",\"\",VLOOKUP(O276,DATA!R:S,2,FALSE)&VLOOKUP(Zakázky!F276+10000,'Místa dodání'!A:B,2,FALSE))","v":""},"","",{"$f":"IF(F276=\"\",\"\",VLOOKUP(VLOOKUP(F276,'Data eshop'!D:N,11,FALSE),DATA!A:B,2,FALSE))","v":""},{"$f":"IF('Místa dodání'!A277=\"\",\"\",'Místa dodání'!A277-10000)","v":""},{"$f":"IF(F276=\"\",\"\",VLOOKUP(VLOOKUP(F276,'Data eshop'!D:AD,12,FALSE),DATA!D:E,2,FALSE))","v":""},"","","","","","","",{"$f":"IF(A276=\"\",\"\",VLOOKUP(RIGHT(A276,5)*1,'Data eshop'!D:M,10,FALSE))","v":""},{"$f":"IF(A276=\"\",\"\",IF(OR(VLOOKUP(RIGHT(A276,5)*1,'Data eshop'!D:O,12,FALSE)=\"Kurýrní službou\",VLOOKUP(RIGHT(A276,5)*1,'Data eshop'!D:O,12,FALSE)=\"Kuriérskou službou\",VLOOKUP(RIGHT(A276,5)*1,'Data eshop'!D:O,12,FALSE)=\"Usługa kurierską\"),MAX($P$1:P275)+1,\"\"))","v":""},""]
["",{"$f":"IF(F277=\"\",\"\",VLOOKUP(O277,DATA!R:S,2,FALSE)&VLOOKUP(Zakázky!F277+10000,'Místa dodání'!A:B,2,FALSE))","v":""},"","",{"$f":"IF(F277=\"\",\"\",VLOOKUP(VLOOKUP(F277,'Data eshop'!D:N,11,FALSE),DATA!A:B,2,FALSE))","v":""},{"$f":"IF('Místa dodání'!A278=\"\",\"\",'Místa dodání'!A278-10000)","v":""},{"$f":"IF(F277=\"\",\"\",VLOOKUP(VLOOKUP(F277,'Data eshop'!D:AD,12,FALSE),DATA!D:E,2,FALSE))","v":""},"","","","","","","",{"$f":"IF(A277=\"\",\"\",VLOOKUP(RIGHT(A277,5)*1,'Data eshop'!D:M,10,FALSE))","v":""},{"$f":"IF(A277=\"\",\"\",IF(OR(VLOOKUP(RIGHT(A277,5)*1,'Data eshop'!D:O,12,FALSE)=\"Kurýrní službou\",VLOOKUP(RIGHT(A277,5)*1,'Data eshop'!D:O,12,FALSE)=\"Kuriérskou službou\",VLOOKUP(RIGHT(A277,5)*1,'Data eshop'!D:O,12,FALSE)=\"Usługa kurierską\"),MAX($P$1:P276)+1,\"\"))","v":""},""]
["",{"$f":"IF(F278=\"\",\"\",VLOOKUP(O278,DATA!R:S,2,FALSE)&VLOOKUP(Zakázky!F278+10000,'Místa dodání'!A:B,2,FALSE))","v":""},"","",{"$f":"IF(F278=\"\",\"\",VLOOKUP(VLOOKUP(F278,'Data eshop'!D:N,11,FALSE),DATA!A:B,2,FALSE))","v":""},{"$f":"IF('Místa dodání'!A279=\"\",\"\",'Místa dodání'!A279-10000)","v":""},{"$f":"IF(F278=\"\",\"\",VLOOKUP(VLOOKUP(F278,'Data eshop'!D:AD,12,FALSE),DATA!D:E,2,FALSE))","v":""},"","","","","","","",{"$f":"IF(A278=\"\",\"\",VLOOKUP(RIGHT(A278,5)*1,'Data eshop'!D:M,10,FALSE))","v":""},{"$f":"IF(A278=\"\",\"\",IF(OR(VLOOKUP(RIGHT(A278,5)*1,'Data eshop'!D:O,12,FALSE)=\"Kurýrní službou\",VLOOKUP(RIGHT(A278,5)*1,'Data eshop'!D:O,12,FALSE)=\"Kuriérskou službou\",VLOOKUP(RIGHT(A278,5)*1,'Data eshop'!D:O,12,FALSE)=\"Usługa kurierską\"),MAX($P$1:P277)+1,\"\"))","v":""},""]
["",{"$f":"IF(F279=\"\",\"\",VLOOKUP(O279,DATA!R:S,2,FALSE)&VLOOKUP(Zakázky!F279+10000,'Místa dodání'!A:B,2,FALSE))","v":""},"","",{"$f":"IF(F279=\"\",\"\",VLOOKUP(VLOOKUP(F279,'Data eshop'!D:N,11,FALSE),DATA!A:B,2,FALSE))","v":""},{"$f":"IF('Místa dodání'!A280=\"\",\"\",'Místa dodání'!A280-10000)","v":""},{"$f":"IF(F279=\"\",\"\",VLOOKUP(VLOOKUP(F279,'Data eshop'!D:AD,12,FALSE),DATA!D:E,2,FALSE))","v":""},"","","","","","","",{"$f":"IF(A279=\"\",\"\",VLOOKUP(RIGHT(A279,5)*1,'Data eshop'!D:M,10,FALSE))","v":""},{"$f":"IF(A279=\"\",\"\",IF(OR(VLOOKUP(RIGHT(A279,5)*1,'Data eshop'!D:O,12,FALSE)=\"Kurýrní službou\",VLOOKUP(RIGHT(A279,5)*1,'Data eshop'!D:O,12,FALSE)=\"Kuriérskou službou\",VLOOKUP(RIGHT(A279,5)*1,'Data eshop'!D:O,12,FALSE)=\"Usługa kurierską\"),MAX($P$1:P278)+1,\"\"))","v":""},"","Roluj nahoru, až uvidíš žlutou"]
["",{"$f":"IF(F280=\"\",\"\",VLOOKUP(O280,DATA!R:S,2,FALSE)&VLOOKUP(Zakázky!F280+10000,'Místa dodání'!A:B,2,FALSE))","v":""},"","",{"$f":"IF(F280=\"\",\"\",VLOOKUP(VLOOKUP(F280,'Data eshop'!D:N,11,FALSE),DATA!A:B,2,FALSE))","v":""},{"$f":"IF('Místa dodání'!A281=\"\",\"\",'Místa dodání'!A281-10000)","v":""},{"$f":"IF(F280=\"\",\"\",VLOOKUP(VLOOKUP(F280,'Data eshop'!D:AD,12,FALSE),DATA!D:E,2,FALSE))","v":""},"","","","","","","",{"$f":"IF(A280=\"\",\"\",VLOOKUP(RIGHT(A280,5)*1,'Data eshop'!D:M,10,FALSE))","v":""},{"$f":"IF(A280=\"\",\"\",IF(OR(VLOOKUP(RIGHT(A280,5)*1,'Data eshop'!D:O,12,FALSE)=\"Kurýrní službou\",VLOOKUP(RIGHT(A280,5)*1,'Data eshop'!D:O,12,FALSE)=\"Kuriérskou službou\",VLOOKUP(RIGHT(A280,5)*1,'Data eshop'!D:O,12,FALSE)=\"Usługa kurierską\"),MAX($P$1:P279)+1,\"\"))","v":""},""]
["",{"$f":"IF(F281=\"\",\"\",VLOOKUP(O281,DATA!R:S,2,FALSE)&VLOOKUP(Zakázky!F281+10000,'Místa dodání'!A:B,2,FALSE))","v":""},"","",{"$f":"IF(F281=\"\",\"\",VLOOKUP(VLOOKUP(F281,'Data eshop'!D:N,11,FALSE),DATA!A:B,2,FALSE))","v":""},{"$f":"IF('Místa dodání'!A282=\"\",\"\",'Místa dodání'!A282-10000)","v":""},{"$f":"IF(F281=\"\",\"\",VLOOKUP(VLOOKUP(F281,'Data eshop'!D:AD,12,FALSE),DATA!D:E,2,FALSE))","v":""},"","","","","","","",{"$f":"IF(A281=\"\",\"\",VLOOKUP(RIGHT(A281,5)*1,'Data eshop'!D:M,10,FALSE))","v":""},{"$f":"IF(A281=\"\",\"\",IF(OR(VLOOKUP(RIGHT(A281,5)*1,'Data eshop'!D:O,12,FALSE)=\"Kurýrní službou\",VLOOKUP(RIGHT(A281,5)*1,'Data eshop'!D:O,12,FALSE)=\"Kuriérskou službou\",VLOOKUP(RIGHT(A281,5)*1,'Data eshop'!D:O,12,FALSE)=\"Usługa kurierską\"),MAX($P$1:P280)+1,\"\"))","v":""},""]
["",{"$f":"IF(F282=\"\",\"\",VLOOKUP(O282,DATA!R:S,2,FALSE)&VLOOKUP(Zakázky!F282+10000,'Místa dodání'!A:B,2,FALSE))","v":""},"","",{"$f":"IF(F282=\"\",\"\",VLOOKUP(VLOOKUP(F282,'Data eshop'!D:N,11,FALSE),DATA!A:B,2,FALSE))","v":""},{"$f":"IF('Místa dodání'!A283=\"\",\"\",'Místa dodání'!A283-10000)","v":""},{"$f":"IF(F282=\"\",\"\",VLOOKUP(VLOOKUP(F282,'Data eshop'!D:AD,12,FALSE),DATA!D:E,2,FALSE))","v":""},"","","","","","","",{"$f":"IF(A282=\"\",\"\",VLOOKUP(RIGHT(A282,5)*1,'Data eshop'!D:M,10,FALSE))","v":""},{"$f":"IF(A282=\"\",\"\",IF(OR(VLOOKUP(RIGHT(A282,5)*1,'Data eshop'!D:O,12,FALSE)=\"Kurýrní službou\",VLOOKUP(RIGHT(A282,5)*1,'Data eshop'!D:O,12,FALSE)=\"Kuriérskou službou\",VLOOKUP(RIGHT(A282,5)*1,'Data eshop'!D:O,12,FALSE)=\"Usługa kurierską\"),MAX($P$1:P281)+1,\"\"))","v":""},""]
["",{"$f":"IF(F283=\"\",\"\",VLOOKUP(O283,DATA!R:S,2,FALSE)&VLOOKUP(Zakázky!F283+10000,'Místa dodání'!A:B,2,FALSE))","v":""},"","",{"$f":"IF(F283=\"\",\"\",VLOOKUP(VLOOKUP(F283,'Data eshop'!D:N,11,FALSE),DATA!A:B,2,FALSE))","v":""},{"$f":"IF('Místa dodání'!A284=\"\",\"\",'Místa dodání'!A284-10000)","v":""},{"$f":"IF(F283=\"\",\"\",VLOOKUP(VLOOKUP(F283,'Data eshop'!D:AD,12,FALSE),DATA!D:E,2,FALSE))","v":""},"","","","","","","",{"$f":"IF(A283=\"\",\"\",VLOOKUP(RIGHT(A283,5)*1,'Data eshop'!D:M,10,FALSE))","v":""},{"$f":"IF(A283=\"\",\"\",IF(OR(VLOOKUP(RIGHT(A283,5)*1,'Data eshop'!D:O,12,FALSE)=\"Kurýrní službou\",VLOOKUP(RIGHT(A283,5)*1,'Data eshop'!D:O,12,FALSE)=\"Kuriérskou službou\",VLOOKUP(RIGHT(A283,5)*1,'Data eshop'!D:O,12,FALSE)=\"Usługa kurierską\"),MAX($P$1:P282)+1,\"\"))","v":""},"","Roluj nahoru, až uvidíš žlutou"]
["",{"$f":"IF(F284=\"\",\"\",VLOOKUP(O284,DATA!R:S,2,FALSE)&VLOOKUP(Zakázky!F284+10000,'Místa dodání'!A:B,2,FALSE))","v":""},"","",{"$f":"IF(F284=\"\",\"\",VLOOKUP(VLOOKUP(F284,'Data eshop'!D:N,11,FALSE),DATA!A:B,2,FALSE))","v":""},{"$f":"IF('Místa dodání'!A285=\"\",\"\",'Místa dodání'!A285-10000)","v":""},{"$f":"IF(F284=\"\",\"\",VLOOKUP(VLOOKUP(F284,'Data eshop'!D:AD,12,FALSE),DATA!D:E,2,FALSE))","v":""},"","","","","","","",{"$f":"IF(A284=\"\",\"\",VLOOKUP(RIGHT(A284,5)*1,'Data eshop'!D:M,10,FALSE))","v":""},{"$f":"IF(A284=\"\",\"\",IF(OR(VLOOKUP(RIGHT(A284,5)*1,'Data eshop'!D:O,12,FALSE)=\"Kurýrní službou\",VLOOKUP(RIGHT(A284,5)*1,'Data eshop'!D:O,12,FALSE)=\"Kuriérskou službou\",VLOOKUP(RIGHT(A284,5)*1,'Data eshop'!D:O,12,FALSE)=\"Usługa kurierską\"),MAX($P$1:P283)+1,\"\"))","v":""},""]
["",{"$f":"IF(F285=\"\",\"\",VLOOKUP(O285,DATA!R:S,2,FALSE)&VLOOKUP(Zakázky!F285+10000,'Místa dodání'!A:B,2,FALSE))","v":""},"","",{"$f":"IF(F285=\"\",\"\",VLOOKUP(VLOOKUP(F285,'Data eshop'!D:N,11,FALSE),DATA!A:B,2,FALSE))","v":""},{"$f":"IF('Místa dodání'!A286=\"\",\"\",'Místa dodání'!A286-10000)","v":""},{"$f":"IF(F285=\"\",\"\",VLOOKUP(VLOOKUP(F285,'Data eshop'!D:AD,12,FALSE),DATA!D:E,2,FALSE))","v":""},"","","","","","","",{"$f":"IF(A285=\"\",\"\",VLOOKUP(RIGHT(A285,5)*1,'Data eshop'!D:M,10,FALSE))","v":""},{"$f":"IF(A285=\"\",\"\",IF(OR(VLOOKUP(RIGHT(A285,5)*1,'Data eshop'!D:O,12,FALSE)=\"Kurýrní službou\",VLOOKUP(RIGHT(A285,5)*1,'Data eshop'!D:O,12,FALSE)=\"Kuriérskou službou\",VLOOKUP(RIGHT(A285,5)*1,'Data eshop'!D:O,12,FALSE)=\"Usługa kurierską\"),MAX($P$1:P284)+1,\"\"))","v":""},""]
["",{"$f":"IF(F286=\"\",\"\",VLOOKUP(O286,DATA!R:S,2,FALSE)&VLOOKUP(Zakázky!F286+10000,'Místa dodání'!A:B,2,FALSE))","v":""},"","",{"$f":"IF(F286=\"\",\"\",VLOOKUP(VLOOKUP(F286,'Data eshop'!D:N,11,FALSE),DATA!A:B,2,FALSE))","v":""},{"$f":"IF('Místa dodání'!A287=\"\",\"\",'Místa dodání'!A287-10000)","v":""},{"$f":"IF(F286=\"\",\"\",VLOOKUP(VLOOKUP(F286,'Data eshop'!D:AD,12,FALSE),DATA!D:E,2,FALSE))","v":""},"","","","","","","",{"$f":"IF(A286=\"\",\"\",VLOOKUP(RIGHT(A286,5)*1,'Data eshop'!D:M,10,FALSE))","v":""},{"$f":"IF(A286=\"\",\"\",IF(OR(VLOOKUP(RIGHT(A286,5)*1,'Data eshop'!D:O,12,FALSE)=\"Kurýrní službou\",VLOOKUP(RIGHT(A286,5)*1,'Data eshop'!D:O,12,FALSE)=\"Kuriérskou službou\",VLOOKUP(RIGHT(A286,5)*1,'Data eshop'!D:O,12,FALSE)=\"Usługa kurierską\"),MAX($P$1:P285)+1,\"\"))","v":""},""]
["",{"$f":"IF(F287=\"\",\"\",VLOOKUP(O287,DATA!R:S,2,FALSE)&VLOOKUP(Zakázky!F287+10000,'Místa dodání'!A:B,2,FALSE))","v":""},"","",{"$f":"IF(F287=\"\",\"\",VLOOKUP(VLOOKUP(F287,'Data eshop'!D:N,11,FALSE),DATA!A:B,2,FALSE))","v":""},{"$f":"IF('Místa dodání'!A288=\"\",\"\",'Místa dodání'!A288-10000)","v":""},{"$f":"IF(F287=\"\",\"\",VLOOKUP(VLOOKUP(F287,'Data eshop'!D:AD,12,FALSE),DATA!D:E,2,FALSE))","v":""},"","","","","","","",{"$f":"IF(A287=\"\",\"\",VLOOKUP(RIGHT(A287,5)*1,'Data eshop'!D:M,10,FALSE))","v":""},{"$f":"IF(A287=\"\",\"\",IF(OR(VLOOKUP(RIGHT(A287,5)*1,'Data eshop'!D:O,12,FALSE)=\"Kurýrní službou\",VLOOKUP(RIGHT(A287,5)*1,'Data eshop'!D:O,12,FALSE)=\"Kuriérskou službou\",VLOOKUP(RIGHT(A287,5)*1,'Data eshop'!D:O,12,FALSE)=\"Usługa kurierską\"),MAX($P$1:P286)+1,\"\"))","v":""},"","Roluj nahoru, až uvidíš žlutou"]
["",{"$f":"IF(F288=\"\",\"\",VLOOKUP(O288,DATA!R:S,2,FALSE)&VLOOKUP(Zakázky!F288+10000,'Místa dodání'!A:B,2,FALSE))","v":""},"","",{"$f":"IF(F288=\"\",\"\",VLOOKUP(VLOOKUP(F288,'Data eshop'!D:N,11,FALSE),DATA!A:B,2,FALSE))","v":""},{"$f":"IF('Místa dodání'!A289=\"\",\"\",'Místa dodání'!A289-10000)","v":""},{"$f":"IF(F288=\"\",\"\",VLOOKUP(VLOOKUP(F288,'Data eshop'!D:AD,12,FALSE),DATA!D:E,2,FALSE))","v":""},"","","","","","","",{"$f":"IF(A288=\"\",\"\",VLOOKUP(RIGHT(A288,5)*1,'Data eshop'!D:M,10,FALSE))","v":""},{"$f":"IF(A288=\"\",\"\",IF(OR(VLOOKUP(RIGHT(A288,5)*1,'Data eshop'!D:O,12,FALSE)=\"Kurýrní službou\",VLOOKUP(RIGHT(A288,5)*1,'Data eshop'!D:O,12,FALSE)=\"Kuriérskou službou\",VLOOKUP(RIGHT(A288,5)*1,'Data eshop'!D:O,12,FALSE)=\"Usługa kurierską\"),MAX($P$1:P287)+1,\"\"))","v":""},""]
["",{"$f":"IF(F289=\"\",\"\",VLOOKUP(O289,DATA!R:S,2,FALSE)&VLOOKUP(Zakázky!F289+10000,'Místa dodání'!A:B,2,FALSE))","v":""},"","",{"$f":"IF(F289=\"\",\"\",VLOOKUP(VLOOKUP(F289,'Data eshop'!D:N,11,FALSE),DATA!A:B,2,FALSE))","v":""},{"$f":"IF('Místa dodání'!A290=\"\",\"\",'Místa dodání'!A290-10000)","v":""},{"$f":"IF(F289=\"\",\"\",VLOOKUP(VLOOKUP(F289,'Data eshop'!D:AD,12,FALSE),DATA!D:E,2,FALSE))","v":""},"","","","","","","",{"$f":"IF(A289=\"\",\"\",VLOOKUP(RIGHT(A289,5)*1,'Data eshop'!D:M,10,FALSE))","v":""},{"$f":"IF(A289=\"\",\"\",IF(OR(VLOOKUP(RIGHT(A289,5)*1,'Data eshop'!D:O,12,FALSE)=\"Kurýrní službou\",VLOOKUP(RIGHT(A289,5)*1,'Data eshop'!D:O,12,FALSE)=\"Kuriérskou službou\",VLOOKUP(RIGHT(A289,5)*1,'Data eshop'!D:O,12,FALSE)=\"Usługa kurierską\"),MAX($P$1:P288)+1,\"\"))","v":""},""]
["",{"$f":"IF(F290=\"\",\"\",VLOOKUP(O290,DATA!R:S,2,FALSE)&VLOOKUP(Zakázky!F290+10000,'Místa dodání'!A:B,2,FALSE))","v":""},"","",{"$f":"IF(F290=\"\",\"\",VLOOKUP(VLOOKUP(F290,'Data eshop'!D:N,11,FALSE),DATA!A:B,2,FALSE))","v":""},{"$f":"IF('Místa dodání'!A291=\"\",\"\",'Místa dodání'!A291-10000)","v":""},{"$f":"IF(F290=\"\",\"\",VLOOKUP(VLOOKUP(F290,'Data eshop'!D:AD,12,FALSE),DATA!D:E,2,FALSE))","v":""},"","","","","","","",{"$f":"IF(A290=\"\",\"\",VLOOKUP(RIGHT(A290,5)*1,'Data eshop'!D:M,10,FALSE))","v":""},{"$f":"IF(A290=\"\",\"\",IF(OR(VLOOKUP(RIGHT(A290,5)*1,'Data eshop'!D:O,12,FALSE)=\"Kurýrní službou\",VLOOKUP(RIGHT(A290,5)*1,'Data eshop'!D:O,12,FALSE)=\"Kuriérskou službou\",VLOOKUP(RIGHT(A290,5)*1,'Data eshop'!D:O,12,FALSE)=\"Usługa kurierską\"),MAX($P$1:P289)+1,\"\"))","v":""},""]
["",{"$f":"IF(F291=\"\",\"\",VLOOKUP(O291,DATA!R:S,2,FALSE)&VLOOKUP(Zakázky!F291+10000,'Místa dodání'!A:B,2,FALSE))","v":""},"","",{"$f":"IF(F291=\"\",\"\",VLOOKUP(VLOOKUP(F291,'Data eshop'!D:N,11,FALSE),DATA!A:B,2,FALSE))","v":""},{"$f":"IF('Místa dodání'!A292=\"\",\"\",'Místa dodání'!A292-10000)","v":""},{"$f":"IF(F291=\"\",\"\",VLOOKUP(VLOOKUP(F291,'Data eshop'!D:AD,12,FALSE),DATA!D:E,2,FALSE))","v":""},"","","","","","","",{"$f":"IF(A291=\"\",\"\",VLOOKUP(RIGHT(A291,5)*1,'Data eshop'!D:M,10,FALSE))","v":""},{"$f":"IF(A291=\"\",\"\",IF(OR(VLOOKUP(RIGHT(A291,5)*1,'Data eshop'!D:O,12,FALSE)=\"Kurýrní službou\",VLOOKUP(RIGHT(A291,5)*1,'Data eshop'!D:O,12,FALSE)=\"Kuriérskou službou\",VLOOKUP(RIGHT(A291,5)*1,'Data eshop'!D:O,12,FALSE)=\"Usługa kurierską\"),MAX($P$1:P290)+1,\"\"))","v":""},"","Roluj nahoru, až uvidíš žlutou"]
["",{"$f":"IF(F292=\"\",\"\",VLOOKUP(O292,DATA!R:S,2,FALSE)&VLOOKUP(Zakázky!F292+10000,'Místa dodání'!A:B,2,FALSE))","v":""},"","",{"$f":"IF(F292=\"\",\"\",VLOOKUP(VLOOKUP(F292,'Data eshop'!D:N,11,FALSE),DATA!A:B,2,FALSE))","v":""},{"$f":"IF('Místa dodání'!A293=\"\",\"\",'Místa dodání'!A293-10000)","v":""},{"$f":"IF(F292=\"\",\"\",VLOOKUP(VLOOKUP(F292,'Data eshop'!D:AD,12,FALSE),DATA!D:E,2,FALSE))","v":""},"","","","","","","",{"$f":"IF(A292=\"\",\"\",VLOOKUP(RIGHT(A292,5)*1,'Data eshop'!D:M,10,FALSE))","v":""},{"$f":"IF(A292=\"\",\"\",IF(OR(VLOOKUP(RIGHT(A292,5)*1,'Data eshop'!D:O,12,FALSE)=\"Kurýrní službou\",VLOOKUP(RIGHT(A292,5)*1,'Data eshop'!D:O,12,FALSE)=\"Kuriérskou službou\",VLOOKUP(RIGHT(A292,5)*1,'Data eshop'!D:O,12,FALSE)=\"Usługa kurierską\"),MAX($P$1:P291)+1,\"\"))","v":""},""]
["",{"$f":"IF(F293=\"\",\"\",VLOOKUP(O293,DATA!R:S,2,FALSE)&VLOOKUP(Zakázky!F293+10000,'Místa dodání'!A:B,2,FALSE))","v":""},"","",{"$f":"IF(F293=\"\",\"\",VLOOKUP(VLOOKUP(F293,'Data eshop'!D:N,11,FALSE),DATA!A:B,2,FALSE))","v":""},{"$f":"IF('Místa dodání'!A294=\"\",\"\",'Místa dodání'!A294-10000)","v":""},{"$f":"IF(F293=\"\",\"\",VLOOKUP(VLOOKUP(F293,'Data eshop'!D:AD,12,FALSE),DATA!D:E,2,FALSE))","v":""},"","","","","","","",{"$f":"IF(A293=\"\",\"\",VLOOKUP(RIGHT(A293,5)*1,'Data eshop'!D:M,10,FALSE))","v":""},{"$f":"IF(A293=\"\",\"\",IF(OR(VLOOKUP(RIGHT(A293,5)*1,'Data eshop'!D:O,12,FALSE)=\"Kurýrní službou\",VLOOKUP(RIGHT(A293,5)*1,'Data eshop'!D:O,12,FALSE)=\"Kuriérskou službou\",VLOOKUP(RIGHT(A293,5)*1,'Data eshop'!D:O,12,FALSE)=\"Usługa kurierską\"),MAX($P$1:P292)+1,\"\"))","v":""},""]
["",{"$f":"IF(F294=\"\",\"\",VLOOKUP(O294,DATA!R:S,2,FALSE)&VLOOKUP(Zakázky!F294+10000,'Místa dodání'!A:B,2,FALSE))","v":""},"","",{"$f":"IF(F294=\"\",\"\",VLOOKUP(VLOOKUP(F294,'Data eshop'!D:N,11,FALSE),DATA!A:B,2,FALSE))","v":""},{"$f":"IF('Místa dodání'!A295=\"\",\"\",'Místa dodání'!A295-10000)","v":""},{"$f":"IF(F294=\"\",\"\",VLOOKUP(VLOOKUP(F294,'Data eshop'!D:AD,12,FALSE),DATA!D:E,2,FALSE))","v":""},"","","","","","","",{"$f":"IF(A294=\"\",\"\",VLOOKUP(RIGHT(A294,5)*1,'Data eshop'!D:M,10,FALSE))","v":""},{"$f":"IF(A294=\"\",\"\",IF(OR(VLOOKUP(RIGHT(A294,5)*1,'Data eshop'!D:O,12,FALSE)=\"Kurýrní službou\",VLOOKUP(RIGHT(A294,5)*1,'Data eshop'!D:O,12,FALSE)=\"Kuriérskou službou\",VLOOKUP(RIGHT(A294,5)*1,'Data eshop'!D:O,12,FALSE)=\"Usługa kurierską\"),MAX($P$1:P293)+1,\"\"))","v":""},""]
["",{"$f":"IF(F295=\"\",\"\",VLOOKUP(O295,DATA!R:S,2,FALSE)&VLOOKUP(Zakázky!F295+10000,'Místa dodání'!A:B,2,FALSE))","v":""},"","",{"$f":"IF(F295=\"\",\"\",VLOOKUP(VLOOKUP(F295,'Data eshop'!D:N,11,FALSE),DATA!A:B,2,FALSE))","v":""},{"$f":"IF('Místa dodání'!A296=\"\",\"\",'Místa dodání'!A296-10000)","v":""},{"$f":"IF(F295=\"\",\"\",VLOOKUP(VLOOKUP(F295,'Data eshop'!D:AD,12,FALSE),DATA!D:E,2,FALSE))","v":""},"","","","","","","",{"$f":"IF(A295=\"\",\"\",VLOOKUP(RIGHT(A295,5)*1,'Data eshop'!D:M,10,FALSE))","v":""},{"$f":"IF(A295=\"\",\"\",IF(OR(VLOOKUP(RIGHT(A295,5)*1,'Data eshop'!D:O,12,FALSE)=\"Kurýrní službou\",VLOOKUP(RIGHT(A295,5)*1,'Data eshop'!D:O,12,FALSE)=\"Kuriérskou službou\",VLOOKUP(RIGHT(A295,5)*1,'Data eshop'!D:O,12,FALSE)=\"Usługa kurierską\"),MAX($P$1:P294)+1,\"\"))","v":""},"","Roluj nahoru, až uvidíš žlutou"]
["",{"$f":"IF(F296=\"\",\"\",VLOOKUP(O296,DATA!R:S,2,FALSE)&VLOOKUP(Zakázky!F296+10000,'Místa dodání'!A:B,2,FALSE))","v":""},"","",{"$f":"IF(F296=\"\",\"\",VLOOKUP(VLOOKUP(F296,'Data eshop'!D:N,11,FALSE),DATA!A:B,2,FALSE))","v":""},{"$f":"IF('Místa dodání'!A297=\"\",\"\",'Místa dodání'!A297-10000)","v":""},{"$f":"IF(F296=\"\",\"\",VLOOKUP(VLOOKUP(F296,'Data eshop'!D:AD,12,FALSE),DATA!D:E,2,FALSE))","v":""},"","","","","","","",{"$f":"IF(A296=\"\",\"\",VLOOKUP(RIGHT(A296,5)*1,'Data eshop'!D:M,10,FALSE))","v":""},{"$f":"IF(A296=\"\",\"\",IF(OR(VLOOKUP(RIGHT(A296,5)*1,'Data eshop'!D:O,12,FALSE)=\"Kurýrní službou\",VLOOKUP(RIGHT(A296,5)*1,'Data eshop'!D:O,12,FALSE)=\"Kuriérskou službou\",VLOOKUP(RIGHT(A296,5)*1,'Data eshop'!D:O,12,FALSE)=\"Usługa kurierską\"),MAX($P$1:P295)+1,\"\"))","v":""},""]
["",{"$f":"IF(F297=\"\",\"\",VLOOKUP(O297,DATA!R:S,2,FALSE)&VLOOKUP(Zakázky!F297+10000,'Místa dodání'!A:B,2,FALSE))","v":""},"","",{"$f":"IF(F297=\"\",\"\",VLOOKUP(VLOOKUP(F297,'Data eshop'!D:N,11,FALSE),DATA!A:B,2,FALSE))","v":""},{"$f":"IF('Místa dodání'!A298=\"\",\"\",'Místa dodání'!A298-10000)","v":""},{"$f":"IF(F297=\"\",\"\",VLOOKUP(VLOOKUP(F297,'Data eshop'!D:AD,12,FALSE),DATA!D:E,2,FALSE))","v":""},"","","","","","","",{"$f":"IF(A297=\"\",\"\",VLOOKUP(RIGHT(A297,5)*1,'Data eshop'!D:M,10,FALSE))","v":""},{"$f":"IF(A297=\"\",\"\",IF(OR(VLOOKUP(RIGHT(A297,5)*1,'Data eshop'!D:O,12,FALSE)=\"Kurýrní službou\",VLOOKUP(RIGHT(A297,5)*1,'Data eshop'!D:O,12,FALSE)=\"Kuriérskou službou\",VLOOKUP(RIGHT(A297,5)*1,'Data eshop'!D:O,12,FALSE)=\"Usługa kurierską\"),MAX($P$1:P296)+1,\"\"))","v":""},""]
["",{"$f":"IF(F298=\"\",\"\",VLOOKUP(O298,DATA!R:S,2,FALSE)&VLOOKUP(Zakázky!F298+10000,'Místa dodání'!A:B,2,FALSE))","v":""},"","",{"$f":"IF(F298=\"\",\"\",VLOOKUP(VLOOKUP(F298,'Data eshop'!D:N,11,FALSE),DATA!A:B,2,FALSE))","v":""},{"$f":"IF('Místa dodání'!A299=\"\",\"\",'Místa dodání'!A299-10000)","v":""},{"$f":"IF(F298=\"\",\"\",VLOOKUP(VLOOKUP(F298,'Data eshop'!D:AD,12,FALSE),DATA!D:E,2,FALSE))","v":""},"","","","","","","",{"$f":"IF(A298=\"\",\"\",VLOOKUP(RIGHT(A298,5)*1,'Data eshop'!D:M,10,FALSE))","v":""},{"$f":"IF(A298=\"\",\"\",IF(OR(VLOOKUP(RIGHT(A298,5)*1,'Data eshop'!D:O,12,FALSE)=\"Kurýrní službou\",VLOOKUP(RIGHT(A298,5)*1,'Data eshop'!D:O,12,FALSE)=\"Kuriérskou službou\",VLOOKUP(RIGHT(A298,5)*1,'Data eshop'!D:O,12,FALSE)=\"Usługa kurierską\"),MAX($P$1:P297)+1,\"\"))","v":""},""]
["",{"$f":"IF(F299=\"\",\"\",VLOOKUP(O299,DATA!R:S,2,FALSE)&VLOOKUP(Zakázky!F299+10000,'Místa dodání'!A:B,2,FALSE))","v":""},"","",{"$f":"IF(F299=\"\",\"\",VLOOKUP(VLOOKUP(F299,'Data eshop'!D:N,11,FALSE),DATA!A:B,2,FALSE))","v":""},{"$f":"IF('Místa dodání'!A300=\"\",\"\",'Místa dodání'!A300-10000)","v":""},{"$f":"IF(F299=\"\",\"\",VLOOKUP(VLOOKUP(F299,'Data eshop'!D:AD,12,FALSE),DATA!D:E,2,FALSE))","v":""},"","","","","","","",{"$f":"IF(A299=\"\",\"\",VLOOKUP(RIGHT(A299,5)*1,'Data eshop'!D:M,10,FALSE))","v":""},{"$f":"IF(A299=\"\",\"\",IF(OR(VLOOKUP(RIGHT(A299,5)*1,'Data eshop'!D:O,12,FALSE)=\"Kurýrní službou\",VLOOKUP(RIGHT(A299,5)*1,'Data eshop'!D:O,12,FALSE)=\"Kuriérskou službou\",VLOOKUP(RIGHT(A299,5)*1,'Data eshop'!D:O,12,FALSE)=\"Usługa kurierską\"),MAX($P$1:P298)+1,\"\"))","v":""},""]

{"sheet":"Řádky zakázky","index":3,"n_rows":298,"n_cols":17,"rows_kept":298,"cut":false,"hidden":false,"merged":[]}
["ZA/NO","Pol.","Obj.množ.","MJ","Jedn. cena","Sleva ZA %","Sl. z prod.","Stav","Plnění","Sklad","Pol. zákazníka","Objednávka","Řádek","Cena Obj","Partner","Celkem položka"]
[{"$f":"IFERROR(IF(L2=\"\",\"\",\"19ESh\"&IF(LEN(L2)=4,\"0\",\"\")&L2),\"\")","v":"19ESh0"},{"$f":"IFERROR(IF(ISNUMBER(L2),VLOOKUP(L2&\"-\"&M2,'Data eshop'!B:Q,16,FALSE),IF(RIGHT(L3,1)=\"x\",\"Na dobírku\",IF(RIGHT(L3,1)=\"y\",\"Dopravné\",\"\"))),\"\")","v":""},{"$f":"IFERROR(IF(A2=\"\",\"\",IF(LEFT(B2,3)=\"uni\",1,VLOOKUP(RIGHT(A2,5)&\"-\"&B2,'Data eshop'!A:R,18,FALSE))),\"\")","v":""},{"$f":"IF(C2=\"\",\"\",\"KS\")","v":""},{"$f":"IFERROR(IF(A2=\"\",\"\",IF(LEFT(B2,3)=\"uni\",VLOOKUP(B2,DATA!I:X,IF(O2=\"T7\",3,IF(O2=\"E87\",4,IF(O2=\"P2\",5,IF(O2=\"E2695\",6,\"\")))),FALSE),VLOOKUP(RIGHT(A2,5)&\"-\"&B2,'Data eshop'!A:S,19,FALSE))),\"\")","v":""},{"$f":"IFERROR(IF(A2=\"\",\"\",IF(LEFT(B2,3)=\"uni\",0,VLOOKUP(RIGHT(A2,5)&\"-\"&B2,'Data eshop'!A:S,16,FALSE))),\"\")","v":""},null,{"$f":"IF(C2=\"\",\"\",\"Objednáno\")","v":""},{"$f":"IF(H2=\"\",\"\",WORKDAY(TODAY()+IF(VLOOKUP(VLOOKUP(RIGHT(A2,5)*1,'Data eshop'!D:N,11,FALSE),DATA!A:B,2,FALSE)=7,14,1),5))","v":""},{"$f":"IF(C2=\"\",\"\",\"SKL\")","v":""},{"$f":"IF(B2=\"\",\"\",IF(ISNUMBER(FIND(\"uni0\",B2)),B2,\"\"))","v":""},{"$f":"IFERROR(VLOOKUP(M2,'Data eshop'!C:D,2,FALSE),\"\")","v":0},1,{"$f":"IF(A2=\"\",\"\",VLOOKUP(RIGHT(A2,5)*1,'Data eshop'!D:W,17,FALSE))","v":{"$error":"#VALUE!"}},{"$f":"VLOOKUP(A2,Zakázky!A:B,2,FALSE)","v":{"$error":"#N/A"}},{"$f":"IF(C2=\"\",\"\",IF(E2=0.00001,0,E2*C2))","v":""}]
[{"$f":"IFERROR(IF(L3=\"\",\"\",IF(RIGHT(L3,1)=\"x\",A2,IF(RIGHT(L3,1)=\"y\",A2,\"19ESh\"&IF(LEN(L3)=4,\"0\",\"\")&L3))),\"\")","v":"19ESh0"},{"$f":"IFERROR(IF(ISNUMBER(L3),VLOOKUP(L3&\"-\"&M3,'Data eshop'!B:W,16,FALSE),IF(RIGHT(L3,1)=\"x\",VLOOKUP(VLOOKUP(RIGHT(A3,5)*1,'Data eshop'!D:N,11,FALSE),DATA!G:I,3,FALSE),IF(RIGHT(L3,1)=\"y\",IF(VLOOKUP(RIGHT(A3,5)*1,'Data eshop'!D:O,12,FALSE)=IF(O3=\"T7\",DATA!$D$2,IF(O3=\"E87\",DATA!$D$5,IF(O3=\"P2\",DATA!$D$6,IF(O3=\"e2695\",DATA!$D$7,\"\")))),IF(N3>=IF(O3=\"T7\",DATA!$K$11,IF(O3=\"E87\",DATA!$L$11,IF(O3=\"P2\",DATA!$M$11,IF(O3=\"e2695\",DATA!$N$11,\"\")))),\"uni008\",\"uni001\"),IF(VLOOKUP(RIGHT(A3,5)*1,'Data eshop'!D:O,12,FALSE)=DATA!$D$3,IF(O3=\"T7\",IF(N3>=500,\"uni009\",\"uni002\"),\"x\"),IF(VLOOKUP(RIGHT(A3,5)*1,'Data eshop'!D:O,12,FALSE)=DATA!$D$4,\"uni010\",\"\"))),\"\"))),\"\")","v":""},{"$f":"IFERROR(IF(A3=\"\",\"\",IF(LEFT(B3,3)=\"uni\",1,VLOOKUP(RIGHT(A3,5)&\"-\"&B3,'Data eshop'!A:R,18,FALSE))),\"\")","v":""},"",{"$f":"IFERROR(IF(A3=\"\",\"\",IF(LEFT(B3,3)=\"uni\",VLOOKUP(B3,DATA!I:X,IF(O3=\"T7\",3,IF(O3=\"E87\",4,IF(O3=\"P2\",5,IF(O3=\"E2695\",6,\"\")))),FALSE),VLOOKUP(RIGHT(A3,5)&\"-\"&B3,'Data eshop'!A:S,19,FALSE))),\"\")","v":""},{"$f":"IFERROR(IF(A3=\"\",\"\",IF(LEFT(B3,3)=\"uni\",0,VLOOKUP(RIGHT(A3,5)&\"-\"&B3,'Data eshop'!A:S,16,FALSE))),\"\")","v":""},null,"",{"$f":"IF(H3=\"\",\"\",WORKDAY(TODAY()+IF(VLOOKUP(VLOOKUP(RIGHT(A3,5)*1,'Data eshop'!D:N,11,FALSE),DATA!A:B,2,FALSE)=7,14,1),5))","v":""},"","",{"$f":"IF(L2=\"\",\"\",IF(L2=RIGHT(A2,5)&\"x\",LEFT(L2,LEN(L2)-1)&\"y\",IF(L2=RIGHT(A2,5)&\"y\",IFERROR(SMALL('Data eshop'!D:D,COUNTIF('Data eshop'!D:D,\"<\"&(LEFT(L2,LEN(L2)-1)*1))),\"\"),IF(ISERROR(IF(VLOOKUP(M2+1,'Data eshop'!C:D,2,FALSE)='Řádky zakázky'!L2,L2,L2&\"x\")),IF(RIGHT(L2,1)=\"y\",\"\",L2&\"x\"),IF(VLOOKUP(M2+1,'Data eshop'!C:D,2,FALSE)='Řádky zakázky'!L2,L2,L2&\"x\")))))","v":"0x"},{"$f":"IF(L3=\"\",\"\",IF(RIGHT(L3,1)=\"x\",M2,IF(RIGHT(L3,1)=\"y\",M2,M2+1)))","v":1},{"$f":"IF(A3=\"\",\"\",VLOOKUP(RIGHT(A3,5)*1,'Data eshop'!D:W,17,FALSE))","v":{"$error":"#VALUE!"}},{"$f":"VLOOKUP(A3,Zakázky!A:B,2,FALSE)","v":{"$error":"#N/A"}},""]
["19ESh0",{"$f":"IFERROR(IF(ISNUMBER(L4),VLOOKUP(L4&\"-\"&M4,'Data eshop'!B:W,16,FALSE),IF(RIGHT(L4,1)=\"x\",VLOOKUP(VLOOKUP(RIGHT(A4,5)*1,'Data eshop'!D:N,11,FALSE),DATA!G:I,3,FALSE),IF(RIGHT(L4,1)=\"y\",IF(VLOOKUP(RIGHT(A4,5)*1,'Data eshop'!D:O,12,FALSE)=IF(O4=\"T7\",DATA!$D$2,IF(O4=\"E87\",DATA!$D$5,IF(O4=\"P2\",DATA!$D$6,IF(O4=\"e2695\",DATA!$D$7,\"\")))),IF(N4>=IF(O4=\"T7\",DATA!$K$11,IF(O4=\"E87\",DATA!$L$11,IF(O4=\"P2\",DATA!$M$11,IF(O4=\"e2695\",DATA!$N$11,\"\")))),\"uni008\",\"uni001\"),IF(VLOOKUP(RIGHT(A4,5)*1,'Data eshop'!D:O,12,FALSE)=DATA!$D$3,IF(O4=\"T7\",IF(N4>=500,\"uni009\",\"uni002\"),\"x\"),IF(VLOOKUP(RIGHT(A4,5)*1,'Data eshop'!D:O,12,FALSE)=DATA!$D$4,\"uni010\",\"\"))),\"\"))),\"\")","v":""},{"$f":"IFERROR(IF(A4=\"\",\"\",IF(LEFT(B4,3)=\"uni\",1,VLOOKUP(RIGHT(A4,5)&\"-\"&B4,'Data eshop'!A:R,18,FALSE))),\"\")","v":""},"",{"$f":"IFERROR(IF(A4=\"\",\"\",IF(LEFT(B4,3)=\"uni\",VLOOKUP(B4,DATA!I:X,IF(O4=\"T7\",3,IF(O4=\"E87\",4,IF(O4=\"P2\",5,IF(O4=\"E2695\",6,\"\")))),FALSE),VLOOKUP(RIGHT(A4,5)&\"-\"&B4,'Data eshop'!A:S,19,FALSE))),\"\")","v":""},{"$f":"IFERROR(IF(A4=\"\",\"\",IF(LEFT(B4,3)=\"uni\",0,VLOOKUP(RIGHT(A4,5)&\"-\"&B4,'Data eshop'!A:S,16,FALSE))),\"\")","v":""},null,"",{"$f":"IF(H4=\"\",\"\",WORKDAY(TODAY()+IF(VLOOKUP(VLOOKUP(RIGHT(A4,5)*1,'Data eshop'!D:N,11,FALSE),DATA!A:B,2,FALSE)=7,14,1),5))","v":""},"","",{"$f":"IF(L3=\"\",\"\",IF(L3=RIGHT(A3,5)&\"x\",LEFT(L3,LEN(L3)-1)&\"y\",IF(L3=RIGHT(A3,5)&\"y\",IFERROR(SMALL('Data eshop'!D:D,COUNTIF('Data eshop'!D:D,\"<\"&(LEFT(L3,LEN(L3)-1)*1))),\"\"),IF(ISERROR(IF(VLOOKUP(M3+1,'Data eshop'!C:D,2,FALSE)='Řádky zakázky'!L3,L3,L3&\"x\")),IF(RIGHT(L3,1)=\"y\",\"\",L3&\"x\"),IF(VLOOKUP(M3+1,'Data eshop'!C:D,2,FALSE)='Řádky zakázky'!L3,L3,L3&\"x\")))))","v":"0xx"},{"$f":"IF(L4=\"\",\"\",IF(RIGHT(L4,1)=\"x\",M3,IF(RIGHT(L4,1)=\"y\",M3,M3+1)))","v":1},{"$f":"IF(A4=\"\",\"\",VLOOKUP(RIGHT(A4,5)*1,'Data eshop'!D:W,17,FALSE))","v":{"$error":"#VALUE!"}},{"$f":"VLOOKUP(A4,Zakázky!A:B,2,FALSE)","v":{"$error":"#N/A"}},"","Roluj nahoru, až uvidíš žlutou"]
["19ESh0",{"$f":"IFERROR(IF(ISNUMBER(L5),VLOOKUP(L5&\"-\"&M5,'Data eshop'!B:W,16,FALSE),IF(RIGHT(L5,1)=\"x\",VLOOKUP(VLOOKUP(RIGHT(A5,5)*1,'Data eshop'!D:N,11,FALSE),DATA!G:I,3,FALSE),IF(RIGHT(L5,1)=\"y\",IF(VLOOKUP(RIGHT(A5,5)*1,'Data eshop'!D:O,12,FALSE)=IF(O5=\"T7\",DATA!$D$2,IF(O5=\"E87\",DATA!$D$5,IF(O5=\"P2\",DATA!$D$6,IF(O5=\"e2695\",DATA!$D$7,\"\")))),IF(N5>=IF(O5=\"T7\",DATA!$K$11,IF(O5=\"E87\",DATA!$L$11,IF(O5=\"P2\",DATA!$M$11,IF(O5=\"e2695\",DATA!$N$11,\"\")))),\"uni008\",\"uni001\"),IF(VLOOKUP(RIGHT(A5,5)*1,'Data eshop'!D:O,12,FALSE)=DATA!$D$3,IF(O5=\"T7\",IF(N5>=500,\"uni009\",\"uni002\"),\"x\"),IF(VLOOKUP(RIGHT(A5,5)*1,'Data eshop'!D:O,12,FALSE)=DATA!$D$4,\"uni010\",\"\"))),\"\"))),\"\")","v":""},{"$f":"IFERROR(IF(A5=\"\",\"\",IF(LEFT(B5,3)=\"uni\",1,VLOOKUP(RIGHT(A5,5)&\"-\"&B5,'Data eshop'!A:R,18,FALSE))),\"\")","v":""},"",{"$f":"IFERROR(IF(A5=\"\",\"\",IF(LEFT(B5,3)=\"uni\",VLOOKUP(B5,DATA!I:X,IF(O5=\"T7\",3,IF(O5=\"E87\",4,IF(O5=\"P2\",5,IF(O5=\"E2695\",6,\"\")))),FALSE),VLOOKUP(RIGHT(A5,5)&\"-\"&B5,'Data eshop'!A:S,19,FALSE))),\"\")","v":""},{"$f":"IFERROR(IF(A5=\"\",\"\",IF(LEFT(B5,3)=\"uni\",0,VLOOKUP(RIGHT(A5,5)&\"-\"&B5,'Data eshop'!A:S,16,FALSE))),\"\")","v":""},null,"",{"$f":"IF(H5=\"\",\"\",WORKDAY(TODAY()+IF(VLOOKUP(VLOOKUP(RIGHT(A5,5)*1,'Data eshop'!D:N,11,FALSE),DATA!A:B,2,FALSE)=7,14,1),5))","v":""},"","",{"$f":"IF(L4=\"\",\"\",IF(L4=RIGHT(A4,5)&\"x\",LEFT(L4,LEN(L4)-1)&\"y\",IF(L4=RIGHT(A4,5)&\"y\",IFERROR(SMALL('Data eshop'!D:D,COUNTIF('Data eshop'!D:D,\"<\"&(LEFT(L4,LEN(L4)-1)*1))),\"\"),IF(ISERROR(IF(VLOOKUP(M4+1,'Data eshop'!C:D,2,FALSE)='Řádky zakázky'!L4,L4,L4&\"x\")),IF(RIGHT(L4,1)=\"y\",\"\",L4&\"x\"),IF(VLOOKUP(M4+1,'Data eshop'!C:D,2,FALSE)='Řádky zakázky'!L4,L4,L4&\"x\")))))","v":"0xxx"},1,{"$f":"IF(A5=\"\",\"\",VLOOKUP(RIGHT(A5,5)*1,'Data eshop'!D:W,17,FALSE))","v":{"$error":"#VALUE!"}},{"$f":"VLOOKUP(A5,Zakázky!A:B,2,FALSE)","v":{"$error":"#N/A"}},""]
["19ESh0",{"$f":"IFERROR(IF(ISNUMBER(L6),VLOOKUP(L6&\"-\"&M6,'Data eshop'!B:W,16,FALSE),IF(RIGHT(L6,1)=\"x\",VLOOKUP(VLOOKUP(RIGHT(A6,5)*1,'Data eshop'!D:N,11,FALSE),DATA!G:I,3,FALSE),IF(RIGHT(L6,1)=\"y\",IF(VLOOKUP(RIGHT(A6,5)*1,'Data eshop'!D:O,12,FALSE)=IF(O6=\"T7\",DATA!$D$2,IF(O6=\"E87\",DATA!$D$5,IF(O6=\"P2\",DATA!$D$6,IF(O6=\"e2695\",DATA!$D$7,\"\")))),IF(N6>=IF(O6=\"T7\",DATA!$K$11,IF(O6=\"E87\",DATA!$L$11,IF(O6=\"P2\",DATA!$M$11,IF(O6=\"e2695\",DATA!$N$11,\"\")))),\"uni008\",\"uni001\"),IF(VLOOKUP(RIGHT(A6,5)*1,'Data eshop'!D:O,12,FALSE)=DATA!$D$3,IF(O6=\"T7\",IF(N6>=500,\"uni009\",\"uni002\"),\"x\"),IF(VLOOKUP(RIGHT(A6,5)*1,'Data eshop'!D:O,12,FALSE)=DATA!$D$4,\"uni010\",\"\"))),\"\"))),\"\")","v":""},{"$f":"IFERROR(IF(A6=\"\",\"\",IF(LEFT(B6,3)=\"uni\",1,VLOOKUP(RIGHT(A6,5)&\"-\"&B6,'Data eshop'!A:R,18,FALSE))),\"\")","v":""},"",{"$f":"IFERROR(IF(A6=\"\",\"\",IF(LEFT(B6,3)=\"uni\",VLOOKUP(B6,DATA!I:X,IF(O6=\"T7\",3,IF(O6=\"E87\",4,IF(O6=\"P2\",5,IF(O6=\"E2695\",6,\"\")))),FALSE),VLOOKUP(RIGHT(A6,5)&\"-\"&B6,'Data eshop'!A:S,19,FALSE))),\"\")","v":""},{"$f":"IFERROR(IF(A6=\"\",\"\",IF(LEFT(B6,3)=\"uni\",0,VLOOKUP(RIGHT(A6,5)&\"-\"&B6,'Data eshop'!A:S,16,FALSE))),\"\")","v":""},null,"",{"$f":"IF(H6=\"\",\"\",WORKDAY(TODAY()+IF(VLOOKUP(VLOOKUP(RIGHT(A6,5)*1,'Data eshop'!D:N,11,FALSE),DATA!A:B,2,FALSE)=7,14,1),5))","v":""},"","",{"$f":"IF(L5=\"\",\"\",IF(L5=RIGHT(A5,5)&\"x\",LEFT(L5,LEN(L5)-1)&\"y\",IF(L5=RIGHT(A5,5)&\"y\",IFERROR(SMALL('Data eshop'!D:D,COUNTIF('Data eshop'!D:D,\"<\"&(LEFT(L5,LEN(L5)-1)*1))),\"\"),IF(ISERROR(IF(VLOOKUP(M5+1,'Data eshop'!C:D,2,FALSE)='Řádky zakázky'!L5,L5,L5&\"x\")),IF(RIGHT(L5,1)=\"y\",\"\",L5&\"x\"),IF(VLOOKUP(M5+1,'Data eshop'!C:D,2,FALSE)='Řádky zakázky'!L5,L5,L5&\"x\")))))","v":"0xxxx"},1,{"$f":"IF(A6=\"\",\"\",VLOOKUP(RIGHT(A6,5)*1,'Data eshop'!D:W,17,FALSE))","v":{"$error":"#VALUE!"}},{"$f":"VLOOKUP(A6,Zakázky!A:B,2,FALSE)","v":{"$error":"#N/A"}},""]
["19ESh0",{"$f":"IFERROR(IF(ISNUMBER(L7),VLOOKUP(L7&\"-\"&M7,'Data eshop'!B:W,16,FALSE),IF(RIGHT(L7,1)=\"x\",VLOOKUP(VLOOKUP(RIGHT(A7,5)*1,'Data eshop'!D:N,11,FALSE),DATA!G:I,3,FALSE),IF(RIGHT(L7,1)=\"y\",IF(VLOOKUP(RIGHT(A7,5)*1,'Data eshop'!D:O,12,FALSE)=IF(O7=\"T7\",DATA!$D$2,IF(O7=\"E87\",DATA!$D$5,IF(O7=\"P2\",DATA!$D$6,IF(O7=\"e2695\",DATA!$D$7,\"\")))),IF(N7>=IF(O7=\"T7\",DATA!$K$11,IF(O7=\"E87\",DATA!$L$11,IF(O7=\"P2\",DATA!$M$11,IF(O7=\"e2695\",DATA!$N$11,\"\")))),\"uni008\",\"uni001\"),IF(VLOOKUP(RIGHT(A7,5)*1,'Data eshop'!D:O,12,FALSE)=DATA!$D$3,IF(O7=\"T7\",IF(N7>=500,\"uni009\",\"uni002\"),\"x\"),IF(VLOOKUP(RIGHT(A7,5)*1,'Data eshop'!D:O,12,FALSE)=DATA!$D$4,\"uni010\",\"\"))),\"\"))),\"\")","v":""},{"$f":"IFERROR(IF(A7=\"\",\"\",IF(LEFT(B7,3)=\"uni\",1,VLOOKUP(RIGHT(A7,5)&\"-\"&B7,'Data eshop'!A:R,18,FALSE))),\"\")","v":""},"",{"$f":"IFERROR(IF(A7=\"\",\"\",IF(LEFT(B7,3)=\"uni\",VLOOKUP(B7,DATA!I:X,IF(O7=\"T7\",3,IF(O7=\"E87\",4,IF(O7=\"P2\",5,IF(O7=\"E2695\",6,\"\")))),FALSE),VLOOKUP(RIGHT(A7,5)&\"-\"&B7,'Data eshop'!A:S,19,FALSE))),\"\")","v":""},{"$f":"IFERROR(IF(A7=\"\",\"\",IF(LEFT(B7,3)=\"uni\",0,VLOOKUP(RIGHT(A7,5)&\"-\"&B7,'Data eshop'!A:S,16,FALSE))),\"\")","v":""},null,"",{"$f":"IF(H7=\"\",\"\",WORKDAY(TODAY()+IF(VLOOKUP(VLOOKUP(RIGHT(A7,5)*1,'Data eshop'!D:N,11,FALSE),DATA!A:B,2,FALSE)=7,14,1),5))","v":""},"","",{"$f":"IF(L6=\"\",\"\",IF(L6=RIGHT(A6,5)&\"x\",LEFT(L6,LEN(L6)-1)&\"y\",IF(L6=RIGHT(A6,5)&\"y\",IFERROR(SMALL('Data eshop'!D:D,COUNTIF('Data eshop'!D:D,\"<\"&(LEFT(L6,LEN(L6)-1)*1))),\"\"),IF(ISERROR(IF(VLOOKUP(M6+1,'Data eshop'!C:D,2,FALSE)='Řádky zakázky'!L6,L6,L6&\"x\")),IF(RIGHT(L6,1)=\"y\",\"\",L6&\"x\"),IF(VLOOKUP(M6+1,'Data eshop'!C:D,2,FALSE)='Řádky zakázky'!L6,L6,L6&\"x\")))))","v":"0xxxxx"},1,{"$f":"IF(A7=\"\",\"\",VLOOKUP(RIGHT(A7,5)*1,'Data eshop'!D:W,17,FALSE))","v":{"$error":"#VALUE!"}},{"$f":"VLOOKUP(A7,Zakázky!A:B,2,FALSE)","v":{"$error":"#N/A"}},""]
["19ESh0",{"$f":"IFERROR(IF(ISNUMBER(L8),VLOOKUP(L8&\"-\"&M8,'Data eshop'!B:W,16,FALSE),IF(RIGHT(L8,1)=\"x\",VLOOKUP(VLOOKUP(RIGHT(A8,5)*1,'Data eshop'!D:N,11,FALSE),DATA!G:I,3,FALSE),IF(RIGHT(L8,1)=\"y\",IF(VLOOKUP(RIGHT(A8,5)*1,'Data eshop'!D:O,12,FALSE)=IF(O8=\"T7\",DATA!$D$2,IF(O8=\"E87\",DATA!$D$5,IF(O8=\"P2\",DATA!$D$6,IF(O8=\"e2695\",DATA!$D$7,\"\")))),IF(N8>=IF(O8=\"T7\",DATA!$K$11,IF(O8=\"E87\",DATA!$L$11,IF(O8=\"P2\",DATA!$M$11,IF(O8=\"e2695\",DATA!$N$11,\"\")))),\"uni008\",\"uni001\"),IF(VLOOKUP(RIGHT(A8,5)*1,'Data eshop'!D:O,12,FALSE)=DATA!$D$3,IF(O8=\"T7\",IF(N8>=500,\"uni009\",\"uni002\"),\"x\"),IF(VLOOKUP(RIGHT(A8,5)*1,'Data eshop'!D:O,12,FALSE)=DATA!$D$4,\"uni010\",\"\"))),\"\"))),\"\")","v":""},{"$f":"IFERROR(IF(A8=\"\",\"\",IF(LEFT(B8,3)=\"uni\",1,VLOOKUP(RIGHT(A8,5)&\"-\"&B8,'Data eshop'!A:R,18,FALSE))),\"\")","v":""},"",{"$f":"IFERROR(IF(A8=\"\",\"\",IF(LEFT(B8,3)=\"uni\",VLOOKUP(B8,DATA!I:X,IF(O8=\"T7\",3,IF(O8=\"E87\",4,IF(O8=\"P2\",5,IF(O8=\"E2695\",6,\"\")))),FALSE),VLOOKUP(RIGHT(A8,5)&\"-\"&B8,'Data eshop'!A:S,19,FALSE))),\"\")","v":""},{"$f":"IFERROR(IF(A8=\"\",\"\",IF(LEFT(B8,3)=\"uni\",0,VLOOKUP(RIGHT(A8,5)&\"-\"&B8,'Data eshop'!A:S,16,FALSE))),\"\")","v":""},null,"",{"$f":"IF(H8=\"\",\"\",WORKDAY(TODAY()+IF(VLOOKUP(VLOOKUP(RIGHT(A8,5)*1,'Data eshop'!D:N,11,FALSE),DATA!A:B,2,FALSE)=7,14,1),5))","v":""},"","",{"$f":"IF(L7=\"\",\"\",IF(L7=RIGHT(A7,5)&\"x\",LEFT(L7,LEN(L7)-1)&\"y\",IF(L7=RIGHT(A7,5)&\"y\",IFERROR(SMALL('Data eshop'!D:D,COUNTIF('Data eshop'!D:D,\"<\"&(LEFT(L7,LEN(L7)-1)*1))),\"\"),IF(ISERROR(IF(VLOOKUP(M7+1,'Data eshop'!C:D,2,FALSE)='Řádky zakázky'!L7,L7,L7&\"x\")),IF(RIGHT(L7,1)=\"y\",\"\",L7&\"x\"),IF(VLOOKUP(M7+1,'Data eshop'!C:D,2,FALSE)='Řádky zakázky'!L7,L7,L7&\"x\")))))","v":"0xxxxxx"},1,{"$f":"IF(A8=\"\",\"\",VLOOKUP(RIGHT(A8,5)*1,'Data eshop'!D:W,17,FALSE))","v":{"$error":"#VALUE!"}},{"$f":"VLOOKUP(A8,Zakázky!A:B,2,FALSE)","v":{"$error":"#N/A"}},"","Roluj nahoru, až uvidíš žlutou"]
["19ESh0",{"$f":"IFERROR(IF(ISNUMBER(L9),VLOOKUP(L9&\"-\"&M9,'Data eshop'!B:W,16,FALSE),IF(RIGHT(L9,1)=\"x\",VLOOKUP(VLOOKUP(RIGHT(A9,5)*1,'Data eshop'!D:N,11,FALSE),DATA!G:I,3,FALSE),IF(RIGHT(L9,1)=\"y\",IF(VLOOKUP(RIGHT(A9,5)*1,'Data eshop'!D:O,12,FALSE)=IF(O9=\"T7\",DATA!$D$2,IF(O9=\"E87\",DATA!$D$5,IF(O9=\"P2\",DATA!$D$6,IF(O9=\"e2695\",DATA!$D$7,\"\")))),IF(N9>=IF(O9=\"T7\",DATA!$K$11,IF(O9=\"E87\",DATA!$L$11,IF(O9=\"P2\",DATA!$M$11,IF(O9=\"e2695\",DATA!$N$11,\"\")))),\"uni008\",\"uni001\"),IF(VLOOKUP(RIGHT(A9,5)*1,'Data eshop'!D:O,12,FALSE)=DATA!$D$3,IF(O9=\"T7\",IF(N9>=500,\"uni009\",\"uni002\"),\"x\"),IF(VLOOKUP(RIGHT(A9,5)*1,'Data eshop'!D:O,12,FALSE)=DATA!$D$4,\"uni010\",\"\"))),\"\"))),\"\")","v":""},{"$f":"IFERROR(IF(A9=\"\",\"\",IF(LEFT(B9,3)=\"uni\",1,VLOOKUP(RIGHT(A9,5)&\"-\"&B9,'Data eshop'!A:R,18,FALSE))),\"\")","v":""},"",{"$f":"IFERROR(IF(A9=\"\",\"\",IF(LEFT(B9,3)=\"uni\",VLOOKUP(B9,DATA!I:X,IF(O9=\"T7\",3,IF(O9=\"E87\",4,IF(O9=\"P2\",5,IF(O9=\"E2695\",6,\"\")))),FALSE),VLOOKUP(RIGHT(A9,5)&\"-\"&B9,'Data eshop'!A:S,19,FALSE))),\"\")","v":""},{"$f":"IFERROR(IF(A9=\"\",\"\",IF(LEFT(B9,3)=\"uni\",0,VLOOKUP(RIGHT(A9,5)&\"-\"&B9,'Data eshop'!A:S,16,FALSE))),\"\")","v":""},null,"",{"$f":"IF(H9=\"\",\"\",WORKDAY(TODAY()+IF(VLOOKUP(VLOOKUP(RIGHT(A9,5)*1,'Data eshop'!D:N,11,FALSE),DATA!A:B,2,FALSE)=7,14,1),5))","v":""},"","",{"$f":"IF(L8=\"\",\"\",IF(L8=RIGHT(A8,5)&\"x\",LEFT(L8,LEN(L8)-1)&\"y\",IF(L8=RIGHT(A8,5)&\"y\",IFERROR(SMALL('Data eshop'!D:D,COUNTIF('Data eshop'!D:D,\"<\"&(LEFT(L8,LEN(L8)-1)*1))),\"\"),IF(ISERROR(IF(VLOOKUP(M8+1,'Data eshop'!C:D,2,FALSE)='Řádky zakázky'!L8,L8,L8&\"x\")),IF(RIGHT(L8,1)=\"y\",\"\",L8&\"x\"),IF(VLOOKUP(M8+1,'Data eshop'!C:D,2,FALSE)='Řádky zakázky'!L8,L8,L8&\"x\")))))","v":"0xxxxxxx"},1,{"$f":"IF(A9=\"\",\"\",VLOOKUP(RIGHT(A9,5)*1,'Data eshop'!D:W,17,FALSE))","v":{"$error":"#VALUE!"}},{"$f":"VLOOKUP(A9,Zakázky!A:B,2,FALSE)","v":{"$error":"#N/A"}},""]
["19ESh0",{"$f":"IFERROR(IF(ISNUMBER(L10),VLOOKUP(L10&\"-\"&M10,'Data eshop'!B:W,16,FALSE),IF(RIGHT(L10,1)=\"x\",VLOOKUP(VLOOKUP(RIGHT(A10,5)*1,'Data eshop'!D:N,11,FALSE),DATA!G:I,3,FALSE),IF(RIGHT(L10,1)=\"y\",IF(VLOOKUP(RIGHT(A10,5)*1,'Data eshop'!D:O,12,FALSE)=IF(O10=\"T7\",DATA!$D$2,IF(O10=\"E87\",DATA!$D$5,IF(O10=\"P2\",DATA!$D$6,IF(O10=\"e2695\",DATA!$D$7,\"\")))),IF(N10>=IF(O10=\"T7\",DATA!$K$11,IF(O10=\"E87\",DATA!$L$11,IF(O10=\"P2\",DATA!$M$11,IF(O10=\"e2695\",DATA!$N$11,\"\")))),\"uni008\",\"uni001\"),IF(VLOOKUP(RIGHT(A10,5)*1,'Data eshop'!D:O,12,FALSE)=DATA!$D$3,IF(O10=\"T7\",IF(N10>=500,\"uni009\",\"uni002\"),\"x\"),IF(VLOOKUP(RIGHT(A10,5)*1,'Data eshop'!D:O,12,FALSE)=DATA!$D$4,\"uni010\",\"\"))),\"\"))),\"\")","v":""},{"$f":"IFERROR(IF(A10=\"\",\"\",IF(LEFT(B10,3)=\"uni\",1,VLOOKUP(RIGHT(A10,5)&\"-\"&B10,'Data eshop'!A:R,18,FALSE))),\"\")","v":""},"",{"$f":"IFERROR(IF(A10=\"\",\"\",IF(LEFT(B10,3)=\"uni\",VLOOKUP(B10,DATA!I:X,IF(O10=\"T7\",3,IF(O10=\"E87\",4,IF(O10=\"P2\",5,IF(O10=\"E2695\",6,\"\")))),FALSE),VLOOKUP(RIGHT(A10,5)&\"-\"&B10,'Data eshop'!A:S,19,FALSE))),\"\")","v":""},{"$f":"IFERROR(IF(A10=\"\",\"\",IF(LEFT(B10,3)=\"uni\",0,VLOOKUP(RIGHT(A10,5)&\"-\"&B10,'Data eshop'!A:S,16,FALSE))),\"\")","v":""},null,"",{"$f":"IF(H10=\"\",\"\",WORKDAY(TODAY()+IF(VLOOKUP(VLOOKUP(RIGHT(A10,5)*1,'Data eshop'!D:N,11,FALSE),DATA!A:B,2,FALSE)=7,14,1),5))","v":""},"","",{"$f":"IF(L9=\"\",\"\",IF(L9=RIGHT(A9,5)&\"x\",LEFT(L9,LEN(L9)-1)&\"y\",IF(L9=RIGHT(A9,5)&\"y\",IFERROR(SMALL('Data eshop'!D:D,COUNTIF('Data eshop'!D:D,\"<\"&(LEFT(L9,LEN(L9)-1)*1))),\"\"),IF(ISERROR(IF(VLOOKUP(M9+1,'Data eshop'!C:D,2,FALSE)='Řádky zakázky'!L9,L9,L9&\"x\")),IF(RIGHT(L9,1)=\"y\",\"\",L9&\"x\"),IF(VLOOKUP(M9+1,'Data eshop'!C:D,2,FALSE)='Řádky zakázky'!L9,L9,L9&\"x\")))))","v":"0xxxxxxxx"},1,{"$f":"IF(A10=\"\",\"\",VLOOKUP(RIGHT(A10,5)*1,'Data eshop'!D:W,17,FALSE))","v":{"$error":"#VALUE!"}},{"$f":"VLOOKUP(A10,Zakázky!A:B,2,FALSE)","v":{"$error":"#N/A"}},""]
["19ESh0",{"$f":"IFERROR(IF(ISNUMBER(L11),VLOOKUP(L11&\"-\"&M11,'Data eshop'!B:W,16,FALSE),IF(RIGHT(L11,1)=\"x\",VLOOKUP(VLOOKUP(RIGHT(A11,5)*1,'Data eshop'!D:N,11,FALSE),DATA!G:I,3,FALSE),IF(RIGHT(L11,1)=\"y\",IF(VLOOKUP(RIGHT(A11,5)*1,'Data eshop'!D:O,12,FALSE)=IF(O11=\"T7\",DATA!$D$2,IF(O11=\"E87\",DATA!$D$5,IF(O11=\"P2\",DATA!$D$6,IF(O11=\"e2695\",DATA!$D$7,\"\")))),IF(N11>=IF(O11=\"T7\",DATA!$K$11,IF(O11=\"E87\",DATA!$L$11,IF(O11=\"P2\",DATA!$M$11,IF(O11=\"e2695\",DATA!$N$11,\"\")))),\"uni008\",\"uni001\"),IF(VLOOKUP(RIGHT(A11,5)*1,'Data eshop'!D:O,12,FALSE)=DATA!$D$3,IF(O11=\"T7\",IF(N11>=500,\"uni009\",\"uni002\"),\"x\"),IF(VLOOKUP(RIGHT(A11,5)*1,'Data eshop'!D:O,12,FALSE)=DATA!$D$4,\"uni010\",\"\"))),\"\"))),\"\")","v":""},{"$f":"IFERROR(IF(A11=\"\",\"\",IF(LEFT(B11,3)=\"uni\",1,VLOOKUP(RIGHT(A11,5)&\"-\"&B11,'Data eshop'!A:R,18,FALSE))),\"\")","v":""},"",{"$f":"IFERROR(IF(A11=\"\",\"\",IF(LEFT(B11,3)=\"uni\",VLOOKUP(B11,DATA!I:X,IF(O11=\"T7\",3,IF(O11=\"E87\",4,IF(O11=\"P2\",5,IF(O11=\"E2695\",6,\"\")))),FALSE),VLOOKUP(RIGHT(A11,5)&\"-\"&B11,'Data eshop'!A:S,19,FALSE))),\"\")","v":""},{"$f":"IFERROR(IF(A11=\"\",\"\",IF(LEFT(B11,3)=\"uni\",0,VLOOKUP(RIGHT(A11,5)&\"-\"&B11,'Data eshop'!A:S,16,FALSE))),\"\")","v":""},null,"",{"$f":"IF(H11=\"\",\"\",WORKDAY(TODAY()+IF(VLOOKUP(VLOOKUP(RIGHT(A11,5)*1,'Data eshop'!D:N,11,FALSE),DATA!A:B,2,FALSE)=7,14,1),5))","v":""},"","",{"$f":"IF(L10=\"\",\"\",IF(L10=RIGHT(A10,5)&\"x\",LEFT(L10,LEN(L10)-1)&\"y\",IF(L10=RIGHT(A10,5)&\"y\",IFERROR(SMALL('Data eshop'!D:D,COUNTIF('Data eshop'!D:D,\"<\"&(LEFT(L10,LEN(L10)-1)*1))),\"\"),IF(ISERROR(IF(VLOOKUP(M10+1,'Data eshop'!C:D,2,FALSE)='Řádky zakázky'!L10,L10,L10&\"x\")),IF(RIGHT(L10,1)=\"y\",\"\",L10&\"x\"),IF(VLOOKUP(M10+1,'Data eshop'!C:D,2,FALSE)='Řádky zakázky'!L10,L10,L10&\"x\")))))","v":"0xxxxxxxxx"},1,{"$f":"IF(A11=\"\",\"\",VLOOKUP(RIGHT(A11,5)*1,'Data eshop'!D:W,17,FALSE))","v":{"$error":"#VALUE!"}},{"$f":"VLOOKUP(A11,Zakázky!A:B,2,FALSE)","v":{"$error":"#N/A"}},""]
["19ESh0",{"$f":"IFERROR(IF(ISNUMBER(L12),VLOOKUP(L12&\"-\"&M12,'Data eshop'!B:W,16,FALSE),IF(RIGHT(L12,1)=\"x\",VLOOKUP(VLOOKUP(RIGHT(A12,5)*1,'Data eshop'!D:N,11,FALSE),DATA!G:I,3,FALSE),IF(RIGHT(L12,1)=\"y\",IF(VLOOKUP(RIGHT(A12,5)*1,'Data eshop'!D:O,12,FALSE)=IF(O12=\"T7\",DATA!$D$2,IF(O12=\"E87\",DATA!$D$5,IF(O12=\"P2\",DATA!$D$6,IF(O12=\"e2695\",DATA!$D$7,\"\")))),IF(N12>=IF(O12=\"T7\",DATA!$K$11,IF(O12=\"E87\",DATA!$L$11,IF(O12=\"P2\",DATA!$M$11,IF(O12=\"e2695\",DATA!$N$11,\"\")))),\"uni008\",\"uni001\"),IF(VLOOKUP(RIGHT(A12,5)*1,'Data eshop'!D:O,12,FALSE)=DATA!$D$3,IF(O12=\"T7\",IF(N12>=500,\"uni009\",\"uni002\"),\"x\"),IF(VLOOKUP(RIGHT(A12,5)*1,'Data eshop'!D:O,12,FALSE)=DATA!$D$4,\"uni010\",\"\"))),\"\"))),\"\")","v":""},{"$f":"IFERROR(IF(A12=\"\",\"\",IF(LEFT(B12,3)=\"uni\",1,VLOOKUP(RIGHT(A12,5)&\"-\"&B12,'Data eshop'!A:R,18,FALSE))),\"\")","v":""},"",{"$f":"IFERROR(IF(A12=\"\",\"\",IF(LEFT(B12,3)=\"uni\",VLOOKUP(B12,DATA!I:X,IF(O12=\"T7\",3,IF(O12=\"E87\",4,IF(O12=\"P2\",5,IF(O12=\"E2695\",6,\"\")))),FALSE),VLOOKUP(RIGHT(A12,5)&\"-\"&B12,'Data eshop'!A:S,19,FALSE))),\"\")","v":""},{"$f":"IFERROR(IF(A12=\"\",\"\",IF(LEFT(B12,3)=\"uni\",0,VLOOKUP(RIGHT(A12,5)&\"-\"&B12,'Data eshop'!A:S,16,FALSE))),\"\")","v":""},null,"",{"$f":"IF(H12=\"\",\"\",WORKDAY(TODAY()+IF(VLOOKUP(VLOOKUP(RIGHT(A12,5)*1,'Data eshop'!D:N,11,FALSE),DATA!A:B,2,FALSE)=7,14,1),5))","v":""},"","",{"$f":"IF(L11=\"\",\"\",IF(L11=RIGHT(A11,5)&\"x\",LEFT(L11,LEN(L11)-1)&\"y\",IF(L11=RIGHT(A11,5)&\"y\",IFERROR(SMALL('Data eshop'!D:D,COUNTIF('Data eshop'!D:D,\"<\"&(LEFT(L11,LEN(L11)-1)*1))),\"\"),IF(ISERROR(IF(VLOOKUP(M11+1,'Data eshop'!C:D,2,FALSE)='Řádky zakázky'!L11,L11,L11&\"x\")),IF(RIGHT(L11,1)=\"y\",\"\",L11&\"x\"),IF(VLOOKUP(M11+1,'Data eshop'!C:D,2,FALSE)='Řádky zakázky'!L11,L11,L11&\"x\")))))","v":"0xxxxxxxxxx"},1,{"$f":"IF(A12=\"\",\"\",VLOOKUP(RIGHT(A12,5)*1,'Data eshop'!D:W,17,FALSE))","v":{"$error":"#VALUE!"}},{"$f":"VLOOKUP(A12,Zakázky!A:B,2,FALSE)","v":{"$error":"#N/A"}},"","Roluj nahoru, až uvidíš žlutou"]
["19ESh0",{"$f":"IFERROR(IF(ISNUMBER(L13),VLOOKUP(L13&\"-\"&M13,'Data eshop'!B:W,16,FALSE),IF(RIGHT(L13,1)=\"x\",VLOOKUP(VLOOKUP(RIGHT(A13,5)*1,'Data eshop'!D:N,11,FALSE),DATA!G:I,3,FALSE),IF(RIGHT(L13,1)=\"y\",IF(VLOOKUP(RIGHT(A13,5)*1,'Data eshop'!D:O,12,FALSE)=IF(O13=\"T7\",DATA!$D$2,IF(O13=\"E87\",DATA!$D$5,IF(O13=\"P2\",DATA!$D$6,IF(O13=\"e2695\",DATA!$D$7,\"\")))),IF(N13>=IF(O13=\"T7\",DATA!$K$11,IF(O13=\"E87\",DATA!$L$11,IF(O13=\"P2\",DATA!$M$11,IF(O13=\"e2695\",DATA!$N$11,\"\")))),\"uni008\",\"uni001\"),IF(VLOOKUP(RIGHT(A13,5)*1,'Data eshop'!D:O,12,FALSE)=DATA!$D$3,IF(O13=\"T7\",IF(N13>=500,\"uni009\",\"uni002\"),\"x\"),IF(VLOOKUP(RIGHT(A13,5)*1,'Data eshop'!D:O,12,FALSE)=DATA!$D$4,\"uni010\",\"\"))),\"\"))),\"\")","v":""},{"$f":"IFERROR(IF(A13=\"\",\"\",IF(LEFT(B13,3)=\"uni\",1,VLOOKUP(RIGHT(A13,5)&\"-\"&B13,'Data eshop'!A:R,18,FALSE))),\"\")","v":""},"",{"$f":"IFERROR(IF(A13=\"\",\"\",IF(LEFT(B13,3)=\"uni\",VLOOKUP(B13,DATA!I:X,IF(O13=\"T7\",3,IF(O13=\"E87\",4,IF(O13=\"P2\",5,IF(O13=\"E2695\",6,\"\")))),FALSE),VLOOKUP(RIGHT(A13,5)&\"-\"&B13,'Data eshop'!A:S,19,FALSE))),\"\")","v":""},{"$f":"IFERROR(IF(A13=\"\",\"\",IF(LEFT(B13,3)=\"uni\",0,VLOOKUP(RIGHT(A13,5)&\"-\"&B13,'Data eshop'!A:S,16,FALSE))),\"\")","v":""},null,"",{"$f":"IF(H13=\"\",\"\",WORKDAY(TODAY()+IF(VLOOKUP(VLOOKUP(RIGHT(A13,5)*1,'Data eshop'!D:N,11,FALSE),DATA!A:B,2,FALSE)=7,14,1),5))","v":""},"","",{"$f":"IF(L12=\"\",\"\",IF(L12=RIGHT(A12,5)&\"x\",LEFT(L12,LEN(L12)-1)&\"y\",IF(L12=RIGHT(A12,5)&\"y\",IFERROR(SMALL('Data eshop'!D:D,COUNTIF('Data eshop'!D:D,\"<\"&(LEFT(L12,LEN(L12)-1)*1))),\"\"),IF(ISERROR(IF(VLOOKUP(M12+1,'Data eshop'!C:D,2,FALSE)='Řádky zakázky'!L12,L12,L12&\"x\")),IF(RIGHT(L12,1)=\"y\",\"\",L12&\"x\"),IF(VLOOKUP(M12+1,'Data eshop'!C:D,2,FALSE)='Řádky zakázky'!L12,L12,L12&\"x\")))))","v":"0xxxxxxxxxxx"},1,{"$f":"IF(A13=\"\",\"\",VLOOKUP(RIGHT(A13,5)*1,'Data eshop'!D:W,17,FALSE))","v":{"$error":"#VALUE!"}},{"$f":"VLOOKUP(A13,Zakázky!A:B,2,FALSE)","v":{"$error":"#N/A"}},""]
["19ESh0",{"$f":"IFERROR(IF(ISNUMBER(L14),VLOOKUP(L14&\"-\"&M14,'Data eshop'!B:W,16,FALSE),IF(RIGHT(L14,1)=\"x\",VLOOKUP(VLOOKUP(RIGHT(A14,5)*1,'Data eshop'!D:N,11,FALSE),DATA!G:I,3,FALSE),IF(RIGHT(L14,1)=\"y\",IF(VLOOKUP(RIGHT(A14,5)*1,'Data eshop'!D:O,12,FALSE)=IF(O14=\"T7\",DATA!$D$2,IF(O14=\"E87\",DATA!$D$5,IF(O14=\"P2\",DATA!$D$6,IF(O14=\"e2695\",DATA!$D$7,\"\")))),IF(N14>=IF(O14=\"T7\",DATA!$K$11,IF(O14=\"E87\",DATA!$L$11,IF(O14=\"P2\",DATA!$M$11,IF(O14=\"e2695\",DATA!$N$11,\"\")))),\"uni008\",\"uni001\"),IF(VLOOKUP(RIGHT(A14,5)*1,'Data eshop'!D:O,12,FALSE)=DATA!$D$3,IF(O14=\"T7\",IF(N14>=500,\"uni009\",\"uni002\"),\"x\"),IF(VLOOKUP(RIGHT(A14,5)*1,'Data eshop'!D:O,12,FALSE)=DATA!$D$4,\"uni010\",\"\"))),\"\"))),\"\")","v":""},{"$f":"IFERROR(IF(A14=\"\",\"\",IF(LEFT(B14,3)=\"uni\",1,VLOOKUP(RIGHT(A14,5)&\"-\"&B14,'Data eshop'!A:R,18,FALSE))),\"\")","v":""},"",{"$f":"IFERROR(IF(A14=\"\",\"\",IF(LEFT(B14,3)=\"uni\",VLOOKUP(B14,DATA!I:X,IF(O14=\"T7\",3,IF(O14=\"E87\",4,IF(O14=\"P2\",5,IF(O14=\"E2695\",6,\"\")))),FALSE),VLOOKUP(RIGHT(A14,5)&\"-\"&B14,'Data eshop'!A:S,19,FALSE))),\"\")","v":""},{"$f":"IFERROR(IF(A14=\"\",\"\",IF(LEFT(B14,3)=\"uni\",0,VLOOKUP(RIGHT(A14,5)&\"-\"&B14,'Data eshop'!A:S,16,FALSE))),\"\")","v":""},null,"",{"$f":"IF(H14=\"\",\"\",WORKDAY(TODAY()+IF(VLOOKUP(VLOOKUP(RIGHT(A14,5)*1,'Data eshop'!D:N,11,FALSE),DATA!A:B,2,FALSE)=7,14,1),5))","v":""},"","",{"$f":"IF(L13=\"\",\"\",IF(L13=RIGHT(A13,5)&\"x\",LEFT(L13,LEN(L13)-1)&\"y\",IF(L13=RIGHT(A13,5)&\"y\",IFERROR(SMALL('Data eshop'!D:D,COUNTIF('Data eshop'!D:D,\"<\"&(LEFT(L13,LEN(L13)-1)*1))),\"\"),IF(ISERROR(IF(VLOOKUP(M13+1,'Data eshop'!C:D,2,FALSE)='Řádky zakázky'!L13,L13,L13&\"x\")),IF(RIGHT(L13,1)=\"y\",\"\",L13&\"x\"),IF(VLOOKUP(M13+1,'Data eshop'!C:D,2,FALSE)='Řádky zakázky'!L13,L13,L13&\"x\")))))","v":"0xxxxxxxxxxxx"},1,{"$f":"IF(A14=\"\",\"\",VLOOKUP(RIGHT(A14,5)*1,'Data eshop'!D:W,17,FALSE))","v":{"$error":"#VALUE!"}},{"$f":"VLOOKUP(A14,Zakázky!A:B,2,FALSE)","v":{"$error":"#N/A"}},""]
["19ESh0",{"$f":"IFERROR(IF(ISNUMBER(L15),VLOOKUP(L15&\"-\"&M15,'Data eshop'!B:W,16,FALSE),IF(RIGHT(L15,1)=\"x\",VLOOKUP(VLOOKUP(RIGHT(A15,5)*1,'Data eshop'!D:N,11,FALSE),DATA!G:I,3,FALSE),IF(RIGHT(L15,1)=\"y\",IF(VLOOKUP(RIGHT(A15,5)*1,'Data eshop'!D:O,12,FALSE)=IF(O15=\"T7\",DATA!$D$2,IF(O15=\"E87\",DATA!$D$5,IF(O15=\"P2\",DATA!$D$6,IF(O15=\"e2695\",DATA!$D$7,\"\")))),IF(N15>=IF(O15=\"T7\",DATA!$K$11,IF(O15=\"E87\",DATA!$L$11,IF(O15=\"P2\",DATA!$M$11,IF(O15=\"e2695\",DATA!$N$11,\"\")))),\"uni008\",\"uni001\"),IF(VLOOKUP(RIGHT(A15,5)*1,'Data eshop'!D:O,12,FALSE)=DATA!$D$3,IF(O15=\"T7\",IF(N15>=500,\"uni009\",\"uni002\"),\"x\"),IF(VLOOKUP(RIGHT(A15,5)*1,'Data eshop'!D:O,12,FALSE)=DATA!$D$4,\"uni010\",\"\"))),\"\"))),\"\")","v":""},{"$f":"IFERROR(IF(A15=\"\",\"\",IF(LEFT(B15,3)=\"uni\",1,VLOOKUP(RIGHT(A15,5)&\"-\"&B15,'Data eshop'!A:R,18,FALSE))),\"\")","v":""},"",{"$f":"IFERROR(IF(A15=\"\",\"\",IF(LEFT(B15,3)=\"uni\",VLOOKUP(B15,DATA!I:X,IF(O15=\"T7\",3,IF(O15=\"E87\",4,IF(O15=\"P2\",5,IF(O15=\"E2695\",6,\"\")))),FALSE),VLOOKUP(RIGHT(A15,5)&\"-\"&B15,'Data eshop'!A:S,19,FALSE))),\"\")","v":""},{"$f":"IFERROR(IF(A15=\"\",\"\",IF(LEFT(B15,3)=\"uni\",0,VLOOKUP(RIGHT(A15,5)&\"-\"&B15,'Data eshop'!A:S,16,FALSE))),\"\")","v":""},null,"",{"$f":"IF(H15=\"\",\"\",WORKDAY(TODAY()+IF(VLOOKUP(VLOOKUP(RIGHT(A15,5)*1,'Data eshop'!D:N,11,FALSE),DATA!A:B,2,FALSE)=7,14,1),5))","v":""},"","",{"$f":"IF(L14=\"\",\"\",IF(L14=RIGHT(A14,5)&\"x\",LEFT(L14,LEN(L14)-1)&\"y\",IF(L14=RIGHT(A14,5)&\"y\",IFERROR(SMALL('Data eshop'!D:D,COUNTIF('Data eshop'!D:D,\"<\"&(LEFT(L14,LEN(L14)-1)*1))),\"\"),IF(ISERROR(IF(VLOOKUP(M14+1,'Data eshop'!C:D,2,FALSE)='Řádky zakázky'!L14,L14,L14&\"x\")),IF(RIGHT(L14,1)=\"y\",\"\",L14&\"x\"),IF(VLOOKUP(M14+1,'Data eshop'!C:D,2,FALSE)='Řádky zakázky'!L14,L14,L14&\"x\")))))","v":"0xxxxxxxxxxxxx"},1,{"$f":"IF(A15=\"\",\"\",VLOOKUP(RIGHT(A15,5)*1,'Data eshop'!D:W,17,FALSE))","v":{"$error":"#VALUE!"}},{"$f":"VLOOKUP(A15,Zakázky!A:B,2,FALSE)","v":{"$error":"#N/A"}},""]
["19ESh0",{"$f":"IFERROR(IF(ISNUMBER(L16),VLOOKUP(L16&\"-\"&M16,'Data eshop'!B:W,16,FALSE),IF(RIGHT(L16,1)=\"x\",VLOOKUP(VLOOKUP(RIGHT(A16,5)*1,'Data eshop'!D:N,11,FALSE),DATA!G:I,3,FALSE),IF(RIGHT(L16,1)=\"y\",IF(VLOOKUP(RIGHT(A16,5)*1,'Data eshop'!D:O,12,FALSE)=IF(O16=\"T7\",DATA!$D$2,IF(O16=\"E87\",DATA!$D$5,IF(O16=\"P2\",DATA!$D$6,IF(O16=\"e2695\",DATA!$D$7,\"\")))),IF(N16>=IF(O16=\"T7\",DATA!$K$11,IF(O16=\"E87\",DATA!$L$11,IF(O16=\"P2\",DATA!$M$11,IF(O16=\"e2695\",DATA!$N$11,\"\")))),\"uni008\",\"uni001\"),IF(VLOOKUP(RIGHT(A16,5)*1,'Data eshop'!D:O,12,FALSE)=DATA!$D$3,IF(O16=\"T7\",IF(N16>=500,\"uni009\",\"uni002\"),\"x\"),IF(VLOOKUP(RIGHT(A16,5)*1,'Data eshop'!D:O,12,FALSE)=DATA!$D$4,\"uni010\",\"\"))),\"\"))),\"\")","v":""},{"$f":"IFERROR(IF(A16=\"\",\"\",IF(LEFT(B16,3)=\"uni\",1,VLOOKUP(RIGHT(A16,5)&\"-\"&B16,'Data eshop'!A:R,18,FALSE))),\"\")","v":""},"",{"$f":"IFERROR(IF(A16=\"\",\"\",IF(LEFT(B16,3)=\"uni\",VLOOKUP(B16,DATA!I:X,IF(O16=\"T7\",3,IF(O16=\"E87\",4,IF(O16=\"P2\",5,IF(O16=\"E2695\",6,\"\")))),FALSE),VLOOKUP(RIGHT(A16,5)&\"-\"&B16,'Data eshop'!A:S,19,FALSE))),\"\")","v":""},{"$f":"IFERROR(IF(A16=\"\",\"\",IF(LEFT(B16,3)=\"uni\",0,VLOOKUP(RIGHT(A16,5)&\"-\"&B16,'Data eshop'!A:S,16,FALSE))),\"\")","v":""},null,"",{"$f":"IF(H16=\"\",\"\",WORKDAY(TODAY()+IF(VLOOKUP(VLOOKUP(RIGHT(A16,5)*1,'Data eshop'!D:N,11,FALSE),DATA!A:B,2,FALSE)=7,14,1),5))","v":""},"","",{"$f":"IF(L15=\"\",\"\",IF(L15=RIGHT(A15,5)&\"x\",LEFT(L15,LEN(L15)-1)&\"y\",IF(L15=RIGHT(A15,5)&\"y\",IFERROR(SMALL('Data eshop'!D:D,COUNTIF('Data eshop'!D:D,\"<\"&(LEFT(L15,LEN(L15)-1)*1))),\"\"),IF(ISERROR(IF(VLOOKUP(M15+1,'Data eshop'!C:D,2,FALSE)='Řádky zakázky'!L15,L15,L15&\"x\")),IF(RIGHT(L15,1)=\"y\",\"\",L15&\"x\"),IF(VLOOKUP(M15+1,'Data eshop'!C:D,2,FALSE)='Řádky zakázky'!L15,L15,L15&\"x\")))))","v":"0xxxxxxxxxxxxxx"},1,{"$f":"IF(A16=\"\",\"\",VLOOKUP(RIGHT(A16,5)*1,'Data eshop'!D:W,17,FALSE))","v":{"$error":"#VALUE!"}},{"$f":"VLOOKUP(A16,Zakázky!A:B,2,FALSE)","v":{"$error":"#N/A"}},"","Roluj nahoru, až uvidíš žlutou"]
["19ESh0",{"$f":"IFERROR(IF(ISNUMBER(L17),VLOOKUP(L17&\"-\"&M17,'Data eshop'!B:W,16,FALSE),IF(RIGHT(L17,1)=\"x\",VLOOKUP(VLOOKUP(RIGHT(A17,5)*1,'Data eshop'!D:N,11,FALSE),DATA!G:I,3,FALSE),IF(RIGHT(L17,1)=\"y\",IF(VLOOKUP(RIGHT(A17,5)*1,'Data eshop'!D:O,12,FALSE)=IF(O17=\"T7\",DATA!$D$2,IF(O17=\"E87\",DATA!$D$5,IF(O17=\"P2\",DATA!$D$6,IF(O17=\"e2695\",DATA!$D$7,\"\")))),IF(N17>=IF(O17=\"T7\",DATA!$K$11,IF(O17=\"E87\",DATA!$L$11,IF(O17=\"P2\",DATA!$M$11,IF(O17=\"e2695\",DATA!$N$11,\"\")))),\"uni008\",\"uni001\"),IF(VLOOKUP(RIGHT(A17,5)*1,'Data eshop'!D:O,12,FALSE)=DATA!$D$3,IF(O17=\"T7\",IF(N17>=500,\"uni009\",\"uni002\"),\"x\"),IF(VLOOKUP(RIGHT(A17,5)*1,'Data eshop'!D:O,12,FALSE)=DATA!$D$4,\"uni010\",\"\"))),\"\"))),\"\")","v":""},{"$f":"IFERROR(IF(A17=\"\",\"\",IF(LEFT(B17,3)=\"uni\",1,VLOOKUP(RIGHT(A17,5)&\"-\"&B17,'Data eshop'!A:R,18,FALSE))),\"\")","v":""},"",{"$f":"IFERROR(IF(A17=\"\",\"\",IF(LEFT(B17,3)=\"uni\",VLOOKUP(B17,DATA!I:X,IF(O17=\"T7\",3,IF(O17=\"E87\",4,IF(O17=\"P2\",5,IF(O17=\"E2695\",6,\"\")))),FALSE),VLOOKUP(RIGHT(A17,5)&\"-\"&B17,'Data eshop'!A:S,19,FALSE))),\"\")","v":""},{"$f":"IFERROR(IF(A17=\"\",\"\",IF(LEFT(B17,3)=\"uni\",0,VLOOKUP(RIGHT(A17,5)&\"-\"&B17,'Data eshop'!A:S,16,FALSE))),\"\")","v":""},null,"",{"$f":"IF(H17=\"\",\"\",WORKDAY(TODAY()+IF(VLOOKUP(VLOOKUP(RIGHT(A17,5)*1,'Data eshop'!D:N,11,FALSE),DATA!A:B,2,FALSE)=7,14,1),5))","v":""},"","",{"$f":"IF(L16=\"\",\"\",IF(L16=RIGHT(A16,5)&\"x\",LEFT(L16,LEN(L16)-1)&\"y\",IF(L16=RIGHT(A16,5)&\"y\",IFERROR(SMALL('Data eshop'!D:D,COUNTIF('Data eshop'!D:D,\"<\"&(LEFT(L16,LEN(L16)-1)*1))),\"\"),IF(ISERROR(IF(VLOOKUP(M16+1,'Data eshop'!C:D,2,FALSE)='Řádky zakázky'!L16,L16,L16&\"x\")),IF(RIGHT(L16,1)=\"y\",\"\",L16&\"x\"),IF(VLOOKUP(M16+1,'Data eshop'!C:D,2,FALSE)='Řádky zakázky'!L16,L16,L16&\"x\")))))","v":"0xxxxxxxxxxxxxxx"},{"$f":"IF(L17=\"\",\"\",IF(RIGHT(L17,1)=\"x\",M16,IF(RIGHT(L17,1)=\"y\",M16,M16+1)))","v":1},{"$f":"IF(A17=\"\",\"\",VLOOKUP(RIGHT(A17,5)*1,'Data eshop'!D:W,17,FALSE))","v":{"$error":"#VALUE!"}},{"$f":"VLOOKUP(A17,Zakázky!A:B,2,FALSE)","v":{"$error":"#N/A"}},""]
["19ESh0",{"$f":"IFERROR(IF(ISNUMBER(L18),VLOOKUP(L18&\"-\"&M18,'Data eshop'!B:W,16,FALSE),IF(RIGHT(L18,1)=\"x\",VLOOKUP(VLOOKUP(RIGHT(A18,5)*1,'Data eshop'!D:N,11,FALSE),DATA!G:I,3,FALSE),IF(RIGHT(L18,1)=\"y\",IF(VLOOKUP(RIGHT(A18,5)*1,'Data eshop'!D:O,12,FALSE)=IF(O18=\"T7\",DATA!$D$2,IF(O18=\"E87\",DATA!$D$5,IF(O18=\"P2\",DATA!$D$6,IF(O18=\"e2695\",DATA!$D$7,\"\")))),IF(N18>=IF(O18=\"T7\",DATA!$K$11,IF(O18=\"E87\",DATA!$L$11,IF(O18=\"P2\",DATA!$M$11,IF(O18=\"e2695\",DATA!$N$11,\"\")))),\"uni008\",\"uni001\"),IF(VLOOKUP(RIGHT(A18,5)*1,'Data eshop'!D:O,12,FALSE)=DATA!$D$3,IF(O18=\"T7\",IF(N18>=500,\"uni009\",\"uni002\"),\"x\"),IF(VLOOKUP(RIGHT(A18,5)*1,'Data eshop'!D:O,12,FALSE)=DATA!$D$4,\"uni010\",\"\"))),\"\"))),\"\")","v":""},{"$f":"IFERROR(IF(A18=\"\",\"\",IF(LEFT(B18,3)=\"uni\",1,VLOOKUP(RIGHT(A18,5)&\"-\"&B18,'Data eshop'!A:R,18,FALSE))),\"\")","v":""},"",{"$f":"IFERROR(IF(A18=\"\",\"\",IF(LEFT(B18,3)=\"uni\",VLOOKUP(B18,DATA!I:X,IF(O18=\"T7\",3,IF(O18=\"E87\",4,IF(O18=\"P2\",5,IF(O18=\"E2695\",6,\"\")))),FALSE),VLOOKUP(RIGHT(A18,5)&\"-\"&B18,'Data eshop'!A:S,19,FALSE))),\"\")","v":""},{"$f":"IFERROR(IF(A18=\"\",\"\",IF(LEFT(B18,3)=\"uni\",0,VLOOKUP(RIGHT(A18,5)&\"-\"&B18,'Data eshop'!A:S,16,FALSE))),\"\")","v":""},null,"",{"$f":"IF(H18=\"\",\"\",WORKDAY(TODAY()+IF(VLOOKUP(VLOOKUP(RIGHT(A18,5)*1,'Data eshop'!D:N,11,FALSE),DATA!A:B,2,FALSE)=7,14,1),5))","v":""},"","",{"$f":"IF(L17=\"\",\"\",IF(L17=RIGHT(A17,5)&\"x\",LEFT(L17,LEN(L17)-1)&\"y\",IF(L17=RIGHT(A17,5)&\"y\",IFERROR(SMALL('Data eshop'!D:D,COUNTIF('Data eshop'!D:D,\"<\"&(LEFT(L17,LEN(L17)-1)*1))),\"\"),IF(ISERROR(IF(VLOOKUP(M17+1,'Data eshop'!C:D,2,FALSE)='Řádky zakázky'!L17,L17,L17&\"x\")),IF(RIGHT(L17,1)=\"y\",\"\",L17&\"x\"),IF(VLOOKUP(M17+1,'Data eshop'!C:D,2,FALSE)='Řádky zakázky'!L17,L17,L17&\"x\")))))","v":"0xxxxxxxxxxxxxxxx"},1,{"$f":"IF(A18=\"\",\"\",VLOOKUP(RIGHT(A18,5)*1,'Data eshop'!D:W,17,FALSE))","v":{"$error":"#VALUE!"}},{"$f":"VLOOKUP(A18,Zakázky!A:B,2,FALSE)","v":{"$error":"#N/A"}},""]
["19ESh0",{"$f":"IFERROR(IF(ISNUMBER(L19),VLOOKUP(L19&\"-\"&M19,'Data eshop'!B:W,16,FALSE),IF(RIGHT(L19,1)=\"x\",VLOOKUP(VLOOKUP(RIGHT(A19,5)*1,'Data eshop'!D:N,11,FALSE),DATA!G:I,3,FALSE),IF(RIGHT(L19,1)=\"y\",IF(VLOOKUP(RIGHT(A19,5)*1,'Data eshop'!D:O,12,FALSE)=IF(O19=\"T7\",DATA!$D$2,IF(O19=\"E87\",DATA!$D$5,IF(O19=\"P2\",DATA!$D$6,IF(O19=\"e2695\",DATA!$D$7,\"\")))),IF(N19>=IF(O19=\"T7\",DATA!$K$11,IF(O19=\"E87\",DATA!$L$11,IF(O19=\"P2\",DATA!$M$11,IF(O19=\"e2695\",DATA!$N$11,\"\")))),\"uni008\",\"uni001\"),IF(VLOOKUP(RIGHT(A19,5)*1,'Data eshop'!D:O,12,FALSE)=DATA!$D$3,IF(O19=\"T7\",IF(N19>=500,\"uni009\",\"uni002\"),\"x\"),IF(VLOOKUP(RIGHT(A19,5)*1,'Data eshop'!D:O,12,FALSE)=DATA!$D$4,\"uni010\",\"\"))),\"\"))),\"\")","v":""},{"$f":"IFERROR(IF(A19=\"\",\"\",IF(LEFT(B19,3)=\"uni\",1,VLOOKUP(RIGHT(A19,5)&\"-\"&B19,'Data eshop'!A:R,18,FALSE))),\"\")","v":""},"",{"$f":"IFERROR(IF(A19=\"\",\"\",IF(LEFT(B19,3)=\"uni\",VLOOKUP(B19,DATA!I:X,IF(O19=\"T7\",3,IF(O19=\"E87\",4,IF(O19=\"P2\",5,IF(O19=\"E2695\",6,\"\")))),FALSE),VLOOKUP(RIGHT(A19,5)&\"-\"&B19,'Data eshop'!A:S,19,FALSE))),\"\")","v":""},{"$f":"IFERROR(IF(A19=\"\",\"\",IF(LEFT(B19,3)=\"uni\",0,VLOOKUP(RIGHT(A19,5)&\"-\"&B19,'Data eshop'!A:S,16,FALSE))),\"\")","v":""},null,"",{"$f":"IF(H19=\"\",\"\",WORKDAY(TODAY()+IF(VLOOKUP(VLOOKUP(RIGHT(A19,5)*1,'Data eshop'!D:N,11,FALSE),DATA!A:B,2,FALSE)=7,14,1),5))","v":""},"","",{"$f":"IF(L18=\"\",\"\",IF(L18=RIGHT(A18,5)&\"x\",LEFT(L18,LEN(L18)-1)&\"y\",IF(L18=RIGHT(A18,5)&\"y\",IFERROR(SMALL('Data eshop'!D:D,COUNTIF('Data eshop'!D:D,\"<\"&(LEFT(L18,LEN(L18)-1)*1))),\"\"),IF(ISERROR(IF(VLOOKUP(M18+1,'Data eshop'!C:D,2,FALSE)='Řádky zakázky'!L18,L18,L18&\"x\")),IF(RIGHT(L18,1)=\"y\",\"\",L18&\"x\"),IF(VLOOKUP(M18+1,'Data eshop'!C:D,2,FALSE)='Řádky zakázky'!L18,L18,L18&\"x\")))))","v":"0xxxxxxxxxxxxxxxxx"},1,{"$f":"IF(A19=\"\",\"\",VLOOKUP(RIGHT(A19,5)*1,'Data eshop'!D:W,17,FALSE))","v":{"$error":"#VALUE!"}},{"$f":"VLOOKUP(A19,Zakázky!A:B,2,FALSE)","v":{"$error":"#N/A"}},""]
["19ESh0",{"$f":"IFERROR(IF(ISNUMBER(L20),VLOOKUP(L20&\"-\"&M20,'Data eshop'!B:W,16,FALSE),IF(RIGHT(L20,1)=\"x\",VLOOKUP(VLOOKUP(RIGHT(A20,5)*1,'Data eshop'!D:N,11,FALSE),DATA!G:I,3,FALSE),IF(RIGHT(L20,1)=\"y\",IF(VLOOKUP(RIGHT(A20,5)*1,'Data eshop'!D:O,12,FALSE)=IF(O20=\"T7\",DATA!$D$2,IF(O20=\"E87\",DATA!$D$5,IF(O20=\"P2\",DATA!$D$6,IF(O20=\"e2695\",DATA!$D$7,\"\")))),IF(N20>=IF(O20=\"T7\",DATA!$K$11,IF(O20=\"E87\",DATA!$L$11,IF(O20=\"P2\",DATA!$M$11,IF(O20=\"e2695\",DATA!$N$11,\"\")))),\"uni008\",\"uni001\"),IF(VLOOKUP(RIGHT(A20,5)*1,'Data eshop'!D:O,12,FALSE)=DATA!$D$3,IF(O20=\"T7\",IF(N20>=500,\"uni009\",\"uni002\"),\"x\"),IF(VLOOKUP(RIGHT(A20,5)*1,'Data eshop'!D:O,12,FALSE)=DATA!$D$4,\"uni010\",\"\"))),\"\"))),\"\")","v":""},{"$f":"IFERROR(IF(A20=\"\",\"\",IF(LEFT(B20,3)=\"uni\",1,VLOOKUP(RIGHT(A20,5)&\"-\"&B20,'Data eshop'!A:R,18,FALSE))),\"\")","v":""},"",{"$f":"IFERROR(IF(A20=\"\",\"\",IF(LEFT(B20,3)=\"uni\",VLOOKUP(B20,DATA!I:X,IF(O20=\"T7\",3,IF(O20=\"E87\",4,IF(O20=\"P2\",5,IF(O20=\"E2695\",6,\"\")))),FALSE),VLOOKUP(RIGHT(A20,5)&\"-\"&B20,'Data eshop'!A:S,19,FALSE))),\"\")","v":""},{"$f":"IFERROR(IF(A20=\"\",\"\",IF(LEFT(B20,3)=\"uni\",0,VLOOKUP(RIGHT(A20,5)&\"-\"&B20,'Data eshop'!A:S,16,FALSE))),\"\")","v":""},null,"",{"$f":"IF(H20=\"\",\"\",WORKDAY(TODAY()+IF(VLOOKUP(VLOOKUP(RIGHT(A20,5)*1,'Data eshop'!D:N,11,FALSE),DATA!A:B,2,FALSE)=7,14,1),5))","v":""},"","",{"$f":"IF(L19=\"\",\"\",IF(L19=RIGHT(A19,5)&\"x\",LEFT(L19,LEN(L19)-1)&\"y\",IF(L19=RIGHT(A19,5)&\"y\",IFERROR(SMALL('Data eshop'!D:D,COUNTIF('Data eshop'!D:D,\"<\"&(LEFT(L19,LEN(L19)-1)*1))),\"\"),IF(ISERROR(IF(VLOOKUP(M19+1,'Data eshop'!C:D,2,FALSE)='Řádky zakázky'!L19,L19,L19&\"x\")),IF(RIGHT(L19,1)=\"y\",\"\",L19&\"x\"),IF(VLOOKUP(M19+1,'Data eshop'!C:D,2,FALSE)='Řádky zakázky'!L19,L19,L19&\"x\")))))","v":"0xxxxxxxxxxxxxxxxxx"},1,{"$f":"IF(A20=\"\",\"\",VLOOKUP(RIGHT(A20,5)*1,'Data eshop'!D:W,17,FALSE))","v":{"$error":"#VALUE!"}},{"$f":"VLOOKUP(A20,Zakázky!A:B,2,FALSE)","v":{"$error":"#N/A"}},"","Roluj nahoru, až uvidíš žlutou"]
["19ESh0",{"$f":"IFERROR(IF(ISNUMBER(L21),VLOOKUP(L21&\"-\"&M21,'Data eshop'!B:W,16,FALSE),IF(RIGHT(L21,1)=\"x\",VLOOKUP(VLOOKUP(RIGHT(A21,5)*1,'Data eshop'!D:N,11,FALSE),DATA!G:I,3,FALSE),IF(RIGHT(L21,1)=\"y\",IF(VLOOKUP(RIGHT(A21,5)*1,'Data eshop'!D:O,12,FALSE)=IF(O21=\"T7\",DATA!$D$2,IF(O21=\"E87\",DATA!$D$5,IF(O21=\"P2\",DATA!$D$6,IF(O21=\"e2695\",DATA!$D$7,\"\")))),IF(N21>=IF(O21=\"T7\",DATA!$K$11,IF(O21=\"E87\",DATA!$L$11,IF(O21=\"P2\",DATA!$M$11,IF(O21=\"e2695\",DATA!$N$11,\"\")))),\"uni008\",\"uni001\"),IF(VLOOKUP(RIGHT(A21,5)*1,'Data eshop'!D:O,12,FALSE)=DATA!$D$3,IF(O21=\"T7\",IF(N21>=500,\"uni009\",\"uni002\"),\"x\"),IF(VLOOKUP(RIGHT(A21,5)*1,'Data eshop'!D:O,12,FALSE)=DATA!$D$4,\"uni010\",\"\"))),\"\"))),\"\")","v":""},{"$f":"IFERROR(IF(A21=\"\",\"\",IF(LEFT(B21,3)=\"uni\",1,VLOOKUP(RIGHT(A21,5)&\"-\"&B21,'Data eshop'!A:R,18,FALSE))),\"\")","v":""},"",{"$f":"IFERROR(IF(A21=\"\",\"\",IF(LEFT(B21,3)=\"uni\",VLOOKUP(B21,DATA!I:X,IF(O21=\"T7\",3,IF(O21=\"E87\",4,IF(O21=\"P2\",5,IF(O21=\"E2695\",6,\"\")))),FALSE),VLOOKUP(RIGHT(A21,5)&\"-\"&B21,'Data eshop'!A:S,19,FALSE))),\"\")","v":""},{"$f":"IFERROR(IF(A21=\"\",\"\",IF(LEFT(B21,3)=\"uni\",0,VLOOKUP(RIGHT(A21,5)&\"-\"&B21,'Data eshop'!A:S,16,FALSE))),\"\")","v":""},null,"",{"$f":"IF(H21=\"\",\"\",WORKDAY(TODAY()+IF(VLOOKUP(VLOOKUP(RIGHT(A21,5)*1,'Data eshop'!D:N,11,FALSE),DATA!A:B,2,FALSE)=7,14,1),5))","v":""},"","",{"$f":"IF(L20=\"\",\"\",IF(L20=RIGHT(A20,5)&\"x\",LEFT(L20,LEN(L20)-1)&\"y\",IF(L20=RIGHT(A20,5)&\"y\",IFERROR(SMALL('Data eshop'!D:D,COUNTIF('Data eshop'!D:D,\"<\"&(LEFT(L20,LEN(L20)-1)*1))),\"\"),IF(ISERROR(IF(VLOOKUP(M20+1,'Data eshop'!C:D,2,FALSE)='Řádky zakázky'!L20,L20,L20&\"x\")),IF(RIGHT(L20,1)=\"y\",\"\",L20&\"x\"),IF(VLOOKUP(M20+1,'Data eshop'!C:D,2,FALSE)='Řádky zakázky'!L20,L20,L20&\"x\")))))","v":"0xxxxxxxxxxxxxxxxxxx"},1,{"$f":"IF(A21=\"\",\"\",VLOOKUP(RIGHT(A21,5)*1,'Data eshop'!D:W,17,FALSE))","v":{"$error":"#VALUE!"}},{"$f":"VLOOKUP(A21,Zakázky!A:B,2,FALSE)","v":{"$error":"#N/A"}},""]
["19ESh0",{"$f":"IFERROR(IF(ISNUMBER(L22),VLOOKUP(L22&\"-\"&M22,'Data eshop'!B:W,16,FALSE),IF(RIGHT(L22,1)=\"x\",VLOOKUP(VLOOKUP(RIGHT(A22,5)*1,'Data eshop'!D:N,11,FALSE),DATA!G:I,3,FALSE),IF(RIGHT(L22,1)=\"y\",IF(VLOOKUP(RIGHT(A22,5)*1,'Data eshop'!D:O,12,FALSE)=IF(O22=\"T7\",DATA!$D$2,IF(O22=\"E87\",DATA!$D$5,IF(O22=\"P2\",DATA!$D$6,IF(O22=\"e2695\",DATA!$D$7,\"\")))),IF(N22>=IF(O22=\"T7\",DATA!$K$11,IF(O22=\"E87\",DATA!$L$11,IF(O22=\"P2\",DATA!$M$11,IF(O22=\"e2695\",DATA!$N$11,\"\")))),\"uni008\",\"uni001\"),IF(VLOOKUP(RIGHT(A22,5)*1,'Data eshop'!D:O,12,FALSE)=DATA!$D$3,IF(O22=\"T7\",IF(N22>=500,\"uni009\",\"uni002\"),\"x\"),IF(VLOOKUP(RIGHT(A22,5)*1,'Data eshop'!D:O,12,FALSE)=DATA!$D$4,\"uni010\",\"\"))),\"\"))),\"\")","v":""},{"$f":"IFERROR(IF(A22=\"\",\"\",IF(LEFT(B22,3)=\"uni\",1,VLOOKUP(RIGHT(A22,5)&\"-\"&B22,'Data eshop'!A:R,18,FALSE))),\"\")","v":""},"",{"$f":"IFERROR(IF(A22=\"\",\"\",IF(LEFT(B22,3)=\"uni\",VLOOKUP(B22,DATA!I:X,IF(O22=\"T7\",3,IF(O22=\"E87\",4,IF(O22=\"P2\",5,IF(O22=\"E2695\",6,\"\")))),FALSE),VLOOKUP(RIGHT(A22,5)&\"-\"&B22,'Data eshop'!A:S,19,FALSE))),\"\")","v":""},{"$f":"IFERROR(IF(A22=\"\",\"\",IF(LEFT(B22,3)=\"uni\",0,VLOOKUP(RIGHT(A22,5)&\"-\"&B22,'Data eshop'!A:S,16,FALSE))),\"\")","v":""},null,"",{"$f":"IF(H22=\"\",\"\",WORKDAY(TODAY()+IF(VLOOKUP(VLOOKUP(RIGHT(A22,5)*1,'Data eshop'!D:N,11,FALSE),DATA!A:B,2,FALSE)=7,14,1),5))","v":""},"","",{"$f":"IF(L21=\"\",\"\",IF(L21=RIGHT(A21,5)&\"x\",LEFT(L21,LEN(L21)-1)&\"y\",IF(L21=RIGHT(A21,5)&\"y\",IFERROR(SMALL('Data eshop'!D:D,COUNTIF('Data eshop'!D:D,\"<\"&(LEFT(L21,LEN(L21)-1)*1))),\"\"),IF(ISERROR(IF(VLOOKUP(M21+1,'Data eshop'!C:D,2,FALSE)='Řádky zakázky'!L21,L21,L21&\"x\")),IF(RIGHT(L21,1)=\"y\",\"\",L21&\"x\"),IF(VLOOKUP(M21+1,'Data eshop'!C:D,2,FALSE)='Řádky zakázky'!L21,L21,L21&\"x\")))))","v":"0xxxxxxxxxxxxxxxxxxxx"},1,{"$f":"IF(A22=\"\",\"\",VLOOKUP(RIGHT(A22,5)*1,'Data eshop'!D:W,17,FALSE))","v":{"$error":"#VALUE!"}},{"$f":"VLOOKUP(A22,Zakázky!A:B,2,FALSE)","v":{"$error":"#N/A"}},""]
["19ESh0",{"$f":"IFERROR(IF(ISNUMBER(L23),VLOOKUP(L23&\"-\"&M23,'Data eshop'!B:W,16,FALSE),IF(RIGHT(L23,1)=\"x\",VLOOKUP(VLOOKUP(RIGHT(A23,5)*1,'Data eshop'!D:N,11,FALSE),DATA!G:I,3,FALSE),IF(RIGHT(L23,1)=\"y\",IF(VLOOKUP(RIGHT(A23,5)*1,'Data eshop'!D:O,12,FALSE)=IF(O23=\"T7\",DATA!$D$2,IF(O23=\"E87\",DATA!$D$5,IF(O23=\"P2\",DATA!$D$6,IF(O23=\"e2695\",DATA!$D$7,\"\")))),IF(N23>=IF(O23=\"T7\",DATA!$K$11,IF(O23=\"E87\",DATA!$L$11,IF(O23=\"P2\",DATA!$M$11,IF(O23=\"e2695\",DATA!$N$11,\"\")))),\"uni008\",\"uni001\"),IF(VLOOKUP(RIGHT(A23,5)*1,'Data eshop'!D:O,12,FALSE)=DATA!$D$3,IF(O23=\"T7\",IF(N23>=500,\"uni009\",\"uni002\"),\"x\"),IF(VLOOKUP(RIGHT(A23,5)*1,'Data eshop'!D:O,12,FALSE)=DATA!$D$4,\"uni010\",\"\"))),\"\"))),\"\")","v":""},{"$f":"IFERROR(IF(A23=\"\",\"\",IF(LEFT(B23,3)=\"uni\",1,VLOOKUP(RIGHT(A23,5)&\"-\"&B23,'Data eshop'!A:R,18,FALSE))),\"\")","v":""},"",{"$f":"IFERROR(IF(A23=\"\",\"\",IF(LEFT(B23,3)=\"uni\",VLOOKUP(B23,DATA!I:X,IF(O23=\"T7\",3,IF(O23=\"E87\",4,IF(O23=\"P2\",5,IF(O23=\"E2695\",6,\"\")))),FALSE),VLOOKUP(RIGHT(A23,5)&\"-\"&B23,'Data eshop'!A:S,19,FALSE))),\"\")","v":""},{"$f":"IFERROR(IF(A23=\"\",\"\",IF(LEFT(B23,3)=\"uni\",0,VLOOKUP(RIGHT(A23,5)&\"-\"&B23,'Data eshop'!A:S,16,FALSE))),\"\")","v":""},null,"",{"$f":"IF(H23=\"\",\"\",WORKDAY(TODAY()+IF(VLOOKUP(VLOOKUP(RIGHT(A23,5)*1,'Data eshop'!D:N,11,FALSE),DATA!A:B,2,FALSE)=7,14,1),5))","v":""},"","",{"$f":"IF(L22=\"\",\"\",IF(L22=RIGHT(A22,5)&\"x\",LEFT(L22,LEN(L22)-1)&\"y\",IF(L22=RIGHT(A22,5)&\"y\",IFERROR(SMALL('Data eshop'!D:D,COUNTIF('Data eshop'!D:D,\"<\"&(LEFT(L22,LEN(L22)-1)*1))),\"\"),IF(ISERROR(IF(VLOOKUP(M22+1,'Data eshop'!C:D,2,FALSE)='Řádky zakázky'!L22,L22,L22&\"x\")),IF(RIGHT(L22,1)=\"y\",\"\",L22&\"x\"),IF(VLOOKUP(M22+1,'Data eshop'!C:D,2,FALSE)='Řádky zakázky'!L22,L22,L22&\"x\")))))","v":"0xxxxxxxxxxxxxxxxxxxxx"},1,{"$f":"IF(A23=\"\",\"\",VLOOKUP(RIGHT(A23,5)*1,'Data eshop'!D:W,17,FALSE))","v":{"$error":"#VALUE!"}},{"$f":"VLOOKUP(A23,Zakázky!A:B,2,FALSE)","v":{"$error":"#N/A"}},""]
["19ESh0",{"$f":"IFERROR(IF(ISNUMBER(L24),VLOOKUP(L24&\"-\"&M24,'Data eshop'!B:W,16,FALSE),IF(RIGHT(L24,1)=\"x\",VLOOKUP(VLOOKUP(RIGHT(A24,5)*1,'Data eshop'!D:N,11,FALSE),DATA!G:I,3,FALSE),IF(RIGHT(L24,1)=\"y\",IF(VLOOKUP(RIGHT(A24,5)*1,'Data eshop'!D:O,12,FALSE)=IF(O24=\"T7\",DATA!$D$2,IF(O24=\"E87\",DATA!$D$5,IF(O24=\"P2\",DATA!$D$6,IF(O24=\"e2695\",DATA!$D$7,\"\")))),IF(N24>=IF(O24=\"T7\",DATA!$K$11,IF(O24=\"E87\",DATA!$L$11,IF(O24=\"P2\",DATA!$M$11,IF(O24=\"e2695\",DATA!$N$11,\"\")))),\"uni008\",\"uni001\"),IF(VLOOKUP(RIGHT(A24,5)*1,'Data eshop'!D:O,12,FALSE)=DATA!$D$3,IF(O24=\"T7\",IF(N24>=500,\"uni009\",\"uni002\"),\"x\"),IF(VLOOKUP(RIGHT(A24,5)*1,'Data eshop'!D:O,12,FALSE)=DATA!$D$4,\"uni010\",\"\"))),\"\"))),\"\")","v":""},{"$f":"IFERROR(IF(A24=\"\",\"\",IF(LEFT(B24,3)=\"uni\",1,VLOOKUP(RIGHT(A24,5)&\"-\"&B24,'Data eshop'!A:R,18,FALSE))),\"\")","v":""},"",{"$f":"IFERROR(IF(A24=\"\",\"\",IF(LEFT(B24,3)=\"uni\",VLOOKUP(B24,DATA!I:X,IF(O24=\"T7\",3,IF(O24=\"E87\",4,IF(O24=\"P2\",5,IF(O24=\"E2695\",6,\"\")))),FALSE),VLOOKUP(RIGHT(A24,5)&\"-\"&B24,'Data eshop'!A:S,19,FALSE))),\"\")","v":""},{"$f":"IFERROR(IF(A24=\"\",\"\",IF(LEFT(B24,3)=\"uni\",0,VLOOKUP(RIGHT(A24,5)&\"-\"&B24,'Data eshop'!A:S,16,FALSE))),\"\")","v":""},null,"",{"$f":"IF(H24=\"\",\"\",WORKDAY(TODAY()+IF(VLOOKUP(VLOOKUP(RIGHT(A24,5)*1,'Data eshop'!D:N,11,FALSE),DATA!A:B,2,FALSE)=7,14,1),5))","v":""},"","",{"$f":"IF(L23=\"\",\"\",IF(L23=RIGHT(A23,5)&\"x\",LEFT(L23,LEN(L23)-1)&\"y\",IF(L23=RIGHT(A23,5)&\"y\",IFERROR(SMALL('Data eshop'!D:D,COUNTIF('Data eshop'!D:D,\"<\"&(LEFT(L23,LEN(L23)-1)*1))),\"\"),IF(ISERROR(IF(VLOOKUP(M23+1,'Data eshop'!C:D,2,FALSE)='Řádky zakázky'!L23,L23,L23&\"x\")),IF(RIGHT(L23,1)=\"y\",\"\",L23&\"x\"),IF(VLOOKUP(M23+1,'Data eshop'!C:D,2,FALSE)='Řádky zakázky'!L23,L23,L23&\"x\")))))","v":"0xxxxxxxxxxxxxxxxxxxxxx"},1,{"$f":"IF(A24=\"\",\"\",VLOOKUP(RIGHT(A24,5)*1,'Data eshop'!D:W,17,FALSE))","v":{"$error":"#VALUE!"}},{"$f":"VLOOKUP(A24,Zakázky!A:B,2,FALSE)","v":{"$error":"#N/A"}},"","Roluj nahoru, až uvidíš žlutou"]
["19ESh0",{"$f":"IFERROR(IF(ISNUMBER(L25),VLOOKUP(L25&\"-\"&M25,'Data eshop'!B:W,16,FALSE),IF(RIGHT(L25,1)=\"x\",VLOOKUP(VLOOKUP(RIGHT(A25,5)*1,'Data eshop'!D:N,11,FALSE),DATA!G:I,3,FALSE),IF(RIGHT(L25,1)=\"y\",IF(VLOOKUP(RIGHT(A25,5)*1,'Data eshop'!D:O,12,FALSE)=IF(O25=\"T7\",DATA!$D$2,IF(O25=\"E87\",DATA!$D$5,IF(O25=\"P2\",DATA!$D$6,IF(O25=\"e2695\",DATA!$D$7,\"\")))),IF(N25>=IF(O25=\"T7\",DATA!$K$11,IF(O25=\"E87\",DATA!$L$11,IF(O25=\"P2\",DATA!$M$11,IF(O25=\"e2695\",DATA!$N$11,\"\")))),\"uni008\",\"uni001\"),IF(VLOOKUP(RIGHT(A25,5)*1,'Data eshop'!D:O,12,FALSE)=DATA!$D$3,IF(O25=\"T7\",IF(N25>=500,\"uni009\",\"uni002\"),\"x\"),IF(VLOOKUP(RIGHT(A25,5)*1,'Data eshop'!D:O,12,FALSE)=DATA!$D$4,\"uni010\",\"\"))),\"\"))),\"\")","v":""},{"$f":"IFERROR(IF(A25=\"\",\"\",IF(LEFT(B25,3)=\"uni\",1,VLOOKUP(RIGHT(A25,5)&\"-\"&B25,'Data eshop'!A:R,18,FALSE))),\"\")","v":""},"",{"$f":"IFERROR(IF(A25=\"\",\"\",IF(LEFT(B25,3)=\"uni\",VLOOKUP(B25,DATA!I:X,IF(O25=\"T7\",3,IF(O25=\"E87\",4,IF(O25=\"P2\",5,IF(O25=\"E2695\",6,\"\")))),FALSE),VLOOKUP(RIGHT(A25,5)&\"-\"&B25,'Data eshop'!A:S,19,FALSE))),\"\")","v":""},{"$f":"IFERROR(IF(A25=\"\",\"\",IF(LEFT(B25,3)=\"uni\",0,VLOOKUP(RIGHT(A25,5)&\"-\"&B25,'Data eshop'!A:S,16,FALSE))),\"\")","v":""},null,"",{"$f":"IF(H25=\"\",\"\",WORKDAY(TODAY()+IF(VLOOKUP(VLOOKUP(RIGHT(A25,5)*1,'Data eshop'!D:N,11,FALSE),DATA!A:B,2,FALSE)=7,14,1),5))","v":""},"","",{"$f":"IF(L24=\"\",\"\",IF(L24=RIGHT(A24,5)&\"x\",LEFT(L24,LEN(L24)-1)&\"y\",IF(L24=RIGHT(A24,5)&\"y\",IFERROR(SMALL('Data eshop'!D:D,COUNTIF('Data eshop'!D:D,\"<\"&(LEFT(L24,LEN(L24)-1)*1))),\"\"),IF(ISERROR(IF(VLOOKUP(M24+1,'Data eshop'!C:D,2,FALSE)='Řádky zakázky'!L24,L24,L24&\"x\")),IF(RIGHT(L24,1)=\"y\",\"\",L24&\"x\"),IF(VLOOKUP(M24+1,'Data eshop'!C:D,2,FALSE)='Řádky zakázky'!L24,L24,L24&\"x\")))))","v":"0xxxxxxxxxxxxxxxxxxxxxxx"},1,{"$f":"IF(A25=\"\",\"\",VLOOKUP(RIGHT(A25,5)*1,'Data eshop'!D:W,17,FALSE))","v":{"$error":"#VALUE!"}},{"$f":"VLOOKUP(A25,Zakázky!A:B,2,FALSE)","v":{"$error":"#N/A"}},""]
["19ESh0",{"$f":"IFERROR(IF(ISNUMBER(L26),VLOOKUP(L26&\"-\"&M26,'Data eshop'!B:W,16,FALSE),IF(RIGHT(L26,1)=\"x\",VLOOKUP(VLOOKUP(RIGHT(A26,5)*1,'Data eshop'!D:N,11,FALSE),DATA!G:I,3,FALSE),IF(RIGHT(L26,1)=\"y\",IF(VLOOKUP(RIGHT(A26,5)*1,'Data eshop'!D:O,12,FALSE)=IF(O26=\"T7\",DATA!$D$2,IF(O26=\"E87\",DATA!$D$5,IF(O26=\"P2\",DATA!$D$6,IF(O26=\"e2695\",DATA!$D$7,\"\")))),IF(N26>=IF(O26=\"T7\",DATA!$K$11,IF(O26=\"E87\",DATA!$L$11,IF(O26=\"P2\",DATA!$M$11,IF(O26=\"e2695\",DATA!$N$11,\"\")))),\"uni008\",\"uni001\"),IF(VLOOKUP(RIGHT(A26,5)*1,'Data eshop'!D:O,12,FALSE)=DATA!$D$3,IF(O26=\"T7\",IF(N26>=500,\"uni009\",\"uni002\"),\"x\"),IF(VLOOKUP(RIGHT(A26,5)*1,'Data eshop'!D:O,12,FALSE)=DATA!$D$4,\"uni010\",\"\"))),\"\"))),\"\")","v":""},{"$f":"IFERROR(IF(A26=\"\",\"\",IF(LEFT(B26,3)=\"uni\",1,VLOOKUP(RIGHT(A26,5)&\"-\"&B26,'Data eshop'!A:R,18,FALSE))),\"\")","v":""},"",{"$f":"IFERROR(IF(A26=\"\",\"\",IF(LEFT(B26,3)=\"uni\",VLOOKUP(B26,DATA!I:X,IF(O26=\"T7\",3,IF(O26=\"E87\",4,IF(O26=\"P2\",5,IF(O26=\"E2695\",6,\"\")))),FALSE),VLOOKUP(RIGHT(A26,5)&\"-\"&B26,'Data eshop'!A:S,19,FALSE))),\"\")","v":""},{"$f":"IFERROR(IF(A26=\"\",\"\",IF(LEFT(B26,3)=\"uni\",0,VLOOKUP(RIGHT(A26,5)&\"-\"&B26,'Data eshop'!A:S,16,FALSE))),\"\")","v":""},null,"",{"$f":"IF(H26=\"\",\"\",WORKDAY(TODAY()+IF(VLOOKUP(VLOOKUP(RIGHT(A26,5)*1,'Data eshop'!D:N,11,FALSE),DATA!A:B,2,FALSE)=7,14,1),5))","v":""},"","",{"$f":"IF(L25=\"\",\"\",IF(L25=RIGHT(A25,5)&\"x\",LEFT(L25,LEN(L25)-1)&\"y\",IF(L25=RIGHT(A25,5)&\"y\",IFERROR(SMALL('Data eshop'!D:D,COUNTIF('Data eshop'!D:D,\"<\"&(LEFT(L25,LEN(L25)-1)*1))),\"\"),IF(ISERROR(IF(VLOOKUP(M25+1,'Data eshop'!C:D,2,FALSE)='Řádky zakázky'!L25,L25,L25&\"x\")),IF(RIGHT(L25,1)=\"y\",\"\",L25&\"x\"),IF(VLOOKUP(M25+1,'Data eshop'!C:D,2,FALSE)='Řádky zakázky'!L25,L25,L25&\"x\")))))","v":"0xxxxxxxxxxxxxxxxxxxxxxxx"},1,{"$f":"IF(A26=\"\",\"\",VLOOKUP(RIGHT(A26,5)*1,'Data eshop'!D:W,17,FALSE))","v":{"$error":"#VALUE!"}},{"$f":"VLOOKUP(A26,Zakázky!A:B,2,FALSE)","v":{"$error":"#N/A"}},""]
["19ESh0",{"$f":"IFERROR(IF(ISNUMBER(L27),VLOOKUP(L27&\"-\"&M27,'Data eshop'!B:W,16,FALSE),IF(RIGHT(L27,1)=\"x\",VLOOKUP(VLOOKUP(RIGHT(A27,5)*1,'Data eshop'!D:N,11,FALSE),DATA!G:I,3,FALSE),IF(RIGHT(L27,1)=\"y\",IF(VLOOKUP(RIGHT(A27,5)*1,'Data eshop'!D:O,12,FALSE)=IF(O27=\"T7\",DATA!$D$2,IF(O27=\"E87\",DATA!$D$5,IF(O27=\"P2\",DATA!$D$6,IF(O27=\"e2695\",DATA!$D$7,\"\")))),IF(N27>=IF(O27=\"T7\",DATA!$K$11,IF(O27=\"E87\",DATA!$L$11,IF(O27=\"P2\",DATA!$M$11,IF(O27=\"e2695\",DATA!$N$11,\"\")))),\"uni008\",\"uni001\"),IF(VLOOKUP(RIGHT(A27,5)*1,'Data eshop'!D:O,12,FALSE)=DATA!$D$3,IF(O27=\"T7\",IF(N27>=500,\"uni009\",\"uni002\"),\"x\"),IF(VLOOKUP(RIGHT(A27,5)*1,'Data eshop'!D:O,12,FALSE)=DATA!$D$4,\"uni010\",\"\"))),\"\"))),\"\")","v":""},{"$f":"IFERROR(IF(A27=\"\",\"\",IF(LEFT(B27,3)=\"uni\",1,VLOOKUP(RIGHT(A27,5)&\"-\"&B27,'Data eshop'!A:R,18,FALSE))),\"\")","v":""},"",{"$f":"IFERROR(IF(A27=\"\",\"\",IF(LEFT(B27,3)=\"uni\",VLOOKUP(B27,DATA!I:X,IF(O27=\"T7\",3,IF(O27=\"E87\",4,IF(O27=\"P2\",5,IF(O27=\"E2695\",6,\"\")))),FALSE),VLOOKUP(RIGHT(A27,5)&\"-\"&B27,'Data eshop'!A:S,19,FALSE))),\"\")","v":""},{"$f":"IFERROR(IF(A27=\"\",\"\",IF(LEFT(B27,3)=\"uni\",0,VLOOKUP(RIGHT(A27,5)&\"-\"&B27,'Data eshop'!A:S,16,FALSE))),\"\")","v":""},null,"",{"$f":"IF(H27=\"\",\"\",WORKDAY(TODAY()+IF(VLOOKUP(VLOOKUP(RIGHT(A27,5)*1,'Data eshop'!D:N,11,FALSE),DATA!A:B,2,FALSE)=7,14,1),5))","v":""},"","",{"$f":"IF(L26=\"\",\"\",IF(L26=RIGHT(A26,5)&\"x\",LEFT(L26,LEN(L26)-1)&\"y\",IF(L26=RIGHT(A26,5)&\"y\",IFERROR(SMALL('Data eshop'!D:D,COUNTIF('Data eshop'!D:D,\"<\"&(LEFT(L26,LEN(L26)-1)*1))),\"\"),IF(ISERROR(IF(VLOOKUP(M26+1,'Data eshop'!C:D,2,FALSE)='Řádky zakázky'!L26,L26,L26&\"x\")),IF(RIGHT(L26,1)=\"y\",\"\",L26&\"x\"),IF(VLOOKUP(M26+1,'Data eshop'!C:D,2,FALSE)='Řádky zakázky'!L26,L26,L26&\"x\")))))","v":"0xxxxxxxxxxxxxxxxxxxxxxxxx"},1,{"$f":"IF(A27=\"\",\"\",VLOOKUP(RIGHT(A27,5)*1,'Data eshop'!D:W,17,FALSE))","v":{"$error":"#VALUE!"}},{"$f":"VLOOKUP(A27,Zakázky!A:B,2,FALSE)","v":{"$error":"#N/A"}},""]
["19ESh0",{"$f":"IFERROR(IF(ISNUMBER(L28),VLOOKUP(L28&\"-\"&M28,'Data eshop'!B:W,16,FALSE),IF(RIGHT(L28,1)=\"x\",VLOOKUP(VLOOKUP(RIGHT(A28,5)*1,'Data eshop'!D:N,11,FALSE),DATA!G:I,3,FALSE),IF(RIGHT(L28,1)=\"y\",IF(VLOOKUP(RIGHT(A28,5)*1,'Data eshop'!D:O,12,FALSE)=IF(O28=\"T7\",DATA!$D$2,IF(O28=\"E87\",DATA!$D$5,IF(O28=\"P2\",DATA!$D$6,IF(O28=\"e2695\",DATA!$D$7,\"\")))),IF(N28>=IF(O28=\"T7\",DATA!$K$11,IF(O28=\"E87\",DATA!$L$11,IF(O28=\"P2\",DATA!$M$11,IF(O28=\"e2695\",DATA!$N$11,\"\")))),\"uni008\",\"uni001\"),IF(VLOOKUP(RIGHT(A28,5)*1,'Data eshop'!D:O,12,FALSE)=DATA!$D$3,IF(O28=\"T7\",IF(N28>=500,\"uni009\",\"uni002\"),\"x\"),IF(VLOOKUP(RIGHT(A28,5)*1,'Data eshop'!D:O,12,FALSE)=DATA!$D$4,\"uni010\",\"\"))),\"\"))),\"\")","v":""},{"$f":"IFERROR(IF(A28=\"\",\"\",IF(LEFT(B28,3)=\"uni\",1,VLOOKUP(RIGHT(A28,5)&\"-\"&B28,'Data eshop'!A:R,18,FALSE))),\"\")","v":""},"",{"$f":"IFERROR(IF(A28=\"\",\"\",IF(LEFT(B28,3)=\"uni\",VLOOKUP(B28,DATA!I:X,IF(O28=\"T7\",3,IF(O28=\"E87\",4,IF(O28=\"P2\",5,IF(O28=\"E2695\",6,\"\")))),FALSE),VLOOKUP(RIGHT(A28,5)&\"-\"&B28,'Data eshop'!A:S,19,FALSE))),\"\")","v":""},{"$f":"IFERROR(IF(A28=\"\",\"\",IF(LEFT(B28,3)=\"uni\",0,VLOOKUP(RIGHT(A28,5)&\"-\"&B28,'Data eshop'!A:S,16,FALSE))),\"\")","v":""},null,"",{"$f":"IF(H28=\"\",\"\",WORKDAY(TODAY()+IF(VLOOKUP(VLOOKUP(RIGHT(A28,5)*1,'Data eshop'!D:N,11,FALSE),DATA!A:B,2,FALSE)=7,14,1),5))","v":""},"","",{"$f":"IF(L27=\"\",\"\",IF(L27=RIGHT(A27,5)&\"x\",LEFT(L27,LEN(L27)-1)&\"y\",IF(L27=RIGHT(A27,5)&\"y\",IFERROR(SMALL('Data eshop'!D:D,COUNTIF('Data eshop'!D:D,\"<\"&(LEFT(L27,LEN(L27)-1)*1))),\"\"),IF(ISERROR(IF(VLOOKUP(M27+1,'Data eshop'!C:D,2,FALSE)='Řádky zakázky'!L27,L27,L27&\"x\")),IF(RIGHT(L27,1)=\"y\",\"\",L27&\"x\"),IF(VLOOKUP(M27+1,'Data eshop'!C:D,2,FALSE)='Řádky zakázky'!L27,L27,L27&\"x\")))))","v":"0xxxxxxxxxxxxxxxxxxxxxxxxxx"},1,{"$f":"IF(A28=\"\",\"\",VLOOKUP(RIGHT(A28,5)*1,'Data eshop'!D:W,17,FALSE))","v":{"$error":"#VALUE!"}},{"$f":"VLOOKUP(A28,Zakázky!A:B,2,FALSE)","v":{"$error":"#N/A"}},"","Roluj nahoru, až uvidíš žlutou"]
["19ESh0",{"$f":"IFERROR(IF(ISNUMBER(L29),VLOOKUP(L29&\"-\"&M29,'Data eshop'!B:W,16,FALSE),IF(RIGHT(L29,1)=\"x\",VLOOKUP(VLOOKUP(RIGHT(A29,5)*1,'Data eshop'!D:N,11,FALSE),DATA!G:I,3,FALSE),IF(RIGHT(L29,1)=\"y\",IF(VLOOKUP(RIGHT(A29,5)*1,'Data eshop'!D:O,12,FALSE)=IF(O29=\"T7\",DATA!$D$2,IF(O29=\"E87\",DATA!$D$5,IF(O29=\"P2\",DATA!$D$6,IF(O29=\"e2695\",DATA!$D$7,\"\")))),IF(N29>=IF(O29=\"T7\",DATA!$K$11,IF(O29=\"E87\",DATA!$L$11,IF(O29=\"P2\",DATA!$M$11,IF(O29=\"e2695\",DATA!$N$11,\"\")))),\"uni008\",\"uni001\"),IF(VLOOKUP(RIGHT(A29,5)*1,'Data eshop'!D:O,12,FALSE)=DATA!$D$3,IF(O29=\"T7\",IF(N29>=500,\"uni009\",\"uni002\"),\"x\"),IF(VLOOKUP(RIGHT(A29,5)*1,'Data eshop'!D:O,12,FALSE)=DATA!$D$4,\"uni010\",\"\"))),\"\"))),\"\")","v":""},{"$f":"IFERROR(IF(A29=\"\",\"\",IF(LEFT(B29,3)=\"uni\",1,VLOOKUP(RIGHT(A29,5)&\"-\"&B29,'Data eshop'!A:R,18,FALSE))),\"\")","v":""},"",{"$f":"IFERROR(IF(A29=\"\",\"\",IF(LEFT(B29,3)=\"uni\",VLOOKUP(B29,DATA!I:X,IF(O29=\"T7\",3,IF(O29=\"E87\",4,IF(O29=\"P2\",5,IF(O29=\"E2695\",6,\"\")))),FALSE),VLOOKUP(RIGHT(A29,5)&\"-\"&B29,'Data eshop'!A:S,19,FALSE))),\"\")","v":""},{"$f":"IFERROR(IF(A29=\"\",\"\",IF(LEFT(B29,3)=\"uni\",0,VLOOKUP(RIGHT(A29,5)&\"-\"&B29,'Data eshop'!A:S,16,FALSE))),\"\")","v":""},null,"",{"$f":"IF(H29=\"\",\"\",WORKDAY(TODAY()+IF(VLOOKUP(VLOOKUP(RIGHT(A29,5)*1,'Data eshop'!D:N,11,FALSE),DATA!A:B,2,FALSE)=7,14,1),5))","v":""},"","",{"$f":"IF(L28=\"\",\"\",IF(L28=RIGHT(A28,5)&\"x\",LEFT(L28,LEN(L28)-1)&\"y\",IF(L28=RIGHT(A28,5)&\"y\",IFERROR(SMALL('Data eshop'!D:D,COUNTIF('Data eshop'!D:D,\"<\"&(LEFT(L28,LEN(L28)-1)*1))),\"\"),IF(ISERROR(IF(VLOOKUP(M28+1,'Data eshop'!C:D,2,FALSE)='Řádky zakázky'!L28,L28,L28&\"x\")),IF(RIGHT(L28,1)=\"y\",\"\",L28&\"x\"),IF(VLOOKUP(M28+1,'Data eshop'!C:D,2,FALSE)='Řádky zakázky'!L28,L28,L28&\"x\")))))","v":"0xxxxxxxxxxxxxxxxxxxxxxxxxxx"},1,{"$f":"IF(A29=\"\",\"\",VLOOKUP(RIGHT(A29,5)*1,'Data eshop'!D:W,17,FALSE))","v":{"$error":"#VALUE!"}},{"$f":"VLOOKUP(A29,Zakázky!A:B,2,FALSE)","v":{"$error":"#N/A"}},""]
["19ESh0",{"$f":"IFERROR(IF(ISNUMBER(L30),VLOOKUP(L30&\"-\"&M30,'Data eshop'!B:W,16,FALSE),IF(RIGHT(L30,1)=\"x\",VLOOKUP(VLOOKUP(RIGHT(A30,5)*1,'Data eshop'!D:N,11,FALSE),DATA!G:I,3,FALSE),IF(RIGHT(L30,1)=\"y\",IF(VLOOKUP(RIGHT(A30,5)*1,'Data eshop'!D:O,12,FALSE)=IF(O30=\"T7\",DATA!$D$2,IF(O30=\"E87\",DATA!$D$5,IF(O30=\"P2\",DATA!$D$6,IF(O30=\"e2695\",DATA!$D$7,\"\")))),IF(N30>=IF(O30=\"T7\",DATA!$K$11,IF(O30=\"E87\",DATA!$L$11,IF(O30=\"P2\",DATA!$M$11,IF(O30=\"e2695\",DATA!$N$11,\"\")))),\"uni008\",\"uni001\"),IF(VLOOKUP(RIGHT(A30,5)*1,'Data eshop'!D:O,12,FALSE)=DATA!$D$3,IF(O30=\"T7\",IF(N30>=500,\"uni009\",\"uni002\"),\"x\"),IF(VLOOKUP(RIGHT(A30,5)*1,'Data eshop'!D:O,12,FALSE)=DATA!$D$4,\"uni010\",\"\"))),\"\"))),\"\")","v":""},{"$f":"IFERROR(IF(A30=\"\",\"\",IF(LEFT(B30,3)=\"uni\",1,VLOOKUP(RIGHT(A30,5)&\"-\"&B30,'Data eshop'!A:R,18,FALSE))),\"\")","v":""},"",{"$f":"IFERROR(IF(A30=\"\",\"\",IF(LEFT(B30,3)=\"uni\",VLOOKUP(B30,DATA!I:X,IF(O30=\"T7\",3,IF(O30=\"E87\",4,IF(O30=\"P2\",5,IF(O30=\"E2695\",6,\"\")))),FALSE),VLOOKUP(RIGHT(A30,5)&\"-\"&B30,'Data eshop'!A:S,19,FALSE))),\"\")","v":""},{"$f":"IFERROR(IF(A30=\"\",\"\",IF(LEFT(B30,3)=\"uni\",0,VLOOKUP(RIGHT(A30,5)&\"-\"&B30,'Data eshop'!A:S,16,FALSE))),\"\")","v":""},null,"",{"$f":"IF(H30=\"\",\"\",WORKDAY(TODAY()+IF(VLOOKUP(VLOOKUP(RIGHT(A30,5)*1,'Data eshop'!D:N,11,FALSE),DATA!A:B,2,FALSE)=7,14,1),5))","v":""},"","",{"$f":"IF(L29=\"\",\"\",IF(L29=RIGHT(A29,5)&\"x\",LEFT(L29,LEN(L29)-1)&\"y\",IF(L29=RIGHT(A29,5)&\"y\",IFERROR(SMALL('Data eshop'!D:D,COUNTIF('Data eshop'!D:D,\"<\"&(LEFT(L29,LEN(L29)-1)*1))),\"\"),IF(ISERROR(IF(VLOOKUP(M29+1,'Data eshop'!C:D,2,FALSE)='Řádky zakázky'!L29,L29,L29&\"x\")),IF(RIGHT(L29,1)=\"y\",\"\",L29&\"x\"),IF(VLOOKUP(M29+1,'Data eshop'!C:D,2,FALSE)='Řádky zakázky'!L29,L29,L29&\"x\")))))","v":"0xxxxxxxxxxxxxxxxxxxxxxxxxxxx"},1,{"$f":"IF(A30=\"\",\"\",VLOOKUP(RIGHT(A30,5)*1,'Data eshop'!D:W,17,FALSE))","v":{"$error":"#VALUE!"}},{"$f":"VLOOKUP(A30,Zakázky!A:B,2,FALSE)","v":{"$error":"#N/A"}},""]
["19ESh0",{"$f":"IFERROR(IF(ISNUMBER(L31),VLOOKUP(L31&\"-\"&M31,'Data eshop'!B:W,16,FALSE),IF(RIGHT(L31,1)=\"x\",VLOOKUP(VLOOKUP(RIGHT(A31,5)*1,'Data eshop'!D:N,11,FALSE),DATA!G:I,3,FALSE),IF(RIGHT(L31,1)=\"y\",IF(VLOOKUP(RIGHT(A31,5)*1,'Data eshop'!D:O,12,FALSE)=IF(O31=\"T7\",DATA!$D$2,IF(O31=\"E87\",DATA!$D$5,IF(O31=\"P2\",DATA!$D$6,IF(O31=\"e2695\",DATA!$D$7,\"\")))),IF(N31>=IF(O31=\"T7\",DATA!$K$11,IF(O31=\"E87\",DATA!$L$11,IF(O31=\"P2\",DATA!$M$11,IF(O31=\"e2695\",DATA!$N$11,\"\")))),\"uni008\",\"uni001\"),IF(VLOOKUP(RIGHT(A31,5)*1,'Data eshop'!D:O,12,FALSE)=DATA!$D$3,IF(O31=\"T7\",IF(N31>=500,\"uni009\",\"uni002\"),\"x\"),IF(VLOOKUP(RIGHT(A31,5)*1,'Data eshop'!D:O,12,FALSE)=DATA!$D$4,\"uni010\",\"\"))),\"\"))),\"\")","v":""},{"$f":"IFERROR(IF(A31=\"\",\"\",IF(LEFT(B31,3)=\"uni\",1,VLOOKUP(RIGHT(A31,5)&\"-\"&B31,'Data eshop'!A:R,18,FALSE))),\"\")","v":""},"",{"$f":"IFERROR(IF(A31=\"\",\"\",IF(LEFT(B31,3)=\"uni\",VLOOKUP(B31,DATA!I:X,IF(O31=\"T7\",3,IF(O31=\"E87\",4,IF(O31=\"P2\",5,IF(O31=\"E2695\",6,\"\")))),FALSE),VLOOKUP(RIGHT(A31,5)&\"-\"&B31,'Data eshop'!A:S,19,FALSE))),\"\")","v":""},{"$f":"IFERROR(IF(A31=\"\",\"\",IF(LEFT(B31,3)=\"uni\",0,VLOOKUP(RIGHT(A31,5)&\"-\"&B31,'Data eshop'!A:S,16,FALSE))),\"\")","v":""},null,"",{"$f":"IF(H31=\"\",\"\",WORKDAY(TODAY()+IF(VLOOKUP(VLOOKUP(RIGHT(A31,5)*1,'Data eshop'!D:N,11,FALSE),DATA!A:B,2,FALSE)=7,14,1),5))","v":""},"","",{"$f":"IF(L30=\"\",\"\",IF(L30=RIGHT(A30,5)&\"x\",LEFT(L30,LEN(L30)-1)&\"y\",IF(L30=RIGHT(A30,5)&\"y\",IFERROR(SMALL('Data eshop'!D:D,COUNTIF('Data eshop'!D:D,\"<\"&(LEFT(L30,LEN(L30)-1)*1))),\"\"),IF(ISERROR(IF(VLOOKUP(M30+1,'Data eshop'!C:D,2,FALSE)='Řádky zakázky'!L30,L30,L30&\"x\")),IF(RIGHT(L30,1)=\"y\",\"\",L30&\"x\"),IF(VLOOKUP(M30+1,'Data eshop'!C:D,2,FALSE)='Řádky zakázky'!L30,L30,L30&\"x\")))))","v":"0xxxxxxxxxxxxxxxxxxxxxxxxxxxxx"},1,{"$f":"IF(A31=\"\",\"\",VLOOKUP(RIGHT(A31,5)*1,'Data eshop'!D:W,17,FALSE))","v":{"$error":"#VALUE!"}},{"$f":"VLOOKUP(A31,Zakázky!A:B,2,FALSE)","v":{"$error":"#N/A"}},""]
["19ESh0",{"$f":"IFERROR(IF(ISNUMBER(L32),VLOOKUP(L32&\"-\"&M32,'Data eshop'!B:W,16,FALSE),IF(RIGHT(L32,1)=\"x\",VLOOKUP(VLOOKUP(RIGHT(A32,5)*1,'Data eshop'!D:N,11,FALSE),DATA!G:I,3,FALSE),IF(RIGHT(L32,1)=\"y\",IF(VLOOKUP(RIGHT(A32,5)*1,'Data eshop'!D:O,12,FALSE)=IF(O32=\"T7\",DATA!$D$2,IF(O32=\"E87\",DATA!$D$5,IF(O32=\"P2\",DATA!$D$6,IF(O32=\"e2695\",DATA!$D$7,\"\")))),IF(N32>=IF(O32=\"T7\",DATA!$K$11,IF(O32=\"E87\",DATA!$L$11,IF(O32=\"P2\",DATA!$M$11,IF(O32=\"e2695\",DATA!$N$11,\"\")))),\"uni008\",\"uni001\"),IF(VLOOKUP(RIGHT(A32,5)*1,'Data eshop'!D:O,12,FALSE)=DATA!$D$3,IF(O32=\"T7\",IF(N32>=500,\"uni009\",\"uni002\"),\"x\"),IF(VLOOKUP(RIGHT(A32,5)*1,'Data eshop'!D:O,12,FALSE)=DATA!$D$4,\"uni010\",\"\"))),\"\"))),\"\")","v":""},{"$f":"IFERROR(IF(A32=\"\",\"\",IF(LEFT(B32,3)=\"uni\",1,VLOOKUP(RIGHT(A32,5)&\"-\"&B32,'Data eshop'!A:R,18,FALSE))),\"\")","v":""},"",{"$f":"IFERROR(IF(A32=\"\",\"\",IF(LEFT(B32,3)=\"uni\",VLOOKUP(B32,DATA!I:X,IF(O32=\"T7\",3,IF(O32=\"E87\",4,IF(O32=\"P2\",5,IF(O32=\"E2695\",6,\"\")))),FALSE),VLOOKUP(RIGHT(A32,5)&\"-\"&B32,'Data eshop'!A:S,19,FALSE))),\"\")","v":""},{"$f":"IFERROR(IF(A32=\"\",\"\",IF(LEFT(B32,3)=\"uni\",0,VLOOKUP(RIGHT(A32,5)&\"-\"&B32,'Data eshop'!A:S,16,FALSE))),\"\")","v":""},null,"",{"$f":"IF(H32=\"\",\"\",WORKDAY(TODAY()+IF(VLOOKUP(VLOOKUP(RIGHT(A32,5)*1,'Data eshop'!D:N,11,FALSE),DATA!A:B,2,FALSE)=7,14,1),5))","v":""},"","",{"$f":"IF(L31=\"\",\"\",IF(L31=RIGHT(A31,5)&\"x\",LEFT(L31,LEN(L31)-1)&\"y\",IF(L31=RIGHT(A31,5)&\"y\",IFERROR(SMALL('Data eshop'!D:D,COUNTIF('Data eshop'!D:D,\"<\"&(LEFT(L31,LEN(L31)-1)*1))),\"\"),IF(ISERROR(IF(VLOOKUP(M31+1,'Data eshop'!C:D,2,FALSE)='Řádky zakázky'!L31,L31,L31&\"x\")),IF(RIGHT(L31,1)=\"y\",\"\",L31&\"x\"),IF(VLOOKUP(M31+1,'Data eshop'!C:D,2,FALSE)='Řádky zakázky'!L31,L31,L31&\"x\")))))","v":"0xxxxxxxxxxxxxxxxxxxxxxxxxxxxxx"},1,{"$f":"IF(A32=\"\",\"\",VLOOKUP(RIGHT(A32,5)*1,'Data eshop'!D:W,17,FALSE))","v":{"$error":"#VALUE!"}},{"$f":"VLOOKUP(A32,Zakázky!A:B,2,FALSE)","v":{"$error":"#N/A"}},"","Roluj nahoru, až uvidíš žlutou"]
["19ESh0",{"$f":"IFERROR(IF(ISNUMBER(L33),VLOOKUP(L33&\"-\"&M33,'Data eshop'!B:W,16,FALSE),IF(RIGHT(L33,1)=\"x\",VLOOKUP(VLOOKUP(RIGHT(A33,5)*1,'Data eshop'!D:N,11,FALSE),DATA!G:I,3,FALSE),IF(RIGHT(L33,1)=\"y\",IF(VLOOKUP(RIGHT(A33,5)*1,'Data eshop'!D:O,12,FALSE)=IF(O33=\"T7\",DATA!$D$2,IF(O33=\"E87\",DATA!$D$5,IF(O33=\"P2\",DATA!$D$6,IF(O33=\"e2695\",DATA!$D$7,\"\")))),IF(N33>=IF(O33=\"T7\",DATA!$K$11,IF(O33=\"E87\",DATA!$L$11,IF(O33=\"P2\",DATA!$M$11,IF(O33=\"e2695\",DATA!$N$11,\"\")))),\"uni008\",\"uni001\"),IF(VLOOKUP(RIGHT(A33,5)*1,'Data eshop'!D:O,12,FALSE)=DATA!$D$3,IF(O33=\"T7\",IF(N33>=500,\"uni009\",\"uni002\"),\"x\"),IF(VLOOKUP(RIGHT(A33,5)*1,'Data eshop'!D:O,12,FALSE)=DATA!$D$4,\"uni010\",\"\"))),\"\"))),\"\")","v":""},{"$f":"IFERROR(IF(A33=\"\",\"\",IF(LEFT(B33,3)=\"uni\",1,VLOOKUP(RIGHT(A33,5)&\"-\"&B33,'Data eshop'!A:R,18,FALSE))),\"\")","v":""},"",{"$f":"IFERROR(IF(A33=\"\",\"\",IF(LEFT(B33,3)=\"uni\",VLOOKUP(B33,DATA!I:X,IF(O33=\"T7\",3,IF(O33=\"E87\",4,IF(O33=\"P2\",5,IF(O33=\"E2695\",6,\"\")))),FALSE),VLOOKUP(RIGHT(A33,5)&\"-\"&B33,'Data eshop'!A:S,19,FALSE))),\"\")","v":""},{"$f":"IFERROR(IF(A33=\"\",\"\",IF(LEFT(B33,3)=\"uni\",0,VLOOKUP(RIGHT(A33,5)&\"-\"&B33,'Data eshop'!A:S,16,FALSE))),\"\")","v":""},null,"",{"$f":"IF(H33=\"\",\"\",WORKDAY(TODAY()+IF(VLOOKUP(VLOOKUP(RIGHT(A33,5)*1,'Data eshop'!D:N,11,FALSE),DATA!A:B,2,FALSE)=7,14,1),5))","v":""},"","",{"$f":"IF(L32=\"\",\"\",IF(L32=RIGHT(A32,5)&\"x\",LEFT(L32,LEN(L32)-1)&\"y\",IF(L32=RIGHT(A32,5)&\"y\",IFERROR(SMALL('Data eshop'!D:D,COUNTIF('Data eshop'!D:D,\"<\"&(LEFT(L32,LEN(L32)-1)*1))),\"\"),IF(ISERROR(IF(VLOOKUP(M32+1,'Data eshop'!C:D,2,FALSE)='Řádky zakázky'!L32,L32,L32&\"x\")),IF(RIGHT(L32,1)=\"y\",\"\",L32&\"x\"),IF(VLOOKUP(M32+1,'Data eshop'!C:D,2,FALSE)='Řádky zakázky'!L32,L32,L32&\"x\")))))","v":"0xxxxxxxxxxxxxxxxxxxxxxxxxxxxxxx"},1,{"$f":"IF(A33=\"\",\"\",VLOOKUP(RIGHT(A33,5)*1,'Data eshop'!D:W,17,FALSE))","v":{"$error":"#VALUE!"}},{"$f":"VLOOKUP(A33,Zakázky!A:B,2,FALSE)","v":{"$error":"#N/A"}},""]
["19ESh0",{"$f":"IFERROR(IF(ISNUMBER(L34),VLOOKUP(L34&\"-\"&M34,'Data eshop'!B:W,16,FALSE),IF(RIGHT(L34,1)=\"x\",VLOOKUP(VLOOKUP(RIGHT(A34,5)*1,'Data eshop'!D:N,11,FALSE),DATA!G:I,3,FALSE),IF(RIGHT(L34,1)=\"y\",IF(VLOOKUP(RIGHT(A34,5)*1,'Data eshop'!D:O,12,FALSE)=IF(O34=\"T7\",DATA!$D$2,IF(O34=\"E87\",DATA!$D$5,IF(O34=\"P2\",DATA!$D$6,IF(O34=\"e2695\",DATA!$D$7,\"\")))),IF(N34>=IF(O34=\"T7\",DATA!$K$11,IF(O34=\"E87\",DATA!$L$11,IF(O34=\"P2\",DATA!$M$11,IF(O34=\"e2695\",DATA!$N$11,\"\")))),\"uni008\",\"uni001\"),IF(VLOOKUP(RIGHT(A34,5)*1,'Data eshop'!D:O,12,FALSE)=DATA!$D$3,IF(O34=\"T7\",IF(N34>=500,\"uni009\",\"uni002\"),\"x\"),IF(VLOOKUP(RIGHT(A34,5)*1,'Data eshop'!D:O,12,FALSE)=DATA!$D$4,\"uni010\",\"\"))),\"\"))),\"\")","v":""},{"$f":"IFERROR(IF(A34=\"\",\"\",IF(LEFT(B34,3)=\"uni\",1,VLOOKUP(RIGHT(A34,5)&\"-\"&B34,'Data eshop'!A:R,18,FALSE))),\"\")","v":""},"",{"$f":"IFERROR(IF(A34=\"\",\"\",IF(LEFT(B34,3)=\"uni\",VLOOKUP(B34,DATA!I:X,IF(O34=\"T7\",3,IF(O34=\"E87\",4,IF(O34=\"P2\",5,IF(O34=\"E2695\",6,\"\")))),FALSE),VLOOKUP(RIGHT(A34,5)&\"-\"&B34,'Data eshop'!A:S,19,FALSE))),\"\")","v":""},{"$f":"IFERROR(IF(A34=\"\",\"\",IF(LEFT(B34,3)=\"uni\",0,VLOOKUP(RIGHT(A34,5)&\"-\"&B34,'Data eshop'!A:S,16,FALSE))),\"\")","v":""},null,"",{"$f":"IF(H34=\"\",\"\",WORKDAY(TODAY()+IF(VLOOKUP(VLOOKUP(RIGHT(A34,5)*1,'Data eshop'!D:N,11,FALSE),DATA!A:B,2,FALSE)=7,14,1),5))","v":""},"","",{"$f":"IF(L33=\"\",\"\",IF(L33=RIGHT(A33,5)&\"x\",LEFT(L33,LEN(L33)-1)&\"y\",IF(L33=RIGHT(A33,5)&\"y\",IFERROR(SMALL('Data eshop'!D:D,COUNTIF('Data eshop'!D:D,\"<\"&(LEFT(L33,LEN(L33)-1)*1))),\"\"),IF(ISERROR(IF(VLOOKUP(M33+1,'Data eshop'!C:D,2,FALSE)='Řádky zakázky'!L33,L33,L33&\"x\")),IF(RIGHT(L33,1)=\"y\",\"\",L33&\"x\"),IF(VLOOKUP(M33+1,'Data eshop'!C:D,2,FALSE)='Řádky zakázky'!L33,L33,L33&\"x\")))))","v":"0xxxxxxxxxxxxxxxxxxxxxxxxxxxxxxxx"},1,{"$f":"IF(A34=\"\",\"\",VLOOKUP(RIGHT(A34,5)*1,'Data eshop'!D:W,17,FALSE))","v":{"$error":"#VALUE!"}},{"$f":"VLOOKUP(A34,Zakázky!A:B,2,FALSE)","v":{"$error":"#N/A"}},""]
["19ESh0",{"$f":"IFERROR(IF(ISNUMBER(L35),VLOOKUP(L35&\"-\"&M35,'Data eshop'!B:W,16,FALSE),IF(RIGHT(L35,1)=\"x\",VLOOKUP(VLOOKUP(RIGHT(A35,5)*1,'Data eshop'!D:N,11,FALSE),DATA!G:I,3,FALSE),IF(RIGHT(L35,1)=\"y\",IF(VLOOKUP(RIGHT(A35,5)*1,'Data eshop'!D:O,12,FALSE)=IF(O35=\"T7\",DATA!$D$2,IF(O35=\"E87\",DATA!$D$5,IF(O35=\"P2\",DATA!$D$6,IF(O35=\"e2695\",DATA!$D$7,\"\")))),IF(N35>=IF(O35=\"T7\",DATA!$K$11,IF(O35=\"E87\",DATA!$L$11,IF(O35=\"P2\",DATA!$M$11,IF(O35=\"e2695\",DATA!$N$11,\"\")))),\"uni008\",\"uni001\"),IF(VLOOKUP(RIGHT(A35,5)*1,'Data eshop'!D:O,12,FALSE)=DATA!$D$3,IF(O35=\"T7\",IF(N35>=500,\"uni009\",\"uni002\"),\"x\"),IF(VLOOKUP(RIGHT(A35,5)*1,'Data eshop'!D:O,12,FALSE)=DATA!$D$4,\"uni010\",\"\"))),\"\"))),\"\")","v":""},{"$f":"IFERROR(IF(A35=\"\",\"\",IF(LEFT(B35,3)=\"uni\",1,VLOOKUP(RIGHT(A35,5)&\"-\"&B35,'Data eshop'!A:R,18,FALSE))),\"\")","v":""},"",{"$f":"IFERROR(IF(A35=\"\",\"\",IF(LEFT(B35,3)=\"uni\",VLOOKUP(B35,DATA!I:X,IF(O35=\"T7\",3,IF(O35=\"E87\",4,IF(O35=\"P2\",5,IF(O35=\"E2695\",6,\"\")))),FALSE),VLOOKUP(RIGHT(A35,5)&\"-\"&B35,'Data eshop'!A:S,19,FALSE))),\"\")","v":""},{"$f":"IFERROR(IF(A35=\"\",\"\",IF(LEFT(B35,3)=\"uni\",0,VLOOKUP(RIGHT(A35,5)&\"-\"&B35,'Data eshop'!A:S,16,FALSE))),\"\")","v":""},null,"",{"$f":"IF(H35=\"\",\"\",WORKDAY(TODAY()+IF(VLOOKUP(VLOOKUP(RIGHT(A35,5)*1,'Data eshop'!D:N,11,FALSE),DATA!A:B,2,FALSE)=7,14,1),5))","v":""},"","",{"$f":"IF(L34=\"\",\"\",IF(L34=RIGHT(A34,5)&\"x\",LEFT(L34,LEN(L34)-1)&\"y\",IF(L34=RIGHT(A34,5)&\"y\",IFERROR(SMALL('Data eshop'!D:D,COUNTIF('Data eshop'!D:D,\"<\"&(LEFT(L34,LEN(L34)-1)*1))),\"\"),IF(ISERROR(IF(VLOOKUP(M34+1,'Data eshop'!C:D,2,FALSE)='Řádky zakázky'!L34,L34,L34&\"x\")),IF(RIGHT(L34,1)=\"y\",\"\",L34&\"x\"),IF(VLOOKUP(M34+1,'Data eshop'!C:D,2,FALSE)='Řádky zakázky'!L34,L34,L34&\"x\")))))","v":"0xxxxxxxxxxxxxxxxxxxxxxxxxxxxxxxxx"},1,{"$f":"IF(A35=\"\",\"\",VLOOKUP(RIGHT(A35,5)*1,'Data eshop'!D:W,17,FALSE))","v":{"$error":"#VALUE!"}},{"$f":"VLOOKUP(A35,Zakázky!A:B,2,FALSE)","v":{"$error":"#N/A"}},""]
["19ESh0",{"$f":"IFERROR(IF(ISNUMBER(L36),VLOOKUP(L36&\"-\"&M36,'Data eshop'!B:W,16,FALSE),IF(RIGHT(L36,1)=\"x\",VLOOKUP(VLOOKUP(RIGHT(A36,5)*1,'Data eshop'!D:N,11,FALSE),DATA!G:I,3,FALSE),IF(RIGHT(L36,1)=\"y\",IF(VLOOKUP(RIGHT(A36,5)*1,'Data eshop'!D:O,12,FALSE)=IF(O36=\"T7\",DATA!$D$2,IF(O36=\"E87\",DATA!$D$5,IF(O36=\"P2\",DATA!$D$6,IF(O36=\"e2695\",DATA!$D$7,\"\")))),IF(N36>=IF(O36=\"T7\",DATA!$K$11,IF(O36=\"E87\",DATA!$L$11,IF(O36=\"P2\",DATA!$M$11,IF(O36=\"e2695\",DATA!$N$11,\"\")))),\"uni008\",\"uni001\"),IF(VLOOKUP(RIGHT(A36,5)*1,'Data eshop'!D:O,12,FALSE)=DATA!$D$3,IF(O36=\"T7\",IF(N36>=500,\"uni009\",\"uni002\"),\"x\"),IF(VLOOKUP(RIGHT(A36,5)*1,'Data eshop'!D:O,12,FALSE)=DATA!$D$4,\"uni010\",\"\"))),\"\"))),\"\")","v":""},{"$f":"IFERROR(IF(A36=\"\",\"\",IF(LEFT(B36,3)=\"uni\",1,VLOOKUP(RIGHT(A36,5)&\"-\"&B36,'Data eshop'!A:R,18,FALSE))),\"\")","v":""},"",{"$f":"IFERROR(IF(A36=\"\",\"\",IF(LEFT(B36,3)=\"uni\",VLOOKUP(B36,DATA!I:X,IF(O36=\"T7\",3,IF(O36=\"E87\",4,IF(O36=\"P2\",5,IF(O36=\"E2695\",6,\"\")))),FALSE),VLOOKUP(RIGHT(A36,5)&\"-\"&B36,'Data eshop'!A:S,19,FALSE))),\"\")","v":""},{"$f":"IFERROR(IF(A36=\"\",\"\",IF(LEFT(B36,3)=\"uni\",0,VLOOKUP(RIGHT(A36,5)&\"-\"&B36,'Data eshop'!A:S,16,FALSE))),\"\")","v":""},null,"",{"$f":"IF(H36=\"\",\"\",WORKDAY(TODAY()+IF(VLOOKUP(VLOOKUP(RIGHT(A36,5)*1,'Data eshop'!D:N,11,FALSE),DATA!A:B,2,FALSE)=7,14,1),5))","v":""},"","",{"$f":"IF(L35=\"\",\"\",IF(L35=RIGHT(A35,5)&\"x\",LEFT(L35,LEN(L35)-1)&\"y\",IF(L35=RIGHT(A35,5)&\"y\",IFERROR(SMALL('Data eshop'!D:D,COUNTIF('Data eshop'!D:D,\"<\"&(LEFT(L35,LEN(L35)-1)*1))),\"\"),IF(ISERROR(IF(VLOOKUP(M35+1,'Data eshop'!C:D,2,FALSE)='Řádky zakázky'!L35,L35,L35&\"x\")),IF(RIGHT(L35,1)=\"y\",\"\",L35&\"x\"),IF(VLOOKUP(M35+1,'Data eshop'!C:D,2,FALSE)='Řádky zakázky'!L35,L35,L35&\"x\")))))","v":"0xxxxxxxxxxxxxxxxxxxxxxxxxxxxxxxxxx"},1,{"$f":"IF(A36=\"\",\"\",VLOOKUP(RIGHT(A36,5)*1,'Data eshop'!D:W,17,FALSE))","v":{"$error":"#VALUE!"}},{"$f":"VLOOKUP(A36,Zakázky!A:B,2,FALSE)","v":{"$error":"#N/A"}},"","Roluj nahoru, až uvidíš žlutou"]
["19ESh0",{"$f":"IFERROR(IF(ISNUMBER(L37),VLOOKUP(L37&\"-\"&M37,'Data eshop'!B:W,16,FALSE),IF(RIGHT(L37,1)=\"x\",VLOOKUP(VLOOKUP(RIGHT(A37,5)*1,'Data eshop'!D:N,11,FALSE),DATA!G:I,3,FALSE),IF(RIGHT(L37,1)=\"y\",IF(VLOOKUP(RIGHT(A37,5)*1,'Data eshop'!D:O,12,FALSE)=IF(O37=\"T7\",DATA!$D$2,IF(O37=\"E87\",DATA!$D$5,IF(O37=\"P2\",DATA!$D$6,IF(O37=\"e2695\",DATA!$D$7,\"\")))),IF(N37>=IF(O37=\"T7\",DATA!$K$11,IF(O37=\"E87\",DATA!$L$11,IF(O37=\"P2\",DATA!$M$11,IF(O37=\"e2695\",DATA!$N$11,\"\")))),\"uni008\",\"uni001\"),IF(VLOOKUP(RIGHT(A37,5)*1,'Data eshop'!D:O,12,FALSE)=DATA!$D$3,IF(O37=\"T7\",IF(N37>=500,\"uni009\",\"uni002\"),\"x\"),IF(VLOOKUP(RIGHT(A37,5)*1,'Data eshop'!D:O,12,FALSE)=DATA!$D$4,\"uni010\",\"\"))),\"\"))),\"\")","v":""},{"$f":"IFERROR(IF(A37=\"\",\"\",IF(LEFT(B37,3)=\"uni\",1,VLOOKUP(RIGHT(A37,5)&\"-\"&B37,'Data eshop'!A:R,18,FALSE))),\"\")","v":""},"",{"$f":"IFERROR(IF(A37=\"\",\"\",IF(LEFT(B37,3)=\"uni\",VLOOKUP(B37,DATA!I:X,IF(O37=\"T7\",3,IF(O37=\"E87\",4,IF(O37=\"P2\",5,IF(O37=\"E2695\",6,\"\")))),FALSE),VLOOKUP(RIGHT(A37,5)&\"-\"&B37,'Data eshop'!A:S,19,FALSE))),\"\")","v":""},{"$f":"IFERROR(IF(A37=\"\",\"\",IF(LEFT(B37,3)=\"uni\",0,VLOOKUP(RIGHT(A37,5)&\"-\"&B37,'Data eshop'!A:S,16,FALSE))),\"\")","v":""},null,"",{"$f":"IF(H37=\"\",\"\",WORKDAY(TODAY()+IF(VLOOKUP(VLOOKUP(RIGHT(A37,5)*1,'Data eshop'!D:N,11,FALSE),DATA!A:B,2,FALSE)=7,14,1),5))","v":""},"","",{"$f":"IF(L36=\"\",\"\",IF(L36=RIGHT(A36,5)&\"x\",LEFT(L36,LEN(L36)-1)&\"y\",IF(L36=RIGHT(A36,5)&\"y\",IFERROR(SMALL('Data eshop'!D:D,COUNTIF('Data eshop'!D:D,\"<\"&(LEFT(L36,LEN(L36)-1)*1))),\"\"),IF(ISERROR(IF(VLOOKUP(M36+1,'Data eshop'!C:D,2,FALSE)='Řádky zakázky'!L36,L36,L36&\"x\")),IF(RIGHT(L36,1)=\"y\",\"\",L36&\"x\"),IF(VLOOKUP(M36+1,'Data eshop'!C:D,2,FALSE)='Řádky zakázky'!L36,L36,L36&\"x\")))))","v":"0xxxxxxxxxxxxxxxxxxxxxxxxxxxxxxxxxxx"},1,{"$f":"IF(A37=\"\",\"\",VLOOKUP(RIGHT(A37,5)*1,'Data eshop'!D:W,17,FALSE))","v":{"$error":"#VALUE!"}},{"$f":"VLOOKUP(A37,Zakázky!A:B,2,FALSE)","v":{"$error":"#N/A"}},""]
["19ESh0",{"$f":"IFERROR(IF(ISNUMBER(L38),VLOOKUP(L38&\"-\"&M38,'Data eshop'!B:W,16,FALSE),IF(RIGHT(L38,1)=\"x\",VLOOKUP(VLOOKUP(RIGHT(A38,5)*1,'Data eshop'!D:N,11,FALSE),DATA!G:I,3,FALSE),IF(RIGHT(L38,1)=\"y\",IF(VLOOKUP(RIGHT(A38,5)*1,'Data eshop'!D:O,12,FALSE)=IF(O38=\"T7\",DATA!$D$2,IF(O38=\"E87\",DATA!$D$5,IF(O38=\"P2\",DATA!$D$6,IF(O38=\"e2695\",DATA!$D$7,\"\")))),IF(N38>=IF(O38=\"T7\",DATA!$K$11,IF(O38=\"E87\",DATA!$L$11,IF(O38=\"P2\",DATA!$M$11,IF(O38=\"e2695\",DATA!$N$11,\"\")))),\"uni008\",\"uni001\"),IF(VLOOKUP(RIGHT(A38,5)*1,'Data eshop'!D:O,12,FALSE)=DATA!$D$3,IF(O38=\"T7\",IF(N38>=500,\"uni009\",\"uni002\"),\"x\"),IF(VLOOKUP(RIGHT(A38,5)*1,'Data eshop'!D:O,12,FALSE)=DATA!$D$4,\"uni010\",\"\"))),\"\"))),\"\")","v":""},{"$f":"IFERROR(IF(A38=\"\",\"\",IF(LEFT(B38,3)=\"uni\",1,VLOOKUP(RIGHT(A38,5)&\"-\"&B38,'Data eshop'!A:R,18,FALSE))),\"\")","v":""},"",{"$f":"IFERROR(IF(A38=\"\",\"\",IF(LEFT(B38,3)=\"uni\",VLOOKUP(B38,DATA!I:X,IF(O38=\"T7\",3,IF(O38=\"E87\",4,IF(O38=\"P2\",5,IF(O38=\"E2695\",6,\"\")))),FALSE),VLOOKUP(RIGHT(A38,5)&\"-\"&B38,'Data eshop'!A:S,19,FALSE))),\"\")","v":""},{"$f":"IFERROR(IF(A38=\"\",\"\",IF(LEFT(B38,3)=\"uni\",0,VLOOKUP(RIGHT(A38,5)&\"-\"&B38,'Data eshop'!A:S,16,FALSE))),\"\")","v":""},null,"",{"$f":"IF(H38=\"\",\"\",WORKDAY(TODAY()+IF(VLOOKUP(VLOOKUP(RIGHT(A38,5)*1,'Data eshop'!D:N,11,FALSE),DATA!A:B,2,FALSE)=7,14,1),5))","v":""},"","",{"$f":"IF(L37=\"\",\"\",IF(L37=RIGHT(A37,5)&\"x\",LEFT(L37,LEN(L37)-1)&\"y\",IF(L37=RIGHT(A37,5)&\"y\",IFERROR(SMALL('Data eshop'!D:D,COUNTIF('Data eshop'!D:D,\"<\"&(LEFT(L37,LEN(L37)-1)*1))),\"\"),IF(ISERROR(IF(VLOOKUP(M37+1,'Data eshop'!C:D,2,FALSE)='Řádky zakázky'!L37,L37,L37&\"x\")),IF(RIGHT(L37,1)=\"y\",\"\",L37&\"x\"),IF(VLOOKUP(M37+1,'Data eshop'!C:D,2,FALSE)='Řádky zakázky'!L37,L37,L37&\"x\")))))","v":"0xxxxxxxxxxxxxxxxxxxxxxxxxxxxxxxxxxxx"},1,{"$f":"IF(A38=\"\",\"\",VLOOKUP(RIGHT(A38,5)*1,'Data eshop'!D:W,17,FALSE))","v":{"$error":"#VALUE!"}},{"$f":"VLOOKUP(A38,Zakázky!A:B,2,FALSE)","v":{"$error":"#N/A"}},""]
["19ESh0",{"$f":"IFERROR(IF(ISNUMBER(L39),VLOOKUP(L39&\"-\"&M39,'Data eshop'!B:W,16,FALSE),IF(RIGHT(L39,1)=\"x\",VLOOKUP(VLOOKUP(RIGHT(A39,5)*1,'Data eshop'!D:N,11,FALSE),DATA!G:I,3,FALSE),IF(RIGHT(L39,1)=\"y\",IF(VLOOKUP(RIGHT(A39,5)*1,'Data eshop'!D:O,12,FALSE)=IF(O39=\"T7\",DATA!$D$2,IF(O39=\"E87\",DATA!$D$5,IF(O39=\"P2\",DATA!$D$6,IF(O39=\"e2695\",DATA!$D$7,\"\")))),IF(N39>=IF(O39=\"T7\",DATA!$K$11,IF(O39=\"E87\",DATA!$L$11,IF(O39=\"P2\",DATA!$M$11,IF(O39=\"e2695\",DATA!$N$11,\"\")))),\"uni008\",\"uni001\"),IF(VLOOKUP(RIGHT(A39,5)*1,'Data eshop'!D:O,12,FALSE)=DATA!$D$3,IF(O39=\"T7\",IF(N39>=500,\"uni009\",\"uni002\"),\"x\"),IF(VLOOKUP(RIGHT(A39,5)*1,'Data eshop'!D:O,12,FALSE)=DATA!$D$4,\"uni010\",\"\"))),\"\"))),\"\")","v":""},{"$f":"IFERROR(IF(A39=\"\",\"\",IF(LEFT(B39,3)=\"uni\",1,VLOOKUP(RIGHT(A39,5)&\"-\"&B39,'Data eshop'!A:R,18,FALSE))),\"\")","v":""},"",{"$f":"IFERROR(IF(A39=\"\",\"\",IF(LEFT(B39,3)=\"uni\",VLOOKUP(B39,DATA!I:X,IF(O39=\"T7\",3,IF(O39=\"E87\",4,IF(O39=\"P2\",5,IF(O39=\"E2695\",6,\"\")))),FALSE),VLOOKUP(RIGHT(A39,5)&\"-\"&B39,'Data eshop'!A:S,19,FALSE))),\"\")","v":""},{"$f":"IFERROR(IF(A39=\"\",\"\",IF(LEFT(B39,3)=\"uni\",0,VLOOKUP(RIGHT(A39,5)&\"-\"&B39,'Data eshop'!A:S,16,FALSE))),\"\")","v":""},null,"",{"$f":"IF(H39=\"\",\"\",WORKDAY(TODAY()+IF(VLOOKUP(VLOOKUP(RIGHT(A39,5)*1,'Data eshop'!D:N,11,FALSE),DATA!A:B,2,FALSE)=7,14,1),5))","v":""},"","",{"$f":"IF(L38=\"\",\"\",IF(L38=RIGHT(A38,5)&\"x\",LEFT(L38,LEN(L38)-1)&\"y\",IF(L38=RIGHT(A38,5)&\"y\",IFERROR(SMALL('Data eshop'!D:D,COUNTIF('Data eshop'!D:D,\"<\"&(LEFT(L38,LEN(L38)-1)*1))),\"\"),IF(ISERROR(IF(VLOOKUP(M38+1,'Data eshop'!C:D,2,FALSE)='Řádky zakázky'!L38,L38,L38&\"x\")),IF(RIGHT(L38,1)=\"y\",\"\",L38&\"x\"),IF(VLOOKUP(M38+1,'Data eshop'!C:D,2,FALSE)='Řádky zakázky'!L38,L38,L38&\"x\")))))","v":"0xxxxxxxxxxxxxxxxxxxxxxxxxxxxxxxxxxxxx"},1,{"$f":"IF(A39=\"\",\"\",VLOOKUP(RIGHT(A39,5)*1,'Data eshop'!D:W,17,FALSE))","v":{"$error":"#VALUE!"}},{"$f":"VLOOKUP(A39,Zakázky!A:B,2,FALSE)","v":{"$error":"#N/A"}},""]
["19ESh0",{"$f":"IFERROR(IF(ISNUMBER(L40),VLOOKUP(L40&\"-\"&M40,'Data eshop'!B:W,16,FALSE),IF(RIGHT(L40,1)=\"x\",VLOOKUP(VLOOKUP(RIGHT(A40,5)*1,'Data eshop'!D:N,11,FALSE),DATA!G:I,3,FALSE),IF(RIGHT(L40,1)=\"y\",IF(VLOOKUP(RIGHT(A40,5)*1,'Data eshop'!D:O,12,FALSE)=IF(O40=\"T7\",DATA!$D$2,IF(O40=\"E87\",DATA!$D$5,IF(O40=\"P2\",DATA!$D$6,IF(O40=\"e2695\",DATA!$D$7,\"\")))),IF(N40>=IF(O40=\"T7\",DATA!$K$11,IF(O40=\"E87\",DATA!$L$11,IF(O40=\"P2\",DATA!$M$11,IF(O40=\"e2695\",DATA!$N$11,\"\")))),\"uni008\",\"uni001\"),IF(VLOOKUP(RIGHT(A40,5)*1,'Data eshop'!D:O,12,FALSE)=DATA!$D$3,IF(O40=\"T7\",IF(N40>=500,\"uni009\",\"uni002\"),\"x\"),IF(VLOOKUP(RIGHT(A40,5)*1,'Data eshop'!D:O,12,FALSE)=DATA!$D$4,\"uni010\",\"\"))),\"\"))),\"\")","v":""},{"$f":"IFERROR(IF(A40=\"\",\"\",IF(LEFT(B40,3)=\"uni\",1,VLOOKUP(RIGHT(A40,5)&\"-\"&B40,'Data eshop'!A:R,18,FALSE))),\"\")","v":""},"",{"$f":"IFERROR(IF(A40=\"\",\"\",IF(LEFT(B40,3)=\"uni\",VLOOKUP(B40,DATA!I:X,IF(O40=\"T7\",3,IF(O40=\"E87\",4,IF(O40=\"P2\",5,IF(O40=\"E2695\",6,\"\")))),FALSE),VLOOKUP(RIGHT(A40,5)&\"-\"&B40,'Data eshop'!A:S,19,FALSE))),\"\")","v":""},{"$f":"IFERROR(IF(A40=\"\",\"\",IF(LEFT(B40,3)=\"uni\",0,VLOOKUP(RIGHT(A40,5)&\"-\"&B40,'Data eshop'!A:S,16,FALSE))),\"\")","v":""},null,"",{"$f":"IF(H40=\"\",\"\",WORKDAY(TODAY()+IF(VLOOKUP(VLOOKUP(RIGHT(A40,5)*1,'Data eshop'!D:N,11,FALSE),DATA!A:B,2,FALSE)=7,14,1),5))","v":""},"","",{"$f":"IF(L39=\"\",\"\",IF(L39=RIGHT(A39,5)&\"x\",LEFT(L39,LEN(L39)-1)&\"y\",IF(L39=RIGHT(A39,5)&\"y\",IFERROR(SMALL('Data eshop'!D:D,COUNTIF('Data eshop'!D:D,\"<\"&(LEFT(L39,LEN(L39)-1)*1))),\"\"),IF(ISERROR(IF(VLOOKUP(M39+1,'Data eshop'!C:D,2,FALSE)='Řádky zakázky'!L39,L39,L39&\"x\")),IF(RIGHT(L39,1)=\"y\",\"\",L39&\"x\"),IF(VLOOKUP(M39+1,'Data eshop'!C:D,2,FALSE)='Řádky zakázky'!L39,L39,L39&\"x\")))))","v":"0xxxxxxxxxxxxxxxxxxxxxxxxxxxxxxxxxxxxxx"},1,{"$f":"IF(A40=\"\",\"\",VLOOKUP(RIGHT(A40,5)*1,'Data eshop'!D:W,17,FALSE))","v":{"$error":"#VALUE!"}},{"$f":"VLOOKUP(A40,Zakázky!A:B,2,FALSE)","v":{"$error":"#N/A"}},"","Roluj nahoru, až uvidíš žlutou"]
["19ESh0",{"$f":"IFERROR(IF(ISNUMBER(L41),VLOOKUP(L41&\"-\"&M41,'Data eshop'!B:W,16,FALSE),IF(RIGHT(L41,1)=\"x\",VLOOKUP(VLOOKUP(RIGHT(A41,5)*1,'Data eshop'!D:N,11,FALSE),DATA!G:I,3,FALSE),IF(RIGHT(L41,1)=\"y\",IF(VLOOKUP(RIGHT(A41,5)*1,'Data eshop'!D:O,12,FALSE)=IF(O41=\"T7\",DATA!$D$2,IF(O41=\"E87\",DATA!$D$5,IF(O41=\"P2\",DATA!$D$6,IF(O41=\"e2695\",DATA!$D$7,\"\")))),IF(N41>=IF(O41=\"T7\",DATA!$K$11,IF(O41=\"E87\",DATA!$L$11,IF(O41=\"P2\",DATA!$M$11,IF(O41=\"e2695\",DATA!$N$11,\"\")))),\"uni008\",\"uni001\"),IF(VLOOKUP(RIGHT(A41,5)*1,'Data eshop'!D:O,12,FALSE)=DATA!$D$3,IF(O41=\"T7\",IF(N41>=500,\"uni009\",\"uni002\"),\"x\"),IF(VLOOKUP(RIGHT(A41,5)*1,'Data eshop'!D:O,12,FALSE)=DATA!$D$4,\"uni010\",\"\"))),\"\"))),\"\")","v":""},{"$f":"IFERROR(IF(A41=\"\",\"\",IF(LEFT(B41,3)=\"uni\",1,VLOOKUP(RIGHT(A41,5)&\"-\"&B41,'Data eshop'!A:R,18,FALSE))),\"\")","v":""},"",{"$f":"IFERROR(IF(A41=\"\",\"\",IF(LEFT(B41,3)=\"uni\",VLOOKUP(B41,DATA!I:X,IF(O41=\"T7\",3,IF(O41=\"E87\",4,IF(O41=\"P2\",5,IF(O41=\"E2695\",6,\"\")))),FALSE),VLOOKUP(RIGHT(A41,5)&\"-\"&B41,'Data eshop'!A:S,19,FALSE))),\"\")","v":""},{"$f":"IFERROR(IF(A41=\"\",\"\",IF(LEFT(B41,3)=\"uni\",0,VLOOKUP(RIGHT(A41,5)&\"-\"&B41,'Data eshop'!A:S,16,FALSE))),\"\")","v":""},null,"",{"$f":"IF(H41=\"\",\"\",WORKDAY(TODAY()+IF(VLOOKUP(VLOOKUP(RIGHT(A41,5)*1,'Data eshop'!D:N,11,FALSE),DATA!A:B,2,FALSE)=7,14,1),5))","v":""},"","",{"$f":"IF(L40=\"\",\"\",IF(L40=RIGHT(A40,5)&\"x\",LEFT(L40,LEN(L40)-1)&\"y\",IF(L40=RIGHT(A40,5)&\"y\",IFERROR(SMALL('Data eshop'!D:D,COUNTIF('Data eshop'!D:D,\"<\"&(LEFT(L40,LEN(L40)-1)*1))),\"\"),IF(ISERROR(IF(VLOOKUP(M40+1,'Data eshop'!C:D,2,FALSE)='Řádky zakázky'!L40,L40,L40&\"x\")),IF(RIGHT(L40,1)=\"y\",\"\",L40&\"x\"),IF(VLOOKUP(M40+1,'Data eshop'!C:D,2,FALSE)='Řádky zakázky'!L40,L40,L40&\"x\")))))","v":"0xxxxxxxxxxxxxxxxxxxxxxxxxxxxxxxxxxxxxxx"},1,{"$f":"IF(A41=\"\",\"\",VLOOKUP(RIGHT(A41,5)*1,'Data eshop'!D:W,17,FALSE))","v":{"$error":"#VALUE!"}},{"$f":"VLOOKUP(A41,Zakázky!A:B,2,FALSE)","v":{"$error":"#N/A"}},""]
["19ESh0",{"$f":"IFERROR(IF(ISNUMBER(L42),VLOOKUP(L42&\"-\"&M42,'Data eshop'!B:W,16,FALSE),IF(RIGHT(L42,1)=\"x\",VLOOKUP(VLOOKUP(RIGHT(A42,5)*1,'Data eshop'!D:N,11,FALSE),DATA!G:I,3,FALSE),IF(RIGHT(L42,1)=\"y\",IF(VLOOKUP(RIGHT(A42,5)*1,'Data eshop'!D:O,12,FALSE)=IF(O42=\"T7\",DATA!$D$2,IF(O42=\"E87\",DATA!$D$5,IF(O42=\"P2\",DATA!$D$6,IF(O42=\"e2695\",DATA!$D$7,\"\")))),IF(N42>=IF(O42=\"T7\",DATA!$K$11,IF(O42=\"E87\",DATA!$L$11,IF(O42=\"P2\",DATA!$M$11,IF(O42=\"e2695\",DATA!$N$11,\"\")))),\"uni008\",\"uni001\"),IF(VLOOKUP(RIGHT(A42,5)*1,'Data eshop'!D:O,12,FALSE)=DATA!$D$3,IF(O42=\"T7\",IF(N42>=500,\"uni009\",\"uni002\"),\"x\"),IF(VLOOKUP(RIGHT(A42,5)*1,'Data eshop'!D:O,12,FALSE)=DATA!$D$4,\"uni010\",\"\"))),\"\"))),\"\")","v":""},{"$f":"IFERROR(IF(A42=\"\",\"\",IF(LEFT(B42,3)=\"uni\",1,VLOOKUP(RIGHT(A42,5)&\"-\"&B42,'Data eshop'!A:R,18,FALSE))),\"\")","v":""},"",{"$f":"IFERROR(IF(A42=\"\",\"\",IF(LEFT(B42,3)=\"uni\",VLOOKUP(B42,DATA!I:X,IF(O42=\"T7\",3,IF(O42=\"E87\",4,IF(O42=\"P2\",5,IF(O42=\"E2695\",6,\"\")))),FALSE),VLOOKUP(RIGHT(A42,5)&\"-\"&B42,'Data eshop'!A:S,19,FALSE))),\"\")","v":""},{"$f":"IFERROR(IF(A42=\"\",\"\",IF(LEFT(B42,3)=\"uni\",0,VLOOKUP(RIGHT(A42,5)&\"-\"&B42,'Data eshop'!A:S,16,FALSE))),\"\")","v":""},null,"",{"$f":"IF(H42=\"\",\"\",WORKDAY(TODAY()+IF(VLOOKUP(VLOOKUP(RIGHT(A42,5)*1,'Data eshop'!D:N,11,FALSE),DATA!A:B,2,FALSE)=7,14,1),5))","v":""},"","",{"$f":"IF(L41=\"\",\"\",IF(L41=RIGHT(A41,5)&\"x\",LEFT(L41,LEN(L41)-1)&\"y\",IF(L41=RIGHT(A41,5)&\"y\",IFERROR(SMALL('Data eshop'!D:D,COUNTIF('Data eshop'!D:D,\"<\"&(LEFT(L41,LEN(L41)-1)*1))),\"\"),IF(ISERROR(IF(VLOOKUP(M41+1,'Data eshop'!C:D,2,FALSE)='Řádky zakázky'!L41,L41,L41&\"x\")),IF(RIGHT(L41,1)=\"y\",\"\",L41&\"x\"),IF(VLOOKUP(M41+1,'Data eshop'!C:D,2,FALSE)='Řádky zakázky'!L41,L41,L41&\"x\")))))","v":"0xxxxxxxxxxxxxxxxxxxxxxxxxxxxxxxxxxxxxxxx"},1,{"$f":"IF(A42=\"\",\"\",VLOOKUP(RIGHT(A42,5)*1,'Data eshop'!D:W,17,FALSE))","v":{"$error":"#VALUE!"}},{"$f":"VLOOKUP(A42,Zakázky!A:B,2,FALSE)","v":{"$error":"#N/A"}},""]
["19ESh0",{"$f":"IFERROR(IF(ISNUMBER(L43),VLOOKUP(L43&\"-\"&M43,'Data eshop'!B:W,16,FALSE),IF(RIGHT(L43,1)=\"x\",VLOOKUP(VLOOKUP(RIGHT(A43,5)*1,'Data eshop'!D:N,11,FALSE),DATA!G:I,3,FALSE),IF(RIGHT(L43,1)=\"y\",IF(VLOOKUP(RIGHT(A43,5)*1,'Data eshop'!D:O,12,FALSE)=IF(O43=\"T7\",DATA!$D$2,IF(O43=\"E87\",DATA!$D$5,IF(O43=\"P2\",DATA!$D$6,IF(O43=\"e2695\",DATA!$D$7,\"\")))),IF(N43>=IF(O43=\"T7\",DATA!$K$11,IF(O43=\"E87\",DATA!$L$11,IF(O43=\"P2\",DATA!$M$11,IF(O43=\"e2695\",DATA!$N$11,\"\")))),\"uni008\",\"uni001\"),IF(VLOOKUP(RIGHT(A43,5)*1,'Data eshop'!D:O,12,FALSE)=DATA!$D$3,IF(O43=\"T7\",IF(N43>=500,\"uni009\",\"uni002\"),\"x\"),IF(VLOOKUP(RIGHT(A43,5)*1,'Data eshop'!D:O,12,FALSE)=DATA!$D$4,\"uni010\",\"\"))),\"\"))),\"\")","v":""},{"$f":"IFERROR(IF(A43=\"\",\"\",IF(LEFT(B43,3)=\"uni\",1,VLOOKUP(RIGHT(A43,5)&\"-\"&B43,'Data eshop'!A:R,18,FALSE))),\"\")","v":""},"",{"$f":"IFERROR(IF(A43=\"\",\"\",IF(LEFT(B43,3)=\"uni\",VLOOKUP(B43,DATA!I:X,IF(O43=\"T7\",3,IF(O43=\"E87\",4,IF(O43=\"P2\",5,IF(O43=\"E2695\",6,\"\")))),FALSE),VLOOKUP(RIGHT(A43,5)&\"-\"&B43,'Data eshop'!A:S,19,FALSE))),\"\")","v":""},{"$f":"IFERROR(IF(A43=\"\",\"\",IF(LEFT(B43,3)=\"uni\",0,VLOOKUP(RIGHT(A43,5)&\"-\"&B43,'Data eshop'!A:S,16,FALSE))),\"\")","v":""},null,"",{"$f":"IF(H43=\"\",\"\",WORKDAY(TODAY()+IF(VLOOKUP(VLOOKUP(RIGHT(A43,5)*1,'Data eshop'!D:N,11,FALSE),DATA!A:B,2,FALSE)=7,14,1),5))","v":""},"","",{"$f":"IF(L42=\"\",\"\",IF(L42=RIGHT(A42,5)&\"x\",LEFT(L42,LEN(L42)-1)&\"y\",IF(L42=RIGHT(A42,5)&\"y\",IFERROR(SMALL('Data eshop'!D:D,COUNTIF('Data eshop'!D:D,\"<\"&(LEFT(L42,LEN(L42)-1)*1))),\"\"),IF(ISERROR(IF(VLOOKUP(M42+1,'Data eshop'!C:D,2,FALSE)='Řádky zakázky'!L42,L42,L42&\"x\")),IF(RIGHT(L42,1)=\"y\",\"\",L42&\"x\"),IF(VLOOKUP(M42+1,'Data eshop'!C:D,2,FALSE)='Řádky zakázky'!L42,L42,L42&\"x\")))))","v":"0xxxxxxxxxxxxxxxxxxxxxxxxxxxxxxxxxxxxxxxxx"},1,{"$f":"IF(A43=\"\",\"\",VLOOKUP(RIGHT(A43,5)*1,'Data eshop'!D:W,17,FALSE))","v":{"$error":"#VALUE!"}},{"$f":"VLOOKUP(A43,Zakázky!A:B,2,FALSE)","v":{"$error":"#N/A"}},""]
["19ESh0",{"$f":"IFERROR(IF(ISNUMBER(L44),VLOOKUP(L44&\"-\"&M44,'Data eshop'!B:W,16,FALSE),IF(RIGHT(L44,1)=\"x\",VLOOKUP(VLOOKUP(RIGHT(A44,5)*1,'Data eshop'!D:N,11,FALSE),DATA!G:I,3,FALSE),IF(RIGHT(L44,1)=\"y\",IF(VLOOKUP(RIGHT(A44,5)*1,'Data eshop'!D:O,12,FALSE)=IF(O44=\"T7\",DATA!$D$2,IF(O44=\"E87\",DATA!$D$5,IF(O44=\"P2\",DATA!$D$6,IF(O44=\"e2695\",DATA!$D$7,\"\")))),IF(N44>=IF(O44=\"T7\",DATA!$K$11,IF(O44=\"E87\",DATA!$L$11,IF(O44=\"P2\",DATA!$M$11,IF(O44=\"e2695\",DATA!$N$11,\"\")))),\"uni008\",\"uni001\"),IF(VLOOKUP(RIGHT(A44,5)*1,'Data eshop'!D:O,12,FALSE)=DATA!$D$3,IF(O44=\"T7\",IF(N44>=500,\"uni009\",\"uni002\"),\"x\"),IF(VLOOKUP(RIGHT(A44,5)*1,'Data eshop'!D:O,12,FALSE)=DATA!$D$4,\"uni010\",\"\"))),\"\"))),\"\")","v":""},{"$f":"IFERROR(IF(A44=\"\",\"\",IF(LEFT(B44,3)=\"uni\",1,VLOOKUP(RIGHT(A44,5)&\"-\"&B44,'Data eshop'!A:R,18,FALSE))),\"\")","v":""},"",{"$f":"IFERROR(IF(A44=\"\",\"\",IF(LEFT(B44,3)=\"uni\",VLOOKUP(B44,DATA!I:X,IF(O44=\"T7\",3,IF(O44=\"E87\",4,IF(O44=\"P2\",5,IF(O44=\"E2695\",6,\"\")))),FALSE),VLOOKUP(RIGHT(A44,5)&\"-\"&B44,'Data eshop'!A:S,19,FALSE))),\"\")","v":""},{"$f":"IFERROR(IF(A44=\"\",\"\",IF(LEFT(B44,3)=\"uni\",0,VLOOKUP(RIGHT(A44,5)&\"-\"&B44,'Data eshop'!A:S,16,FALSE))),\"\")","v":""},null,"",{"$f":"IF(H44=\"\",\"\",WORKDAY(TODAY()+IF(VLOOKUP(VLOOKUP(RIGHT(A44,5)*1,'Data eshop'!D:N,11,FALSE),DATA!A:B,2,FALSE)=7,14,1),5))","v":""},"","",{"$f":"IF(L43=\"\",\"\",IF(L43=RIGHT(A43,5)&\"x\",LEFT(L43,LEN(L43)-1)&\"y\",IF(L43=RIGHT(A43,5)&\"y\",IFERROR(SMALL('Data eshop'!D:D,COUNTIF('Data eshop'!D:D,\"<\"&(LEFT(L43,LEN(L43)-1)*1))),\"\"),IF(ISERROR(IF(VLOOKUP(M43+1,'Data eshop'!C:D,2,FALSE)='Řádky zakázky'!L43,L43,L43&\"x\")),IF(RIGHT(L43,1)=\"y\",\"\",L43&\"x\"),IF(VLOOKUP(M43+1,'Data eshop'!C:D,2,FALSE)='Řádky zakázky'!L43,L43,L43&\"x\")))))","v":"0xxxxxxxxxxxxxxxxxxxxxxxxxxxxxxxxxxxxxxxxxx"},1,{"$f":"IF(A44=\"\",\"\",VLOOKUP(RIGHT(A44,5)*1,'Data eshop'!D:W,17,FALSE))","v":{"$error":"#VALUE!"}},{"$f":"VLOOKUP(A44,Zakázky!A:B,2,FALSE)","v":{"$error":"#N/A"}},"","Roluj nahoru, až uvidíš žlutou"]
["19ESh0",{"$f":"IFERROR(IF(ISNUMBER(L45),VLOOKUP(L45&\"-\"&M45,'Data eshop'!B:W,16,FALSE),IF(RIGHT(L45,1)=\"x\",VLOOKUP(VLOOKUP(RIGHT(A45,5)*1,'Data eshop'!D:N,11,FALSE),DATA!G:I,3,FALSE),IF(RIGHT(L45,1)=\"y\",IF(VLOOKUP(RIGHT(A45,5)*1,'Data eshop'!D:O,12,FALSE)=IF(O45=\"T7\",DATA!$D$2,IF(O45=\"E87\",DATA!$D$5,IF(O45=\"P2\",DATA!$D$6,IF(O45=\"e2695\",DATA!$D$7,\"\")))),IF(N45>=IF(O45=\"T7\",DATA!$K$11,IF(O45=\"E87\",DATA!$L$11,IF(O45=\"P2\",DATA!$M$11,IF(O45=\"e2695\",DATA!$N$11,\"\")))),\"uni008\",\"uni001\"),IF(VLOOKUP(RIGHT(A45,5)*1,'Data eshop'!D:O,12,FALSE)=DATA!$D$3,IF(O45=\"T7\",IF(N45>=500,\"uni009\",\"uni002\"),\"x\"),IF(VLOOKUP(RIGHT(A45,5)*1,'Data eshop'!D:O,12,FALSE)=DATA!$D$4,\"uni010\",\"\"))),\"\"))),\"\")","v":""},{"$f":"IFERROR(IF(A45=\"\",\"\",IF(LEFT(B45,3)=\"uni\",1,VLOOKUP(RIGHT(A45,5)&\"-\"&B45,'Data eshop'!A:R,18,FALSE))),\"\")","v":""},"",{"$f":"IFERROR(IF(A45=\"\",\"\",IF(LEFT(B45,3)=\"uni\",VLOOKUP(B45,DATA!I:X,IF(O45=\"T7\",3,IF(O45=\"E87\",4,IF(O45=\"P2\",5,IF(O45=\"E2695\",6,\"\")))),FALSE),VLOOKUP(RIGHT(A45,5)&\"-\"&B45,'Data eshop'!A:S,19,FALSE))),\"\")","v":""},{"$f":"IFERROR(IF(A45=\"\",\"\",IF(LEFT(B45,3)=\"uni\",0,VLOOKUP(RIGHT(A45,5)&\"-\"&B45,'Data eshop'!A:S,16,FALSE))),\"\")","v":""},null,"",{"$f":"IF(H45=\"\",\"\",WORKDAY(TODAY()+IF(VLOOKUP(VLOOKUP(RIGHT(A45,5)*1,'Data eshop'!D:N,11,FALSE),DATA!A:B,2,FALSE)=7,14,1),5))","v":""},"","",{"$f":"IF(L44=\"\",\"\",IF(L44=RIGHT(A44,5)&\"x\",LEFT(L44,LEN(L44)-1)&\"y\",IF(L44=RIGHT(A44,5)&\"y\",IFERROR(SMALL('Data eshop'!D:D,COUNTIF('Data eshop'!D:D,\"<\"&(LEFT(L44,LEN(L44)-1)*1))),\"\"),IF(ISERROR(IF(VLOOKUP(M44+1,'Data eshop'!C:D,2,FALSE)='Řádky zakázky'!L44,L44,L44&\"x\")),IF(RIGHT(L44,1)=\"y\",\"\",L44&\"x\"),IF(VLOOKUP(M44+1,'Data eshop'!C:D,2,FALSE)='Řádky zakázky'!L44,L44,L44&\"x\")))))","v":"0xxxxxxxxxxxxxxxxxxxxxxxxxxxxxxxxxxxxxxxxxxx"},1,{"$f":"IF(A45=\"\",\"\",VLOOKUP(RIGHT(A45,5)*1,'Data eshop'!D:W,17,FALSE))","v":{"$error":"#VALUE!"}},{"$f":"VLOOKUP(A45,Zakázky!A:B,2,FALSE)","v":{"$error":"#N/A"}},""]
["19ESh0",{"$f":"IFERROR(IF(ISNUMBER(L46),VLOOKUP(L46&\"-\"&M46,'Data eshop'!B:W,16,FALSE),IF(RIGHT(L46,1)=\"x\",VLOOKUP(VLOOKUP(RIGHT(A46,5)*1,'Data eshop'!D:N,11,FALSE),DATA!G:I,3,FALSE),IF(RIGHT(L46,1)=\"y\",IF(VLOOKUP(RIGHT(A46,5)*1,'Data eshop'!D:O,12,FALSE)=IF(O46=\"T7\",DATA!$D$2,IF(O46=\"E87\",DATA!$D$5,IF(O46=\"P2\",DATA!$D$6,IF(O46=\"e2695\",DATA!$D$7,\"\")))),IF(N46>=IF(O46=\"T7\",DATA!$K$11,IF(O46=\"E87\",DATA!$L$11,IF(O46=\"P2\",DATA!$M$11,IF(O46=\"e2695\",DATA!$N$11,\"\")))),\"uni008\",\"uni001\"),IF(VLOOKUP(RIGHT(A46,5)*1,'Data eshop'!D:O,12,FALSE)=DATA!$D$3,IF(O46=\"T7\",IF(N46>=500,\"uni009\",\"uni002\"),\"x\"),IF(VLOOKUP(RIGHT(A46,5)*1,'Data eshop'!D:O,12,FALSE)=DATA!$D$4,\"uni010\",\"\"))),\"\"))),\"\")","v":""},{"$f":"IFERROR(IF(A46=\"\",\"\",IF(LEFT(B46,3)=\"uni\",1,VLOOKUP(RIGHT(A46,5)&\"-\"&B46,'Data eshop'!A:R,18,FALSE))),\"\")","v":""},"",{"$f":"IFERROR(IF(A46=\"\",\"\",IF(LEFT(B46,3)=\"uni\",VLOOKUP(B46,DATA!I:X,IF(O46=\"T7\",3,IF(O46=\"E87\",4,IF(O46=\"P2\",5,IF(O46=\"E2695\",6,\"\")))),FALSE),VLOOKUP(RIGHT(A46,5)&\"-\"&B46,'Data eshop'!A:S,19,FALSE))),\"\")","v":""},{"$f":"IFERROR(IF(A46=\"\",\"\",IF(LEFT(B46,3)=\"uni\",0,VLOOKUP(RIGHT(A46,5)&\"-\"&B46,'Data eshop'!A:S,16,FALSE))),\"\")","v":""},null,"",{"$f":"IF(H46=\"\",\"\",WORKDAY(TODAY()+IF(VLOOKUP(VLOOKUP(RIGHT(A46,5)*1,'Data eshop'!D:N,11,FALSE),DATA!A:B,2,FALSE)=7,14,1),5))","v":""},"","",{"$f":"IF(L45=\"\",\"\",IF(L45=RIGHT(A45,5)&\"x\",LEFT(L45,LEN(L45)-1)&\"y\",IF(L45=RIGHT(A45,5)&\"y\",IFERROR(SMALL('Data eshop'!D:D,COUNTIF('Data eshop'!D:D,\"<\"&(LEFT(L45,LEN(L45)-1)*1))),\"\"),IF(ISERROR(IF(VLOOKUP(M45+1,'Data eshop'!C:D,2,FALSE)='Řádky zakázky'!L45,L45,L45&\"x\")),IF(RIGHT(L45,1)=\"y\",\"\",L45&\"x\"),IF(VLOOKUP(M45+1,'Data eshop'!C:D,2,FALSE)='Řádky zakázky'!L45,L45,L45&\"x\")))))","v":"0xxxxxxxxxxxxxxxxxxxxxxxxxxxxxxxxxxxxxxxxxxxx"},1,{"$f":"IF(A46=\"\",\"\",VLOOKUP(RIGHT(A46,5)*1,'Data eshop'!D:W,17,FALSE))","v":{"$error":"#VALUE!"}},{"$f":"VLOOKUP(A46,Zakázky!A:B,2,FALSE)","v":{"$error":"#N/A"}},""]
["19ESh0",{"$f":"IFERROR(IF(ISNUMBER(L47),VLOOKUP(L47&\"-\"&M47,'Data eshop'!B:W,16,FALSE),IF(RIGHT(L47,1)=\"x\",VLOOKUP(VLOOKUP(RIGHT(A47,5)*1,'Data eshop'!D:N,11,FALSE),DATA!G:I,3,FALSE),IF(RIGHT(L47,1)=\"y\",IF(VLOOKUP(RIGHT(A47,5)*1,'Data eshop'!D:O,12,FALSE)=IF(O47=\"T7\",DATA!$D$2,IF(O47=\"E87\",DATA!$D$5,IF(O47=\"P2\",DATA!$D$6,IF(O47=\"e2695\",DATA!$D$7,\"\")))),IF(N47>=IF(O47=\"T7\",DATA!$K$11,IF(O47=\"E87\",DATA!$L$11,IF(O47=\"P2\",DATA!$M$11,IF(O47=\"e2695\",DATA!$N$11,\"\")))),\"uni008\",\"uni001\"),IF(VLOOKUP(RIGHT(A47,5)*1,'Data eshop'!D:O,12,FALSE)=DATA!$D$3,IF(O47=\"T7\",IF(N47>=500,\"uni009\",\"uni002\"),\"x\"),IF(VLOOKUP(RIGHT(A47,5)*1,'Data eshop'!D:O,12,FALSE)=DATA!$D$4,\"uni010\",\"\"))),\"\"))),\"\")","v":""},{"$f":"IFERROR(IF(A47=\"\",\"\",IF(LEFT(B47,3)=\"uni\",1,VLOOKUP(RIGHT(A47,5)&\"-\"&B47,'Data eshop'!A:R,18,FALSE))),\"\")","v":""},"",{"$f":"IFERROR(IF(A47=\"\",\"\",IF(LEFT(B47,3)=\"uni\",VLOOKUP(B47,DATA!I:X,IF(O47=\"T7\",3,IF(O47=\"E87\",4,IF(O47=\"P2\",5,IF(O47=\"E2695\",6,\"\")))),FALSE),VLOOKUP(RIGHT(A47,5)&\"-\"&B47,'Data eshop'!A:S,19,FALSE))),\"\")","v":""},{"$f":"IFERROR(IF(A47=\"\",\"\",IF(LEFT(B47,3)=\"uni\",0,VLOOKUP(RIGHT(A47,5)&\"-\"&B47,'Data eshop'!A:S,16,FALSE))),\"\")","v":""},null,"",{"$f":"IF(H47=\"\",\"\",WORKDAY(TODAY()+IF(VLOOKUP(VLOOKUP(RIGHT(A47,5)*1,'Data eshop'!D:N,11,FALSE),DATA!A:B,2,FALSE)=7,14,1),5))","v":""},"","",{"$f":"IF(L46=\"\",\"\",IF(L46=RIGHT(A46,5)&\"x\",LEFT(L46,LEN(L46)-1)&\"y\",IF(L46=RIGHT(A46,5)&\"y\",IFERROR(SMALL('Data eshop'!D:D,COUNTIF('Data eshop'!D:D,\"<\"&(LEFT(L46,LEN(L46)-1)*1))),\"\"),IF(ISERROR(IF(VLOOKUP(M46+1,'Data eshop'!C:D,2,FALSE)='Řádky zakázky'!L46,L46,L46&\"x\")),IF(RIGHT(L46,1)=\"y\",\"\",L46&\"x\"),IF(VLOOKUP(M46+1,'Data eshop'!C:D,2,FALSE)='Řádky zakázky'!L46,L46,L46&\"x\")))))","v":"0xxxxxxxxxxxxxxxxxxxxxxxxxxxxxxxxxxxxxxxxxxxxx"},1,{"$f":"IF(A47=\"\",\"\",VLOOKUP(RIGHT(A47,5)*1,'Data eshop'!D:W,17,FALSE))","v":{"$error":"#VALUE!"}},{"$f":"VLOOKUP(A47,Zakázky!A:B,2,FALSE)","v":{"$error":"#N/A"}},""]
["19ESh0",{"$f":"IFERROR(IF(ISNUMBER(L48),VLOOKUP(L48&\"-\"&M48,'Data eshop'!B:W,16,FALSE),IF(RIGHT(L48,1)=\"x\",VLOOKUP(VLOOKUP(RIGHT(A48,5)*1,'Data eshop'!D:N,11,FALSE),DATA!G:I,3,FALSE),IF(RIGHT(L48,1)=\"y\",IF(VLOOKUP(RIGHT(A48,5)*1,'Data eshop'!D:O,12,FALSE)=IF(O48=\"T7\",DATA!$D$2,IF(O48=\"E87\",DATA!$D$5,IF(O48=\"P2\",DATA!$D$6,IF(O48=\"e2695\",DATA!$D$7,\"\")))),IF(N48>=IF(O48=\"T7\",DATA!$K$11,IF(O48=\"E87\",DATA!$L$11,IF(O48=\"P2\",DATA!$M$11,IF(O48=\"e2695\",DATA!$N$11,\"\")))),\"uni008\",\"uni001\"),IF(VLOOKUP(RIGHT(A48,5)*1,'Data eshop'!D:O,12,FALSE)=DATA!$D$3,IF(O48=\"T7\",IF(N48>=500,\"uni009\",\"uni002\"),\"x\"),IF(VLOOKUP(RIGHT(A48,5)*1,'Data eshop'!D:O,12,FALSE)=DATA!$D$4,\"uni010\",\"\"))),\"\"))),\"\")","v":""},{"$f":"IFERROR(IF(A48=\"\",\"\",IF(LEFT(B48,3)=\"uni\",1,VLOOKUP(RIGHT(A48,5)&\"-\"&B48,'Data eshop'!A:R,18,FALSE))),\"\")","v":""},"",{"$f":"IFERROR(IF(A48=\"\",\"\",IF(LEFT(B48,3)=\"uni\",VLOOKUP(B48,DATA!I:X,IF(O48=\"T7\",3,IF(O48=\"E87\",4,IF(O48=\"P2\",5,IF(O48=\"E2695\",6,\"\")))),FALSE),VLOOKUP(RIGHT(A48,5)&\"-\"&B48,'Data eshop'!A:S,19,FALSE))),\"\")","v":""},{"$f":"IFERROR(IF(A48=\"\",\"\",IF(LEFT(B48,3)=\"uni\",0,VLOOKUP(RIGHT(A48,5)&\"-\"&B48,'Data eshop'!A:S,16,FALSE))),\"\")","v":""},null,"",{"$f":"IF(H48=\"\",\"\",WORKDAY(TODAY()+IF(VLOOKUP(VLOOKUP(RIGHT(A48,5)*1,'Data eshop'!D:N,11,FALSE),DATA!A:B,2,FALSE)=7,14,1),5))","v":""},"","",{"$f":"IF(L47=\"\",\"\",IF(L47=RIGHT(A47,5)&\"x\",LEFT(L47,LEN(L47)-1)&\"y\",IF(L47=RIGHT(A47,5)&\"y\",IFERROR(SMALL('Data eshop'!D:D,COUNTIF('Data eshop'!D:D,\"<\"&(LEFT(L47,LEN(L47)-1)*1))),\"\"),IF(ISERROR(IF(VLOOKUP(M47+1,'Data eshop'!C:D,2,FALSE)='Řádky zakázky'!L47,L47,L47&\"x\")),IF(RIGHT(L47,1)=\"y\",\"\",L47&\"x\"),IF(VLOOKUP(M47+1,'Data eshop'!C:D,2,FALSE)='Řádky zakázky'!L47,L47,L47&\"x\")))))","v":"0xxxxxxxxxxxxxxxxxxxxxxxxxxxxxxxxxxxxxxxxxxxxxx"},1,{"$f":"IF(A48=\"\",\"\",VLOOKUP(RIGHT(A48,5)*1,'Data eshop'!D:W,17,FALSE))","v":{"$error":"#VALUE!"}},{"$f":"VLOOKUP(A48,Zakázky!A:B,2,FALSE)","v":{"$error":"#N/A"}},"","Roluj nahoru, až uvidíš žlutou"]
["19ESh0",{"$f":"IFERROR(IF(ISNUMBER(L49),VLOOKUP(L49&\"-\"&M49,'Data eshop'!B:W,16,FALSE),IF(RIGHT(L49,1)=\"x\",VLOOKUP(VLOOKUP(RIGHT(A49,5)*1,'Data eshop'!D:N,11,FALSE),DATA!G:I,3,FALSE),IF(RIGHT(L49,1)=\"y\",IF(VLOOKUP(RIGHT(A49,5)*1,'Data eshop'!D:O,12,FALSE)=IF(O49=\"T7\",DATA!$D$2,IF(O49=\"E87\",DATA!$D$5,IF(O49=\"P2\",DATA!$D$6,IF(O49=\"e2695\",DATA!$D$7,\"\")))),IF(N49>=IF(O49=\"T7\",DATA!$K$11,IF(O49=\"E87\",DATA!$L$11,IF(O49=\"P2\",DATA!$M$11,IF(O49=\"e2695\",DATA!$N$11,\"\")))),\"uni008\",\"uni001\"),IF(VLOOKUP(RIGHT(A49,5)*1,'Data eshop'!D:O,12,FALSE)=DATA!$D$3,IF(O49=\"T7\",IF(N49>=500,\"uni009\",\"uni002\"),\"x\"),IF(VLOOKUP(RIGHT(A49,5)*1,'Data eshop'!D:O,12,FALSE)=DATA!$D$4,\"uni010\",\"\"))),\"\"))),\"\")","v":""},{"$f":"IFERROR(IF(A49=\"\",\"\",IF(LEFT(B49,3)=\"uni\",1,VLOOKUP(RIGHT(A49,5)&\"-\"&B49,'Data eshop'!A:R,18,FALSE))),\"\")","v":""},"",{"$f":"IFERROR(IF(A49=\"\",\"\",IF(LEFT(B49,3)=\"uni\",VLOOKUP(B49,DATA!I:X,IF(O49=\"T7\",3,IF(O49=\"E87\",4,IF(O49=\"P2\",5,IF(O49=\"E2695\",6,\"\")))),FALSE),VLOOKUP(RIGHT(A49,5)&\"-\"&B49,'Data eshop'!A:S,19,FALSE))),\"\")","v":""},{"$f":"IFERROR(IF(A49=\"\",\"\",IF(LEFT(B49,3)=\"uni\",0,VLOOKUP(RIGHT(A49,5)&\"-\"&B49,'Data eshop'!A:S,16,FALSE))),\"\")","v":""},null,"",{"$f":"IF(H49=\"\",\"\",WORKDAY(TODAY()+IF(VLOOKUP(VLOOKUP(RIGHT(A49,5)*1,'Data eshop'!D:N,11,FALSE),DATA!A:B,2,FALSE)=7,14,1),5))","v":""},"","",{"$f":"IF(L48=\"\",\"\",IF(L48=RIGHT(A48,5)&\"x\",LEFT(L48,LEN(L48)-1)&\"y\",IF(L48=RIGHT(A48,5)&\"y\",IFERROR(SMALL('Data eshop'!D:D,COUNTIF('Data eshop'!D:D,\"<\"&(LEFT(L48,LEN(L48)-1)*1))),\"\"),IF(ISERROR(IF(VLOOKUP(M48+1,'Data eshop'!C:D,2,FALSE)='Řádky zakázky'!L48,L48,L48&\"x\")),IF(RIGHT(L48,1)=\"y\",\"\",L48&\"x\"),IF(VLOOKUP(M48+1,'Data eshop'!C:D,2,FALSE)='Řádky zakázky'!L48,L48,L48&\"x\")))))","v":"0xxxxxxxxxxxxxxxxxxxxxxxxxxxxxxxxxxxxxxxxxxxxxxx"},1,{"$f":"IF(A49=\"\",\"\",VLOOKUP(RIGHT(A49,5)*1,'Data eshop'!D:W,17,FALSE))","v":{"$error":"#VALUE!"}},{"$f":"VLOOKUP(A49,Zakázky!A:B,2,FALSE)","v":{"$error":"#N/A"}},""]
["19ESh0",{"$f":"IFERROR(IF(ISNUMBER(L50),VLOOKUP(L50&\"-\"&M50,'Data eshop'!B:W,16,FALSE),IF(RIGHT(L50,1)=\"x\",VLOOKUP(VLOOKUP(RIGHT(A50,5)*1,'Data eshop'!D:N,11,FALSE),DATA!G:I,3,FALSE),IF(RIGHT(L50,1)=\"y\",IF(VLOOKUP(RIGHT(A50,5)*1,'Data eshop'!D:O,12,FALSE)=IF(O50=\"T7\",DATA!$D$2,IF(O50=\"E87\",DATA!$D$5,IF(O50=\"P2\",DATA!$D$6,IF(O50=\"e2695\",DATA!$D$7,\"\")))),IF(N50>=IF(O50=\"T7\",DATA!$K$11,IF(O50=\"E87\",DATA!$L$11,IF(O50=\"P2\",DATA!$M$11,IF(O50=\"e2695\",DATA!$N$11,\"\")))),\"uni008\",\"uni001\"),IF(VLOOKUP(RIGHT(A50,5)*1,'Data eshop'!D:O,12,FALSE)=DATA!$D$3,IF(O50=\"T7\",IF(N50>=500,\"uni009\",\"uni002\"),\"x\"),IF(VLOOKUP(RIGHT(A50,5)*1,'Data eshop'!D:O,12,FALSE)=DATA!$D$4,\"uni010\",\"\"))),\"\"))),\"\")","v":""},{"$f":"IFERROR(IF(A50=\"\",\"\",IF(LEFT(B50,3)=\"uni\",1,VLOOKUP(RIGHT(A50,5)&\"-\"&B50,'Data eshop'!A:R,18,FALSE))),\"\")","v":""},"",{"$f":"IFERROR(IF(A50=\"\",\"\",IF(LEFT(B50,3)=\"uni\",VLOOKUP(B50,DATA!I:X,IF(O50=\"T7\",3,IF(O50=\"E87\",4,IF(O50=\"P2\",5,IF(O50=\"E2695\",6,\"\")))),FALSE),VLOOKUP(RIGHT(A50,5)&\"-\"&B50,'Data eshop'!A:S,19,FALSE))),\"\")","v":""},{"$f":"IFERROR(IF(A50=\"\",\"\",IF(LEFT(B50,3)=\"uni\",0,VLOOKUP(RIGHT(A50,5)&\"-\"&B50,'Data eshop'!A:S,16,FALSE))),\"\")","v":""},null,"",{"$f":"IF(H50=\"\",\"\",WORKDAY(TODAY()+IF(VLOOKUP(VLOOKUP(RIGHT(A50,5)*1,'Data eshop'!D:N,11,FALSE),DATA!A:B,2,FALSE)=7,14,1),5))","v":""},"","",{"$f":"IF(L49=\"\",\"\",IF(L49=RIGHT(A49,5)&\"x\",LEFT(L49,LEN(L49)-1)&\"y\",IF(L49=RIGHT(A49,5)&\"y\",IFERROR(SMALL('Data eshop'!D:D,COUNTIF('Data eshop'!D:D,\"<\"&(LEFT(L49,LEN(L49)-1)*1))),\"\"),IF(ISERROR(IF(VLOOKUP(M49+1,'Data eshop'!C:D,2,FALSE)='Řádky zakázky'!L49,L49,L49&\"x\")),IF(RIGHT(L49,1)=\"y\",\"\",L49&\"x\"),IF(VLOOKUP(M49+1,'Data eshop'!C:D,2,FALSE)='Řádky zakázky'!L49,L49,L49&\"x\")))))","v":"0xxxxxxxxxxxxxxxxxxxxxxxxxxxxxxxxxxxxxxxxxxxxxxxx"},1,{"$f":"IF(A50=\"\",\"\",VLOOKUP(RIGHT(A50,5)*1,'Data eshop'!D:W,17,FALSE))","v":{"$error":"#VALUE!"}},{"$f":"VLOOKUP(A50,Zakázky!A:B,2,FALSE)","v":{"$error":"#N/A"}},""]
["19ESh0",{"$f":"IFERROR(IF(ISNUMBER(L51),VLOOKUP(L51&\"-\"&M51,'Data eshop'!B:W,16,FALSE),IF(RIGHT(L51,1)=\"x\",VLOOKUP(VLOOKUP(RIGHT(A51,5)*1,'Data eshop'!D:N,11,FALSE),DATA!G:I,3,FALSE),IF(RIGHT(L51,1)=\"y\",IF(VLOOKUP(RIGHT(A51,5)*1,'Data eshop'!D:O,12,FALSE)=IF(O51=\"T7\",DATA!$D$2,IF(O51=\"E87\",DATA!$D$5,IF(O51=\"P2\",DATA!$D$6,IF(O51=\"e2695\",DATA!$D$7,\"\")))),IF(N51>=IF(O51=\"T7\",DATA!$K$11,IF(O51=\"E87\",DATA!$L$11,IF(O51=\"P2\",DATA!$M$11,IF(O51=\"e2695\",DATA!$N$11,\"\")))),\"uni008\",\"uni001\"),IF(VLOOKUP(RIGHT(A51,5)*1,'Data eshop'!D:O,12,FALSE)=DATA!$D$3,IF(O51=\"T7\",IF(N51>=500,\"uni009\",\"uni002\"),\"x\"),IF(VLOOKUP(RIGHT(A51,5)*1,'Data eshop'!D:O,12,FALSE)=DATA!$D$4,\"uni010\",\"\"))),\"\"))),\"\")","v":""},{"$f":"IFERROR(IF(A51=\"\",\"\",IF(LEFT(B51,3)=\"uni\",1,VLOOKUP(RIGHT(A51,5)&\"-\"&B51,'Data eshop'!A:R,18,FALSE))),\"\")","v":""},"",{"$f":"IFERROR(IF(A51=\"\",\"\",IF(LEFT(B51,3)=\"uni\",VLOOKUP(B51,DATA!I:X,IF(O51=\"T7\",3,IF(O51=\"E87\",4,IF(O51=\"P2\",5,IF(O51=\"E2695\",6,\"\")))),FALSE),VLOOKUP(RIGHT(A51,5)&\"-\"&B51,'Data eshop'!A:S,19,FALSE))),\"\")","v":""},{"$f":"IFERROR(IF(A51=\"\",\"\",IF(LEFT(B51,3)=\"uni\",0,VLOOKUP(RIGHT(A51,5)&\"-\"&B51,'Data eshop'!A:S,16,FALSE))),\"\")","v":""},null,"",{"$f":"IF(H51=\"\",\"\",WORKDAY(TODAY()+IF(VLOOKUP(VLOOKUP(RIGHT(A51,5)*1,'Data eshop'!D:N,11,FALSE),DATA!A:B,2,FALSE)=7,14,1),5))","v":""},"","",{"$f":"IF(L50=\"\",\"\",IF(L50=RIGHT(A50,5)&\"x\",LEFT(L50,LEN(L50)-1)&\"y\",IF(L50=RIGHT(A50,5)&\"y\",IFERROR(SMALL('Data eshop'!D:D,COUNTIF('Data eshop'!D:D,\"<\"&(LEFT(L50,LEN(L50)-1)*1))),\"\"),IF(ISERROR(IF(VLOOKUP(M50+1,'Data eshop'!C:D,2,FALSE)='Řádky zakázky'!L50,L50,L50&\"x\")),IF(RIGHT(L50,1)=\"y\",\"\",L50&\"x\"),IF(VLOOKUP(M50+1,'Data eshop'!C:D,2,FALSE)='Řádky zakázky'!L50,L50,L50&\"x\")))))","v":"0xxxxxxxxxxxxxxxxxxxxxxxxxxxxxxxxxxxxxxxxxxxxxxxxx"},1,{"$f":"IF(A51=\"\",\"\",VLOOKUP(RIGHT(A51,5)*1,'Data eshop'!D:W,17,FALSE))","v":{"$error":"#VALUE!"}},{"$f":"VLOOKUP(A51,Zakázky!A:B,2,FALSE)","v":{"$error":"#N/A"}},""]
["19ESh0",{"$f":"IFERROR(IF(ISNUMBER(L52),VLOOKUP(L52&\"-\"&M52,'Data eshop'!B:W,16,FALSE),IF(RIGHT(L52,1)=\"x\",VLOOKUP(VLOOKUP(RIGHT(A52,5)*1,'Data eshop'!D:N,11,FALSE),DATA!G:I,3,FALSE),IF(RIGHT(L52,1)=\"y\",IF(VLOOKUP(RIGHT(A52,5)*1,'Data eshop'!D:O,12,FALSE)=IF(O52=\"T7\",DATA!$D$2,IF(O52=\"E87\",DATA!$D$5,IF(O52=\"P2\",DATA!$D$6,IF(O52=\"e2695\",DATA!$D$7,\"\")))),IF(N52>=IF(O52=\"T7\",DATA!$K$11,IF(O52=\"E87\",DATA!$L$11,IF(O52=\"P2\",DATA!$M$11,IF(O52=\"e2695\",DATA!$N$11,\"\")))),\"uni008\",\"uni001\"),IF(VLOOKUP(RIGHT(A52,5)*1,'Data eshop'!D:O,12,FALSE)=DATA!$D$3,IF(O52=\"T7\",IF(N52>=500,\"uni009\",\"uni002\"),\"x\"),IF(VLOOKUP(RIGHT(A52,5)*1,'Data eshop'!D:O,12,FALSE)=DATA!$D$4,\"uni010\",\"\"))),\"\"))),\"\")","v":""},{"$f":"IFERROR(IF(A52=\"\",\"\",IF(LEFT(B52,3)=\"uni\",1,VLOOKUP(RIGHT(A52,5)&\"-\"&B52,'Data eshop'!A:R,18,FALSE))),\"\")","v":""},"",{"$f":"IFERROR(IF(A52=\"\",\"\",IF(LEFT(B52,3)=\"uni\",VLOOKUP(B52,DATA!I:X,IF(O52=\"T7\",3,IF(O52=\"E87\",4,IF(O52=\"P2\",5,IF(O52=\"E2695\",6,\"\")))),FALSE),VLOOKUP(RIGHT(A52,5)&\"-\"&B52,'Data eshop'!A:S,19,FALSE))),\"\")","v":""},{"$f":"IFERROR(IF(A52=\"\",\"\",IF(LEFT(B52,3)=\"uni\",0,VLOOKUP(RIGHT(A52,5)&\"-\"&B52,'Data eshop'!A:S,16,FALSE))),\"\")","v":""},null,"",{"$f":"IF(H52=\"\",\"\",WORKDAY(TODAY()+IF(VLOOKUP(VLOOKUP(RIGHT(A52,5)*1,'Data eshop'!D:N,11,FALSE),DATA!A:B,2,FALSE)=7,14,1),5))","v":""},"","",{"$f":"IF(L51=\"\",\"\",IF(L51=RIGHT(A51,5)&\"x\",LEFT(L51,LEN(L51)-1)&\"y\",IF(L51=RIGHT(A51,5)&\"y\",IFERROR(SMALL('Data eshop'!D:D,COUNTIF('Data eshop'!D:D,\"<\"&(LEFT(L51,LEN(L51)-1)*1))),\"\"),IF(ISERROR(IF(VLOOKUP(M51+1,'Data eshop'!C:D,2,FALSE)='Řádky zakázky'!L51,L51,L51&\"x\")),IF(RIGHT(L51,1)=\"y\",\"\",L51&\"x\"),IF(VLOOKUP(M51+1,'Data eshop'!C:D,2,FALSE)='Řádky zakázky'!L51,L51,L51&\"x\")))))","v":"0xxxxxxxxxxxxxxxxxxxxxxxxxxxxxxxxxxxxxxxxxxxxxxxxxx"},1,{"$f":"IF(A52=\"\",\"\",VLOOKUP(RIGHT(A52,5)*1,'Data eshop'!D:W,17,FALSE))","v":{"$error":"#VALUE!"}},{"$f":"VLOOKUP(A52,Zakázky!A:B,2,FALSE)","v":{"$error":"#N/A"}},"","Roluj nahoru, až uvidíš žlutou"]
["19ESh0",{"$f":"IFERROR(IF(ISNUMBER(L53),VLOOKUP(L53&\"-\"&M53,'Data eshop'!B:W,16,FALSE),IF(RIGHT(L53,1)=\"x\",VLOOKUP(VLOOKUP(RIGHT(A53,5)*1,'Data eshop'!D:N,11,FALSE),DATA!G:I,3,FALSE),IF(RIGHT(L53,1)=\"y\",IF(VLOOKUP(RIGHT(A53,5)*1,'Data eshop'!D:O,12,FALSE)=IF(O53=\"T7\",DATA!$D$2,IF(O53=\"E87\",DATA!$D$5,IF(O53=\"P2\",DATA!$D$6,IF(O53=\"e2695\",DATA!$D$7,\"\")))),IF(N53>=IF(O53=\"T7\",DATA!$K$11,IF(O53=\"E87\",DATA!$L$11,IF(O53=\"P2\",DATA!$M$11,IF(O53=\"e2695\",DATA!$N$11,\"\")))),\"uni008\",\"uni001\"),IF(VLOOKUP(RIGHT(A53,5)*1,'Data eshop'!D:O,12,FALSE)=DATA!$D$3,IF(O53=\"T7\",IF(N53>=500,\"uni009\",\"uni002\"),\"x\"),IF(VLOOKUP(RIGHT(A53,5)*1,'Data eshop'!D:O,12,FALSE)=DATA!$D$4,\"uni010\",\"\"))),\"\"))),\"\")","v":""},{"$f":"IFERROR(IF(A53=\"\",\"\",IF(LEFT(B53,3)=\"uni\",1,VLOOKUP(RIGHT(A53,5)&\"-\"&B53,'Data eshop'!A:R,18,FALSE))),\"\")","v":""},"",{"$f":"IFERROR(IF(A53=\"\",\"\",IF(LEFT(B53,3)=\"uni\",VLOOKUP(B53,DATA!I:X,IF(O53=\"T7\",3,IF(O53=\"E87\",4,IF(O53=\"P2\",5,IF(O53=\"E2695\",6,\"\")))),FALSE),VLOOKUP(RIGHT(A53,5)&\"-\"&B53,'Data eshop'!A:S,19,FALSE))),\"\")","v":""},{"$f":"IFERROR(IF(A53=\"\",\"\",IF(LEFT(B53,3)=\"uni\",0,VLOOKUP(RIGHT(A53,5)&\"-\"&B53,'Data eshop'!A:S,16,FALSE))),\"\")","v":""},null,"",{"$f":"IF(H53=\"\",\"\",WORKDAY(TODAY()+IF(VLOOKUP(VLOOKUP(RIGHT(A53,5)*1,'Data eshop'!D:N,11,FALSE),DATA!A:B,2,FALSE)=7,14,1),5))","v":""},"","",{"$f":"IF(L52=\"\",\"\",IF(L52=RIGHT(A52,5)&\"x\",LEFT(L52,LEN(L52)-1)&\"y\",IF(L52=RIGHT(A52,5)&\"y\",IFERROR(SMALL('Data eshop'!D:D,COUNTIF('Data eshop'!D:D,\"<\"&(LEFT(L52,LEN(L52)-1)*1))),\"\"),IF(ISERROR(IF(VLOOKUP(M52+1,'Data eshop'!C:D,2,FALSE)='Řádky zakázky'!L52,L52,L52&\"x\")),IF(RIGHT(L52,1)=\"y\",\"\",L52&\"x\"),IF(VLOOKUP(M52+1,'Data eshop'!C:D,2,FALSE)='Řádky zakázky'!L52,L52,L52&\"x\")))))","v":"0xxxxxxxxxxxxxxxxxxxxxxxxxxxxxxxxxxxxxxxxxxxxxxxxxxx"},1,{"$f":"IF(A53=\"\",\"\",VLOOKUP(RIGHT(A53,5)*1,'Data eshop'!D:W,17,FALSE))","v":{"$error":"#VALUE!"}},{"$f":"VLOOKUP(A53,Zakázky!A:B,2,FALSE)","v":{"$error":"#N/A"}},""]
["19ESh0",{"$f":"IFERROR(IF(ISNUMBER(L54),VLOOKUP(L54&\"-\"&M54,'Data eshop'!B:W,16,FALSE),IF(RIGHT(L54,1)=\"x\",VLOOKUP(VLOOKUP(RIGHT(A54,5)*1,'Data eshop'!D:N,11,FALSE),DATA!G:I,3,FALSE),IF(RIGHT(L54,1)=\"y\",IF(VLOOKUP(RIGHT(A54,5)*1,'Data eshop'!D:O,12,FALSE)=IF(O54=\"T7\",DATA!$D$2,IF(O54=\"E87\",DATA!$D$5,IF(O54=\"P2\",DATA!$D$6,IF(O54=\"e2695\",DATA!$D$7,\"\")))),IF(N54>=IF(O54=\"T7\",DATA!$K$11,IF(O54=\"E87\",DATA!$L$11,IF(O54=\"P2\",DATA!$M$11,IF(O54=\"e2695\",DATA!$N$11,\"\")))),\"uni008\",\"uni001\"),IF(VLOOKUP(RIGHT(A54,5)*1,'Data eshop'!D:O,12,FALSE)=DATA!$D$3,IF(O54=\"T7\",IF(N54>=500,\"uni009\",\"uni002\"),\"x\"),IF(VLOOKUP(RIGHT(A54,5)*1,'Data eshop'!D:O,12,FALSE)=DATA!$D$4,\"uni010\",\"\"))),\"\"))),\"\")","v":""},{"$f":"IFERROR(IF(A54=\"\",\"\",IF(LEFT(B54,3)=\"uni\",1,VLOOKUP(RIGHT(A54,5)&\"-\"&B54,'Data eshop'!A:R,18,FALSE))),\"\")","v":""},"",{"$f":"IFERROR(IF(A54=\"\",\"\",IF(LEFT(B54,3)=\"uni\",VLOOKUP(B54,DATA!I:X,IF(O54=\"T7\",3,IF(O54=\"E87\",4,IF(O54=\"P2\",5,IF(O54=\"E2695\",6,\"\")))),FALSE),VLOOKUP(RIGHT(A54,5)&\"-\"&B54,'Data eshop'!A:S,19,FALSE))),\"\")","v":""},{"$f":"IFERROR(IF(A54=\"\",\"\",IF(LEFT(B54,3)=\"uni\",0,VLOOKUP(RIGHT(A54,5)&\"-\"&B54,'Data eshop'!A:S,16,FALSE))),\"\")","v":""},null,"",{"$f":"IF(H54=\"\",\"\",WORKDAY(TODAY()+IF(VLOOKUP(VLOOKUP(RIGHT(A54,5)*1,'Data eshop'!D:N,11,FALSE),DATA!A:B,2,FALSE)=7,14,1),5))","v":""},"","",{"$f":"IF(L53=\"\",\"\",IF(L53=RIGHT(A53,5)&\"x\",LEFT(L53,LEN(L53)-1)&\"y\",IF(L53=RIGHT(A53,5)&\"y\",IFERROR(SMALL('Data eshop'!D:D,COUNTIF('Data eshop'!D:D,\"<\"&(LEFT(L53,LEN(L53)-1)*1))),\"\"),IF(ISERROR(IF(VLOOKUP(M53+1,'Data eshop'!C:D,2,FALSE)='Řádky zakázky'!L53,L53,L53&\"x\")),IF(RIGHT(L53,1)=\"y\",\"\",L53&\"x\"),IF(VLOOKUP(M53+1,'Data eshop'!C:D,2,FALSE)='Řádky zakázky'!L53,L53,L53&\"x\")))))","v":"0xxxxxxxxxxxxxxxxxxxxxxxxxxxxxxxxxxxxxxxxxxxxxxxxxxxx"},1,{"$f":"IF(A54=\"\",\"\",VLOOKUP(RIGHT(A54,5)*1,'Data eshop'!D:W,17,FALSE))","v":{"$error":"#VALUE!"}},{"$f":"VLOOKUP(A54,Zakázky!A:B,2,FALSE)","v":{"$error":"#N/A"}},""]
["19ESh0",{"$f":"IFERROR(IF(ISNUMBER(L55),VLOOKUP(L55&\"-\"&M55,'Data eshop'!B:W,16,FALSE),IF(RIGHT(L55,1)=\"x\",VLOOKUP(VLOOKUP(RIGHT(A55,5)*1,'Data eshop'!D:N,11,FALSE),DATA!G:I,3,FALSE),IF(RIGHT(L55,1)=\"y\",IF(VLOOKUP(RIGHT(A55,5)*1,'Data eshop'!D:O,12,FALSE)=IF(O55=\"T7\",DATA!$D$2,IF(O55=\"E87\",DATA!$D$5,IF(O55=\"P2\",DATA!$D$6,IF(O55=\"e2695\",DATA!$D$7,\"\")))),IF(N55>=IF(O55=\"T7\",DATA!$K$11,IF(O55=\"E87\",DATA!$L$11,IF(O55=\"P2\",DATA!$M$11,IF(O55=\"e2695\",DATA!$N$11,\"\")))),\"uni008\",\"uni001\"),IF(VLOOKUP(RIGHT(A55,5)*1,'Data eshop'!D:O,12,FALSE)=DATA!$D$3,IF(O55=\"T7\",IF(N55>=500,\"uni009\",\"uni002\"),\"x\"),IF(VLOOKUP(RIGHT(A55,5)*1,'Data eshop'!D:O,12,FALSE)=DATA!$D$4,\"uni010\",\"\"))),\"\"))),\"\")","v":""},{"$f":"IFERROR(IF(A55=\"\",\"\",IF(LEFT(B55,3)=\"uni\",1,VLOOKUP(RIGHT(A55,5)&\"-\"&B55,'Data eshop'!A:R,18,FALSE))),\"\")","v":""},"",{"$f":"IFERROR(IF(A55=\"\",\"\",IF(LEFT(B55,3)=\"uni\",VLOOKUP(B55,DATA!I:X,IF(O55=\"T7\",3,IF(O55=\"E87\",4,IF(O55=\"P2\",5,IF(O55=\"E2695\",6,\"\")))),FALSE),VLOOKUP(RIGHT(A55,5)&\"-\"&B55,'Data eshop'!A:S,19,FALSE))),\"\")","v":""},{"$f":"IFERROR(IF(A55=\"\",\"\",IF(LEFT(B55,3)=\"uni\",0,VLOOKUP(RIGHT(A55,5)&\"-\"&B55,'Data eshop'!A:S,16,FALSE))),\"\")","v":""},null,"",{"$f":"IF(H55=\"\",\"\",WORKDAY(TODAY()+IF(VLOOKUP(VLOOKUP(RIGHT(A55,5)*1,'Data eshop'!D:N,11,FALSE),DATA!A:B,2,FALSE)=7,14,1),5))","v":""},"","",{"$f":"IF(L54=\"\",\"\",IF(L54=RIGHT(A54,5)&\"x\",LEFT(L54,LEN(L54)-1)&\"y\",IF(L54=RIGHT(A54,5)&\"y\",IFERROR(SMALL('Data eshop'!D:D,COUNTIF('Data eshop'!D:D,\"<\"&(LEFT(L54,LEN(L54)-1)*1))),\"\"),IF(ISERROR(IF(VLOOKUP(M54+1,'Data eshop'!C:D,2,FALSE)='Řádky zakázky'!L54,L54,L54&\"x\")),IF(RIGHT(L54,1)=\"y\",\"\",L54&\"x\"),IF(VLOOKUP(M54+1,'Data eshop'!C:D,2,FALSE)='Řádky zakázky'!L54,L54,L54&\"x\")))))","v":"0xxxxxxxxxxxxxxxxxxxxxxxxxxxxxxxxxxxxxxxxxxxxxxxxxxxxx"},1,{"$f":"IF(A55=\"\",\"\",VLOOKUP(RIGHT(A55,5)*1,'Data eshop'!D:W,17,FALSE))","v":{"$error":"#VALUE!"}},{"$f":"VLOOKUP(A55,Zakázky!A:B,2,FALSE)","v":{"$error":"#N/A"}},""]
["19ESh0",{"$f":"IFERROR(IF(ISNUMBER(L56),VLOOKUP(L56&\"-\"&M56,'Data eshop'!B:W,16,FALSE),IF(RIGHT(L56,1)=\"x\",VLOOKUP(VLOOKUP(RIGHT(A56,5)*1,'Data eshop'!D:N,11,FALSE),DATA!G:I,3,FALSE),IF(RIGHT(L56,1)=\"y\",IF(VLOOKUP(RIGHT(A56,5)*1,'Data eshop'!D:O,12,FALSE)=IF(O56=\"T7\",DATA!$D$2,IF(O56=\"E87\",DATA!$D$5,IF(O56=\"P2\",DATA!$D$6,IF(O56=\"e2695\",DATA!$D$7,\"\")))),IF(N56>=IF(O56=\"T7\",DATA!$K$11,IF(O56=\"E87\",DATA!$L$11,IF(O56=\"P2\",DATA!$M$11,IF(O56=\"e2695\",DATA!$N$11,\"\")))),\"uni008\",\"uni001\"),IF(VLOOKUP(RIGHT(A56,5)*1,'Data eshop'!D:O,12,FALSE)=DATA!$D$3,IF(O56=\"T7\",IF(N56>=500,\"uni009\",\"uni002\"),\"x\"),IF(VLOOKUP(RIGHT(A56,5)*1,'Data eshop'!D:O,12,FALSE)=DATA!$D$4,\"uni010\",\"\"))),\"\"))),\"\")","v":""},{"$f":"IFERROR(IF(A56=\"\",\"\",IF(LEFT(B56,3)=\"uni\",1,VLOOKUP(RIGHT(A56,5)&\"-\"&B56,'Data eshop'!A:R,18,FALSE))),\"\")","v":""},"",{"$f":"IFERROR(IF(A56=\"\",\"\",IF(LEFT(B56,3)=\"uni\",VLOOKUP(B56,DATA!I:X,IF(O56=\"T7\",3,IF(O56=\"E87\",4,IF(O56=\"P2\",5,IF(O56=\"E2695\",6,\"\")))),FALSE),VLOOKUP(RIGHT(A56,5)&\"-\"&B56,'Data eshop'!A:S,19,FALSE))),\"\")","v":""},{"$f":"IFERROR(IF(A56=\"\",\"\",IF(LEFT(B56,3)=\"uni\",0,VLOOKUP(RIGHT(A56,5)&\"-\"&B56,'Data eshop'!A:S,16,FALSE))),\"\")","v":""},null,"",{"$f":"IF(H56=\"\",\"\",WORKDAY(TODAY()+IF(VLOOKUP(VLOOKUP(RIGHT(A56,5)*1,'Data eshop'!D:N,11,FALSE),DATA!A:B,2,FALSE)=7,14,1),5))","v":""},"","",{"$f":"IF(L55=\"\",\"\",IF(L55=RIGHT(A55,5)&\"x\",LEFT(L55,LEN(L55)-1)&\"y\",IF(L55=RIGHT(A55,5)&\"y\",IFERROR(SMALL('Data eshop'!D:D,COUNTIF('Data eshop'!D:D,\"<\"&(LEFT(L55,LEN(L55)-1)*1))),\"\"),IF(ISERROR(IF(VLOOKUP(M55+1,'Data eshop'!C:D,2,FALSE)='Řádky zakázky'!L55,L55,L55&\"x\")),IF(RIGHT(L55,1)=\"y\",\"\",L55&\"x\"),IF(VLOOKUP(M55+1,'Data eshop'!C:D,2,FALSE)='Řádky zakázky'!L55,L55,L55&\"x\")))))","v":"0xxxxxxxxxxxxxxxxxxxxxxxxxxxxxxxxxxxxxxxxxxxxxxxxxxxxxx"},1,{"$f":"IF(A56=\"\",\"\",VLOOKUP(RIGHT(A56,5)*1,'Data eshop'!D:W,17,FALSE))","v":{"$error":"#VALUE!"}},{"$f":"VLOOKUP(A56,Zakázky!A:B,2,FALSE)","v":{"$error":"#N/A"}},"","Roluj nahoru, až uvidíš žlutou"]
["19ESh0",{"$f":"IFERROR(IF(ISNUMBER(L57),VLOOKUP(L57&\"-\"&M57,'Data eshop'!B:W,16,FALSE),IF(RIGHT(L57,1)=\"x\",VLOOKUP(VLOOKUP(RIGHT(A57,5)*1,'Data eshop'!D:N,11,FALSE),DATA!G:I,3,FALSE),IF(RIGHT(L57,1)=\"y\",IF(VLOOKUP(RIGHT(A57,5)*1,'Data eshop'!D:O,12,FALSE)=IF(O57=\"T7\",DATA!$D$2,IF(O57=\"E87\",DATA!$D$5,IF(O57=\"P2\",DATA!$D$6,IF(O57=\"e2695\",DATA!$D$7,\"\")))),IF(N57>=IF(O57=\"T7\",DATA!$K$11,IF(O57=\"E87\",DATA!$L$11,IF(O57=\"P2\",DATA!$M$11,IF(O57=\"e2695\",DATA!$N$11,\"\")))),\"uni008\",\"uni001\"),IF(VLOOKUP(RIGHT(A57,5)*1,'Data eshop'!D:O,12,FALSE)=DATA!$D$3,IF(O57=\"T7\",IF(N57>=500,\"uni009\",\"uni002\"),\"x\"),IF(VLOOKUP(RIGHT(A57,5)*1,'Data eshop'!D:O,12,FALSE)=DATA!$D$4,\"uni010\",\"\"))),\"\"))),\"\")","v":""},{"$f":"IFERROR(IF(A57=\"\",\"\",IF(LEFT(B57,3)=\"uni\",1,VLOOKUP(RIGHT(A57,5)&\"-\"&B57,'Data eshop'!A:R,18,FALSE))),\"\")","v":""},"",{"$f":"IFERROR(IF(A57=\"\",\"\",IF(LEFT(B57,3)=\"uni\",VLOOKUP(B57,DATA!I:X,IF(O57=\"T7\",3,IF(O57=\"E87\",4,IF(O57=\"P2\",5,IF(O57=\"E2695\",6,\"\")))),FALSE),VLOOKUP(RIGHT(A57,5)&\"-\"&B57,'Data eshop'!A:S,19,FALSE))),\"\")","v":""},{"$f":"IFERROR(IF(A57=\"\",\"\",IF(LEFT(B57,3)=\"uni\",0,VLOOKUP(RIGHT(A57,5)&\"-\"&B57,'Data eshop'!A:S,16,FALSE))),\"\")","v":""},null,"",{"$f":"IF(H57=\"\",\"\",WORKDAY(TODAY()+IF(VLOOKUP(VLOOKUP(RIGHT(A57,5)*1,'Data eshop'!D:N,11,FALSE),DATA!A:B,2,FALSE)=7,14,1),5))","v":""},"","",{"$f":"IF(L56=\"\",\"\",IF(L56=RIGHT(A56,5)&\"x\",LEFT(L56,LEN(L56)-1)&\"y\",IF(L56=RIGHT(A56,5)&\"y\",IFERROR(SMALL('Data eshop'!D:D,COUNTIF('Data eshop'!D:D,\"<\"&(LEFT(L56,LEN(L56)-1)*1))),\"\"),IF(ISERROR(IF(VLOOKUP(M56+1,'Data eshop'!C:D,2,FALSE)='Řádky zakázky'!L56,L56,L56&\"x\")),IF(RIGHT(L56,1)=\"y\",\"\",L56&\"x\"),IF(VLOOKUP(M56+1,'Data eshop'!C:D,2,FALSE)='Řádky zakázky'!L56,L56,L56&\"x\")))))","v":"0xxxxxxxxxxxxxxxxxxxxxxxxxxxxxxxxxxxxxxxxxxxxxxxxxxxxxxx"},1,{"$f":"IF(A57=\"\",\"\",VLOOKUP(RIGHT(A57,5)*1,'Data eshop'!D:W,17,FALSE))","v":{"$error":"#VALUE!"}},{"$f":"VLOOKUP(A57,Zakázky!A:B,2,FALSE)","v":{"$error":"#N/A"}},""]
["19ESh0",{"$f":"IFERROR(IF(ISNUMBER(L58),VLOOKUP(L58&\"-\"&M58,'Data eshop'!B:W,16,FALSE),IF(RIGHT(L58,1)=\"x\",VLOOKUP(VLOOKUP(RIGHT(A58,5)*1,'Data eshop'!D:N,11,FALSE),DATA!G:I,3,FALSE),IF(RIGHT(L58,1)=\"y\",IF(VLOOKUP(RIGHT(A58,5)*1,'Data eshop'!D:O,12,FALSE)=IF(O58=\"T7\",DATA!$D$2,IF(O58=\"E87\",DATA!$D$5,IF(O58=\"P2\",DATA!$D$6,IF(O58=\"e2695\",DATA!$D$7,\"\")))),IF(N58>=IF(O58=\"T7\",DATA!$K$11,IF(O58=\"E87\",DATA!$L$11,IF(O58=\"P2\",DATA!$M$11,IF(O58=\"e2695\",DATA!$N$11,\"\")))),\"uni008\",\"uni001\"),IF(VLOOKUP(RIGHT(A58,5)*1,'Data eshop'!D:O,12,FALSE)=DATA!$D$3,IF(O58=\"T7\",IF(N58>=500,\"uni009\",\"uni002\"),\"x\"),IF(VLOOKUP(RIGHT(A58,5)*1,'Data eshop'!D:O,12,FALSE)=DATA!$D$4,\"uni010\",\"\"))),\"\"))),\"\")","v":""},{"$f":"IFERROR(IF(A58=\"\",\"\",IF(LEFT(B58,3)=\"uni\",1,VLOOKUP(RIGHT(A58,5)&\"-\"&B58,'Data eshop'!A:R,18,FALSE))),\"\")","v":""},"",{"$f":"IFERROR(IF(A58=\"\",\"\",IF(LEFT(B58,3)=\"uni\",VLOOKUP(B58,DATA!I:X,IF(O58=\"T7\",3,IF(O58=\"E87\",4,IF(O58=\"P2\",5,IF(O58=\"E2695\",6,\"\")))),FALSE),VLOOKUP(RIGHT(A58,5)&\"-\"&B58,'Data eshop'!A:S,19,FALSE))),\"\")","v":""},{"$f":"IFERROR(IF(A58=\"\",\"\",IF(LEFT(B58,3)=\"uni\",0,VLOOKUP(RIGHT(A58,5)&\"-\"&B58,'Data eshop'!A:S,16,FALSE))),\"\")","v":""},null,"",{"$f":"IF(H58=\"\",\"\",WORKDAY(TODAY()+IF(VLOOKUP(VLOOKUP(RIGHT(A58,5)*1,'Data eshop'!D:N,11,FALSE),DATA!A:B,2,FALSE)=7,14,1),5))","v":""},"","",{"$f":"IF(L57=\"\",\"\",IF(L57=RIGHT(A57,5)&\"x\",LEFT(L57,LEN(L57)-1)&\"y\",IF(L57=RIGHT(A57,5)&\"y\",IFERROR(SMALL('Data eshop'!D:D,COUNTIF('Data eshop'!D:D,\"<\"&(LEFT(L57,LEN(L57)-1)*1))),\"\"),IF(ISERROR(IF(VLOOKUP(M57+1,'Data eshop'!C:D,2,FALSE)='Řádky zakázky'!L57,L57,L57&\"x\")),IF(RIGHT(L57,1)=\"y\",\"\",L57&\"x\"),IF(VLOOKUP(M57+1,'Data eshop'!C:D,2,FALSE)='Řádky zakázky'!L57,L57,L57&\"x\")))))","v":"0xxxxxxxxxxxxxxxxxxxxxxxxxxxxxxxxxxxxxxxxxxxxxxxxxxxxxxxx"},1,{"$f":"IF(A58=\"\",\"\",VLOOKUP(RIGHT(A58,5)*1,'Data eshop'!D:W,17,FALSE))","v":{"$error":"#VALUE!"}},{"$f":"VLOOKUP(A58,Zakázky!A:B,2,FALSE)","v":{"$error":"#N/A"}},""]
["19ESh0",{"$f":"IFERROR(IF(ISNUMBER(L59),VLOOKUP(L59&\"-\"&M59,'Data eshop'!B:W,16,FALSE),IF(RIGHT(L59,1)=\"x\",VLOOKUP(VLOOKUP(RIGHT(A59,5)*1,'Data eshop'!D:N,11,FALSE),DATA!G:I,3,FALSE),IF(RIGHT(L59,1)=\"y\",IF(VLOOKUP(RIGHT(A59,5)*1,'Data eshop'!D:O,12,FALSE)=IF(O59=\"T7\",DATA!$D$2,IF(O59=\"E87\",DATA!$D$5,IF(O59=\"P2\",DATA!$D$6,IF(O59=\"e2695\",DATA!$D$7,\"\")))),IF(N59>=IF(O59=\"T7\",DATA!$K$11,IF(O59=\"E87\",DATA!$L$11,IF(O59=\"P2\",DATA!$M$11,IF(O59=\"e2695\",DATA!$N$11,\"\")))),\"uni008\",\"uni001\"),IF(VLOOKUP(RIGHT(A59,5)*1,'Data eshop'!D:O,12,FALSE)=DATA!$D$3,IF(O59=\"T7\",IF(N59>=500,\"uni009\",\"uni002\"),\"x\"),IF(VLOOKUP(RIGHT(A59,5)*1,'Data eshop'!D:O,12,FALSE)=DATA!$D$4,\"uni010\",\"\"))),\"\"))),\"\")","v":""},{"$f":"IFERROR(IF(A59=\"\",\"\",IF(LEFT(B59,3)=\"uni\",1,VLOOKUP(RIGHT(A59,5)&\"-\"&B59,'Data eshop'!A:R,18,FALSE))),\"\")","v":""},"",{"$f":"IFERROR(IF(A59=\"\",\"\",IF(LEFT(B59,3)=\"uni\",VLOOKUP(B59,DATA!I:X,IF(O59=\"T7\",3,IF(O59=\"E87\",4,IF(O59=\"P2\",5,IF(O59=\"E2695\",6,\"\")))),FALSE),VLOOKUP(RIGHT(A59,5)&\"-\"&B59,'Data eshop'!A:S,19,FALSE))),\"\")","v":""},{"$f":"IFERROR(IF(A59=\"\",\"\",IF(LEFT(B59,3)=\"uni\",0,VLOOKUP(RIGHT(A59,5)&\"-\"&B59,'Data eshop'!A:S,16,FALSE))),\"\")","v":""},null,"",{"$f":"IF(H59=\"\",\"\",WORKDAY(TODAY()+IF(VLOOKUP(VLOOKUP(RIGHT(A59,5)*1,'Data eshop'!D:N,11,FALSE),DATA!A:B,2,FALSE)=7,14,1),5))","v":""},"","",{"$f":"IF(L58=\"\",\"\",IF(L58=RIGHT(A58,5)&\"x\",LEFT(L58,LEN(L58)-1)&\"y\",IF(L58=RIGHT(A58,5)&\"y\",IFERROR(SMALL('Data eshop'!D:D,COUNTIF('Data eshop'!D:D,\"<\"&(LEFT(L58,LEN(L58)-1)*1))),\"\"),IF(ISERROR(IF(VLOOKUP(M58+1,'Data eshop'!C:D,2,FALSE)='Řádky zakázky'!L58,L58,L58&\"x\")),IF(RIGHT(L58,1)=\"y\",\"\",L58&\"x\"),IF(VLOOKUP(M58+1,'Data eshop'!C:D,2,FALSE)='Řádky zakázky'!L58,L58,L58&\"x\")))))","v":"0xxxxxxxxxxxxxxxxxxxxxxxxxxxxxxxxxxxxxxxxxxxxxxxxxxxxxxxxx"},1,{"$f":"IF(A59=\"\",\"\",VLOOKUP(RIGHT(A59,5)*1,'Data eshop'!D:W,17,FALSE))","v":{"$error":"#VALUE!"}},{"$f":"VLOOKUP(A59,Zakázky!A:B,2,FALSE)","v":{"$error":"#N/A"}},""]
["19ESh0",{"$f":"IFERROR(IF(ISNUMBER(L60),VLOOKUP(L60&\"-\"&M60,'Data eshop'!B:W,16,FALSE),IF(RIGHT(L60,1)=\"x\",VLOOKUP(VLOOKUP(RIGHT(A60,5)*1,'Data eshop'!D:N,11,FALSE),DATA!G:I,3,FALSE),IF(RIGHT(L60,1)=\"y\",IF(VLOOKUP(RIGHT(A60,5)*1,'Data eshop'!D:O,12,FALSE)=IF(O60=\"T7\",DATA!$D$2,IF(O60=\"E87\",DATA!$D$5,IF(O60=\"P2\",DATA!$D$6,IF(O60=\"e2695\",DATA!$D$7,\"\")))),IF(N60>=IF(O60=\"T7\",DATA!$K$11,IF(O60=\"E87\",DATA!$L$11,IF(O60=\"P2\",DATA!$M$11,IF(O60=\"e2695\",DATA!$N$11,\"\")))),\"uni008\",\"uni001\"),IF(VLOOKUP(RIGHT(A60,5)*1,'Data eshop'!D:O,12,FALSE)=DATA!$D$3,IF(O60=\"T7\",IF(N60>=500,\"uni009\",\"uni002\"),\"x\"),IF(VLOOKUP(RIGHT(A60,5)*1,'Data eshop'!D:O,12,FALSE)=DATA!$D$4,\"uni010\",\"\"))),\"\"))),\"\")","v":""},{"$f":"IFERROR(IF(A60=\"\",\"\",IF(LEFT(B60,3)=\"uni\",1,VLOOKUP(RIGHT(A60,5)&\"-\"&B60,'Data eshop'!A:R,18,FALSE))),\"\")","v":""},"",{"$f":"IFERROR(IF(A60=\"\",\"\",IF(LEFT(B60,3)=\"uni\",VLOOKUP(B60,DATA!I:X,IF(O60=\"T7\",3,IF(O60=\"E87\",4,IF(O60=\"P2\",5,IF(O60=\"E2695\",6,\"\")))),FALSE),VLOOKUP(RIGHT(A60,5)&\"-\"&B60,'Data eshop'!A:S,19,FALSE))),\"\")","v":""},{"$f":"IFERROR(IF(A60=\"\",\"\",IF(LEFT(B60,3)=\"uni\",0,VLOOKUP(RIGHT(A60,5)&\"-\"&B60,'Data eshop'!A:S,16,FALSE))),\"\")","v":""},null,"",{"$f":"IF(H60=\"\",\"\",WORKDAY(TODAY()+IF(VLOOKUP(VLOOKUP(RIGHT(A60,5)*1,'Data eshop'!D:N,11,FALSE),DATA!A:B,2,FALSE)=7,14,1),5))","v":""},"","",{"$f":"IF(L59=\"\",\"\",IF(L59=RIGHT(A59,5)&\"x\",LEFT(L59,LEN(L59)-1)&\"y\",IF(L59=RIGHT(A59,5)&\"y\",IFERROR(SMALL('Data eshop'!D:D,COUNTIF('Data eshop'!D:D,\"<\"&(LEFT(L59,LEN(L59)-1)*1))),\"\"),IF(ISERROR(IF(VLOOKUP(M59+1,'Data eshop'!C:D,2,FALSE)='Řádky zakázky'!L59,L59,L59&\"x\")),IF(RIGHT(L59,1)=\"y\",\"\",L59&\"x\"),IF(VLOOKUP(M59+1,'Data eshop'!C:D,2,FALSE)='Řádky zakázky'!L59,L59,L59&\"x\")))))","v":"0xxxxxxxxxxxxxxxxxxxxxxxxxxxxxxxxxxxxxxxxxxxxxxxxxxxxxxxxxx"},1,{"$f":"IF(A60=\"\",\"\",VLOOKUP(RIGHT(A60,5)*1,'Data eshop'!D:W,17,FALSE))","v":{"$error":"#VALUE!"}},{"$f":"VLOOKUP(A60,Zakázky!A:B,2,FALSE)","v":{"$error":"#N/A"}},"","Roluj nahoru, až uvidíš žlutou"]
["19ESh0",{"$f":"IFERROR(IF(ISNUMBER(L61),VLOOKUP(L61&\"-\"&M61,'Data eshop'!B:W,16,FALSE),IF(RIGHT(L61,1)=\"x\",VLOOKUP(VLOOKUP(RIGHT(A61,5)*1,'Data eshop'!D:N,11,FALSE),DATA!G:I,3,FALSE),IF(RIGHT(L61,1)=\"y\",IF(VLOOKUP(RIGHT(A61,5)*1,'Data eshop'!D:O,12,FALSE)=IF(O61=\"T7\",DATA!$D$2,IF(O61=\"E87\",DATA!$D$5,IF(O61=\"P2\",DATA!$D$6,IF(O61=\"e2695\",DATA!$D$7,\"\")))),IF(N61>=IF(O61=\"T7\",DATA!$K$11,IF(O61=\"E87\",DATA!$L$11,IF(O61=\"P2\",DATA!$M$11,IF(O61=\"e2695\",DATA!$N$11,\"\")))),\"uni008\",\"uni001\"),IF(VLOOKUP(RIGHT(A61,5)*1,'Data eshop'!D:O,12,FALSE)=DATA!$D$3,IF(O61=\"T7\",IF(N61>=500,\"uni009\",\"uni002\"),\"x\"),IF(VLOOKUP(RIGHT(A61,5)*1,'Data eshop'!D:O,12,FALSE)=DATA!$D$4,\"uni010\",\"\"))),\"\"))),\"\")","v":""},{"$f":"IFERROR(IF(A61=\"\",\"\",IF(LEFT(B61,3)=\"uni\",1,VLOOKUP(RIGHT(A61,5)&\"-\"&B61,'Data eshop'!A:R,18,FALSE))),\"\")","v":""},"",{"$f":"IFERROR(IF(A61=\"\",\"\",IF(LEFT(B61,3)=\"uni\",VLOOKUP(B61,DATA!I:X,IF(O61=\"T7\",3,IF(O61=\"E87\",4,IF(O61=\"P2\",5,IF(O61=\"E2695\",6,\"\")))),FALSE),VLOOKUP(RIGHT(A61,5)&\"-\"&B61,'Data eshop'!A:S,19,FALSE))),\"\")","v":""},{"$f":"IFERROR(IF(A61=\"\",\"\",IF(LEFT(B61,3)=\"uni\",0,VLOOKUP(RIGHT(A61,5)&\"-\"&B61,'Data eshop'!A:S,16,FALSE))),\"\")","v":""},null,"",{"$f":"IF(H61=\"\",\"\",WORKDAY(TODAY()+IF(VLOOKUP(VLOOKUP(RIGHT(A61,5)*1,'Data eshop'!D:N,11,FALSE),DATA!A:B,2,FALSE)=7,14,1),5))","v":""},"","",{"$f":"IF(L60=\"\",\"\",IF(L60=RIGHT(A60,5)&\"x\",LEFT(L60,LEN(L60)-1)&\"y\",IF(L60=RIGHT(A60,5)&\"y\",IFERROR(SMALL('Data eshop'!D:D,COUNTIF('Data eshop'!D:D,\"<\"&(LEFT(L60,LEN(L60)-1)*1))),\"\"),IF(ISERROR(IF(VLOOKUP(M60+1,'Data eshop'!C:D,2,FALSE)='Řádky zakázky'!L60,L60,L60&\"x\")),IF(RIGHT(L60,1)=\"y\",\"\",L60&\"x\"),IF(VLOOKUP(M60+1,'Data eshop'!C:D,2,FALSE)='Řádky zakázky'!L60,L60,L60&\"x\")))))","v":"0xxxxxxxxxxxxxxxxxxxxxxxxxxxxxxxxxxxxxxxxxxxxxxxxxxxxxxxxxxx"},1,{"$f":"IF(A61=\"\",\"\",VLOOKUP(RIGHT(A61,5)*1,'Data eshop'!D:W,17,FALSE))","v":{"$error":"#VALUE!"}},{"$f":"VLOOKUP(A61,Zakázky!A:B,2,FALSE)","v":{"$error":"#N/A"}},""]
["19ESh0",{"$f":"IFERROR(IF(ISNUMBER(L62),VLOOKUP(L62&\"-\"&M62,'Data eshop'!B:W,16,FALSE),IF(RIGHT(L62,1)=\"x\",VLOOKUP(VLOOKUP(RIGHT(A62,5)*1,'Data eshop'!D:N,11,FALSE),DATA!G:I,3,FALSE),IF(RIGHT(L62,1)=\"y\",IF(VLOOKUP(RIGHT(A62,5)*1,'Data eshop'!D:O,12,FALSE)=IF(O62=\"T7\",DATA!$D$2,IF(O62=\"E87\",DATA!$D$5,IF(O62=\"P2\",DATA!$D$6,IF(O62=\"e2695\",DATA!$D$7,\"\")))),IF(N62>=IF(O62=\"T7\",DATA!$K$11,IF(O62=\"E87\",DATA!$L$11,IF(O62=\"P2\",DATA!$M$11,IF(O62=\"e2695\",DATA!$N$11,\"\")))),\"uni008\",\"uni001\"),IF(VLOOKUP(RIGHT(A62,5)*1,'Data eshop'!D:O,12,FALSE)=DATA!$D$3,IF(O62=\"T7\",IF(N62>=500,\"uni009\",\"uni002\"),\"x\"),IF(VLOOKUP(RIGHT(A62,5)*1,'Data eshop'!D:O,12,FALSE)=DATA!$D$4,\"uni010\",\"\"))),\"\"))),\"\")","v":""},{"$f":"IFERROR(IF(A62=\"\",\"\",IF(LEFT(B62,3)=\"uni\",1,VLOOKUP(RIGHT(A62,5)&\"-\"&B62,'Data eshop'!A:R,18,FALSE))),\"\")","v":""},"",{"$f":"IFERROR(IF(A62=\"\",\"\",IF(LEFT(B62,3)=\"uni\",VLOOKUP(B62,DATA!I:X,IF(O62=\"T7\",3,IF(O62=\"E87\",4,IF(O62=\"P2\",5,IF(O62=\"E2695\",6,\"\")))),FALSE),VLOOKUP(RIGHT(A62,5)&\"-\"&B62,'Data eshop'!A:S,19,FALSE))),\"\")","v":""},{"$f":"IFERROR(IF(A62=\"\",\"\",IF(LEFT(B62,3)=\"uni\",0,VLOOKUP(RIGHT(A62,5)&\"-\"&B62,'Data eshop'!A:S,16,FALSE))),\"\")","v":""},null,"",{"$f":"IF(H62=\"\",\"\",WORKDAY(TODAY()+IF(VLOOKUP(VLOOKUP(RIGHT(A62,5)*1,'Data eshop'!D:N,11,FALSE),DATA!A:B,2,FALSE)=7,14,1),5))","v":""},"","",{"$f":"IF(L61=\"\",\"\",IF(L61=RIGHT(A61,5)&\"x\",LEFT(L61,LEN(L61)-1)&\"y\",IF(L61=RIGHT(A61,5)&\"y\",IFERROR(SMALL('Data eshop'!D:D,COUNTIF('Data eshop'!D:D,\"<\"&(LEFT(L61,LEN(L61)-1)*1))),\"\"),IF(ISERROR(IF(VLOOKUP(M61+1,'Data eshop'!C:D,2,FALSE)='Řádky zakázky'!L61,L61,L61&\"x\")),IF(RIGHT(L61,1)=\"y\",\"\",L61&\"x\"),IF(VLOOKUP(M61+1,'Data eshop'!C:D,2,FALSE)='Řádky zakázky'!L61,L61,L61&\"x\")))))","v":"0xxxxxxxxxxxxxxxxxxxxxxxxxxxxxxxxxxxxxxxxxxxxxxxxxxxxxxxxxxxx"},1,{"$f":"IF(A62=\"\",\"\",VLOOKUP(RIGHT(A62,5)*1,'Data eshop'!D:W,17,FALSE))","v":{"$error":"#VALUE!"}},{"$f":"VLOOKUP(A62,Zakázky!A:B,2,FALSE)","v":{"$error":"#N/A"}},""]
["19ESh0",{"$f":"IFERROR(IF(ISNUMBER(L63),VLOOKUP(L63&\"-\"&M63,'Data eshop'!B:W,16,FALSE),IF(RIGHT(L63,1)=\"x\",VLOOKUP(VLOOKUP(RIGHT(A63,5)*1,'Data eshop'!D:N,11,FALSE),DATA!G:I,3,FALSE),IF(RIGHT(L63,1)=\"y\",IF(VLOOKUP(RIGHT(A63,5)*1,'Data eshop'!D:O,12,FALSE)=IF(O63=\"T7\",DATA!$D$2,IF(O63=\"E87\",DATA!$D$5,IF(O63=\"P2\",DATA!$D$6,IF(O63=\"e2695\",DATA!$D$7,\"\")))),IF(N63>=IF(O63=\"T7\",DATA!$K$11,IF(O63=\"E87\",DATA!$L$11,IF(O63=\"P2\",DATA!$M$11,IF(O63=\"e2695\",DATA!$N$11,\"\")))),\"uni008\",\"uni001\"),IF(VLOOKUP(RIGHT(A63,5)*1,'Data eshop'!D:O,12,FALSE)=DATA!$D$3,IF(O63=\"T7\",IF(N63>=500,\"uni009\",\"uni002\"),\"x\"),IF(VLOOKUP(RIGHT(A63,5)*1,'Data eshop'!D:O,12,FALSE)=DATA!$D$4,\"uni010\",\"\"))),\"\"))),\"\")","v":""},{"$f":"IFERROR(IF(A63=\"\",\"\",IF(LEFT(B63,3)=\"uni\",1,VLOOKUP(RIGHT(A63,5)&\"-\"&B63,'Data eshop'!A:R,18,FALSE))),\"\")","v":""},"",{"$f":"IFERROR(IF(A63=\"\",\"\",IF(LEFT(B63,3)=\"uni\",VLOOKUP(B63,DATA!I:X,IF(O63=\"T7\",3,IF(O63=\"E87\",4,IF(O63=\"P2\",5,IF(O63=\"E2695\",6,\"\")))),FALSE),VLOOKUP(RIGHT(A63,5)&\"-\"&B63,'Data eshop'!A:S,19,FALSE))),\"\")","v":""},{"$f":"IFERROR(IF(A63=\"\",\"\",IF(LEFT(B63,3)=\"uni\",0,VLOOKUP(RIGHT(A63,5)&\"-\"&B63,'Data eshop'!A:S,16,FALSE))),\"\")","v":""},null,"",{"$f":"IF(H63=\"\",\"\",WORKDAY(TODAY()+IF(VLOOKUP(VLOOKUP(RIGHT(A63,5)*1,'Data eshop'!D:N,11,FALSE),DATA!A:B,2,FALSE)=7,14,1),5))","v":""},"","",{"$f":"IF(L62=\"\",\"\",IF(L62=RIGHT(A62,5)&\"x\",LEFT(L62,LEN(L62)-1)&\"y\",IF(L62=RIGHT(A62,5)&\"y\",IFERROR(SMALL('Data eshop'!D:D,COUNTIF('Data eshop'!D:D,\"<\"&(LEFT(L62,LEN(L62)-1)*1))),\"\"),IF(ISERROR(IF(VLOOKUP(M62+1,'Data eshop'!C:D,2,FALSE)='Řádky zakázky'!L62,L62,L62&\"x\")),IF(RIGHT(L62,1)=\"y\",\"\",L62&\"x\"),IF(VLOOKUP(M62+1,'Data eshop'!C:D,2,FALSE)='Řádky zakázky'!L62,L62,L62&\"x\")))))","v":"0xxxxxxxxxxxxxxxxxxxxxxxxxxxxxxxxxxxxxxxxxxxxxxxxxxxxxxxxxxxxx"},1,{"$f":"IF(A63=\"\",\"\",VLOOKUP(RIGHT(A63,5)*1,'Data eshop'!D:W,17,FALSE))","v":{"$error":"#VALUE!"}},{"$f":"VLOOKUP(A63,Zakázky!A:B,2,FALSE)","v":{"$error":"#N/A"}},""]
["19ESh0",{"$f":"IFERROR(IF(ISNUMBER(L64),VLOOKUP(L64&\"-\"&M64,'Data eshop'!B:W,16,FALSE),IF(RIGHT(L64,1)=\"x\",VLOOKUP(VLOOKUP(RIGHT(A64,5)*1,'Data eshop'!D:N,11,FALSE),DATA!G:I,3,FALSE),IF(RIGHT(L64,1)=\"y\",IF(VLOOKUP(RIGHT(A64,5)*1,'Data eshop'!D:O,12,FALSE)=IF(O64=\"T7\",DATA!$D$2,IF(O64=\"E87\",DATA!$D$5,IF(O64=\"P2\",DATA!$D$6,IF(O64=\"e2695\",DATA!$D$7,\"\")))),IF(N64>=IF(O64=\"T7\",DATA!$K$11,IF(O64=\"E87\",DATA!$L$11,IF(O64=\"P2\",DATA!$M$11,IF(O64=\"e2695\",DATA!$N$11,\"\")))),\"uni008\",\"uni001\"),IF(VLOOKUP(RIGHT(A64,5)*1,'Data eshop'!D:O,12,FALSE)=DATA!$D$3,IF(O64=\"T7\",IF(N64>=500,\"uni009\",\"uni002\"),\"x\"),IF(VLOOKUP(RIGHT(A64,5)*1,'Data eshop'!D:O,12,FALSE)=DATA!$D$4,\"uni010\",\"\"))),\"\"))),\"\")","v":""},{"$f":"IFERROR(IF(A64=\"\",\"\",IF(LEFT(B64,3)=\"uni\",1,VLOOKUP(RIGHT(A64,5)&\"-\"&B64,'Data eshop'!A:R,18,FALSE))),\"\")","v":""},"",{"$f":"IFERROR(IF(A64=\"\",\"\",IF(LEFT(B64,3)=\"uni\",VLOOKUP(B64,DATA!I:X,IF(O64=\"T7\",3,IF(O64=\"E87\",4,IF(O64=\"P2\",5,IF(O64=\"E2695\",6,\"\")))),FALSE),VLOOKUP(RIGHT(A64,5)&\"-\"&B64,'Data eshop'!A:S,19,FALSE))),\"\")","v":""},{"$f":"IFERROR(IF(A64=\"\",\"\",IF(LEFT(B64,3)=\"uni\",0,VLOOKUP(RIGHT(A64,5)&\"-\"&B64,'Data eshop'!A:S,16,FALSE))),\"\")","v":""},null,"",{"$f":"IF(H64=\"\",\"\",WORKDAY(TODAY()+IF(VLOOKUP(VLOOKUP(RIGHT(A64,5)*1,'Data eshop'!D:N,11,FALSE),DATA!A:B,2,FALSE)=7,14,1),5))","v":""},"","",{"$f":"IF(L63=\"\",\"\",IF(L63=RIGHT(A63,5)&\"x\",LEFT(L63,LEN(L63)-1)&\"y\",IF(L63=RIGHT(A63,5)&\"y\",IFERROR(SMALL('Data eshop'!D:D,COUNTIF('Data eshop'!D:D,\"<\"&(LEFT(L63,LEN(L63)-1)*1))),\"\"),IF(ISERROR(IF(VLOOKUP(M63+1,'Data eshop'!C:D,2,FALSE)='Řádky zakázky'!L63,L63,L63&\"x\")),IF(RIGHT(L63,1)=\"y\",\"\",L63&\"x\"),IF(VLOOKUP(M63+1,'Data eshop'!C:D,2,FALSE)='Řádky zakázky'!L63,L63,L63&\"x\")))))","v":"0xxxxxxxxxxxxxxxxxxxxxxxxxxxxxxxxxxxxxxxxxxxxxxxxxxxxxxxxxxxxxx"},1,{"$f":"IF(A64=\"\",\"\",VLOOKUP(RIGHT(A64,5)*1,'Data eshop'!D:W,17,FALSE))","v":{"$error":"#VALUE!"}},{"$f":"VLOOKUP(A64,Zakázky!A:B,2,FALSE)","v":{"$error":"#N/A"}},"","Roluj nahoru, až uvidíš žlutou"]
["19ESh0",{"$f":"IFERROR(IF(ISNUMBER(L65),VLOOKUP(L65&\"-\"&M65,'Data eshop'!B:W,16,FALSE),IF(RIGHT(L65,1)=\"x\",VLOOKUP(VLOOKUP(RIGHT(A65,5)*1,'Data eshop'!D:N,11,FALSE),DATA!G:I,3,FALSE),IF(RIGHT(L65,1)=\"y\",IF(VLOOKUP(RIGHT(A65,5)*1,'Data eshop'!D:O,12,FALSE)=IF(O65=\"T7\",DATA!$D$2,IF(O65=\"E87\",DATA!$D$5,IF(O65=\"P2\",DATA!$D$6,IF(O65=\"e2695\",DATA!$D$7,\"\")))),IF(N65>=IF(O65=\"T7\",DATA!$K$11,IF(O65=\"E87\",DATA!$L$11,IF(O65=\"P2\",DATA!$M$11,IF(O65=\"e2695\",DATA!$N$11,\"\")))),\"uni008\",\"uni001\"),IF(VLOOKUP(RIGHT(A65,5)*1,'Data eshop'!D:O,12,FALSE)=DATA!$D$3,IF(O65=\"T7\",IF(N65>=500,\"uni009\",\"uni002\"),\"x\"),IF(VLOOKUP(RIGHT(A65,5)*1,'Data eshop'!D:O,12,FALSE)=DATA!$D$4,\"uni010\",\"\"))),\"\"))),\"\")","v":""},{"$f":"IFERROR(IF(A65=\"\",\"\",IF(LEFT(B65,3)=\"uni\",1,VLOOKUP(RIGHT(A65,5)&\"-\"&B65,'Data eshop'!A:R,18,FALSE))),\"\")","v":""},"",{"$f":"IFERROR(IF(A65=\"\",\"\",IF(LEFT(B65,3)=\"uni\",VLOOKUP(B65,DATA!I:X,IF(O65=\"T7\",3,IF(O65=\"E87\",4,IF(O65=\"P2\",5,IF(O65=\"E2695\",6,\"\")))),FALSE),VLOOKUP(RIGHT(A65,5)&\"-\"&B65,'Data eshop'!A:S,19,FALSE))),\"\")","v":""},{"$f":"IFERROR(IF(A65=\"\",\"\",IF(LEFT(B65,3)=\"uni\",0,VLOOKUP(RIGHT(A65,5)&\"-\"&B65,'Data eshop'!A:S,16,FALSE))),\"\")","v":""},null,"",{"$f":"IF(H65=\"\",\"\",WORKDAY(TODAY()+IF(VLOOKUP(VLOOKUP(RIGHT(A65,5)*1,'Data eshop'!D:N,11,FALSE),DATA!A:B,2,FALSE)=7,14,1),5))","v":""},"","",{"$f":"IF(L64=\"\",\"\",IF(L64=RIGHT(A64,5)&\"x\",LEFT(L64,LEN(L64)-1)&\"y\",IF(L64=RIGHT(A64,5)&\"y\",IFERROR(SMALL('Data eshop'!D:D,COUNTIF('Data eshop'!D:D,\"<\"&(LEFT(L64,LEN(L64)-1)*1))),\"\"),IF(ISERROR(IF(VLOOKUP(M64+1,'Data eshop'!C:D,2,FALSE)='Řádky zakázky'!L64,L64,L64&\"x\")),IF(RIGHT(L64,1)=\"y\",\"\",L64&\"x\"),IF(VLOOKUP(M64+1,'Data eshop'!C:D,2,FALSE)='Řádky zakázky'!L64,L64,L64&\"x\")))))","v":"0xxxxxxxxxxxxxxxxxxxxxxxxxxxxxxxxxxxxxxxxxxxxxxxxxxxxxxxxxxxxxxx"},1,{"$f":"IF(A65=\"\",\"\",VLOOKUP(RIGHT(A65,5)*1,'Data eshop'!D:W,17,FALSE))","v":{"$error":"#VALUE!"}},{"$f":"VLOOKUP(A65,Zakázky!A:B,2,FALSE)","v":{"$error":"#N/A"}},""]
["19ESh0",{"$f":"IFERROR(IF(ISNUMBER(L66),VLOOKUP(L66&\"-\"&M66,'Data eshop'!B:W,16,FALSE),IF(RIGHT(L66,1)=\"x\",VLOOKUP(VLOOKUP(RIGHT(A66,5)*1,'Data eshop'!D:N,11,FALSE),DATA!G:I,3,FALSE),IF(RIGHT(L66,1)=\"y\",IF(VLOOKUP(RIGHT(A66,5)*1,'Data eshop'!D:O,12,FALSE)=IF(O66=\"T7\",DATA!$D$2,IF(O66=\"E87\",DATA!$D$5,IF(O66=\"P2\",DATA!$D$6,IF(O66=\"e2695\",DATA!$D$7,\"\")))),IF(N66>=IF(O66=\"T7\",DATA!$K$11,IF(O66=\"E87\",DATA!$L$11,IF(O66=\"P2\",DATA!$M$11,IF(O66=\"e2695\",DATA!$N$11,\"\")))),\"uni008\",\"uni001\"),IF(VLOOKUP(RIGHT(A66,5)*1,'Data eshop'!D:O,12,FALSE)=DATA!$D$3,IF(O66=\"T7\",IF(N66>=500,\"uni009\",\"uni002\"),\"x\"),IF(VLOOKUP(RIGHT(A66,5)*1,'Data eshop'!D:O,12,FALSE)=DATA!$D$4,\"uni010\",\"\"))),\"\"))),\"\")","v":""},{"$f":"IFERROR(IF(A66=\"\",\"\",IF(LEFT(B66,3)=\"uni\",1,VLOOKUP(RIGHT(A66,5)&\"-\"&B66,'Data eshop'!A:R,18,FALSE))),\"\")","v":""},{"$f":"IF(C66=\"\",\"\",\"KS\")","v":""},{"$f":"IFERROR(IF(A66=\"\",\"\",IF(LEFT(B66,3)=\"uni\",VLOOKUP(B66,DATA!I:X,IF(O66=\"T7\",3,IF(O66=\"E87\",4,IF(O66=\"P2\",5,IF(O66=\"E2695\",6,\"\")))),FALSE),VLOOKUP(RIGHT(A66,5)&\"-\"&B66,'Data eshop'!A:S,19,FALSE))),\"\")","v":""},{"$f":"IFERROR(IF(A66=\"\",\"\",IF(LEFT(B66,3)=\"uni\",0,VLOOKUP(RIGHT(A66,5)&\"-\"&B66,'Data eshop'!A:S,16,FALSE))),\"\")","v":""},null,{"$f":"IF(C66=\"\",\"\",\"Objednáno\")","v":""},{"$f":"IF(H66=\"\",\"\",WORKDAY(TODAY()+IF(VLOOKUP(VLOOKUP(RIGHT(A66,5)*1,'Data eshop'!D:N,11,FALSE),DATA!A:B,2,FALSE)=7,14,1),5))","v":""},{"$f":"IF(C66=\"\",\"\",\"SKL\")","v":""},{"$f":"IF(B66=\"\",\"\",IF(ISNUMBER(FIND(\"uni0\",B66)),B66,\"\"))","v":""},{"$f":"IF(L65=\"\",\"\",IF(L65=RIGHT(A65,5)&\"x\",LEFT(L65,LEN(L65)-1)&\"y\",IF(L65=RIGHT(A65,5)&\"y\",IFERROR(SMALL('Data eshop'!D:D,COUNTIF('Data eshop'!D:D,\"<\"&(LEFT(L65,LEN(L65)-1)*1))),\"\"),IF(ISERROR(IF(VLOOKUP(M65+1,'Data eshop'!C:D,2,FALSE)='Řádky zakázky'!L65,L65,L65&\"x\")),IF(RIGHT(L65,1)=\"y\",\"\",L65&\"x\"),IF(VLOOKUP(M65+1,'Data eshop'!C:D,2,FALSE)='Řádky zakázky'!L65,L65,L65&\"x\")))))","v":"0xxxxxxxxxxxxxxxxxxxxxxxxxxxxxxxxxxxxxxxxxxxxxxxxxxxxxxxxxxxxxxxx"},1,{"$f":"IF(A66=\"\",\"\",VLOOKUP(RIGHT(A66,5)*1,'Data eshop'!D:W,17,FALSE))","v":{"$error":"#VALUE!"}},{"$f":"VLOOKUP(A66,Zakázky!A:B,2,FALSE)","v":{"$error":"#N/A"}},{"$f":"IF(C66=\"\",\"\",IF(E66=0.00001,0,E66*C66))","v":""}]
[{"$f":"IFERROR(IF(L67=\"\",\"\",IF(RIGHT(L67,1)=\"x\",A66,IF(RIGHT(L67,1)=\"y\",A66,\"19ESh\"&IF(LEN(L67)=4,\"0\",\"\")&L67))),\"\")","v":"19ESh0"},{"$f":"IFERROR(IF(ISNUMBER(L67),VLOOKUP(L67&\"-\"&M67,'Data eshop'!B:W,16,FALSE),IF(RIGHT(L67,1)=\"x\",VLOOKUP(VLOOKUP(RIGHT(A67,5)*1,'Data eshop'!D:N,11,FALSE),DATA!G:I,3,FALSE),IF(RIGHT(L67,1)=\"y\",IF(VLOOKUP(RIGHT(A67,5)*1,'Data eshop'!D:O,12,FALSE)=IF(O67=\"T7\",DATA!$D$2,IF(O67=\"E87\",DATA!$D$5,IF(O67=\"P2\",DATA!$D$6,IF(O67=\"e2695\",DATA!$D$7,\"\")))),IF(N67>=IF(O67=\"T7\",DATA!$K$11,IF(O67=\"E87\",DATA!$L$11,IF(O67=\"P2\",DATA!$M$11,IF(O67=\"e2695\",DATA!$N$11,\"\")))),\"uni008\",\"uni001\"),IF(VLOOKUP(RIGHT(A67,5)*1,'Data eshop'!D:O,12,FALSE)=DATA!$D$3,IF(O67=\"T7\",IF(N67>=500,\"uni009\",\"uni002\"),\"x\"),IF(VLOOKUP(RIGHT(A67,5)*1,'Data eshop'!D:O,12,FALSE)=DATA!$D$4,\"uni010\",\"\"))),\"\"))),\"\")","v":""},{"$f":"IFERROR(IF(A67=\"\",\"\",IF(LEFT(B67,3)=\"uni\",1,VLOOKUP(RIGHT(A67,5)&\"-\"&B67,'Data eshop'!A:R,18,FALSE))),\"\")","v":""},"",{"$f":"IFERROR(IF(A67=\"\",\"\",IF(LEFT(B67,3)=\"uni\",VLOOKUP(B67,DATA!I:X,IF(O67=\"T7\",3,IF(O67=\"E87\",4,IF(O67=\"P2\",5,IF(O67=\"E2695\",6,\"\")))),FALSE),VLOOKUP(RIGHT(A67,5)&\"-\"&B67,'Data eshop'!A:S,19,FALSE))),\"\")","v":""},{"$f":"IFERROR(IF(A67=\"\",\"\",IF(LEFT(B67,3)=\"uni\",0,VLOOKUP(RIGHT(A67,5)&\"-\"&B67,'Data eshop'!A:S,16,FALSE))),\"\")","v":""},null,"",{"$f":"IF(H67=\"\",\"\",WORKDAY(TODAY()+IF(VLOOKUP(VLOOKUP(RIGHT(A67,5)*1,'Data eshop'!D:N,11,FALSE),DATA!A:B,2,FALSE)=7,14,1),5))","v":""},"","",{"$f":"IF(L66=\"\",\"\",IF(L66=RIGHT(A66,5)&\"x\",LEFT(L66,LEN(L66)-1)&\"y\",IF(L66=RIGHT(A66,5)&\"y\",IFERROR(SMALL('Data eshop'!D:D,COUNTIF('Data eshop'!D:D,\"<\"&(LEFT(L66,LEN(L66)-1)*1))),\"\"),IF(ISERROR(IF(VLOOKUP(M66+1,'Data eshop'!C:D,2,FALSE)='Řádky zakázky'!L66,L66,L66&\"x\")),IF(RIGHT(L66,1)=\"y\",\"\",L66&\"x\"),IF(VLOOKUP(M66+1,'Data eshop'!C:D,2,FALSE)='Řádky zakázky'!L66,L66,L66&\"x\")))))","v":"0xxxxxxxxxxxxxxxxxxxxxxxxxxxxxxxxxxxxxxxxxxxxxxxxxxxxxxxxxxxxxxxxx"},1,{"$f":"IF(A67=\"\",\"\",VLOOKUP(RIGHT(A67,5)*1,'Data eshop'!D:W,17,FALSE))","v":{"$error":"#VALUE!"}},{"$f":"VLOOKUP(A67,Zakázky!A:B,2,FALSE)","v":{"$error":"#N/A"}},""]
["19ESh0",{"$f":"IFERROR(IF(ISNUMBER(L68),VLOOKUP(L68&\"-\"&M68,'Data eshop'!B:W,16,FALSE),IF(RIGHT(L68,1)=\"x\",VLOOKUP(VLOOKUP(RIGHT(A68,5)*1,'Data eshop'!D:N,11,FALSE),DATA!G:I,3,FALSE),IF(RIGHT(L68,1)=\"y\",IF(VLOOKUP(RIGHT(A68,5)*1,'Data eshop'!D:O,12,FALSE)=IF(O68=\"T7\",DATA!$D$2,IF(O68=\"E87\",DATA!$D$5,IF(O68=\"P2\",DATA!$D$6,IF(O68=\"e2695\",DATA!$D$7,\"\")))),IF(N68>=IF(O68=\"T7\",DATA!$K$11,IF(O68=\"E87\",DATA!$L$11,IF(O68=\"P2\",DATA!$M$11,IF(O68=\"e2695\",DATA!$N$11,\"\")))),\"uni008\",\"uni001\"),IF(VLOOKUP(RIGHT(A68,5)*1,'Data eshop'!D:O,12,FALSE)=DATA!$D$3,IF(O68=\"T7\",IF(N68>=500,\"uni009\",\"uni002\"),\"x\"),IF(VLOOKUP(RIGHT(A68,5)*1,'Data eshop'!D:O,12,FALSE)=DATA!$D$4,\"uni010\",\"\"))),\"\"))),\"\")","v":""},{"$f":"IFERROR(IF(A68=\"\",\"\",IF(LEFT(B68,3)=\"uni\",1,VLOOKUP(RIGHT(A68,5)&\"-\"&B68,'Data eshop'!A:R,18,FALSE))),\"\")","v":""},"",{"$f":"IFERROR(IF(A68=\"\",\"\",IF(LEFT(B68,3)=\"uni\",VLOOKUP(B68,DATA!I:X,IF(O68=\"T7\",3,IF(O68=\"E87\",4,IF(O68=\"P2\",5,IF(O68=\"E2695\",6,\"\")))),FALSE),VLOOKUP(RIGHT(A68,5)&\"-\"&B68,'Data eshop'!A:S,19,FALSE))),\"\")","v":""},{"$f":"IFERROR(IF(A68=\"\",\"\",IF(LEFT(B68,3)=\"uni\",0,VLOOKUP(RIGHT(A68,5)&\"-\"&B68,'Data eshop'!A:S,16,FALSE))),\"\")","v":""},null,"",{"$f":"IF(H68=\"\",\"\",WORKDAY(TODAY()+IF(VLOOKUP(VLOOKUP(RIGHT(A68,5)*1,'Data eshop'!D:N,11,FALSE),DATA!A:B,2,FALSE)=7,14,1),5))","v":""},"","",{"$f":"IF(L67=\"\",\"\",IF(L67=RIGHT(A67,5)&\"x\",LEFT(L67,LEN(L67)-1)&\"y\",IF(L67=RIGHT(A67,5)&\"y\",IFERROR(SMALL('Data eshop'!D:D,COUNTIF('Data eshop'!D:D,\"<\"&(LEFT(L67,LEN(L67)-1)*1))),\"\"),IF(ISERROR(IF(VLOOKUP(M67+1,'Data eshop'!C:D,2,FALSE)='Řádky zakázky'!L67,L67,L67&\"x\")),IF(RIGHT(L67,1)=\"y\",\"\",L67&\"x\"),IF(VLOOKUP(M67+1,'Data eshop'!C:D,2,FALSE)='Řádky zakázky'!L67,L67,L67&\"x\")))))","v":"0xxxxxxxxxxxxxxxxxxxxxxxxxxxxxxxxxxxxxxxxxxxxxxxxxxxxxxxxxxxxxxxxxx"},1,{"$f":"IF(A68=\"\",\"\",VLOOKUP(RIGHT(A68,5)*1,'Data eshop'!D:W,17,FALSE))","v":{"$error":"#VALUE!"}},{"$f":"VLOOKUP(A68,Zakázky!A:B,2,FALSE)","v":{"$error":"#N/A"}},"","Roluj nahoru, až uvidíš žlutou"]
["19ESh0",{"$f":"IFERROR(IF(ISNUMBER(L69),VLOOKUP(L69&\"-\"&M69,'Data eshop'!B:W,16,FALSE),IF(RIGHT(L69,1)=\"x\",VLOOKUP(VLOOKUP(RIGHT(A69,5)*1,'Data eshop'!D:N,11,FALSE),DATA!G:I,3,FALSE),IF(RIGHT(L69,1)=\"y\",IF(VLOOKUP(RIGHT(A69,5)*1,'Data eshop'!D:O,12,FALSE)=IF(O69=\"T7\",DATA!$D$2,IF(O69=\"E87\",DATA!$D$5,IF(O69=\"P2\",DATA!$D$6,IF(O69=\"e2695\",DATA!$D$7,\"\")))),IF(N69>=IF(O69=\"T7\",DATA!$K$11,IF(O69=\"E87\",DATA!$L$11,IF(O69=\"P2\",DATA!$M$11,IF(O69=\"e2695\",DATA!$N$11,\"\")))),\"uni008\",\"uni001\"),IF(VLOOKUP(RIGHT(A69,5)*1,'Data eshop'!D:O,12,FALSE)=DATA!$D$3,IF(O69=\"T7\",IF(N69>=500,\"uni009\",\"uni002\"),\"x\"),IF(VLOOKUP(RIGHT(A69,5)*1,'Data eshop'!D:O,12,FALSE)=DATA!$D$4,\"uni010\",\"\"))),\"\"))),\"\")","v":""},{"$f":"IFERROR(IF(A69=\"\",\"\",IF(LEFT(B69,3)=\"uni\",1,VLOOKUP(RIGHT(A69,5)&\"-\"&B69,'Data eshop'!A:R,18,FALSE))),\"\")","v":""},"",{"$f":"IFERROR(IF(A69=\"\",\"\",IF(LEFT(B69,3)=\"uni\",VLOOKUP(B69,DATA!I:X,IF(O69=\"T7\",3,IF(O69=\"E87\",4,IF(O69=\"P2\",5,IF(O69=\"E2695\",6,\"\")))),FALSE),VLOOKUP(RIGHT(A69,5)&\"-\"&B69,'Data eshop'!A:S,19,FALSE))),\"\")","v":""},{"$f":"IFERROR(IF(A69=\"\",\"\",IF(LEFT(B69,3)=\"uni\",0,VLOOKUP(RIGHT(A69,5)&\"-\"&B69,'Data eshop'!A:S,16,FALSE))),\"\")","v":""},null,"",{"$f":"IF(H69=\"\",\"\",WORKDAY(TODAY()+IF(VLOOKUP(VLOOKUP(RIGHT(A69,5)*1,'Data eshop'!D:N,11,FALSE),DATA!A:B,2,FALSE)=7,14,1),5))","v":""},"","",{"$f":"IF(L68=\"\",\"\",IF(L68=RIGHT(A68,5)&\"x\",LEFT(L68,LEN(L68)-1)&\"y\",IF(L68=RIGHT(A68,5)&\"y\",IFERROR(SMALL('Data eshop'!D:D,COUNTIF('Data eshop'!D:D,\"<\"&(LEFT(L68,LEN(L68)-1)*1))),\"\"),IF(ISERROR(IF(VLOOKUP(M68+1,'Data eshop'!C:D,2,FALSE)='Řádky zakázky'!L68,L68,L68&\"x\")),IF(RIGHT(L68,1)=\"y\",\"\",L68&\"x\"),IF(VLOOKUP(M68+1,'Data eshop'!C:D,2,FALSE)='Řádky zakázky'!L68,L68,L68&\"x\")))))","v":"0xxxxxxxxxxxxxxxxxxxxxxxxxxxxxxxxxxxxxxxxxxxxxxxxxxxxxxxxxxxxxxxxxxx"},1,{"$f":"IF(A69=\"\",\"\",VLOOKUP(RIGHT(A69,5)*1,'Data eshop'!D:W,17,FALSE))","v":{"$error":"#VALUE!"}},{"$f":"VLOOKUP(A69,Zakázky!A:B,2,FALSE)","v":{"$error":"#N/A"}},""]
["19ESh0",{"$f":"IFERROR(IF(ISNUMBER(L70),VLOOKUP(L70&\"-\"&M70,'Data eshop'!B:W,16,FALSE),IF(RIGHT(L70,1)=\"x\",VLOOKUP(VLOOKUP(RIGHT(A70,5)*1,'Data eshop'!D:N,11,FALSE),DATA!G:I,3,FALSE),IF(RIGHT(L70,1)=\"y\",IF(VLOOKUP(RIGHT(A70,5)*1,'Data eshop'!D:O,12,FALSE)=IF(O70=\"T7\",DATA!$D$2,IF(O70=\"E87\",DATA!$D$5,IF(O70=\"P2\",DATA!$D$6,IF(O70=\"e2695\",DATA!$D$7,\"\")))),IF(N70>=IF(O70=\"T7\",DATA!$K$11,IF(O70=\"E87\",DATA!$L$11,IF(O70=\"P2\",DATA!$M$11,IF(O70=\"e2695\",DATA!$N$11,\"\")))),\"uni008\",\"uni001\"),IF(VLOOKUP(RIGHT(A70,5)*1,'Data eshop'!D:O,12,FALSE)=DATA!$D$3,IF(O70=\"T7\",IF(N70>=500,\"uni009\",\"uni002\"),\"x\"),IF(VLOOKUP(RIGHT(A70,5)*1,'Data eshop'!D:O,12,FALSE)=DATA!$D$4,\"uni010\",\"\"))),\"\"))),\"\")","v":""},{"$f":"IFERROR(IF(A70=\"\",\"\",IF(LEFT(B70,3)=\"uni\",1,VLOOKUP(RIGHT(A70,5)&\"-\"&B70,'Data eshop'!A:R,18,FALSE))),\"\")","v":""},"",{"$f":"IFERROR(IF(A70=\"\",\"\",IF(LEFT(B70,3)=\"uni\",VLOOKUP(B70,DATA!I:X,IF(O70=\"T7\",3,IF(O70=\"E87\",4,IF(O70=\"P2\",5,IF(O70=\"E2695\",6,\"\")))),FALSE),VLOOKUP(RIGHT(A70,5)&\"-\"&B70,'Data eshop'!A:S,19,FALSE))),\"\")","v":""},{"$f":"IFERROR(IF(A70=\"\",\"\",IF(LEFT(B70,3)=\"uni\",0,VLOOKUP(RIGHT(A70,5)&\"-\"&B70,'Data eshop'!A:S,16,FALSE))),\"\")","v":""},null,"",{"$f":"IF(H70=\"\",\"\",WORKDAY(TODAY()+IF(VLOOKUP(VLOOKUP(RIGHT(A70,5)*1,'Data eshop'!D:N,11,FALSE),DATA!A:B,2,FALSE)=7,14,1),5))","v":""},"","",{"$f":"IF(L69=\"\",\"\",IF(L69=RIGHT(A69,5)&\"x\",LEFT(L69,LEN(L69)-1)&\"y\",IF(L69=RIGHT(A69,5)&\"y\",IFERROR(SMALL('Data eshop'!D:D,COUNTIF('Data eshop'!D:D,\"<\"&(LEFT(L69,LEN(L69)-1)*1))),\"\"),IF(ISERROR(IF(VLOOKUP(M69+1,'Data eshop'!C:D,2,FALSE)='Řádky zakázky'!L69,L69,L69&\"x\")),IF(RIGHT(L69,1)=\"y\",\"\",L69&\"x\"),IF(VLOOKUP(M69+1,'Data eshop'!C:D,2,FALSE)='Řádky zakázky'!L69,L69,L69&\"x\")))))","v":"0xxxxxxxxxxxxxxxxxxxxxxxxxxxxxxxxxxxxxxxxxxxxxxxxxxxxxxxxxxxxxxxxxxxx"},1,{"$f":"IF(A70=\"\",\"\",VLOOKUP(RIGHT(A70,5)*1,'Data eshop'!D:W,17,FALSE))","v":{"$error":"#VALUE!"}},{"$f":"VLOOKUP(A70,Zakázky!A:B,2,FALSE)","v":{"$error":"#N/A"}},""]
["19ESh0",{"$f":"IFERROR(IF(ISNUMBER(L71),VLOOKUP(L71&\"-\"&M71,'Data eshop'!B:W,16,FALSE),IF(RIGHT(L71,1)=\"x\",VLOOKUP(VLOOKUP(RIGHT(A71,5)*1,'Data eshop'!D:N,11,FALSE),DATA!G:I,3,FALSE),IF(RIGHT(L71,1)=\"y\",IF(VLOOKUP(RIGHT(A71,5)*1,'Data eshop'!D:O,12,FALSE)=IF(O71=\"T7\",DATA!$D$2,IF(O71=\"E87\",DATA!$D$5,IF(O71=\"P2\",DATA!$D$6,IF(O71=\"e2695\",DATA!$D$7,\"\")))),IF(N71>=IF(O71=\"T7\",DATA!$K$11,IF(O71=\"E87\",DATA!$L$11,IF(O71=\"P2\",DATA!$M$11,IF(O71=\"e2695\",DATA!$N$11,\"\")))),\"uni008\",\"uni001\"),IF(VLOOKUP(RIGHT(A71,5)*1,'Data eshop'!D:O,12,FALSE)=DATA!$D$3,IF(O71=\"T7\",IF(N71>=500,\"uni009\",\"uni002\"),\"x\"),IF(VLOOKUP(RIGHT(A71,5)*1,'Data eshop'!D:O,12,FALSE)=DATA!$D$4,\"uni010\",\"\"))),\"\"))),\"\")","v":""},{"$f":"IFERROR(IF(A71=\"\",\"\",IF(LEFT(B71,3)=\"uni\",1,VLOOKUP(RIGHT(A71,5)&\"-\"&B71,'Data eshop'!A:R,18,FALSE))),\"\")","v":""},"",{"$f":"IFERROR(IF(A71=\"\",\"\",IF(LEFT(B71,3)=\"uni\",VLOOKUP(B71,DATA!I:X,IF(O71=\"T7\",3,IF(O71=\"E87\",4,IF(O71=\"P2\",5,IF(O71=\"E2695\",6,\"\")))),FALSE),VLOOKUP(RIGHT(A71,5)&\"-\"&B71,'Data eshop'!A:S,19,FALSE))),\"\")","v":""},{"$f":"IFERROR(IF(A71=\"\",\"\",IF(LEFT(B71,3)=\"uni\",0,VLOOKUP(RIGHT(A71,5)&\"-\"&B71,'Data eshop'!A:S,16,FALSE))),\"\")","v":""},null,"",{"$f":"IF(H71=\"\",\"\",WORKDAY(TODAY()+IF(VLOOKUP(VLOOKUP(RIGHT(A71,5)*1,'Data eshop'!D:N,11,FALSE),DATA!A:B,2,FALSE)=7,14,1),5))","v":""},"","",{"$f":"IF(L70=\"\",\"\",IF(L70=RIGHT(A70,5)&\"x\",LEFT(L70,LEN(L70)-1)&\"y\",IF(L70=RIGHT(A70,5)&\"y\",IFERROR(SMALL('Data eshop'!D:D,COUNTIF('Data eshop'!D:D,\"<\"&(LEFT(L70,LEN(L70)-1)*1))),\"\"),IF(ISERROR(IF(VLOOKUP(M70+1,'Data eshop'!C:D,2,FALSE)='Řádky zakázky'!L70,L70,L70&\"x\")),IF(RIGHT(L70,1)=\"y\",\"\",L70&\"x\"),IF(VLOOKUP(M70+1,'Data eshop'!C:D,2,FALSE)='Řádky zakázky'!L70,L70,L70&\"x\")))))","v":"0xxxxxxxxxxxxxxxxxxxxxxxxxxxxxxxxxxxxxxxxxxxxxxxxxxxxxxxxxxxxxxxxxxxxx"},1,{"$f":"IF(A71=\"\",\"\",VLOOKUP(RIGHT(A71,5)*1,'Data eshop'!D:W,17,FALSE))","v":{"$error":"#VALUE!"}},{"$f":"VLOOKUP(A71,Zakázky!A:B,2,FALSE)","v":{"$error":"#N/A"}},""]
["19ESh0",{"$f":"IFERROR(IF(ISNUMBER(L72),VLOOKUP(L72&\"-\"&M72,'Data eshop'!B:W,16,FALSE),IF(RIGHT(L72,1)=\"x\",VLOOKUP(VLOOKUP(RIGHT(A72,5)*1,'Data eshop'!D:N,11,FALSE),DATA!G:I,3,FALSE),IF(RIGHT(L72,1)=\"y\",IF(VLOOKUP(RIGHT(A72,5)*1,'Data eshop'!D:O,12,FALSE)=IF(O72=\"T7\",DATA!$D$2,IF(O72=\"E87\",DATA!$D$5,IF(O72=\"P2\",DATA!$D$6,IF(O72=\"e2695\",DATA!$D$7,\"\")))),IF(N72>=IF(O72=\"T7\",DATA!$K$11,IF(O72=\"E87\",DATA!$L$11,IF(O72=\"P2\",DATA!$M$11,IF(O72=\"e2695\",DATA!$N$11,\"\")))),\"uni008\",\"uni001\"),IF(VLOOKUP(RIGHT(A72,5)*1,'Data eshop'!D:O,12,FALSE)=DATA!$D$3,IF(O72=\"T7\",IF(N72>=500,\"uni009\",\"uni002\"),\"x\"),IF(VLOOKUP(RIGHT(A72,5)*1,'Data eshop'!D:O,12,FALSE)=DATA!$D$4,\"uni010\",\"\"))),\"\"))),\"\")","v":""},{"$f":"IFERROR(IF(A72=\"\",\"\",IF(LEFT(B72,3)=\"uni\",1,VLOOKUP(RIGHT(A72,5)&\"-\"&B72,'Data eshop'!A:R,18,FALSE))),\"\")","v":""},"",{"$f":"IFERROR(IF(A72=\"\",\"\",IF(LEFT(B72,3)=\"uni\",VLOOKUP(B72,DATA!I:X,IF(O72=\"T7\",3,IF(O72=\"E87\",4,IF(O72=\"P2\",5,IF(O72=\"E2695\",6,\"\")))),FALSE),VLOOKUP(RIGHT(A72,5)&\"-\"&B72,'Data eshop'!A:S,19,FALSE))),\"\")","v":""},{"$f":"IFERROR(IF(A72=\"\",\"\",IF(LEFT(B72,3)=\"uni\",0,VLOOKUP(RIGHT(A72,5)&\"-\"&B72,'Data eshop'!A:S,16,FALSE))),\"\")","v":""},null,"",{"$f":"IF(H72=\"\",\"\",WORKDAY(TODAY()+IF(VLOOKUP(VLOOKUP(RIGHT(A72,5)*1,'Data eshop'!D:N,11,FALSE),DATA!A:B,2,FALSE)=7,14,1),5))","v":""},"","",{"$f":"IF(L71=\"\",\"\",IF(L71=RIGHT(A71,5)&\"x\",LEFT(L71,LEN(L71)-1)&\"y\",IF(L71=RIGHT(A71,5)&\"y\",IFERROR(SMALL('Data eshop'!D:D,COUNTIF('Data eshop'!D:D,\"<\"&(LEFT(L71,LEN(L71)-1)*1))),\"\"),IF(ISERROR(IF(VLOOKUP(M71+1,'Data eshop'!C:D,2,FALSE)='Řádky zakázky'!L71,L71,L71&\"x\")),IF(RIGHT(L71,1)=\"y\",\"\",L71&\"x\"),IF(VLOOKUP(M71+1,'Data eshop'!C:D,2,FALSE)='Řádky zakázky'!L71,L71,L71&\"x\")))))","v":"0xxxxxxxxxxxxxxxxxxxxxxxxxxxxxxxxxxxxxxxxxxxxxxxxxxxxxxxxxxxxxxxxxxxxxx"},1,{"$f":"IF(A72=\"\",\"\",VLOOKUP(RIGHT(A72,5)*1,'Data eshop'!D:W,17,FALSE))","v":{"$error":"#VALUE!"}},{"$f":"VLOOKUP(A72,Zakázky!A:B,2,FALSE)","v":{"$error":"#N/A"}},"","Roluj nahoru, až uvidíš žlutou"]
["19ESh0",{"$f":"IFERROR(IF(ISNUMBER(L73),VLOOKUP(L73&\"-\"&M73,'Data eshop'!B:W,16,FALSE),IF(RIGHT(L73,1)=\"x\",VLOOKUP(VLOOKUP(RIGHT(A73,5)*1,'Data eshop'!D:N,11,FALSE),DATA!G:I,3,FALSE),IF(RIGHT(L73,1)=\"y\",IF(VLOOKUP(RIGHT(A73,5)*1,'Data eshop'!D:O,12,FALSE)=IF(O73=\"T7\",DATA!$D$2,IF(O73=\"E87\",DATA!$D$5,IF(O73=\"P2\",DATA!$D$6,IF(O73=\"e2695\",DATA!$D$7,\"\")))),IF(N73>=IF(O73=\"T7\",DATA!$K$11,IF(O73=\"E87\",DATA!$L$11,IF(O73=\"P2\",DATA!$M$11,IF(O73=\"e2695\",DATA!$N$11,\"\")))),\"uni008\",\"uni001\"),IF(VLOOKUP(RIGHT(A73,5)*1,'Data eshop'!D:O,12,FALSE)=DATA!$D$3,IF(O73=\"T7\",IF(N73>=500,\"uni009\",\"uni002\"),\"x\"),IF(VLOOKUP(RIGHT(A73,5)*1,'Data eshop'!D:O,12,FALSE)=DATA!$D$4,\"uni010\",\"\"))),\"\"))),\"\")","v":""},{"$f":"IFERROR(IF(A73=\"\",\"\",IF(LEFT(B73,3)=\"uni\",1,VLOOKUP(RIGHT(A73,5)&\"-\"&B73,'Data eshop'!A:R,18,FALSE))),\"\")","v":""},"",{"$f":"IFERROR(IF(A73=\"\",\"\",IF(LEFT(B73,3)=\"uni\",VLOOKUP(B73,DATA!I:X,IF(O73=\"T7\",3,IF(O73=\"E87\",4,IF(O73=\"P2\",5,IF(O73=\"E2695\",6,\"\")))),FALSE),VLOOKUP(RIGHT(A73,5)&\"-\"&B73,'Data eshop'!A:S,19,FALSE))),\"\")","v":""},{"$f":"IFERROR(IF(A73=\"\",\"\",IF(LEFT(B73,3)=\"uni\",0,VLOOKUP(RIGHT(A73,5)&\"-\"&B73,'Data eshop'!A:S,16,FALSE))),\"\")","v":""},null,"",{"$f":"IF(H73=\"\",\"\",WORKDAY(TODAY()+IF(VLOOKUP(VLOOKUP(RIGHT(A73,5)*1,'Data eshop'!D:N,11,FALSE),DATA!A:B,2,FALSE)=7,14,1),5))","v":""},"","",{"$f":"IF(L72=\"\",\"\",IF(L72=RIGHT(A72,5)&\"x\",LEFT(L72,LEN(L72)-1)&\"y\",IF(L72=RIGHT(A72,5)&\"y\",IFERROR(SMALL('Data eshop'!D:D,COUNTIF('Data eshop'!D:D,\"<\"&(LEFT(L72,LEN(L72)-1)*1))),\"\"),IF(ISERROR(IF(VLOOKUP(M72+1,'Data eshop'!C:D,2,FALSE)='Řádky zakázky'!L72,L72,L72&\"x\")),IF(RIGHT(L72,1)=\"y\",\"\",L72&\"x\"),IF(VLOOKUP(M72+1,'Data eshop'!C:D,2,FALSE)='Řádky zakázky'!L72,L72,L72&\"x\")))))","v":"0xxxxxxxxxxxxxxxxxxxxxxxxxxxxxxxxxxxxxxxxxxxxxxxxxxxxxxxxxxxxxxxxxxxxxxx"},1,{"$f":"IF(A73=\"\",\"\",VLOOKUP(RIGHT(A73,5)*1,'Data eshop'!D:W,17,FALSE))","v":{"$error":"#VALUE!"}},{"$f":"VLOOKUP(A73,Zakázky!A:B,2,FALSE)","v":{"$error":"#N/A"}},""]
["19ESh0",{"$f":"IFERROR(IF(ISNUMBER(L74),VLOOKUP(L74&\"-\"&M74,'Data eshop'!B:W,16,FALSE),IF(RIGHT(L74,1)=\"x\",VLOOKUP(VLOOKUP(RIGHT(A74,5)*1,'Data eshop'!D:N,11,FALSE),DATA!G:I,3,FALSE),IF(RIGHT(L74,1)=\"y\",IF(VLOOKUP(RIGHT(A74,5)*1,'Data eshop'!D:O,12,FALSE)=IF(O74=\"T7\",DATA!$D$2,IF(O74=\"E87\",DATA!$D$5,IF(O74=\"P2\",DATA!$D$6,IF(O74=\"e2695\",DATA!$D$7,\"\")))),IF(N74>=IF(O74=\"T7\",DATA!$K$11,IF(O74=\"E87\",DATA!$L$11,IF(O74=\"P2\",DATA!$M$11,IF(O74=\"e2695\",DATA!$N$11,\"\")))),\"uni008\",\"uni001\"),IF(VLOOKUP(RIGHT(A74,5)*1,'Data eshop'!D:O,12,FALSE)=DATA!$D$3,IF(O74=\"T7\",IF(N74>=500,\"uni009\",\"uni002\"),\"x\"),IF(VLOOKUP(RIGHT(A74,5)*1,'Data eshop'!D:O,12,FALSE)=DATA!$D$4,\"uni010\",\"\"))),\"\"))),\"\")","v":""},{"$f":"IFERROR(IF(A74=\"\",\"\",IF(LEFT(B74,3)=\"uni\",1,VLOOKUP(RIGHT(A74,5)&\"-\"&B74,'Data eshop'!A:R,18,FALSE))),\"\")","v":""},"",{"$f":"IFERROR(IF(A74=\"\",\"\",IF(LEFT(B74,3)=\"uni\",VLOOKUP(B74,DATA!I:X,IF(O74=\"T7\",3,IF(O74=\"E87\",4,IF(O74=\"P2\",5,IF(O74=\"E2695\",6,\"\")))),FALSE),VLOOKUP(RIGHT(A74,5)&\"-\"&B74,'Data eshop'!A:S,19,FALSE))),\"\")","v":""},{"$f":"IFERROR(IF(A74=\"\",\"\",IF(LEFT(B74,3)=\"uni\",0,VLOOKUP(RIGHT(A74,5)&\"-\"&B74,'Data eshop'!A:S,16,FALSE))),\"\")","v":""},null,"",{"$f":"IF(H74=\"\",\"\",WORKDAY(TODAY()+IF(VLOOKUP(VLOOKUP(RIGHT(A74,5)*1,'Data eshop'!D:N,11,FALSE),DATA!A:B,2,FALSE)=7,14,1),5))","v":""},"","",{"$f":"IF(L73=\"\",\"\",IF(L73=RIGHT(A73,5)&\"x\",LEFT(L73,LEN(L73)-1)&\"y\",IF(L73=RIGHT(A73,5)&\"y\",IFERROR(SMALL('Data eshop'!D:D,COUNTIF('Data eshop'!D:D,\"<\"&(LEFT(L73,LEN(L73)-1)*1))),\"\"),IF(ISERROR(IF(VLOOKUP(M73+1,'Data eshop'!C:D,2,FALSE)='Řádky zakázky'!L73,L73,L73&\"x\")),IF(RIGHT(L73,1)=\"y\",\"\",L73&\"x\"),IF(VLOOKUP(M73+1,'Data eshop'!C:D,2,FALSE)='Řádky zakázky'!L73,L73,L73&\"x\")))))","v":"0xxxxxxxxxxxxxxxxxxxxxxxxxxxxxxxxxxxxxxxxxxxxxxxxxxxxxxxxxxxxxxxxxxxxxxxx"},1,{"$f":"IF(A74=\"\",\"\",VLOOKUP(RIGHT(A74,5)*1,'Data eshop'!D:W,17,FALSE))","v":{"$error":"#VALUE!"}},{"$f":"VLOOKUP(A74,Zakázky!A:B,2,FALSE)","v":{"$error":"#N/A"}},""]
["19ESh0",{"$f":"IFERROR(IF(ISNUMBER(L75),VLOOKUP(L75&\"-\"&M75,'Data eshop'!B:W,16,FALSE),IF(RIGHT(L75,1)=\"x\",VLOOKUP(VLOOKUP(RIGHT(A75,5)*1,'Data eshop'!D:N,11,FALSE),DATA!G:I,3,FALSE),IF(RIGHT(L75,1)=\"y\",IF(VLOOKUP(RIGHT(A75,5)*1,'Data eshop'!D:O,12,FALSE)=IF(O75=\"T7\",DATA!$D$2,IF(O75=\"E87\",DATA!$D$5,IF(O75=\"P2\",DATA!$D$6,IF(O75=\"e2695\",DATA!$D$7,\"\")))),IF(N75>=IF(O75=\"T7\",DATA!$K$11,IF(O75=\"E87\",DATA!$L$11,IF(O75=\"P2\",DATA!$M$11,IF(O75=\"e2695\",DATA!$N$11,\"\")))),\"uni008\",\"uni001\"),IF(VLOOKUP(RIGHT(A75,5)*1,'Data eshop'!D:O,12,FALSE)=DATA!$D$3,IF(O75=\"T7\",IF(N75>=500,\"uni009\",\"uni002\"),\"x\"),IF(VLOOKUP(RIGHT(A75,5)*1,'Data eshop'!D:O,12,FALSE)=DATA!$D$4,\"uni010\",\"\"))),\"\"))),\"\")","v":""},{"$f":"IFERROR(IF(A75=\"\",\"\",IF(LEFT(B75,3)=\"uni\",1,VLOOKUP(RIGHT(A75,5)&\"-\"&B75,'Data eshop'!A:R,18,FALSE))),\"\")","v":""},"",{"$f":"IFERROR(IF(A75=\"\",\"\",IF(LEFT(B75,3)=\"uni\",VLOOKUP(B75,DATA!I:X,IF(O75=\"T7\",3,IF(O75=\"E87\",4,IF(O75=\"P2\",5,IF(O75=\"E2695\",6,\"\")))),FALSE),VLOOKUP(RIGHT(A75,5)&\"-\"&B75,'Data eshop'!A:S,19,FALSE))),\"\")","v":""},{"$f":"IFERROR(IF(A75=\"\",\"\",IF(LEFT(B75,3)=\"uni\",0,VLOOKUP(RIGHT(A75,5)&\"-\"&B75,'Data eshop'!A:S,16,FALSE))),\"\")","v":""},null,"",{"$f":"IF(H75=\"\",\"\",WORKDAY(TODAY()+IF(VLOOKUP(VLOOKUP(RIGHT(A75,5)*1,'Data eshop'!D:N,11,FALSE),DATA!A:B,2,FALSE)=7,14,1),5))","v":""},"","",{"$f":"IF(L74=\"\",\"\",IF(L74=RIGHT(A74,5)&\"x\",LEFT(L74,LEN(L74)-1)&\"y\",IF(L74=RIGHT(A74,5)&\"y\",IFERROR(SMALL('Data eshop'!D:D,COUNTIF('Data eshop'!D:D,\"<\"&(LEFT(L74,LEN(L74)-1)*1))),\"\"),IF(ISERROR(IF(VLOOKUP(M74+1,'Data eshop'!C:D,2,FALSE)='Řádky zakázky'!L74,L74,L74&\"x\")),IF(RIGHT(L74,1)=\"y\",\"\",L74&\"x\"),IF(VLOOKUP(M74+1,'Data eshop'!C:D,2,FALSE)='Řádky zakázky'!L74,L74,L74&\"x\")))))","v":"0xxxxxxxxxxxxxxxxxxxxxxxxxxxxxxxxxxxxxxxxxxxxxxxxxxxxxxxxxxxxxxxxxxxxxxxxx"},1,{"$f":"IF(A75=\"\",\"\",VLOOKUP(RIGHT(A75,5)*1,'Data eshop'!D:W,17,FALSE))","v":{"$error":"#VALUE!"}},{"$f":"VLOOKUP(A75,Zakázky!A:B,2,FALSE)","v":{"$error":"#N/A"}},""]
["19ESh0",{"$f":"IFERROR(IF(ISNUMBER(L76),VLOOKUP(L76&\"-\"&M76,'Data eshop'!B:W,16,FALSE),IF(RIGHT(L76,1)=\"x\",VLOOKUP(VLOOKUP(RIGHT(A76,5)*1,'Data eshop'!D:N,11,FALSE),DATA!G:I,3,FALSE),IF(RIGHT(L76,1)=\"y\",IF(VLOOKUP(RIGHT(A76,5)*1,'Data eshop'!D:O,12,FALSE)=IF(O76=\"T7\",DATA!$D$2,IF(O76=\"E87\",DATA!$D$5,IF(O76=\"P2\",DATA!$D$6,IF(O76=\"e2695\",DATA!$D$7,\"\")))),IF(N76>=IF(O76=\"T7\",DATA!$K$11,IF(O76=\"E87\",DATA!$L$11,IF(O76=\"P2\",DATA!$M$11,IF(O76=\"e2695\",DATA!$N$11,\"\")))),\"uni008\",\"uni001\"),IF(VLOOKUP(RIGHT(A76,5)*1,'Data eshop'!D:O,12,FALSE)=DATA!$D$3,IF(O76=\"T7\",IF(N76>=500,\"uni009\",\"uni002\"),\"x\"),IF(VLOOKUP(RIGHT(A76,5)*1,'Data eshop'!D:O,12,FALSE)=DATA!$D$4,\"uni010\",\"\"))),\"\"))),\"\")","v":""},{"$f":"IFERROR(IF(A76=\"\",\"\",IF(LEFT(B76,3)=\"uni\",1,VLOOKUP(RIGHT(A76,5)&\"-\"&B76,'Data eshop'!A:R,18,FALSE))),\"\")","v":""},"",{"$f":"IFERROR(IF(A76=\"\",\"\",IF(LEFT(B76,3)=\"uni\",VLOOKUP(B76,DATA!I:X,IF(O76=\"T7\",3,IF(O76=\"E87\",4,IF(O76=\"P2\",5,IF(O76=\"E2695\",6,\"\")))),FALSE),VLOOKUP(RIGHT(A76,5)&\"-\"&B76,'Data eshop'!A:S,19,FALSE))),\"\")","v":""},{"$f":"IFERROR(IF(A76=\"\",\"\",IF(LEFT(B76,3)=\"uni\",0,VLOOKUP(RIGHT(A76,5)&\"-\"&B76,'Data eshop'!A:S,16,FALSE))),\"\")","v":""},null,"",{"$f":"IF(H76=\"\",\"\",WORKDAY(TODAY()+IF(VLOOKUP(VLOOKUP(RIGHT(A76,5)*1,'Data eshop'!D:N,11,FALSE),DATA!A:B,2,FALSE)=7,14,1),5))","v":""},"","",{"$f":"IF(L75=\"\",\"\",IF(L75=RIGHT(A75,5)&\"x\",LEFT(L75,LEN(L75)-1)&\"y\",IF(L75=RIGHT(A75,5)&\"y\",IFERROR(SMALL('Data eshop'!D:D,COUNTIF('Data eshop'!D:D,\"<\"&(LEFT(L75,LEN(L75)-1)*1))),\"\"),IF(ISERROR(IF(VLOOKUP(M75+1,'Data eshop'!C:D,2,FALSE)='Řádky zakázky'!L75,L75,L75&\"x\")),IF(RIGHT(L75,1)=\"y\",\"\",L75&\"x\"),IF(VLOOKUP(M75+1,'Data eshop'!C:D,2,FALSE)='Řádky zakázky'!L75,L75,L75&\"x\")))))","v":"0xxxxxxxxxxxxxxxxxxxxxxxxxxxxxxxxxxxxxxxxxxxxxxxxxxxxxxxxxxxxxxxxxxxxxxxxxx"},1,{"$f":"IF(A76=\"\",\"\",VLOOKUP(RIGHT(A76,5)*1,'Data eshop'!D:W,17,FALSE))","v":{"$error":"#VALUE!"}},{"$f":"VLOOKUP(A76,Zakázky!A:B,2,FALSE)","v":{"$error":"#N/A"}},"","Roluj nahoru, až uvidíš žlutou"]
["19ESh0",{"$f":"IFERROR(IF(ISNUMBER(L77),VLOOKUP(L77&\"-\"&M77,'Data eshop'!B:W,16,FALSE),IF(RIGHT(L77,1)=\"x\",VLOOKUP(VLOOKUP(RIGHT(A77,5)*1,'Data eshop'!D:N,11,FALSE),DATA!G:I,3,FALSE),IF(RIGHT(L77,1)=\"y\",IF(VLOOKUP(RIGHT(A77,5)*1,'Data eshop'!D:O,12,FALSE)=IF(O77=\"T7\",DATA!$D$2,IF(O77=\"E87\",DATA!$D$5,IF(O77=\"P2\",DATA!$D$6,IF(O77=\"e2695\",DATA!$D$7,\"\")))),IF(N77>=IF(O77=\"T7\",DATA!$K$11,IF(O77=\"E87\",DATA!$L$11,IF(O77=\"P2\",DATA!$M$11,IF(O77=\"e2695\",DATA!$N$11,\"\")))),\"uni008\",\"uni001\"),IF(VLOOKUP(RIGHT(A77,5)*1,'Data eshop'!D:O,12,FALSE)=DATA!$D$3,IF(O77=\"T7\",IF(N77>=500,\"uni009\",\"uni002\"),\"x\"),IF(VLOOKUP(RIGHT(A77,5)*1,'Data eshop'!D:O,12,FALSE)=DATA!$D$4,\"uni010\",\"\"))),\"\"))),\"\")","v":""},{"$f":"IFERROR(IF(A77=\"\",\"\",IF(LEFT(B77,3)=\"uni\",1,VLOOKUP(RIGHT(A77,5)&\"-\"&B77,'Data eshop'!A:R,18,FALSE))),\"\")","v":""},"",{"$f":"IFERROR(IF(A77=\"\",\"\",IF(LEFT(B77,3)=\"uni\",VLOOKUP(B77,DATA!I:X,IF(O77=\"T7\",3,IF(O77=\"E87\",4,IF(O77=\"P2\",5,IF(O77=\"E2695\",6,\"\")))),FALSE),VLOOKUP(RIGHT(A77,5)&\"-\"&B77,'Data eshop'!A:S,19,FALSE))),\"\")","v":""},{"$f":"IFERROR(IF(A77=\"\",\"\",IF(LEFT(B77,3)=\"uni\",0,VLOOKUP(RIGHT(A77,5)&\"-\"&B77,'Data eshop'!A:S,16,FALSE))),\"\")","v":""},null,"",{"$f":"IF(H77=\"\",\"\",WORKDAY(TODAY()+IF(VLOOKUP(VLOOKUP(RIGHT(A77,5)*1,'Data eshop'!D:N,11,FALSE),DATA!A:B,2,FALSE)=7,14,1),5))","v":""},"","",{"$f":"IF(L76=\"\",\"\",IF(L76=RIGHT(A76,5)&\"x\",LEFT(L76,LEN(L76)-1)&\"y\",IF(L76=RIGHT(A76,5)&\"y\",IFERROR(SMALL('Data eshop'!D:D,COUNTIF('Data eshop'!D:D,\"<\"&(LEFT(L76,LEN(L76)-1)*1))),\"\"),IF(ISERROR(IF(VLOOKUP(M76+1,'Data eshop'!C:D,2,FALSE)='Řádky zakázky'!L76,L76,L76&\"x\")),IF(RIGHT(L76,1)=\"y\",\"\",L76&\"x\"),IF(VLOOKUP(M76+1,'Data eshop'!C:D,2,FALSE)='Řádky zakázky'!L76,L76,L76&\"x\")))))","v":"0xxxxxxxxxxxxxxxxxxxxxxxxxxxxxxxxxxxxxxxxxxxxxxxxxxxxxxxxxxxxxxxxxxxxxxxxxxx"},1,{"$f":"IF(A77=\"\",\"\",VLOOKUP(RIGHT(A77,5)*1,'Data eshop'!D:W,17,FALSE))","v":{"$error":"#VALUE!"}},{"$f":"VLOOKUP(A77,Zakázky!A:B,2,FALSE)","v":{"$error":"#N/A"}},""]
["19ESh0",{"$f":"IFERROR(IF(ISNUMBER(L78),VLOOKUP(L78&\"-\"&M78,'Data eshop'!B:W,16,FALSE),IF(RIGHT(L78,1)=\"x\",VLOOKUP(VLOOKUP(RIGHT(A78,5)*1,'Data eshop'!D:N,11,FALSE),DATA!G:I,3,FALSE),IF(RIGHT(L78,1)=\"y\",IF(VLOOKUP(RIGHT(A78,5)*1,'Data eshop'!D:O,12,FALSE)=IF(O78=\"T7\",DATA!$D$2,IF(O78=\"E87\",DATA!$D$5,IF(O78=\"P2\",DATA!$D$6,IF(O78=\"e2695\",DATA!$D$7,\"\")))),IF(N78>=IF(O78=\"T7\",DATA!$K$11,IF(O78=\"E87\",DATA!$L$11,IF(O78=\"P2\",DATA!$M$11,IF(O78=\"e2695\",DATA!$N$11,\"\")))),\"uni008\",\"uni001\"),IF(VLOOKUP(RIGHT(A78,5)*1,'Data eshop'!D:O,12,FALSE)=DATA!$D$3,IF(O78=\"T7\",IF(N78>=500,\"uni009\",\"uni002\"),\"x\"),IF(VLOOKUP(RIGHT(A78,5)*1,'Data eshop'!D:O,12,FALSE)=DATA!$D$4,\"uni010\",\"\"))),\"\"))),\"\")","v":""},{"$f":"IFERROR(IF(A78=\"\",\"\",IF(LEFT(B78,3)=\"uni\",1,VLOOKUP(RIGHT(A78,5)&\"-\"&B78,'Data eshop'!A:R,18,FALSE))),\"\")","v":""},"",{"$f":"IFERROR(IF(A78=\"\",\"\",IF(LEFT(B78,3)=\"uni\",VLOOKUP(B78,DATA!I:X,IF(O78=\"T7\",3,IF(O78=\"E87\",4,IF(O78=\"P2\",5,IF(O78=\"E2695\",6,\"\")))),FALSE),VLOOKUP(RIGHT(A78,5)&\"-\"&B78,'Data eshop'!A:S,19,FALSE))),\"\")","v":""},{"$f":"IFERROR(IF(A78=\"\",\"\",IF(LEFT(B78,3)=\"uni\",0,VLOOKUP(RIGHT(A78,5)&\"-\"&B78,'Data eshop'!A:S,16,FALSE))),\"\")","v":""},null,"",{"$f":"IF(H78=\"\",\"\",WORKDAY(TODAY()+IF(VLOOKUP(VLOOKUP(RIGHT(A78,5)*1,'Data eshop'!D:N,11,FALSE),DATA!A:B,2,FALSE)=7,14,1),5))","v":""},"","",{"$f":"IF(L77=\"\",\"\",IF(L77=RIGHT(A77,5)&\"x\",LEFT(L77,LEN(L77)-1)&\"y\",IF(L77=RIGHT(A77,5)&\"y\",IFERROR(SMALL('Data eshop'!D:D,COUNTIF('Data eshop'!D:D,\"<\"&(LEFT(L77,LEN(L77)-1)*1))),\"\"),IF(ISERROR(IF(VLOOKUP(M77+1,'Data eshop'!C:D,2,FALSE)='Řádky zakázky'!L77,L77,L77&\"x\")),IF(RIGHT(L77,1)=\"y\",\"\",L77&\"x\"),IF(VLOOKUP(M77+1,'Data eshop'!C:D,2,FALSE)='Řádky zakázky'!L77,L77,L77&\"x\")))))","v":"0xxxxxxxxxxxxxxxxxxxxxxxxxxxxxxxxxxxxxxxxxxxxxxxxxxxxxxxxxxxxxxxxxxxxxxxxxxxx"},1,{"$f":"IF(A78=\"\",\"\",VLOOKUP(RIGHT(A78,5)*1,'Data eshop'!D:W,17,FALSE))","v":{"$error":"#VALUE!"}},{"$f":"VLOOKUP(A78,Zakázky!A:B,2,FALSE)","v":{"$error":"#N/A"}},""]
["19ESh0",{"$f":"IFERROR(IF(ISNUMBER(L79),VLOOKUP(L79&\"-\"&M79,'Data eshop'!B:W,16,FALSE),IF(RIGHT(L79,1)=\"x\",VLOOKUP(VLOOKUP(RIGHT(A79,5)*1,'Data eshop'!D:N,11,FALSE),DATA!G:I,3,FALSE),IF(RIGHT(L79,1)=\"y\",IF(VLOOKUP(RIGHT(A79,5)*1,'Data eshop'!D:O,12,FALSE)=IF(O79=\"T7\",DATA!$D$2,IF(O79=\"E87\",DATA!$D$5,IF(O79=\"P2\",DATA!$D$6,IF(O79=\"e2695\",DATA!$D$7,\"\")))),IF(N79>=IF(O79=\"T7\",DATA!$K$11,IF(O79=\"E87\",DATA!$L$11,IF(O79=\"P2\",DATA!$M$11,IF(O79=\"e2695\",DATA!$N$11,\"\")))),\"uni008\",\"uni001\"),IF(VLOOKUP(RIGHT(A79,5)*1,'Data eshop'!D:O,12,FALSE)=DATA!$D$3,IF(O79=\"T7\",IF(N79>=500,\"uni009\",\"uni002\"),\"x\"),IF(VLOOKUP(RIGHT(A79,5)*1,'Data eshop'!D:O,12,FALSE)=DATA!$D$4,\"uni010\",\"\"))),\"\"))),\"\")","v":""},{"$f":"IFERROR(IF(A79=\"\",\"\",IF(LEFT(B79,3)=\"uni\",1,VLOOKUP(RIGHT(A79,5)&\"-\"&B79,'Data eshop'!A:R,18,FALSE))),\"\")","v":""},"",{"$f":"IFERROR(IF(A79=\"\",\"\",IF(LEFT(B79,3)=\"uni\",VLOOKUP(B79,DATA!I:X,IF(O79=\"T7\",3,IF(O79=\"E87\",4,IF(O79=\"P2\",5,IF(O79=\"E2695\",6,\"\")))),FALSE),VLOOKUP(RIGHT(A79,5)&\"-\"&B79,'Data eshop'!A:S,19,FALSE))),\"\")","v":""},{"$f":"IFERROR(IF(A79=\"\",\"\",IF(LEFT(B79,3)=\"uni\",0,VLOOKUP(RIGHT(A79,5)&\"-\"&B79,'Data eshop'!A:S,16,FALSE))),\"\")","v":""},null,"",{"$f":"IF(H79=\"\",\"\",WORKDAY(TODAY()+IF(VLOOKUP(VLOOKUP(RIGHT(A79,5)*1,'Data eshop'!D:N,11,FALSE),DATA!A:B,2,FALSE)=7,14,1),5))","v":""},"","",{"$f":"IF(L78=\"\",\"\",IF(L78=RIGHT(A78,5)&\"x\",LEFT(L78,LEN(L78)-1)&\"y\",IF(L78=RIGHT(A78,5)&\"y\",IFERROR(SMALL('Data eshop'!D:D,COUNTIF('Data eshop'!D:D,\"<\"&(LEFT(L78,LEN(L78)-1)*1))),\"\"),IF(ISERROR(IF(VLOOKUP(M78+1,'Data eshop'!C:D,2,FALSE)='Řádky zakázky'!L78,L78,L78&\"x\")),IF(RIGHT(L78,1)=\"y\",\"\",L78&\"x\"),IF(VLOOKUP(M78+1,'Data eshop'!C:D,2,FALSE)='Řádky zakázky'!L78,L78,L78&\"x\")))))","v":"0xxxxxxxxxxxxxxxxxxxxxxxxxxxxxxxxxxxxxxxxxxxxxxxxxxxxxxxxxxxxxxxxxxxxxxxxxxxxx"},1,{"$f":"IF(A79=\"\",\"\",VLOOKUP(RIGHT(A79,5)*1,'Data eshop'!D:W,17,FALSE))","v":{"$error":"#VALUE!"}},{"$f":"VLOOKUP(A79,Zakázky!A:B,2,FALSE)","v":{"$error":"#N/A"}},""]
["19ESh0",{"$f":"IFERROR(IF(ISNUMBER(L80),VLOOKUP(L80&\"-\"&M80,'Data eshop'!B:W,16,FALSE),IF(RIGHT(L80,1)=\"x\",VLOOKUP(VLOOKUP(RIGHT(A80,5)*1,'Data eshop'!D:N,11,FALSE),DATA!G:I,3,FALSE),IF(RIGHT(L80,1)=\"y\",IF(VLOOKUP(RIGHT(A80,5)*1,'Data eshop'!D:O,12,FALSE)=IF(O80=\"T7\",DATA!$D$2,IF(O80=\"E87\",DATA!$D$5,IF(O80=\"P2\",DATA!$D$6,IF(O80=\"e2695\",DATA!$D$7,\"\")))),IF(N80>=IF(O80=\"T7\",DATA!$K$11,IF(O80=\"E87\",DATA!$L$11,IF(O80=\"P2\",DATA!$M$11,IF(O80=\"e2695\",DATA!$N$11,\"\")))),\"uni008\",\"uni001\"),IF(VLOOKUP(RIGHT(A80,5)*1,'Data eshop'!D:O,12,FALSE)=DATA!$D$3,IF(O80=\"T7\",IF(N80>=500,\"uni009\",\"uni002\"),\"x\"),IF(VLOOKUP(RIGHT(A80,5)*1,'Data eshop'!D:O,12,FALSE)=DATA!$D$4,\"uni010\",\"\"))),\"\"))),\"\")","v":""},{"$f":"IFERROR(IF(A80=\"\",\"\",IF(LEFT(B80,3)=\"uni\",1,VLOOKUP(RIGHT(A80,5)&\"-\"&B80,'Data eshop'!A:R,18,FALSE))),\"\")","v":""},"",{"$f":"IFERROR(IF(A80=\"\",\"\",IF(LEFT(B80,3)=\"uni\",VLOOKUP(B80,DATA!I:X,IF(O80=\"T7\",3,IF(O80=\"E87\",4,IF(O80=\"P2\",5,IF(O80=\"E2695\",6,\"\")))),FALSE),VLOOKUP(RIGHT(A80,5)&\"-\"&B80,'Data eshop'!A:S,19,FALSE))),\"\")","v":""},{"$f":"IFERROR(IF(A80=\"\",\"\",IF(LEFT(B80,3)=\"uni\",0,VLOOKUP(RIGHT(A80,5)&\"-\"&B80,'Data eshop'!A:S,16,FALSE))),\"\")","v":""},null,"",{"$f":"IF(H80=\"\",\"\",WORKDAY(TODAY()+IF(VLOOKUP(VLOOKUP(RIGHT(A80,5)*1,'Data eshop'!D:N,11,FALSE),DATA!A:B,2,FALSE)=7,14,1),5))","v":""},"","",{"$f":"IF(L79=\"\",\"\",IF(L79=RIGHT(A79,5)&\"x\",LEFT(L79,LEN(L79)-1)&\"y\",IF(L79=RIGHT(A79,5)&\"y\",IFERROR(SMALL('Data eshop'!D:D,COUNTIF('Data eshop'!D:D,\"<\"&(LEFT(L79,LEN(L79)-1)*1))),\"\"),IF(ISERROR(IF(VLOOKUP(M79+1,'Data eshop'!C:D,2,FALSE)='Řádky zakázky'!L79,L79,L79&\"x\")),IF(RIGHT(L79,1)=\"y\",\"\",L79&\"x\"),IF(VLOOKUP(M79+1,'Data eshop'!C:D,2,FALSE)='Řádky zakázky'!L79,L79,L79&\"x\")))))","v":"0xxxxxxxxxxxxxxxxxxxxxxxxxxxxxxxxxxxxxxxxxxxxxxxxxxxxxxxxxxxxxxxxxxxxxxxxxxxxxx"},1,{"$f":"IF(A80=\"\",\"\",VLOOKUP(RIGHT(A80,5)*1,'Data eshop'!D:W,17,FALSE))","v":{"$error":"#VALUE!"}},{"$f":"VLOOKUP(A80,Zakázky!A:B,2,FALSE)","v":{"$error":"#N/A"}},"","Roluj nahoru, až uvidíš žlutou"]
["19ESh0",{"$f":"IFERROR(IF(ISNUMBER(L81),VLOOKUP(L81&\"-\"&M81,'Data eshop'!B:W,16,FALSE),IF(RIGHT(L81,1)=\"x\",VLOOKUP(VLOOKUP(RIGHT(A81,5)*1,'Data eshop'!D:N,11,FALSE),DATA!G:I,3,FALSE),IF(RIGHT(L81,1)=\"y\",IF(VLOOKUP(RIGHT(A81,5)*1,'Data eshop'!D:O,12,FALSE)=IF(O81=\"T7\",DATA!$D$2,IF(O81=\"E87\",DATA!$D$5,IF(O81=\"P2\",DATA!$D$6,IF(O81=\"e2695\",DATA!$D$7,\"\")))),IF(N81>=IF(O81=\"T7\",DATA!$K$11,IF(O81=\"E87\",DATA!$L$11,IF(O81=\"P2\",DATA!$M$11,IF(O81=\"e2695\",DATA!$N$11,\"\")))),\"uni008\",\"uni001\"),IF(VLOOKUP(RIGHT(A81,5)*1,'Data eshop'!D:O,12,FALSE)=DATA!$D$3,IF(O81=\"T7\",IF(N81>=500,\"uni009\",\"uni002\"),\"x\"),IF(VLOOKUP(RIGHT(A81,5)*1,'Data eshop'!D:O,12,FALSE)=DATA!$D$4,\"uni010\",\"\"))),\"\"))),\"\")","v":""},{"$f":"IFERROR(IF(A81=\"\",\"\",IF(LEFT(B81,3)=\"uni\",1,VLOOKUP(RIGHT(A81,5)&\"-\"&B81,'Data eshop'!A:R,18,FALSE))),\"\")","v":""},"",{"$f":"IFERROR(IF(A81=\"\",\"\",IF(LEFT(B81,3)=\"uni\",VLOOKUP(B81,DATA!I:X,IF(O81=\"T7\",3,IF(O81=\"E87\",4,IF(O81=\"P2\",5,IF(O81=\"E2695\",6,\"\")))),FALSE),VLOOKUP(RIGHT(A81,5)&\"-\"&B81,'Data eshop'!A:S,19,FALSE))),\"\")","v":""},{"$f":"IFERROR(IF(A81=\"\",\"\",IF(LEFT(B81,3)=\"uni\",0,VLOOKUP(RIGHT(A81,5)&\"-\"&B81,'Data eshop'!A:S,16,FALSE))),\"\")","v":""},null,"",{"$f":"IF(H81=\"\",\"\",WORKDAY(TODAY()+IF(VLOOKUP(VLOOKUP(RIGHT(A81,5)*1,'Data eshop'!D:N,11,FALSE),DATA!A:B,2,FALSE)=7,14,1),5))","v":""},"","",{"$f":"IF(L80=\"\",\"\",IF(L80=RIGHT(A80,5)&\"x\",LEFT(L80,LEN(L80)-1)&\"y\",IF(L80=RIGHT(A80,5)&\"y\",IFERROR(SMALL('Data eshop'!D:D,COUNTIF('Data eshop'!D:D,\"<\"&(LEFT(L80,LEN(L80)-1)*1))),\"\"),IF(ISERROR(IF(VLOOKUP(M80+1,'Data eshop'!C:D,2,FALSE)='Řádky zakázky'!L80,L80,L80&\"x\")),IF(RIGHT(L80,1)=\"y\",\"\",L80&\"x\"),IF(VLOOKUP(M80+1,'Data eshop'!C:D,2,FALSE)='Řádky zakázky'!L80,L80,L80&\"x\")))))","v":"0xxxxxxxxxxxxxxxxxxxxxxxxxxxxxxxxxxxxxxxxxxxxxxxxxxxxxxxxxxxxxxxxxxxxxxxxxxxxxxx"},{"$f":"IF(L81=\"\",\"\",IF(RIGHT(L81,1)=\"x\",M80,IF(RIGHT(L81,1)=\"y\",M80,M80+1)))","v":1},{"$f":"IF(A81=\"\",\"\",VLOOKUP(RIGHT(A81,5)*1,'Data eshop'!D:W,17,FALSE))","v":{"$error":"#VALUE!"}},{"$f":"VLOOKUP(A81,Zakázky!A:B,2,FALSE)","v":{"$error":"#N/A"}},""]
["19ESh0",{"$f":"IFERROR(IF(ISNUMBER(L82),VLOOKUP(L82&\"-\"&M82,'Data eshop'!B:W,16,FALSE),IF(RIGHT(L82,1)=\"x\",VLOOKUP(VLOOKUP(RIGHT(A82,5)*1,'Data eshop'!D:N,11,FALSE),DATA!G:I,3,FALSE),IF(RIGHT(L82,1)=\"y\",IF(VLOOKUP(RIGHT(A82,5)*1,'Data eshop'!D:O,12,FALSE)=IF(O82=\"T7\",DATA!$D$2,IF(O82=\"E87\",DATA!$D$5,IF(O82=\"P2\",DATA!$D$6,IF(O82=\"e2695\",DATA!$D$7,\"\")))),IF(N82>=IF(O82=\"T7\",DATA!$K$11,IF(O82=\"E87\",DATA!$L$11,IF(O82=\"P2\",DATA!$M$11,IF(O82=\"e2695\",DATA!$N$11,\"\")))),\"uni008\",\"uni001\"),IF(VLOOKUP(RIGHT(A82,5)*1,'Data eshop'!D:O,12,FALSE)=DATA!$D$3,IF(O82=\"T7\",IF(N82>=500,\"uni009\",\"uni002\"),\"x\"),IF(VLOOKUP(RIGHT(A82,5)*1,'Data eshop'!D:O,12,FALSE)=DATA!$D$4,\"uni010\",\"\"))),\"\"))),\"\")","v":""},{"$f":"IFERROR(IF(A82=\"\",\"\",IF(LEFT(B82,3)=\"uni\",1,VLOOKUP(RIGHT(A82,5)&\"-\"&B82,'Data eshop'!A:R,18,FALSE))),\"\")","v":""},"",{"$f":"IFERROR(IF(A82=\"\",\"\",IF(LEFT(B82,3)=\"uni\",VLOOKUP(B82,DATA!I:X,IF(O82=\"T7\",3,IF(O82=\"E87\",4,IF(O82=\"P2\",5,IF(O82=\"E2695\",6,\"\")))),FALSE),VLOOKUP(RIGHT(A82,5)&\"-\"&B82,'Data eshop'!A:S,19,FALSE))),\"\")","v":""},{"$f":"IFERROR(IF(A82=\"\",\"\",IF(LEFT(B82,3)=\"uni\",0,VLOOKUP(RIGHT(A82,5)&\"-\"&B82,'Data eshop'!A:S,16,FALSE))),\"\")","v":""},null,"",{"$f":"IF(H82=\"\",\"\",WORKDAY(TODAY()+IF(VLOOKUP(VLOOKUP(RIGHT(A82,5)*1,'Data eshop'!D:N,11,FALSE),DATA!A:B,2,FALSE)=7,14,1),5))","v":""},"","",{"$f":"IF(L81=\"\",\"\",IF(L81=RIGHT(A81,5)&\"x\",LEFT(L81,LEN(L81)-1)&\"y\",IF(L81=RIGHT(A81,5)&\"y\",IFERROR(SMALL('Data eshop'!D:D,COUNTIF('Data eshop'!D:D,\"<\"&(LEFT(L81,LEN(L81)-1)*1))),\"\"),IF(ISERROR(IF(VLOOKUP(M81+1,'Data eshop'!C:D,2,FALSE)='Řádky zakázky'!L81,L81,L81&\"x\")),IF(RIGHT(L81,1)=\"y\",\"\",L81&\"x\"),IF(VLOOKUP(M81+1,'Data eshop'!C:D,2,FALSE)='Řádky zakázky'!L81,L81,L81&\"x\")))))","v":"0xxxxxxxxxxxxxxxxxxxxxxxxxxxxxxxxxxxxxxxxxxxxxxxxxxxxxxxxxxxxxxxxxxxxxxxxxxxxxxxx"},1,{"$f":"IF(A82=\"\",\"\",VLOOKUP(RIGHT(A82,5)*1,'Data eshop'!D:W,17,FALSE))","v":{"$error":"#VALUE!"}},{"$f":"VLOOKUP(A82,Zakázky!A:B,2,FALSE)","v":{"$error":"#N/A"}},""]
["19ESh0",{"$f":"IFERROR(IF(ISNUMBER(L83),VLOOKUP(L83&\"-\"&M83,'Data eshop'!B:W,16,FALSE),IF(RIGHT(L83,1)=\"x\",VLOOKUP(VLOOKUP(RIGHT(A83,5)*1,'Data eshop'!D:N,11,FALSE),DATA!G:I,3,FALSE),IF(RIGHT(L83,1)=\"y\",IF(VLOOKUP(RIGHT(A83,5)*1,'Data eshop'!D:O,12,FALSE)=IF(O83=\"T7\",DATA!$D$2,IF(O83=\"E87\",DATA!$D$5,IF(O83=\"P2\",DATA!$D$6,IF(O83=\"e2695\",DATA!$D$7,\"\")))),IF(N83>=IF(O83=\"T7\",DATA!$K$11,IF(O83=\"E87\",DATA!$L$11,IF(O83=\"P2\",DATA!$M$11,IF(O83=\"e2695\",DATA!$N$11,\"\")))),\"uni008\",\"uni001\"),IF(VLOOKUP(RIGHT(A83,5)*1,'Data eshop'!D:O,12,FALSE)=DATA!$D$3,IF(O83=\"T7\",IF(N83>=500,\"uni009\",\"uni002\"),\"x\"),IF(VLOOKUP(RIGHT(A83,5)*1,'Data eshop'!D:O,12,FALSE)=DATA!$D$4,\"uni010\",\"\"))),\"\"))),\"\")","v":""},{"$f":"IFERROR(IF(A83=\"\",\"\",IF(LEFT(B83,3)=\"uni\",1,VLOOKUP(RIGHT(A83,5)&\"-\"&B83,'Data eshop'!A:R,18,FALSE))),\"\")","v":""},"",{"$f":"IFERROR(IF(A83=\"\",\"\",IF(LEFT(B83,3)=\"uni\",VLOOKUP(B83,DATA!I:X,IF(O83=\"T7\",3,IF(O83=\"E87\",4,IF(O83=\"P2\",5,IF(O83=\"E2695\",6,\"\")))),FALSE),VLOOKUP(RIGHT(A83,5)&\"-\"&B83,'Data eshop'!A:S,19,FALSE))),\"\")","v":""},{"$f":"IFERROR(IF(A83=\"\",\"\",IF(LEFT(B83,3)=\"uni\",0,VLOOKUP(RIGHT(A83,5)&\"-\"&B83,'Data eshop'!A:S,16,FALSE))),\"\")","v":""},null,"",{"$f":"IF(H83=\"\",\"\",WORKDAY(TODAY()+IF(VLOOKUP(VLOOKUP(RIGHT(A83,5)*1,'Data eshop'!D:N,11,FALSE),DATA!A:B,2,FALSE)=7,14,1),5))","v":""},"","",{"$f":"IF(L82=\"\",\"\",IF(L82=RIGHT(A82,5)&\"x\",LEFT(L82,LEN(L82)-1)&\"y\",IF(L82=RIGHT(A82,5)&\"y\",IFERROR(SMALL('Data eshop'!D:D,COUNTIF('Data eshop'!D:D,\"<\"&(LEFT(L82,LEN(L82)-1)*1))),\"\"),IF(ISERROR(IF(VLOOKUP(M82+1,'Data eshop'!C:D,2,FALSE)='Řádky zakázky'!L82,L82,L82&\"x\")),IF(RIGHT(L82,1)=\"y\",\"\",L82&\"x\"),IF(VLOOKUP(M82+1,'Data eshop'!C:D,2,FALSE)='Řádky zakázky'!L82,L82,L82&\"x\")))))","v":"0xxxxxxxxxxxxxxxxxxxxxxxxxxxxxxxxxxxxxxxxxxxxxxxxxxxxxxxxxxxxxxxxxxxxxxxxxxxxxxxxx"},1,{"$f":"IF(A83=\"\",\"\",VLOOKUP(RIGHT(A83,5)*1,'Data eshop'!D:W,17,FALSE))","v":{"$error":"#VALUE!"}},{"$f":"VLOOKUP(A83,Zakázky!A:B,2,FALSE)","v":{"$error":"#N/A"}},""]
["19ESh0",{"$f":"IFERROR(IF(ISNUMBER(L84),VLOOKUP(L84&\"-\"&M84,'Data eshop'!B:W,16,FALSE),IF(RIGHT(L84,1)=\"x\",VLOOKUP(VLOOKUP(RIGHT(A84,5)*1,'Data eshop'!D:N,11,FALSE),DATA!G:I,3,FALSE),IF(RIGHT(L84,1)=\"y\",IF(VLOOKUP(RIGHT(A84,5)*1,'Data eshop'!D:O,12,FALSE)=IF(O84=\"T7\",DATA!$D$2,IF(O84=\"E87\",DATA!$D$5,IF(O84=\"P2\",DATA!$D$6,IF(O84=\"e2695\",DATA!$D$7,\"\")))),IF(N84>=IF(O84=\"T7\",DATA!$K$11,IF(O84=\"E87\",DATA!$L$11,IF(O84=\"P2\",DATA!$M$11,IF(O84=\"e2695\",DATA!$N$11,\"\")))),\"uni008\",\"uni001\"),IF(VLOOKUP(RIGHT(A84,5)*1,'Data eshop'!D:O,12,FALSE)=DATA!$D$3,IF(O84=\"T7\",IF(N84>=500,\"uni009\",\"uni002\"),\"x\"),IF(VLOOKUP(RIGHT(A84,5)*1,'Data eshop'!D:O,12,FALSE)=DATA!$D$4,\"uni010\",\"\"))),\"\"))),\"\")","v":""},{"$f":"IFERROR(IF(A84=\"\",\"\",IF(LEFT(B84,3)=\"uni\",1,VLOOKUP(RIGHT(A84,5)&\"-\"&B84,'Data eshop'!A:R,18,FALSE))),\"\")","v":""},"",{"$f":"IFERROR(IF(A84=\"\",\"\",IF(LEFT(B84,3)=\"uni\",VLOOKUP(B84,DATA!I:X,IF(O84=\"T7\",3,IF(O84=\"E87\",4,IF(O84=\"P2\",5,IF(O84=\"E2695\",6,\"\")))),FALSE),VLOOKUP(RIGHT(A84,5)&\"-\"&B84,'Data eshop'!A:S,19,FALSE))),\"\")","v":""},{"$f":"IFERROR(IF(A84=\"\",\"\",IF(LEFT(B84,3)=\"uni\",0,VLOOKUP(RIGHT(A84,5)&\"-\"&B84,'Data eshop'!A:S,16,FALSE))),\"\")","v":""},null,"",{"$f":"IF(H84=\"\",\"\",WORKDAY(TODAY()+IF(VLOOKUP(VLOOKUP(RIGHT(A84,5)*1,'Data eshop'!D:N,11,FALSE),DATA!A:B,2,FALSE)=7,14,1),5))","v":""},"","",{"$f":"IF(L83=\"\",\"\",IF(L83=RIGHT(A83,5)&\"x\",LEFT(L83,LEN(L83)-1)&\"y\",IF(L83=RIGHT(A83,5)&\"y\",IFERROR(SMALL('Data eshop'!D:D,COUNTIF('Data eshop'!D:D,\"<\"&(LEFT(L83,LEN(L83)-1)*1))),\"\"),IF(ISERROR(IF(VLOOKUP(M83+1,'Data eshop'!C:D,2,FALSE)='Řádky zakázky'!L83,L83,L83&\"x\")),IF(RIGHT(L83,1)=\"y\",\"\",L83&\"x\"),IF(VLOOKUP(M83+1,'Data eshop'!C:D,2,FALSE)='Řádky zakázky'!L83,L83,L83&\"x\")))))","v":"0xxxxxxxxxxxxxxxxxxxxxxxxxxxxxxxxxxxxxxxxxxxxxxxxxxxxxxxxxxxxxxxxxxxxxxxxxxxxxxxxxx"},1,{"$f":"IF(A84=\"\",\"\",VLOOKUP(RIGHT(A84,5)*1,'Data eshop'!D:W,17,FALSE))","v":{"$error":"#VALUE!"}},{"$f":"VLOOKUP(A84,Zakázky!A:B,2,FALSE)","v":{"$error":"#N/A"}},"","Roluj nahoru, až uvidíš žlutou"]
["19ESh0",{"$f":"IFERROR(IF(ISNUMBER(L85),VLOOKUP(L85&\"-\"&M85,'Data eshop'!B:W,16,FALSE),IF(RIGHT(L85,1)=\"x\",VLOOKUP(VLOOKUP(RIGHT(A85,5)*1,'Data eshop'!D:N,11,FALSE),DATA!G:I,3,FALSE),IF(RIGHT(L85,1)=\"y\",IF(VLOOKUP(RIGHT(A85,5)*1,'Data eshop'!D:O,12,FALSE)=IF(O85=\"T7\",DATA!$D$2,IF(O85=\"E87\",DATA!$D$5,IF(O85=\"P2\",DATA!$D$6,IF(O85=\"e2695\",DATA!$D$7,\"\")))),IF(N85>=IF(O85=\"T7\",DATA!$K$11,IF(O85=\"E87\",DATA!$L$11,IF(O85=\"P2\",DATA!$M$11,IF(O85=\"e2695\",DATA!$N$11,\"\")))),\"uni008\",\"uni001\"),IF(VLOOKUP(RIGHT(A85,5)*1,'Data eshop'!D:O,12,FALSE)=DATA!$D$3,IF(O85=\"T7\",IF(N85>=500,\"uni009\",\"uni002\"),\"x\"),IF(VLOOKUP(RIGHT(A85,5)*1,'Data eshop'!D:O,12,FALSE)=DATA!$D$4,\"uni010\",\"\"))),\"\"))),\"\")","v":""},{"$f":"IFERROR(IF(A85=\"\",\"\",IF(LEFT(B85,3)=\"uni\",1,VLOOKUP(RIGHT(A85,5)&\"-\"&B85,'Data eshop'!A:R,18,FALSE))),\"\")","v":""},"",{"$f":"IFERROR(IF(A85=\"\",\"\",IF(LEFT(B85,3)=\"uni\",VLOOKUP(B85,DATA!I:X,IF(O85=\"T7\",3,IF(O85=\"E87\",4,IF(O85=\"P2\",5,IF(O85=\"E2695\",6,\"\")))),FALSE),VLOOKUP(RIGHT(A85,5)&\"-\"&B85,'Data eshop'!A:S,19,FALSE))),\"\")","v":""},{"$f":"IFERROR(IF(A85=\"\",\"\",IF(LEFT(B85,3)=\"uni\",0,VLOOKUP(RIGHT(A85,5)&\"-\"&B85,'Data eshop'!A:S,16,FALSE))),\"\")","v":""},null,"",{"$f":"IF(H85=\"\",\"\",WORKDAY(TODAY()+IF(VLOOKUP(VLOOKUP(RIGHT(A85,5)*1,'Data eshop'!D:N,11,FALSE),DATA!A:B,2,FALSE)=7,14,1),5))","v":""},"","",{"$f":"IF(L84=\"\",\"\",IF(L84=RIGHT(A84,5)&\"x\",LEFT(L84,LEN(L84)-1)&\"y\",IF(L84=RIGHT(A84,5)&\"y\",IFERROR(SMALL('Data eshop'!D:D,COUNTIF('Data eshop'!D:D,\"<\"&(LEFT(L84,LEN(L84)-1)*1))),\"\"),IF(ISERROR(IF(VLOOKUP(M84+1,'Data eshop'!C:D,2,FALSE)='Řádky zakázky'!L84,L84,L84&\"x\")),IF(RIGHT(L84,1)=\"y\",\"\",L84&\"x\"),IF(VLOOKUP(M84+1,'Data eshop'!C:D,2,FALSE)='Řádky zakázky'!L84,L84,L84&\"x\")))))","v":"0xxxxxxxxxxxxxxxxxxxxxxxxxxxxxxxxxxxxxxxxxxxxxxxxxxxxxxxxxxxxxxxxxxxxxxxxxxxxxxxxxxx"},1,{"$f":"IF(A85=\"\",\"\",VLOOKUP(RIGHT(A85,5)*1,'Data eshop'!D:W,17,FALSE))","v":{"$error":"#VALUE!"}},{"$f":"VLOOKUP(A85,Zakázky!A:B,2,FALSE)","v":{"$error":"#N/A"}},""]
["19ESh0",{"$f":"IFERROR(IF(ISNUMBER(L86),VLOOKUP(L86&\"-\"&M86,'Data eshop'!B:W,16,FALSE),IF(RIGHT(L86,1)=\"x\",VLOOKUP(VLOOKUP(RIGHT(A86,5)*1,'Data eshop'!D:N,11,FALSE),DATA!G:I,3,FALSE),IF(RIGHT(L86,1)=\"y\",IF(VLOOKUP(RIGHT(A86,5)*1,'Data eshop'!D:O,12,FALSE)=IF(O86=\"T7\",DATA!$D$2,IF(O86=\"E87\",DATA!$D$5,IF(O86=\"P2\",DATA!$D$6,IF(O86=\"e2695\",DATA!$D$7,\"\")))),IF(N86>=IF(O86=\"T7\",DATA!$K$11,IF(O86=\"E87\",DATA!$L$11,IF(O86=\"P2\",DATA!$M$11,IF(O86=\"e2695\",DATA!$N$11,\"\")))),\"uni008\",\"uni001\"),IF(VLOOKUP(RIGHT(A86,5)*1,'Data eshop'!D:O,12,FALSE)=DATA!$D$3,IF(O86=\"T7\",IF(N86>=500,\"uni009\",\"uni002\"),\"x\"),IF(VLOOKUP(RIGHT(A86,5)*1,'Data eshop'!D:O,12,FALSE)=DATA!$D$4,\"uni010\",\"\"))),\"\"))),\"\")","v":""},{"$f":"IFERROR(IF(A86=\"\",\"\",IF(LEFT(B86,3)=\"uni\",1,VLOOKUP(RIGHT(A86,5)&\"-\"&B86,'Data eshop'!A:R,18,FALSE))),\"\")","v":""},"",{"$f":"IFERROR(IF(A86=\"\",\"\",IF(LEFT(B86,3)=\"uni\",VLOOKUP(B86,DATA!I:X,IF(O86=\"T7\",3,IF(O86=\"E87\",4,IF(O86=\"P2\",5,IF(O86=\"E2695\",6,\"\")))),FALSE),VLOOKUP(RIGHT(A86,5)&\"-\"&B86,'Data eshop'!A:S,19,FALSE))),\"\")","v":""},{"$f":"IFERROR(IF(A86=\"\",\"\",IF(LEFT(B86,3)=\"uni\",0,VLOOKUP(RIGHT(A86,5)&\"-\"&B86,'Data eshop'!A:S,16,FALSE))),\"\")","v":""},null,"",{"$f":"IF(H86=\"\",\"\",WORKDAY(TODAY()+IF(VLOOKUP(VLOOKUP(RIGHT(A86,5)*1,'Data eshop'!D:N,11,FALSE),DATA!A:B,2,FALSE)=7,14,1),5))","v":""},"","",{"$f":"IF(L85=\"\",\"\",IF(L85=RIGHT(A85,5)&\"x\",LEFT(L85,LEN(L85)-1)&\"y\",IF(L85=RIGHT(A85,5)&\"y\",IFERROR(SMALL('Data eshop'!D:D,COUNTIF('Data eshop'!D:D,\"<\"&(LEFT(L85,LEN(L85)-1)*1))),\"\"),IF(ISERROR(IF(VLOOKUP(M85+1,'Data eshop'!C:D,2,FALSE)='Řádky zakázky'!L85,L85,L85&\"x\")),IF(RIGHT(L85,1)=\"y\",\"\",L85&\"x\"),IF(VLOOKUP(M85+1,'Data eshop'!C:D,2,FALSE)='Řádky zakázky'!L85,L85,L85&\"x\")))))","v":"0xxxxxxxxxxxxxxxxxxxxxxxxxxxxxxxxxxxxxxxxxxxxxxxxxxxxxxxxxxxxxxxxxxxxxxxxxxxxxxxxxxxx"},1,{"$f":"IF(A86=\"\",\"\",VLOOKUP(RIGHT(A86,5)*1,'Data eshop'!D:W,17,FALSE))","v":{"$error":"#VALUE!"}},{"$f":"VLOOKUP(A86,Zakázky!A:B,2,FALSE)","v":{"$error":"#N/A"}},""]
["19ESh0",{"$f":"IFERROR(IF(ISNUMBER(L87),VLOOKUP(L87&\"-\"&M87,'Data eshop'!B:W,16,FALSE),IF(RIGHT(L87,1)=\"x\",VLOOKUP(VLOOKUP(RIGHT(A87,5)*1,'Data eshop'!D:N,11,FALSE),DATA!G:I,3,FALSE),IF(RIGHT(L87,1)=\"y\",IF(VLOOKUP(RIGHT(A87,5)*1,'Data eshop'!D:O,12,FALSE)=IF(O87=\"T7\",DATA!$D$2,IF(O87=\"E87\",DATA!$D$5,IF(O87=\"P2\",DATA!$D$6,IF(O87=\"e2695\",DATA!$D$7,\"\")))),IF(N87>=IF(O87=\"T7\",DATA!$K$11,IF(O87=\"E87\",DATA!$L$11,IF(O87=\"P2\",DATA!$M$11,IF(O87=\"e2695\",DATA!$N$11,\"\")))),\"uni008\",\"uni001\"),IF(VLOOKUP(RIGHT(A87,5)*1,'Data eshop'!D:O,12,FALSE)=DATA!$D$3,IF(O87=\"T7\",IF(N87>=500,\"uni009\",\"uni002\"),\"x\"),IF(VLOOKUP(RIGHT(A87,5)*1,'Data eshop'!D:O,12,FALSE)=DATA!$D$4,\"uni010\",\"\"))),\"\"))),\"\")","v":""},{"$f":"IFERROR(IF(A87=\"\",\"\",IF(LEFT(B87,3)=\"uni\",1,VLOOKUP(RIGHT(A87,5)&\"-\"&B87,'Data eshop'!A:R,18,FALSE))),\"\")","v":""},"",{"$f":"IFERROR(IF(A87=\"\",\"\",IF(LEFT(B87,3)=\"uni\",VLOOKUP(B87,DATA!I:X,IF(O87=\"T7\",3,IF(O87=\"E87\",4,IF(O87=\"P2\",5,IF(O87=\"E2695\",6,\"\")))),FALSE),VLOOKUP(RIGHT(A87,5)&\"-\"&B87,'Data eshop'!A:S,19,FALSE))),\"\")","v":""},{"$f":"IFERROR(IF(A87=\"\",\"\",IF(LEFT(B87,3)=\"uni\",0,VLOOKUP(RIGHT(A87,5)&\"-\"&B87,'Data eshop'!A:S,16,FALSE))),\"\")","v":""},null,"",{"$f":"IF(H87=\"\",\"\",WORKDAY(TODAY()+IF(VLOOKUP(VLOOKUP(RIGHT(A87,5)*1,'Data eshop'!D:N,11,FALSE),DATA!A:B,2,FALSE)=7,14,1),5))","v":""},"","",{"$f":"IF(L86=\"\",\"\",IF(L86=RIGHT(A86,5)&\"x\",LEFT(L86,LEN(L86)-1)&\"y\",IF(L86=RIGHT(A86,5)&\"y\",IFERROR(SMALL('Data eshop'!D:D,COUNTIF('Data eshop'!D:D,\"<\"&(LEFT(L86,LEN(L86)-1)*1))),\"\"),IF(ISERROR(IF(VLOOKUP(M86+1,'Data eshop'!C:D,2,FALSE)='Řádky zakázky'!L86,L86,L86&\"x\")),IF(RIGHT(L86,1)=\"y\",\"\",L86&\"x\"),IF(VLOOKUP(M86+1,'Data eshop'!C:D,2,FALSE)='Řádky zakázky'!L86,L86,L86&\"x\")))))","v":"0xxxxxxxxxxxxxxxxxxxxxxxxxxxxxxxxxxxxxxxxxxxxxxxxxxxxxxxxxxxxxxxxxxxxxxxxxxxxxxxxxxxxx"},1,{"$f":"IF(A87=\"\",\"\",VLOOKUP(RIGHT(A87,5)*1,'Data eshop'!D:W,17,FALSE))","v":{"$error":"#VALUE!"}},{"$f":"VLOOKUP(A87,Zakázky!A:B,2,FALSE)","v":{"$error":"#N/A"}},""]
["19ESh0",{"$f":"IFERROR(IF(ISNUMBER(L88),VLOOKUP(L88&\"-\"&M88,'Data eshop'!B:W,16,FALSE),IF(RIGHT(L88,1)=\"x\",VLOOKUP(VLOOKUP(RIGHT(A88,5)*1,'Data eshop'!D:N,11,FALSE),DATA!G:I,3,FALSE),IF(RIGHT(L88,1)=\"y\",IF(VLOOKUP(RIGHT(A88,5)*1,'Data eshop'!D:O,12,FALSE)=IF(O88=\"T7\",DATA!$D$2,IF(O88=\"E87\",DATA!$D$5,IF(O88=\"P2\",DATA!$D$6,IF(O88=\"e2695\",DATA!$D$7,\"\")))),IF(N88>=IF(O88=\"T7\",DATA!$K$11,IF(O88=\"E87\",DATA!$L$11,IF(O88=\"P2\",DATA!$M$11,IF(O88=\"e2695\",DATA!$N$11,\"\")))),\"uni008\",\"uni001\"),IF(VLOOKUP(RIGHT(A88,5)*1,'Data eshop'!D:O,12,FALSE)=DATA!$D$3,IF(O88=\"T7\",IF(N88>=500,\"uni009\",\"uni002\"),\"x\"),IF(VLOOKUP(RIGHT(A88,5)*1,'Data eshop'!D:O,12,FALSE)=DATA!$D$4,\"uni010\",\"\"))),\"\"))),\"\")","v":""},{"$f":"IFERROR(IF(A88=\"\",\"\",IF(LEFT(B88,3)=\"uni\",1,VLOOKUP(RIGHT(A88,5)&\"-\"&B88,'Data eshop'!A:R,18,FALSE))),\"\")","v":""},"",{"$f":"IFERROR(IF(A88=\"\",\"\",IF(LEFT(B88,3)=\"uni\",VLOOKUP(B88,DATA!I:X,IF(O88=\"T7\",3,IF(O88=\"E87\",4,IF(O88=\"P2\",5,IF(O88=\"E2695\",6,\"\")))),FALSE),VLOOKUP(RIGHT(A88,5)&\"-\"&B88,'Data eshop'!A:S,19,FALSE))),\"\")","v":""},{"$f":"IFERROR(IF(A88=\"\",\"\",IF(LEFT(B88,3)=\"uni\",0,VLOOKUP(RIGHT(A88,5)&\"-\"&B88,'Data eshop'!A:S,16,FALSE))),\"\")","v":""},null,"",{"$f":"IF(H88=\"\",\"\",WORKDAY(TODAY()+IF(VLOOKUP(VLOOKUP(RIGHT(A88,5)*1,'Data eshop'!D:N,11,FALSE),DATA!A:B,2,FALSE)=7,14,1),5))","v":""},"","",{"$f":"IF(L87=\"\",\"\",IF(L87=RIGHT(A87,5)&\"x\",LEFT(L87,LEN(L87)-1)&\"y\",IF(L87=RIGHT(A87,5)&\"y\",IFERROR(SMALL('Data eshop'!D:D,COUNTIF('Data eshop'!D:D,\"<\"&(LEFT(L87,LEN(L87)-1)*1))),\"\"),IF(ISERROR(IF(VLOOKUP(M87+1,'Data eshop'!C:D,2,FALSE)='Řádky zakázky'!L87,L87,L87&\"x\")),IF(RIGHT(L87,1)=\"y\",\"\",L87&\"x\"),IF(VLOOKUP(M87+1,'Data eshop'!C:D,2,FALSE)='Řádky zakázky'!L87,L87,L87&\"x\")))))","v":"0xxxxxxxxxxxxxxxxxxxxxxxxxxxxxxxxxxxxxxxxxxxxxxxxxxxxxxxxxxxxxxxxxxxxxxxxxxxxxxxxxxxxxx"},1,{"$f":"IF(A88=\"\",\"\",VLOOKUP(RIGHT(A88,5)*1,'Data eshop'!D:W,17,FALSE))","v":{"$error":"#VALUE!"}},{"$f":"VLOOKUP(A88,Zakázky!A:B,2,FALSE)","v":{"$error":"#N/A"}},"","Roluj nahoru, až uvidíš žlutou"]
["19ESh0",{"$f":"IFERROR(IF(ISNUMBER(L89),VLOOKUP(L89&\"-\"&M89,'Data eshop'!B:W,16,FALSE),IF(RIGHT(L89,1)=\"x\",VLOOKUP(VLOOKUP(RIGHT(A89,5)*1,'Data eshop'!D:N,11,FALSE),DATA!G:I,3,FALSE),IF(RIGHT(L89,1)=\"y\",IF(VLOOKUP(RIGHT(A89,5)*1,'Data eshop'!D:O,12,FALSE)=IF(O89=\"T7\",DATA!$D$2,IF(O89=\"E87\",DATA!$D$5,IF(O89=\"P2\",DATA!$D$6,IF(O89=\"e2695\",DATA!$D$7,\"\")))),IF(N89>=IF(O89=\"T7\",DATA!$K$11,IF(O89=\"E87\",DATA!$L$11,IF(O89=\"P2\",DATA!$M$11,IF(O89=\"e2695\",DATA!$N$11,\"\")))),\"uni008\",\"uni001\"),IF(VLOOKUP(RIGHT(A89,5)*1,'Data eshop'!D:O,12,FALSE)=DATA!$D$3,IF(O89=\"T7\",IF(N89>=500,\"uni009\",\"uni002\"),\"x\"),IF(VLOOKUP(RIGHT(A89,5)*1,'Data eshop'!D:O,12,FALSE)=DATA!$D$4,\"uni010\",\"\"))),\"\"))),\"\")","v":""},{"$f":"IFERROR(IF(A89=\"\",\"\",IF(LEFT(B89,3)=\"uni\",1,VLOOKUP(RIGHT(A89,5)&\"-\"&B89,'Data eshop'!A:R,18,FALSE))),\"\")","v":""},"",{"$f":"IFERROR(IF(A89=\"\",\"\",IF(LEFT(B89,3)=\"uni\",VLOOKUP(B89,DATA!I:X,IF(O89=\"T7\",3,IF(O89=\"E87\",4,IF(O89=\"P2\",5,IF(O89=\"E2695\",6,\"\")))),FALSE),VLOOKUP(RIGHT(A89,5)&\"-\"&B89,'Data eshop'!A:S,19,FALSE))),\"\")","v":""},{"$f":"IFERROR(IF(A89=\"\",\"\",IF(LEFT(B89,3)=\"uni\",0,VLOOKUP(RIGHT(A89,5)&\"-\"&B89,'Data eshop'!A:S,16,FALSE))),\"\")","v":""},null,"",{"$f":"IF(H89=\"\",\"\",WORKDAY(TODAY()+IF(VLOOKUP(VLOOKUP(RIGHT(A89,5)*1,'Data eshop'!D:N,11,FALSE),DATA!A:B,2,FALSE)=7,14,1),5))","v":""},"","",{"$f":"IF(L88=\"\",\"\",IF(L88=RIGHT(A88,5)&\"x\",LEFT(L88,LEN(L88)-1)&\"y\",IF(L88=RIGHT(A88,5)&\"y\",IFERROR(SMALL('Data eshop'!D:D,COUNTIF('Data eshop'!D:D,\"<\"&(LEFT(L88,LEN(L88)-1)*1))),\"\"),IF(ISERROR(IF(VLOOKUP(M88+1,'Data eshop'!C:D,2,FALSE)='Řádky zakázky'!L88,L88,L88&\"x\")),IF(RIGHT(L88,1)=\"y\",\"\",L88&\"x\"),IF(VLOOKUP(M88+1,'Data eshop'!C:D,2,FALSE)='Řádky zakázky'!L88,L88,L88&\"x\")))))","v":"0xxxxxxxxxxxxxxxxxxxxxxxxxxxxxxxxxxxxxxxxxxxxxxxxxxxxxxxxxxxxxxxxxxxxxxxxxxxxxxxxxxxxxxx"},1,{"$f":"IF(A89=\"\",\"\",VLOOKUP(RIGHT(A89,5)*1,'Data eshop'!D:W,17,FALSE))","v":{"$error":"#VALUE!"}},{"$f":"VLOOKUP(A89,Zakázky!A:B,2,FALSE)","v":{"$error":"#N/A"}},""]
["19ESh0",{"$f":"IFERROR(IF(ISNUMBER(L90),VLOOKUP(L90&\"-\"&M90,'Data eshop'!B:W,16,FALSE),IF(RIGHT(L90,1)=\"x\",VLOOKUP(VLOOKUP(RIGHT(A90,5)*1,'Data eshop'!D:N,11,FALSE),DATA!G:I,3,FALSE),IF(RIGHT(L90,1)=\"y\",IF(VLOOKUP(RIGHT(A90,5)*1,'Data eshop'!D:O,12,FALSE)=IF(O90=\"T7\",DATA!$D$2,IF(O90=\"E87\",DATA!$D$5,IF(O90=\"P2\",DATA!$D$6,IF(O90=\"e2695\",DATA!$D$7,\"\")))),IF(N90>=IF(O90=\"T7\",DATA!$K$11,IF(O90=\"E87\",DATA!$L$11,IF(O90=\"P2\",DATA!$M$11,IF(O90=\"e2695\",DATA!$N$11,\"\")))),\"uni008\",\"uni001\"),IF(VLOOKUP(RIGHT(A90,5)*1,'Data eshop'!D:O,12,FALSE)=DATA!$D$3,IF(O90=\"T7\",IF(N90>=500,\"uni009\",\"uni002\"),\"x\"),IF(VLOOKUP(RIGHT(A90,5)*1,'Data eshop'!D:O,12,FALSE)=DATA!$D$4,\"uni010\",\"\"))),\"\"))),\"\")","v":""},{"$f":"IFERROR(IF(A90=\"\",\"\",IF(LEFT(B90,3)=\"uni\",1,VLOOKUP(RIGHT(A90,5)&\"-\"&B90,'Data eshop'!A:R,18,FALSE))),\"\")","v":""},"",{"$f":"IFERROR(IF(A90=\"\",\"\",IF(LEFT(B90,3)=\"uni\",VLOOKUP(B90,DATA!I:X,IF(O90=\"T7\",3,IF(O90=\"E87\",4,IF(O90=\"P2\",5,IF(O90=\"E2695\",6,\"\")))),FALSE),VLOOKUP(RIGHT(A90,5)&\"-\"&B90,'Data eshop'!A:S,19,FALSE))),\"\")","v":""},{"$f":"IFERROR(IF(A90=\"\",\"\",IF(LEFT(B90,3)=\"uni\",0,VLOOKUP(RIGHT(A90,5)&\"-\"&B90,'Data eshop'!A:S,16,FALSE))),\"\")","v":""},null,"",{"$f":"IF(H90=\"\",\"\",WORKDAY(TODAY()+IF(VLOOKUP(VLOOKUP(RIGHT(A90,5)*1,'Data eshop'!D:N,11,FALSE),DATA!A:B,2,FALSE)=7,14,1),5))","v":""},"","",{"$f":"IF(L89=\"\",\"\",IF(L89=RIGHT(A89,5)&\"x\",LEFT(L89,LEN(L89)-1)&\"y\",IF(L89=RIGHT(A89,5)&\"y\",IFERROR(SMALL('Data eshop'!D:D,COUNTIF('Data eshop'!D:D,\"<\"&(LEFT(L89,LEN(L89)-1)*1))),\"\"),IF(ISERROR(IF(VLOOKUP(M89+1,'Data eshop'!C:D,2,FALSE)='Řádky zakázky'!L89,L89,L89&\"x\")),IF(RIGHT(L89,1)=\"y\",\"\",L89&\"x\"),IF(VLOOKUP(M89+1,'Data eshop'!C:D,2,FALSE)='Řádky zakázky'!L89,L89,L89&\"x\")))))","v":"0xxxxxxxxxxxxxxxxxxxxxxxxxxxxxxxxxxxxxxxxxxxxxxxxxxxxxxxxxxxxxxxxxxxxxxxxxxxxxxxxxxxxxxxx"},1,{"$f":"IF(A90=\"\",\"\",VLOOKUP(RIGHT(A90,5)*1,'Data eshop'!D:W,17,FALSE))","v":{"$error":"#VALUE!"}},{"$f":"VLOOKUP(A90,Zakázky!A:B,2,FALSE)","v":{"$error":"#N/A"}},""]
["19ESh0",{"$f":"IFERROR(IF(ISNUMBER(L91),VLOOKUP(L91&\"-\"&M91,'Data eshop'!B:W,16,FALSE),IF(RIGHT(L91,1)=\"x\",VLOOKUP(VLOOKUP(RIGHT(A91,5)*1,'Data eshop'!D:N,11,FALSE),DATA!G:I,3,FALSE),IF(RIGHT(L91,1)=\"y\",IF(VLOOKUP(RIGHT(A91,5)*1,'Data eshop'!D:O,12,FALSE)=IF(O91=\"T7\",DATA!$D$2,IF(O91=\"E87\",DATA!$D$5,IF(O91=\"P2\",DATA!$D$6,IF(O91=\"e2695\",DATA!$D$7,\"\")))),IF(N91>=IF(O91=\"T7\",DATA!$K$11,IF(O91=\"E87\",DATA!$L$11,IF(O91=\"P2\",DATA!$M$11,IF(O91=\"e2695\",DATA!$N$11,\"\")))),\"uni008\",\"uni001\"),IF(VLOOKUP(RIGHT(A91,5)*1,'Data eshop'!D:O,12,FALSE)=DATA!$D$3,IF(O91=\"T7\",IF(N91>=500,\"uni009\",\"uni002\"),\"x\"),IF(VLOOKUP(RIGHT(A91,5)*1,'Data eshop'!D:O,12,FALSE)=DATA!$D$4,\"uni010\",\"\"))),\"\"))),\"\")","v":""},{"$f":"IFERROR(IF(A91=\"\",\"\",IF(LEFT(B91,3)=\"uni\",1,VLOOKUP(RIGHT(A91,5)&\"-\"&B91,'Data eshop'!A:R,18,FALSE))),\"\")","v":""},"",{"$f":"IFERROR(IF(A91=\"\",\"\",IF(LEFT(B91,3)=\"uni\",VLOOKUP(B91,DATA!I:X,IF(O91=\"T7\",3,IF(O91=\"E87\",4,IF(O91=\"P2\",5,IF(O91=\"E2695\",6,\"\")))),FALSE),VLOOKUP(RIGHT(A91,5)&\"-\"&B91,'Data eshop'!A:S,19,FALSE))),\"\")","v":""},{"$f":"IFERROR(IF(A91=\"\",\"\",IF(LEFT(B91,3)=\"uni\",0,VLOOKUP(RIGHT(A91,5)&\"-\"&B91,'Data eshop'!A:S,16,FALSE))),\"\")","v":""},null,"",{"$f":"IF(H91=\"\",\"\",WORKDAY(TODAY()+IF(VLOOKUP(VLOOKUP(RIGHT(A91,5)*1,'Data eshop'!D:N,11,FALSE),DATA!A:B,2,FALSE)=7,14,1),5))","v":""},"","",{"$f":"IF(L90=\"\",\"\",IF(L90=RIGHT(A90,5)&\"x\",LEFT(L90,LEN(L90)-1)&\"y\",IF(L90=RIGHT(A90,5)&\"y\",IFERROR(SMALL('Data eshop'!D:D,COUNTIF('Data eshop'!D:D,\"<\"&(LEFT(L90,LEN(L90)-1)*1))),\"\"),IF(ISERROR(IF(VLOOKUP(M90+1,'Data eshop'!C:D,2,FALSE)='Řádky zakázky'!L90,L90,L90&\"x\")),IF(RIGHT(L90,1)=\"y\",\"\",L90&\"x\"),IF(VLOOKUP(M90+1,'Data eshop'!C:D,2,FALSE)='Řádky zakázky'!L90,L90,L90&\"x\")))))","v":"0xxxxxxxxxxxxxxxxxxxxxxxxxxxxxxxxxxxxxxxxxxxxxxxxxxxxxxxxxxxxxxxxxxxxxxxxxxxxxxxxxxxxxxxxx"},1,{"$f":"IF(A91=\"\",\"\",VLOOKUP(RIGHT(A91,5)*1,'Data eshop'!D:W,17,FALSE))","v":{"$error":"#VALUE!"}},{"$f":"VLOOKUP(A91,Zakázky!A:B,2,FALSE)","v":{"$error":"#N/A"}},""]
["19ESh0",{"$f":"IFERROR(IF(ISNUMBER(L92),VLOOKUP(L92&\"-\"&M92,'Data eshop'!B:W,16,FALSE),IF(RIGHT(L92,1)=\"x\",VLOOKUP(VLOOKUP(RIGHT(A92,5)*1,'Data eshop'!D:N,11,FALSE),DATA!G:I,3,FALSE),IF(RIGHT(L92,1)=\"y\",IF(VLOOKUP(RIGHT(A92,5)*1,'Data eshop'!D:O,12,FALSE)=IF(O92=\"T7\",DATA!$D$2,IF(O92=\"E87\",DATA!$D$5,IF(O92=\"P2\",DATA!$D$6,IF(O92=\"e2695\",DATA!$D$7,\"\")))),IF(N92>=IF(O92=\"T7\",DATA!$K$11,IF(O92=\"E87\",DATA!$L$11,IF(O92=\"P2\",DATA!$M$11,IF(O92=\"e2695\",DATA!$N$11,\"\")))),\"uni008\",\"uni001\"),IF(VLOOKUP(RIGHT(A92,5)*1,'Data eshop'!D:O,12,FALSE)=DATA!$D$3,IF(O92=\"T7\",IF(N92>=500,\"uni009\",\"uni002\"),\"x\"),IF(VLOOKUP(RIGHT(A92,5)*1,'Data eshop'!D:O,12,FALSE)=DATA!$D$4,\"uni010\",\"\"))),\"\"))),\"\")","v":""},{"$f":"IFERROR(IF(A92=\"\",\"\",IF(LEFT(B92,3)=\"uni\",1,VLOOKUP(RIGHT(A92,5)&\"-\"&B92,'Data eshop'!A:R,18,FALSE))),\"\")","v":""},"",{"$f":"IFERROR(IF(A92=\"\",\"\",IF(LEFT(B92,3)=\"uni\",VLOOKUP(B92,DATA!I:X,IF(O92=\"T7\",3,IF(O92=\"E87\",4,IF(O92=\"P2\",5,IF(O92=\"E2695\",6,\"\")))),FALSE),VLOOKUP(RIGHT(A92,5)&\"-\"&B92,'Data eshop'!A:S,19,FALSE))),\"\")","v":""},{"$f":"IFERROR(IF(A92=\"\",\"\",IF(LEFT(B92,3)=\"uni\",0,VLOOKUP(RIGHT(A92,5)&\"-\"&B92,'Data eshop'!A:S,16,FALSE))),\"\")","v":""},null,"",{"$f":"IF(H92=\"\",\"\",WORKDAY(TODAY()+IF(VLOOKUP(VLOOKUP(RIGHT(A92,5)*1,'Data eshop'!D:N,11,FALSE),DATA!A:B,2,FALSE)=7,14,1),5))","v":""},"","",{"$f":"IF(L91=\"\",\"\",IF(L91=RIGHT(A91,5)&\"x\",LEFT(L91,LEN(L91)-1)&\"y\",IF(L91=RIGHT(A91,5)&\"y\",IFERROR(SMALL('Data eshop'!D:D,COUNTIF('Data eshop'!D:D,\"<\"&(LEFT(L91,LEN(L91)-1)*1))),\"\"),IF(ISERROR(IF(VLOOKUP(M91+1,'Data eshop'!C:D,2,FALSE)='Řádky zakázky'!L91,L91,L91&\"x\")),IF(RIGHT(L91,1)=\"y\",\"\",L91&\"x\"),IF(VLOOKUP(M91+1,'Data eshop'!C:D,2,FALSE)='Řádky zakázky'!L91,L91,L91&\"x\")))))","v":"0xxxxxxxxxxxxxxxxxxxxxxxxxxxxxxxxxxxxxxxxxxxxxxxxxxxxxxxxxxxxxxxxxxxxxxxxxxxxxxxxxxxxxxxxxx"},1,{"$f":"IF(A92=\"\",\"\",VLOOKUP(RIGHT(A92,5)*1,'Data eshop'!D:W,17,FALSE))","v":{"$error":"#VALUE!"}},{"$f":"VLOOKUP(A92,Zakázky!A:B,2,FALSE)","v":{"$error":"#N/A"}},"","Roluj nahoru, až uvidíš žlutou"]
["19ESh0",{"$f":"IFERROR(IF(ISNUMBER(L93),VLOOKUP(L93&\"-\"&M93,'Data eshop'!B:W,16,FALSE),IF(RIGHT(L93,1)=\"x\",VLOOKUP(VLOOKUP(RIGHT(A93,5)*1,'Data eshop'!D:N,11,FALSE),DATA!G:I,3,FALSE),IF(RIGHT(L93,1)=\"y\",IF(VLOOKUP(RIGHT(A93,5)*1,'Data eshop'!D:O,12,FALSE)=IF(O93=\"T7\",DATA!$D$2,IF(O93=\"E87\",DATA!$D$5,IF(O93=\"P2\",DATA!$D$6,IF(O93=\"e2695\",DATA!$D$7,\"\")))),IF(N93>=IF(O93=\"T7\",DATA!$K$11,IF(O93=\"E87\",DATA!$L$11,IF(O93=\"P2\",DATA!$M$11,IF(O93=\"e2695\",DATA!$N$11,\"\")))),\"uni008\",\"uni001\"),IF(VLOOKUP(RIGHT(A93,5)*1,'Data eshop'!D:O,12,FALSE)=DATA!$D$3,IF(O93=\"T7\",IF(N93>=500,\"uni009\",\"uni002\"),\"x\"),IF(VLOOKUP(RIGHT(A93,5)*1,'Data eshop'!D:O,12,FALSE)=DATA!$D$4,\"uni010\",\"\"))),\"\"))),\"\")","v":""},{"$f":"IFERROR(IF(A93=\"\",\"\",IF(LEFT(B93,3)=\"uni\",1,VLOOKUP(RIGHT(A93,5)&\"-\"&B93,'Data eshop'!A:R,18,FALSE))),\"\")","v":""},"",{"$f":"IFERROR(IF(A93=\"\",\"\",IF(LEFT(B93,3)=\"uni\",VLOOKUP(B93,DATA!I:X,IF(O93=\"T7\",3,IF(O93=\"E87\",4,IF(O93=\"P2\",5,IF(O93=\"E2695\",6,\"\")))),FALSE),VLOOKUP(RIGHT(A93,5)&\"-\"&B93,'Data eshop'!A:S,19,FALSE))),\"\")","v":""},{"$f":"IFERROR(IF(A93=\"\",\"\",IF(LEFT(B93,3)=\"uni\",0,VLOOKUP(RIGHT(A93,5)&\"-\"&B93,'Data eshop'!A:S,16,FALSE))),\"\")","v":""},null,"",{"$f":"IF(H93=\"\",\"\",WORKDAY(TODAY()+IF(VLOOKUP(VLOOKUP(RIGHT(A93,5)*1,'Data eshop'!D:N,11,FALSE),DATA!A:B,2,FALSE)=7,14,1),5))","v":""},"","",{"$f":"IF(L92=\"\",\"\",IF(L92=RIGHT(A92,5)&\"x\",LEFT(L92,LEN(L92)-1)&\"y\",IF(L92=RIGHT(A92,5)&\"y\",IFERROR(SMALL('Data eshop'!D:D,COUNTIF('Data eshop'!D:D,\"<\"&(LEFT(L92,LEN(L92)-1)*1))),\"\"),IF(ISERROR(IF(VLOOKUP(M92+1,'Data eshop'!C:D,2,FALSE)='Řádky zakázky'!L92,L92,L92&\"x\")),IF(RIGHT(L92,1)=\"y\",\"\",L92&\"x\"),IF(VLOOKUP(M92+1,'Data eshop'!C:D,2,FALSE)='Řádky zakázky'!L92,L92,L92&\"x\")))))","v":"0xxxxxxxxxxxxxxxxxxxxxxxxxxxxxxxxxxxxxxxxxxxxxxxxxxxxxxxxxxxxxxxxxxxxxxxxxxxxxxxxxxxxxxxxxxx"},1,{"$f":"IF(A93=\"\",\"\",VLOOKUP(RIGHT(A93,5)*1,'Data eshop'!D:W,17,FALSE))","v":{"$error":"#VALUE!"}},{"$f":"VLOOKUP(A93,Zakázky!A:B,2,FALSE)","v":{"$error":"#N/A"}},""]
["19ESh0",{"$f":"IFERROR(IF(ISNUMBER(L94),VLOOKUP(L94&\"-\"&M94,'Data eshop'!B:W,16,FALSE),IF(RIGHT(L94,1)=\"x\",VLOOKUP(VLOOKUP(RIGHT(A94,5)*1,'Data eshop'!D:N,11,FALSE),DATA!G:I,3,FALSE),IF(RIGHT(L94,1)=\"y\",IF(VLOOKUP(RIGHT(A94,5)*1,'Data eshop'!D:O,12,FALSE)=IF(O94=\"T7\",DATA!$D$2,IF(O94=\"E87\",DATA!$D$5,IF(O94=\"P2\",DATA!$D$6,IF(O94=\"e2695\",DATA!$D$7,\"\")))),IF(N94>=IF(O94=\"T7\",DATA!$K$11,IF(O94=\"E87\",DATA!$L$11,IF(O94=\"P2\",DATA!$M$11,IF(O94=\"e2695\",DATA!$N$11,\"\")))),\"uni008\",\"uni001\"),IF(VLOOKUP(RIGHT(A94,5)*1,'Data eshop'!D:O,12,FALSE)=DATA!$D$3,IF(O94=\"T7\",IF(N94>=500,\"uni009\",\"uni002\"),\"x\"),IF(VLOOKUP(RIGHT(A94,5)*1,'Data eshop'!D:O,12,FALSE)=DATA!$D$4,\"uni010\",\"\"))),\"\"))),\"\")","v":""},{"$f":"IFERROR(IF(A94=\"\",\"\",IF(LEFT(B94,3)=\"uni\",1,VLOOKUP(RIGHT(A94,5)&\"-\"&B94,'Data eshop'!A:R,18,FALSE))),\"\")","v":""},"",{"$f":"IFERROR(IF(A94=\"\",\"\",IF(LEFT(B94,3)=\"uni\",VLOOKUP(B94,DATA!I:X,IF(O94=\"T7\",3,IF(O94=\"E87\",4,IF(O94=\"P2\",5,IF(O94=\"E2695\",6,\"\")))),FALSE),VLOOKUP(RIGHT(A94,5)&\"-\"&B94,'Data eshop'!A:S,19,FALSE))),\"\")","v":""},{"$f":"IFERROR(IF(A94=\"\",\"\",IF(LEFT(B94,3)=\"uni\",0,VLOOKUP(RIGHT(A94,5)&\"-\"&B94,'Data eshop'!A:S,16,FALSE))),\"\")","v":""},null,"",{"$f":"IF(H94=\"\",\"\",WORKDAY(TODAY()+IF(VLOOKUP(VLOOKUP(RIGHT(A94,5)*1,'Data eshop'!D:N,11,FALSE),DATA!A:B,2,FALSE)=7,14,1),5))","v":""},"","",{"$f":"IF(L93=\"\",\"\",IF(L93=RIGHT(A93,5)&\"x\",LEFT(L93,LEN(L93)-1)&\"y\",IF(L93=RIGHT(A93,5)&\"y\",IFERROR(SMALL('Data eshop'!D:D,COUNTIF('Data eshop'!D:D,\"<\"&(LEFT(L93,LEN(L93)-1)*1))),\"\"),IF(ISERROR(IF(VLOOKUP(M93+1,'Data eshop'!C:D,2,FALSE)='Řádky zakázky'!L93,L93,L93&\"x\")),IF(RIGHT(L93,1)=\"y\",\"\",L93&\"x\"),IF(VLOOKUP(M93+1,'Data eshop'!C:D,2,FALSE)='Řádky zakázky'!L93,L93,L93&\"x\")))))","v":"0xxxxxxxxxxxxxxxxxxxxxxxxxxxxxxxxxxxxxxxxxxxxxxxxxxxxxxxxxxxxxxxxxxxxxxxxxxxxxxxxxxxxxxxxxxxx"},1,{"$f":"IF(A94=\"\",\"\",VLOOKUP(RIGHT(A94,5)*1,'Data eshop'!D:W,17,FALSE))","v":{"$error":"#VALUE!"}},{"$f":"VLOOKUP(A94,Zakázky!A:B,2,FALSE)","v":{"$error":"#N/A"}},""]
["19ESh0",{"$f":"IFERROR(IF(ISNUMBER(L95),VLOOKUP(L95&\"-\"&M95,'Data eshop'!B:W,16,FALSE),IF(RIGHT(L95,1)=\"x\",VLOOKUP(VLOOKUP(RIGHT(A95,5)*1,'Data eshop'!D:N,11,FALSE),DATA!G:I,3,FALSE),IF(RIGHT(L95,1)=\"y\",IF(VLOOKUP(RIGHT(A95,5)*1,'Data eshop'!D:O,12,FALSE)=IF(O95=\"T7\",DATA!$D$2,IF(O95=\"E87\",DATA!$D$5,IF(O95=\"P2\",DATA!$D$6,IF(O95=\"e2695\",DATA!$D$7,\"\")))),IF(N95>=IF(O95=\"T7\",DATA!$K$11,IF(O95=\"E87\",DATA!$L$11,IF(O95=\"P2\",DATA!$M$11,IF(O95=\"e2695\",DATA!$N$11,\"\")))),\"uni008\",\"uni001\"),IF(VLOOKUP(RIGHT(A95,5)*1,'Data eshop'!D:O,12,FALSE)=DATA!$D$3,IF(O95=\"T7\",IF(N95>=500,\"uni009\",\"uni002\"),\"x\"),IF(VLOOKUP(RIGHT(A95,5)*1,'Data eshop'!D:O,12,FALSE)=DATA!$D$4,\"uni010\",\"\"))),\"\"))),\"\")","v":""},{"$f":"IFERROR(IF(A95=\"\",\"\",IF(LEFT(B95,3)=\"uni\",1,VLOOKUP(RIGHT(A95,5)&\"-\"&B95,'Data eshop'!A:R,18,FALSE))),\"\")","v":""},"",{"$f":"IFERROR(IF(A95=\"\",\"\",IF(LEFT(B95,3)=\"uni\",VLOOKUP(B95,DATA!I:X,IF(O95=\"T7\",3,IF(O95=\"E87\",4,IF(O95=\"P2\",5,IF(O95=\"E2695\",6,\"\")))),FALSE),VLOOKUP(RIGHT(A95,5)&\"-\"&B95,'Data eshop'!A:S,19,FALSE))),\"\")","v":""},{"$f":"IFERROR(IF(A95=\"\",\"\",IF(LEFT(B95,3)=\"uni\",0,VLOOKUP(RIGHT(A95,5)&\"-\"&B95,'Data eshop'!A:S,16,FALSE))),\"\")","v":""},null,"",{"$f":"IF(H95=\"\",\"\",WORKDAY(TODAY()+IF(VLOOKUP(VLOOKUP(RIGHT(A95,5)*1,'Data eshop'!D:N,11,FALSE),DATA!A:B,2,FALSE)=7,14,1),5))","v":""},"","",{"$f":"IF(L94=\"\",\"\",IF(L94=RIGHT(A94,5)&\"x\",LEFT(L94,LEN(L94)-1)&\"y\",IF(L94=RIGHT(A94,5)&\"y\",IFERROR(SMALL('Data eshop'!D:D,COUNTIF('Data eshop'!D:D,\"<\"&(LEFT(L94,LEN(L94)-1)*1))),\"\"),IF(ISERROR(IF(VLOOKUP(M94+1,'Data eshop'!C:D,2,FALSE)='Řádky zakázky'!L94,L94,L94&\"x\")),IF(RIGHT(L94,1)=\"y\",\"\",L94&\"x\"),IF(VLOOKUP(M94+1,'Data eshop'!C:D,2,FALSE)='Řádky zakázky'!L94,L94,L94&\"x\")))))","v":"0xxxxxxxxxxxxxxxxxxxxxxxxxxxxxxxxxxxxxxxxxxxxxxxxxxxxxxxxxxxxxxxxxxxxxxxxxxxxxxxxxxxxxxxxxxxxx"},1,{"$f":"IF(A95=\"\",\"\",VLOOKUP(RIGHT(A95,5)*1,'Data eshop'!D:W,17,FALSE))","v":{"$error":"#VALUE!"}},{"$f":"VLOOKUP(A95,Zakázky!A:B,2,FALSE)","v":{"$error":"#N/A"}},""]
["19ESh0",{"$f":"IFERROR(IF(ISNUMBER(L96),VLOOKUP(L96&\"-\"&M96,'Data eshop'!B:W,16,FALSE),IF(RIGHT(L96,1)=\"x\",VLOOKUP(VLOOKUP(RIGHT(A96,5)*1,'Data eshop'!D:N,11,FALSE),DATA!G:I,3,FALSE),IF(RIGHT(L96,1)=\"y\",IF(VLOOKUP(RIGHT(A96,5)*1,'Data eshop'!D:O,12,FALSE)=IF(O96=\"T7\",DATA!$D$2,IF(O96=\"E87\",DATA!$D$5,IF(O96=\"P2\",DATA!$D$6,IF(O96=\"e2695\",DATA!$D$7,\"\")))),IF(N96>=IF(O96=\"T7\",DATA!$K$11,IF(O96=\"E87\",DATA!$L$11,IF(O96=\"P2\",DATA!$M$11,IF(O96=\"e2695\",DATA!$N$11,\"\")))),\"uni008\",\"uni001\"),IF(VLOOKUP(RIGHT(A96,5)*1,'Data eshop'!D:O,12,FALSE)=DATA!$D$3,IF(O96=\"T7\",IF(N96>=500,\"uni009\",\"uni002\"),\"x\"),IF(VLOOKUP(RIGHT(A96,5)*1,'Data eshop'!D:O,12,FALSE)=DATA!$D$4,\"uni010\",\"\"))),\"\"))),\"\")","v":""},{"$f":"IFERROR(IF(A96=\"\",\"\",IF(LEFT(B96,3)=\"uni\",1,VLOOKUP(RIGHT(A96,5)&\"-\"&B96,'Data eshop'!A:R,18,FALSE))),\"\")","v":""},"",{"$f":"IFERROR(IF(A96=\"\",\"\",IF(LEFT(B96,3)=\"uni\",VLOOKUP(B96,DATA!I:X,IF(O96=\"T7\",3,IF(O96=\"E87\",4,IF(O96=\"P2\",5,IF(O96=\"E2695\",6,\"\")))),FALSE),VLOOKUP(RIGHT(A96,5)&\"-\"&B96,'Data eshop'!A:S,19,FALSE))),\"\")","v":""},{"$f":"IFERROR(IF(A96=\"\",\"\",IF(LEFT(B96,3)=\"uni\",0,VLOOKUP(RIGHT(A96,5)&\"-\"&B96,'Data eshop'!A:S,16,FALSE))),\"\")","v":""},null,"",{"$f":"IF(H96=\"\",\"\",WORKDAY(TODAY()+IF(VLOOKUP(VLOOKUP(RIGHT(A96,5)*1,'Data eshop'!D:N,11,FALSE),DATA!A:B,2,FALSE)=7,14,1),5))","v":""},"","",{"$f":"IF(L95=\"\",\"\",IF(L95=RIGHT(A95,5)&\"x\",LEFT(L95,LEN(L95)-1)&\"y\",IF(L95=RIGHT(A95,5)&\"y\",IFERROR(SMALL('Data eshop'!D:D,COUNTIF('Data eshop'!D:D,\"<\"&(LEFT(L95,LEN(L95)-1)*1))),\"\"),IF(ISERROR(IF(VLOOKUP(M95+1,'Data eshop'!C:D,2,FALSE)='Řádky zakázky'!L95,L95,L95&\"x\")),IF(RIGHT(L95,1)=\"y\",\"\",L95&\"x\"),IF(VLOOKUP(M95+1,'Data eshop'!C:D,2,FALSE)='Řádky zakázky'!L95,L95,L95&\"x\")))))","v":"0xxxxxxxxxxxxxxxxxxxxxxxxxxxxxxxxxxxxxxxxxxxxxxxxxxxxxxxxxxxxxxxxxxxxxxxxxxxxxxxxxxxxxxxxxxxxxx"},1,{"$f":"IF(A96=\"\",\"\",VLOOKUP(RIGHT(A96,5)*1,'Data eshop'!D:W,17,FALSE))","v":{"$error":"#VALUE!"}},{"$f":"VLOOKUP(A96,Zakázky!A:B,2,FALSE)","v":{"$error":"#N/A"}},"","Roluj nahoru, až uvidíš žlutou"]
["19ESh0",{"$f":"IFERROR(IF(ISNUMBER(L97),VLOOKUP(L97&\"-\"&M97,'Data eshop'!B:W,16,FALSE),IF(RIGHT(L97,1)=\"x\",VLOOKUP(VLOOKUP(RIGHT(A97,5)*1,'Data eshop'!D:N,11,FALSE),DATA!G:I,3,FALSE),IF(RIGHT(L97,1)=\"y\",IF(VLOOKUP(RIGHT(A97,5)*1,'Data eshop'!D:O,12,FALSE)=IF(O97=\"T7\",DATA!$D$2,IF(O97=\"E87\",DATA!$D$5,IF(O97=\"P2\",DATA!$D$6,IF(O97=\"e2695\",DATA!$D$7,\"\")))),IF(N97>=IF(O97=\"T7\",DATA!$K$11,IF(O97=\"E87\",DATA!$L$11,IF(O97=\"P2\",DATA!$M$11,IF(O97=\"e2695\",DATA!$N$11,\"\")))),\"uni008\",\"uni001\"),IF(VLOOKUP(RIGHT(A97,5)*1,'Data eshop'!D:O,12,FALSE)=DATA!$D$3,IF(O97=\"T7\",IF(N97>=500,\"uni009\",\"uni002\"),\"x\"),IF(VLOOKUP(RIGHT(A97,5)*1,'Data eshop'!D:O,12,FALSE)=DATA!$D$4,\"uni010\",\"\"))),\"\"))),\"\")","v":""},{"$f":"IFERROR(IF(A97=\"\",\"\",IF(LEFT(B97,3)=\"uni\",1,VLOOKUP(RIGHT(A97,5)&\"-\"&B97,'Data eshop'!A:R,18,FALSE))),\"\")","v":""},"",{"$f":"IFERROR(IF(A97=\"\",\"\",IF(LEFT(B97,3)=\"uni\",VLOOKUP(B97,DATA!I:X,IF(O97=\"T7\",3,IF(O97=\"E87\",4,IF(O97=\"P2\",5,IF(O97=\"E2695\",6,\"\")))),FALSE),VLOOKUP(RIGHT(A97,5)&\"-\"&B97,'Data eshop'!A:S,19,FALSE))),\"\")","v":""},{"$f":"IFERROR(IF(A97=\"\",\"\",IF(LEFT(B97,3)=\"uni\",0,VLOOKUP(RIGHT(A97,5)&\"-\"&B97,'Data eshop'!A:S,16,FALSE))),\"\")","v":""},null,"",{"$f":"IF(H97=\"\",\"\",WORKDAY(TODAY()+IF(VLOOKUP(VLOOKUP(RIGHT(A97,5)*1,'Data eshop'!D:N,11,FALSE),DATA!A:B,2,FALSE)=7,14,1),5))","v":""},"","",{"$f":"IF(L96=\"\",\"\",IF(L96=RIGHT(A96,5)&\"x\",LEFT(L96,LEN(L96)-1)&\"y\",IF(L96=RIGHT(A96,5)&\"y\",IFERROR(SMALL('Data eshop'!D:D,COUNTIF('Data eshop'!D:D,\"<\"&(LEFT(L96,LEN(L96)-1)*1))),\"\"),IF(ISERROR(IF(VLOOKUP(M96+1,'Data eshop'!C:D,2,FALSE)='Řádky zakázky'!L96,L96,L96&\"x\")),IF(RIGHT(L96,1)=\"y\",\"\",L96&\"x\"),IF(VLOOKUP(M96+1,'Data eshop'!C:D,2,FALSE)='Řádky zakázky'!L96,L96,L96&\"x\")))))","v":"0xxxxxxxxxxxxxxxxxxxxxxxxxxxxxxxxxxxxxxxxxxxxxxxxxxxxxxxxxxxxxxxxxxxxxxxxxxxxxxxxxxxxxxxxxxxxxxx"},1,{"$f":"IF(A97=\"\",\"\",VLOOKUP(RIGHT(A97,5)*1,'Data eshop'!D:W,17,FALSE))","v":{"$error":"#VALUE!"}},{"$f":"VLOOKUP(A97,Zakázky!A:B,2,FALSE)","v":{"$error":"#N/A"}},""]
["19ESh0",{"$f":"IFERROR(IF(ISNUMBER(L98),VLOOKUP(L98&\"-\"&M98,'Data eshop'!B:W,16,FALSE),IF(RIGHT(L98,1)=\"x\",VLOOKUP(VLOOKUP(RIGHT(A98,5)*1,'Data eshop'!D:N,11,FALSE),DATA!G:I,3,FALSE),IF(RIGHT(L98,1)=\"y\",IF(VLOOKUP(RIGHT(A98,5)*1,'Data eshop'!D:O,12,FALSE)=IF(O98=\"T7\",DATA!$D$2,IF(O98=\"E87\",DATA!$D$5,IF(O98=\"P2\",DATA!$D$6,IF(O98=\"e2695\",DATA!$D$7,\"\")))),IF(N98>=IF(O98=\"T7\",DATA!$K$11,IF(O98=\"E87\",DATA!$L$11,IF(O98=\"P2\",DATA!$M$11,IF(O98=\"e2695\",DATA!$N$11,\"\")))),\"uni008\",\"uni001\"),IF(VLOOKUP(RIGHT(A98,5)*1,'Data eshop'!D:O,12,FALSE)=DATA!$D$3,IF(O98=\"T7\",IF(N98>=500,\"uni009\",\"uni002\"),\"x\"),IF(VLOOKUP(RIGHT(A98,5)*1,'Data eshop'!D:O,12,FALSE)=DATA!$D$4,\"uni010\",\"\"))),\"\"))),\"\")","v":""},{"$f":"IFERROR(IF(A98=\"\",\"\",IF(LEFT(B98,3)=\"uni\",1,VLOOKUP(RIGHT(A98,5)&\"-\"&B98,'Data eshop'!A:R,18,FALSE))),\"\")","v":""},"",{"$f":"IFERROR(IF(A98=\"\",\"\",IF(LEFT(B98,3)=\"uni\",VLOOKUP(B98,DATA!I:X,IF(O98=\"T7\",3,IF(O98=\"E87\",4,IF(O98=\"P2\",5,IF(O98=\"E2695\",6,\"\")))),FALSE),VLOOKUP(RIGHT(A98,5)&\"-\"&B98,'Data eshop'!A:S,19,FALSE))),\"\")","v":""},{"$f":"IFERROR(IF(A98=\"\",\"\",IF(LEFT(B98,3)=\"uni\",0,VLOOKUP(RIGHT(A98,5)&\"-\"&B98,'Data eshop'!A:S,16,FALSE))),\"\")","v":""},null,"",{"$f":"IF(H98=\"\",\"\",WORKDAY(TODAY()+IF(VLOOKUP(VLOOKUP(RIGHT(A98,5)*1,'Data eshop'!D:N,11,FALSE),DATA!A:B,2,FALSE)=7,14,1),5))","v":""},"","",{"$f":"IF(L97=\"\",\"\",IF(L97=RIGHT(A97,5)&\"x\",LEFT(L97,LEN(L97)-1)&\"y\",IF(L97=RIGHT(A97,5)&\"y\",IFERROR(SMALL('Data eshop'!D:D,COUNTIF('Data eshop'!D:D,\"<\"&(LEFT(L97,LEN(L97)-1)*1))),\"\"),IF(ISERROR(IF(VLOOKUP(M97+1,'Data eshop'!C:D,2,FALSE)='Řádky zakázky'!L97,L97,L97&\"x\")),IF(RIGHT(L97,1)=\"y\",\"\",L97&\"x\"),IF(VLOOKUP(M97+1,'Data eshop'!C:D,2,FALSE)='Řádky zakázky'!L97,L97,L97&\"x\")))))","v":"0xxxxxxxxxxxxxxxxxxxxxxxxxxxxxxxxxxxxxxxxxxxxxxxxxxxxxxxxxxxxxxxxxxxxxxxxxxxxxxxxxxxxxxxxxxxxxxxx"},1,{"$f":"IF(A98=\"\",\"\",VLOOKUP(RIGHT(A98,5)*1,'Data eshop'!D:W,17,FALSE))","v":{"$error":"#VALUE!"}},{"$f":"VLOOKUP(A98,Zakázky!A:B,2,FALSE)","v":{"$error":"#N/A"}},""]
["19ESh0",{"$f":"IFERROR(IF(ISNUMBER(L99),VLOOKUP(L99&\"-\"&M99,'Data eshop'!B:W,16,FALSE),IF(RIGHT(L99,1)=\"x\",VLOOKUP(VLOOKUP(RIGHT(A99,5)*1,'Data eshop'!D:N,11,FALSE),DATA!G:I,3,FALSE),IF(RIGHT(L99,1)=\"y\",IF(VLOOKUP(RIGHT(A99,5)*1,'Data eshop'!D:O,12,FALSE)=IF(O99=\"T7\",DATA!$D$2,IF(O99=\"E87\",DATA!$D$5,IF(O99=\"P2\",DATA!$D$6,IF(O99=\"e2695\",DATA!$D$7,\"\")))),IF(N99>=IF(O99=\"T7\",DATA!$K$11,IF(O99=\"E87\",DATA!$L$11,IF(O99=\"P2\",DATA!$M$11,IF(O99=\"e2695\",DATA!$N$11,\"\")))),\"uni008\",\"uni001\"),IF(VLOOKUP(RIGHT(A99,5)*1,'Data eshop'!D:O,12,FALSE)=DATA!$D$3,IF(O99=\"T7\",IF(N99>=500,\"uni009\",\"uni002\"),\"x\"),IF(VLOOKUP(RIGHT(A99,5)*1,'Data eshop'!D:O,12,FALSE)=DATA!$D$4,\"uni010\",\"\"))),\"\"))),\"\")","v":""},{"$f":"IFERROR(IF(A99=\"\",\"\",IF(LEFT(B99,3)=\"uni\",1,VLOOKUP(RIGHT(A99,5)&\"-\"&B99,'Data eshop'!A:R,18,FALSE))),\"\")","v":""},"",{"$f":"IFERROR(IF(A99=\"\",\"\",IF(LEFT(B99,3)=\"uni\",VLOOKUP(B99,DATA!I:X,IF(O99=\"T7\",3,IF(O99=\"E87\",4,IF(O99=\"P2\",5,IF(O99=\"E2695\",6,\"\")))),FALSE),VLOOKUP(RIGHT(A99,5)&\"-\"&B99,'Data eshop'!A:S,19,FALSE))),\"\")","v":""},{"$f":"IFERROR(IF(A99=\"\",\"\",IF(LEFT(B99,3)=\"uni\",0,VLOOKUP(RIGHT(A99,5)&\"-\"&B99,'Data eshop'!A:S,16,FALSE))),\"\")","v":""},null,"",{"$f":"IF(H99=\"\",\"\",WORKDAY(TODAY()+IF(VLOOKUP(VLOOKUP(RIGHT(A99,5)*1,'Data eshop'!D:N,11,FALSE),DATA!A:B,2,FALSE)=7,14,1),5))","v":""},"","",{"$f":"IF(L98=\"\",\"\",IF(L98=RIGHT(A98,5)&\"x\",LEFT(L98,LEN(L98)-1)&\"y\",IF(L98=RIGHT(A98,5)&\"y\",IFERROR(SMALL('Data eshop'!D:D,COUNTIF('Data eshop'!D:D,\"<\"&(LEFT(L98,LEN(L98)-1)*1))),\"\"),IF(ISERROR(IF(VLOOKUP(M98+1,'Data eshop'!C:D,2,FALSE)='Řádky zakázky'!L98,L98,L98&\"x\")),IF(RIGHT(L98,1)=\"y\",\"\",L98&\"x\"),IF(VLOOKUP(M98+1,'Data eshop'!C:D,2,FALSE)='Řádky zakázky'!L98,L98,L98&\"x\")))))","v":"0xxxxxxxxxxxxxxxxxxxxxxxxxxxxxxxxxxxxxxxxxxxxxxxxxxxxxxxxxxxxxxxxxxxxxxxxxxxxxxxxxxxxxxxxxxxxxxxxx"},1,{"$f":"IF(A99=\"\",\"\",VLOOKUP(RIGHT(A99,5)*1,'Data eshop'!D:W,17,FALSE))","v":{"$error":"#VALUE!"}},{"$f":"VLOOKUP(A99,Zakázky!A:B,2,FALSE)","v":{"$error":"#N/A"}},""]
["19ESh0",{"$f":"IFERROR(IF(ISNUMBER(L100),VLOOKUP(L100&\"-\"&M100,'Data eshop'!B:W,16,FALSE),IF(RIGHT(L100,1)=\"x\",VLOOKUP(VLOOKUP(RIGHT(A100,5)*1,'Data eshop'!D:N,11,FALSE),DATA!G:I,3,FALSE),IF(RIGHT(L100,1)=\"y\",IF(VLOOKUP(RIGHT(A100,5)*1,'Data eshop'!D:O,12,FALSE)=IF(O100=\"T7\",DATA!$D$2,IF(O100=\"E87\",DATA!$D$5,IF(O100=\"P2\",DATA!$D$6,IF(O100=\"e2695\",DATA!$D$7,\"\")))),IF(N100>=IF(O100=\"T7\",DATA!$K$11,IF(O100=\"E87\",DATA!$L$11,IF(O100=\"P2\",DATA!$M$11,IF(O100=\"e2695\",DATA!$N$11,\"\")))),\"uni008\",\"uni001\"),IF(VLOOKUP(RIGHT(A100,5)*1,'Data eshop'!D:O,12,FALSE)=DATA!$D$3,IF(O100=\"T7\",IF(N100>=500,\"uni009\",\"uni002\"),\"x\"),IF(VLOOKUP(RIGHT(A100,5)*1,'Data eshop'!D:O,12,FALSE)=DATA!$D$4,\"uni010\",\"\"))),\"\"))),\"\")","v":""},{"$f":"IFERROR(IF(A100=\"\",\"\",IF(LEFT(B100,3)=\"uni\",1,VLOOKUP(RIGHT(A100,5)&\"-\"&B100,'Data eshop'!A:R,18,FALSE))),\"\")","v":""},"",{"$f":"IFERROR(IF(A100=\"\",\"\",IF(LEFT(B100,3)=\"uni\",VLOOKUP(B100,DATA!I:X,IF(O100=\"T7\",3,IF(O100=\"E87\",4,IF(O100=\"P2\",5,IF(O100=\"E2695\",6,\"\")))),FALSE),VLOOKUP(RIGHT(A100,5)&\"-\"&B100,'Data eshop'!A:S,19,FALSE))),\"\")","v":""},{"$f":"IFERROR(IF(A100=\"\",\"\",IF(LEFT(B100,3)=\"uni\",0,VLOOKUP(RIGHT(A100,5)&\"-\"&B100,'Data eshop'!A:S,16,FALSE))),\"\")","v":""},null,"",{"$f":"IF(H100=\"\",\"\",WORKDAY(TODAY()+IF(VLOOKUP(VLOOKUP(RIGHT(A100,5)*1,'Data eshop'!D:N,11,FALSE),DATA!A:B,2,FALSE)=7,14,1),5))","v":""},"","",{"$f":"IF(L99=\"\",\"\",IF(L99=RIGHT(A99,5)&\"x\",LEFT(L99,LEN(L99)-1)&\"y\",IF(L99=RIGHT(A99,5)&\"y\",IFERROR(SMALL('Data eshop'!D:D,COUNTIF('Data eshop'!D:D,\"<\"&(LEFT(L99,LEN(L99)-1)*1))),\"\"),IF(ISERROR(IF(VLOOKUP(M99+1,'Data eshop'!C:D,2,FALSE)='Řádky zakázky'!L99,L99,L99&\"x\")),IF(RIGHT(L99,1)=\"y\",\"\",L99&\"x\"),IF(VLOOKUP(M99+1,'Data eshop'!C:D,2,FALSE)='Řádky zakázky'!L99,L99,L99&\"x\")))))","v":"0xxxxxxxxxxxxxxxxxxxxxxxxxxxxxxxxxxxxxxxxxxxxxxxxxxxxxxxxxxxxxxxxxxxxxxxxxxxxxxxxxxxxxxxxxxxxxxxxxx"},1,{"$f":"IF(A100=\"\",\"\",VLOOKUP(RIGHT(A100,5)*1,'Data eshop'!D:W,17,FALSE))","v":{"$error":"#VALUE!"}},{"$f":"VLOOKUP(A100,Zakázky!A:B,2,FALSE)","v":{"$error":"#N/A"}},"","Roluj nahoru, až uvidíš žlutou"]
["19ESh0",{"$f":"IFERROR(IF(ISNUMBER(L101),VLOOKUP(L101&\"-\"&M101,'Data eshop'!B:W,16,FALSE),IF(RIGHT(L101,1)=\"x\",VLOOKUP(VLOOKUP(RIGHT(A101,5)*1,'Data eshop'!D:N,11,FALSE),DATA!G:I,3,FALSE),IF(RIGHT(L101,1)=\"y\",IF(VLOOKUP(RIGHT(A101,5)*1,'Data eshop'!D:O,12,FALSE)=IF(O101=\"T7\",DATA!$D$2,IF(O101=\"E87\",DATA!$D$5,IF(O101=\"P2\",DATA!$D$6,IF(O101=\"e2695\",DATA!$D$7,\"\")))),IF(N101>=IF(O101=\"T7\",DATA!$K$11,IF(O101=\"E87\",DATA!$L$11,IF(O101=\"P2\",DATA!$M$11,IF(O101=\"e2695\",DATA!$N$11,\"\")))),\"uni008\",\"uni001\"),IF(VLOOKUP(RIGHT(A101,5)*1,'Data eshop'!D:O,12,FALSE)=DATA!$D$3,IF(O101=\"T7\",IF(N101>=500,\"uni009\",\"uni002\"),\"x\"),IF(VLOOKUP(RIGHT(A101,5)*1,'Data eshop'!D:O,12,FALSE)=DATA!$D$4,\"uni010\",\"\"))),\"\"))),\"\")","v":""},{"$f":"IFERROR(IF(A101=\"\",\"\",IF(LEFT(B101,3)=\"uni\",1,VLOOKUP(RIGHT(A101,5)&\"-\"&B101,'Data eshop'!A:R,18,FALSE))),\"\")","v":""},"",{"$f":"IFERROR(IF(A101=\"\",\"\",IF(LEFT(B101,3)=\"uni\",VLOOKUP(B101,DATA!I:X,IF(O101=\"T7\",3,IF(O101=\"E87\",4,IF(O101=\"P2\",5,IF(O101=\"E2695\",6,\"\")))),FALSE),VLOOKUP(RIGHT(A101,5)&\"-\"&B101,'Data eshop'!A:S,19,FALSE))),\"\")","v":""},{"$f":"IFERROR(IF(A101=\"\",\"\",IF(LEFT(B101,3)=\"uni\",0,VLOOKUP(RIGHT(A101,5)&\"-\"&B101,'Data eshop'!A:S,16,FALSE))),\"\")","v":""},null,"",{"$f":"IF(H101=\"\",\"\",WORKDAY(TODAY()+IF(VLOOKUP(VLOOKUP(RIGHT(A101,5)*1,'Data eshop'!D:N,11,FALSE),DATA!A:B,2,FALSE)=7,14,1),5))","v":""},"","",{"$f":"IF(L100=\"\",\"\",IF(L100=RIGHT(A100,5)&\"x\",LEFT(L100,LEN(L100)-1)&\"y\",IF(L100=RIGHT(A100,5)&\"y\",IFERROR(SMALL('Data eshop'!D:D,COUNTIF('Data eshop'!D:D,\"<\"&(LEFT(L100,LEN(L100)-1)*1))),\"\"),IF(ISERROR(IF(VLOOKUP(M100+1,'Data eshop'!C:D,2,FALSE)='Řádky zakázky'!L100,L100,L100&\"x\")),IF(RIGHT(L100,1)=\"y\",\"\",L100&\"x\"),IF(VLOOKUP(M100+1,'Data eshop'!C:D,2,FALSE)='Řádky zakázky'!L100,L100,L100&\"x\")))))","v":"0xxxxxxxxxxxxxxxxxxxxxxxxxxxxxxxxxxxxxxxxxxxxxxxxxxxxxxxxxxxxxxxxxxxxxxxxxxxxxxxxxxxxxxxxxxxxxxxxxxx"},1,{"$f":"IF(A101=\"\",\"\",VLOOKUP(RIGHT(A101,5)*1,'Data eshop'!D:W,17,FALSE))","v":{"$error":"#VALUE!"}},{"$f":"VLOOKUP(A101,Zakázky!A:B,2,FALSE)","v":{"$error":"#N/A"}},""]
["19ESh0",{"$f":"IFERROR(IF(ISNUMBER(L102),VLOOKUP(L102&\"-\"&M102,'Data eshop'!B:W,16,FALSE),IF(RIGHT(L102,1)=\"x\",VLOOKUP(VLOOKUP(RIGHT(A102,5)*1,'Data eshop'!D:N,11,FALSE),DATA!G:I,3,FALSE),IF(RIGHT(L102,1)=\"y\",IF(VLOOKUP(RIGHT(A102,5)*1,'Data eshop'!D:O,12,FALSE)=IF(O102=\"T7\",DATA!$D$2,IF(O102=\"E87\",DATA!$D$5,IF(O102=\"P2\",DATA!$D$6,IF(O102=\"e2695\",DATA!$D$7,\"\")))),IF(N102>=IF(O102=\"T7\",DATA!$K$11,IF(O102=\"E87\",DATA!$L$11,IF(O102=\"P2\",DATA!$M$11,IF(O102=\"e2695\",DATA!$N$11,\"\")))),\"uni008\",\"uni001\"),IF(VLOOKUP(RIGHT(A102,5)*1,'Data eshop'!D:O,12,FALSE)=DATA!$D$3,IF(O102=\"T7\",IF(N102>=500,\"uni009\",\"uni002\"),\"x\"),IF(VLOOKUP(RIGHT(A102,5)*1,'Data eshop'!D:O,12,FALSE)=DATA!$D$4,\"uni010\",\"\"))),\"\"))),\"\")","v":""},{"$f":"IFERROR(IF(A102=\"\",\"\",IF(LEFT(B102,3)=\"uni\",1,VLOOKUP(RIGHT(A102,5)&\"-\"&B102,'Data eshop'!A:R,18,FALSE))),\"\")","v":""},"",{"$f":"IFERROR(IF(A102=\"\",\"\",IF(LEFT(B102,3)=\"uni\",VLOOKUP(B102,DATA!I:X,IF(O102=\"T7\",3,IF(O102=\"E87\",4,IF(O102=\"P2\",5,IF(O102=\"E2695\",6,\"\")))),FALSE),VLOOKUP(RIGHT(A102,5)&\"-\"&B102,'Data eshop'!A:S,19,FALSE))),\"\")","v":""},{"$f":"IFERROR(IF(A102=\"\",\"\",IF(LEFT(B102,3)=\"uni\",0,VLOOKUP(RIGHT(A102,5)&\"-\"&B102,'Data eshop'!A:S,16,FALSE))),\"\")","v":""},null,"",{"$f":"IF(H102=\"\",\"\",WORKDAY(TODAY()+IF(VLOOKUP(VLOOKUP(RIGHT(A102,5)*1,'Data eshop'!D:N,11,FALSE),DATA!A:B,2,FALSE)=7,14,1),5))","v":""},"","",{"$f":"IF(L101=\"\",\"\",IF(L101=RIGHT(A101,5)&\"x\",LEFT(L101,LEN(L101)-1)&\"y\",IF(L101=RIGHT(A101,5)&\"y\",IFERROR(SMALL('Data eshop'!D:D,COUNTIF('Data eshop'!D:D,\"<\"&(LEFT(L101,LEN(L101)-1)*1))),\"\"),IF(ISERROR(IF(VLOOKUP(M101+1,'Data eshop'!C:D,2,FALSE)='Řádky zakázky'!L101,L101,L101&\"x\")),IF(RIGHT(L101,1)=\"y\",\"\",L101&\"x\"),IF(VLOOKUP(M101+1,'Data eshop'!C:D,2,FALSE)='Řádky zakázky'!L101,L101,L101&\"x\")))))","v":"0xxxxxxxxxxxxxxxxxxxxxxxxxxxxxxxxxxxxxxxxxxxxxxxxxxxxxxxxxxxxxxxxxxxxxxxxxxxxxxxxxxxxxxxxxxxxxxxxxxxx"},1,{"$f":"IF(A102=\"\",\"\",VLOOKUP(RIGHT(A102,5)*1,'Data eshop'!D:W,17,FALSE))","v":{"$error":"#VALUE!"}},{"$f":"VLOOKUP(A102,Zakázky!A:B,2,FALSE)","v":{"$error":"#N/A"}},""]
["19ESh0",{"$f":"IFERROR(IF(ISNUMBER(L103),VLOOKUP(L103&\"-\"&M103,'Data eshop'!B:W,16,FALSE),IF(RIGHT(L103,1)=\"x\",VLOOKUP(VLOOKUP(RIGHT(A103,5)*1,'Data eshop'!D:N,11,FALSE),DATA!G:I,3,FALSE),IF(RIGHT(L103,1)=\"y\",IF(VLOOKUP(RIGHT(A103,5)*1,'Data eshop'!D:O,12,FALSE)=IF(O103=\"T7\",DATA!$D$2,IF(O103=\"E87\",DATA!$D$5,IF(O103=\"P2\",DATA!$D$6,IF(O103=\"e2695\",DATA!$D$7,\"\")))),IF(N103>=IF(O103=\"T7\",DATA!$K$11,IF(O103=\"E87\",DATA!$L$11,IF(O103=\"P2\",DATA!$M$11,IF(O103=\"e2695\",DATA!$N$11,\"\")))),\"uni008\",\"uni001\"),IF(VLOOKUP(RIGHT(A103,5)*1,'Data eshop'!D:O,12,FALSE)=DATA!$D$3,IF(O103=\"T7\",IF(N103>=500,\"uni009\",\"uni002\"),\"x\"),IF(VLOOKUP(RIGHT(A103,5)*1,'Data eshop'!D:O,12,FALSE)=DATA!$D$4,\"uni010\",\"\"))),\"\"))),\"\")","v":""},{"$f":"IFERROR(IF(A103=\"\",\"\",IF(LEFT(B103,3)=\"uni\",1,VLOOKUP(RIGHT(A103,5)&\"-\"&B103,'Data eshop'!A:R,18,FALSE))),\"\")","v":""},"",{"$f":"IFERROR(IF(A103=\"\",\"\",IF(LEFT(B103,3)=\"uni\",VLOOKUP(B103,DATA!I:X,IF(O103=\"T7\",3,IF(O103=\"E87\",4,IF(O103=\"P2\",5,IF(O103=\"E2695\",6,\"\")))),FALSE),VLOOKUP(RIGHT(A103,5)&\"-\"&B103,'Data eshop'!A:S,19,FALSE))),\"\")","v":""},{"$f":"IFERROR(IF(A103=\"\",\"\",IF(LEFT(B103,3)=\"uni\",0,VLOOKUP(RIGHT(A103,5)&\"-\"&B103,'Data eshop'!A:S,16,FALSE))),\"\")","v":""},null,"",{"$f":"IF(H103=\"\",\"\",WORKDAY(TODAY()+IF(VLOOKUP(VLOOKUP(RIGHT(A103,5)*1,'Data eshop'!D:N,11,FALSE),DATA!A:B,2,FALSE)=7,14,1),5))","v":""},"","",{"$f":"IF(L102=\"\",\"\",IF(L102=RIGHT(A102,5)&\"x\",LEFT(L102,LEN(L102)-1)&\"y\",IF(L102=RIGHT(A102,5)&\"y\",IFERROR(SMALL('Data eshop'!D:D,COUNTIF('Data eshop'!D:D,\"<\"&(LEFT(L102,LEN(L102)-1)*1))),\"\"),IF(ISERROR(IF(VLOOKUP(M102+1,'Data eshop'!C:D,2,FALSE)='Řádky zakázky'!L102,L102,L102&\"x\")),IF(RIGHT(L102,1)=\"y\",\"\",L102&\"x\"),IF(VLOOKUP(M102+1,'Data eshop'!C:D,2,FALSE)='Řádky zakázky'!L102,L102,L102&\"x\")))))","v":"0xxxxxxxxxxxxxxxxxxxxxxxxxxxxxxxxxxxxxxxxxxxxxxxxxxxxxxxxxxxxxxxxxxxxxxxxxxxxxxxxxxxxxxxxxxxxxxxxxxxxx"},1,{"$f":"IF(A103=\"\",\"\",VLOOKUP(RIGHT(A103,5)*1,'Data eshop'!D:W,17,FALSE))","v":{"$error":"#VALUE!"}},{"$f":"VLOOKUP(A103,Zakázky!A:B,2,FALSE)","v":{"$error":"#N/A"}},""]
["19ESh0",{"$f":"IFERROR(IF(ISNUMBER(L104),VLOOKUP(L104&\"-\"&M104,'Data eshop'!B:W,16,FALSE),IF(RIGHT(L104,1)=\"x\",VLOOKUP(VLOOKUP(RIGHT(A104,5)*1,'Data eshop'!D:N,11,FALSE),DATA!G:I,3,FALSE),IF(RIGHT(L104,1)=\"y\",IF(VLOOKUP(RIGHT(A104,5)*1,'Data eshop'!D:O,12,FALSE)=IF(O104=\"T7\",DATA!$D$2,IF(O104=\"E87\",DATA!$D$5,IF(O104=\"P2\",DATA!$D$6,IF(O104=\"e2695\",DATA!$D$7,\"\")))),IF(N104>=IF(O104=\"T7\",DATA!$K$11,IF(O104=\"E87\",DATA!$L$11,IF(O104=\"P2\",DATA!$M$11,IF(O104=\"e2695\",DATA!$N$11,\"\")))),\"uni008\",\"uni001\"),IF(VLOOKUP(RIGHT(A104,5)*1,'Data eshop'!D:O,12,FALSE)=DATA!$D$3,IF(O104=\"T7\",IF(N104>=500,\"uni009\",\"uni002\"),\"x\"),IF(VLOOKUP(RIGHT(A104,5)*1,'Data eshop'!D:O,12,FALSE)=DATA!$D$4,\"uni010\",\"\"))),\"\"))),\"\")","v":""},{"$f":"IFERROR(IF(A104=\"\",\"\",IF(LEFT(B104,3)=\"uni\",1,VLOOKUP(RIGHT(A104,5)&\"-\"&B104,'Data eshop'!A:R,18,FALSE))),\"\")","v":""},"",{"$f":"IFERROR(IF(A104=\"\",\"\",IF(LEFT(B104,3)=\"uni\",VLOOKUP(B104,DATA!I:X,IF(O104=\"T7\",3,IF(O104=\"E87\",4,IF(O104=\"P2\",5,IF(O104=\"E2695\",6,\"\")))),FALSE),VLOOKUP(RIGHT(A104,5)&\"-\"&B104,'Data eshop'!A:S,19,FALSE))),\"\")","v":""},{"$f":"IFERROR(IF(A104=\"\",\"\",IF(LEFT(B104,3)=\"uni\",0,VLOOKUP(RIGHT(A104,5)&\"-\"&B104,'Data eshop'!A:S,16,FALSE))),\"\")","v":""},null,"",{"$f":"IF(H104=\"\",\"\",WORKDAY(TODAY()+IF(VLOOKUP(VLOOKUP(RIGHT(A104,5)*1,'Data eshop'!D:N,11,FALSE),DATA!A:B,2,FALSE)=7,14,1),5))","v":""},"","",{"$f":"IF(L103=\"\",\"\",IF(L103=RIGHT(A103,5)&\"x\",LEFT(L103,LEN(L103)-1)&\"y\",IF(L103=RIGHT(A103,5)&\"y\",IFERROR(SMALL('Data eshop'!D:D,COUNTIF('Data eshop'!D:D,\"<\"&(LEFT(L103,LEN(L103)-1)*1))),\"\"),IF(ISERROR(IF(VLOOKUP(M103+1,'Data eshop'!C:D,2,FALSE)='Řádky zakázky'!L103,L103,L103&\"x\")),IF(RIGHT(L103,1)=\"y\",\"\",L103&\"x\"),IF(VLOOKUP(M103+1,'Data eshop'!C:D,2,FALSE)='Řádky zakázky'!L103,L103,L103&\"x\")))))","v":"0xxxxxxxxxxxxxxxxxxxxxxxxxxxxxxxxxxxxxxxxxxxxxxxxxxxxxxxxxxxxxxxxxxxxxxxxxxxxxxxxxxxxxxxxxxxxxxxxxxxxxx"},1,{"$f":"IF(A104=\"\",\"\",VLOOKUP(RIGHT(A104,5)*1,'Data eshop'!D:W,17,FALSE))","v":{"$error":"#VALUE!"}},{"$f":"VLOOKUP(A104,Zakázky!A:B,2,FALSE)","v":{"$error":"#N/A"}},"","Roluj nahoru, až uvidíš žlutou"]
["19ESh0",{"$f":"IFERROR(IF(ISNUMBER(L105),VLOOKUP(L105&\"-\"&M105,'Data eshop'!B:W,16,FALSE),IF(RIGHT(L105,1)=\"x\",VLOOKUP(VLOOKUP(RIGHT(A105,5)*1,'Data eshop'!D:N,11,FALSE),DATA!G:I,3,FALSE),IF(RIGHT(L105,1)=\"y\",IF(VLOOKUP(RIGHT(A105,5)*1,'Data eshop'!D:O,12,FALSE)=IF(O105=\"T7\",DATA!$D$2,IF(O105=\"E87\",DATA!$D$5,IF(O105=\"P2\",DATA!$D$6,IF(O105=\"e2695\",DATA!$D$7,\"\")))),IF(N105>=IF(O105=\"T7\",DATA!$K$11,IF(O105=\"E87\",DATA!$L$11,IF(O105=\"P2\",DATA!$M$11,IF(O105=\"e2695\",DATA!$N$11,\"\")))),\"uni008\",\"uni001\"),IF(VLOOKUP(RIGHT(A105,5)*1,'Data eshop'!D:O,12,FALSE)=DATA!$D$3,IF(O105=\"T7\",IF(N105>=500,\"uni009\",\"uni002\"),\"x\"),IF(VLOOKUP(RIGHT(A105,5)*1,'Data eshop'!D:O,12,FALSE)=DATA!$D$4,\"uni010\",\"\"))),\"\"))),\"\")","v":""},{"$f":"IFERROR(IF(A105=\"\",\"\",IF(LEFT(B105,3)=\"uni\",1,VLOOKUP(RIGHT(A105,5)&\"-\"&B105,'Data eshop'!A:R,18,FALSE))),\"\")","v":""},"",{"$f":"IFERROR(IF(A105=\"\",\"\",IF(LEFT(B105,3)=\"uni\",VLOOKUP(B105,DATA!I:X,IF(O105=\"T7\",3,IF(O105=\"E87\",4,IF(O105=\"P2\",5,IF(O105=\"E2695\",6,\"\")))),FALSE),VLOOKUP(RIGHT(A105,5)&\"-\"&B105,'Data eshop'!A:S,19,FALSE))),\"\")","v":""},{"$f":"IFERROR(IF(A105=\"\",\"\",IF(LEFT(B105,3)=\"uni\",0,VLOOKUP(RIGHT(A105,5)&\"-\"&B105,'Data eshop'!A:S,16,FALSE))),\"\")","v":""},null,"",{"$f":"IF(H105=\"\",\"\",WORKDAY(TODAY()+IF(VLOOKUP(VLOOKUP(RIGHT(A105,5)*1,'Data eshop'!D:N,11,FALSE),DATA!A:B,2,FALSE)=7,14,1),5))","v":""},"","",{"$f":"IF(L104=\"\",\"\",IF(L104=RIGHT(A104,5)&\"x\",LEFT(L104,LEN(L104)-1)&\"y\",IF(L104=RIGHT(A104,5)&\"y\",IFERROR(SMALL('Data eshop'!D:D,COUNTIF('Data eshop'!D:D,\"<\"&(LEFT(L104,LEN(L104)-1)*1))),\"\"),IF(ISERROR(IF(VLOOKUP(M104+1,'Data eshop'!C:D,2,FALSE)='Řádky zakázky'!L104,L104,L104&\"x\")),IF(RIGHT(L104,1)=\"y\",\"\",L104&\"x\"),IF(VLOOKUP(M104+1,'Data eshop'!C:D,2,FALSE)='Řádky zakázky'!L104,L104,L104&\"x\")))))","v":"0xxxxxxxxxxxxxxxxxxxxxxxxxxxxxxxxxxxxxxxxxxxxxxxxxxxxxxxxxxxxxxxxxxxxxxxxxxxxxxxxxxxxxxxxxxxxxxxxxxxxxxx"},1,{"$f":"IF(A105=\"\",\"\",VLOOKUP(RIGHT(A105,5)*1,'Data eshop'!D:W,17,FALSE))","v":{"$error":"#VALUE!"}},{"$f":"VLOOKUP(A105,Zakázky!A:B,2,FALSE)","v":{"$error":"#N/A"}},""]
["19ESh0",{"$f":"IFERROR(IF(ISNUMBER(L106),VLOOKUP(L106&\"-\"&M106,'Data eshop'!B:W,16,FALSE),IF(RIGHT(L106,1)=\"x\",VLOOKUP(VLOOKUP(RIGHT(A106,5)*1,'Data eshop'!D:N,11,FALSE),DATA!G:I,3,FALSE),IF(RIGHT(L106,1)=\"y\",IF(VLOOKUP(RIGHT(A106,5)*1,'Data eshop'!D:O,12,FALSE)=IF(O106=\"T7\",DATA!$D$2,IF(O106=\"E87\",DATA!$D$5,IF(O106=\"P2\",DATA!$D$6,IF(O106=\"e2695\",DATA!$D$7,\"\")))),IF(N106>=IF(O106=\"T7\",DATA!$K$11,IF(O106=\"E87\",DATA!$L$11,IF(O106=\"P2\",DATA!$M$11,IF(O106=\"e2695\",DATA!$N$11,\"\")))),\"uni008\",\"uni001\"),IF(VLOOKUP(RIGHT(A106,5)*1,'Data eshop'!D:O,12,FALSE)=DATA!$D$3,IF(O106=\"T7\",IF(N106>=500,\"uni009\",\"uni002\"),\"x\"),IF(VLOOKUP(RIGHT(A106,5)*1,'Data eshop'!D:O,12,FALSE)=DATA!$D$4,\"uni010\",\"\"))),\"\"))),\"\")","v":""},{"$f":"IFERROR(IF(A106=\"\",\"\",IF(LEFT(B106,3)=\"uni\",1,VLOOKUP(RIGHT(A106,5)&\"-\"&B106,'Data eshop'!A:R,18,FALSE))),\"\")","v":""},"",{"$f":"IFERROR(IF(A106=\"\",\"\",IF(LEFT(B106,3)=\"uni\",VLOOKUP(B106,DATA!I:X,IF(O106=\"T7\",3,IF(O106=\"E87\",4,IF(O106=\"P2\",5,IF(O106=\"E2695\",6,\"\")))),FALSE),VLOOKUP(RIGHT(A106,5)&\"-\"&B106,'Data eshop'!A:S,19,FALSE))),\"\")","v":""},{"$f":"IFERROR(IF(A106=\"\",\"\",IF(LEFT(B106,3)=\"uni\",0,VLOOKUP(RIGHT(A106,5)&\"-\"&B106,'Data eshop'!A:S,16,FALSE))),\"\")","v":""},null,"",{"$f":"IF(H106=\"\",\"\",WORKDAY(TODAY()+IF(VLOOKUP(VLOOKUP(RIGHT(A106,5)*1,'Data eshop'!D:N,11,FALSE),DATA!A:B,2,FALSE)=7,14,1),5))","v":""},"","",{"$f":"IF(L105=\"\",\"\",IF(L105=RIGHT(A105,5)&\"x\",LEFT(L105,LEN(L105)-1)&\"y\",IF(L105=RIGHT(A105,5)&\"y\",IFERROR(SMALL('Data eshop'!D:D,COUNTIF('Data eshop'!D:D,\"<\"&(LEFT(L105,LEN(L105)-1)*1))),\"\"),IF(ISERROR(IF(VLOOKUP(M105+1,'Data eshop'!C:D,2,FALSE)='Řádky zakázky'!L105,L105,L105&\"x\")),IF(RIGHT(L105,1)=\"y\",\"\",L105&\"x\"),IF(VLOOKUP(M105+1,'Data eshop'!C:D,2,FALSE)='Řádky zakázky'!L105,L105,L105&\"x\")))))","v":"0xxxxxxxxxxxxxxxxxxxxxxxxxxxxxxxxxxxxxxxxxxxxxxxxxxxxxxxxxxxxxxxxxxxxxxxxxxxxxxxxxxxxxxxxxxxxxxxxxxxxxxxx"},1,{"$f":"IF(A106=\"\",\"\",VLOOKUP(RIGHT(A106,5)*1,'Data eshop'!D:W,17,FALSE))","v":{"$error":"#VALUE!"}},{"$f":"VLOOKUP(A106,Zakázky!A:B,2,FALSE)","v":{"$error":"#N/A"}},""]
["19ESh0",{"$f":"IFERROR(IF(ISNUMBER(L107),VLOOKUP(L107&\"-\"&M107,'Data eshop'!B:W,16,FALSE),IF(RIGHT(L107,1)=\"x\",VLOOKUP(VLOOKUP(RIGHT(A107,5)*1,'Data eshop'!D:N,11,FALSE),DATA!G:I,3,FALSE),IF(RIGHT(L107,1)=\"y\",IF(VLOOKUP(RIGHT(A107,5)*1,'Data eshop'!D:O,12,FALSE)=IF(O107=\"T7\",DATA!$D$2,IF(O107=\"E87\",DATA!$D$5,IF(O107=\"P2\",DATA!$D$6,IF(O107=\"e2695\",DATA!$D$7,\"\")))),IF(N107>=IF(O107=\"T7\",DATA!$K$11,IF(O107=\"E87\",DATA!$L$11,IF(O107=\"P2\",DATA!$M$11,IF(O107=\"e2695\",DATA!$N$11,\"\")))),\"uni008\",\"uni001\"),IF(VLOOKUP(RIGHT(A107,5)*1,'Data eshop'!D:O,12,FALSE)=DATA!$D$3,IF(O107=\"T7\",IF(N107>=500,\"uni009\",\"uni002\"),\"x\"),IF(VLOOKUP(RIGHT(A107,5)*1,'Data eshop'!D:O,12,FALSE)=DATA!$D$4,\"uni010\",\"\"))),\"\"))),\"\")","v":""},{"$f":"IFERROR(IF(A107=\"\",\"\",IF(LEFT(B107,3)=\"uni\",1,VLOOKUP(RIGHT(A107,5)&\"-\"&B107,'Data eshop'!A:R,18,FALSE))),\"\")","v":""},"",{"$f":"IFERROR(IF(A107=\"\",\"\",IF(LEFT(B107,3)=\"uni\",VLOOKUP(B107,DATA!I:X,IF(O107=\"T7\",3,IF(O107=\"E87\",4,IF(O107=\"P2\",5,IF(O107=\"E2695\",6,\"\")))),FALSE),VLOOKUP(RIGHT(A107,5)&\"-\"&B107,'Data eshop'!A:S,19,FALSE))),\"\")","v":""},{"$f":"IFERROR(IF(A107=\"\",\"\",IF(LEFT(B107,3)=\"uni\",0,VLOOKUP(RIGHT(A107,5)&\"-\"&B107,'Data eshop'!A:S,16,FALSE))),\"\")","v":""},null,"",{"$f":"IF(H107=\"\",\"\",WORKDAY(TODAY()+IF(VLOOKUP(VLOOKUP(RIGHT(A107,5)*1,'Data eshop'!D:N,11,FALSE),DATA!A:B,2,FALSE)=7,14,1),5))","v":""},"","",{"$f":"IF(L106=\"\",\"\",IF(L106=RIGHT(A106,5)&\"x\",LEFT(L106,LEN(L106)-1)&\"y\",IF(L106=RIGHT(A106,5)&\"y\",IFERROR(SMALL('Data eshop'!D:D,COUNTIF('Data eshop'!D:D,\"<\"&(LEFT(L106,LEN(L106)-1)*1))),\"\"),IF(ISERROR(IF(VLOOKUP(M106+1,'Data eshop'!C:D,2,FALSE)='Řádky zakázky'!L106,L106,L106&\"x\")),IF(RIGHT(L106,1)=\"y\",\"\",L106&\"x\"),IF(VLOOKUP(M106+1,'Data eshop'!C:D,2,FALSE)='Řádky zakázky'!L106,L106,L106&\"x\")))))","v":"0xxxxxxxxxxxxxxxxxxxxxxxxxxxxxxxxxxxxxxxxxxxxxxxxxxxxxxxxxxxxxxxxxxxxxxxxxxxxxxxxxxxxxxxxxxxxxxxxxxxxxxxxx"},1,{"$f":"IF(A107=\"\",\"\",VLOOKUP(RIGHT(A107,5)*1,'Data eshop'!D:W,17,FALSE))","v":{"$error":"#VALUE!"}},{"$f":"VLOOKUP(A107,Zakázky!A:B,2,FALSE)","v":{"$error":"#N/A"}},""]
["19ESh0",{"$f":"IFERROR(IF(ISNUMBER(L108),VLOOKUP(L108&\"-\"&M108,'Data eshop'!B:W,16,FALSE),IF(RIGHT(L108,1)=\"x\",VLOOKUP(VLOOKUP(RIGHT(A108,5)*1,'Data eshop'!D:N,11,FALSE),DATA!G:I,3,FALSE),IF(RIGHT(L108,1)=\"y\",IF(VLOOKUP(RIGHT(A108,5)*1,'Data eshop'!D:O,12,FALSE)=IF(O108=\"T7\",DATA!$D$2,IF(O108=\"E87\",DATA!$D$5,IF(O108=\"P2\",DATA!$D$6,IF(O108=\"e2695\",DATA!$D$7,\"\")))),IF(N108>=IF(O108=\"T7\",DATA!$K$11,IF(O108=\"E87\",DATA!$L$11,IF(O108=\"P2\",DATA!$M$11,IF(O108=\"e2695\",DATA!$N$11,\"\")))),\"uni008\",\"uni001\"),IF(VLOOKUP(RIGHT(A108,5)*1,'Data eshop'!D:O,12,FALSE)=DATA!$D$3,IF(O108=\"T7\",IF(N108>=500,\"uni009\",\"uni002\"),\"x\"),IF(VLOOKUP(RIGHT(A108,5)*1,'Data eshop'!D:O,12,FALSE)=DATA!$D$4,\"uni010\",\"\"))),\"\"))),\"\")","v":""},{"$f":"IFERROR(IF(A108=\"\",\"\",IF(LEFT(B108,3)=\"uni\",1,VLOOKUP(RIGHT(A108,5)&\"-\"&B108,'Data eshop'!A:R,18,FALSE))),\"\")","v":""},"",{"$f":"IFERROR(IF(A108=\"\",\"\",IF(LEFT(B108,3)=\"uni\",VLOOKUP(B108,DATA!I:X,IF(O108=\"T7\",3,IF(O108=\"E87\",4,IF(O108=\"P2\",5,IF(O108=\"E2695\",6,\"\")))),FALSE),VLOOKUP(RIGHT(A108,5)&\"-\"&B108,'Data eshop'!A:S,19,FALSE))),\"\")","v":""},{"$f":"IFERROR(IF(A108=\"\",\"\",IF(LEFT(B108,3)=\"uni\",0,VLOOKUP(RIGHT(A108,5)&\"-\"&B108,'Data eshop'!A:S,16,FALSE))),\"\")","v":""},null,"",{"$f":"IF(H108=\"\",\"\",WORKDAY(TODAY()+IF(VLOOKUP(VLOOKUP(RIGHT(A108,5)*1,'Data eshop'!D:N,11,FALSE),DATA!A:B,2,FALSE)=7,14,1),5))","v":""},"","",{"$f":"IF(L107=\"\",\"\",IF(L107=RIGHT(A107,5)&\"x\",LEFT(L107,LEN(L107)-1)&\"y\",IF(L107=RIGHT(A107,5)&\"y\",IFERROR(SMALL('Data eshop'!D:D,COUNTIF('Data eshop'!D:D,\"<\"&(LEFT(L107,LEN(L107)-1)*1))),\"\"),IF(ISERROR(IF(VLOOKUP(M107+1,'Data eshop'!C:D,2,FALSE)='Řádky zakázky'!L107,L107,L107&\"x\")),IF(RIGHT(L107,1)=\"y\",\"\",L107&\"x\"),IF(VLOOKUP(M107+1,'Data eshop'!C:D,2,FALSE)='Řádky zakázky'!L107,L107,L107&\"x\")))))","v":"0xxxxxxxxxxxxxxxxxxxxxxxxxxxxxxxxxxxxxxxxxxxxxxxxxxxxxxxxxxxxxxxxxxxxxxxxxxxxxxxxxxxxxxxxxxxxxxxxxxxxxxxxxx"},1,{"$f":"IF(A108=\"\",\"\",VLOOKUP(RIGHT(A108,5)*1,'Data eshop'!D:W,17,FALSE))","v":{"$error":"#VALUE!"}},{"$f":"VLOOKUP(A108,Zakázky!A:B,2,FALSE)","v":{"$error":"#N/A"}},"","Roluj nahoru, až uvidíš žlutou"]
["19ESh0",{"$f":"IFERROR(IF(ISNUMBER(L109),VLOOKUP(L109&\"-\"&M109,'Data eshop'!B:W,16,FALSE),IF(RIGHT(L109,1)=\"x\",VLOOKUP(VLOOKUP(RIGHT(A109,5)*1,'Data eshop'!D:N,11,FALSE),DATA!G:I,3,FALSE),IF(RIGHT(L109,1)=\"y\",IF(VLOOKUP(RIGHT(A109,5)*1,'Data eshop'!D:O,12,FALSE)=IF(O109=\"T7\",DATA!$D$2,IF(O109=\"E87\",DATA!$D$5,IF(O109=\"P2\",DATA!$D$6,IF(O109=\"e2695\",DATA!$D$7,\"\")))),IF(N109>=IF(O109=\"T7\",DATA!$K$11,IF(O109=\"E87\",DATA!$L$11,IF(O109=\"P2\",DATA!$M$11,IF(O109=\"e2695\",DATA!$N$11,\"\")))),\"uni008\",\"uni001\"),IF(VLOOKUP(RIGHT(A109,5)*1,'Data eshop'!D:O,12,FALSE)=DATA!$D$3,IF(O109=\"T7\",IF(N109>=500,\"uni009\",\"uni002\"),\"x\"),IF(VLOOKUP(RIGHT(A109,5)*1,'Data eshop'!D:O,12,FALSE)=DATA!$D$4,\"uni010\",\"\"))),\"\"))),\"\")","v":""},{"$f":"IFERROR(IF(A109=\"\",\"\",IF(LEFT(B109,3)=\"uni\",1,VLOOKUP(RIGHT(A109,5)&\"-\"&B109,'Data eshop'!A:R,18,FALSE))),\"\")","v":""},"",{"$f":"IFERROR(IF(A109=\"\",\"\",IF(LEFT(B109,3)=\"uni\",VLOOKUP(B109,DATA!I:X,IF(O109=\"T7\",3,IF(O109=\"E87\",4,IF(O109=\"P2\",5,IF(O109=\"E2695\",6,\"\")))),FALSE),VLOOKUP(RIGHT(A109,5)&\"-\"&B109,'Data eshop'!A:S,19,FALSE))),\"\")","v":""},{"$f":"IFERROR(IF(A109=\"\",\"\",IF(LEFT(B109,3)=\"uni\",0,VLOOKUP(RIGHT(A109,5)&\"-\"&B109,'Data eshop'!A:S,16,FALSE))),\"\")","v":""},null,"",{"$f":"IF(H109=\"\",\"\",WORKDAY(TODAY()+IF(VLOOKUP(VLOOKUP(RIGHT(A109,5)*1,'Data eshop'!D:N,11,FALSE),DATA!A:B,2,FALSE)=7,14,1),5))","v":""},"","",{"$f":"IF(L108=\"\",\"\",IF(L108=RIGHT(A108,5)&\"x\",LEFT(L108,LEN(L108)-1)&\"y\",IF(L108=RIGHT(A108,5)&\"y\",IFERROR(SMALL('Data eshop'!D:D,COUNTIF('Data eshop'!D:D,\"<\"&(LEFT(L108,LEN(L108)-1)*1))),\"\"),IF(ISERROR(IF(VLOOKUP(M108+1,'Data eshop'!C:D,2,FALSE)='Řádky zakázky'!L108,L108,L108&\"x\")),IF(RIGHT(L108,1)=\"y\",\"\",L108&\"x\"),IF(VLOOKUP(M108+1,'Data eshop'!C:D,2,FALSE)='Řádky zakázky'!L108,L108,L108&\"x\")))))","v":"0xxxxxxxxxxxxxxxxxxxxxxxxxxxxxxxxxxxxxxxxxxxxxxxxxxxxxxxxxxxxxxxxxxxxxxxxxxxxxxxxxxxxxxxxxxxxxxxxxxxxxxxxxxx"},1,{"$f":"IF(A109=\"\",\"\",VLOOKUP(RIGHT(A109,5)*1,'Data eshop'!D:W,17,FALSE))","v":{"$error":"#VALUE!"}},{"$f":"VLOOKUP(A109,Zakázky!A:B,2,FALSE)","v":{"$error":"#N/A"}},""]
["19ESh0",{"$f":"IFERROR(IF(ISNUMBER(L110),VLOOKUP(L110&\"-\"&M110,'Data eshop'!B:W,16,FALSE),IF(RIGHT(L110,1)=\"x\",VLOOKUP(VLOOKUP(RIGHT(A110,5)*1,'Data eshop'!D:N,11,FALSE),DATA!G:I,3,FALSE),IF(RIGHT(L110,1)=\"y\",IF(VLOOKUP(RIGHT(A110,5)*1,'Data eshop'!D:O,12,FALSE)=IF(O110=\"T7\",DATA!$D$2,IF(O110=\"E87\",DATA!$D$5,IF(O110=\"P2\",DATA!$D$6,IF(O110=\"e2695\",DATA!$D$7,\"\")))),IF(N110>=IF(O110=\"T7\",DATA!$K$11,IF(O110=\"E87\",DATA!$L$11,IF(O110=\"P2\",DATA!$M$11,IF(O110=\"e2695\",DATA!$N$11,\"\")))),\"uni008\",\"uni001\"),IF(VLOOKUP(RIGHT(A110,5)*1,'Data eshop'!D:O,12,FALSE)=DATA!$D$3,IF(O110=\"T7\",IF(N110>=500,\"uni009\",\"uni002\"),\"x\"),IF(VLOOKUP(RIGHT(A110,5)*1,'Data eshop'!D:O,12,FALSE)=DATA!$D$4,\"uni010\",\"\"))),\"\"))),\"\")","v":""},{"$f":"IFERROR(IF(A110=\"\",\"\",IF(LEFT(B110,3)=\"uni\",1,VLOOKUP(RIGHT(A110,5)&\"-\"&B110,'Data eshop'!A:R,18,FALSE))),\"\")","v":""},"",{"$f":"IFERROR(IF(A110=\"\",\"\",IF(LEFT(B110,3)=\"uni\",VLOOKUP(B110,DATA!I:X,IF(O110=\"T7\",3,IF(O110=\"E87\",4,IF(O110=\"P2\",5,IF(O110=\"E2695\",6,\"\")))),FALSE),VLOOKUP(RIGHT(A110,5)&\"-\"&B110,'Data eshop'!A:S,19,FALSE))),\"\")","v":""},{"$f":"IFERROR(IF(A110=\"\",\"\",IF(LEFT(B110,3)=\"uni\",0,VLOOKUP(RIGHT(A110,5)&\"-\"&B110,'Data eshop'!A:S,16,FALSE))),\"\")","v":""},null,"",{"$f":"IF(H110=\"\",\"\",WORKDAY(TODAY()+IF(VLOOKUP(VLOOKUP(RIGHT(A110,5)*1,'Data eshop'!D:N,11,FALSE),DATA!A:B,2,FALSE)=7,14,1),5))","v":""},"","",{"$f":"IF(L109=\"\",\"\",IF(L109=RIGHT(A109,5)&\"x\",LEFT(L109,LEN(L109)-1)&\"y\",IF(L109=RIGHT(A109,5)&\"y\",IFERROR(SMALL('Data eshop'!D:D,COUNTIF('Data eshop'!D:D,\"<\"&(LEFT(L109,LEN(L109)-1)*1))),\"\"),IF(ISERROR(IF(VLOOKUP(M109+1,'Data eshop'!C:D,2,FALSE)='Řádky zakázky'!L109,L109,L109&\"x\")),IF(RIGHT(L109,1)=\"y\",\"\",L109&\"x\"),IF(VLOOKUP(M109+1,'Data eshop'!C:D,2,FALSE)='Řádky zakázky'!L109,L109,L109&\"x\")))))","v":"0xxxxxxxxxxxxxxxxxxxxxxxxxxxxxxxxxxxxxxxxxxxxxxxxxxxxxxxxxxxxxxxxxxxxxxxxxxxxxxxxxxxxxxxxxxxxxxxxxxxxxxxxxxxx"},1,{"$f":"IF(A110=\"\",\"\",VLOOKUP(RIGHT(A110,5)*1,'Data eshop'!D:W,17,FALSE))","v":{"$error":"#VALUE!"}},{"$f":"VLOOKUP(A110,Zakázky!A:B,2,FALSE)","v":{"$error":"#N/A"}},""]
["19ESh0",{"$f":"IFERROR(IF(ISNUMBER(L111),VLOOKUP(L111&\"-\"&M111,'Data eshop'!B:W,16,FALSE),IF(RIGHT(L111,1)=\"x\",VLOOKUP(VLOOKUP(RIGHT(A111,5)*1,'Data eshop'!D:N,11,FALSE),DATA!G:I,3,FALSE),IF(RIGHT(L111,1)=\"y\",IF(VLOOKUP(RIGHT(A111,5)*1,'Data eshop'!D:O,12,FALSE)=IF(O111=\"T7\",DATA!$D$2,IF(O111=\"E87\",DATA!$D$5,IF(O111=\"P2\",DATA!$D$6,IF(O111=\"e2695\",DATA!$D$7,\"\")))),IF(N111>=IF(O111=\"T7\",DATA!$K$11,IF(O111=\"E87\",DATA!$L$11,IF(O111=\"P2\",DATA!$M$11,IF(O111=\"e2695\",DATA!$N$11,\"\")))),\"uni008\",\"uni001\"),IF(VLOOKUP(RIGHT(A111,5)*1,'Data eshop'!D:O,12,FALSE)=DATA!$D$3,IF(O111=\"T7\",IF(N111>=500,\"uni009\",\"uni002\"),\"x\"),IF(VLOOKUP(RIGHT(A111,5)*1,'Data eshop'!D:O,12,FALSE)=DATA!$D$4,\"uni010\",\"\"))),\"\"))),\"\")","v":""},{"$f":"IFERROR(IF(A111=\"\",\"\",IF(LEFT(B111,3)=\"uni\",1,VLOOKUP(RIGHT(A111,5)&\"-\"&B111,'Data eshop'!A:R,18,FALSE))),\"\")","v":""},"",{"$f":"IFERROR(IF(A111=\"\",\"\",IF(LEFT(B111,3)=\"uni\",VLOOKUP(B111,DATA!I:X,IF(O111=\"T7\",3,IF(O111=\"E87\",4,IF(O111=\"P2\",5,IF(O111=\"E2695\",6,\"\")))),FALSE),VLOOKUP(RIGHT(A111,5)&\"-\"&B111,'Data eshop'!A:S,19,FALSE))),\"\")","v":""},{"$f":"IFERROR(IF(A111=\"\",\"\",IF(LEFT(B111,3)=\"uni\",0,VLOOKUP(RIGHT(A111,5)&\"-\"&B111,'Data eshop'!A:S,16,FALSE))),\"\")","v":""},null,"",{"$f":"IF(H111=\"\",\"\",WORKDAY(TODAY()+IF(VLOOKUP(VLOOKUP(RIGHT(A111,5)*1,'Data eshop'!D:N,11,FALSE),DATA!A:B,2,FALSE)=7,14,1),5))","v":""},"","",{"$f":"IF(L110=\"\",\"\",IF(L110=RIGHT(A110,5)&\"x\",LEFT(L110,LEN(L110)-1)&\"y\",IF(L110=RIGHT(A110,5)&\"y\",IFERROR(SMALL('Data eshop'!D:D,COUNTIF('Data eshop'!D:D,\"<\"&(LEFT(L110,LEN(L110)-1)*1))),\"\"),IF(ISERROR(IF(VLOOKUP(M110+1,'Data eshop'!C:D,2,FALSE)='Řádky zakázky'!L110,L110,L110&\"x\")),IF(RIGHT(L110,1)=\"y\",\"\",L110&\"x\"),IF(VLOOKUP(M110+1,'Data eshop'!C:D,2,FALSE)='Řádky zakázky'!L110,L110,L110&\"x\")))))","v":"0xxxxxxxxxxxxxxxxxxxxxxxxxxxxxxxxxxxxxxxxxxxxxxxxxxxxxxxxxxxxxxxxxxxxxxxxxxxxxxxxxxxxxxxxxxxxxxxxxxxxxxxxxxxxx"},1,{"$f":"IF(A111=\"\",\"\",VLOOKUP(RIGHT(A111,5)*1,'Data eshop'!D:W,17,FALSE))","v":{"$error":"#VALUE!"}},{"$f":"VLOOKUP(A111,Zakázky!A:B,2,FALSE)","v":{"$error":"#N/A"}},""]
["19ESh0",{"$f":"IFERROR(IF(ISNUMBER(L112),VLOOKUP(L112&\"-\"&M112,'Data eshop'!B:W,16,FALSE),IF(RIGHT(L112,1)=\"x\",VLOOKUP(VLOOKUP(RIGHT(A112,5)*1,'Data eshop'!D:N,11,FALSE),DATA!G:I,3,FALSE),IF(RIGHT(L112,1)=\"y\",IF(VLOOKUP(RIGHT(A112,5)*1,'Data eshop'!D:O,12,FALSE)=IF(O112=\"T7\",DATA!$D$2,IF(O112=\"E87\",DATA!$D$5,IF(O112=\"P2\",DATA!$D$6,IF(O112=\"e2695\",DATA!$D$7,\"\")))),IF(N112>=IF(O112=\"T7\",DATA!$K$11,IF(O112=\"E87\",DATA!$L$11,IF(O112=\"P2\",DATA!$M$11,IF(O112=\"e2695\",DATA!$N$11,\"\")))),\"uni008\",\"uni001\"),IF(VLOOKUP(RIGHT(A112,5)*1,'Data eshop'!D:O,12,FALSE)=DATA!$D$3,IF(O112=\"T7\",IF(N112>=500,\"uni009\",\"uni002\"),\"x\"),IF(VLOOKUP(RIGHT(A112,5)*1,'Data eshop'!D:O,12,FALSE)=DATA!$D$4,\"uni010\",\"\"))),\"\"))),\"\")","v":""},{"$f":"IFERROR(IF(A112=\"\",\"\",IF(LEFT(B112,3)=\"uni\",1,VLOOKUP(RIGHT(A112,5)&\"-\"&B112,'Data eshop'!A:R,18,FALSE))),\"\")","v":""},"",{"$f":"IFERROR(IF(A112=\"\",\"\",IF(LEFT(B112,3)=\"uni\",VLOOKUP(B112,DATA!I:X,IF(O112=\"T7\",3,IF(O112=\"E87\",4,IF(O112=\"P2\",5,IF(O112=\"E2695\",6,\"\")))),FALSE),VLOOKUP(RIGHT(A112,5)&\"-\"&B112,'Data eshop'!A:S,19,FALSE))),\"\")","v":""},{"$f":"IFERROR(IF(A112=\"\",\"\",IF(LEFT(B112,3)=\"uni\",0,VLOOKUP(RIGHT(A112,5)&\"-\"&B112,'Data eshop'!A:S,16,FALSE))),\"\")","v":""},null,"",{"$f":"IF(H112=\"\",\"\",WORKDAY(TODAY()+IF(VLOOKUP(VLOOKUP(RIGHT(A112,5)*1,'Data eshop'!D:N,11,FALSE),DATA!A:B,2,FALSE)=7,14,1),5))","v":""},"","",{"$f":"IF(L111=\"\",\"\",IF(L111=RIGHT(A111,5)&\"x\",LEFT(L111,LEN(L111)-1)&\"y\",IF(L111=RIGHT(A111,5)&\"y\",IFERROR(SMALL('Data eshop'!D:D,COUNTIF('Data eshop'!D:D,\"<\"&(LEFT(L111,LEN(L111)-1)*1))),\"\"),IF(ISERROR(IF(VLOOKUP(M111+1,'Data eshop'!C:D,2,FALSE)='Řádky zakázky'!L111,L111,L111&\"x\")),IF(RIGHT(L111,1)=\"y\",\"\",L111&\"x\"),IF(VLOOKUP(M111+1,'Data eshop'!C:D,2,FALSE)='Řádky zakázky'!L111,L111,L111&\"x\")))))","v":"0xxxxxxxxxxxxxxxxxxxxxxxxxxxxxxxxxxxxxxxxxxxxxxxxxxxxxxxxxxxxxxxxxxxxxxxxxxxxxxxxxxxxxxxxxxxxxxxxxxxxxxxxxxxxxx"},1,{"$f":"IF(A112=\"\",\"\",VLOOKUP(RIGHT(A112,5)*1,'Data eshop'!D:W,17,FALSE))","v":{"$error":"#VALUE!"}},{"$f":"VLOOKUP(A112,Zakázky!A:B,2,FALSE)","v":{"$error":"#N/A"}},"","Roluj nahoru, až uvidíš žlutou"]
["19ESh0",{"$f":"IFERROR(IF(ISNUMBER(L113),VLOOKUP(L113&\"-\"&M113,'Data eshop'!B:W,16,FALSE),IF(RIGHT(L113,1)=\"x\",VLOOKUP(VLOOKUP(RIGHT(A113,5)*1,'Data eshop'!D:N,11,FALSE),DATA!G:I,3,FALSE),IF(RIGHT(L113,1)=\"y\",IF(VLOOKUP(RIGHT(A113,5)*1,'Data eshop'!D:O,12,FALSE)=IF(O113=\"T7\",DATA!$D$2,IF(O113=\"E87\",DATA!$D$5,IF(O113=\"P2\",DATA!$D$6,IF(O113=\"e2695\",DATA!$D$7,\"\")))),IF(N113>=IF(O113=\"T7\",DATA!$K$11,IF(O113=\"E87\",DATA!$L$11,IF(O113=\"P2\",DATA!$M$11,IF(O113=\"e2695\",DATA!$N$11,\"\")))),\"uni008\",\"uni001\"),IF(VLOOKUP(RIGHT(A113,5)*1,'Data eshop'!D:O,12,FALSE)=DATA!$D$3,IF(O113=\"T7\",IF(N113>=500,\"uni009\",\"uni002\"),\"x\"),IF(VLOOKUP(RIGHT(A113,5)*1,'Data eshop'!D:O,12,FALSE)=DATA!$D$4,\"uni010\",\"\"))),\"\"))),\"\")","v":""},{"$f":"IFERROR(IF(A113=\"\",\"\",IF(LEFT(B113,3)=\"uni\",1,VLOOKUP(RIGHT(A113,5)&\"-\"&B113,'Data eshop'!A:R,18,FALSE))),\"\")","v":""},"",{"$f":"IFERROR(IF(A113=\"\",\"\",IF(LEFT(B113,3)=\"uni\",VLOOKUP(B113,DATA!I:X,IF(O113=\"T7\",3,IF(O113=\"E87\",4,IF(O113=\"P2\",5,IF(O113=\"E2695\",6,\"\")))),FALSE),VLOOKUP(RIGHT(A113,5)&\"-\"&B113,'Data eshop'!A:S,19,FALSE))),\"\")","v":""},{"$f":"IFERROR(IF(A113=\"\",\"\",IF(LEFT(B113,3)=\"uni\",0,VLOOKUP(RIGHT(A113,5)&\"-\"&B113,'Data eshop'!A:S,16,FALSE))),\"\")","v":""},null,"",{"$f":"IF(H113=\"\",\"\",WORKDAY(TODAY()+IF(VLOOKUP(VLOOKUP(RIGHT(A113,5)*1,'Data eshop'!D:N,11,FALSE),DATA!A:B,2,FALSE)=7,14,1),5))","v":""},"","",{"$f":"IF(L112=\"\",\"\",IF(L112=RIGHT(A112,5)&\"x\",LEFT(L112,LEN(L112)-1)&\"y\",IF(L112=RIGHT(A112,5)&\"y\",IFERROR(SMALL('Data eshop'!D:D,COUNTIF('Data eshop'!D:D,\"<\"&(LEFT(L112,LEN(L112)-1)*1))),\"\"),IF(ISERROR(IF(VLOOKUP(M112+1,'Data eshop'!C:D,2,FALSE)='Řádky zakázky'!L112,L112,L112&\"x\")),IF(RIGHT(L112,1)=\"y\",\"\",L112&\"x\"),IF(VLOOKUP(M112+1,'Data eshop'!C:D,2,FALSE)='Řádky zakázky'!L112,L112,L112&\"x\")))))","v":"0xxxxxxxxxxxxxxxxxxxxxxxxxxxxxxxxxxxxxxxxxxxxxxxxxxxxxxxxxxxxxxxxxxxxxxxxxxxxxxxxxxxxxxxxxxxxxxxxxxxxxxxxxxxxxxx"},1,{"$f":"IF(A113=\"\",\"\",VLOOKUP(RIGHT(A113,5)*1,'Data eshop'!D:W,17,FALSE))","v":{"$error":"#VALUE!"}},{"$f":"VLOOKUP(A113,Zakázky!A:B,2,FALSE)","v":{"$error":"#N/A"}},""]
["19ESh0",{"$f":"IFERROR(IF(ISNUMBER(L114),VLOOKUP(L114&\"-\"&M114,'Data eshop'!B:W,16,FALSE),IF(RIGHT(L114,1)=\"x\",VLOOKUP(VLOOKUP(RIGHT(A114,5)*1,'Data eshop'!D:N,11,FALSE),DATA!G:I,3,FALSE),IF(RIGHT(L114,1)=\"y\",IF(VLOOKUP(RIGHT(A114,5)*1,'Data eshop'!D:O,12,FALSE)=IF(O114=\"T7\",DATA!$D$2,IF(O114=\"E87\",DATA!$D$5,IF(O114=\"P2\",DATA!$D$6,IF(O114=\"e2695\",DATA!$D$7,\"\")))),IF(N114>=IF(O114=\"T7\",DATA!$K$11,IF(O114=\"E87\",DATA!$L$11,IF(O114=\"P2\",DATA!$M$11,IF(O114=\"e2695\",DATA!$N$11,\"\")))),\"uni008\",\"uni001\"),IF(VLOOKUP(RIGHT(A114,5)*1,'Data eshop'!D:O,12,FALSE)=DATA!$D$3,IF(O114=\"T7\",IF(N114>=500,\"uni009\",\"uni002\"),\"x\"),IF(VLOOKUP(RIGHT(A114,5)*1,'Data eshop'!D:O,12,FALSE)=DATA!$D$4,\"uni010\",\"\"))),\"\"))),\"\")","v":""},{"$f":"IFERROR(IF(A114=\"\",\"\",IF(LEFT(B114,3)=\"uni\",1,VLOOKUP(RIGHT(A114,5)&\"-\"&B114,'Data eshop'!A:R,18,FALSE))),\"\")","v":""},"",{"$f":"IFERROR(IF(A114=\"\",\"\",IF(LEFT(B114,3)=\"uni\",VLOOKUP(B114,DATA!I:X,IF(O114=\"T7\",3,IF(O114=\"E87\",4,IF(O114=\"P2\",5,IF(O114=\"E2695\",6,\"\")))),FALSE),VLOOKUP(RIGHT(A114,5)&\"-\"&B114,'Data eshop'!A:S,19,FALSE))),\"\")","v":""},{"$f":"IFERROR(IF(A114=\"\",\"\",IF(LEFT(B114,3)=\"uni\",0,VLOOKUP(RIGHT(A114,5)&\"-\"&B114,'Data eshop'!A:S,16,FALSE))),\"\")","v":""},null,"",{"$f":"IF(H114=\"\",\"\",WORKDAY(TODAY()+IF(VLOOKUP(VLOOKUP(RIGHT(A114,5)*1,'Data eshop'!D:N,11,FALSE),DATA!A:B,2,FALSE)=7,14,1),5))","v":""},"","",{"$f":"IF(L113=\"\",\"\",IF(L113=RIGHT(A113,5)&\"x\",LEFT(L113,LEN(L113)-1)&\"y\",IF(L113=RIGHT(A113,5)&\"y\",IFERROR(SMALL('Data eshop'!D:D,COUNTIF('Data eshop'!D:D,\"<\"&(LEFT(L113,LEN(L113)-1)*1))),\"\"),IF(ISERROR(IF(VLOOKUP(M113+1,'Data eshop'!C:D,2,FALSE)='Řádky zakázky'!L113,L113,L113&\"x\")),IF(RIGHT(L113,1)=\"y\",\"\",L113&\"x\"),IF(VLOOKUP(M113+1,'Data eshop'!C:D,2,FALSE)='Řádky zakázky'!L113,L113,L113&\"x\")))))","v":"0xxxxxxxxxxxxxxxxxxxxxxxxxxxxxxxxxxxxxxxxxxxxxxxxxxxxxxxxxxxxxxxxxxxxxxxxxxxxxxxxxxxxxxxxxxxxxxxxxxxxxxxxxxxxxxxx"},1,{"$f":"IF(A114=\"\",\"\",VLOOKUP(RIGHT(A114,5)*1,'Data eshop'!D:W,17,FALSE))","v":{"$error":"#VALUE!"}},{"$f":"VLOOKUP(A114,Zakázky!A:B,2,FALSE)","v":{"$error":"#N/A"}},""]
["19ESh0",{"$f":"IFERROR(IF(ISNUMBER(L115),VLOOKUP(L115&\"-\"&M115,'Data eshop'!B:W,16,FALSE),IF(RIGHT(L115,1)=\"x\",VLOOKUP(VLOOKUP(RIGHT(A115,5)*1,'Data eshop'!D:N,11,FALSE),DATA!G:I,3,FALSE),IF(RIGHT(L115,1)=\"y\",IF(VLOOKUP(RIGHT(A115,5)*1,'Data eshop'!D:O,12,FALSE)=IF(O115=\"T7\",DATA!$D$2,IF(O115=\"E87\",DATA!$D$5,IF(O115=\"P2\",DATA!$D$6,IF(O115=\"e2695\",DATA!$D$7,\"\")))),IF(N115>=IF(O115=\"T7\",DATA!$K$11,IF(O115=\"E87\",DATA!$L$11,IF(O115=\"P2\",DATA!$M$11,IF(O115=\"e2695\",DATA!$N$11,\"\")))),\"uni008\",\"uni001\"),IF(VLOOKUP(RIGHT(A115,5)*1,'Data eshop'!D:O,12,FALSE)=DATA!$D$3,IF(O115=\"T7\",IF(N115>=500,\"uni009\",\"uni002\"),\"x\"),IF(VLOOKUP(RIGHT(A115,5)*1,'Data eshop'!D:O,12,FALSE)=DATA!$D$4,\"uni010\",\"\"))),\"\"))),\"\")","v":""},{"$f":"IFERROR(IF(A115=\"\",\"\",IF(LEFT(B115,3)=\"uni\",1,VLOOKUP(RIGHT(A115,5)&\"-\"&B115,'Data eshop'!A:R,18,FALSE))),\"\")","v":""},"",{"$f":"IFERROR(IF(A115=\"\",\"\",IF(LEFT(B115,3)=\"uni\",VLOOKUP(B115,DATA!I:X,IF(O115=\"T7\",3,IF(O115=\"E87\",4,IF(O115=\"P2\",5,IF(O115=\"E2695\",6,\"\")))),FALSE),VLOOKUP(RIGHT(A115,5)&\"-\"&B115,'Data eshop'!A:S,19,FALSE))),\"\")","v":""},{"$f":"IFERROR(IF(A115=\"\",\"\",IF(LEFT(B115,3)=\"uni\",0,VLOOKUP(RIGHT(A115,5)&\"-\"&B115,'Data eshop'!A:S,16,FALSE))),\"\")","v":""},null,"",{"$f":"IF(H115=\"\",\"\",WORKDAY(TODAY()+IF(VLOOKUP(VLOOKUP(RIGHT(A115,5)*1,'Data eshop'!D:N,11,FALSE),DATA!A:B,2,FALSE)=7,14,1),5))","v":""},"","",{"$f":"IF(L114=\"\",\"\",IF(L114=RIGHT(A114,5)&\"x\",LEFT(L114,LEN(L114)-1)&\"y\",IF(L114=RIGHT(A114,5)&\"y\",IFERROR(SMALL('Data eshop'!D:D,COUNTIF('Data eshop'!D:D,\"<\"&(LEFT(L114,LEN(L114)-1)*1))),\"\"),IF(ISERROR(IF(VLOOKUP(M114+1,'Data eshop'!C:D,2,FALSE)='Řádky zakázky'!L114,L114,L114&\"x\")),IF(RIGHT(L114,1)=\"y\",\"\",L114&\"x\"),IF(VLOOKUP(M114+1,'Data eshop'!C:D,2,FALSE)='Řádky zakázky'!L114,L114,L114&\"x\")))))","v":"0xxxxxxxxxxxxxxxxxxxxxxxxxxxxxxxxxxxxxxxxxxxxxxxxxxxxxxxxxxxxxxxxxxxxxxxxxxxxxxxxxxxxxxxxxxxxxxxxxxxxxxxxxxxxxxxxx"},1,{"$f":"IF(A115=\"\",\"\",VLOOKUP(RIGHT(A115,5)*1,'Data eshop'!D:W,17,FALSE))","v":{"$error":"#VALUE!"}},{"$f":"VLOOKUP(A115,Zakázky!A:B,2,FALSE)","v":{"$error":"#N/A"}},""]
["19ESh0",{"$f":"IFERROR(IF(ISNUMBER(L116),VLOOKUP(L116&\"-\"&M116,'Data eshop'!B:W,16,FALSE),IF(RIGHT(L116,1)=\"x\",VLOOKUP(VLOOKUP(RIGHT(A116,5)*1,'Data eshop'!D:N,11,FALSE),DATA!G:I,3,FALSE),IF(RIGHT(L116,1)=\"y\",IF(VLOOKUP(RIGHT(A116,5)*1,'Data eshop'!D:O,12,FALSE)=IF(O116=\"T7\",DATA!$D$2,IF(O116=\"E87\",DATA!$D$5,IF(O116=\"P2\",DATA!$D$6,IF(O116=\"e2695\",DATA!$D$7,\"\")))),IF(N116>=IF(O116=\"T7\",DATA!$K$11,IF(O116=\"E87\",DATA!$L$11,IF(O116=\"P2\",DATA!$M$11,IF(O116=\"e2695\",DATA!$N$11,\"\")))),\"uni008\",\"uni001\"),IF(VLOOKUP(RIGHT(A116,5)*1,'Data eshop'!D:O,12,FALSE)=DATA!$D$3,IF(O116=\"T7\",IF(N116>=500,\"uni009\",\"uni002\"),\"x\"),IF(VLOOKUP(RIGHT(A116,5)*1,'Data eshop'!D:O,12,FALSE)=DATA!$D$4,\"uni010\",\"\"))),\"\"))),\"\")","v":""},{"$f":"IFERROR(IF(A116=\"\",\"\",IF(LEFT(B116,3)=\"uni\",1,VLOOKUP(RIGHT(A116,5)&\"-\"&B116,'Data eshop'!A:R,18,FALSE))),\"\")","v":""},"",{"$f":"IFERROR(IF(A116=\"\",\"\",IF(LEFT(B116,3)=\"uni\",VLOOKUP(B116,DATA!I:X,IF(O116=\"T7\",3,IF(O116=\"E87\",4,IF(O116=\"P2\",5,IF(O116=\"E2695\",6,\"\")))),FALSE),VLOOKUP(RIGHT(A116,5)&\"-\"&B116,'Data eshop'!A:S,19,FALSE))),\"\")","v":""},{"$f":"IFERROR(IF(A116=\"\",\"\",IF(LEFT(B116,3)=\"uni\",0,VLOOKUP(RIGHT(A116,5)&\"-\"&B116,'Data eshop'!A:S,16,FALSE))),\"\")","v":""},null,"",{"$f":"IF(H116=\"\",\"\",WORKDAY(TODAY()+IF(VLOOKUP(VLOOKUP(RIGHT(A116,5)*1,'Data eshop'!D:N,11,FALSE),DATA!A:B,2,FALSE)=7,14,1),5))","v":""},"","",{"$f":"IF(L115=\"\",\"\",IF(L115=RIGHT(A115,5)&\"x\",LEFT(L115,LEN(L115)-1)&\"y\",IF(L115=RIGHT(A115,5)&\"y\",IFERROR(SMALL('Data eshop'!D:D,COUNTIF('Data eshop'!D:D,\"<\"&(LEFT(L115,LEN(L115)-1)*1))),\"\"),IF(ISERROR(IF(VLOOKUP(M115+1,'Data eshop'!C:D,2,FALSE)='Řádky zakázky'!L115,L115,L115&\"x\")),IF(RIGHT(L115,1)=\"y\",\"\",L115&\"x\"),IF(VLOOKUP(M115+1,'Data eshop'!C:D,2,FALSE)='Řádky zakázky'!L115,L115,L115&\"x\")))))","v":"0xxxxxxxxxxxxxxxxxxxxxxxxxxxxxxxxxxxxxxxxxxxxxxxxxxxxxxxxxxxxxxxxxxxxxxxxxxxxxxxxxxxxxxxxxxxxxxxxxxxxxxxxxxxxxxxxxx"},1,{"$f":"IF(A116=\"\",\"\",VLOOKUP(RIGHT(A116,5)*1,'Data eshop'!D:W,17,FALSE))","v":{"$error":"#VALUE!"}},{"$f":"VLOOKUP(A116,Zakázky!A:B,2,FALSE)","v":{"$error":"#N/A"}},"","Roluj nahoru, až uvidíš žlutou"]
["19ESh0",{"$f":"IFERROR(IF(ISNUMBER(L117),VLOOKUP(L117&\"-\"&M117,'Data eshop'!B:W,16,FALSE),IF(RIGHT(L117,1)=\"x\",VLOOKUP(VLOOKUP(RIGHT(A117,5)*1,'Data eshop'!D:N,11,FALSE),DATA!G:I,3,FALSE),IF(RIGHT(L117,1)=\"y\",IF(VLOOKUP(RIGHT(A117,5)*1,'Data eshop'!D:O,12,FALSE)=IF(O117=\"T7\",DATA!$D$2,IF(O117=\"E87\",DATA!$D$5,IF(O117=\"P2\",DATA!$D$6,IF(O117=\"e2695\",DATA!$D$7,\"\")))),IF(N117>=IF(O117=\"T7\",DATA!$K$11,IF(O117=\"E87\",DATA!$L$11,IF(O117=\"P2\",DATA!$M$11,IF(O117=\"e2695\",DATA!$N$11,\"\")))),\"uni008\",\"uni001\"),IF(VLOOKUP(RIGHT(A117,5)*1,'Data eshop'!D:O,12,FALSE)=DATA!$D$3,IF(O117=\"T7\",IF(N117>=500,\"uni009\",\"uni002\"),\"x\"),IF(VLOOKUP(RIGHT(A117,5)*1,'Data eshop'!D:O,12,FALSE)=DATA!$D$4,\"uni010\",\"\"))),\"\"))),\"\")","v":""},{"$f":"IFERROR(IF(A117=\"\",\"\",IF(LEFT(B117,3)=\"uni\",1,VLOOKUP(RIGHT(A117,5)&\"-\"&B117,'Data eshop'!A:R,18,FALSE))),\"\")","v":""},"",{"$f":"IFERROR(IF(A117=\"\",\"\",IF(LEFT(B117,3)=\"uni\",VLOOKUP(B117,DATA!I:X,IF(O117=\"T7\",3,IF(O117=\"E87\",4,IF(O117=\"P2\",5,IF(O117=\"E2695\",6,\"\")))),FALSE),VLOOKUP(RIGHT(A117,5)&\"-\"&B117,'Data eshop'!A:S,19,FALSE))),\"\")","v":""},{"$f":"IFERROR(IF(A117=\"\",\"\",IF(LEFT(B117,3)=\"uni\",0,VLOOKUP(RIGHT(A117,5)&\"-\"&B117,'Data eshop'!A:S,16,FALSE))),\"\")","v":""},null,"",{"$f":"IF(H117=\"\",\"\",WORKDAY(TODAY()+IF(VLOOKUP(VLOOKUP(RIGHT(A117,5)*1,'Data eshop'!D:N,11,FALSE),DATA!A:B,2,FALSE)=7,14,1),5))","v":""},"","",{"$f":"IF(L116=\"\",\"\",IF(L116=RIGHT(A116,5)&\"x\",LEFT(L116,LEN(L116)-1)&\"y\",IF(L116=RIGHT(A116,5)&\"y\",IFERROR(SMALL('Data eshop'!D:D,COUNTIF('Data eshop'!D:D,\"<\"&(LEFT(L116,LEN(L116)-1)*1))),\"\"),IF(ISERROR(IF(VLOOKUP(M116+1,'Data eshop'!C:D,2,FALSE)='Řádky zakázky'!L116,L116,L116&\"x\")),IF(RIGHT(L116,1)=\"y\",\"\",L116&\"x\"),IF(VLOOKUP(M116+1,'Data eshop'!C:D,2,FALSE)='Řádky zakázky'!L116,L116,L116&\"x\")))))","v":"0xxxxxxxxxxxxxxxxxxxxxxxxxxxxxxxxxxxxxxxxxxxxxxxxxxxxxxxxxxxxxxxxxxxxxxxxxxxxxxxxxxxxxxxxxxxxxxxxxxxxxxxxxxxxxxxxxxx"},1,{"$f":"IF(A117=\"\",\"\",VLOOKUP(RIGHT(A117,5)*1,'Data eshop'!D:W,17,FALSE))","v":{"$error":"#VALUE!"}},{"$f":"VLOOKUP(A117,Zakázky!A:B,2,FALSE)","v":{"$error":"#N/A"}},""]
["19ESh0",{"$f":"IFERROR(IF(ISNUMBER(L118),VLOOKUP(L118&\"-\"&M118,'Data eshop'!B:W,16,FALSE),IF(RIGHT(L118,1)=\"x\",VLOOKUP(VLOOKUP(RIGHT(A118,5)*1,'Data eshop'!D:N,11,FALSE),DATA!G:I,3,FALSE),IF(RIGHT(L118,1)=\"y\",IF(VLOOKUP(RIGHT(A118,5)*1,'Data eshop'!D:O,12,FALSE)=IF(O118=\"T7\",DATA!$D$2,IF(O118=\"E87\",DATA!$D$5,IF(O118=\"P2\",DATA!$D$6,IF(O118=\"e2695\",DATA!$D$7,\"\")))),IF(N118>=IF(O118=\"T7\",DATA!$K$11,IF(O118=\"E87\",DATA!$L$11,IF(O118=\"P2\",DATA!$M$11,IF(O118=\"e2695\",DATA!$N$11,\"\")))),\"uni008\",\"uni001\"),IF(VLOOKUP(RIGHT(A118,5)*1,'Data eshop'!D:O,12,FALSE)=DATA!$D$3,IF(O118=\"T7\",IF(N118>=500,\"uni009\",\"uni002\"),\"x\"),IF(VLOOKUP(RIGHT(A118,5)*1,'Data eshop'!D:O,12,FALSE)=DATA!$D$4,\"uni010\",\"\"))),\"\"))),\"\")","v":""},{"$f":"IFERROR(IF(A118=\"\",\"\",IF(LEFT(B118,3)=\"uni\",1,VLOOKUP(RIGHT(A118,5)&\"-\"&B118,'Data eshop'!A:R,18,FALSE))),\"\")","v":""},"",{"$f":"IFERROR(IF(A118=\"\",\"\",IF(LEFT(B118,3)=\"uni\",VLOOKUP(B118,DATA!I:X,IF(O118=\"T7\",3,IF(O118=\"E87\",4,IF(O118=\"P2\",5,IF(O118=\"E2695\",6,\"\")))),FALSE),VLOOKUP(RIGHT(A118,5)&\"-\"&B118,'Data eshop'!A:S,19,FALSE))),\"\")","v":""},{"$f":"IFERROR(IF(A118=\"\",\"\",IF(LEFT(B118,3)=\"uni\",0,VLOOKUP(RIGHT(A118,5)&\"-\"&B118,'Data eshop'!A:S,16,FALSE))),\"\")","v":""},null,"",{"$f":"IF(H118=\"\",\"\",WORKDAY(TODAY()+IF(VLOOKUP(VLOOKUP(RIGHT(A118,5)*1,'Data eshop'!D:N,11,FALSE),DATA!A:B,2,FALSE)=7,14,1),5))","v":""},"","",{"$f":"IF(L117=\"\",\"\",IF(L117=RIGHT(A117,5)&\"x\",LEFT(L117,LEN(L117)-1)&\"y\",IF(L117=RIGHT(A117,5)&\"y\",IFERROR(SMALL('Data eshop'!D:D,COUNTIF('Data eshop'!D:D,\"<\"&(LEFT(L117,LEN(L117)-1)*1))),\"\"),IF(ISERROR(IF(VLOOKUP(M117+1,'Data eshop'!C:D,2,FALSE)='Řádky zakázky'!L117,L117,L117&\"x\")),IF(RIGHT(L117,1)=\"y\",\"\",L117&\"x\"),IF(VLOOKUP(M117+1,'Data eshop'!C:D,2,FALSE)='Řádky zakázky'!L117,L117,L117&\"x\")))))","v":"0xxxxxxxxxxxxxxxxxxxxxxxxxxxxxxxxxxxxxxxxxxxxxxxxxxxxxxxxxxxxxxxxxxxxxxxxxxxxxxxxxxxxxxxxxxxxxxxxxxxxxxxxxxxxxxxxxxxx"},1,{"$f":"IF(A118=\"\",\"\",VLOOKUP(RIGHT(A118,5)*1,'Data eshop'!D:W,17,FALSE))","v":{"$error":"#VALUE!"}},{"$f":"VLOOKUP(A118,Zakázky!A:B,2,FALSE)","v":{"$error":"#N/A"}},""]
["19ESh0",{"$f":"IFERROR(IF(ISNUMBER(L119),VLOOKUP(L119&\"-\"&M119,'Data eshop'!B:W,16,FALSE),IF(RIGHT(L119,1)=\"x\",VLOOKUP(VLOOKUP(RIGHT(A119,5)*1,'Data eshop'!D:N,11,FALSE),DATA!G:I,3,FALSE),IF(RIGHT(L119,1)=\"y\",IF(VLOOKUP(RIGHT(A119,5)*1,'Data eshop'!D:O,12,FALSE)=IF(O119=\"T7\",DATA!$D$2,IF(O119=\"E87\",DATA!$D$5,IF(O119=\"P2\",DATA!$D$6,IF(O119=\"e2695\",DATA!$D$7,\"\")))),IF(N119>=IF(O119=\"T7\",DATA!$K$11,IF(O119=\"E87\",DATA!$L$11,IF(O119=\"P2\",DATA!$M$11,IF(O119=\"e2695\",DATA!$N$11,\"\")))),\"uni008\",\"uni001\"),IF(VLOOKUP(RIGHT(A119,5)*1,'Data eshop'!D:O,12,FALSE)=DATA!$D$3,IF(O119=\"T7\",IF(N119>=500,\"uni009\",\"uni002\"),\"x\"),IF(VLOOKUP(RIGHT(A119,5)*1,'Data eshop'!D:O,12,FALSE)=DATA!$D$4,\"uni010\",\"\"))),\"\"))),\"\")","v":""},{"$f":"IFERROR(IF(A119=\"\",\"\",IF(LEFT(B119,3)=\"uni\",1,VLOOKUP(RIGHT(A119,5)&\"-\"&B119,'Data eshop'!A:R,18,FALSE))),\"\")","v":""},"",{"$f":"IFERROR(IF(A119=\"\",\"\",IF(LEFT(B119,3)=\"uni\",VLOOKUP(B119,DATA!I:X,IF(O119=\"T7\",3,IF(O119=\"E87\",4,IF(O119=\"P2\",5,IF(O119=\"E2695\",6,\"\")))),FALSE),VLOOKUP(RIGHT(A119,5)&\"-\"&B119,'Data eshop'!A:S,19,FALSE))),\"\")","v":""},{"$f":"IFERROR(IF(A119=\"\",\"\",IF(LEFT(B119,3)=\"uni\",0,VLOOKUP(RIGHT(A119,5)&\"-\"&B119,'Data eshop'!A:S,16,FALSE))),\"\")","v":""},null,"",{"$f":"IF(H119=\"\",\"\",WORKDAY(TODAY()+IF(VLOOKUP(VLOOKUP(RIGHT(A119,5)*1,'Data eshop'!D:N,11,FALSE),DATA!A:B,2,FALSE)=7,14,1),5))","v":""},"","",{"$f":"IF(L118=\"\",\"\",IF(L118=RIGHT(A118,5)&\"x\",LEFT(L118,LEN(L118)-1)&\"y\",IF(L118=RIGHT(A118,5)&\"y\",IFERROR(SMALL('Data eshop'!D:D,COUNTIF('Data eshop'!D:D,\"<\"&(LEFT(L118,LEN(L118)-1)*1))),\"\"),IF(ISERROR(IF(VLOOKUP(M118+1,'Data eshop'!C:D,2,FALSE)='Řádky zakázky'!L118,L118,L118&\"x\")),IF(RIGHT(L118,1)=\"y\",\"\",L118&\"x\"),IF(VLOOKUP(M118+1,'Data eshop'!C:D,2,FALSE)='Řádky zakázky'!L118,L118,L118&\"x\")))))","v":"0xxxxxxxxxxxxxxxxxxxxxxxxxxxxxxxxxxxxxxxxxxxxxxxxxxxxxxxxxxxxxxxxxxxxxxxxxxxxxxxxxxxxxxxxxxxxxxxxxxxxxxxxxxxxxxxxxxxxx"},1,{"$f":"IF(A119=\"\",\"\",VLOOKUP(RIGHT(A119,5)*1,'Data eshop'!D:W,17,FALSE))","v":{"$error":"#VALUE!"}},{"$f":"VLOOKUP(A119,Zakázky!A:B,2,FALSE)","v":{"$error":"#N/A"}},""]
["19ESh0",{"$f":"IFERROR(IF(ISNUMBER(L120),VLOOKUP(L120&\"-\"&M120,'Data eshop'!B:W,16,FALSE),IF(RIGHT(L120,1)=\"x\",VLOOKUP(VLOOKUP(RIGHT(A120,5)*1,'Data eshop'!D:N,11,FALSE),DATA!G:I,3,FALSE),IF(RIGHT(L120,1)=\"y\",IF(VLOOKUP(RIGHT(A120,5)*1,'Data eshop'!D:O,12,FALSE)=IF(O120=\"T7\",DATA!$D$2,IF(O120=\"E87\",DATA!$D$5,IF(O120=\"P2\",DATA!$D$6,IF(O120=\"e2695\",DATA!$D$7,\"\")))),IF(N120>=IF(O120=\"T7\",DATA!$K$11,IF(O120=\"E87\",DATA!$L$11,IF(O120=\"P2\",DATA!$M$11,IF(O120=\"e2695\",DATA!$N$11,\"\")))),\"uni008\",\"uni001\"),IF(VLOOKUP(RIGHT(A120,5)*1,'Data eshop'!D:O,12,FALSE)=DATA!$D$3,IF(O120=\"T7\",IF(N120>=500,\"uni009\",\"uni002\"),\"x\"),IF(VLOOKUP(RIGHT(A120,5)*1,'Data eshop'!D:O,12,FALSE)=DATA!$D$4,\"uni010\",\"\"))),\"\"))),\"\")","v":""},{"$f":"IFERROR(IF(A120=\"\",\"\",IF(LEFT(B120,3)=\"uni\",1,VLOOKUP(RIGHT(A120,5)&\"-\"&B120,'Data eshop'!A:R,18,FALSE))),\"\")","v":""},"",{"$f":"IFERROR(IF(A120=\"\",\"\",IF(LEFT(B120,3)=\"uni\",VLOOKUP(B120,DATA!I:X,IF(O120=\"T7\",3,IF(O120=\"E87\",4,IF(O120=\"P2\",5,IF(O120=\"E2695\",6,\"\")))),FALSE),VLOOKUP(RIGHT(A120,5)&\"-\"&B120,'Data eshop'!A:S,19,FALSE))),\"\")","v":""},{"$f":"IFERROR(IF(A120=\"\",\"\",IF(LEFT(B120,3)=\"uni\",0,VLOOKUP(RIGHT(A120,5)&\"-\"&B120,'Data eshop'!A:S,16,FALSE))),\"\")","v":""},null,"",{"$f":"IF(H120=\"\",\"\",WORKDAY(TODAY()+IF(VLOOKUP(VLOOKUP(RIGHT(A120,5)*1,'Data eshop'!D:N,11,FALSE),DATA!A:B,2,FALSE)=7,14,1),5))","v":""},"","",{"$f":"IF(L119=\"\",\"\",IF(L119=RIGHT(A119,5)&\"x\",LEFT(L119,LEN(L119)-1)&\"y\",IF(L119=RIGHT(A119,5)&\"y\",IFERROR(SMALL('Data eshop'!D:D,COUNTIF('Data eshop'!D:D,\"<\"&(LEFT(L119,LEN(L119)-1)*1))),\"\"),IF(ISERROR(IF(VLOOKUP(M119+1,'Data eshop'!C:D,2,FALSE)='Řádky zakázky'!L119,L119,L119&\"x\")),IF(RIGHT(L119,1)=\"y\",\"\",L119&\"x\"),IF(VLOOKUP(M119+1,'Data eshop'!C:D,2,FALSE)='Řádky zakázky'!L119,L119,L119&\"x\")))))","v":"0xxxxxxxxxxxxxxxxxxxxxxxxxxxxxxxxxxxxxxxxxxxxxxxxxxxxxxxxxxxxxxxxxxxxxxxxxxxxxxxxxxxxxxxxxxxxxxxxxxxxxxxxxxxxxxxxxxxxxx"},1,{"$f":"IF(A120=\"\",\"\",VLOOKUP(RIGHT(A120,5)*1,'Data eshop'!D:W,17,FALSE))","v":{"$error":"#VALUE!"}},{"$f":"VLOOKUP(A120,Zakázky!A:B,2,FALSE)","v":{"$error":"#N/A"}},"","Roluj nahoru, až uvidíš žlutou"]
["19ESh0",{"$f":"IFERROR(IF(ISNUMBER(L121),VLOOKUP(L121&\"-\"&M121,'Data eshop'!B:W,16,FALSE),IF(RIGHT(L121,1)=\"x\",VLOOKUP(VLOOKUP(RIGHT(A121,5)*1,'Data eshop'!D:N,11,FALSE),DATA!G:I,3,FALSE),IF(RIGHT(L121,1)=\"y\",IF(VLOOKUP(RIGHT(A121,5)*1,'Data eshop'!D:O,12,FALSE)=IF(O121=\"T7\",DATA!$D$2,IF(O121=\"E87\",DATA!$D$5,IF(O121=\"P2\",DATA!$D$6,IF(O121=\"e2695\",DATA!$D$7,\"\")))),IF(N121>=IF(O121=\"T7\",DATA!$K$11,IF(O121=\"E87\",DATA!$L$11,IF(O121=\"P2\",DATA!$M$11,IF(O121=\"e2695\",DATA!$N$11,\"\")))),\"uni008\",\"uni001\"),IF(VLOOKUP(RIGHT(A121,5)*1,'Data eshop'!D:O,12,FALSE)=DATA!$D$3,IF(O121=\"T7\",IF(N121>=500,\"uni009\",\"uni002\"),\"x\"),IF(VLOOKUP(RIGHT(A121,5)*1,'Data eshop'!D:O,12,FALSE)=DATA!$D$4,\"uni010\",\"\"))),\"\"))),\"\")","v":""},{"$f":"IFERROR(IF(A121=\"\",\"\",IF(LEFT(B121,3)=\"uni\",1,VLOOKUP(RIGHT(A121,5)&\"-\"&B121,'Data eshop'!A:R,18,FALSE))),\"\")","v":""},"",{"$f":"IFERROR(IF(A121=\"\",\"\",IF(LEFT(B121,3)=\"uni\",VLOOKUP(B121,DATA!I:X,IF(O121=\"T7\",3,IF(O121=\"E87\",4,IF(O121=\"P2\",5,IF(O121=\"E2695\",6,\"\")))),FALSE),VLOOKUP(RIGHT(A121,5)&\"-\"&B121,'Data eshop'!A:S,19,FALSE))),\"\")","v":""},{"$f":"IFERROR(IF(A121=\"\",\"\",IF(LEFT(B121,3)=\"uni\",0,VLOOKUP(RIGHT(A121,5)&\"-\"&B121,'Data eshop'!A:S,16,FALSE))),\"\")","v":""},null,"",{"$f":"IF(H121=\"\",\"\",WORKDAY(TODAY()+IF(VLOOKUP(VLOOKUP(RIGHT(A121,5)*1,'Data eshop'!D:N,11,FALSE),DATA!A:B,2,FALSE)=7,14,1),5))","v":""},"","",{"$f":"IF(L120=\"\",\"\",IF(L120=RIGHT(A120,5)&\"x\",LEFT(L120,LEN(L120)-1)&\"y\",IF(L120=RIGHT(A120,5)&\"y\",IFERROR(SMALL('Data eshop'!D:D,COUNTIF('Data eshop'!D:D,\"<\"&(LEFT(L120,LEN(L120)-1)*1))),\"\"),IF(ISERROR(IF(VLOOKUP(M120+1,'Data eshop'!C:D,2,FALSE)='Řádky zakázky'!L120,L120,L120&\"x\")),IF(RIGHT(L120,1)=\"y\",\"\",L120&\"x\"),IF(VLOOKUP(M120+1,'Data eshop'!C:D,2,FALSE)='Řádky zakázky'!L120,L120,L120&\"x\")))))","v":"0xxxxxxxxxxxxxxxxxxxxxxxxxxxxxxxxxxxxxxxxxxxxxxxxxxxxxxxxxxxxxxxxxxxxxxxxxxxxxxxxxxxxxxxxxxxxxxxxxxxxxxxxxxxxxxxxxxxxxxx"},1,{"$f":"IF(A121=\"\",\"\",VLOOKUP(RIGHT(A121,5)*1,'Data eshop'!D:W,17,FALSE))","v":{"$error":"#VALUE!"}},{"$f":"VLOOKUP(A121,Zakázky!A:B,2,FALSE)","v":{"$error":"#N/A"}},""]
["19ESh0",{"$f":"IFERROR(IF(ISNUMBER(L122),VLOOKUP(L122&\"-\"&M122,'Data eshop'!B:W,16,FALSE),IF(RIGHT(L122,1)=\"x\",VLOOKUP(VLOOKUP(RIGHT(A122,5)*1,'Data eshop'!D:N,11,FALSE),DATA!G:I,3,FALSE),IF(RIGHT(L122,1)=\"y\",IF(VLOOKUP(RIGHT(A122,5)*1,'Data eshop'!D:O,12,FALSE)=IF(O122=\"T7\",DATA!$D$2,IF(O122=\"E87\",DATA!$D$5,IF(O122=\"P2\",DATA!$D$6,IF(O122=\"e2695\",DATA!$D$7,\"\")))),IF(N122>=IF(O122=\"T7\",DATA!$K$11,IF(O122=\"E87\",DATA!$L$11,IF(O122=\"P2\",DATA!$M$11,IF(O122=\"e2695\",DATA!$N$11,\"\")))),\"uni008\",\"uni001\"),IF(VLOOKUP(RIGHT(A122,5)*1,'Data eshop'!D:O,12,FALSE)=DATA!$D$3,IF(O122=\"T7\",IF(N122>=500,\"uni009\",\"uni002\"),\"x\"),IF(VLOOKUP(RIGHT(A122,5)*1,'Data eshop'!D:O,12,FALSE)=DATA!$D$4,\"uni010\",\"\"))),\"\"))),\"\")","v":""},{"$f":"IFERROR(IF(A122=\"\",\"\",IF(LEFT(B122,3)=\"uni\",1,VLOOKUP(RIGHT(A122,5)&\"-\"&B122,'Data eshop'!A:R,18,FALSE))),\"\")","v":""},"",{"$f":"IFERROR(IF(A122=\"\",\"\",IF(LEFT(B122,3)=\"uni\",VLOOKUP(B122,DATA!I:X,IF(O122=\"T7\",3,IF(O122=\"E87\",4,IF(O122=\"P2\",5,IF(O122=\"E2695\",6,\"\")))),FALSE),VLOOKUP(RIGHT(A122,5)&\"-\"&B122,'Data eshop'!A:S,19,FALSE))),\"\")","v":""},{"$f":"IFERROR(IF(A122=\"\",\"\",IF(LEFT(B122,3)=\"uni\",0,VLOOKUP(RIGHT(A122,5)&\"-\"&B122,'Data eshop'!A:S,16,FALSE))),\"\")","v":""},null,"",{"$f":"IF(H122=\"\",\"\",WORKDAY(TODAY()+IF(VLOOKUP(VLOOKUP(RIGHT(A122,5)*1,'Data eshop'!D:N,11,FALSE),DATA!A:B,2,FALSE)=7,14,1),5))","v":""},"","",{"$f":"IF(L121=\"\",\"\",IF(L121=RIGHT(A121,5)&\"x\",LEFT(L121,LEN(L121)-1)&\"y\",IF(L121=RIGHT(A121,5)&\"y\",IFERROR(SMALL('Data eshop'!D:D,COUNTIF('Data eshop'!D:D,\"<\"&(LEFT(L121,LEN(L121)-1)*1))),\"\"),IF(ISERROR(IF(VLOOKUP(M121+1,'Data eshop'!C:D,2,FALSE)='Řádky zakázky'!L121,L121,L121&\"x\")),IF(RIGHT(L121,1)=\"y\",\"\",L121&\"x\"),IF(VLOOKUP(M121+1,'Data eshop'!C:D,2,FALSE)='Řádky zakázky'!L121,L121,L121&\"x\")))))","v":"0xxxxxxxxxxxxxxxxxxxxxxxxxxxxxxxxxxxxxxxxxxxxxxxxxxxxxxxxxxxxxxxxxxxxxxxxxxxxxxxxxxxxxxxxxxxxxxxxxxxxxxxxxxxxxxxxxxxxxxxx"},1,{"$f":"IF(A122=\"\",\"\",VLOOKUP(RIGHT(A122,5)*1,'Data eshop'!D:W,17,FALSE))","v":{"$error":"#VALUE!"}},{"$f":"VLOOKUP(A122,Zakázky!A:B,2,FALSE)","v":{"$error":"#N/A"}},""]
["19ESh0",{"$f":"IFERROR(IF(ISNUMBER(L123),VLOOKUP(L123&\"-\"&M123,'Data eshop'!B:W,16,FALSE),IF(RIGHT(L123,1)=\"x\",VLOOKUP(VLOOKUP(RIGHT(A123,5)*1,'Data eshop'!D:N,11,FALSE),DATA!G:I,3,FALSE),IF(RIGHT(L123,1)=\"y\",IF(VLOOKUP(RIGHT(A123,5)*1,'Data eshop'!D:O,12,FALSE)=IF(O123=\"T7\",DATA!$D$2,IF(O123=\"E87\",DATA!$D$5,IF(O123=\"P2\",DATA!$D$6,IF(O123=\"e2695\",DATA!$D$7,\"\")))),IF(N123>=IF(O123=\"T7\",DATA!$K$11,IF(O123=\"E87\",DATA!$L$11,IF(O123=\"P2\",DATA!$M$11,IF(O123=\"e2695\",DATA!$N$11,\"\")))),\"uni008\",\"uni001\"),IF(VLOOKUP(RIGHT(A123,5)*1,'Data eshop'!D:O,12,FALSE)=DATA!$D$3,IF(O123=\"T7\",IF(N123>=500,\"uni009\",\"uni002\"),\"x\"),IF(VLOOKUP(RIGHT(A123,5)*1,'Data eshop'!D:O,12,FALSE)=DATA!$D$4,\"uni010\",\"\"))),\"\"))),\"\")","v":""},{"$f":"IFERROR(IF(A123=\"\",\"\",IF(LEFT(B123,3)=\"uni\",1,VLOOKUP(RIGHT(A123,5)&\"-\"&B123,'Data eshop'!A:R,18,FALSE))),\"\")","v":""},"",{"$f":"IFERROR(IF(A123=\"\",\"\",IF(LEFT(B123,3)=\"uni\",VLOOKUP(B123,DATA!I:X,IF(O123=\"T7\",3,IF(O123=\"E87\",4,IF(O123=\"P2\",5,IF(O123=\"E2695\",6,\"\")))),FALSE),VLOOKUP(RIGHT(A123,5)&\"-\"&B123,'Data eshop'!A:S,19,FALSE))),\"\")","v":""},{"$f":"IFERROR(IF(A123=\"\",\"\",IF(LEFT(B123,3)=\"uni\",0,VLOOKUP(RIGHT(A123,5)&\"-\"&B123,'Data eshop'!A:S,16,FALSE))),\"\")","v":""},null,"",{"$f":"IF(H123=\"\",\"\",WORKDAY(TODAY()+IF(VLOOKUP(VLOOKUP(RIGHT(A123,5)*1,'Data eshop'!D:N,11,FALSE),DATA!A:B,2,FALSE)=7,14,1),5))","v":""},"","",{"$f":"IF(L122=\"\",\"\",IF(L122=RIGHT(A122,5)&\"x\",LEFT(L122,LEN(L122)-1)&\"y\",IF(L122=RIGHT(A122,5)&\"y\",IFERROR(SMALL('Data eshop'!D:D,COUNTIF('Data eshop'!D:D,\"<\"&(LEFT(L122,LEN(L122)-1)*1))),\"\"),IF(ISERROR(IF(VLOOKUP(M122+1,'Data eshop'!C:D,2,FALSE)='Řádky zakázky'!L122,L122,L122&\"x\")),IF(RIGHT(L122,1)=\"y\",\"\",L122&\"x\"),IF(VLOOKUP(M122+1,'Data eshop'!C:D,2,FALSE)='Řádky zakázky'!L122,L122,L122&\"x\")))))","v":"0xxxxxxxxxxxxxxxxxxxxxxxxxxxxxxxxxxxxxxxxxxxxxxxxxxxxxxxxxxxxxxxxxxxxxxxxxxxxxxxxxxxxxxxxxxxxxxxxxxxxxxxxxxxxxxxxxxxxxxxxx"},1,{"$f":"IF(A123=\"\",\"\",VLOOKUP(RIGHT(A123,5)*1,'Data eshop'!D:W,17,FALSE))","v":{"$error":"#VALUE!"}},{"$f":"VLOOKUP(A123,Zakázky!A:B,2,FALSE)","v":{"$error":"#N/A"}},""]
["19ESh0",{"$f":"IFERROR(IF(ISNUMBER(L124),VLOOKUP(L124&\"-\"&M124,'Data eshop'!B:W,16,FALSE),IF(RIGHT(L124,1)=\"x\",VLOOKUP(VLOOKUP(RIGHT(A124,5)*1,'Data eshop'!D:N,11,FALSE),DATA!G:I,3,FALSE),IF(RIGHT(L124,1)=\"y\",IF(VLOOKUP(RIGHT(A124,5)*1,'Data eshop'!D:O,12,FALSE)=IF(O124=\"T7\",DATA!$D$2,IF(O124=\"E87\",DATA!$D$5,IF(O124=\"P2\",DATA!$D$6,IF(O124=\"e2695\",DATA!$D$7,\"\")))),IF(N124>=IF(O124=\"T7\",DATA!$K$11,IF(O124=\"E87\",DATA!$L$11,IF(O124=\"P2\",DATA!$M$11,IF(O124=\"e2695\",DATA!$N$11,\"\")))),\"uni008\",\"uni001\"),IF(VLOOKUP(RIGHT(A124,5)*1,'Data eshop'!D:O,12,FALSE)=DATA!$D$3,IF(O124=\"T7\",IF(N124>=500,\"uni009\",\"uni002\"),\"x\"),IF(VLOOKUP(RIGHT(A124,5)*1,'Data eshop'!D:O,12,FALSE)=DATA!$D$4,\"uni010\",\"\"))),\"\"))),\"\")","v":""},{"$f":"IFERROR(IF(A124=\"\",\"\",IF(LEFT(B124,3)=\"uni\",1,VLOOKUP(RIGHT(A124,5)&\"-\"&B124,'Data eshop'!A:R,18,FALSE))),\"\")","v":""},"",{"$f":"IFERROR(IF(A124=\"\",\"\",IF(LEFT(B124,3)=\"uni\",VLOOKUP(B124,DATA!I:X,IF(O124=\"T7\",3,IF(O124=\"E87\",4,IF(O124=\"P2\",5,IF(O124=\"E2695\",6,\"\")))),FALSE),VLOOKUP(RIGHT(A124,5)&\"-\"&B124,'Data eshop'!A:S,19,FALSE))),\"\")","v":""},{"$f":"IFERROR(IF(A124=\"\",\"\",IF(LEFT(B124,3)=\"uni\",0,VLOOKUP(RIGHT(A124,5)&\"-\"&B124,'Data eshop'!A:S,16,FALSE))),\"\")","v":""},null,"",{"$f":"IF(H124=\"\",\"\",WORKDAY(TODAY()+IF(VLOOKUP(VLOOKUP(RIGHT(A124,5)*1,'Data eshop'!D:N,11,FALSE),DATA!A:B,2,FALSE)=7,14,1),5))","v":""},"","",{"$f":"IF(L123=\"\",\"\",IF(L123=RIGHT(A123,5)&\"x\",LEFT(L123,LEN(L123)-1)&\"y\",IF(L123=RIGHT(A123,5)&\"y\",IFERROR(SMALL('Data eshop'!D:D,COUNTIF('Data eshop'!D:D,\"<\"&(LEFT(L123,LEN(L123)-1)*1))),\"\"),IF(ISERROR(IF(VLOOKUP(M123+1,'Data eshop'!C:D,2,FALSE)='Řádky zakázky'!L123,L123,L123&\"x\")),IF(RIGHT(L123,1)=\"y\",\"\",L123&\"x\"),IF(VLOOKUP(M123+1,'Data eshop'!C:D,2,FALSE)='Řádky zakázky'!L123,L123,L123&\"x\")))))","v":"0xxxxxxxxxxxxxxxxxxxxxxxxxxxxxxxxxxxxxxxxxxxxxxxxxxxxxxxxxxxxxxxxxxxxxxxxxxxxxxxxxxxxxxxxxxxxxxxxxxxxxxxxxxxxxxxxxxxxxxxxxx"},1,{"$f":"IF(A124=\"\",\"\",VLOOKUP(RIGHT(A124,5)*1,'Data eshop'!D:W,17,FALSE))","v":{"$error":"#VALUE!"}},{"$f":"VLOOKUP(A124,Zakázky!A:B,2,FALSE)","v":{"$error":"#N/A"}},"","Roluj nahoru, až uvidíš žlutou"]
["19ESh0",{"$f":"IFERROR(IF(ISNUMBER(L125),VLOOKUP(L125&\"-\"&M125,'Data eshop'!B:W,16,FALSE),IF(RIGHT(L125,1)=\"x\",VLOOKUP(VLOOKUP(RIGHT(A125,5)*1,'Data eshop'!D:N,11,FALSE),DATA!G:I,3,FALSE),IF(RIGHT(L125,1)=\"y\",IF(VLOOKUP(RIGHT(A125,5)*1,'Data eshop'!D:O,12,FALSE)=IF(O125=\"T7\",DATA!$D$2,IF(O125=\"E87\",DATA!$D$5,IF(O125=\"P2\",DATA!$D$6,IF(O125=\"e2695\",DATA!$D$7,\"\")))),IF(N125>=IF(O125=\"T7\",DATA!$K$11,IF(O125=\"E87\",DATA!$L$11,IF(O125=\"P2\",DATA!$M$11,IF(O125=\"e2695\",DATA!$N$11,\"\")))),\"uni008\",\"uni001\"),IF(VLOOKUP(RIGHT(A125,5)*1,'Data eshop'!D:O,12,FALSE)=DATA!$D$3,IF(O125=\"T7\",IF(N125>=500,\"uni009\",\"uni002\"),\"x\"),IF(VLOOKUP(RIGHT(A125,5)*1,'Data eshop'!D:O,12,FALSE)=DATA!$D$4,\"uni010\",\"\"))),\"\"))),\"\")","v":""},{"$f":"IFERROR(IF(A125=\"\",\"\",IF(LEFT(B125,3)=\"uni\",1,VLOOKUP(RIGHT(A125,5)&\"-\"&B125,'Data eshop'!A:R,18,FALSE))),\"\")","v":""},"",{"$f":"IFERROR(IF(A125=\"\",\"\",IF(LEFT(B125,3)=\"uni\",VLOOKUP(B125,DATA!I:X,IF(O125=\"T7\",3,IF(O125=\"E87\",4,IF(O125=\"P2\",5,IF(O125=\"E2695\",6,\"\")))),FALSE),VLOOKUP(RIGHT(A125,5)&\"-\"&B125,'Data eshop'!A:S,19,FALSE))),\"\")","v":""},{"$f":"IFERROR(IF(A125=\"\",\"\",IF(LEFT(B125,3)=\"uni\",0,VLOOKUP(RIGHT(A125,5)&\"-\"&B125,'Data eshop'!A:S,16,FALSE))),\"\")","v":""},null,"",{"$f":"IF(H125=\"\",\"\",WORKDAY(TODAY()+IF(VLOOKUP(VLOOKUP(RIGHT(A125,5)*1,'Data eshop'!D:N,11,FALSE),DATA!A:B,2,FALSE)=7,14,1),5))","v":""},"","",{"$f":"IF(L124=\"\",\"\",IF(L124=RIGHT(A124,5)&\"x\",LEFT(L124,LEN(L124)-1)&\"y\",IF(L124=RIGHT(A124,5)&\"y\",IFERROR(SMALL('Data eshop'!D:D,COUNTIF('Data eshop'!D:D,\"<\"&(LEFT(L124,LEN(L124)-1)*1))),\"\"),IF(ISERROR(IF(VLOOKUP(M124+1,'Data eshop'!C:D,2,FALSE)='Řádky zakázky'!L124,L124,L124&\"x\")),IF(RIGHT(L124,1)=\"y\",\"\",L124&\"x\"),IF(VLOOKUP(M124+1,'Data eshop'!C:D,2,FALSE)='Řádky zakázky'!L124,L124,L124&\"x\")))))","v":"0xxxxxxxxxxxxxxxxxxxxxxxxxxxxxxxxxxxxxxxxxxxxxxxxxxxxxxxxxxxxxxxxxxxxxxxxxxxxxxxxxxxxxxxxxxxxxxxxxxxxxxxxxxxxxxxxxxxxxxxxxxx"},1,{"$f":"IF(A125=\"\",\"\",VLOOKUP(RIGHT(A125,5)*1,'Data eshop'!D:W,17,FALSE))","v":{"$error":"#VALUE!"}},{"$f":"VLOOKUP(A125,Zakázky!A:B,2,FALSE)","v":{"$error":"#N/A"}},""]
["19ESh0",{"$f":"IFERROR(IF(ISNUMBER(L126),VLOOKUP(L126&\"-\"&M126,'Data eshop'!B:W,16,FALSE),IF(RIGHT(L126,1)=\"x\",VLOOKUP(VLOOKUP(RIGHT(A126,5)*1,'Data eshop'!D:N,11,FALSE),DATA!G:I,3,FALSE),IF(RIGHT(L126,1)=\"y\",IF(VLOOKUP(RIGHT(A126,5)*1,'Data eshop'!D:O,12,FALSE)=IF(O126=\"T7\",DATA!$D$2,IF(O126=\"E87\",DATA!$D$5,IF(O126=\"P2\",DATA!$D$6,IF(O126=\"e2695\",DATA!$D$7,\"\")))),IF(N126>=IF(O126=\"T7\",DATA!$K$11,IF(O126=\"E87\",DATA!$L$11,IF(O126=\"P2\",DATA!$M$11,IF(O126=\"e2695\",DATA!$N$11,\"\")))),\"uni008\",\"uni001\"),IF(VLOOKUP(RIGHT(A126,5)*1,'Data eshop'!D:O,12,FALSE)=DATA!$D$3,IF(O126=\"T7\",IF(N126>=500,\"uni009\",\"uni002\"),\"x\"),IF(VLOOKUP(RIGHT(A126,5)*1,'Data eshop'!D:O,12,FALSE)=DATA!$D$4,\"uni010\",\"\"))),\"\"))),\"\")","v":""},{"$f":"IFERROR(IF(A126=\"\",\"\",IF(LEFT(B126,3)=\"uni\",1,VLOOKUP(RIGHT(A126,5)&\"-\"&B126,'Data eshop'!A:R,18,FALSE))),\"\")","v":""},"",{"$f":"IFERROR(IF(A126=\"\",\"\",IF(LEFT(B126,3)=\"uni\",VLOOKUP(B126,DATA!I:X,IF(O126=\"T7\",3,IF(O126=\"E87\",4,IF(O126=\"P2\",5,IF(O126=\"E2695\",6,\"\")))),FALSE),VLOOKUP(RIGHT(A126,5)&\"-\"&B126,'Data eshop'!A:S,19,FALSE))),\"\")","v":""},{"$f":"IFERROR(IF(A126=\"\",\"\",IF(LEFT(B126,3)=\"uni\",0,VLOOKUP(RIGHT(A126,5)&\"-\"&B126,'Data eshop'!A:S,16,FALSE))),\"\")","v":""},null,"",{"$f":"IF(H126=\"\",\"\",WORKDAY(TODAY()+IF(VLOOKUP(VLOOKUP(RIGHT(A126,5)*1,'Data eshop'!D:N,11,FALSE),DATA!A:B,2,FALSE)=7,14,1),5))","v":""},"","",{"$f":"IF(L125=\"\",\"\",IF(L125=RIGHT(A125,5)&\"x\",LEFT(L125,LEN(L125)-1)&\"y\",IF(L125=RIGHT(A125,5)&\"y\",IFERROR(SMALL('Data eshop'!D:D,COUNTIF('Data eshop'!D:D,\"<\"&(LEFT(L125,LEN(L125)-1)*1))),\"\"),IF(ISERROR(IF(VLOOKUP(M125+1,'Data eshop'!C:D,2,FALSE)='Řádky zakázky'!L125,L125,L125&\"x\")),IF(RIGHT(L125,1)=\"y\",\"\",L125&\"x\"),IF(VLOOKUP(M125+1,'Data eshop'!C:D,2,FALSE)='Řádky zakázky'!L125,L125,L125&\"x\")))))","v":"0xxxxxxxxxxxxxxxxxxxxxxxxxxxxxxxxxxxxxxxxxxxxxxxxxxxxxxxxxxxxxxxxxxxxxxxxxxxxxxxxxxxxxxxxxxxxxxxxxxxxxxxxxxxxxxxxxxxxxxxxxxxx"},1,{"$f":"IF(A126=\"\",\"\",VLOOKUP(RIGHT(A126,5)*1,'Data eshop'!D:W,17,FALSE))","v":{"$error":"#VALUE!"}},{"$f":"VLOOKUP(A126,Zakázky!A:B,2,FALSE)","v":{"$error":"#N/A"}},""]
["19ESh0",{"$f":"IFERROR(IF(ISNUMBER(L127),VLOOKUP(L127&\"-\"&M127,'Data eshop'!B:W,16,FALSE),IF(RIGHT(L127,1)=\"x\",VLOOKUP(VLOOKUP(RIGHT(A127,5)*1,'Data eshop'!D:N,11,FALSE),DATA!G:I,3,FALSE),IF(RIGHT(L127,1)=\"y\",IF(VLOOKUP(RIGHT(A127,5)*1,'Data eshop'!D:O,12,FALSE)=IF(O127=\"T7\",DATA!$D$2,IF(O127=\"E87\",DATA!$D$5,IF(O127=\"P2\",DATA!$D$6,IF(O127=\"e2695\",DATA!$D$7,\"\")))),IF(N127>=IF(O127=\"T7\",DATA!$K$11,IF(O127=\"E87\",DATA!$L$11,IF(O127=\"P2\",DATA!$M$11,IF(O127=\"e2695\",DATA!$N$11,\"\")))),\"uni008\",\"uni001\"),IF(VLOOKUP(RIGHT(A127,5)*1,'Data eshop'!D:O,12,FALSE)=DATA!$D$3,IF(O127=\"T7\",IF(N127>=500,\"uni009\",\"uni002\"),\"x\"),IF(VLOOKUP(RIGHT(A127,5)*1,'Data eshop'!D:O,12,FALSE)=DATA!$D$4,\"uni010\",\"\"))),\"\"))),\"\")","v":""},{"$f":"IFERROR(IF(A127=\"\",\"\",IF(LEFT(B127,3)=\"uni\",1,VLOOKUP(RIGHT(A127,5)&\"-\"&B127,'Data eshop'!A:R,18,FALSE))),\"\")","v":""},"",{"$f":"IFERROR(IF(A127=\"\",\"\",IF(LEFT(B127,3)=\"uni\",VLOOKUP(B127,DATA!I:X,IF(O127=\"T7\",3,IF(O127=\"E87\",4,IF(O127=\"P2\",5,IF(O127=\"E2695\",6,\"\")))),FALSE),VLOOKUP(RIGHT(A127,5)&\"-\"&B127,'Data eshop'!A:S,19,FALSE))),\"\")","v":""},{"$f":"IFERROR(IF(A127=\"\",\"\",IF(LEFT(B127,3)=\"uni\",0,VLOOKUP(RIGHT(A127,5)&\"-\"&B127,'Data eshop'!A:S,16,FALSE))),\"\")","v":""},null,"",{"$f":"IF(H127=\"\",\"\",WORKDAY(TODAY()+IF(VLOOKUP(VLOOKUP(RIGHT(A127,5)*1,'Data eshop'!D:N,11,FALSE),DATA!A:B,2,FALSE)=7,14,1),5))","v":""},"","",{"$f":"IF(L126=\"\",\"\",IF(L126=RIGHT(A126,5)&\"x\",LEFT(L126,LEN(L126)-1)&\"y\",IF(L126=RIGHT(A126,5)&\"y\",IFERROR(SMALL('Data eshop'!D:D,COUNTIF('Data eshop'!D:D,\"<\"&(LEFT(L126,LEN(L126)-1)*1))),\"\"),IF(ISERROR(IF(VLOOKUP(M126+1,'Data eshop'!C:D,2,FALSE)='Řádky zakázky'!L126,L126,L126&\"x\")),IF(RIGHT(L126,1)=\"y\",\"\",L126&\"x\"),IF(VLOOKUP(M126+1,'Data eshop'!C:D,2,FALSE)='Řádky zakázky'!L126,L126,L126&\"x\")))))","v":"0xxxxxxxxxxxxxxxxxxxxxxxxxxxxxxxxxxxxxxxxxxxxxxxxxxxxxxxxxxxxxxxxxxxxxxxxxxxxxxxxxxxxxxxxxxxxxxxxxxxxxxxxxxxxxxxxxxxxxxxxxxxxx"},1,{"$f":"IF(A127=\"\",\"\",VLOOKUP(RIGHT(A127,5)*1,'Data eshop'!D:W,17,FALSE))","v":{"$error":"#VALUE!"}},{"$f":"VLOOKUP(A127,Zakázky!A:B,2,FALSE)","v":{"$error":"#N/A"}},""]
["19ESh0",{"$f":"IFERROR(IF(ISNUMBER(L128),VLOOKUP(L128&\"-\"&M128,'Data eshop'!B:W,16,FALSE),IF(RIGHT(L128,1)=\"x\",VLOOKUP(VLOOKUP(RIGHT(A128,5)*1,'Data eshop'!D:N,11,FALSE),DATA!G:I,3,FALSE),IF(RIGHT(L128,1)=\"y\",IF(VLOOKUP(RIGHT(A128,5)*1,'Data eshop'!D:O,12,FALSE)=IF(O128=\"T7\",DATA!$D$2,IF(O128=\"E87\",DATA!$D$5,IF(O128=\"P2\",DATA!$D$6,IF(O128=\"e2695\",DATA!$D$7,\"\")))),IF(N128>=IF(O128=\"T7\",DATA!$K$11,IF(O128=\"E87\",DATA!$L$11,IF(O128=\"P2\",DATA!$M$11,IF(O128=\"e2695\",DATA!$N$11,\"\")))),\"uni008\",\"uni001\"),IF(VLOOKUP(RIGHT(A128,5)*1,'Data eshop'!D:O,12,FALSE)=DATA!$D$3,IF(O128=\"T7\",IF(N128>=500,\"uni009\",\"uni002\"),\"x\"),IF(VLOOKUP(RIGHT(A128,5)*1,'Data eshop'!D:O,12,FALSE)=DATA!$D$4,\"uni010\",\"\"))),\"\"))),\"\")","v":""},{"$f":"IFERROR(IF(A128=\"\",\"\",IF(LEFT(B128,3)=\"uni\",1,VLOOKUP(RIGHT(A128,5)&\"-\"&B128,'Data eshop'!A:R,18,FALSE))),\"\")","v":""},"",{"$f":"IFERROR(IF(A128=\"\",\"\",IF(LEFT(B128,3)=\"uni\",VLOOKUP(B128,DATA!I:X,IF(O128=\"T7\",3,IF(O128=\"E87\",4,IF(O128=\"P2\",5,IF(O128=\"E2695\",6,\"\")))),FALSE),VLOOKUP(RIGHT(A128,5)&\"-\"&B128,'Data eshop'!A:S,19,FALSE))),\"\")","v":""},{"$f":"IFERROR(IF(A128=\"\",\"\",IF(LEFT(B128,3)=\"uni\",0,VLOOKUP(RIGHT(A128,5)&\"-\"&B128,'Data eshop'!A:S,16,FALSE))),\"\")","v":""},null,"",{"$f":"IF(H128=\"\",\"\",WORKDAY(TODAY()+IF(VLOOKUP(VLOOKUP(RIGHT(A128,5)*1,'Data eshop'!D:N,11,FALSE),DATA!A:B,2,FALSE)=7,14,1),5))","v":""},"","",{"$f":"IF(L127=\"\",\"\",IF(L127=RIGHT(A127,5)&\"x\",LEFT(L127,LEN(L127)-1)&\"y\",IF(L127=RIGHT(A127,5)&\"y\",IFERROR(SMALL('Data eshop'!D:D,COUNTIF('Data eshop'!D:D,\"<\"&(LEFT(L127,LEN(L127)-1)*1))),\"\"),IF(ISERROR(IF(VLOOKUP(M127+1,'Data eshop'!C:D,2,FALSE)='Řádky zakázky'!L127,L127,L127&\"x\")),IF(RIGHT(L127,1)=\"y\",\"\",L127&\"x\"),IF(VLOOKUP(M127+1,'Data eshop'!C:D,2,FALSE)='Řádky zakázky'!L127,L127,L127&\"x\")))))","v":"0xxxxxxxxxxxxxxxxxxxxxxxxxxxxxxxxxxxxxxxxxxxxxxxxxxxxxxxxxxxxxxxxxxxxxxxxxxxxxxxxxxxxxxxxxxxxxxxxxxxxxxxxxxxxxxxxxxxxxxxxxxxxxx"},1,{"$f":"IF(A128=\"\",\"\",VLOOKUP(RIGHT(A128,5)*1,'Data eshop'!D:W,17,FALSE))","v":{"$error":"#VALUE!"}},{"$f":"VLOOKUP(A128,Zakázky!A:B,2,FALSE)","v":{"$error":"#N/A"}},"","Roluj nahoru, až uvidíš žlutou"]
["19ESh0",{"$f":"IFERROR(IF(ISNUMBER(L129),VLOOKUP(L129&\"-\"&M129,'Data eshop'!B:W,16,FALSE),IF(RIGHT(L129,1)=\"x\",VLOOKUP(VLOOKUP(RIGHT(A129,5)*1,'Data eshop'!D:N,11,FALSE),DATA!G:I,3,FALSE),IF(RIGHT(L129,1)=\"y\",IF(VLOOKUP(RIGHT(A129,5)*1,'Data eshop'!D:O,12,FALSE)=IF(O129=\"T7\",DATA!$D$2,IF(O129=\"E87\",DATA!$D$5,IF(O129=\"P2\",DATA!$D$6,IF(O129=\"e2695\",DATA!$D$7,\"\")))),IF(N129>=IF(O129=\"T7\",DATA!$K$11,IF(O129=\"E87\",DATA!$L$11,IF(O129=\"P2\",DATA!$M$11,IF(O129=\"e2695\",DATA!$N$11,\"\")))),\"uni008\",\"uni001\"),IF(VLOOKUP(RIGHT(A129,5)*1,'Data eshop'!D:O,12,FALSE)=DATA!$D$3,IF(O129=\"T7\",IF(N129>=500,\"uni009\",\"uni002\"),\"x\"),IF(VLOOKUP(RIGHT(A129,5)*1,'Data eshop'!D:O,12,FALSE)=DATA!$D$4,\"uni010\",\"\"))),\"\"))),\"\")","v":""},{"$f":"IFERROR(IF(A129=\"\",\"\",IF(LEFT(B129,3)=\"uni\",1,VLOOKUP(RIGHT(A129,5)&\"-\"&B129,'Data eshop'!A:R,18,FALSE))),\"\")","v":""},"",{"$f":"IFERROR(IF(A129=\"\",\"\",IF(LEFT(B129,3)=\"uni\",VLOOKUP(B129,DATA!I:X,IF(O129=\"T7\",3,IF(O129=\"E87\",4,IF(O129=\"P2\",5,IF(O129=\"E2695\",6,\"\")))),FALSE),VLOOKUP(RIGHT(A129,5)&\"-\"&B129,'Data eshop'!A:S,19,FALSE))),\"\")","v":""},{"$f":"IFERROR(IF(A129=\"\",\"\",IF(LEFT(B129,3)=\"uni\",0,VLOOKUP(RIGHT(A129,5)&\"-\"&B129,'Data eshop'!A:S,16,FALSE))),\"\")","v":""},null,"",{"$f":"IF(H129=\"\",\"\",WORKDAY(TODAY()+IF(VLOOKUP(VLOOKUP(RIGHT(A129,5)*1,'Data eshop'!D:N,11,FALSE),DATA!A:B,2,FALSE)=7,14,1),5))","v":""},"","",{"$f":"IF(L128=\"\",\"\",IF(L128=RIGHT(A128,5)&\"x\",LEFT(L128,LEN(L128)-1)&\"y\",IF(L128=RIGHT(A128,5)&\"y\",IFERROR(SMALL('Data eshop'!D:D,COUNTIF('Data eshop'!D:D,\"<\"&(LEFT(L128,LEN(L128)-1)*1))),\"\"),IF(ISERROR(IF(VLOOKUP(M128+1,'Data eshop'!C:D,2,FALSE)='Řádky zakázky'!L128,L128,L128&\"x\")),IF(RIGHT(L128,1)=\"y\",\"\",L128&\"x\"),IF(VLOOKUP(M128+1,'Data eshop'!C:D,2,FALSE)='Řádky zakázky'!L128,L128,L128&\"x\")))))","v":"0xxxxxxxxxxxxxxxxxxxxxxxxxxxxxxxxxxxxxxxxxxxxxxxxxxxxxxxxxxxxxxxxxxxxxxxxxxxxxxxxxxxxxxxxxxxxxxxxxxxxxxxxxxxxxxxxxxxxxxxxxxxxxxx"},1,{"$f":"IF(A129=\"\",\"\",VLOOKUP(RIGHT(A129,5)*1,'Data eshop'!D:W,17,FALSE))","v":{"$error":"#VALUE!"}},{"$f":"VLOOKUP(A129,Zakázky!A:B,2,FALSE)","v":{"$error":"#N/A"}},""]
["19ESh0",{"$f":"IFERROR(IF(ISNUMBER(L130),VLOOKUP(L130&\"-\"&M130,'Data eshop'!B:W,16,FALSE),IF(RIGHT(L130,1)=\"x\",VLOOKUP(VLOOKUP(RIGHT(A130,5)*1,'Data eshop'!D:N,11,FALSE),DATA!G:I,3,FALSE),IF(RIGHT(L130,1)=\"y\",IF(VLOOKUP(RIGHT(A130,5)*1,'Data eshop'!D:O,12,FALSE)=IF(O130=\"T7\",DATA!$D$2,IF(O130=\"E87\",DATA!$D$5,IF(O130=\"P2\",DATA!$D$6,IF(O130=\"e2695\",DATA!$D$7,\"\")))),IF(N130>=IF(O130=\"T7\",DATA!$K$11,IF(O130=\"E87\",DATA!$L$11,IF(O130=\"P2\",DATA!$M$11,IF(O130=\"e2695\",DATA!$N$11,\"\")))),\"uni008\",\"uni001\"),IF(VLOOKUP(RIGHT(A130,5)*1,'Data eshop'!D:O,12,FALSE)=DATA!$D$3,IF(O130=\"T7\",IF(N130>=500,\"uni009\",\"uni002\"),\"x\"),IF(VLOOKUP(RIGHT(A130,5)*1,'Data eshop'!D:O,12,FALSE)=DATA!$D$4,\"uni010\",\"\"))),\"\"))),\"\")","v":""},{"$f":"IFERROR(IF(A130=\"\",\"\",IF(LEFT(B130,3)=\"uni\",1,VLOOKUP(RIGHT(A130,5)&\"-\"&B130,'Data eshop'!A:R,18,FALSE))),\"\")","v":""},{"$f":"IF(C130=\"\",\"\",\"KS\")","v":""},{"$f":"IFERROR(IF(A130=\"\",\"\",IF(LEFT(B130,3)=\"uni\",VLOOKUP(B130,DATA!I:X,IF(O130=\"T7\",3,IF(O130=\"E87\",4,IF(O130=\"P2\",5,IF(O130=\"E2695\",6,\"\")))),FALSE),VLOOKUP(RIGHT(A130,5)&\"-\"&B130,'Data eshop'!A:S,19,FALSE))),\"\")","v":""},{"$f":"IFERROR(IF(A130=\"\",\"\",IF(LEFT(B130,3)=\"uni\",0,VLOOKUP(RIGHT(A130,5)&\"-\"&B130,'Data eshop'!A:S,16,FALSE))),\"\")","v":""},null,{"$f":"IF(C130=\"\",\"\",\"Objednáno\")","v":""},{"$f":"IF(H130=\"\",\"\",WORKDAY(TODAY()+IF(VLOOKUP(VLOOKUP(RIGHT(A130,5)*1,'Data eshop'!D:N,11,FALSE),DATA!A:B,2,FALSE)=7,14,1),5))","v":""},{"$f":"IF(C130=\"\",\"\",\"SKL\")","v":""},{"$f":"IF(B130=\"\",\"\",IF(ISNUMBER(FIND(\"uni0\",B130)),B130,\"\"))","v":""},{"$f":"IF(L129=\"\",\"\",IF(L129=RIGHT(A129,5)&\"x\",LEFT(L129,LEN(L129)-1)&\"y\",IF(L129=RIGHT(A129,5)&\"y\",IFERROR(SMALL('Data eshop'!D:D,COUNTIF('Data eshop'!D:D,\"<\"&(LEFT(L129,LEN(L129)-1)*1))),\"\"),IF(ISERROR(IF(VLOOKUP(M129+1,'Data eshop'!C:D,2,FALSE)='Řádky zakázky'!L129,L129,L129&\"x\")),IF(RIGHT(L129,1)=\"y\",\"\",L129&\"x\"),IF(VLOOKUP(M129+1,'Data eshop'!C:D,2,FALSE)='Řádky zakázky'!L129,L129,L129&\"x\")))))","v":"0xxxxxxxxxxxxxxxxxxxxxxxxxxxxxxxxxxxxxxxxxxxxxxxxxxxxxxxxxxxxxxxxxxxxxxxxxxxxxxxxxxxxxxxxxxxxxxxxxxxxxxxxxxxxxxxxxxxxxxxxxxxxxxxx"},1,{"$f":"IF(A130=\"\",\"\",VLOOKUP(RIGHT(A130,5)*1,'Data eshop'!D:W,17,FALSE))","v":{"$error":"#VALUE!"}},{"$f":"VLOOKUP(A130,Zakázky!A:B,2,FALSE)","v":{"$error":"#N/A"}},{"$f":"IF(C130=\"\",\"\",IF(E130=0.00001,0,E130*C130))","v":""}]
[{"$f":"IFERROR(IF(L131=\"\",\"\",IF(RIGHT(L131,1)=\"x\",A130,IF(RIGHT(L131,1)=\"y\",A130,\"19ESh\"&IF(LEN(L131)=4,\"0\",\"\")&L131))),\"\")","v":"19ESh0"},{"$f":"IFERROR(IF(ISNUMBER(L131),VLOOKUP(L131&\"-\"&M131,'Data eshop'!B:W,16,FALSE),IF(RIGHT(L131,1)=\"x\",VLOOKUP(VLOOKUP(RIGHT(A131,5)*1,'Data eshop'!D:N,11,FALSE),DATA!G:I,3,FALSE),IF(RIGHT(L131,1)=\"y\",IF(VLOOKUP(RIGHT(A131,5)*1,'Data eshop'!D:O,12,FALSE)=IF(O131=\"T7\",DATA!$D$2,IF(O131=\"E87\",DATA!$D$5,IF(O131=\"P2\",DATA!$D$6,IF(O131=\"e2695\",DATA!$D$7,\"\")))),IF(N131>=IF(O131=\"T7\",DATA!$K$11,IF(O131=\"E87\",DATA!$L$11,IF(O131=\"P2\",DATA!$M$11,IF(O131=\"e2695\",DATA!$N$11,\"\")))),\"uni008\",\"uni001\"),IF(VLOOKUP(RIGHT(A131,5)*1,'Data eshop'!D:O,12,FALSE)=DATA!$D$3,IF(O131=\"T7\",IF(N131>=500,\"uni009\",\"uni002\"),\"x\"),IF(VLOOKUP(RIGHT(A131,5)*1,'Data eshop'!D:O,12,FALSE)=DATA!$D$4,\"uni010\",\"\"))),\"\"))),\"\")","v":""},{"$f":"IFERROR(IF(A131=\"\",\"\",IF(LEFT(B131,3)=\"uni\",1,VLOOKUP(RIGHT(A131,5)&\"-\"&B131,'Data eshop'!A:R,18,FALSE))),\"\")","v":""},"",{"$f":"IFERROR(IF(A131=\"\",\"\",IF(LEFT(B131,3)=\"uni\",VLOOKUP(B131,DATA!I:X,IF(O131=\"T7\",3,IF(O131=\"E87\",4,IF(O131=\"P2\",5,IF(O131=\"E2695\",6,\"\")))),FALSE),VLOOKUP(RIGHT(A131,5)&\"-\"&B131,'Data eshop'!A:S,19,FALSE))),\"\")","v":""},{"$f":"IFERROR(IF(A131=\"\",\"\",IF(LEFT(B131,3)=\"uni\",0,VLOOKUP(RIGHT(A131,5)&\"-\"&B131,'Data eshop'!A:S,16,FALSE))),\"\")","v":""},null,"",{"$f":"IF(H131=\"\",\"\",WORKDAY(TODAY()+IF(VLOOKUP(VLOOKUP(RIGHT(A131,5)*1,'Data eshop'!D:N,11,FALSE),DATA!A:B,2,FALSE)=7,14,1),5))","v":""},"","",{"$f":"IF(L130=\"\",\"\",IF(L130=RIGHT(A130,5)&\"x\",LEFT(L130,LEN(L130)-1)&\"y\",IF(L130=RIGHT(A130,5)&\"y\",IFERROR(SMALL('Data eshop'!D:D,COUNTIF('Data eshop'!D:D,\"<\"&(LEFT(L130,LEN(L130)-1)*1))),\"\"),IF(ISERROR(IF(VLOOKUP(M130+1,'Data eshop'!C:D,2,FALSE)='Řádky zakázky'!L130,L130,L130&\"x\")),IF(RIGHT(L130,1)=\"y\",\"\",L130&\"x\"),IF(VLOOKUP(M130+1,'Data eshop'!C:D,2,FALSE)='Řádky zakázky'!L130,L130,L130&\"x\")))))","v":"0xxxxxxxxxxxxxxxxxxxxxxxxxxxxxxxxxxxxxxxxxxxxxxxxxxxxxxxxxxxxxxxxxxxxxxxxxxxxxxxxxxxxxxxxxxxxxxxxxxxxxxxxxxxxxxxxxxxxxxxxxxxxxxxxx"},1,{"$f":"IF(A131=\"\",\"\",VLOOKUP(RIGHT(A131,5)*1,'Data eshop'!D:W,17,FALSE))","v":{"$error":"#VALUE!"}},{"$f":"VLOOKUP(A131,Zakázky!A:B,2,FALSE)","v":{"$error":"#N/A"}},""]
["19ESh0",{"$f":"IFERROR(IF(ISNUMBER(L132),VLOOKUP(L132&\"-\"&M132,'Data eshop'!B:W,16,FALSE),IF(RIGHT(L132,1)=\"x\",VLOOKUP(VLOOKUP(RIGHT(A132,5)*1,'Data eshop'!D:N,11,FALSE),DATA!G:I,3,FALSE),IF(RIGHT(L132,1)=\"y\",IF(VLOOKUP(RIGHT(A132,5)*1,'Data eshop'!D:O,12,FALSE)=IF(O132=\"T7\",DATA!$D$2,IF(O132=\"E87\",DATA!$D$5,IF(O132=\"P2\",DATA!$D$6,IF(O132=\"e2695\",DATA!$D$7,\"\")))),IF(N132>=IF(O132=\"T7\",DATA!$K$11,IF(O132=\"E87\",DATA!$L$11,IF(O132=\"P2\",DATA!$M$11,IF(O132=\"e2695\",DATA!$N$11,\"\")))),\"uni008\",\"uni001\"),IF(VLOOKUP(RIGHT(A132,5)*1,'Data eshop'!D:O,12,FALSE)=DATA!$D$3,IF(O132=\"T7\",IF(N132>=500,\"uni009\",\"uni002\"),\"x\"),IF(VLOOKUP(RIGHT(A132,5)*1,'Data eshop'!D:O,12,FALSE)=DATA!$D$4,\"uni010\",\"\"))),\"\"))),\"\")","v":""},{"$f":"IFERROR(IF(A132=\"\",\"\",IF(LEFT(B132,3)=\"uni\",1,VLOOKUP(RIGHT(A132,5)&\"-\"&B132,'Data eshop'!A:R,18,FALSE))),\"\")","v":""},"",{"$f":"IFERROR(IF(A132=\"\",\"\",IF(LEFT(B132,3)=\"uni\",VLOOKUP(B132,DATA!I:X,IF(O132=\"T7\",3,IF(O132=\"E87\",4,IF(O132=\"P2\",5,IF(O132=\"E2695\",6,\"\")))),FALSE),VLOOKUP(RIGHT(A132,5)&\"-\"&B132,'Data eshop'!A:S,19,FALSE))),\"\")","v":""},{"$f":"IFERROR(IF(A132=\"\",\"\",IF(LEFT(B132,3)=\"uni\",0,VLOOKUP(RIGHT(A132,5)&\"-\"&B132,'Data eshop'!A:S,16,FALSE))),\"\")","v":""},null,"",{"$f":"IF(H132=\"\",\"\",WORKDAY(TODAY()+IF(VLOOKUP(VLOOKUP(RIGHT(A132,5)*1,'Data eshop'!D:N,11,FALSE),DATA!A:B,2,FALSE)=7,14,1),5))","v":""},"","",{"$f":"IF(L131=\"\",\"\",IF(L131=RIGHT(A131,5)&\"x\",LEFT(L131,LEN(L131)-1)&\"y\",IF(L131=RIGHT(A131,5)&\"y\",IFERROR(SMALL('Data eshop'!D:D,COUNTIF('Data eshop'!D:D,\"<\"&(LEFT(L131,LEN(L131)-1)*1))),\"\"),IF(ISERROR(IF(VLOOKUP(M131+1,'Data eshop'!C:D,2,FALSE)='Řádky zakázky'!L131,L131,L131&\"x\")),IF(RIGHT(L131,1)=\"y\",\"\",L131&\"x\"),IF(VLOOKUP(M131+1,'Data eshop'!C:D,2,FALSE)='Řádky zakázky'!L131,L131,L131&\"x\")))))","v":"0xxxxxxxxxxxxxxxxxxxxxxxxxxxxxxxxxxxxxxxxxxxxxxxxxxxxxxxxxxxxxxxxxxxxxxxxxxxxxxxxxxxxxxxxxxxxxxxxxxxxxxxxxxxxxxxxxxxxxxxxxxxxxxxxxx"},1,{"$f":"IF(A132=\"\",\"\",VLOOKUP(RIGHT(A132,5)*1,'Data eshop'!D:W,17,FALSE))","v":{"$error":"#VALUE!"}},{"$f":"VLOOKUP(A132,Zakázky!A:B,2,FALSE)","v":{"$error":"#N/A"}},"","Roluj nahoru, až uvidíš žlutou"]
["19ESh0",{"$f":"IFERROR(IF(ISNUMBER(L133),VLOOKUP(L133&\"-\"&M133,'Data eshop'!B:W,16,FALSE),IF(RIGHT(L133,1)=\"x\",VLOOKUP(VLOOKUP(RIGHT(A133,5)*1,'Data eshop'!D:N,11,FALSE),DATA!G:I,3,FALSE),IF(RIGHT(L133,1)=\"y\",IF(VLOOKUP(RIGHT(A133,5)*1,'Data eshop'!D:O,12,FALSE)=IF(O133=\"T7\",DATA!$D$2,IF(O133=\"E87\",DATA!$D$5,IF(O133=\"P2\",DATA!$D$6,IF(O133=\"e2695\",DATA!$D$7,\"\")))),IF(N133>=IF(O133=\"T7\",DATA!$K$11,IF(O133=\"E87\",DATA!$L$11,IF(O133=\"P2\",DATA!$M$11,IF(O133=\"e2695\",DATA!$N$11,\"\")))),\"uni008\",\"uni001\"),IF(VLOOKUP(RIGHT(A133,5)*1,'Data eshop'!D:O,12,FALSE)=DATA!$D$3,IF(O133=\"T7\",IF(N133>=500,\"uni009\",\"uni002\"),\"x\"),IF(VLOOKUP(RIGHT(A133,5)*1,'Data eshop'!D:O,12,FALSE)=DATA!$D$4,\"uni010\",\"\"))),\"\"))),\"\")","v":""},{"$f":"IFERROR(IF(A133=\"\",\"\",IF(LEFT(B133,3)=\"uni\",1,VLOOKUP(RIGHT(A133,5)&\"-\"&B133,'Data eshop'!A:R,18,FALSE))),\"\")","v":""},"",{"$f":"IFERROR(IF(A133=\"\",\"\",IF(LEFT(B133,3)=\"uni\",VLOOKUP(B133,DATA!I:X,IF(O133=\"T7\",3,IF(O133=\"E87\",4,IF(O133=\"P2\",5,IF(O133=\"E2695\",6,\"\")))),FALSE),VLOOKUP(RIGHT(A133,5)&\"-\"&B133,'Data eshop'!A:S,19,FALSE))),\"\")","v":""},{"$f":"IFERROR(IF(A133=\"\",\"\",IF(LEFT(B133,3)=\"uni\",0,VLOOKUP(RIGHT(A133,5)&\"-\"&B133,'Data eshop'!A:S,16,FALSE))),\"\")","v":""},null,"",{"$f":"IF(H133=\"\",\"\",WORKDAY(TODAY()+IF(VLOOKUP(VLOOKUP(RIGHT(A133,5)*1,'Data eshop'!D:N,11,FALSE),DATA!A:B,2,FALSE)=7,14,1),5))","v":""},"","",{"$f":"IF(L132=\"\",\"\",IF(L132=RIGHT(A132,5)&\"x\",LEFT(L132,LEN(L132)-1)&\"y\",IF(L132=RIGHT(A132,5)&\"y\",IFERROR(SMALL('Data eshop'!D:D,COUNTIF('Data eshop'!D:D,\"<\"&(LEFT(L132,LEN(L132)-1)*1))),\"\"),IF(ISERROR(IF(VLOOKUP(M132+1,'Data eshop'!C:D,2,FALSE)='Řádky zakázky'!L132,L132,L132&\"x\")),IF(RIGHT(L132,1)=\"y\",\"\",L132&\"x\"),IF(VLOOKUP(M132+1,'Data eshop'!C:D,2,FALSE)='Řádky zakázky'!L132,L132,L132&\"x\")))))","v":"0xxxxxxxxxxxxxxxxxxxxxxxxxxxxxxxxxxxxxxxxxxxxxxxxxxxxxxxxxxxxxxxxxxxxxxxxxxxxxxxxxxxxxxxxxxxxxxxxxxxxxxxxxxxxxxxxxxxxxxxxxxxxxxxxxxx"},1,{"$f":"IF(A133=\"\",\"\",VLOOKUP(RIGHT(A133,5)*1,'Data eshop'!D:W,17,FALSE))","v":{"$error":"#VALUE!"}},{"$f":"VLOOKUP(A133,Zakázky!A:B,2,FALSE)","v":{"$error":"#N/A"}},""]
["19ESh0",{"$f":"IFERROR(IF(ISNUMBER(L134),VLOOKUP(L134&\"-\"&M134,'Data eshop'!B:W,16,FALSE),IF(RIGHT(L134,1)=\"x\",VLOOKUP(VLOOKUP(RIGHT(A134,5)*1,'Data eshop'!D:N,11,FALSE),DATA!G:I,3,FALSE),IF(RIGHT(L134,1)=\"y\",IF(VLOOKUP(RIGHT(A134,5)*1,'Data eshop'!D:O,12,FALSE)=IF(O134=\"T7\",DATA!$D$2,IF(O134=\"E87\",DATA!$D$5,IF(O134=\"P2\",DATA!$D$6,IF(O134=\"e2695\",DATA!$D$7,\"\")))),IF(N134>=IF(O134=\"T7\",DATA!$K$11,IF(O134=\"E87\",DATA!$L$11,IF(O134=\"P2\",DATA!$M$11,IF(O134=\"e2695\",DATA!$N$11,\"\")))),\"uni008\",\"uni001\"),IF(VLOOKUP(RIGHT(A134,5)*1,'Data eshop'!D:O,12,FALSE)=DATA!$D$3,IF(O134=\"T7\",IF(N134>=500,\"uni009\",\"uni002\"),\"x\"),IF(VLOOKUP(RIGHT(A134,5)*1,'Data eshop'!D:O,12,FALSE)=DATA!$D$4,\"uni010\",\"\"))),\"\"))),\"\")","v":""},{"$f":"IFERROR(IF(A134=\"\",\"\",IF(LEFT(B134,3)=\"uni\",1,VLOOKUP(RIGHT(A134,5)&\"-\"&B134,'Data eshop'!A:R,18,FALSE))),\"\")","v":""},"",{"$f":"IFERROR(IF(A134=\"\",\"\",IF(LEFT(B134,3)=\"uni\",VLOOKUP(B134,DATA!I:X,IF(O134=\"T7\",3,IF(O134=\"E87\",4,IF(O134=\"P2\",5,IF(O134=\"E2695\",6,\"\")))),FALSE),VLOOKUP(RIGHT(A134,5)&\"-\"&B134,'Data eshop'!A:S,19,FALSE))),\"\")","v":""},{"$f":"IFERROR(IF(A134=\"\",\"\",IF(LEFT(B134,3)=\"uni\",0,VLOOKUP(RIGHT(A134,5)&\"-\"&B134,'Data eshop'!A:S,16,FALSE))),\"\")","v":""},null,"",{"$f":"IF(H134=\"\",\"\",WORKDAY(TODAY()+IF(VLOOKUP(VLOOKUP(RIGHT(A134,5)*1,'Data eshop'!D:N,11,FALSE),DATA!A:B,2,FALSE)=7,14,1),5))","v":""},"","",{"$f":"IF(L133=\"\",\"\",IF(L133=RIGHT(A133,5)&\"x\",LEFT(L133,LEN(L133)-1)&\"y\",IF(L133=RIGHT(A133,5)&\"y\",IFERROR(SMALL('Data eshop'!D:D,COUNTIF('Data eshop'!D:D,\"<\"&(LEFT(L133,LEN(L133)-1)*1))),\"\"),IF(ISERROR(IF(VLOOKUP(M133+1,'Data eshop'!C:D,2,FALSE)='Řádky zakázky'!L133,L133,L133&\"x\")),IF(RIGHT(L133,1)=\"y\",\"\",L133&\"x\"),IF(VLOOKUP(M133+1,'Data eshop'!C:D,2,FALSE)='Řádky zakázky'!L133,L133,L133&\"x\")))))","v":"0xxxxxxxxxxxxxxxxxxxxxxxxxxxxxxxxxxxxxxxxxxxxxxxxxxxxxxxxxxxxxxxxxxxxxxxxxxxxxxxxxxxxxxxxxxxxxxxxxxxxxxxxxxxxxxxxxxxxxxxxxxxxxxxxxxxx"},1,{"$f":"IF(A134=\"\",\"\",VLOOKUP(RIGHT(A134,5)*1,'Data eshop'!D:W,17,FALSE))","v":{"$error":"#VALUE!"}},{"$f":"VLOOKUP(A134,Zakázky!A:B,2,FALSE)","v":{"$error":"#N/A"}},""]
["19ESh0",{"$f":"IFERROR(IF(ISNUMBER(L135),VLOOKUP(L135&\"-\"&M135,'Data eshop'!B:W,16,FALSE),IF(RIGHT(L135,1)=\"x\",VLOOKUP(VLOOKUP(RIGHT(A135,5)*1,'Data eshop'!D:N,11,FALSE),DATA!G:I,3,FALSE),IF(RIGHT(L135,1)=\"y\",IF(VLOOKUP(RIGHT(A135,5)*1,'Data eshop'!D:O,12,FALSE)=IF(O135=\"T7\",DATA!$D$2,IF(O135=\"E87\",DATA!$D$5,IF(O135=\"P2\",DATA!$D$6,IF(O135=\"e2695\",DATA!$D$7,\"\")))),IF(N135>=IF(O135=\"T7\",DATA!$K$11,IF(O135=\"E87\",DATA!$L$11,IF(O135=\"P2\",DATA!$M$11,IF(O135=\"e2695\",DATA!$N$11,\"\")))),\"uni008\",\"uni001\"),IF(VLOOKUP(RIGHT(A135,5)*1,'Data eshop'!D:O,12,FALSE)=DATA!$D$3,IF(O135=\"T7\",IF(N135>=500,\"uni009\",\"uni002\"),\"x\"),IF(VLOOKUP(RIGHT(A135,5)*1,'Data eshop'!D:O,12,FALSE)=DATA!$D$4,\"uni010\",\"\"))),\"\"))),\"\")","v":""},{"$f":"IFERROR(IF(A135=\"\",\"\",IF(LEFT(B135,3)=\"uni\",1,VLOOKUP(RIGHT(A135,5)&\"-\"&B135,'Data eshop'!A:R,18,FALSE))),\"\")","v":""},"",{"$f":"IFERROR(IF(A135=\"\",\"\",IF(LEFT(B135,3)=\"uni\",VLOOKUP(B135,DATA!I:X,IF(O135=\"T7\",3,IF(O135=\"E87\",4,IF(O135=\"P2\",5,IF(O135=\"E2695\",6,\"\")))),FALSE),VLOOKUP(RIGHT(A135,5)&\"-\"&B135,'Data eshop'!A:S,19,FALSE))),\"\")","v":""},{"$f":"IFERROR(IF(A135=\"\",\"\",IF(LEFT(B135,3)=\"uni\",0,VLOOKUP(RIGHT(A135,5)&\"-\"&B135,'Data eshop'!A:S,16,FALSE))),\"\")","v":""},null,"",{"$f":"IF(H135=\"\",\"\",WORKDAY(TODAY()+IF(VLOOKUP(VLOOKUP(RIGHT(A135,5)*1,'Data eshop'!D:N,11,FALSE),DATA!A:B,2,FALSE)=7,14,1),5))","v":""},"","",{"$f":"IF(L134=\"\",\"\",IF(L134=RIGHT(A134,5)&\"x\",LEFT(L134,LEN(L134)-1)&\"y\",IF(L134=RIGHT(A134,5)&\"y\",IFERROR(SMALL('Data eshop'!D:D,COUNTIF('Data eshop'!D:D,\"<\"&(LEFT(L134,LEN(L134)-1)*1))),\"\"),IF(ISERROR(IF(VLOOKUP(M134+1,'Data eshop'!C:D,2,FALSE)='Řádky zakázky'!L134,L134,L134&\"x\")),IF(RIGHT(L134,1)=\"y\",\"\",L134&\"x\"),IF(VLOOKUP(M134+1,'Data eshop'!C:D,2,FALSE)='Řádky zakázky'!L134,L134,L134&\"x\")))))","v":"0xxxxxxxxxxxxxxxxxxxxxxxxxxxxxxxxxxxxxxxxxxxxxxxxxxxxxxxxxxxxxxxxxxxxxxxxxxxxxxxxxxxxxxxxxxxxxxxxxxxxxxxxxxxxxxxxxxxxxxxxxxxxxxxxxxxxx"},1,{"$f":"IF(A135=\"\",\"\",VLOOKUP(RIGHT(A135,5)*1,'Data eshop'!D:W,17,FALSE))","v":{"$error":"#VALUE!"}},{"$f":"VLOOKUP(A135,Zakázky!A:B,2,FALSE)","v":{"$error":"#N/A"}},""]
["19ESh0",{"$f":"IFERROR(IF(ISNUMBER(L136),VLOOKUP(L136&\"-\"&M136,'Data eshop'!B:W,16,FALSE),IF(RIGHT(L136,1)=\"x\",VLOOKUP(VLOOKUP(RIGHT(A136,5)*1,'Data eshop'!D:N,11,FALSE),DATA!G:I,3,FALSE),IF(RIGHT(L136,1)=\"y\",IF(VLOOKUP(RIGHT(A136,5)*1,'Data eshop'!D:O,12,FALSE)=IF(O136=\"T7\",DATA!$D$2,IF(O136=\"E87\",DATA!$D$5,IF(O136=\"P2\",DATA!$D$6,IF(O136=\"e2695\",DATA!$D$7,\"\")))),IF(N136>=IF(O136=\"T7\",DATA!$K$11,IF(O136=\"E87\",DATA!$L$11,IF(O136=\"P2\",DATA!$M$11,IF(O136=\"e2695\",DATA!$N$11,\"\")))),\"uni008\",\"uni001\"),IF(VLOOKUP(RIGHT(A136,5)*1,'Data eshop'!D:O,12,FALSE)=DATA!$D$3,IF(O136=\"T7\",IF(N136>=500,\"uni009\",\"uni002\"),\"x\"),IF(VLOOKUP(RIGHT(A136,5)*1,'Data eshop'!D:O,12,FALSE)=DATA!$D$4,\"uni010\",\"\"))),\"\"))),\"\")","v":""},{"$f":"IFERROR(IF(A136=\"\",\"\",IF(LEFT(B136,3)=\"uni\",1,VLOOKUP(RIGHT(A136,5)&\"-\"&B136,'Data eshop'!A:R,18,FALSE))),\"\")","v":""},"",{"$f":"IFERROR(IF(A136=\"\",\"\",IF(LEFT(B136,3)=\"uni\",VLOOKUP(B136,DATA!I:X,IF(O136=\"T7\",3,IF(O136=\"E87\",4,IF(O136=\"P2\",5,IF(O136=\"E2695\",6,\"\")))),FALSE),VLOOKUP(RIGHT(A136,5)&\"-\"&B136,'Data eshop'!A:S,19,FALSE))),\"\")","v":""},{"$f":"IFERROR(IF(A136=\"\",\"\",IF(LEFT(B136,3)=\"uni\",0,VLOOKUP(RIGHT(A136,5)&\"-\"&B136,'Data eshop'!A:S,16,FALSE))),\"\")","v":""},null,"",{"$f":"IF(H136=\"\",\"\",WORKDAY(TODAY()+IF(VLOOKUP(VLOOKUP(RIGHT(A136,5)*1,'Data eshop'!D:N,11,FALSE),DATA!A:B,2,FALSE)=7,14,1),5))","v":""},"","",{"$f":"IF(L135=\"\",\"\",IF(L135=RIGHT(A135,5)&\"x\",LEFT(L135,LEN(L135)-1)&\"y\",IF(L135=RIGHT(A135,5)&\"y\",IFERROR(SMALL('Data eshop'!D:D,COUNTIF('Data eshop'!D:D,\"<\"&(LEFT(L135,LEN(L135)-1)*1))),\"\"),IF(ISERROR(IF(VLOOKUP(M135+1,'Data eshop'!C:D,2,FALSE)='Řádky zakázky'!L135,L135,L135&\"x\")),IF(RIGHT(L135,1)=\"y\",\"\",L135&\"x\"),IF(VLOOKUP(M135+1,'Data eshop'!C:D,2,FALSE)='Řádky zakázky'!L135,L135,L135&\"x\")))))","v":"0xxxxxxxxxxxxxxxxxxxxxxxxxxxxxxxxxxxxxxxxxxxxxxxxxxxxxxxxxxxxxxxxxxxxxxxxxxxxxxxxxxxxxxxxxxxxxxxxxxxxxxxxxxxxxxxxxxxxxxxxxxxxxxxxxxxxxx"},1,{"$f":"IF(A136=\"\",\"\",VLOOKUP(RIGHT(A136,5)*1,'Data eshop'!D:W,17,FALSE))","v":{"$error":"#VALUE!"}},{"$f":"VLOOKUP(A136,Zakázky!A:B,2,FALSE)","v":{"$error":"#N/A"}},"","Roluj nahoru, až uvidíš žlutou"]
["19ESh0",{"$f":"IFERROR(IF(ISNUMBER(L137),VLOOKUP(L137&\"-\"&M137,'Data eshop'!B:W,16,FALSE),IF(RIGHT(L137,1)=\"x\",VLOOKUP(VLOOKUP(RIGHT(A137,5)*1,'Data eshop'!D:N,11,FALSE),DATA!G:I,3,FALSE),IF(RIGHT(L137,1)=\"y\",IF(VLOOKUP(RIGHT(A137,5)*1,'Data eshop'!D:O,12,FALSE)=IF(O137=\"T7\",DATA!$D$2,IF(O137=\"E87\",DATA!$D$5,IF(O137=\"P2\",DATA!$D$6,IF(O137=\"e2695\",DATA!$D$7,\"\")))),IF(N137>=IF(O137=\"T7\",DATA!$K$11,IF(O137=\"E87\",DATA!$L$11,IF(O137=\"P2\",DATA!$M$11,IF(O137=\"e2695\",DATA!$N$11,\"\")))),\"uni008\",\"uni001\"),IF(VLOOKUP(RIGHT(A137,5)*1,'Data eshop'!D:O,12,FALSE)=DATA!$D$3,IF(O137=\"T7\",IF(N137>=500,\"uni009\",\"uni002\"),\"x\"),IF(VLOOKUP(RIGHT(A137,5)*1,'Data eshop'!D:O,12,FALSE)=DATA!$D$4,\"uni010\",\"\"))),\"\"))),\"\")","v":""},{"$f":"IFERROR(IF(A137=\"\",\"\",IF(LEFT(B137,3)=\"uni\",1,VLOOKUP(RIGHT(A137,5)&\"-\"&B137,'Data eshop'!A:R,18,FALSE))),\"\")","v":""},"",{"$f":"IFERROR(IF(A137=\"\",\"\",IF(LEFT(B137,3)=\"uni\",VLOOKUP(B137,DATA!I:X,IF(O137=\"T7\",3,IF(O137=\"E87\",4,IF(O137=\"P2\",5,IF(O137=\"E2695\",6,\"\")))),FALSE),VLOOKUP(RIGHT(A137,5)&\"-\"&B137,'Data eshop'!A:S,19,FALSE))),\"\")","v":""},{"$f":"IFERROR(IF(A137=\"\",\"\",IF(LEFT(B137,3)=\"uni\",0,VLOOKUP(RIGHT(A137,5)&\"-\"&B137,'Data eshop'!A:S,16,FALSE))),\"\")","v":""},null,"",{"$f":"IF(H137=\"\",\"\",WORKDAY(TODAY()+IF(VLOOKUP(VLOOKUP(RIGHT(A137,5)*1,'Data eshop'!D:N,11,FALSE),DATA!A:B,2,FALSE)=7,14,1),5))","v":""},"","",{"$f":"IF(L136=\"\",\"\",IF(L136=RIGHT(A136,5)&\"x\",LEFT(L136,LEN(L136)-1)&\"y\",IF(L136=RIGHT(A136,5)&\"y\",IFERROR(SMALL('Data eshop'!D:D,COUNTIF('Data eshop'!D:D,\"<\"&(LEFT(L136,LEN(L136)-1)*1))),\"\"),IF(ISERROR(IF(VLOOKUP(M136+1,'Data eshop'!C:D,2,FALSE)='Řádky zakázky'!L136,L136,L136&\"x\")),IF(RIGHT(L136,1)=\"y\",\"\",L136&\"x\"),IF(VLOOKUP(M136+1,'Data eshop'!C:D,2,FALSE)='Řádky zakázky'!L136,L136,L136&\"x\")))))","v":"0xxxxxxxxxxxxxxxxxxxxxxxxxxxxxxxxxxxxxxxxxxxxxxxxxxxxxxxxxxxxxxxxxxxxxxxxxxxxxxxxxxxxxxxxxxxxxxxxxxxxxxxxxxxxxxxxxxxxxxxxxxxxxxxxxxxxxxx"},1,{"$f":"IF(A137=\"\",\"\",VLOOKUP(RIGHT(A137,5)*1,'Data eshop'!D:W,17,FALSE))","v":{"$error":"#VALUE!"}},{"$f":"VLOOKUP(A137,Zakázky!A:B,2,FALSE)","v":{"$error":"#N/A"}},""]
["19ESh0",{"$f":"IFERROR(IF(ISNUMBER(L138),VLOOKUP(L138&\"-\"&M138,'Data eshop'!B:W,16,FALSE),IF(RIGHT(L138,1)=\"x\",VLOOKUP(VLOOKUP(RIGHT(A138,5)*1,'Data eshop'!D:N,11,FALSE),DATA!G:I,3,FALSE),IF(RIGHT(L138,1)=\"y\",IF(VLOOKUP(RIGHT(A138,5)*1,'Data eshop'!D:O,12,FALSE)=IF(O138=\"T7\",DATA!$D$2,IF(O138=\"E87\",DATA!$D$5,IF(O138=\"P2\",DATA!$D$6,IF(O138=\"e2695\",DATA!$D$7,\"\")))),IF(N138>=IF(O138=\"T7\",DATA!$K$11,IF(O138=\"E87\",DATA!$L$11,IF(O138=\"P2\",DATA!$M$11,IF(O138=\"e2695\",DATA!$N$11,\"\")))),\"uni008\",\"uni001\"),IF(VLOOKUP(RIGHT(A138,5)*1,'Data eshop'!D:O,12,FALSE)=DATA!$D$3,IF(O138=\"T7\",IF(N138>=500,\"uni009\",\"uni002\"),\"x\"),IF(VLOOKUP(RIGHT(A138,5)*1,'Data eshop'!D:O,12,FALSE)=DATA!$D$4,\"uni010\",\"\"))),\"\"))),\"\")","v":""},{"$f":"IFERROR(IF(A138=\"\",\"\",IF(LEFT(B138,3)=\"uni\",1,VLOOKUP(RIGHT(A138,5)&\"-\"&B138,'Data eshop'!A:R,18,FALSE))),\"\")","v":""},"",{"$f":"IFERROR(IF(A138=\"\",\"\",IF(LEFT(B138,3)=\"uni\",VLOOKUP(B138,DATA!I:X,IF(O138=\"T7\",3,IF(O138=\"E87\",4,IF(O138=\"P2\",5,IF(O138=\"E2695\",6,\"\")))),FALSE),VLOOKUP(RIGHT(A138,5)&\"-\"&B138,'Data eshop'!A:S,19,FALSE))),\"\")","v":""},{"$f":"IFERROR(IF(A138=\"\",\"\",IF(LEFT(B138,3)=\"uni\",0,VLOOKUP(RIGHT(A138,5)&\"-\"&B138,'Data eshop'!A:S,16,FALSE))),\"\")","v":""},null,"",{"$f":"IF(H138=\"\",\"\",WORKDAY(TODAY()+IF(VLOOKUP(VLOOKUP(RIGHT(A138,5)*1,'Data eshop'!D:N,11,FALSE),DATA!A:B,2,FALSE)=7,14,1),5))","v":""},"","",{"$f":"IF(L137=\"\",\"\",IF(L137=RIGHT(A137,5)&\"x\",LEFT(L137,LEN(L137)-1)&\"y\",IF(L137=RIGHT(A137,5)&\"y\",IFERROR(SMALL('Data eshop'!D:D,COUNTIF('Data eshop'!D:D,\"<\"&(LEFT(L137,LEN(L137)-1)*1))),\"\"),IF(ISERROR(IF(VLOOKUP(M137+1,'Data eshop'!C:D,2,FALSE)='Řádky zakázky'!L137,L137,L137&\"x\")),IF(RIGHT(L137,1)=\"y\",\"\",L137&\"x\"),IF(VLOOKUP(M137+1,'Data eshop'!C:D,2,FALSE)='Řádky zakázky'!L137,L137,L137&\"x\")))))","v":"0xxxxxxxxxxxxxxxxxxxxxxxxxxxxxxxxxxxxxxxxxxxxxxxxxxxxxxxxxxxxxxxxxxxxxxxxxxxxxxxxxxxxxxxxxxxxxxxxxxxxxxxxxxxxxxxxxxxxxxxxxxxxxxxxxxxxxxxx"},1,{"$f":"IF(A138=\"\",\"\",VLOOKUP(RIGHT(A138,5)*1,'Data eshop'!D:W,17,FALSE))","v":{"$error":"#VALUE!"}},{"$f":"VLOOKUP(A138,Zakázky!A:B,2,FALSE)","v":{"$error":"#N/A"}},""]
["19ESh0",{"$f":"IFERROR(IF(ISNUMBER(L139),VLOOKUP(L139&\"-\"&M139,'Data eshop'!B:W,16,FALSE),IF(RIGHT(L139,1)=\"x\",VLOOKUP(VLOOKUP(RIGHT(A139,5)*1,'Data eshop'!D:N,11,FALSE),DATA!G:I,3,FALSE),IF(RIGHT(L139,1)=\"y\",IF(VLOOKUP(RIGHT(A139,5)*1,'Data eshop'!D:O,12,FALSE)=IF(O139=\"T7\",DATA!$D$2,IF(O139=\"E87\",DATA!$D$5,IF(O139=\"P2\",DATA!$D$6,IF(O139=\"e2695\",DATA!$D$7,\"\")))),IF(N139>=IF(O139=\"T7\",DATA!$K$11,IF(O139=\"E87\",DATA!$L$11,IF(O139=\"P2\",DATA!$M$11,IF(O139=\"e2695\",DATA!$N$11,\"\")))),\"uni008\",\"uni001\"),IF(VLOOKUP(RIGHT(A139,5)*1,'Data eshop'!D:O,12,FALSE)=DATA!$D$3,IF(O139=\"T7\",IF(N139>=500,\"uni009\",\"uni002\"),\"x\"),IF(VLOOKUP(RIGHT(A139,5)*1,'Data eshop'!D:O,12,FALSE)=DATA!$D$4,\"uni010\",\"\"))),\"\"))),\"\")","v":""},{"$f":"IFERROR(IF(A139=\"\",\"\",IF(LEFT(B139,3)=\"uni\",1,VLOOKUP(RIGHT(A139,5)&\"-\"&B139,'Data eshop'!A:R,18,FALSE))),\"\")","v":""},"",{"$f":"IFERROR(IF(A139=\"\",\"\",IF(LEFT(B139,3)=\"uni\",VLOOKUP(B139,DATA!I:X,IF(O139=\"T7\",3,IF(O139=\"E87\",4,IF(O139=\"P2\",5,IF(O139=\"E2695\",6,\"\")))),FALSE),VLOOKUP(RIGHT(A139,5)&\"-\"&B139,'Data eshop'!A:S,19,FALSE))),\"\")","v":""},{"$f":"IFERROR(IF(A139=\"\",\"\",IF(LEFT(B139,3)=\"uni\",0,VLOOKUP(RIGHT(A139,5)&\"-\"&B139,'Data eshop'!A:S,16,FALSE))),\"\")","v":""},null,"",{"$f":"IF(H139=\"\",\"\",WORKDAY(TODAY()+IF(VLOOKUP(VLOOKUP(RIGHT(A139,5)*1,'Data eshop'!D:N,11,FALSE),DATA!A:B,2,FALSE)=7,14,1),5))","v":""},"","",{"$f":"IF(L138=\"\",\"\",IF(L138=RIGHT(A138,5)&\"x\",LEFT(L138,LEN(L138)-1)&\"y\",IF(L138=RIGHT(A138,5)&\"y\",IFERROR(SMALL('Data eshop'!D:D,COUNTIF('Data eshop'!D:D,\"<\"&(LEFT(L138,LEN(L138)-1)*1))),\"\"),IF(ISERROR(IF(VLOOKUP(M138+1,'Data eshop'!C:D,2,FALSE)='Řádky zakázky'!L138,L138,L138&\"x\")),IF(RIGHT(L138,1)=\"y\",\"\",L138&\"x\"),IF(VLOOKUP(M138+1,'Data eshop'!C:D,2,FALSE)='Řádky zakázky'!L138,L138,L138&\"x\")))))","v":"0xxxxxxxxxxxxxxxxxxxxxxxxxxxxxxxxxxxxxxxxxxxxxxxxxxxxxxxxxxxxxxxxxxxxxxxxxxxxxxxxxxxxxxxxxxxxxxxxxxxxxxxxxxxxxxxxxxxxxxxxxxxxxxxxxxxxxxxxx"},1,{"$f":"IF(A139=\"\",\"\",VLOOKUP(RIGHT(A139,5)*1,'Data eshop'!D:W,17,FALSE))","v":{"$error":"#VALUE!"}},{"$f":"VLOOKUP(A139,Zakázky!A:B,2,FALSE)","v":{"$error":"#N/A"}},""]
["19ESh0",{"$f":"IFERROR(IF(ISNUMBER(L140),VLOOKUP(L140&\"-\"&M140,'Data eshop'!B:W,16,FALSE),IF(RIGHT(L140,1)=\"x\",VLOOKUP(VLOOKUP(RIGHT(A140,5)*1,'Data eshop'!D:N,11,FALSE),DATA!G:I,3,FALSE),IF(RIGHT(L140,1)=\"y\",IF(VLOOKUP(RIGHT(A140,5)*1,'Data eshop'!D:O,12,FALSE)=IF(O140=\"T7\",DATA!$D$2,IF(O140=\"E87\",DATA!$D$5,IF(O140=\"P2\",DATA!$D$6,IF(O140=\"e2695\",DATA!$D$7,\"\")))),IF(N140>=IF(O140=\"T7\",DATA!$K$11,IF(O140=\"E87\",DATA!$L$11,IF(O140=\"P2\",DATA!$M$11,IF(O140=\"e2695\",DATA!$N$11,\"\")))),\"uni008\",\"uni001\"),IF(VLOOKUP(RIGHT(A140,5)*1,'Data eshop'!D:O,12,FALSE)=DATA!$D$3,IF(O140=\"T7\",IF(N140>=500,\"uni009\",\"uni002\"),\"x\"),IF(VLOOKUP(RIGHT(A140,5)*1,'Data eshop'!D:O,12,FALSE)=DATA!$D$4,\"uni010\",\"\"))),\"\"))),\"\")","v":""},{"$f":"IFERROR(IF(A140=\"\",\"\",IF(LEFT(B140,3)=\"uni\",1,VLOOKUP(RIGHT(A140,5)&\"-\"&B140,'Data eshop'!A:R,18,FALSE))),\"\")","v":""},"",{"$f":"IFERROR(IF(A140=\"\",\"\",IF(LEFT(B140,3)=\"uni\",VLOOKUP(B140,DATA!I:X,IF(O140=\"T7\",3,IF(O140=\"E87\",4,IF(O140=\"P2\",5,IF(O140=\"E2695\",6,\"\")))),FALSE),VLOOKUP(RIGHT(A140,5)&\"-\"&B140,'Data eshop'!A:S,19,FALSE))),\"\")","v":""},{"$f":"IFERROR(IF(A140=\"\",\"\",IF(LEFT(B140,3)=\"uni\",0,VLOOKUP(RIGHT(A140,5)&\"-\"&B140,'Data eshop'!A:S,16,FALSE))),\"\")","v":""},null,"",{"$f":"IF(H140=\"\",\"\",WORKDAY(TODAY()+IF(VLOOKUP(VLOOKUP(RIGHT(A140,5)*1,'Data eshop'!D:N,11,FALSE),DATA!A:B,2,FALSE)=7,14,1),5))","v":""},"","",{"$f":"IF(L139=\"\",\"\",IF(L139=RIGHT(A139,5)&\"x\",LEFT(L139,LEN(L139)-1)&\"y\",IF(L139=RIGHT(A139,5)&\"y\",IFERROR(SMALL('Data eshop'!D:D,COUNTIF('Data eshop'!D:D,\"<\"&(LEFT(L139,LEN(L139)-1)*1))),\"\"),IF(ISERROR(IF(VLOOKUP(M139+1,'Data eshop'!C:D,2,FALSE)='Řádky zakázky'!L139,L139,L139&\"x\")),IF(RIGHT(L139,1)=\"y\",\"\",L139&\"x\"),IF(VLOOKUP(M139+1,'Data eshop'!C:D,2,FALSE)='Řádky zakázky'!L139,L139,L139&\"x\")))))","v":"0xxxxxxxxxxxxxxxxxxxxxxxxxxxxxxxxxxxxxxxxxxxxxxxxxxxxxxxxxxxxxxxxxxxxxxxxxxxxxxxxxxxxxxxxxxxxxxxxxxxxxxxxxxxxxxxxxxxxxxxxxxxxxxxxxxxxxxxxxx"},1,{"$f":"IF(A140=\"\",\"\",VLOOKUP(RIGHT(A140,5)*1,'Data eshop'!D:W,17,FALSE))","v":{"$error":"#VALUE!"}},{"$f":"VLOOKUP(A140,Zakázky!A:B,2,FALSE)","v":{"$error":"#N/A"}},"","Roluj nahoru, až uvidíš žlutou"]
["19ESh0",{"$f":"IFERROR(IF(ISNUMBER(L141),VLOOKUP(L141&\"-\"&M141,'Data eshop'!B:W,16,FALSE),IF(RIGHT(L141,1)=\"x\",VLOOKUP(VLOOKUP(RIGHT(A141,5)*1,'Data eshop'!D:N,11,FALSE),DATA!G:I,3,FALSE),IF(RIGHT(L141,1)=\"y\",IF(VLOOKUP(RIGHT(A141,5)*1,'Data eshop'!D:O,12,FALSE)=IF(O141=\"T7\",DATA!$D$2,IF(O141=\"E87\",DATA!$D$5,IF(O141=\"P2\",DATA!$D$6,IF(O141=\"e2695\",DATA!$D$7,\"\")))),IF(N141>=IF(O141=\"T7\",DATA!$K$11,IF(O141=\"E87\",DATA!$L$11,IF(O141=\"P2\",DATA!$M$11,IF(O141=\"e2695\",DATA!$N$11,\"\")))),\"uni008\",\"uni001\"),IF(VLOOKUP(RIGHT(A141,5)*1,'Data eshop'!D:O,12,FALSE)=DATA!$D$3,IF(O141=\"T7\",IF(N141>=500,\"uni009\",\"uni002\"),\"x\"),IF(VLOOKUP(RIGHT(A141,5)*1,'Data eshop'!D:O,12,FALSE)=DATA!$D$4,\"uni010\",\"\"))),\"\"))),\"\")","v":""},{"$f":"IFERROR(IF(A141=\"\",\"\",IF(LEFT(B141,3)=\"uni\",1,VLOOKUP(RIGHT(A141,5)&\"-\"&B141,'Data eshop'!A:R,18,FALSE))),\"\")","v":""},"",{"$f":"IFERROR(IF(A141=\"\",\"\",IF(LEFT(B141,3)=\"uni\",VLOOKUP(B141,DATA!I:X,IF(O141=\"T7\",3,IF(O141=\"E87\",4,IF(O141=\"P2\",5,IF(O141=\"E2695\",6,\"\")))),FALSE),VLOOKUP(RIGHT(A141,5)&\"-\"&B141,'Data eshop'!A:S,19,FALSE))),\"\")","v":""},{"$f":"IFERROR(IF(A141=\"\",\"\",IF(LEFT(B141,3)=\"uni\",0,VLOOKUP(RIGHT(A141,5)&\"-\"&B141,'Data eshop'!A:S,16,FALSE))),\"\")","v":""},null,"",{"$f":"IF(H141=\"\",\"\",WORKDAY(TODAY()+IF(VLOOKUP(VLOOKUP(RIGHT(A141,5)*1,'Data eshop'!D:N,11,FALSE),DATA!A:B,2,FALSE)=7,14,1),5))","v":""},"","",{"$f":"IF(L140=\"\",\"\",IF(L140=RIGHT(A140,5)&\"x\",LEFT(L140,LEN(L140)-1)&\"y\",IF(L140=RIGHT(A140,5)&\"y\",IFERROR(SMALL('Data eshop'!D:D,COUNTIF('Data eshop'!D:D,\"<\"&(LEFT(L140,LEN(L140)-1)*1))),\"\"),IF(ISERROR(IF(VLOOKUP(M140+1,'Data eshop'!C:D,2,FALSE)='Řádky zakázky'!L140,L140,L140&\"x\")),IF(RIGHT(L140,1)=\"y\",\"\",L140&\"x\"),IF(VLOOKUP(M140+1,'Data eshop'!C:D,2,FALSE)='Řádky zakázky'!L140,L140,L140&\"x\")))))","v":"0xxxxxxxxxxxxxxxxxxxxxxxxxxxxxxxxxxxxxxxxxxxxxxxxxxxxxxxxxxxxxxxxxxxxxxxxxxxxxxxxxxxxxxxxxxxxxxxxxxxxxxxxxxxxxxxxxxxxxxxxxxxxxxxxxxxxxxxxxxx"},1,{"$f":"IF(A141=\"\",\"\",VLOOKUP(RIGHT(A141,5)*1,'Data eshop'!D:W,17,FALSE))","v":{"$error":"#VALUE!"}},{"$f":"VLOOKUP(A141,Zakázky!A:B,2,FALSE)","v":{"$error":"#N/A"}},""]
["19ESh0",{"$f":"IFERROR(IF(ISNUMBER(L142),VLOOKUP(L142&\"-\"&M142,'Data eshop'!B:W,16,FALSE),IF(RIGHT(L142,1)=\"x\",VLOOKUP(VLOOKUP(RIGHT(A142,5)*1,'Data eshop'!D:N,11,FALSE),DATA!G:I,3,FALSE),IF(RIGHT(L142,1)=\"y\",IF(VLOOKUP(RIGHT(A142,5)*1,'Data eshop'!D:O,12,FALSE)=IF(O142=\"T7\",DATA!$D$2,IF(O142=\"E87\",DATA!$D$5,IF(O142=\"P2\",DATA!$D$6,IF(O142=\"e2695\",DATA!$D$7,\"\")))),IF(N142>=IF(O142=\"T7\",DATA!$K$11,IF(O142=\"E87\",DATA!$L$11,IF(O142=\"P2\",DATA!$M$11,IF(O142=\"e2695\",DATA!$N$11,\"\")))),\"uni008\",\"uni001\"),IF(VLOOKUP(RIGHT(A142,5)*1,'Data eshop'!D:O,12,FALSE)=DATA!$D$3,IF(O142=\"T7\",IF(N142>=500,\"uni009\",\"uni002\"),\"x\"),IF(VLOOKUP(RIGHT(A142,5)*1,'Data eshop'!D:O,12,FALSE)=DATA!$D$4,\"uni010\",\"\"))),\"\"))),\"\")","v":""},{"$f":"IFERROR(IF(A142=\"\",\"\",IF(LEFT(B142,3)=\"uni\",1,VLOOKUP(RIGHT(A142,5)&\"-\"&B142,'Data eshop'!A:R,18,FALSE))),\"\")","v":""},"",{"$f":"IFERROR(IF(A142=\"\",\"\",IF(LEFT(B142,3)=\"uni\",VLOOKUP(B142,DATA!I:X,IF(O142=\"T7\",3,IF(O142=\"E87\",4,IF(O142=\"P2\",5,IF(O142=\"E2695\",6,\"\")))),FALSE),VLOOKUP(RIGHT(A142,5)&\"-\"&B142,'Data eshop'!A:S,19,FALSE))),\"\")","v":""},{"$f":"IFERROR(IF(A142=\"\",\"\",IF(LEFT(B142,3)=\"uni\",0,VLOOKUP(RIGHT(A142,5)&\"-\"&B142,'Data eshop'!A:S,16,FALSE))),\"\")","v":""},null,"",{"$f":"IF(H142=\"\",\"\",WORKDAY(TODAY()+IF(VLOOKUP(VLOOKUP(RIGHT(A142,5)*1,'Data eshop'!D:N,11,FALSE),DATA!A:B,2,FALSE)=7,14,1),5))","v":""},"","",{"$f":"IF(L141=\"\",\"\",IF(L141=RIGHT(A141,5)&\"x\",LEFT(L141,LEN(L141)-1)&\"y\",IF(L141=RIGHT(A141,5)&\"y\",IFERROR(SMALL('Data eshop'!D:D,COUNTIF('Data eshop'!D:D,\"<\"&(LEFT(L141,LEN(L141)-1)*1))),\"\"),IF(ISERROR(IF(VLOOKUP(M141+1,'Data eshop'!C:D,2,FALSE)='Řádky zakázky'!L141,L141,L141&\"x\")),IF(RIGHT(L141,1)=\"y\",\"\",L141&\"x\"),IF(VLOOKUP(M141+1,'Data eshop'!C:D,2,FALSE)='Řádky zakázky'!L141,L141,L141&\"x\")))))","v":"0xxxxxxxxxxxxxxxxxxxxxxxxxxxxxxxxxxxxxxxxxxxxxxxxxxxxxxxxxxxxxxxxxxxxxxxxxxxxxxxxxxxxxxxxxxxxxxxxxxxxxxxxxxxxxxxxxxxxxxxxxxxxxxxxxxxxxxxxxxxx"},1,{"$f":"IF(A142=\"\",\"\",VLOOKUP(RIGHT(A142,5)*1,'Data eshop'!D:W,17,FALSE))","v":{"$error":"#VALUE!"}},{"$f":"VLOOKUP(A142,Zakázky!A:B,2,FALSE)","v":{"$error":"#N/A"}},""]
["19ESh0",{"$f":"IFERROR(IF(ISNUMBER(L143),VLOOKUP(L143&\"-\"&M143,'Data eshop'!B:W,16,FALSE),IF(RIGHT(L143,1)=\"x\",VLOOKUP(VLOOKUP(RIGHT(A143,5)*1,'Data eshop'!D:N,11,FALSE),DATA!G:I,3,FALSE),IF(RIGHT(L143,1)=\"y\",IF(VLOOKUP(RIGHT(A143,5)*1,'Data eshop'!D:O,12,FALSE)=IF(O143=\"T7\",DATA!$D$2,IF(O143=\"E87\",DATA!$D$5,IF(O143=\"P2\",DATA!$D$6,IF(O143=\"e2695\",DATA!$D$7,\"\")))),IF(N143>=IF(O143=\"T7\",DATA!$K$11,IF(O143=\"E87\",DATA!$L$11,IF(O143=\"P2\",DATA!$M$11,IF(O143=\"e2695\",DATA!$N$11,\"\")))),\"uni008\",\"uni001\"),IF(VLOOKUP(RIGHT(A143,5)*1,'Data eshop'!D:O,12,FALSE)=DATA!$D$3,IF(O143=\"T7\",IF(N143>=500,\"uni009\",\"uni002\"),\"x\"),IF(VLOOKUP(RIGHT(A143,5)*1,'Data eshop'!D:O,12,FALSE)=DATA!$D$4,\"uni010\",\"\"))),\"\"))),\"\")","v":""},{"$f":"IFERROR(IF(A143=\"\",\"\",IF(LEFT(B143,3)=\"uni\",1,VLOOKUP(RIGHT(A143,5)&\"-\"&B143,'Data eshop'!A:R,18,FALSE))),\"\")","v":""},"",{"$f":"IFERROR(IF(A143=\"\",\"\",IF(LEFT(B143,3)=\"uni\",VLOOKUP(B143,DATA!I:X,IF(O143=\"T7\",3,IF(O143=\"E87\",4,IF(O143=\"P2\",5,IF(O143=\"E2695\",6,\"\")))),FALSE),VLOOKUP(RIGHT(A143,5)&\"-\"&B143,'Data eshop'!A:S,19,FALSE))),\"\")","v":""},{"$f":"IFERROR(IF(A143=\"\",\"\",IF(LEFT(B143,3)=\"uni\",0,VLOOKUP(RIGHT(A143,5)&\"-\"&B143,'Data eshop'!A:S,16,FALSE))),\"\")","v":""},null,"",{"$f":"IF(H143=\"\",\"\",WORKDAY(TODAY()+IF(VLOOKUP(VLOOKUP(RIGHT(A143,5)*1,'Data eshop'!D:N,11,FALSE),DATA!A:B,2,FALSE)=7,14,1),5))","v":""},"","",{"$f":"IF(L142=\"\",\"\",IF(L142=RIGHT(A142,5)&\"x\",LEFT(L142,LEN(L142)-1)&\"y\",IF(L142=RIGHT(A142,5)&\"y\",IFERROR(SMALL('Data eshop'!D:D,COUNTIF('Data eshop'!D:D,\"<\"&(LEFT(L142,LEN(L142)-1)*1))),\"\"),IF(ISERROR(IF(VLOOKUP(M142+1,'Data eshop'!C:D,2,FALSE)='Řádky zakázky'!L142,L142,L142&\"x\")),IF(RIGHT(L142,1)=\"y\",\"\",L142&\"x\"),IF(VLOOKUP(M142+1,'Data eshop'!C:D,2,FALSE)='Řádky zakázky'!L142,L142,L142&\"x\")))))","v":"0xxxxxxxxxxxxxxxxxxxxxxxxxxxxxxxxxxxxxxxxxxxxxxxxxxxxxxxxxxxxxxxxxxxxxxxxxxxxxxxxxxxxxxxxxxxxxxxxxxxxxxxxxxxxxxxxxxxxxxxxxxxxxxxxxxxxxxxxxxxxx"},1,{"$f":"IF(A143=\"\",\"\",VLOOKUP(RIGHT(A143,5)*1,'Data eshop'!D:W,17,FALSE))","v":{"$error":"#VALUE!"}},{"$f":"VLOOKUP(A143,Zakázky!A:B,2,FALSE)","v":{"$error":"#N/A"}},""]
["19ESh0",{"$f":"IFERROR(IF(ISNUMBER(L144),VLOOKUP(L144&\"-\"&M144,'Data eshop'!B:W,16,FALSE),IF(RIGHT(L144,1)=\"x\",VLOOKUP(VLOOKUP(RIGHT(A144,5)*1,'Data eshop'!D:N,11,FALSE),DATA!G:I,3,FALSE),IF(RIGHT(L144,1)=\"y\",IF(VLOOKUP(RIGHT(A144,5)*1,'Data eshop'!D:O,12,FALSE)=IF(O144=\"T7\",DATA!$D$2,IF(O144=\"E87\",DATA!$D$5,IF(O144=\"P2\",DATA!$D$6,IF(O144=\"e2695\",DATA!$D$7,\"\")))),IF(N144>=IF(O144=\"T7\",DATA!$K$11,IF(O144=\"E87\",DATA!$L$11,IF(O144=\"P2\",DATA!$M$11,IF(O144=\"e2695\",DATA!$N$11,\"\")))),\"uni008\",\"uni001\"),IF(VLOOKUP(RIGHT(A144,5)*1,'Data eshop'!D:O,12,FALSE)=DATA!$D$3,IF(O144=\"T7\",IF(N144>=500,\"uni009\",\"uni002\"),\"x\"),IF(VLOOKUP(RIGHT(A144,5)*1,'Data eshop'!D:O,12,FALSE)=DATA!$D$4,\"uni010\",\"\"))),\"\"))),\"\")","v":""},{"$f":"IFERROR(IF(A144=\"\",\"\",IF(LEFT(B144,3)=\"uni\",1,VLOOKUP(RIGHT(A144,5)&\"-\"&B144,'Data eshop'!A:R,18,FALSE))),\"\")","v":""},"",{"$f":"IFERROR(IF(A144=\"\",\"\",IF(LEFT(B144,3)=\"uni\",VLOOKUP(B144,DATA!I:X,IF(O144=\"T7\",3,IF(O144=\"E87\",4,IF(O144=\"P2\",5,IF(O144=\"E2695\",6,\"\")))),FALSE),VLOOKUP(RIGHT(A144,5)&\"-\"&B144,'Data eshop'!A:S,19,FALSE))),\"\")","v":""},{"$f":"IFERROR(IF(A144=\"\",\"\",IF(LEFT(B144,3)=\"uni\",0,VLOOKUP(RIGHT(A144,5)&\"-\"&B144,'Data eshop'!A:S,16,FALSE))),\"\")","v":""},null,"",{"$f":"IF(H144=\"\",\"\",WORKDAY(TODAY()+IF(VLOOKUP(VLOOKUP(RIGHT(A144,5)*1,'Data eshop'!D:N,11,FALSE),DATA!A:B,2,FALSE)=7,14,1),5))","v":""},"","",{"$f":"IF(L143=\"\",\"\",IF(L143=RIGHT(A143,5)&\"x\",LEFT(L143,LEN(L143)-1)&\"y\",IF(L143=RIGHT(A143,5)&\"y\",IFERROR(SMALL('Data eshop'!D:D,COUNTIF('Data eshop'!D:D,\"<\"&(LEFT(L143,LEN(L143)-1)*1))),\"\"),IF(ISERROR(IF(VLOOKUP(M143+1,'Data eshop'!C:D,2,FALSE)='Řádky zakázky'!L143,L143,L143&\"x\")),IF(RIGHT(L143,1)=\"y\",\"\",L143&\"x\"),IF(VLOOKUP(M143+1,'Data eshop'!C:D,2,FALSE)='Řádky zakázky'!L143,L143,L143&\"x\")))))","v":"0xxxxxxxxxxxxxxxxxxxxxxxxxxxxxxxxxxxxxxxxxxxxxxxxxxxxxxxxxxxxxxxxxxxxxxxxxxxxxxxxxxxxxxxxxxxxxxxxxxxxxxxxxxxxxxxxxxxxxxxxxxxxxxxxxxxxxxxxxxxxxx"},1,{"$f":"IF(A144=\"\",\"\",VLOOKUP(RIGHT(A144,5)*1,'Data eshop'!D:W,17,FALSE))","v":{"$error":"#VALUE!"}},{"$f":"VLOOKUP(A144,Zakázky!A:B,2,FALSE)","v":{"$error":"#N/A"}},"","Roluj nahoru, až uvidíš žlutou"]
["19ESh0",{"$f":"IFERROR(IF(ISNUMBER(L145),VLOOKUP(L145&\"-\"&M145,'Data eshop'!B:W,16,FALSE),IF(RIGHT(L145,1)=\"x\",VLOOKUP(VLOOKUP(RIGHT(A145,5)*1,'Data eshop'!D:N,11,FALSE),DATA!G:I,3,FALSE),IF(RIGHT(L145,1)=\"y\",IF(VLOOKUP(RIGHT(A145,5)*1,'Data eshop'!D:O,12,FALSE)=IF(O145=\"T7\",DATA!$D$2,IF(O145=\"E87\",DATA!$D$5,IF(O145=\"P2\",DATA!$D$6,IF(O145=\"e2695\",DATA!$D$7,\"\")))),IF(N145>=IF(O145=\"T7\",DATA!$K$11,IF(O145=\"E87\",DATA!$L$11,IF(O145=\"P2\",DATA!$M$11,IF(O145=\"e2695\",DATA!$N$11,\"\")))),\"uni008\",\"uni001\"),IF(VLOOKUP(RIGHT(A145,5)*1,'Data eshop'!D:O,12,FALSE)=DATA!$D$3,IF(O145=\"T7\",IF(N145>=500,\"uni009\",\"uni002\"),\"x\"),IF(VLOOKUP(RIGHT(A145,5)*1,'Data eshop'!D:O,12,FALSE)=DATA!$D$4,\"uni010\",\"\"))),\"\"))),\"\")","v":""},{"$f":"IFERROR(IF(A145=\"\",\"\",IF(LEFT(B145,3)=\"uni\",1,VLOOKUP(RIGHT(A145,5)&\"-\"&B145,'Data eshop'!A:R,18,FALSE))),\"\")","v":""},"",{"$f":"IFERROR(IF(A145=\"\",\"\",IF(LEFT(B145,3)=\"uni\",VLOOKUP(B145,DATA!I:X,IF(O145=\"T7\",3,IF(O145=\"E87\",4,IF(O145=\"P2\",5,IF(O145=\"E2695\",6,\"\")))),FALSE),VLOOKUP(RIGHT(A145,5)&\"-\"&B145,'Data eshop'!A:S,19,FALSE))),\"\")","v":""},{"$f":"IFERROR(IF(A145=\"\",\"\",IF(LEFT(B145,3)=\"uni\",0,VLOOKUP(RIGHT(A145,5)&\"-\"&B145,'Data eshop'!A:S,16,FALSE))),\"\")","v":""},null,"",{"$f":"IF(H145=\"\",\"\",WORKDAY(TODAY()+IF(VLOOKUP(VLOOKUP(RIGHT(A145,5)*1,'Data eshop'!D:N,11,FALSE),DATA!A:B,2,FALSE)=7,14,1),5))","v":""},"","",{"$f":"IF(L144=\"\",\"\",IF(L144=RIGHT(A144,5)&\"x\",LEFT(L144,LEN(L144)-1)&\"y\",IF(L144=RIGHT(A144,5)&\"y\",IFERROR(SMALL('Data eshop'!D:D,COUNTIF('Data eshop'!D:D,\"<\"&(LEFT(L144,LEN(L144)-1)*1))),\"\"),IF(ISERROR(IF(VLOOKUP(M144+1,'Data eshop'!C:D,2,FALSE)='Řádky zakázky'!L144,L144,L144&\"x\")),IF(RIGHT(L144,1)=\"y\",\"\",L144&\"x\"),IF(VLOOKUP(M144+1,'Data eshop'!C:D,2,FALSE)='Řádky zakázky'!L144,L144,L144&\"x\")))))","v":"0xxxxxxxxxxxxxxxxxxxxxxxxxxxxxxxxxxxxxxxxxxxxxxxxxxxxxxxxxxxxxxxxxxxxxxxxxxxxxxxxxxxxxxxxxxxxxxxxxxxxxxxxxxxxxxxxxxxxxxxxxxxxxxxxxxxxxxxxxxxxxxx"},{"$f":"IF(L145=\"\",\"\",IF(RIGHT(L145,1)=\"x\",M144,IF(RIGHT(L145,1)=\"y\",M144,M144+1)))","v":1},{"$f":"IF(A145=\"\",\"\",VLOOKUP(RIGHT(A145,5)*1,'Data eshop'!D:W,17,FALSE))","v":{"$error":"#VALUE!"}},{"$f":"VLOOKUP(A145,Zakázky!A:B,2,FALSE)","v":{"$error":"#N/A"}},""]
["19ESh0",{"$f":"IFERROR(IF(ISNUMBER(L146),VLOOKUP(L146&\"-\"&M146,'Data eshop'!B:W,16,FALSE),IF(RIGHT(L146,1)=\"x\",VLOOKUP(VLOOKUP(RIGHT(A146,5)*1,'Data eshop'!D:N,11,FALSE),DATA!G:I,3,FALSE),IF(RIGHT(L146,1)=\"y\",IF(VLOOKUP(RIGHT(A146,5)*1,'Data eshop'!D:O,12,FALSE)=IF(O146=\"T7\",DATA!$D$2,IF(O146=\"E87\",DATA!$D$5,IF(O146=\"P2\",DATA!$D$6,IF(O146=\"e2695\",DATA!$D$7,\"\")))),IF(N146>=IF(O146=\"T7\",DATA!$K$11,IF(O146=\"E87\",DATA!$L$11,IF(O146=\"P2\",DATA!$M$11,IF(O146=\"e2695\",DATA!$N$11,\"\")))),\"uni008\",\"uni001\"),IF(VLOOKUP(RIGHT(A146,5)*1,'Data eshop'!D:O,12,FALSE)=DATA!$D$3,IF(O146=\"T7\",IF(N146>=500,\"uni009\",\"uni002\"),\"x\"),IF(VLOOKUP(RIGHT(A146,5)*1,'Data eshop'!D:O,12,FALSE)=DATA!$D$4,\"uni010\",\"\"))),\"\"))),\"\")","v":""},{"$f":"IFERROR(IF(A146=\"\",\"\",IF(LEFT(B146,3)=\"uni\",1,VLOOKUP(RIGHT(A146,5)&\"-\"&B146,'Data eshop'!A:R,18,FALSE))),\"\")","v":""},"",{"$f":"IFERROR(IF(A146=\"\",\"\",IF(LEFT(B146,3)=\"uni\",VLOOKUP(B146,DATA!I:X,IF(O146=\"T7\",3,IF(O146=\"E87\",4,IF(O146=\"P2\",5,IF(O146=\"E2695\",6,\"\")))),FALSE),VLOOKUP(RIGHT(A146,5)&\"-\"&B146,'Data eshop'!A:S,19,FALSE))),\"\")","v":""},{"$f":"IFERROR(IF(A146=\"\",\"\",IF(LEFT(B146,3)=\"uni\",0,VLOOKUP(RIGHT(A146,5)&\"-\"&B146,'Data eshop'!A:S,16,FALSE))),\"\")","v":""},null,"",{"$f":"IF(H146=\"\",\"\",WORKDAY(TODAY()+IF(VLOOKUP(VLOOKUP(RIGHT(A146,5)*1,'Data eshop'!D:N,11,FALSE),DATA!A:B,2,FALSE)=7,14,1),5))","v":""},"","",{"$f":"IF(L145=\"\",\"\",IF(L145=RIGHT(A145,5)&\"x\",LEFT(L145,LEN(L145)-1)&\"y\",IF(L145=RIGHT(A145,5)&\"y\",IFERROR(SMALL('Data eshop'!D:D,COUNTIF('Data eshop'!D:D,\"<\"&(LEFT(L145,LEN(L145)-1)*1))),\"\"),IF(ISERROR(IF(VLOOKUP(M145+1,'Data eshop'!C:D,2,FALSE)='Řádky zakázky'!L145,L145,L145&\"x\")),IF(RIGHT(L145,1)=\"y\",\"\",L145&\"x\"),IF(VLOOKUP(M145+1,'Data eshop'!C:D,2,FALSE)='Řádky zakázky'!L145,L145,L145&\"x\")))))","v":"0xxxxxxxxxxxxxxxxxxxxxxxxxxxxxxxxxxxxxxxxxxxxxxxxxxxxxxxxxxxxxxxxxxxxxxxxxxxxxxxxxxxxxxxxxxxxxxxxxxxxxxxxxxxxxxxxxxxxxxxxxxxxxxxxxxxxxxxxxxxxxxxx"},1,{"$f":"IF(A146=\"\",\"\",VLOOKUP(RIGHT(A146,5)*1,'Data eshop'!D:W,17,FALSE))","v":{"$error":"#VALUE!"}},{"$f":"VLOOKUP(A146,Zakázky!A:B,2,FALSE)","v":{"$error":"#N/A"}},""]
["19ESh0",{"$f":"IFERROR(IF(ISNUMBER(L147),VLOOKUP(L147&\"-\"&M147,'Data eshop'!B:W,16,FALSE),IF(RIGHT(L147,1)=\"x\",VLOOKUP(VLOOKUP(RIGHT(A147,5)*1,'Data eshop'!D:N,11,FALSE),DATA!G:I,3,FALSE),IF(RIGHT(L147,1)=\"y\",IF(VLOOKUP(RIGHT(A147,5)*1,'Data eshop'!D:O,12,FALSE)=IF(O147=\"T7\",DATA!$D$2,IF(O147=\"E87\",DATA!$D$5,IF(O147=\"P2\",DATA!$D$6,IF(O147=\"e2695\",DATA!$D$7,\"\")))),IF(N147>=IF(O147=\"T7\",DATA!$K$11,IF(O147=\"E87\",DATA!$L$11,IF(O147=\"P2\",DATA!$M$11,IF(O147=\"e2695\",DATA!$N$11,\"\")))),\"uni008\",\"uni001\"),IF(VLOOKUP(RIGHT(A147,5)*1,'Data eshop'!D:O,12,FALSE)=DATA!$D$3,IF(O147=\"T7\",IF(N147>=500,\"uni009\",\"uni002\"),\"x\"),IF(VLOOKUP(RIGHT(A147,5)*1,'Data eshop'!D:O,12,FALSE)=DATA!$D$4,\"uni010\",\"\"))),\"\"))),\"\")","v":""},{"$f":"IFERROR(IF(A147=\"\",\"\",IF(LEFT(B147,3)=\"uni\",1,VLOOKUP(RIGHT(A147,5)&\"-\"&B147,'Data eshop'!A:R,18,FALSE))),\"\")","v":""},"",{"$f":"IFERROR(IF(A147=\"\",\"\",IF(LEFT(B147,3)=\"uni\",VLOOKUP(B147,DATA!I:X,IF(O147=\"T7\",3,IF(O147=\"E87\",4,IF(O147=\"P2\",5,IF(O147=\"E2695\",6,\"\")))),FALSE),VLOOKUP(RIGHT(A147,5)&\"-\"&B147,'Data eshop'!A:S,19,FALSE))),\"\")","v":""},{"$f":"IFERROR(IF(A147=\"\",\"\",IF(LEFT(B147,3)=\"uni\",0,VLOOKUP(RIGHT(A147,5)&\"-\"&B147,'Data eshop'!A:S,16,FALSE))),\"\")","v":""},null,"",{"$f":"IF(H147=\"\",\"\",WORKDAY(TODAY()+IF(VLOOKUP(VLOOKUP(RIGHT(A147,5)*1,'Data eshop'!D:N,11,FALSE),DATA!A:B,2,FALSE)=7,14,1),5))","v":""},"","",{"$f":"IF(L146=\"\",\"\",IF(L146=RIGHT(A146,5)&\"x\",LEFT(L146,LEN(L146)-1)&\"y\",IF(L146=RIGHT(A146,5)&\"y\",IFERROR(SMALL('Data eshop'!D:D,COUNTIF('Data eshop'!D:D,\"<\"&(LEFT(L146,LEN(L146)-1)*1))),\"\"),IF(ISERROR(IF(VLOOKUP(M146+1,'Data eshop'!C:D,2,FALSE)='Řádky zakázky'!L146,L146,L146&\"x\")),IF(RIGHT(L146,1)=\"y\",\"\",L146&\"x\"),IF(VLOOKUP(M146+1,'Data eshop'!C:D,2,FALSE)='Řádky zakázky'!L146,L146,L146&\"x\")))))","v":"0xxxxxxxxxxxxxxxxxxxxxxxxxxxxxxxxxxxxxxxxxxxxxxxxxxxxxxxxxxxxxxxxxxxxxxxxxxxxxxxxxxxxxxxxxxxxxxxxxxxxxxxxxxxxxxxxxxxxxxxxxxxxxxxxxxxxxxxxxxxxxxxxx"},1,{"$f":"IF(A147=\"\",\"\",VLOOKUP(RIGHT(A147,5)*1,'Data eshop'!D:W,17,FALSE))","v":{"$error":"#VALUE!"}},{"$f":"VLOOKUP(A147,Zakázky!A:B,2,FALSE)","v":{"$error":"#N/A"}},""]
["19ESh0",{"$f":"IFERROR(IF(ISNUMBER(L148),VLOOKUP(L148&\"-\"&M148,'Data eshop'!B:W,16,FALSE),IF(RIGHT(L148,1)=\"x\",VLOOKUP(VLOOKUP(RIGHT(A148,5)*1,'Data eshop'!D:N,11,FALSE),DATA!G:I,3,FALSE),IF(RIGHT(L148,1)=\"y\",IF(VLOOKUP(RIGHT(A148,5)*1,'Data eshop'!D:O,12,FALSE)=IF(O148=\"T7\",DATA!$D$2,IF(O148=\"E87\",DATA!$D$5,IF(O148=\"P2\",DATA!$D$6,IF(O148=\"e2695\",DATA!$D$7,\"\")))),IF(N148>=IF(O148=\"T7\",DATA!$K$11,IF(O148=\"E87\",DATA!$L$11,IF(O148=\"P2\",DATA!$M$11,IF(O148=\"e2695\",DATA!$N$11,\"\")))),\"uni008\",\"uni001\"),IF(VLOOKUP(RIGHT(A148,5)*1,'Data eshop'!D:O,12,FALSE)=DATA!$D$3,IF(O148=\"T7\",IF(N148>=500,\"uni009\",\"uni002\"),\"x\"),IF(VLOOKUP(RIGHT(A148,5)*1,'Data eshop'!D:O,12,FALSE)=DATA!$D$4,\"uni010\",\"\"))),\"\"))),\"\")","v":""},{"$f":"IFERROR(IF(A148=\"\",\"\",IF(LEFT(B148,3)=\"uni\",1,VLOOKUP(RIGHT(A148,5)&\"-\"&B148,'Data eshop'!A:R,18,FALSE))),\"\")","v":""},"",{"$f":"IFERROR(IF(A148=\"\",\"\",IF(LEFT(B148,3)=\"uni\",VLOOKUP(B148,DATA!I:X,IF(O148=\"T7\",3,IF(O148=\"E87\",4,IF(O148=\"P2\",5,IF(O148=\"E2695\",6,\"\")))),FALSE),VLOOKUP(RIGHT(A148,5)&\"-\"&B148,'Data eshop'!A:S,19,FALSE))),\"\")","v":""},{"$f":"IFERROR(IF(A148=\"\",\"\",IF(LEFT(B148,3)=\"uni\",0,VLOOKUP(RIGHT(A148,5)&\"-\"&B148,'Data eshop'!A:S,16,FALSE))),\"\")","v":""},null,"",{"$f":"IF(H148=\"\",\"\",WORKDAY(TODAY()+IF(VLOOKUP(VLOOKUP(RIGHT(A148,5)*1,'Data eshop'!D:N,11,FALSE),DATA!A:B,2,FALSE)=7,14,1),5))","v":""},"","",{"$f":"IF(L147=\"\",\"\",IF(L147=RIGHT(A147,5)&\"x\",LEFT(L147,LEN(L147)-1)&\"y\",IF(L147=RIGHT(A147,5)&\"y\",IFERROR(SMALL('Data eshop'!D:D,COUNTIF('Data eshop'!D:D,\"<\"&(LEFT(L147,LEN(L147)-1)*1))),\"\"),IF(ISERROR(IF(VLOOKUP(M147+1,'Data eshop'!C:D,2,FALSE)='Řádky zakázky'!L147,L147,L147&\"x\")),IF(RIGHT(L147,1)=\"y\",\"\",L147&\"x\"),IF(VLOOKUP(M147+1,'Data eshop'!C:D,2,FALSE)='Řádky zakázky'!L147,L147,L147&\"x\")))))","v":"0xxxxxxxxxxxxxxxxxxxxxxxxxxxxxxxxxxxxxxxxxxxxxxxxxxxxxxxxxxxxxxxxxxxxxxxxxxxxxxxxxxxxxxxxxxxxxxxxxxxxxxxxxxxxxxxxxxxxxxxxxxxxxxxxxxxxxxxxxxxxxxxxxx"},1,{"$f":"IF(A148=\"\",\"\",VLOOKUP(RIGHT(A148,5)*1,'Data eshop'!D:W,17,FALSE))","v":{"$error":"#VALUE!"}},{"$f":"VLOOKUP(A148,Zakázky!A:B,2,FALSE)","v":{"$error":"#N/A"}},"","Roluj nahoru, až uvidíš žlutou"]
["19ESh0",{"$f":"IFERROR(IF(ISNUMBER(L149),VLOOKUP(L149&\"-\"&M149,'Data eshop'!B:W,16,FALSE),IF(RIGHT(L149,1)=\"x\",VLOOKUP(VLOOKUP(RIGHT(A149,5)*1,'Data eshop'!D:N,11,FALSE),DATA!G:I,3,FALSE),IF(RIGHT(L149,1)=\"y\",IF(VLOOKUP(RIGHT(A149,5)*1,'Data eshop'!D:O,12,FALSE)=IF(O149=\"T7\",DATA!$D$2,IF(O149=\"E87\",DATA!$D$5,IF(O149=\"P2\",DATA!$D$6,IF(O149=\"e2695\",DATA!$D$7,\"\")))),IF(N149>=IF(O149=\"T7\",DATA!$K$11,IF(O149=\"E87\",DATA!$L$11,IF(O149=\"P2\",DATA!$M$11,IF(O149=\"e2695\",DATA!$N$11,\"\")))),\"uni008\",\"uni001\"),IF(VLOOKUP(RIGHT(A149,5)*1,'Data eshop'!D:O,12,FALSE)=DATA!$D$3,IF(O149=\"T7\",IF(N149>=500,\"uni009\",\"uni002\"),\"x\"),IF(VLOOKUP(RIGHT(A149,5)*1,'Data eshop'!D:O,12,FALSE)=DATA!$D$4,\"uni010\",\"\"))),\"\"))),\"\")","v":""},{"$f":"IFERROR(IF(A149=\"\",\"\",IF(LEFT(B149,3)=\"uni\",1,VLOOKUP(RIGHT(A149,5)&\"-\"&B149,'Data eshop'!A:R,18,FALSE))),\"\")","v":""},"",{"$f":"IFERROR(IF(A149=\"\",\"\",IF(LEFT(B149,3)=\"uni\",VLOOKUP(B149,DATA!I:X,IF(O149=\"T7\",3,IF(O149=\"E87\",4,IF(O149=\"P2\",5,IF(O149=\"E2695\",6,\"\")))),FALSE),VLOOKUP(RIGHT(A149,5)&\"-\"&B149,'Data eshop'!A:S,19,FALSE))),\"\")","v":""},{"$f":"IFERROR(IF(A149=\"\",\"\",IF(LEFT(B149,3)=\"uni\",0,VLOOKUP(RIGHT(A149,5)&\"-\"&B149,'Data eshop'!A:S,16,FALSE))),\"\")","v":""},null,"",{"$f":"IF(H149=\"\",\"\",WORKDAY(TODAY()+IF(VLOOKUP(VLOOKUP(RIGHT(A149,5)*1,'Data eshop'!D:N,11,FALSE),DATA!A:B,2,FALSE)=7,14,1),5))","v":""},"","",{"$f":"IF(L148=\"\",\"\",IF(L148=RIGHT(A148,5)&\"x\",LEFT(L148,LEN(L148)-1)&\"y\",IF(L148=RIGHT(A148,5)&\"y\",IFERROR(SMALL('Data eshop'!D:D,COUNTIF('Data eshop'!D:D,\"<\"&(LEFT(L148,LEN(L148)-1)*1))),\"\"),IF(ISERROR(IF(VLOOKUP(M148+1,'Data eshop'!C:D,2,FALSE)='Řádky zakázky'!L148,L148,L148&\"x\")),IF(RIGHT(L148,1)=\"y\",\"\",L148&\"x\"),IF(VLOOKUP(M148+1,'Data eshop'!C:D,2,FALSE)='Řádky zakázky'!L148,L148,L148&\"x\")))))","v":"0xxxxxxxxxxxxxxxxxxxxxxxxxxxxxxxxxxxxxxxxxxxxxxxxxxxxxxxxxxxxxxxxxxxxxxxxxxxxxxxxxxxxxxxxxxxxxxxxxxxxxxxxxxxxxxxxxxxxxxxxxxxxxxxxxxxxxxxxxxxxxxxxxxx"},1,{"$f":"IF(A149=\"\",\"\",VLOOKUP(RIGHT(A149,5)*1,'Data eshop'!D:W,17,FALSE))","v":{"$error":"#VALUE!"}},{"$f":"VLOOKUP(A149,Zakázky!A:B,2,FALSE)","v":{"$error":"#N/A"}},""]
["19ESh0",{"$f":"IFERROR(IF(ISNUMBER(L150),VLOOKUP(L150&\"-\"&M150,'Data eshop'!B:W,16,FALSE),IF(RIGHT(L150,1)=\"x\",VLOOKUP(VLOOKUP(RIGHT(A150,5)*1,'Data eshop'!D:N,11,FALSE),DATA!G:I,3,FALSE),IF(RIGHT(L150,1)=\"y\",IF(VLOOKUP(RIGHT(A150,5)*1,'Data eshop'!D:O,12,FALSE)=IF(O150=\"T7\",DATA!$D$2,IF(O150=\"E87\",DATA!$D$5,IF(O150=\"P2\",DATA!$D$6,IF(O150=\"e2695\",DATA!$D$7,\"\")))),IF(N150>=IF(O150=\"T7\",DATA!$K$11,IF(O150=\"E87\",DATA!$L$11,IF(O150=\"P2\",DATA!$M$11,IF(O150=\"e2695\",DATA!$N$11,\"\")))),\"uni008\",\"uni001\"),IF(VLOOKUP(RIGHT(A150,5)*1,'Data eshop'!D:O,12,FALSE)=DATA!$D$3,IF(O150=\"T7\",IF(N150>=500,\"uni009\",\"uni002\"),\"x\"),IF(VLOOKUP(RIGHT(A150,5)*1,'Data eshop'!D:O,12,FALSE)=DATA!$D$4,\"uni010\",\"\"))),\"\"))),\"\")","v":""},{"$f":"IFERROR(IF(A150=\"\",\"\",IF(LEFT(B150,3)=\"uni\",1,VLOOKUP(RIGHT(A150,5)&\"-\"&B150,'Data eshop'!A:R,18,FALSE))),\"\")","v":""},"",{"$f":"IFERROR(IF(A150=\"\",\"\",IF(LEFT(B150,3)=\"uni\",VLOOKUP(B150,DATA!I:X,IF(O150=\"T7\",3,IF(O150=\"E87\",4,IF(O150=\"P2\",5,IF(O150=\"E2695\",6,\"\")))),FALSE),VLOOKUP(RIGHT(A150,5)&\"-\"&B150,'Data eshop'!A:S,19,FALSE))),\"\")","v":""},{"$f":"IFERROR(IF(A150=\"\",\"\",IF(LEFT(B150,3)=\"uni\",0,VLOOKUP(RIGHT(A150,5)&\"-\"&B150,'Data eshop'!A:S,16,FALSE))),\"\")","v":""},null,"",{"$f":"IF(H150=\"\",\"\",WORKDAY(TODAY()+IF(VLOOKUP(VLOOKUP(RIGHT(A150,5)*1,'Data eshop'!D:N,11,FALSE),DATA!A:B,2,FALSE)=7,14,1),5))","v":""},"","",{"$f":"IF(L149=\"\",\"\",IF(L149=RIGHT(A149,5)&\"x\",LEFT(L149,LEN(L149)-1)&\"y\",IF(L149=RIGHT(A149,5)&\"y\",IFERROR(SMALL('Data eshop'!D:D,COUNTIF('Data eshop'!D:D,\"<\"&(LEFT(L149,LEN(L149)-1)*1))),\"\"),IF(ISERROR(IF(VLOOKUP(M149+1,'Data eshop'!C:D,2,FALSE)='Řádky zakázky'!L149,L149,L149&\"x\")),IF(RIGHT(L149,1)=\"y\",\"\",L149&\"x\"),IF(VLOOKUP(M149+1,'Data eshop'!C:D,2,FALSE)='Řádky zakázky'!L149,L149,L149&\"x\")))))","v":"0xxxxxxxxxxxxxxxxxxxxxxxxxxxxxxxxxxxxxxxxxxxxxxxxxxxxxxxxxxxxxxxxxxxxxxxxxxxxxxxxxxxxxxxxxxxxxxxxxxxxxxxxxxxxxxxxxxxxxxxxxxxxxxxxxxxxxxxxxxxxxxxxxxxx"},1,{"$f":"IF(A150=\"\",\"\",VLOOKUP(RIGHT(A150,5)*1,'Data eshop'!D:W,17,FALSE))","v":{"$error":"#VALUE!"}},{"$f":"VLOOKUP(A150,Zakázky!A:B,2,FALSE)","v":{"$error":"#N/A"}},""]
["19ESh0",{"$f":"IFERROR(IF(ISNUMBER(L151),VLOOKUP(L151&\"-\"&M151,'Data eshop'!B:W,16,FALSE),IF(RIGHT(L151,1)=\"x\",VLOOKUP(VLOOKUP(RIGHT(A151,5)*1,'Data eshop'!D:N,11,FALSE),DATA!G:I,3,FALSE),IF(RIGHT(L151,1)=\"y\",IF(VLOOKUP(RIGHT(A151,5)*1,'Data eshop'!D:O,12,FALSE)=IF(O151=\"T7\",DATA!$D$2,IF(O151=\"E87\",DATA!$D$5,IF(O151=\"P2\",DATA!$D$6,IF(O151=\"e2695\",DATA!$D$7,\"\")))),IF(N151>=IF(O151=\"T7\",DATA!$K$11,IF(O151=\"E87\",DATA!$L$11,IF(O151=\"P2\",DATA!$M$11,IF(O151=\"e2695\",DATA!$N$11,\"\")))),\"uni008\",\"uni001\"),IF(VLOOKUP(RIGHT(A151,5)*1,'Data eshop'!D:O,12,FALSE)=DATA!$D$3,IF(O151=\"T7\",IF(N151>=500,\"uni009\",\"uni002\"),\"x\"),IF(VLOOKUP(RIGHT(A151,5)*1,'Data eshop'!D:O,12,FALSE)=DATA!$D$4,\"uni010\",\"\"))),\"\"))),\"\")","v":""},{"$f":"IFERROR(IF(A151=\"\",\"\",IF(LEFT(B151,3)=\"uni\",1,VLOOKUP(RIGHT(A151,5)&\"-\"&B151,'Data eshop'!A:R,18,FALSE))),\"\")","v":""},"",{"$f":"IFERROR(IF(A151=\"\",\"\",IF(LEFT(B151,3)=\"uni\",VLOOKUP(B151,DATA!I:X,IF(O151=\"T7\",3,IF(O151=\"E87\",4,IF(O151=\"P2\",5,IF(O151=\"E2695\",6,\"\")))),FALSE),VLOOKUP(RIGHT(A151,5)&\"-\"&B151,'Data eshop'!A:S,19,FALSE))),\"\")","v":""},{"$f":"IFERROR(IF(A151=\"\",\"\",IF(LEFT(B151,3)=\"uni\",0,VLOOKUP(RIGHT(A151,5)&\"-\"&B151,'Data eshop'!A:S,16,FALSE))),\"\")","v":""},null,"",{"$f":"IF(H151=\"\",\"\",WORKDAY(TODAY()+IF(VLOOKUP(VLOOKUP(RIGHT(A151,5)*1,'Data eshop'!D:N,11,FALSE),DATA!A:B,2,FALSE)=7,14,1),5))","v":""},"","",{"$f":"IF(L150=\"\",\"\",IF(L150=RIGHT(A150,5)&\"x\",LEFT(L150,LEN(L150)-1)&\"y\",IF(L150=RIGHT(A150,5)&\"y\",IFERROR(SMALL('Data eshop'!D:D,COUNTIF('Data eshop'!D:D,\"<\"&(LEFT(L150,LEN(L150)-1)*1))),\"\"),IF(ISERROR(IF(VLOOKUP(M150+1,'Data eshop'!C:D,2,FALSE)='Řádky zakázky'!L150,L150,L150&\"x\")),IF(RIGHT(L150,1)=\"y\",\"\",L150&\"x\"),IF(VLOOKUP(M150+1,'Data eshop'!C:D,2,FALSE)='Řádky zakázky'!L150,L150,L150&\"x\")))))","v":"0xxxxxxxxxxxxxxxxxxxxxxxxxxxxxxxxxxxxxxxxxxxxxxxxxxxxxxxxxxxxxxxxxxxxxxxxxxxxxxxxxxxxxxxxxxxxxxxxxxxxxxxxxxxxxxxxxxxxxxxxxxxxxxxxxxxxxxxxxxxxxxxxxxxxx"},1,{"$f":"IF(A151=\"\",\"\",VLOOKUP(RIGHT(A151,5)*1,'Data eshop'!D:W,17,FALSE))","v":{"$error":"#VALUE!"}},{"$f":"VLOOKUP(A151,Zakázky!A:B,2,FALSE)","v":{"$error":"#N/A"}},""]
["19ESh0",{"$f":"IFERROR(IF(ISNUMBER(L152),VLOOKUP(L152&\"-\"&M152,'Data eshop'!B:W,16,FALSE),IF(RIGHT(L152,1)=\"x\",VLOOKUP(VLOOKUP(RIGHT(A152,5)*1,'Data eshop'!D:N,11,FALSE),DATA!G:I,3,FALSE),IF(RIGHT(L152,1)=\"y\",IF(VLOOKUP(RIGHT(A152,5)*1,'Data eshop'!D:O,12,FALSE)=IF(O152=\"T7\",DATA!$D$2,IF(O152=\"E87\",DATA!$D$5,IF(O152=\"P2\",DATA!$D$6,IF(O152=\"e2695\",DATA!$D$7,\"\")))),IF(N152>=IF(O152=\"T7\",DATA!$K$11,IF(O152=\"E87\",DATA!$L$11,IF(O152=\"P2\",DATA!$M$11,IF(O152=\"e2695\",DATA!$N$11,\"\")))),\"uni008\",\"uni001\"),IF(VLOOKUP(RIGHT(A152,5)*1,'Data eshop'!D:O,12,FALSE)=DATA!$D$3,IF(O152=\"T7\",IF(N152>=500,\"uni009\",\"uni002\"),\"x\"),IF(VLOOKUP(RIGHT(A152,5)*1,'Data eshop'!D:O,12,FALSE)=DATA!$D$4,\"uni010\",\"\"))),\"\"))),\"\")","v":""},{"$f":"IFERROR(IF(A152=\"\",\"\",IF(LEFT(B152,3)=\"uni\",1,VLOOKUP(RIGHT(A152,5)&\"-\"&B152,'Data eshop'!A:R,18,FALSE))),\"\")","v":""},"",{"$f":"IFERROR(IF(A152=\"\",\"\",IF(LEFT(B152,3)=\"uni\",VLOOKUP(B152,DATA!I:X,IF(O152=\"T7\",3,IF(O152=\"E87\",4,IF(O152=\"P2\",5,IF(O152=\"E2695\",6,\"\")))),FALSE),VLOOKUP(RIGHT(A152,5)&\"-\"&B152,'Data eshop'!A:S,19,FALSE))),\"\")","v":""},{"$f":"IFERROR(IF(A152=\"\",\"\",IF(LEFT(B152,3)=\"uni\",0,VLOOKUP(RIGHT(A152,5)&\"-\"&B152,'Data eshop'!A:S,16,FALSE))),\"\")","v":""},null,"",{"$f":"IF(H152=\"\",\"\",WORKDAY(TODAY()+IF(VLOOKUP(VLOOKUP(RIGHT(A152,5)*1,'Data eshop'!D:N,11,FALSE),DATA!A:B,2,FALSE)=7,14,1),5))","v":""},"","",{"$f":"IF(L151=\"\",\"\",IF(L151=RIGHT(A151,5)&\"x\",LEFT(L151,LEN(L151)-1)&\"y\",IF(L151=RIGHT(A151,5)&\"y\",IFERROR(SMALL('Data eshop'!D:D,COUNTIF('Data eshop'!D:D,\"<\"&(LEFT(L151,LEN(L151)-1)*1))),\"\"),IF(ISERROR(IF(VLOOKUP(M151+1,'Data eshop'!C:D,2,FALSE)='Řádky zakázky'!L151,L151,L151&\"x\")),IF(RIGHT(L151,1)=\"y\",\"\",L151&\"x\"),IF(VLOOKUP(M151+1,'Data eshop'!C:D,2,FALSE)='Řádky zakázky'!L151,L151,L151&\"x\")))))","v":"0xxxxxxxxxxxxxxxxxxxxxxxxxxxxxxxxxxxxxxxxxxxxxxxxxxxxxxxxxxxxxxxxxxxxxxxxxxxxxxxxxxxxxxxxxxxxxxxxxxxxxxxxxxxxxxxxxxxxxxxxxxxxxxxxxxxxxxxxxxxxxxxxxxxxxx"},1,{"$f":"IF(A152=\"\",\"\",VLOOKUP(RIGHT(A152,5)*1,'Data eshop'!D:W,17,FALSE))","v":{"$error":"#VALUE!"}},{"$f":"VLOOKUP(A152,Zakázky!A:B,2,FALSE)","v":{"$error":"#N/A"}},"","Roluj nahoru, až uvidíš žlutou"]
["19ESh0",{"$f":"IFERROR(IF(ISNUMBER(L153),VLOOKUP(L153&\"-\"&M153,'Data eshop'!B:W,16,FALSE),IF(RIGHT(L153,1)=\"x\",VLOOKUP(VLOOKUP(RIGHT(A153,5)*1,'Data eshop'!D:N,11,FALSE),DATA!G:I,3,FALSE),IF(RIGHT(L153,1)=\"y\",IF(VLOOKUP(RIGHT(A153,5)*1,'Data eshop'!D:O,12,FALSE)=IF(O153=\"T7\",DATA!$D$2,IF(O153=\"E87\",DATA!$D$5,IF(O153=\"P2\",DATA!$D$6,IF(O153=\"e2695\",DATA!$D$7,\"\")))),IF(N153>=IF(O153=\"T7\",DATA!$K$11,IF(O153=\"E87\",DATA!$L$11,IF(O153=\"P2\",DATA!$M$11,IF(O153=\"e2695\",DATA!$N$11,\"\")))),\"uni008\",\"uni001\"),IF(VLOOKUP(RIGHT(A153,5)*1,'Data eshop'!D:O,12,FALSE)=DATA!$D$3,IF(O153=\"T7\",IF(N153>=500,\"uni009\",\"uni002\"),\"x\"),IF(VLOOKUP(RIGHT(A153,5)*1,'Data eshop'!D:O,12,FALSE)=DATA!$D$4,\"uni010\",\"\"))),\"\"))),\"\")","v":""},{"$f":"IFERROR(IF(A153=\"\",\"\",IF(LEFT(B153,3)=\"uni\",1,VLOOKUP(RIGHT(A153,5)&\"-\"&B153,'Data eshop'!A:R,18,FALSE))),\"\")","v":""},"",{"$f":"IFERROR(IF(A153=\"\",\"\",IF(LEFT(B153,3)=\"uni\",VLOOKUP(B153,DATA!I:X,IF(O153=\"T7\",3,IF(O153=\"E87\",4,IF(O153=\"P2\",5,IF(O153=\"E2695\",6,\"\")))),FALSE),VLOOKUP(RIGHT(A153,5)&\"-\"&B153,'Data eshop'!A:S,19,FALSE))),\"\")","v":""},{"$f":"IFERROR(IF(A153=\"\",\"\",IF(LEFT(B153,3)=\"uni\",0,VLOOKUP(RIGHT(A153,5)&\"-\"&B153,'Data eshop'!A:S,16,FALSE))),\"\")","v":""},null,"",{"$f":"IF(H153=\"\",\"\",WORKDAY(TODAY()+IF(VLOOKUP(VLOOKUP(RIGHT(A153,5)*1,'Data eshop'!D:N,11,FALSE),DATA!A:B,2,FALSE)=7,14,1),5))","v":""},"","",{"$f":"IF(L152=\"\",\"\",IF(L152=RIGHT(A152,5)&\"x\",LEFT(L152,LEN(L152)-1)&\"y\",IF(L152=RIGHT(A152,5)&\"y\",IFERROR(SMALL('Data eshop'!D:D,COUNTIF('Data eshop'!D:D,\"<\"&(LEFT(L152,LEN(L152)-1)*1))),\"\"),IF(ISERROR(IF(VLOOKUP(M152+1,'Data eshop'!C:D,2,FALSE)='Řádky zakázky'!L152,L152,L152&\"x\")),IF(RIGHT(L152,1)=\"y\",\"\",L152&\"x\"),IF(VLOOKUP(M152+1,'Data eshop'!C:D,2,FALSE)='Řádky zakázky'!L152,L152,L152&\"x\")))))","v":"0xxxxxxxxxxxxxxxxxxxxxxxxxxxxxxxxxxxxxxxxxxxxxxxxxxxxxxxxxxxxxxxxxxxxxxxxxxxxxxxxxxxxxxxxxxxxxxxxxxxxxxxxxxxxxxxxxxxxxxxxxxxxxxxxxxxxxxxxxxxxxxxxxxxxxxx"},1,{"$f":"IF(A153=\"\",\"\",VLOOKUP(RIGHT(A153,5)*1,'Data eshop'!D:W,17,FALSE))","v":{"$error":"#VALUE!"}},{"$f":"VLOOKUP(A153,Zakázky!A:B,2,FALSE)","v":{"$error":"#N/A"}},""]
["19ESh0",{"$f":"IFERROR(IF(ISNUMBER(L154),VLOOKUP(L154&\"-\"&M154,'Data eshop'!B:W,16,FALSE),IF(RIGHT(L154,1)=\"x\",VLOOKUP(VLOOKUP(RIGHT(A154,5)*1,'Data eshop'!D:N,11,FALSE),DATA!G:I,3,FALSE),IF(RIGHT(L154,1)=\"y\",IF(VLOOKUP(RIGHT(A154,5)*1,'Data eshop'!D:O,12,FALSE)=IF(O154=\"T7\",DATA!$D$2,IF(O154=\"E87\",DATA!$D$5,IF(O154=\"P2\",DATA!$D$6,IF(O154=\"e2695\",DATA!$D$7,\"\")))),IF(N154>=IF(O154=\"T7\",DATA!$K$11,IF(O154=\"E87\",DATA!$L$11,IF(O154=\"P2\",DATA!$M$11,IF(O154=\"e2695\",DATA!$N$11,\"\")))),\"uni008\",\"uni001\"),IF(VLOOKUP(RIGHT(A154,5)*1,'Data eshop'!D:O,12,FALSE)=DATA!$D$3,IF(O154=\"T7\",IF(N154>=500,\"uni009\",\"uni002\"),\"x\"),IF(VLOOKUP(RIGHT(A154,5)*1,'Data eshop'!D:O,12,FALSE)=DATA!$D$4,\"uni010\",\"\"))),\"\"))),\"\")","v":""},{"$f":"IFERROR(IF(A154=\"\",\"\",IF(LEFT(B154,3)=\"uni\",1,VLOOKUP(RIGHT(A154,5)&\"-\"&B154,'Data eshop'!A:R,18,FALSE))),\"\")","v":""},"",{"$f":"IFERROR(IF(A154=\"\",\"\",IF(LEFT(B154,3)=\"uni\",VLOOKUP(B154,DATA!I:X,IF(O154=\"T7\",3,IF(O154=\"E87\",4,IF(O154=\"P2\",5,IF(O154=\"E2695\",6,\"\")))),FALSE),VLOOKUP(RIGHT(A154,5)&\"-\"&B154,'Data eshop'!A:S,19,FALSE))),\"\")","v":""},{"$f":"IFERROR(IF(A154=\"\",\"\",IF(LEFT(B154,3)=\"uni\",0,VLOOKUP(RIGHT(A154,5)&\"-\"&B154,'Data eshop'!A:S,16,FALSE))),\"\")","v":""},null,"",{"$f":"IF(H154=\"\",\"\",WORKDAY(TODAY()+IF(VLOOKUP(VLOOKUP(RIGHT(A154,5)*1,'Data eshop'!D:N,11,FALSE),DATA!A:B,2,FALSE)=7,14,1),5))","v":""},"","",{"$f":"IF(L153=\"\",\"\",IF(L153=RIGHT(A153,5)&\"x\",LEFT(L153,LEN(L153)-1)&\"y\",IF(L153=RIGHT(A153,5)&\"y\",IFERROR(SMALL('Data eshop'!D:D,COUNTIF('Data eshop'!D:D,\"<\"&(LEFT(L153,LEN(L153)-1)*1))),\"\"),IF(ISERROR(IF(VLOOKUP(M153+1,'Data eshop'!C:D,2,FALSE)='Řádky zakázky'!L153,L153,L153&\"x\")),IF(RIGHT(L153,1)=\"y\",\"\",L153&\"x\"),IF(VLOOKUP(M153+1,'Data eshop'!C:D,2,FALSE)='Řádky zakázky'!L153,L153,L153&\"x\")))))","v":"0xxxxxxxxxxxxxxxxxxxxxxxxxxxxxxxxxxxxxxxxxxxxxxxxxxxxxxxxxxxxxxxxxxxxxxxxxxxxxxxxxxxxxxxxxxxxxxxxxxxxxxxxxxxxxxxxxxxxxxxxxxxxxxxxxxxxxxxxxxxxxxxxxxxxxxxx"},1,{"$f":"IF(A154=\"\",\"\",VLOOKUP(RIGHT(A154,5)*1,'Data eshop'!D:W,17,FALSE))","v":{"$error":"#VALUE!"}},{"$f":"VLOOKUP(A154,Zakázky!A:B,2,FALSE)","v":{"$error":"#N/A"}},""]
["19ESh0",{"$f":"IFERROR(IF(ISNUMBER(L155),VLOOKUP(L155&\"-\"&M155,'Data eshop'!B:W,16,FALSE),IF(RIGHT(L155,1)=\"x\",VLOOKUP(VLOOKUP(RIGHT(A155,5)*1,'Data eshop'!D:N,11,FALSE),DATA!G:I,3,FALSE),IF(RIGHT(L155,1)=\"y\",IF(VLOOKUP(RIGHT(A155,5)*1,'Data eshop'!D:O,12,FALSE)=IF(O155=\"T7\",DATA!$D$2,IF(O155=\"E87\",DATA!$D$5,IF(O155=\"P2\",DATA!$D$6,IF(O155=\"e2695\",DATA!$D$7,\"\")))),IF(N155>=IF(O155=\"T7\",DATA!$K$11,IF(O155=\"E87\",DATA!$L$11,IF(O155=\"P2\",DATA!$M$11,IF(O155=\"e2695\",DATA!$N$11,\"\")))),\"uni008\",\"uni001\"),IF(VLOOKUP(RIGHT(A155,5)*1,'Data eshop'!D:O,12,FALSE)=DATA!$D$3,IF(O155=\"T7\",IF(N155>=500,\"uni009\",\"uni002\"),\"x\"),IF(VLOOKUP(RIGHT(A155,5)*1,'Data eshop'!D:O,12,FALSE)=DATA!$D$4,\"uni010\",\"\"))),\"\"))),\"\")","v":""},{"$f":"IFERROR(IF(A155=\"\",\"\",IF(LEFT(B155,3)=\"uni\",1,VLOOKUP(RIGHT(A155,5)&\"-\"&B155,'Data eshop'!A:R,18,FALSE))),\"\")","v":""},"",{"$f":"IFERROR(IF(A155=\"\",\"\",IF(LEFT(B155,3)=\"uni\",VLOOKUP(B155,DATA!I:X,IF(O155=\"T7\",3,IF(O155=\"E87\",4,IF(O155=\"P2\",5,IF(O155=\"E2695\",6,\"\")))),FALSE),VLOOKUP(RIGHT(A155,5)&\"-\"&B155,'Data eshop'!A:S,19,FALSE))),\"\")","v":""},{"$f":"IFERROR(IF(A155=\"\",\"\",IF(LEFT(B155,3)=\"uni\",0,VLOOKUP(RIGHT(A155,5)&\"-\"&B155,'Data eshop'!A:S,16,FALSE))),\"\")","v":""},null,"",{"$f":"IF(H155=\"\",\"\",WORKDAY(TODAY()+IF(VLOOKUP(VLOOKUP(RIGHT(A155,5)*1,'Data eshop'!D:N,11,FALSE),DATA!A:B,2,FALSE)=7,14,1),5))","v":""},"","",{"$f":"IF(L154=\"\",\"\",IF(L154=RIGHT(A154,5)&\"x\",LEFT(L154,LEN(L154)-1)&\"y\",IF(L154=RIGHT(A154,5)&\"y\",IFERROR(SMALL('Data eshop'!D:D,COUNTIF('Data eshop'!D:D,\"<\"&(LEFT(L154,LEN(L154)-1)*1))),\"\"),IF(ISERROR(IF(VLOOKUP(M154+1,'Data eshop'!C:D,2,FALSE)='Řádky zakázky'!L154,L154,L154&\"x\")),IF(RIGHT(L154,1)=\"y\",\"\",L154&\"x\"),IF(VLOOKUP(M154+1,'Data eshop'!C:D,2,FALSE)='Řádky zakázky'!L154,L154,L154&\"x\")))))","v":"0xxxxxxxxxxxxxxxxxxxxxxxxxxxxxxxxxxxxxxxxxxxxxxxxxxxxxxxxxxxxxxxxxxxxxxxxxxxxxxxxxxxxxxxxxxxxxxxxxxxxxxxxxxxxxxxxxxxxxxxxxxxxxxxxxxxxxxxxxxxxxxxxxxxxxxxxx"},1,{"$f":"IF(A155=\"\",\"\",VLOOKUP(RIGHT(A155,5)*1,'Data eshop'!D:W,17,FALSE))","v":{"$error":"#VALUE!"}},{"$f":"VLOOKUP(A155,Zakázky!A:B,2,FALSE)","v":{"$error":"#N/A"}},""]
["19ESh0",{"$f":"IFERROR(IF(ISNUMBER(L156),VLOOKUP(L156&\"-\"&M156,'Data eshop'!B:W,16,FALSE),IF(RIGHT(L156,1)=\"x\",VLOOKUP(VLOOKUP(RIGHT(A156,5)*1,'Data eshop'!D:N,11,FALSE),DATA!G:I,3,FALSE),IF(RIGHT(L156,1)=\"y\",IF(VLOOKUP(RIGHT(A156,5)*1,'Data eshop'!D:O,12,FALSE)=IF(O156=\"T7\",DATA!$D$2,IF(O156=\"E87\",DATA!$D$5,IF(O156=\"P2\",DATA!$D$6,IF(O156=\"e2695\",DATA!$D$7,\"\")))),IF(N156>=IF(O156=\"T7\",DATA!$K$11,IF(O156=\"E87\",DATA!$L$11,IF(O156=\"P2\",DATA!$M$11,IF(O156=\"e2695\",DATA!$N$11,\"\")))),\"uni008\",\"uni001\"),IF(VLOOKUP(RIGHT(A156,5)*1,'Data eshop'!D:O,12,FALSE)=DATA!$D$3,IF(O156=\"T7\",IF(N156>=500,\"uni009\",\"uni002\"),\"x\"),IF(VLOOKUP(RIGHT(A156,5)*1,'Data eshop'!D:O,12,FALSE)=DATA!$D$4,\"uni010\",\"\"))),\"\"))),\"\")","v":""},{"$f":"IFERROR(IF(A156=\"\",\"\",IF(LEFT(B156,3)=\"uni\",1,VLOOKUP(RIGHT(A156,5)&\"-\"&B156,'Data eshop'!A:R,18,FALSE))),\"\")","v":""},"",{"$f":"IFERROR(IF(A156=\"\",\"\",IF(LEFT(B156,3)=\"uni\",VLOOKUP(B156,DATA!I:X,IF(O156=\"T7\",3,IF(O156=\"E87\",4,IF(O156=\"P2\",5,IF(O156=\"E2695\",6,\"\")))),FALSE),VLOOKUP(RIGHT(A156,5)&\"-\"&B156,'Data eshop'!A:S,19,FALSE))),\"\")","v":""},{"$f":"IFERROR(IF(A156=\"\",\"\",IF(LEFT(B156,3)=\"uni\",0,VLOOKUP(RIGHT(A156,5)&\"-\"&B156,'Data eshop'!A:S,16,FALSE))),\"\")","v":""},null,"",{"$f":"IF(H156=\"\",\"\",WORKDAY(TODAY()+IF(VLOOKUP(VLOOKUP(RIGHT(A156,5)*1,'Data eshop'!D:N,11,FALSE),DATA!A:B,2,FALSE)=7,14,1),5))","v":""},"","",{"$f":"IF(L155=\"\",\"\",IF(L155=RIGHT(A155,5)&\"x\",LEFT(L155,LEN(L155)-1)&\"y\",IF(L155=RIGHT(A155,5)&\"y\",IFERROR(SMALL('Data eshop'!D:D,COUNTIF('Data eshop'!D:D,\"<\"&(LEFT(L155,LEN(L155)-1)*1))),\"\"),IF(ISERROR(IF(VLOOKUP(M155+1,'Data eshop'!C:D,2,FALSE)='Řádky zakázky'!L155,L155,L155&\"x\")),IF(RIGHT(L155,1)=\"y\",\"\",L155&\"x\"),IF(VLOOKUP(M155+1,'Data eshop'!C:D,2,FALSE)='Řádky zakázky'!L155,L155,L155&\"x\")))))","v":"0xxxxxxxxxxxxxxxxxxxxxxxxxxxxxxxxxxxxxxxxxxxxxxxxxxxxxxxxxxxxxxxxxxxxxxxxxxxxxxxxxxxxxxxxxxxxxxxxxxxxxxxxxxxxxxxxxxxxxxxxxxxxxxxxxxxxxxxxxxxxxxxxxxxxxxxxxx"},1,{"$f":"IF(A156=\"\",\"\",VLOOKUP(RIGHT(A156,5)*1,'Data eshop'!D:W,17,FALSE))","v":{"$error":"#VALUE!"}},{"$f":"VLOOKUP(A156,Zakázky!A:B,2,FALSE)","v":{"$error":"#N/A"}},"","Roluj nahoru, až uvidíš žlutou"]
["19ESh0",{"$f":"IFERROR(IF(ISNUMBER(L157),VLOOKUP(L157&\"-\"&M157,'Data eshop'!B:W,16,FALSE),IF(RIGHT(L157,1)=\"x\",VLOOKUP(VLOOKUP(RIGHT(A157,5)*1,'Data eshop'!D:N,11,FALSE),DATA!G:I,3,FALSE),IF(RIGHT(L157,1)=\"y\",IF(VLOOKUP(RIGHT(A157,5)*1,'Data eshop'!D:O,12,FALSE)=IF(O157=\"T7\",DATA!$D$2,IF(O157=\"E87\",DATA!$D$5,IF(O157=\"P2\",DATA!$D$6,IF(O157=\"e2695\",DATA!$D$7,\"\")))),IF(N157>=IF(O157=\"T7\",DATA!$K$11,IF(O157=\"E87\",DATA!$L$11,IF(O157=\"P2\",DATA!$M$11,IF(O157=\"e2695\",DATA!$N$11,\"\")))),\"uni008\",\"uni001\"),IF(VLOOKUP(RIGHT(A157,5)*1,'Data eshop'!D:O,12,FALSE)=DATA!$D$3,IF(O157=\"T7\",IF(N157>=500,\"uni009\",\"uni002\"),\"x\"),IF(VLOOKUP(RIGHT(A157,5)*1,'Data eshop'!D:O,12,FALSE)=DATA!$D$4,\"uni010\",\"\"))),\"\"))),\"\")","v":""},{"$f":"IFERROR(IF(A157=\"\",\"\",IF(LEFT(B157,3)=\"uni\",1,VLOOKUP(RIGHT(A157,5)&\"-\"&B157,'Data eshop'!A:R,18,FALSE))),\"\")","v":""},"",{"$f":"IFERROR(IF(A157=\"\",\"\",IF(LEFT(B157,3)=\"uni\",VLOOKUP(B157,DATA!I:X,IF(O157=\"T7\",3,IF(O157=\"E87\",4,IF(O157=\"P2\",5,IF(O157=\"E2695\",6,\"\")))),FALSE),VLOOKUP(RIGHT(A157,5)&\"-\"&B157,'Data eshop'!A:S,19,FALSE))),\"\")","v":""},{"$f":"IFERROR(IF(A157=\"\",\"\",IF(LEFT(B157,3)=\"uni\",0,VLOOKUP(RIGHT(A157,5)&\"-\"&B157,'Data eshop'!A:S,16,FALSE))),\"\")","v":""},null,"",{"$f":"IF(H157=\"\",\"\",WORKDAY(TODAY()+IF(VLOOKUP(VLOOKUP(RIGHT(A157,5)*1,'Data eshop'!D:N,11,FALSE),DATA!A:B,2,FALSE)=7,14,1),5))","v":""},"","",{"$f":"IF(L156=\"\",\"\",IF(L156=RIGHT(A156,5)&\"x\",LEFT(L156,LEN(L156)-1)&\"y\",IF(L156=RIGHT(A156,5)&\"y\",IFERROR(SMALL('Data eshop'!D:D,COUNTIF('Data eshop'!D:D,\"<\"&(LEFT(L156,LEN(L156)-1)*1))),\"\"),IF(ISERROR(IF(VLOOKUP(M156+1,'Data eshop'!C:D,2,FALSE)='Řádky zakázky'!L156,L156,L156&\"x\")),IF(RIGHT(L156,1)=\"y\",\"\",L156&\"x\"),IF(VLOOKUP(M156+1,'Data eshop'!C:D,2,FALSE)='Řádky zakázky'!L156,L156,L156&\"x\")))))","v":"0xxxxxxxxxxxxxxxxxxxxxxxxxxxxxxxxxxxxxxxxxxxxxxxxxxxxxxxxxxxxxxxxxxxxxxxxxxxxxxxxxxxxxxxxxxxxxxxxxxxxxxxxxxxxxxxxxxxxxxxxxxxxxxxxxxxxxxxxxxxxxxxxxxxxxxxxxxx"},1,{"$f":"IF(A157=\"\",\"\",VLOOKUP(RIGHT(A157,5)*1,'Data eshop'!D:W,17,FALSE))","v":{"$error":"#VALUE!"}},{"$f":"VLOOKUP(A157,Zakázky!A:B,2,FALSE)","v":{"$error":"#N/A"}},""]
["19ESh0",{"$f":"IFERROR(IF(ISNUMBER(L158),VLOOKUP(L158&\"-\"&M158,'Data eshop'!B:W,16,FALSE),IF(RIGHT(L158,1)=\"x\",VLOOKUP(VLOOKUP(RIGHT(A158,5)*1,'Data eshop'!D:N,11,FALSE),DATA!G:I,3,FALSE),IF(RIGHT(L158,1)=\"y\",IF(VLOOKUP(RIGHT(A158,5)*1,'Data eshop'!D:O,12,FALSE)=IF(O158=\"T7\",DATA!$D$2,IF(O158=\"E87\",DATA!$D$5,IF(O158=\"P2\",DATA!$D$6,IF(O158=\"e2695\",DATA!$D$7,\"\")))),IF(N158>=IF(O158=\"T7\",DATA!$K$11,IF(O158=\"E87\",DATA!$L$11,IF(O158=\"P2\",DATA!$M$11,IF(O158=\"e2695\",DATA!$N$11,\"\")))),\"uni008\",\"uni001\"),IF(VLOOKUP(RIGHT(A158,5)*1,'Data eshop'!D:O,12,FALSE)=DATA!$D$3,IF(O158=\"T7\",IF(N158>=500,\"uni009\",\"uni002\"),\"x\"),IF(VLOOKUP(RIGHT(A158,5)*1,'Data eshop'!D:O,12,FALSE)=DATA!$D$4,\"uni010\",\"\"))),\"\"))),\"\")","v":""},{"$f":"IFERROR(IF(A158=\"\",\"\",IF(LEFT(B158,3)=\"uni\",1,VLOOKUP(RIGHT(A158,5)&\"-\"&B158,'Data eshop'!A:R,18,FALSE))),\"\")","v":""},"",{"$f":"IFERROR(IF(A158=\"\",\"\",IF(LEFT(B158,3)=\"uni\",VLOOKUP(B158,DATA!I:X,IF(O158=\"T7\",3,IF(O158=\"E87\",4,IF(O158=\"P2\",5,IF(O158=\"E2695\",6,\"\")))),FALSE),VLOOKUP(RIGHT(A158,5)&\"-\"&B158,'Data eshop'!A:S,19,FALSE))),\"\")","v":""},{"$f":"IFERROR(IF(A158=\"\",\"\",IF(LEFT(B158,3)=\"uni\",0,VLOOKUP(RIGHT(A158,5)&\"-\"&B158,'Data eshop'!A:S,16,FALSE))),\"\")","v":""},null,"",{"$f":"IF(H158=\"\",\"\",WORKDAY(TODAY()+IF(VLOOKUP(VLOOKUP(RIGHT(A158,5)*1,'Data eshop'!D:N,11,FALSE),DATA!A:B,2,FALSE)=7,14,1),5))","v":""},"","",{"$f":"IF(L157=\"\",\"\",IF(L157=RIGHT(A157,5)&\"x\",LEFT(L157,LEN(L157)-1)&\"y\",IF(L157=RIGHT(A157,5)&\"y\",IFERROR(SMALL('Data eshop'!D:D,COUNTIF('Data eshop'!D:D,\"<\"&(LEFT(L157,LEN(L157)-1)*1))),\"\"),IF(ISERROR(IF(VLOOKUP(M157+1,'Data eshop'!C:D,2,FALSE)='Řádky zakázky'!L157,L157,L157&\"x\")),IF(RIGHT(L157,1)=\"y\",\"\",L157&\"x\"),IF(VLOOKUP(M157+1,'Data eshop'!C:D,2,FALSE)='Řádky zakázky'!L157,L157,L157&\"x\")))))","v":"0xxxxxxxxxxxxxxxxxxxxxxxxxxxxxxxxxxxxxxxxxxxxxxxxxxxxxxxxxxxxxxxxxxxxxxxxxxxxxxxxxxxxxxxxxxxxxxxxxxxxxxxxxxxxxxxxxxxxxxxxxxxxxxxxxxxxxxxxxxxxxxxxxxxxxxxxxxxx"},1,{"$f":"IF(A158=\"\",\"\",VLOOKUP(RIGHT(A158,5)*1,'Data eshop'!D:W,17,FALSE))","v":{"$error":"#VALUE!"}},{"$f":"VLOOKUP(A158,Zakázky!A:B,2,FALSE)","v":{"$error":"#N/A"}},""]
["19ESh0",{"$f":"IFERROR(IF(ISNUMBER(L159),VLOOKUP(L159&\"-\"&M159,'Data eshop'!B:W,16,FALSE),IF(RIGHT(L159,1)=\"x\",VLOOKUP(VLOOKUP(RIGHT(A159,5)*1,'Data eshop'!D:N,11,FALSE),DATA!G:I,3,FALSE),IF(RIGHT(L159,1)=\"y\",IF(VLOOKUP(RIGHT(A159,5)*1,'Data eshop'!D:O,12,FALSE)=IF(O159=\"T7\",DATA!$D$2,IF(O159=\"E87\",DATA!$D$5,IF(O159=\"P2\",DATA!$D$6,IF(O159=\"e2695\",DATA!$D$7,\"\")))),IF(N159>=IF(O159=\"T7\",DATA!$K$11,IF(O159=\"E87\",DATA!$L$11,IF(O159=\"P2\",DATA!$M$11,IF(O159=\"e2695\",DATA!$N$11,\"\")))),\"uni008\",\"uni001\"),IF(VLOOKUP(RIGHT(A159,5)*1,'Data eshop'!D:O,12,FALSE)=DATA!$D$3,IF(O159=\"T7\",IF(N159>=500,\"uni009\",\"uni002\"),\"x\"),IF(VLOOKUP(RIGHT(A159,5)*1,'Data eshop'!D:O,12,FALSE)=DATA!$D$4,\"uni010\",\"\"))),\"\"))),\"\")","v":""},{"$f":"IFERROR(IF(A159=\"\",\"\",IF(LEFT(B159,3)=\"uni\",1,VLOOKUP(RIGHT(A159,5)&\"-\"&B159,'Data eshop'!A:R,18,FALSE))),\"\")","v":""},"",{"$f":"IFERROR(IF(A159=\"\",\"\",IF(LEFT(B159,3)=\"uni\",VLOOKUP(B159,DATA!I:X,IF(O159=\"T7\",3,IF(O159=\"E87\",4,IF(O159=\"P2\",5,IF(O159=\"E2695\",6,\"\")))),FALSE),VLOOKUP(RIGHT(A159,5)&\"-\"&B159,'Data eshop'!A:S,19,FALSE))),\"\")","v":""},{"$f":"IFERROR(IF(A159=\"\",\"\",IF(LEFT(B159,3)=\"uni\",0,VLOOKUP(RIGHT(A159,5)&\"-\"&B159,'Data eshop'!A:S,16,FALSE))),\"\")","v":""},null,"",{"$f":"IF(H159=\"\",\"\",WORKDAY(TODAY()+IF(VLOOKUP(VLOOKUP(RIGHT(A159,5)*1,'Data eshop'!D:N,11,FALSE),DATA!A:B,2,FALSE)=7,14,1),5))","v":""},"","",{"$f":"IF(L158=\"\",\"\",IF(L158=RIGHT(A158,5)&\"x\",LEFT(L158,LEN(L158)-1)&\"y\",IF(L158=RIGHT(A158,5)&\"y\",IFERROR(SMALL('Data eshop'!D:D,COUNTIF('Data eshop'!D:D,\"<\"&(LEFT(L158,LEN(L158)-1)*1))),\"\"),IF(ISERROR(IF(VLOOKUP(M158+1,'Data eshop'!C:D,2,FALSE)='Řádky zakázky'!L158,L158,L158&\"x\")),IF(RIGHT(L158,1)=\"y\",\"\",L158&\"x\"),IF(VLOOKUP(M158+1,'Data eshop'!C:D,2,FALSE)='Řádky zakázky'!L158,L158,L158&\"x\")))))","v":"0xxxxxxxxxxxxxxxxxxxxxxxxxxxxxxxxxxxxxxxxxxxxxxxxxxxxxxxxxxxxxxxxxxxxxxxxxxxxxxxxxxxxxxxxxxxxxxxxxxxxxxxxxxxxxxxxxxxxxxxxxxxxxxxxxxxxxxxxxxxxxxxxxxxxxxxxxxxxx"},1,{"$f":"IF(A159=\"\",\"\",VLOOKUP(RIGHT(A159,5)*1,'Data eshop'!D:W,17,FALSE))","v":{"$error":"#VALUE!"}},{"$f":"VLOOKUP(A159,Zakázky!A:B,2,FALSE)","v":{"$error":"#N/A"}},""]
["19ESh0",{"$f":"IFERROR(IF(ISNUMBER(L160),VLOOKUP(L160&\"-\"&M160,'Data eshop'!B:W,16,FALSE),IF(RIGHT(L160,1)=\"x\",VLOOKUP(VLOOKUP(RIGHT(A160,5)*1,'Data eshop'!D:N,11,FALSE),DATA!G:I,3,FALSE),IF(RIGHT(L160,1)=\"y\",IF(VLOOKUP(RIGHT(A160,5)*1,'Data eshop'!D:O,12,FALSE)=IF(O160=\"T7\",DATA!$D$2,IF(O160=\"E87\",DATA!$D$5,IF(O160=\"P2\",DATA!$D$6,IF(O160=\"e2695\",DATA!$D$7,\"\")))),IF(N160>=IF(O160=\"T7\",DATA!$K$11,IF(O160=\"E87\",DATA!$L$11,IF(O160=\"P2\",DATA!$M$11,IF(O160=\"e2695\",DATA!$N$11,\"\")))),\"uni008\",\"uni001\"),IF(VLOOKUP(RIGHT(A160,5)*1,'Data eshop'!D:O,12,FALSE)=DATA!$D$3,IF(O160=\"T7\",IF(N160>=500,\"uni009\",\"uni002\"),\"x\"),IF(VLOOKUP(RIGHT(A160,5)*1,'Data eshop'!D:O,12,FALSE)=DATA!$D$4,\"uni010\",\"\"))),\"\"))),\"\")","v":""},{"$f":"IFERROR(IF(A160=\"\",\"\",IF(LEFT(B160,3)=\"uni\",1,VLOOKUP(RIGHT(A160,5)&\"-\"&B160,'Data eshop'!A:R,18,FALSE))),\"\")","v":""},"",{"$f":"IFERROR(IF(A160=\"\",\"\",IF(LEFT(B160,3)=\"uni\",VLOOKUP(B160,DATA!I:X,IF(O160=\"T7\",3,IF(O160=\"E87\",4,IF(O160=\"P2\",5,IF(O160=\"E2695\",6,\"\")))),FALSE),VLOOKUP(RIGHT(A160,5)&\"-\"&B160,'Data eshop'!A:S,19,FALSE))),\"\")","v":""},{"$f":"IFERROR(IF(A160=\"\",\"\",IF(LEFT(B160,3)=\"uni\",0,VLOOKUP(RIGHT(A160,5)&\"-\"&B160,'Data eshop'!A:S,16,FALSE))),\"\")","v":""},null,"",{"$f":"IF(H160=\"\",\"\",WORKDAY(TODAY()+IF(VLOOKUP(VLOOKUP(RIGHT(A160,5)*1,'Data eshop'!D:N,11,FALSE),DATA!A:B,2,FALSE)=7,14,1),5))","v":""},"","",{"$f":"IF(L159=\"\",\"\",IF(L159=RIGHT(A159,5)&\"x\",LEFT(L159,LEN(L159)-1)&\"y\",IF(L159=RIGHT(A159,5)&\"y\",IFERROR(SMALL('Data eshop'!D:D,COUNTIF('Data eshop'!D:D,\"<\"&(LEFT(L159,LEN(L159)-1)*1))),\"\"),IF(ISERROR(IF(VLOOKUP(M159+1,'Data eshop'!C:D,2,FALSE)='Řádky zakázky'!L159,L159,L159&\"x\")),IF(RIGHT(L159,1)=\"y\",\"\",L159&\"x\"),IF(VLOOKUP(M159+1,'Data eshop'!C:D,2,FALSE)='Řádky zakázky'!L159,L159,L159&\"x\")))))","v":"0xxxxxxxxxxxxxxxxxxxxxxxxxxxxxxxxxxxxxxxxxxxxxxxxxxxxxxxxxxxxxxxxxxxxxxxxxxxxxxxxxxxxxxxxxxxxxxxxxxxxxxxxxxxxxxxxxxxxxxxxxxxxxxxxxxxxxxxxxxxxxxxxxxxxxxxxxxxxxx"},1,{"$f":"IF(A160=\"\",\"\",VLOOKUP(RIGHT(A160,5)*1,'Data eshop'!D:W,17,FALSE))","v":{"$error":"#VALUE!"}},{"$f":"VLOOKUP(A160,Zakázky!A:B,2,FALSE)","v":{"$error":"#N/A"}},"","Roluj nahoru, až uvidíš žlutou"]
["19ESh0",{"$f":"IFERROR(IF(ISNUMBER(L161),VLOOKUP(L161&\"-\"&M161,'Data eshop'!B:W,16,FALSE),IF(RIGHT(L161,1)=\"x\",VLOOKUP(VLOOKUP(RIGHT(A161,5)*1,'Data eshop'!D:N,11,FALSE),DATA!G:I,3,FALSE),IF(RIGHT(L161,1)=\"y\",IF(VLOOKUP(RIGHT(A161,5)*1,'Data eshop'!D:O,12,FALSE)=IF(O161=\"T7\",DATA!$D$2,IF(O161=\"E87\",DATA!$D$5,IF(O161=\"P2\",DATA!$D$6,IF(O161=\"e2695\",DATA!$D$7,\"\")))),IF(N161>=IF(O161=\"T7\",DATA!$K$11,IF(O161=\"E87\",DATA!$L$11,IF(O161=\"P2\",DATA!$M$11,IF(O161=\"e2695\",DATA!$N$11,\"\")))),\"uni008\",\"uni001\"),IF(VLOOKUP(RIGHT(A161,5)*1,'Data eshop'!D:O,12,FALSE)=DATA!$D$3,IF(O161=\"T7\",IF(N161>=500,\"uni009\",\"uni002\"),\"x\"),IF(VLOOKUP(RIGHT(A161,5)*1,'Data eshop'!D:O,12,FALSE)=DATA!$D$4,\"uni010\",\"\"))),\"\"))),\"\")","v":""},{"$f":"IFERROR(IF(A161=\"\",\"\",IF(LEFT(B161,3)=\"uni\",1,VLOOKUP(RIGHT(A161,5)&\"-\"&B161,'Data eshop'!A:R,18,FALSE))),\"\")","v":""},"",{"$f":"IFERROR(IF(A161=\"\",\"\",IF(LEFT(B161,3)=\"uni\",VLOOKUP(B161,DATA!I:X,IF(O161=\"T7\",3,IF(O161=\"E87\",4,IF(O161=\"P2\",5,IF(O161=\"E2695\",6,\"\")))),FALSE),VLOOKUP(RIGHT(A161,5)&\"-\"&B161,'Data eshop'!A:S,19,FALSE))),\"\")","v":""},{"$f":"IFERROR(IF(A161=\"\",\"\",IF(LEFT(B161,3)=\"uni\",0,VLOOKUP(RIGHT(A161,5)&\"-\"&B161,'Data eshop'!A:S,16,FALSE))),\"\")","v":""},null,"",{"$f":"IF(H161=\"\",\"\",WORKDAY(TODAY()+IF(VLOOKUP(VLOOKUP(RIGHT(A161,5)*1,'Data eshop'!D:N,11,FALSE),DATA!A:B,2,FALSE)=7,14,1),5))","v":""},"","",{"$f":"IF(L160=\"\",\"\",IF(L160=RIGHT(A160,5)&\"x\",LEFT(L160,LEN(L160)-1)&\"y\",IF(L160=RIGHT(A160,5)&\"y\",IFERROR(SMALL('Data eshop'!D:D,COUNTIF('Data eshop'!D:D,\"<\"&(LEFT(L160,LEN(L160)-1)*1))),\"\"),IF(ISERROR(IF(VLOOKUP(M160+1,'Data eshop'!C:D,2,FALSE)='Řádky zakázky'!L160,L160,L160&\"x\")),IF(RIGHT(L160,1)=\"y\",\"\",L160&\"x\"),IF(VLOOKUP(M160+1,'Data eshop'!C:D,2,FALSE)='Řádky zakázky'!L160,L160,L160&\"x\")))))","v":"0xxxxxxxxxxxxxxxxxxxxxxxxxxxxxxxxxxxxxxxxxxxxxxxxxxxxxxxxxxxxxxxxxxxxxxxxxxxxxxxxxxxxxxxxxxxxxxxxxxxxxxxxxxxxxxxxxxxxxxxxxxxxxxxxxxxxxxxxxxxxxxxxxxxxxxxxxxxxxxx"},1,{"$f":"IF(A161=\"\",\"\",VLOOKUP(RIGHT(A161,5)*1,'Data eshop'!D:W,17,FALSE))","v":{"$error":"#VALUE!"}},{"$f":"VLOOKUP(A161,Zakázky!A:B,2,FALSE)","v":{"$error":"#N/A"}},""]
["19ESh0",{"$f":"IFERROR(IF(ISNUMBER(L162),VLOOKUP(L162&\"-\"&M162,'Data eshop'!B:W,16,FALSE),IF(RIGHT(L162,1)=\"x\",VLOOKUP(VLOOKUP(RIGHT(A162,5)*1,'Data eshop'!D:N,11,FALSE),DATA!G:I,3,FALSE),IF(RIGHT(L162,1)=\"y\",IF(VLOOKUP(RIGHT(A162,5)*1,'Data eshop'!D:O,12,FALSE)=IF(O162=\"T7\",DATA!$D$2,IF(O162=\"E87\",DATA!$D$5,IF(O162=\"P2\",DATA!$D$6,IF(O162=\"e2695\",DATA!$D$7,\"\")))),IF(N162>=IF(O162=\"T7\",DATA!$K$11,IF(O162=\"E87\",DATA!$L$11,IF(O162=\"P2\",DATA!$M$11,IF(O162=\"e2695\",DATA!$N$11,\"\")))),\"uni008\",\"uni001\"),IF(VLOOKUP(RIGHT(A162,5)*1,'Data eshop'!D:O,12,FALSE)=DATA!$D$3,IF(O162=\"T7\",IF(N162>=500,\"uni009\",\"uni002\"),\"x\"),IF(VLOOKUP(RIGHT(A162,5)*1,'Data eshop'!D:O,12,FALSE)=DATA!$D$4,\"uni010\",\"\"))),\"\"))),\"\")","v":""},{"$f":"IFERROR(IF(A162=\"\",\"\",IF(LEFT(B162,3)=\"uni\",1,VLOOKUP(RIGHT(A162,5)&\"-\"&B162,'Data eshop'!A:R,18,FALSE))),\"\")","v":""},"",{"$f":"IFERROR(IF(A162=\"\",\"\",IF(LEFT(B162,3)=\"uni\",VLOOKUP(B162,DATA!I:X,IF(O162=\"T7\",3,IF(O162=\"E87\",4,IF(O162=\"P2\",5,IF(O162=\"E2695\",6,\"\")))),FALSE),VLOOKUP(RIGHT(A162,5)&\"-\"&B162,'Data eshop'!A:S,19,FALSE))),\"\")","v":""},{"$f":"IFERROR(IF(A162=\"\",\"\",IF(LEFT(B162,3)=\"uni\",0,VLOOKUP(RIGHT(A162,5)&\"-\"&B162,'Data eshop'!A:S,16,FALSE))),\"\")","v":""},null,"",{"$f":"IF(H162=\"\",\"\",WORKDAY(TODAY()+IF(VLOOKUP(VLOOKUP(RIGHT(A162,5)*1,'Data eshop'!D:N,11,FALSE),DATA!A:B,2,FALSE)=7,14,1),5))","v":""},"","",{"$f":"IF(L161=\"\",\"\",IF(L161=RIGHT(A161,5)&\"x\",LEFT(L161,LEN(L161)-1)&\"y\",IF(L161=RIGHT(A161,5)&\"y\",IFERROR(SMALL('Data eshop'!D:D,COUNTIF('Data eshop'!D:D,\"<\"&(LEFT(L161,LEN(L161)-1)*1))),\"\"),IF(ISERROR(IF(VLOOKUP(M161+1,'Data eshop'!C:D,2,FALSE)='Řádky zakázky'!L161,L161,L161&\"x\")),IF(RIGHT(L161,1)=\"y\",\"\",L161&\"x\"),IF(VLOOKUP(M161+1,'Data eshop'!C:D,2,FALSE)='Řádky zakázky'!L161,L161,L161&\"x\")))))","v":"0xxxxxxxxxxxxxxxxxxxxxxxxxxxxxxxxxxxxxxxxxxxxxxxxxxxxxxxxxxxxxxxxxxxxxxxxxxxxxxxxxxxxxxxxxxxxxxxxxxxxxxxxxxxxxxxxxxxxxxxxxxxxxxxxxxxxxxxxxxxxxxxxxxxxxxxxxxxxxxxx"},1,{"$f":"IF(A162=\"\",\"\",VLOOKUP(RIGHT(A162,5)*1,'Data eshop'!D:W,17,FALSE))","v":{"$error":"#VALUE!"}},{"$f":"VLOOKUP(A162,Zakázky!A:B,2,FALSE)","v":{"$error":"#N/A"}},""]
["19ESh0",{"$f":"IFERROR(IF(ISNUMBER(L163),VLOOKUP(L163&\"-\"&M163,'Data eshop'!B:W,16,FALSE),IF(RIGHT(L163,1)=\"x\",VLOOKUP(VLOOKUP(RIGHT(A163,5)*1,'Data eshop'!D:N,11,FALSE),DATA!G:I,3,FALSE),IF(RIGHT(L163,1)=\"y\",IF(VLOOKUP(RIGHT(A163,5)*1,'Data eshop'!D:O,12,FALSE)=IF(O163=\"T7\",DATA!$D$2,IF(O163=\"E87\",DATA!$D$5,IF(O163=\"P2\",DATA!$D$6,IF(O163=\"e2695\",DATA!$D$7,\"\")))),IF(N163>=IF(O163=\"T7\",DATA!$K$11,IF(O163=\"E87\",DATA!$L$11,IF(O163=\"P2\",DATA!$M$11,IF(O163=\"e2695\",DATA!$N$11,\"\")))),\"uni008\",\"uni001\"),IF(VLOOKUP(RIGHT(A163,5)*1,'Data eshop'!D:O,12,FALSE)=DATA!$D$3,IF(O163=\"T7\",IF(N163>=500,\"uni009\",\"uni002\"),\"x\"),IF(VLOOKUP(RIGHT(A163,5)*1,'Data eshop'!D:O,12,FALSE)=DATA!$D$4,\"uni010\",\"\"))),\"\"))),\"\")","v":""},{"$f":"IFERROR(IF(A163=\"\",\"\",IF(LEFT(B163,3)=\"uni\",1,VLOOKUP(RIGHT(A163,5)&\"-\"&B163,'Data eshop'!A:R,18,FALSE))),\"\")","v":""},"",{"$f":"IFERROR(IF(A163=\"\",\"\",IF(LEFT(B163,3)=\"uni\",VLOOKUP(B163,DATA!I:X,IF(O163=\"T7\",3,IF(O163=\"E87\",4,IF(O163=\"P2\",5,IF(O163=\"E2695\",6,\"\")))),FALSE),VLOOKUP(RIGHT(A163,5)&\"-\"&B163,'Data eshop'!A:S,19,FALSE))),\"\")","v":""},{"$f":"IFERROR(IF(A163=\"\",\"\",IF(LEFT(B163,3)=\"uni\",0,VLOOKUP(RIGHT(A163,5)&\"-\"&B163,'Data eshop'!A:S,16,FALSE))),\"\")","v":""},null,"",{"$f":"IF(H163=\"\",\"\",WORKDAY(TODAY()+IF(VLOOKUP(VLOOKUP(RIGHT(A163,5)*1,'Data eshop'!D:N,11,FALSE),DATA!A:B,2,FALSE)=7,14,1),5))","v":""},"","",{"$f":"IF(L162=\"\",\"\",IF(L162=RIGHT(A162,5)&\"x\",LEFT(L162,LEN(L162)-1)&\"y\",IF(L162=RIGHT(A162,5)&\"y\",IFERROR(SMALL('Data eshop'!D:D,COUNTIF('Data eshop'!D:D,\"<\"&(LEFT(L162,LEN(L162)-1)*1))),\"\"),IF(ISERROR(IF(VLOOKUP(M162+1,'Data eshop'!C:D,2,FALSE)='Řádky zakázky'!L162,L162,L162&\"x\")),IF(RIGHT(L162,1)=\"y\",\"\",L162&\"x\"),IF(VLOOKUP(M162+1,'Data eshop'!C:D,2,FALSE)='Řádky zakázky'!L162,L162,L162&\"x\")))))","v":"0xxxxxxxxxxxxxxxxxxxxxxxxxxxxxxxxxxxxxxxxxxxxxxxxxxxxxxxxxxxxxxxxxxxxxxxxxxxxxxxxxxxxxxxxxxxxxxxxxxxxxxxxxxxxxxxxxxxxxxxxxxxxxxxxxxxxxxxxxxxxxxxxxxxxxxxxxxxxxxxxx"},1,{"$f":"IF(A163=\"\",\"\",VLOOKUP(RIGHT(A163,5)*1,'Data eshop'!D:W,17,FALSE))","v":{"$error":"#VALUE!"}},{"$f":"VLOOKUP(A163,Zakázky!A:B,2,FALSE)","v":{"$error":"#N/A"}},""]
["19ESh0",{"$f":"IFERROR(IF(ISNUMBER(L164),VLOOKUP(L164&\"-\"&M164,'Data eshop'!B:W,16,FALSE),IF(RIGHT(L164,1)=\"x\",VLOOKUP(VLOOKUP(RIGHT(A164,5)*1,'Data eshop'!D:N,11,FALSE),DATA!G:I,3,FALSE),IF(RIGHT(L164,1)=\"y\",IF(VLOOKUP(RIGHT(A164,5)*1,'Data eshop'!D:O,12,FALSE)=IF(O164=\"T7\",DATA!$D$2,IF(O164=\"E87\",DATA!$D$5,IF(O164=\"P2\",DATA!$D$6,IF(O164=\"e2695\",DATA!$D$7,\"\")))),IF(N164>=IF(O164=\"T7\",DATA!$K$11,IF(O164=\"E87\",DATA!$L$11,IF(O164=\"P2\",DATA!$M$11,IF(O164=\"e2695\",DATA!$N$11,\"\")))),\"uni008\",\"uni001\"),IF(VLOOKUP(RIGHT(A164,5)*1,'Data eshop'!D:O,12,FALSE)=DATA!$D$3,IF(O164=\"T7\",IF(N164>=500,\"uni009\",\"uni002\"),\"x\"),IF(VLOOKUP(RIGHT(A164,5)*1,'Data eshop'!D:O,12,FALSE)=DATA!$D$4,\"uni010\",\"\"))),\"\"))),\"\")","v":""},{"$f":"IFERROR(IF(A164=\"\",\"\",IF(LEFT(B164,3)=\"uni\",1,VLOOKUP(RIGHT(A164,5)&\"-\"&B164,'Data eshop'!A:R,18,FALSE))),\"\")","v":""},"",{"$f":"IFERROR(IF(A164=\"\",\"\",IF(LEFT(B164,3)=\"uni\",VLOOKUP(B164,DATA!I:X,IF(O164=\"T7\",3,IF(O164=\"E87\",4,IF(O164=\"P2\",5,IF(O164=\"E2695\",6,\"\")))),FALSE),VLOOKUP(RIGHT(A164,5)&\"-\"&B164,'Data eshop'!A:S,19,FALSE))),\"\")","v":""},{"$f":"IFERROR(IF(A164=\"\",\"\",IF(LEFT(B164,3)=\"uni\",0,VLOOKUP(RIGHT(A164,5)&\"-\"&B164,'Data eshop'!A:S,16,FALSE))),\"\")","v":""},null,"",{"$f":"IF(H164=\"\",\"\",WORKDAY(TODAY()+IF(VLOOKUP(VLOOKUP(RIGHT(A164,5)*1,'Data eshop'!D:N,11,FALSE),DATA!A:B,2,FALSE)=7,14,1),5))","v":""},"","",{"$f":"IF(L163=\"\",\"\",IF(L163=RIGHT(A163,5)&\"x\",LEFT(L163,LEN(L163)-1)&\"y\",IF(L163=RIGHT(A163,5)&\"y\",IFERROR(SMALL('Data eshop'!D:D,COUNTIF('Data eshop'!D:D,\"<\"&(LEFT(L163,LEN(L163)-1)*1))),\"\"),IF(ISERROR(IF(VLOOKUP(M163+1,'Data eshop'!C:D,2,FALSE)='Řádky zakázky'!L163,L163,L163&\"x\")),IF(RIGHT(L163,1)=\"y\",\"\",L163&\"x\"),IF(VLOOKUP(M163+1,'Data eshop'!C:D,2,FALSE)='Řádky zakázky'!L163,L163,L163&\"x\")))))","v":"0xxxxxxxxxxxxxxxxxxxxxxxxxxxxxxxxxxxxxxxxxxxxxxxxxxxxxxxxxxxxxxxxxxxxxxxxxxxxxxxxxxxxxxxxxxxxxxxxxxxxxxxxxxxxxxxxxxxxxxxxxxxxxxxxxxxxxxxxxxxxxxxxxxxxxxxxxxxxxxxxxx"},1,{"$f":"IF(A164=\"\",\"\",VLOOKUP(RIGHT(A164,5)*1,'Data eshop'!D:W,17,FALSE))","v":{"$error":"#VALUE!"}},{"$f":"VLOOKUP(A164,Zakázky!A:B,2,FALSE)","v":{"$error":"#N/A"}},"","Roluj nahoru, až uvidíš žlutou"]
["19ESh0",{"$f":"IFERROR(IF(ISNUMBER(L165),VLOOKUP(L165&\"-\"&M165,'Data eshop'!B:W,16,FALSE),IF(RIGHT(L165,1)=\"x\",VLOOKUP(VLOOKUP(RIGHT(A165,5)*1,'Data eshop'!D:N,11,FALSE),DATA!G:I,3,FALSE),IF(RIGHT(L165,1)=\"y\",IF(VLOOKUP(RIGHT(A165,5)*1,'Data eshop'!D:O,12,FALSE)=IF(O165=\"T7\",DATA!$D$2,IF(O165=\"E87\",DATA!$D$5,IF(O165=\"P2\",DATA!$D$6,IF(O165=\"e2695\",DATA!$D$7,\"\")))),IF(N165>=IF(O165=\"T7\",DATA!$K$11,IF(O165=\"E87\",DATA!$L$11,IF(O165=\"P2\",DATA!$M$11,IF(O165=\"e2695\",DATA!$N$11,\"\")))),\"uni008\",\"uni001\"),IF(VLOOKUP(RIGHT(A165,5)*1,'Data eshop'!D:O,12,FALSE)=DATA!$D$3,IF(O165=\"T7\",IF(N165>=500,\"uni009\",\"uni002\"),\"x\"),IF(VLOOKUP(RIGHT(A165,5)*1,'Data eshop'!D:O,12,FALSE)=DATA!$D$4,\"uni010\",\"\"))),\"\"))),\"\")","v":""},{"$f":"IFERROR(IF(A165=\"\",\"\",IF(LEFT(B165,3)=\"uni\",1,VLOOKUP(RIGHT(A165,5)&\"-\"&B165,'Data eshop'!A:R,18,FALSE))),\"\")","v":""},"",{"$f":"IFERROR(IF(A165=\"\",\"\",IF(LEFT(B165,3)=\"uni\",VLOOKUP(B165,DATA!I:X,IF(O165=\"T7\",3,IF(O165=\"E87\",4,IF(O165=\"P2\",5,IF(O165=\"E2695\",6,\"\")))),FALSE),VLOOKUP(RIGHT(A165,5)&\"-\"&B165,'Data eshop'!A:S,19,FALSE))),\"\")","v":""},{"$f":"IFERROR(IF(A165=\"\",\"\",IF(LEFT(B165,3)=\"uni\",0,VLOOKUP(RIGHT(A165,5)&\"-\"&B165,'Data eshop'!A:S,16,FALSE))),\"\")","v":""},null,"",{"$f":"IF(H165=\"\",\"\",WORKDAY(TODAY()+IF(VLOOKUP(VLOOKUP(RIGHT(A165,5)*1,'Data eshop'!D:N,11,FALSE),DATA!A:B,2,FALSE)=7,14,1),5))","v":""},"","",{"$f":"IF(L164=\"\",\"\",IF(L164=RIGHT(A164,5)&\"x\",LEFT(L164,LEN(L164)-1)&\"y\",IF(L164=RIGHT(A164,5)&\"y\",IFERROR(SMALL('Data eshop'!D:D,COUNTIF('Data eshop'!D:D,\"<\"&(LEFT(L164,LEN(L164)-1)*1))),\"\"),IF(ISERROR(IF(VLOOKUP(M164+1,'Data eshop'!C:D,2,FALSE)='Řádky zakázky'!L164,L164,L164&\"x\")),IF(RIGHT(L164,1)=\"y\",\"\",L164&\"x\"),IF(VLOOKUP(M164+1,'Data eshop'!C:D,2,FALSE)='Řádky zakázky'!L164,L164,L164&\"x\")))))","v":"0xxxxxxxxxxxxxxxxxxxxxxxxxxxxxxxxxxxxxxxxxxxxxxxxxxxxxxxxxxxxxxxxxxxxxxxxxxxxxxxxxxxxxxxxxxxxxxxxxxxxxxxxxxxxxxxxxxxxxxxxxxxxxxxxxxxxxxxxxxxxxxxxxxxxxxxxxxxxxxxxxxx"},1,{"$f":"IF(A165=\"\",\"\",VLOOKUP(RIGHT(A165,5)*1,'Data eshop'!D:W,17,FALSE))","v":{"$error":"#VALUE!"}},{"$f":"VLOOKUP(A165,Zakázky!A:B,2,FALSE)","v":{"$error":"#N/A"}},""]
["19ESh0",{"$f":"IFERROR(IF(ISNUMBER(L166),VLOOKUP(L166&\"-\"&M166,'Data eshop'!B:W,16,FALSE),IF(RIGHT(L166,1)=\"x\",VLOOKUP(VLOOKUP(RIGHT(A166,5)*1,'Data eshop'!D:N,11,FALSE),DATA!G:I,3,FALSE),IF(RIGHT(L166,1)=\"y\",IF(VLOOKUP(RIGHT(A166,5)*1,'Data eshop'!D:O,12,FALSE)=IF(O166=\"T7\",DATA!$D$2,IF(O166=\"E87\",DATA!$D$5,IF(O166=\"P2\",DATA!$D$6,IF(O166=\"e2695\",DATA!$D$7,\"\")))),IF(N166>=IF(O166=\"T7\",DATA!$K$11,IF(O166=\"E87\",DATA!$L$11,IF(O166=\"P2\",DATA!$M$11,IF(O166=\"e2695\",DATA!$N$11,\"\")))),\"uni008\",\"uni001\"),IF(VLOOKUP(RIGHT(A166,5)*1,'Data eshop'!D:O,12,FALSE)=DATA!$D$3,IF(O166=\"T7\",IF(N166>=500,\"uni009\",\"uni002\"),\"x\"),IF(VLOOKUP(RIGHT(A166,5)*1,'Data eshop'!D:O,12,FALSE)=DATA!$D$4,\"uni010\",\"\"))),\"\"))),\"\")","v":""},{"$f":"IFERROR(IF(A166=\"\",\"\",IF(LEFT(B166,3)=\"uni\",1,VLOOKUP(RIGHT(A166,5)&\"-\"&B166,'Data eshop'!A:R,18,FALSE))),\"\")","v":""},"",{"$f":"IFERROR(IF(A166=\"\",\"\",IF(LEFT(B166,3)=\"uni\",VLOOKUP(B166,DATA!I:X,IF(O166=\"T7\",3,IF(O166=\"E87\",4,IF(O166=\"P2\",5,IF(O166=\"E2695\",6,\"\")))),FALSE),VLOOKUP(RIGHT(A166,5)&\"-\"&B166,'Data eshop'!A:S,19,FALSE))),\"\")","v":""},{"$f":"IFERROR(IF(A166=\"\",\"\",IF(LEFT(B166,3)=\"uni\",0,VLOOKUP(RIGHT(A166,5)&\"-\"&B166,'Data eshop'!A:S,16,FALSE))),\"\")","v":""},null,"",{"$f":"IF(H166=\"\",\"\",WORKDAY(TODAY()+IF(VLOOKUP(VLOOKUP(RIGHT(A166,5)*1,'Data eshop'!D:N,11,FALSE),DATA!A:B,2,FALSE)=7,14,1),5))","v":""},"","",{"$f":"IF(L165=\"\",\"\",IF(L165=RIGHT(A165,5)&\"x\",LEFT(L165,LEN(L165)-1)&\"y\",IF(L165=RIGHT(A165,5)&\"y\",IFERROR(SMALL('Data eshop'!D:D,COUNTIF('Data eshop'!D:D,\"<\"&(LEFT(L165,LEN(L165)-1)*1))),\"\"),IF(ISERROR(IF(VLOOKUP(M165+1,'Data eshop'!C:D,2,FALSE)='Řádky zakázky'!L165,L165,L165&\"x\")),IF(RIGHT(L165,1)=\"y\",\"\",L165&\"x\"),IF(VLOOKUP(M165+1,'Data eshop'!C:D,2,FALSE)='Řádky zakázky'!L165,L165,L165&\"x\")))))","v":"0xxxxxxxxxxxxxxxxxxxxxxxxxxxxxxxxxxxxxxxxxxxxxxxxxxxxxxxxxxxxxxxxxxxxxxxxxxxxxxxxxxxxxxxxxxxxxxxxxxxxxxxxxxxxxxxxxxxxxxxxxxxxxxxxxxxxxxxxxxxxxxxxxxxxxxxxxxxxxxxxxxxx"},1,{"$f":"IF(A166=\"\",\"\",VLOOKUP(RIGHT(A166,5)*1,'Data eshop'!D:W,17,FALSE))","v":{"$error":"#VALUE!"}},{"$f":"VLOOKUP(A166,Zakázky!A:B,2,FALSE)","v":{"$error":"#N/A"}},""]
["19ESh0",{"$f":"IFERROR(IF(ISNUMBER(L167),VLOOKUP(L167&\"-\"&M167,'Data eshop'!B:W,16,FALSE),IF(RIGHT(L167,1)=\"x\",VLOOKUP(VLOOKUP(RIGHT(A167,5)*1,'Data eshop'!D:N,11,FALSE),DATA!G:I,3,FALSE),IF(RIGHT(L167,1)=\"y\",IF(VLOOKUP(RIGHT(A167,5)*1,'Data eshop'!D:O,12,FALSE)=IF(O167=\"T7\",DATA!$D$2,IF(O167=\"E87\",DATA!$D$5,IF(O167=\"P2\",DATA!$D$6,IF(O167=\"e2695\",DATA!$D$7,\"\")))),IF(N167>=IF(O167=\"T7\",DATA!$K$11,IF(O167=\"E87\",DATA!$L$11,IF(O167=\"P2\",DATA!$M$11,IF(O167=\"e2695\",DATA!$N$11,\"\")))),\"uni008\",\"uni001\"),IF(VLOOKUP(RIGHT(A167,5)*1,'Data eshop'!D:O,12,FALSE)=DATA!$D$3,IF(O167=\"T7\",IF(N167>=500,\"uni009\",\"uni002\"),\"x\"),IF(VLOOKUP(RIGHT(A167,5)*1,'Data eshop'!D:O,12,FALSE)=DATA!$D$4,\"uni010\",\"\"))),\"\"))),\"\")","v":""},{"$f":"IFERROR(IF(A167=\"\",\"\",IF(LEFT(B167,3)=\"uni\",1,VLOOKUP(RIGHT(A167,5)&\"-\"&B167,'Data eshop'!A:R,18,FALSE))),\"\")","v":""},"",{"$f":"IFERROR(IF(A167=\"\",\"\",IF(LEFT(B167,3)=\"uni\",VLOOKUP(B167,DATA!I:X,IF(O167=\"T7\",3,IF(O167=\"E87\",4,IF(O167=\"P2\",5,IF(O167=\"E2695\",6,\"\")))),FALSE),VLOOKUP(RIGHT(A167,5)&\"-\"&B167,'Data eshop'!A:S,19,FALSE))),\"\")","v":""},{"$f":"IFERROR(IF(A167=\"\",\"\",IF(LEFT(B167,3)=\"uni\",0,VLOOKUP(RIGHT(A167,5)&\"-\"&B167,'Data eshop'!A:S,16,FALSE))),\"\")","v":""},null,"",{"$f":"IF(H167=\"\",\"\",WORKDAY(TODAY()+IF(VLOOKUP(VLOOKUP(RIGHT(A167,5)*1,'Data eshop'!D:N,11,FALSE),DATA!A:B,2,FALSE)=7,14,1),5))","v":""},"","",{"$f":"IF(L166=\"\",\"\",IF(L166=RIGHT(A166,5)&\"x\",LEFT(L166,LEN(L166)-1)&\"y\",IF(L166=RIGHT(A166,5)&\"y\",IFERROR(SMALL('Data eshop'!D:D,COUNTIF('Data eshop'!D:D,\"<\"&(LEFT(L166,LEN(L166)-1)*1))),\"\"),IF(ISERROR(IF(VLOOKUP(M166+1,'Data eshop'!C:D,2,FALSE)='Řádky zakázky'!L166,L166,L166&\"x\")),IF(RIGHT(L166,1)=\"y\",\"\",L166&\"x\"),IF(VLOOKUP(M166+1,'Data eshop'!C:D,2,FALSE)='Řádky zakázky'!L166,L166,L166&\"x\")))))","v":"0xxxxxxxxxxxxxxxxxxxxxxxxxxxxxxxxxxxxxxxxxxxxxxxxxxxxxxxxxxxxxxxxxxxxxxxxxxxxxxxxxxxxxxxxxxxxxxxxxxxxxxxxxxxxxxxxxxxxxxxxxxxxxxxxxxxxxxxxxxxxxxxxxxxxxxxxxxxxxxxxxxxxx"},1,{"$f":"IF(A167=\"\",\"\",VLOOKUP(RIGHT(A167,5)*1,'Data eshop'!D:W,17,FALSE))","v":{"$error":"#VALUE!"}},{"$f":"VLOOKUP(A167,Zakázky!A:B,2,FALSE)","v":{"$error":"#N/A"}},""]
["19ESh0",{"$f":"IFERROR(IF(ISNUMBER(L168),VLOOKUP(L168&\"-\"&M168,'Data eshop'!B:W,16,FALSE),IF(RIGHT(L168,1)=\"x\",VLOOKUP(VLOOKUP(RIGHT(A168,5)*1,'Data eshop'!D:N,11,FALSE),DATA!G:I,3,FALSE),IF(RIGHT(L168,1)=\"y\",IF(VLOOKUP(RIGHT(A168,5)*1,'Data eshop'!D:O,12,FALSE)=IF(O168=\"T7\",DATA!$D$2,IF(O168=\"E87\",DATA!$D$5,IF(O168=\"P2\",DATA!$D$6,IF(O168=\"e2695\",DATA!$D$7,\"\")))),IF(N168>=IF(O168=\"T7\",DATA!$K$11,IF(O168=\"E87\",DATA!$L$11,IF(O168=\"P2\",DATA!$M$11,IF(O168=\"e2695\",DATA!$N$11,\"\")))),\"uni008\",\"uni001\"),IF(VLOOKUP(RIGHT(A168,5)*1,'Data eshop'!D:O,12,FALSE)=DATA!$D$3,IF(O168=\"T7\",IF(N168>=500,\"uni009\",\"uni002\"),\"x\"),IF(VLOOKUP(RIGHT(A168,5)*1,'Data eshop'!D:O,12,FALSE)=DATA!$D$4,\"uni010\",\"\"))),\"\"))),\"\")","v":""},{"$f":"IFERROR(IF(A168=\"\",\"\",IF(LEFT(B168,3)=\"uni\",1,VLOOKUP(RIGHT(A168,5)&\"-\"&B168,'Data eshop'!A:R,18,FALSE))),\"\")","v":""},"",{"$f":"IFERROR(IF(A168=\"\",\"\",IF(LEFT(B168,3)=\"uni\",VLOOKUP(B168,DATA!I:X,IF(O168=\"T7\",3,IF(O168=\"E87\",4,IF(O168=\"P2\",5,IF(O168=\"E2695\",6,\"\")))),FALSE),VLOOKUP(RIGHT(A168,5)&\"-\"&B168,'Data eshop'!A:S,19,FALSE))),\"\")","v":""},{"$f":"IFERROR(IF(A168=\"\",\"\",IF(LEFT(B168,3)=\"uni\",0,VLOOKUP(RIGHT(A168,5)&\"-\"&B168,'Data eshop'!A:S,16,FALSE))),\"\")","v":""},null,"",{"$f":"IF(H168=\"\",\"\",WORKDAY(TODAY()+IF(VLOOKUP(VLOOKUP(RIGHT(A168,5)*1,'Data eshop'!D:N,11,FALSE),DATA!A:B,2,FALSE)=7,14,1),5))","v":""},"","",{"$f":"IF(L167=\"\",\"\",IF(L167=RIGHT(A167,5)&\"x\",LEFT(L167,LEN(L167)-1)&\"y\",IF(L167=RIGHT(A167,5)&\"y\",IFERROR(SMALL('Data eshop'!D:D,COUNTIF('Data eshop'!D:D,\"<\"&(LEFT(L167,LEN(L167)-1)*1))),\"\"),IF(ISERROR(IF(VLOOKUP(M167+1,'Data eshop'!C:D,2,FALSE)='Řádky zakázky'!L167,L167,L167&\"x\")),IF(RIGHT(L167,1)=\"y\",\"\",L167&\"x\"),IF(VLOOKUP(M167+1,'Data eshop'!C:D,2,FALSE)='Řádky zakázky'!L167,L167,L167&\"x\")))))","v":"0xxxxxxxxxxxxxxxxxxxxxxxxxxxxxxxxxxxxxxxxxxxxxxxxxxxxxxxxxxxxxxxxxxxxxxxxxxxxxxxxxxxxxxxxxxxxxxxxxxxxxxxxxxxxxxxxxxxxxxxxxxxxxxxxxxxxxxxxxxxxxxxxxxxxxxxxxxxxxxxxxxxxxx"},1,{"$f":"IF(A168=\"\",\"\",VLOOKUP(RIGHT(A168,5)*1,'Data eshop'!D:W,17,FALSE))","v":{"$error":"#VALUE!"}},{"$f":"VLOOKUP(A168,Zakázky!A:B,2,FALSE)","v":{"$error":"#N/A"}},"","Roluj nahoru, až uvidíš žlutou"]
["19ESh0",{"$f":"IFERROR(IF(ISNUMBER(L169),VLOOKUP(L169&\"-\"&M169,'Data eshop'!B:W,16,FALSE),IF(RIGHT(L169,1)=\"x\",VLOOKUP(VLOOKUP(RIGHT(A169,5)*1,'Data eshop'!D:N,11,FALSE),DATA!G:I,3,FALSE),IF(RIGHT(L169,1)=\"y\",IF(VLOOKUP(RIGHT(A169,5)*1,'Data eshop'!D:O,12,FALSE)=IF(O169=\"T7\",DATA!$D$2,IF(O169=\"E87\",DATA!$D$5,IF(O169=\"P2\",DATA!$D$6,IF(O169=\"e2695\",DATA!$D$7,\"\")))),IF(N169>=IF(O169=\"T7\",DATA!$K$11,IF(O169=\"E87\",DATA!$L$11,IF(O169=\"P2\",DATA!$M$11,IF(O169=\"e2695\",DATA!$N$11,\"\")))),\"uni008\",\"uni001\"),IF(VLOOKUP(RIGHT(A169,5)*1,'Data eshop'!D:O,12,FALSE)=DATA!$D$3,IF(O169=\"T7\",IF(N169>=500,\"uni009\",\"uni002\"),\"x\"),IF(VLOOKUP(RIGHT(A169,5)*1,'Data eshop'!D:O,12,FALSE)=DATA!$D$4,\"uni010\",\"\"))),\"\"))),\"\")","v":""},{"$f":"IFERROR(IF(A169=\"\",\"\",IF(LEFT(B169,3)=\"uni\",1,VLOOKUP(RIGHT(A169,5)&\"-\"&B169,'Data eshop'!A:R,18,FALSE))),\"\")","v":""},"",{"$f":"IFERROR(IF(A169=\"\",\"\",IF(LEFT(B169,3)=\"uni\",VLOOKUP(B169,DATA!I:X,IF(O169=\"T7\",3,IF(O169=\"E87\",4,IF(O169=\"P2\",5,IF(O169=\"E2695\",6,\"\")))),FALSE),VLOOKUP(RIGHT(A169,5)&\"-\"&B169,'Data eshop'!A:S,19,FALSE))),\"\")","v":""},{"$f":"IFERROR(IF(A169=\"\",\"\",IF(LEFT(B169,3)=\"uni\",0,VLOOKUP(RIGHT(A169,5)&\"-\"&B169,'Data eshop'!A:S,16,FALSE))),\"\")","v":""},null,"",{"$f":"IF(H169=\"\",\"\",WORKDAY(TODAY()+IF(VLOOKUP(VLOOKUP(RIGHT(A169,5)*1,'Data eshop'!D:N,11,FALSE),DATA!A:B,2,FALSE)=7,14,1),5))","v":""},"","",{"$f":"IF(L168=\"\",\"\",IF(L168=RIGHT(A168,5)&\"x\",LEFT(L168,LEN(L168)-1)&\"y\",IF(L168=RIGHT(A168,5)&\"y\",IFERROR(SMALL('Data eshop'!D:D,COUNTIF('Data eshop'!D:D,\"<\"&(LEFT(L168,LEN(L168)-1)*1))),\"\"),IF(ISERROR(IF(VLOOKUP(M168+1,'Data eshop'!C:D,2,FALSE)='Řádky zakázky'!L168,L168,L168&\"x\")),IF(RIGHT(L168,1)=\"y\",\"\",L168&\"x\"),IF(VLOOKUP(M168+1,'Data eshop'!C:D,2,FALSE)='Řádky zakázky'!L168,L168,L168&\"x\")))))","v":"0xxxxxxxxxxxxxxxxxxxxxxxxxxxxxxxxxxxxxxxxxxxxxxxxxxxxxxxxxxxxxxxxxxxxxxxxxxxxxxxxxxxxxxxxxxxxxxxxxxxxxxxxxxxxxxxxxxxxxxxxxxxxxxxxxxxxxxxxxxxxxxxxxxxxxxxxxxxxxxxxxxxxxxx"},1,{"$f":"IF(A169=\"\",\"\",VLOOKUP(RIGHT(A169,5)*1,'Data eshop'!D:W,17,FALSE))","v":{"$error":"#VALUE!"}},{"$f":"VLOOKUP(A169,Zakázky!A:B,2,FALSE)","v":{"$error":"#N/A"}},""]
["19ESh0",{"$f":"IFERROR(IF(ISNUMBER(L170),VLOOKUP(L170&\"-\"&M170,'Data eshop'!B:W,16,FALSE),IF(RIGHT(L170,1)=\"x\",VLOOKUP(VLOOKUP(RIGHT(A170,5)*1,'Data eshop'!D:N,11,FALSE),DATA!G:I,3,FALSE),IF(RIGHT(L170,1)=\"y\",IF(VLOOKUP(RIGHT(A170,5)*1,'Data eshop'!D:O,12,FALSE)=IF(O170=\"T7\",DATA!$D$2,IF(O170=\"E87\",DATA!$D$5,IF(O170=\"P2\",DATA!$D$6,IF(O170=\"e2695\",DATA!$D$7,\"\")))),IF(N170>=IF(O170=\"T7\",DATA!$K$11,IF(O170=\"E87\",DATA!$L$11,IF(O170=\"P2\",DATA!$M$11,IF(O170=\"e2695\",DATA!$N$11,\"\")))),\"uni008\",\"uni001\"),IF(VLOOKUP(RIGHT(A170,5)*1,'Data eshop'!D:O,12,FALSE)=DATA!$D$3,IF(O170=\"T7\",IF(N170>=500,\"uni009\",\"uni002\"),\"x\"),IF(VLOOKUP(RIGHT(A170,5)*1,'Data eshop'!D:O,12,FALSE)=DATA!$D$4,\"uni010\",\"\"))),\"\"))),\"\")","v":""},{"$f":"IFERROR(IF(A170=\"\",\"\",IF(LEFT(B170,3)=\"uni\",1,VLOOKUP(RIGHT(A170,5)&\"-\"&B170,'Data eshop'!A:R,18,FALSE))),\"\")","v":""},"",{"$f":"IFERROR(IF(A170=\"\",\"\",IF(LEFT(B170,3)=\"uni\",VLOOKUP(B170,DATA!I:X,IF(O170=\"T7\",3,IF(O170=\"E87\",4,IF(O170=\"P2\",5,IF(O170=\"E2695\",6,\"\")))),FALSE),VLOOKUP(RIGHT(A170,5)&\"-\"&B170,'Data eshop'!A:S,19,FALSE))),\"\")","v":""},{"$f":"IFERROR(IF(A170=\"\",\"\",IF(LEFT(B170,3)=\"uni\",0,VLOOKUP(RIGHT(A170,5)&\"-\"&B170,'Data eshop'!A:S,16,FALSE))),\"\")","v":""},null,"",{"$f":"IF(H170=\"\",\"\",WORKDAY(TODAY()+IF(VLOOKUP(VLOOKUP(RIGHT(A170,5)*1,'Data eshop'!D:N,11,FALSE),DATA!A:B,2,FALSE)=7,14,1),5))","v":""},"","",{"$f":"IF(L169=\"\",\"\",IF(L169=RIGHT(A169,5)&\"x\",LEFT(L169,LEN(L169)-1)&\"y\",IF(L169=RIGHT(A169,5)&\"y\",IFERROR(SMALL('Data eshop'!D:D,COUNTIF('Data eshop'!D:D,\"<\"&(LEFT(L169,LEN(L169)-1)*1))),\"\"),IF(ISERROR(IF(VLOOKUP(M169+1,'Data eshop'!C:D,2,FALSE)='Řádky zakázky'!L169,L169,L169&\"x\")),IF(RIGHT(L169,1)=\"y\",\"\",L169&\"x\"),IF(VLOOKUP(M169+1,'Data eshop'!C:D,2,FALSE)='Řádky zakázky'!L169,L169,L169&\"x\")))))","v":"0xxxxxxxxxxxxxxxxxxxxxxxxxxxxxxxxxxxxxxxxxxxxxxxxxxxxxxxxxxxxxxxxxxxxxxxxxxxxxxxxxxxxxxxxxxxxxxxxxxxxxxxxxxxxxxxxxxxxxxxxxxxxxxxxxxxxxxxxxxxxxxxxxxxxxxxxxxxxxxxxxxxxxxxx"},1,{"$f":"IF(A170=\"\",\"\",VLOOKUP(RIGHT(A170,5)*1,'Data eshop'!D:W,17,FALSE))","v":{"$error":"#VALUE!"}},{"$f":"VLOOKUP(A170,Zakázky!A:B,2,FALSE)","v":{"$error":"#N/A"}},""]
["19ESh0",{"$f":"IFERROR(IF(ISNUMBER(L171),VLOOKUP(L171&\"-\"&M171,'Data eshop'!B:W,16,FALSE),IF(RIGHT(L171,1)=\"x\",VLOOKUP(VLOOKUP(RIGHT(A171,5)*1,'Data eshop'!D:N,11,FALSE),DATA!G:I,3,FALSE),IF(RIGHT(L171,1)=\"y\",IF(VLOOKUP(RIGHT(A171,5)*1,'Data eshop'!D:O,12,FALSE)=IF(O171=\"T7\",DATA!$D$2,IF(O171=\"E87\",DATA!$D$5,IF(O171=\"P2\",DATA!$D$6,IF(O171=\"e2695\",DATA!$D$7,\"\")))),IF(N171>=IF(O171=\"T7\",DATA!$K$11,IF(O171=\"E87\",DATA!$L$11,IF(O171=\"P2\",DATA!$M$11,IF(O171=\"e2695\",DATA!$N$11,\"\")))),\"uni008\",\"uni001\"),IF(VLOOKUP(RIGHT(A171,5)*1,'Data eshop'!D:O,12,FALSE)=DATA!$D$3,IF(O171=\"T7\",IF(N171>=500,\"uni009\",\"uni002\"),\"x\"),IF(VLOOKUP(RIGHT(A171,5)*1,'Data eshop'!D:O,12,FALSE)=DATA!$D$4,\"uni010\",\"\"))),\"\"))),\"\")","v":""},{"$f":"IFERROR(IF(A171=\"\",\"\",IF(LEFT(B171,3)=\"uni\",1,VLOOKUP(RIGHT(A171,5)&\"-\"&B171,'Data eshop'!A:R,18,FALSE))),\"\")","v":""},"",{"$f":"IFERROR(IF(A171=\"\",\"\",IF(LEFT(B171,3)=\"uni\",VLOOKUP(B171,DATA!I:X,IF(O171=\"T7\",3,IF(O171=\"E87\",4,IF(O171=\"P2\",5,IF(O171=\"E2695\",6,\"\")))),FALSE),VLOOKUP(RIGHT(A171,5)&\"-\"&B171,'Data eshop'!A:S,19,FALSE))),\"\")","v":""},{"$f":"IFERROR(IF(A171=\"\",\"\",IF(LEFT(B171,3)=\"uni\",0,VLOOKUP(RIGHT(A171,5)&\"-\"&B171,'Data eshop'!A:S,16,FALSE))),\"\")","v":""},null,"",{"$f":"IF(H171=\"\",\"\",WORKDAY(TODAY()+IF(VLOOKUP(VLOOKUP(RIGHT(A171,5)*1,'Data eshop'!D:N,11,FALSE),DATA!A:B,2,FALSE)=7,14,1),5))","v":""},"","",{"$f":"IF(L170=\"\",\"\",IF(L170=RIGHT(A170,5)&\"x\",LEFT(L170,LEN(L170)-1)&\"y\",IF(L170=RIGHT(A170,5)&\"y\",IFERROR(SMALL('Data eshop'!D:D,COUNTIF('Data eshop'!D:D,\"<\"&(LEFT(L170,LEN(L170)-1)*1))),\"\"),IF(ISERROR(IF(VLOOKUP(M170+1,'Data eshop'!C:D,2,FALSE)='Řádky zakázky'!L170,L170,L170&\"x\")),IF(RIGHT(L170,1)=\"y\",\"\",L170&\"x\"),IF(VLOOKUP(M170+1,'Data eshop'!C:D,2,FALSE)='Řádky zakázky'!L170,L170,L170&\"x\")))))","v":"0xxxxxxxxxxxxxxxxxxxxxxxxxxxxxxxxxxxxxxxxxxxxxxxxxxxxxxxxxxxxxxxxxxxxxxxxxxxxxxxxxxxxxxxxxxxxxxxxxxxxxxxxxxxxxxxxxxxxxxxxxxxxxxxxxxxxxxxxxxxxxxxxxxxxxxxxxxxxxxxxxxxxxxxxx"},1,{"$f":"IF(A171=\"\",\"\",VLOOKUP(RIGHT(A171,5)*1,'Data eshop'!D:W,17,FALSE))","v":{"$error":"#VALUE!"}},{"$f":"VLOOKUP(A171,Zakázky!A:B,2,FALSE)","v":{"$error":"#N/A"}},""]
["19ESh0",{"$f":"IFERROR(IF(ISNUMBER(L172),VLOOKUP(L172&\"-\"&M172,'Data eshop'!B:W,16,FALSE),IF(RIGHT(L172,1)=\"x\",VLOOKUP(VLOOKUP(RIGHT(A172,5)*1,'Data eshop'!D:N,11,FALSE),DATA!G:I,3,FALSE),IF(RIGHT(L172,1)=\"y\",IF(VLOOKUP(RIGHT(A172,5)*1,'Data eshop'!D:O,12,FALSE)=IF(O172=\"T7\",DATA!$D$2,IF(O172=\"E87\",DATA!$D$5,IF(O172=\"P2\",DATA!$D$6,IF(O172=\"e2695\",DATA!$D$7,\"\")))),IF(N172>=IF(O172=\"T7\",DATA!$K$11,IF(O172=\"E87\",DATA!$L$11,IF(O172=\"P2\",DATA!$M$11,IF(O172=\"e2695\",DATA!$N$11,\"\")))),\"uni008\",\"uni001\"),IF(VLOOKUP(RIGHT(A172,5)*1,'Data eshop'!D:O,12,FALSE)=DATA!$D$3,IF(O172=\"T7\",IF(N172>=500,\"uni009\",\"uni002\"),\"x\"),IF(VLOOKUP(RIGHT(A172,5)*1,'Data eshop'!D:O,12,FALSE)=DATA!$D$4,\"uni010\",\"\"))),\"\"))),\"\")","v":""},{"$f":"IFERROR(IF(A172=\"\",\"\",IF(LEFT(B172,3)=\"uni\",1,VLOOKUP(RIGHT(A172,5)&\"-\"&B172,'Data eshop'!A:R,18,FALSE))),\"\")","v":""},"",{"$f":"IFERROR(IF(A172=\"\",\"\",IF(LEFT(B172,3)=\"uni\",VLOOKUP(B172,DATA!I:X,IF(O172=\"T7\",3,IF(O172=\"E87\",4,IF(O172=\"P2\",5,IF(O172=\"E2695\",6,\"\")))),FALSE),VLOOKUP(RIGHT(A172,5)&\"-\"&B172,'Data eshop'!A:S,19,FALSE))),\"\")","v":""},{"$f":"IFERROR(IF(A172=\"\",\"\",IF(LEFT(B172,3)=\"uni\",0,VLOOKUP(RIGHT(A172,5)&\"-\"&B172,'Data eshop'!A:S,16,FALSE))),\"\")","v":""},null,"",{"$f":"IF(H172=\"\",\"\",WORKDAY(TODAY()+IF(VLOOKUP(VLOOKUP(RIGHT(A172,5)*1,'Data eshop'!D:N,11,FALSE),DATA!A:B,2,FALSE)=7,14,1),5))","v":""},"","",{"$f":"IF(L171=\"\",\"\",IF(L171=RIGHT(A171,5)&\"x\",LEFT(L171,LEN(L171)-1)&\"y\",IF(L171=RIGHT(A171,5)&\"y\",IFERROR(SMALL('Data eshop'!D:D,COUNTIF('Data eshop'!D:D,\"<\"&(LEFT(L171,LEN(L171)-1)*1))),\"\"),IF(ISERROR(IF(VLOOKUP(M171+1,'Data eshop'!C:D,2,FALSE)='Řádky zakázky'!L171,L171,L171&\"x\")),IF(RIGHT(L171,1)=\"y\",\"\",L171&\"x\"),IF(VLOOKUP(M171+1,'Data eshop'!C:D,2,FALSE)='Řádky zakázky'!L171,L171,L171&\"x\")))))","v":"0xxxxxxxxxxxxxxxxxxxxxxxxxxxxxxxxxxxxxxxxxxxxxxxxxxxxxxxxxxxxxxxxxxxxxxxxxxxxxxxxxxxxxxxxxxxxxxxxxxxxxxxxxxxxxxxxxxxxxxxxxxxxxxxxxxxxxxxxxxxxxxxxxxxxxxxxxxxxxxxxxxxxxxxxxx"},1,{"$f":"IF(A172=\"\",\"\",VLOOKUP(RIGHT(A172,5)*1,'Data eshop'!D:W,17,FALSE))","v":{"$error":"#VALUE!"}},{"$f":"VLOOKUP(A172,Zakázky!A:B,2,FALSE)","v":{"$error":"#N/A"}},"","Roluj nahoru, až uvidíš žlutou"]
["19ESh0",{"$f":"IFERROR(IF(ISNUMBER(L173),VLOOKUP(L173&\"-\"&M173,'Data eshop'!B:W,16,FALSE),IF(RIGHT(L173,1)=\"x\",VLOOKUP(VLOOKUP(RIGHT(A173,5)*1,'Data eshop'!D:N,11,FALSE),DATA!G:I,3,FALSE),IF(RIGHT(L173,1)=\"y\",IF(VLOOKUP(RIGHT(A173,5)*1,'Data eshop'!D:O,12,FALSE)=IF(O173=\"T7\",DATA!$D$2,IF(O173=\"E87\",DATA!$D$5,IF(O173=\"P2\",DATA!$D$6,IF(O173=\"e2695\",DATA!$D$7,\"\")))),IF(N173>=IF(O173=\"T7\",DATA!$K$11,IF(O173=\"E87\",DATA!$L$11,IF(O173=\"P2\",DATA!$M$11,IF(O173=\"e2695\",DATA!$N$11,\"\")))),\"uni008\",\"uni001\"),IF(VLOOKUP(RIGHT(A173,5)*1,'Data eshop'!D:O,12,FALSE)=DATA!$D$3,IF(O173=\"T7\",IF(N173>=500,\"uni009\",\"uni002\"),\"x\"),IF(VLOOKUP(RIGHT(A173,5)*1,'Data eshop'!D:O,12,FALSE)=DATA!$D$4,\"uni010\",\"\"))),\"\"))),\"\")","v":""},{"$f":"IFERROR(IF(A173=\"\",\"\",IF(LEFT(B173,3)=\"uni\",1,VLOOKUP(RIGHT(A173,5)&\"-\"&B173,'Data eshop'!A:R,18,FALSE))),\"\")","v":""},"",{"$f":"IFERROR(IF(A173=\"\",\"\",IF(LEFT(B173,3)=\"uni\",VLOOKUP(B173,DATA!I:X,IF(O173=\"T7\",3,IF(O173=\"E87\",4,IF(O173=\"P2\",5,IF(O173=\"E2695\",6,\"\")))),FALSE),VLOOKUP(RIGHT(A173,5)&\"-\"&B173,'Data eshop'!A:S,19,FALSE))),\"\")","v":""},{"$f":"IFERROR(IF(A173=\"\",\"\",IF(LEFT(B173,3)=\"uni\",0,VLOOKUP(RIGHT(A173,5)&\"-\"&B173,'Data eshop'!A:S,16,FALSE))),\"\")","v":""},null,"",{"$f":"IF(H173=\"\",\"\",WORKDAY(TODAY()+IF(VLOOKUP(VLOOKUP(RIGHT(A173,5)*1,'Data eshop'!D:N,11,FALSE),DATA!A:B,2,FALSE)=7,14,1),5))","v":""},"","",{"$f":"IF(L172=\"\",\"\",IF(L172=RIGHT(A172,5)&\"x\",LEFT(L172,LEN(L172)-1)&\"y\",IF(L172=RIGHT(A172,5)&\"y\",IFERROR(SMALL('Data eshop'!D:D,COUNTIF('Data eshop'!D:D,\"<\"&(LEFT(L172,LEN(L172)-1)*1))),\"\"),IF(ISERROR(IF(VLOOKUP(M172+1,'Data eshop'!C:D,2,FALSE)='Řádky zakázky'!L172,L172,L172&\"x\")),IF(RIGHT(L172,1)=\"y\",\"\",L172&\"x\"),IF(VLOOKUP(M172+1,'Data eshop'!C:D,2,FALSE)='Řádky zakázky'!L172,L172,L172&\"x\")))))","v":"0xxxxxxxxxxxxxxxxxxxxxxxxxxxxxxxxxxxxxxxxxxxxxxxxxxxxxxxxxxxxxxxxxxxxxxxxxxxxxxxxxxxxxxxxxxxxxxxxxxxxxxxxxxxxxxxxxxxxxxxxxxxxxxxxxxxxxxxxxxxxxxxxxxxxxxxxxxxxxxxxxxxxxxxxxxx"},1,{"$f":"IF(A173=\"\",\"\",VLOOKUP(RIGHT(A173,5)*1,'Data eshop'!D:W,17,FALSE))","v":{"$error":"#VALUE!"}},{"$f":"VLOOKUP(A173,Zakázky!A:B,2,FALSE)","v":{"$error":"#N/A"}},""]
["19ESh0",{"$f":"IFERROR(IF(ISNUMBER(L174),VLOOKUP(L174&\"-\"&M174,'Data eshop'!B:W,16,FALSE),IF(RIGHT(L174,1)=\"x\",VLOOKUP(VLOOKUP(RIGHT(A174,5)*1,'Data eshop'!D:N,11,FALSE),DATA!G:I,3,FALSE),IF(RIGHT(L174,1)=\"y\",IF(VLOOKUP(RIGHT(A174,5)*1,'Data eshop'!D:O,12,FALSE)=IF(O174=\"T7\",DATA!$D$2,IF(O174=\"E87\",DATA!$D$5,IF(O174=\"P2\",DATA!$D$6,IF(O174=\"e2695\",DATA!$D$7,\"\")))),IF(N174>=IF(O174=\"T7\",DATA!$K$11,IF(O174=\"E87\",DATA!$L$11,IF(O174=\"P2\",DATA!$M$11,IF(O174=\"e2695\",DATA!$N$11,\"\")))),\"uni008\",\"uni001\"),IF(VLOOKUP(RIGHT(A174,5)*1,'Data eshop'!D:O,12,FALSE)=DATA!$D$3,IF(O174=\"T7\",IF(N174>=500,\"uni009\",\"uni002\"),\"x\"),IF(VLOOKUP(RIGHT(A174,5)*1,'Data eshop'!D:O,12,FALSE)=DATA!$D$4,\"uni010\",\"\"))),\"\"))),\"\")","v":""},{"$f":"IFERROR(IF(A174=\"\",\"\",IF(LEFT(B174,3)=\"uni\",1,VLOOKUP(RIGHT(A174,5)&\"-\"&B174,'Data eshop'!A:R,18,FALSE))),\"\")","v":""},"",{"$f":"IFERROR(IF(A174=\"\",\"\",IF(LEFT(B174,3)=\"uni\",VLOOKUP(B174,DATA!I:X,IF(O174=\"T7\",3,IF(O174=\"E87\",4,IF(O174=\"P2\",5,IF(O174=\"E2695\",6,\"\")))),FALSE),VLOOKUP(RIGHT(A174,5)&\"-\"&B174,'Data eshop'!A:S,19,FALSE))),\"\")","v":""},{"$f":"IFERROR(IF(A174=\"\",\"\",IF(LEFT(B174,3)=\"uni\",0,VLOOKUP(RIGHT(A174,5)&\"-\"&B174,'Data eshop'!A:S,16,FALSE))),\"\")","v":""},null,"",{"$f":"IF(H174=\"\",\"\",WORKDAY(TODAY()+IF(VLOOKUP(VLOOKUP(RIGHT(A174,5)*1,'Data eshop'!D:N,11,FALSE),DATA!A:B,2,FALSE)=7,14,1),5))","v":""},"","",{"$f":"IF(L173=\"\",\"\",IF(L173=RIGHT(A173,5)&\"x\",LEFT(L173,LEN(L173)-1)&\"y\",IF(L173=RIGHT(A173,5)&\"y\",IFERROR(SMALL('Data eshop'!D:D,COUNTIF('Data eshop'!D:D,\"<\"&(LEFT(L173,LEN(L173)-1)*1))),\"\"),IF(ISERROR(IF(VLOOKUP(M173+1,'Data eshop'!C:D,2,FALSE)='Řádky zakázky'!L173,L173,L173&\"x\")),IF(RIGHT(L173,1)=\"y\",\"\",L173&\"x\"),IF(VLOOKUP(M173+1,'Data eshop'!C:D,2,FALSE)='Řádky zakázky'!L173,L173,L173&\"x\")))))","v":"0xxxxxxxxxxxxxxxxxxxxxxxxxxxxxxxxxxxxxxxxxxxxxxxxxxxxxxxxxxxxxxxxxxxxxxxxxxxxxxxxxxxxxxxxxxxxxxxxxxxxxxxxxxxxxxxxxxxxxxxxxxxxxxxxxxxxxxxxxxxxxxxxxxxxxxxxxxxxxxxxxxxxxxxxxxxx"},1,{"$f":"IF(A174=\"\",\"\",VLOOKUP(RIGHT(A174,5)*1,'Data eshop'!D:W,17,FALSE))","v":{"$error":"#VALUE!"}},{"$f":"VLOOKUP(A174,Zakázky!A:B,2,FALSE)","v":{"$error":"#N/A"}},""]
["19ESh0",{"$f":"IFERROR(IF(ISNUMBER(L175),VLOOKUP(L175&\"-\"&M175,'Data eshop'!B:W,16,FALSE),IF(RIGHT(L175,1)=\"x\",VLOOKUP(VLOOKUP(RIGHT(A175,5)*1,'Data eshop'!D:N,11,FALSE),DATA!G:I,3,FALSE),IF(RIGHT(L175,1)=\"y\",IF(VLOOKUP(RIGHT(A175,5)*1,'Data eshop'!D:O,12,FALSE)=IF(O175=\"T7\",DATA!$D$2,IF(O175=\"E87\",DATA!$D$5,IF(O175=\"P2\",DATA!$D$6,IF(O175=\"e2695\",DATA!$D$7,\"\")))),IF(N175>=IF(O175=\"T7\",DATA!$K$11,IF(O175=\"E87\",DATA!$L$11,IF(O175=\"P2\",DATA!$M$11,IF(O175=\"e2695\",DATA!$N$11,\"\")))),\"uni008\",\"uni001\"),IF(VLOOKUP(RIGHT(A175,5)*1,'Data eshop'!D:O,12,FALSE)=DATA!$D$3,IF(O175=\"T7\",IF(N175>=500,\"uni009\",\"uni002\"),\"x\"),IF(VLOOKUP(RIGHT(A175,5)*1,'Data eshop'!D:O,12,FALSE)=DATA!$D$4,\"uni010\",\"\"))),\"\"))),\"\")","v":""},{"$f":"IFERROR(IF(A175=\"\",\"\",IF(LEFT(B175,3)=\"uni\",1,VLOOKUP(RIGHT(A175,5)&\"-\"&B175,'Data eshop'!A:R,18,FALSE))),\"\")","v":""},"",{"$f":"IFERROR(IF(A175=\"\",\"\",IF(LEFT(B175,3)=\"uni\",VLOOKUP(B175,DATA!I:X,IF(O175=\"T7\",3,IF(O175=\"E87\",4,IF(O175=\"P2\",5,IF(O175=\"E2695\",6,\"\")))),FALSE),VLOOKUP(RIGHT(A175,5)&\"-\"&B175,'Data eshop'!A:S,19,FALSE))),\"\")","v":""},{"$f":"IFERROR(IF(A175=\"\",\"\",IF(LEFT(B175,3)=\"uni\",0,VLOOKUP(RIGHT(A175,5)&\"-\"&B175,'Data eshop'!A:S,16,FALSE))),\"\")","v":""},null,"",{"$f":"IF(H175=\"\",\"\",WORKDAY(TODAY()+IF(VLOOKUP(VLOOKUP(RIGHT(A175,5)*1,'Data eshop'!D:N,11,FALSE),DATA!A:B,2,FALSE)=7,14,1),5))","v":""},"","",{"$f":"IF(L174=\"\",\"\",IF(L174=RIGHT(A174,5)&\"x\",LEFT(L174,LEN(L174)-1)&\"y\",IF(L174=RIGHT(A174,5)&\"y\",IFERROR(SMALL('Data eshop'!D:D,COUNTIF('Data eshop'!D:D,\"<\"&(LEFT(L174,LEN(L174)-1)*1))),\"\"),IF(ISERROR(IF(VLOOKUP(M174+1,'Data eshop'!C:D,2,FALSE)='Řádky zakázky'!L174,L174,L174&\"x\")),IF(RIGHT(L174,1)=\"y\",\"\",L174&\"x\"),IF(VLOOKUP(M174+1,'Data eshop'!C:D,2,FALSE)='Řádky zakázky'!L174,L174,L174&\"x\")))))","v":"0xxxxxxxxxxxxxxxxxxxxxxxxxxxxxxxxxxxxxxxxxxxxxxxxxxxxxxxxxxxxxxxxxxxxxxxxxxxxxxxxxxxxxxxxxxxxxxxxxxxxxxxxxxxxxxxxxxxxxxxxxxxxxxxxxxxxxxxxxxxxxxxxxxxxxxxxxxxxxxxxxxxxxxxxxxxxx"},1,{"$f":"IF(A175=\"\",\"\",VLOOKUP(RIGHT(A175,5)*1,'Data eshop'!D:W,17,FALSE))","v":{"$error":"#VALUE!"}},{"$f":"VLOOKUP(A175,Zakázky!A:B,2,FALSE)","v":{"$error":"#N/A"}},""]
["19ESh0",{"$f":"IFERROR(IF(ISNUMBER(L176),VLOOKUP(L176&\"-\"&M176,'Data eshop'!B:W,16,FALSE),IF(RIGHT(L176,1)=\"x\",VLOOKUP(VLOOKUP(RIGHT(A176,5)*1,'Data eshop'!D:N,11,FALSE),DATA!G:I,3,FALSE),IF(RIGHT(L176,1)=\"y\",IF(VLOOKUP(RIGHT(A176,5)*1,'Data eshop'!D:O,12,FALSE)=IF(O176=\"T7\",DATA!$D$2,IF(O176=\"E87\",DATA!$D$5,IF(O176=\"P2\",DATA!$D$6,IF(O176=\"e2695\",DATA!$D$7,\"\")))),IF(N176>=IF(O176=\"T7\",DATA!$K$11,IF(O176=\"E87\",DATA!$L$11,IF(O176=\"P2\",DATA!$M$11,IF(O176=\"e2695\",DATA!$N$11,\"\")))),\"uni008\",\"uni001\"),IF(VLOOKUP(RIGHT(A176,5)*1,'Data eshop'!D:O,12,FALSE)=DATA!$D$3,IF(O176=\"T7\",IF(N176>=500,\"uni009\",\"uni002\"),\"x\"),IF(VLOOKUP(RIGHT(A176,5)*1,'Data eshop'!D:O,12,FALSE)=DATA!$D$4,\"uni010\",\"\"))),\"\"))),\"\")","v":""},{"$f":"IFERROR(IF(A176=\"\",\"\",IF(LEFT(B176,3)=\"uni\",1,VLOOKUP(RIGHT(A176,5)&\"-\"&B176,'Data eshop'!A:R,18,FALSE))),\"\")","v":""},"",{"$f":"IFERROR(IF(A176=\"\",\"\",IF(LEFT(B176,3)=\"uni\",VLOOKUP(B176,DATA!I:X,IF(O176=\"T7\",3,IF(O176=\"E87\",4,IF(O176=\"P2\",5,IF(O176=\"E2695\",6,\"\")))),FALSE),VLOOKUP(RIGHT(A176,5)&\"-\"&B176,'Data eshop'!A:S,19,FALSE))),\"\")","v":""},{"$f":"IFERROR(IF(A176=\"\",\"\",IF(LEFT(B176,3)=\"uni\",0,VLOOKUP(RIGHT(A176,5)&\"-\"&B176,'Data eshop'!A:S,16,FALSE))),\"\")","v":""},null,"",{"$f":"IF(H176=\"\",\"\",WORKDAY(TODAY()+IF(VLOOKUP(VLOOKUP(RIGHT(A176,5)*1,'Data eshop'!D:N,11,FALSE),DATA!A:B,2,FALSE)=7,14,1),5))","v":""},"","",{"$f":"IF(L175=\"\",\"\",IF(L175=RIGHT(A175,5)&\"x\",LEFT(L175,LEN(L175)-1)&\"y\",IF(L175=RIGHT(A175,5)&\"y\",IFERROR(SMALL('Data eshop'!D:D,COUNTIF('Data eshop'!D:D,\"<\"&(LEFT(L175,LEN(L175)-1)*1))),\"\"),IF(ISERROR(IF(VLOOKUP(M175+1,'Data eshop'!C:D,2,FALSE)='Řádky zakázky'!L175,L175,L175&\"x\")),IF(RIGHT(L175,1)=\"y\",\"\",L175&\"x\"),IF(VLOOKUP(M175+1,'Data eshop'!C:D,2,FALSE)='Řádky zakázky'!L175,L175,L175&\"x\")))))","v":"0xxxxxxxxxxxxxxxxxxxxxxxxxxxxxxxxxxxxxxxxxxxxxxxxxxxxxxxxxxxxxxxxxxxxxxxxxxxxxxxxxxxxxxxxxxxxxxxxxxxxxxxxxxxxxxxxxxxxxxxxxxxxxxxxxxxxxxxxxxxxxxxxxxxxxxxxxxxxxxxxxxxxxxxxxxxxxx"},1,{"$f":"IF(A176=\"\",\"\",VLOOKUP(RIGHT(A176,5)*1,'Data eshop'!D:W,17,FALSE))","v":{"$error":"#VALUE!"}},{"$f":"VLOOKUP(A176,Zakázky!A:B,2,FALSE)","v":{"$error":"#N/A"}},"","Roluj nahoru, až uvidíš žlutou"]
["19ESh0",{"$f":"IFERROR(IF(ISNUMBER(L177),VLOOKUP(L177&\"-\"&M177,'Data eshop'!B:W,16,FALSE),IF(RIGHT(L177,1)=\"x\",VLOOKUP(VLOOKUP(RIGHT(A177,5)*1,'Data eshop'!D:N,11,FALSE),DATA!G:I,3,FALSE),IF(RIGHT(L177,1)=\"y\",IF(VLOOKUP(RIGHT(A177,5)*1,'Data eshop'!D:O,12,FALSE)=IF(O177=\"T7\",DATA!$D$2,IF(O177=\"E87\",DATA!$D$5,IF(O177=\"P2\",DATA!$D$6,IF(O177=\"e2695\",DATA!$D$7,\"\")))),IF(N177>=IF(O177=\"T7\",DATA!$K$11,IF(O177=\"E87\",DATA!$L$11,IF(O177=\"P2\",DATA!$M$11,IF(O177=\"e2695\",DATA!$N$11,\"\")))),\"uni008\",\"uni001\"),IF(VLOOKUP(RIGHT(A177,5)*1,'Data eshop'!D:O,12,FALSE)=DATA!$D$3,IF(O177=\"T7\",IF(N177>=500,\"uni009\",\"uni002\"),\"x\"),IF(VLOOKUP(RIGHT(A177,5)*1,'Data eshop'!D:O,12,FALSE)=DATA!$D$4,\"uni010\",\"\"))),\"\"))),\"\")","v":""},{"$f":"IFERROR(IF(A177=\"\",\"\",IF(LEFT(B177,3)=\"uni\",1,VLOOKUP(RIGHT(A177,5)&\"-\"&B177,'Data eshop'!A:R,18,FALSE))),\"\")","v":""},"",{"$f":"IFERROR(IF(A177=\"\",\"\",IF(LEFT(B177,3)=\"uni\",VLOOKUP(B177,DATA!I:X,IF(O177=\"T7\",3,IF(O177=\"E87\",4,IF(O177=\"P2\",5,IF(O177=\"E2695\",6,\"\")))),FALSE),VLOOKUP(RIGHT(A177,5)&\"-\"&B177,'Data eshop'!A:S,19,FALSE))),\"\")","v":""},{"$f":"IFERROR(IF(A177=\"\",\"\",IF(LEFT(B177,3)=\"uni\",0,VLOOKUP(RIGHT(A177,5)&\"-\"&B177,'Data eshop'!A:S,16,FALSE))),\"\")","v":""},null,"",{"$f":"IF(H177=\"\",\"\",WORKDAY(TODAY()+IF(VLOOKUP(VLOOKUP(RIGHT(A177,5)*1,'Data eshop'!D:N,11,FALSE),DATA!A:B,2,FALSE)=7,14,1),5))","v":""},"","",{"$f":"IF(L176=\"\",\"\",IF(L176=RIGHT(A176,5)&\"x\",LEFT(L176,LEN(L176)-1)&\"y\",IF(L176=RIGHT(A176,5)&\"y\",IFERROR(SMALL('Data eshop'!D:D,COUNTIF('Data eshop'!D:D,\"<\"&(LEFT(L176,LEN(L176)-1)*1))),\"\"),IF(ISERROR(IF(VLOOKUP(M176+1,'Data eshop'!C:D,2,FALSE)='Řádky zakázky'!L176,L176,L176&\"x\")),IF(RIGHT(L176,1)=\"y\",\"\",L176&\"x\"),IF(VLOOKUP(M176+1,'Data eshop'!C:D,2,FALSE)='Řádky zakázky'!L176,L176,L176&\"x\")))))","v":"0xxxxxxxxxxxxxxxxxxxxxxxxxxxxxxxxxxxxxxxxxxxxxxxxxxxxxxxxxxxxxxxxxxxxxxxxxxxxxxxxxxxxxxxxxxxxxxxxxxxxxxxxxxxxxxxxxxxxxxxxxxxxxxxxxxxxxxxxxxxxxxxxxxxxxxxxxxxxxxxxxxxxxxxxxxxxxxx"},1,{"$f":"IF(A177=\"\",\"\",VLOOKUP(RIGHT(A177,5)*1,'Data eshop'!D:W,17,FALSE))","v":{"$error":"#VALUE!"}},{"$f":"VLOOKUP(A177,Zakázky!A:B,2,FALSE)","v":{"$error":"#N/A"}},""]
["19ESh0",{"$f":"IFERROR(IF(ISNUMBER(L178),VLOOKUP(L178&\"-\"&M178,'Data eshop'!B:W,16,FALSE),IF(RIGHT(L178,1)=\"x\",VLOOKUP(VLOOKUP(RIGHT(A178,5)*1,'Data eshop'!D:N,11,FALSE),DATA!G:I,3,FALSE),IF(RIGHT(L178,1)=\"y\",IF(VLOOKUP(RIGHT(A178,5)*1,'Data eshop'!D:O,12,FALSE)=IF(O178=\"T7\",DATA!$D$2,IF(O178=\"E87\",DATA!$D$5,IF(O178=\"P2\",DATA!$D$6,IF(O178=\"e2695\",DATA!$D$7,\"\")))),IF(N178>=IF(O178=\"T7\",DATA!$K$11,IF(O178=\"E87\",DATA!$L$11,IF(O178=\"P2\",DATA!$M$11,IF(O178=\"e2695\",DATA!$N$11,\"\")))),\"uni008\",\"uni001\"),IF(VLOOKUP(RIGHT(A178,5)*1,'Data eshop'!D:O,12,FALSE)=DATA!$D$3,IF(O178=\"T7\",IF(N178>=500,\"uni009\",\"uni002\"),\"x\"),IF(VLOOKUP(RIGHT(A178,5)*1,'Data eshop'!D:O,12,FALSE)=DATA!$D$4,\"uni010\",\"\"))),\"\"))),\"\")","v":""},{"$f":"IFERROR(IF(A178=\"\",\"\",IF(LEFT(B178,3)=\"uni\",1,VLOOKUP(RIGHT(A178,5)&\"-\"&B178,'Data eshop'!A:R,18,FALSE))),\"\")","v":""},"",{"$f":"IFERROR(IF(A178=\"\",\"\",IF(LEFT(B178,3)=\"uni\",VLOOKUP(B178,DATA!I:X,IF(O178=\"T7\",3,IF(O178=\"E87\",4,IF(O178=\"P2\",5,IF(O178=\"E2695\",6,\"\")))),FALSE),VLOOKUP(RIGHT(A178,5)&\"-\"&B178,'Data eshop'!A:S,19,FALSE))),\"\")","v":""},{"$f":"IFERROR(IF(A178=\"\",\"\",IF(LEFT(B178,3)=\"uni\",0,VLOOKUP(RIGHT(A178,5)&\"-\"&B178,'Data eshop'!A:S,16,FALSE))),\"\")","v":""},null,"",{"$f":"IF(H178=\"\",\"\",WORKDAY(TODAY()+IF(VLOOKUP(VLOOKUP(RIGHT(A178,5)*1,'Data eshop'!D:N,11,FALSE),DATA!A:B,2,FALSE)=7,14,1),5))","v":""},"","",{"$f":"IF(L177=\"\",\"\",IF(L177=RIGHT(A177,5)&\"x\",LEFT(L177,LEN(L177)-1)&\"y\",IF(L177=RIGHT(A177,5)&\"y\",IFERROR(SMALL('Data eshop'!D:D,COUNTIF('Data eshop'!D:D,\"<\"&(LEFT(L177,LEN(L177)-1)*1))),\"\"),IF(ISERROR(IF(VLOOKUP(M177+1,'Data eshop'!C:D,2,FALSE)='Řádky zakázky'!L177,L177,L177&\"x\")),IF(RIGHT(L177,1)=\"y\",\"\",L177&\"x\"),IF(VLOOKUP(M177+1,'Data eshop'!C:D,2,FALSE)='Řádky zakázky'!L177,L177,L177&\"x\")))))","v":"0xxxxxxxxxxxxxxxxxxxxxxxxxxxxxxxxxxxxxxxxxxxxxxxxxxxxxxxxxxxxxxxxxxxxxxxxxxxxxxxxxxxxxxxxxxxxxxxxxxxxxxxxxxxxxxxxxxxxxxxxxxxxxxxxxxxxxxxxxxxxxxxxxxxxxxxxxxxxxxxxxxxxxxxxxxxxxxxx"},1,{"$f":"IF(A178=\"\",\"\",VLOOKUP(RIGHT(A178,5)*1,'Data eshop'!D:W,17,FALSE))","v":{"$error":"#VALUE!"}},{"$f":"VLOOKUP(A178,Zakázky!A:B,2,FALSE)","v":{"$error":"#N/A"}},""]
["19ESh0",{"$f":"IFERROR(IF(ISNUMBER(L179),VLOOKUP(L179&\"-\"&M179,'Data eshop'!B:W,16,FALSE),IF(RIGHT(L179,1)=\"x\",VLOOKUP(VLOOKUP(RIGHT(A179,5)*1,'Data eshop'!D:N,11,FALSE),DATA!G:I,3,FALSE),IF(RIGHT(L179,1)=\"y\",IF(VLOOKUP(RIGHT(A179,5)*1,'Data eshop'!D:O,12,FALSE)=IF(O179=\"T7\",DATA!$D$2,IF(O179=\"E87\",DATA!$D$5,IF(O179=\"P2\",DATA!$D$6,IF(O179=\"e2695\",DATA!$D$7,\"\")))),IF(N179>=IF(O179=\"T7\",DATA!$K$11,IF(O179=\"E87\",DATA!$L$11,IF(O179=\"P2\",DATA!$M$11,IF(O179=\"e2695\",DATA!$N$11,\"\")))),\"uni008\",\"uni001\"),IF(VLOOKUP(RIGHT(A179,5)*1,'Data eshop'!D:O,12,FALSE)=DATA!$D$3,IF(O179=\"T7\",IF(N179>=500,\"uni009\",\"uni002\"),\"x\"),IF(VLOOKUP(RIGHT(A179,5)*1,'Data eshop'!D:O,12,FALSE)=DATA!$D$4,\"uni010\",\"\"))),\"\"))),\"\")","v":""},{"$f":"IFERROR(IF(A179=\"\",\"\",IF(LEFT(B179,3)=\"uni\",1,VLOOKUP(RIGHT(A179,5)&\"-\"&B179,'Data eshop'!A:R,18,FALSE))),\"\")","v":""},"",{"$f":"IFERROR(IF(A179=\"\",\"\",IF(LEFT(B179,3)=\"uni\",VLOOKUP(B179,DATA!I:X,IF(O179=\"T7\",3,IF(O179=\"E87\",4,IF(O179=\"P2\",5,IF(O179=\"E2695\",6,\"\")))),FALSE),VLOOKUP(RIGHT(A179,5)&\"-\"&B179,'Data eshop'!A:S,19,FALSE))),\"\")","v":""},{"$f":"IFERROR(IF(A179=\"\",\"\",IF(LEFT(B179,3)=\"uni\",0,VLOOKUP(RIGHT(A179,5)&\"-\"&B179,'Data eshop'!A:S,16,FALSE))),\"\")","v":""},null,"",{"$f":"IF(H179=\"\",\"\",WORKDAY(TODAY()+IF(VLOOKUP(VLOOKUP(RIGHT(A179,5)*1,'Data eshop'!D:N,11,FALSE),DATA!A:B,2,FALSE)=7,14,1),5))","v":""},"","",{"$f":"IF(L178=\"\",\"\",IF(L178=RIGHT(A178,5)&\"x\",LEFT(L178,LEN(L178)-1)&\"y\",IF(L178=RIGHT(A178,5)&\"y\",IFERROR(SMALL('Data eshop'!D:D,COUNTIF('Data eshop'!D:D,\"<\"&(LEFT(L178,LEN(L178)-1)*1))),\"\"),IF(ISERROR(IF(VLOOKUP(M178+1,'Data eshop'!C:D,2,FALSE)='Řádky zakázky'!L178,L178,L178&\"x\")),IF(RIGHT(L178,1)=\"y\",\"\",L178&\"x\"),IF(VLOOKUP(M178+1,'Data eshop'!C:D,2,FALSE)='Řádky zakázky'!L178,L178,L178&\"x\")))))","v":"0xxxxxxxxxxxxxxxxxxxxxxxxxxxxxxxxxxxxxxxxxxxxxxxxxxxxxxxxxxxxxxxxxxxxxxxxxxxxxxxxxxxxxxxxxxxxxxxxxxxxxxxxxxxxxxxxxxxxxxxxxxxxxxxxxxxxxxxxxxxxxxxxxxxxxxxxxxxxxxxxxxxxxxxxxxxxxxxxx"},1,{"$f":"IF(A179=\"\",\"\",VLOOKUP(RIGHT(A179,5)*1,'Data eshop'!D:W,17,FALSE))","v":{"$error":"#VALUE!"}},{"$f":"VLOOKUP(A179,Zakázky!A:B,2,FALSE)","v":{"$error":"#N/A"}},""]
["19ESh0",{"$f":"IFERROR(IF(ISNUMBER(L180),VLOOKUP(L180&\"-\"&M180,'Data eshop'!B:W,16,FALSE),IF(RIGHT(L180,1)=\"x\",VLOOKUP(VLOOKUP(RIGHT(A180,5)*1,'Data eshop'!D:N,11,FALSE),DATA!G:I,3,FALSE),IF(RIGHT(L180,1)=\"y\",IF(VLOOKUP(RIGHT(A180,5)*1,'Data eshop'!D:O,12,FALSE)=IF(O180=\"T7\",DATA!$D$2,IF(O180=\"E87\",DATA!$D$5,IF(O180=\"P2\",DATA!$D$6,IF(O180=\"e2695\",DATA!$D$7,\"\")))),IF(N180>=IF(O180=\"T7\",DATA!$K$11,IF(O180=\"E87\",DATA!$L$11,IF(O180=\"P2\",DATA!$M$11,IF(O180=\"e2695\",DATA!$N$11,\"\")))),\"uni008\",\"uni001\"),IF(VLOOKUP(RIGHT(A180,5)*1,'Data eshop'!D:O,12,FALSE)=DATA!$D$3,IF(O180=\"T7\",IF(N180>=500,\"uni009\",\"uni002\"),\"x\"),IF(VLOOKUP(RIGHT(A180,5)*1,'Data eshop'!D:O,12,FALSE)=DATA!$D$4,\"uni010\",\"\"))),\"\"))),\"\")","v":""},{"$f":"IFERROR(IF(A180=\"\",\"\",IF(LEFT(B180,3)=\"uni\",1,VLOOKUP(RIGHT(A180,5)&\"-\"&B180,'Data eshop'!A:R,18,FALSE))),\"\")","v":""},"",{"$f":"IFERROR(IF(A180=\"\",\"\",IF(LEFT(B180,3)=\"uni\",VLOOKUP(B180,DATA!I:X,IF(O180=\"T7\",3,IF(O180=\"E87\",4,IF(O180=\"P2\",5,IF(O180=\"E2695\",6,\"\")))),FALSE),VLOOKUP(RIGHT(A180,5)&\"-\"&B180,'Data eshop'!A:S,19,FALSE))),\"\")","v":""},{"$f":"IFERROR(IF(A180=\"\",\"\",IF(LEFT(B180,3)=\"uni\",0,VLOOKUP(RIGHT(A180,5)&\"-\"&B180,'Data eshop'!A:S,16,FALSE))),\"\")","v":""},null,"",{"$f":"IF(H180=\"\",\"\",WORKDAY(TODAY()+IF(VLOOKUP(VLOOKUP(RIGHT(A180,5)*1,'Data eshop'!D:N,11,FALSE),DATA!A:B,2,FALSE)=7,14,1),5))","v":""},"","",{"$f":"IF(L179=\"\",\"\",IF(L179=RIGHT(A179,5)&\"x\",LEFT(L179,LEN(L179)-1)&\"y\",IF(L179=RIGHT(A179,5)&\"y\",IFERROR(SMALL('Data eshop'!D:D,COUNTIF('Data eshop'!D:D,\"<\"&(LEFT(L179,LEN(L179)-1)*1))),\"\"),IF(ISERROR(IF(VLOOKUP(M179+1,'Data eshop'!C:D,2,FALSE)='Řádky zakázky'!L179,L179,L179&\"x\")),IF(RIGHT(L179,1)=\"y\",\"\",L179&\"x\"),IF(VLOOKUP(M179+1,'Data eshop'!C:D,2,FALSE)='Řádky zakázky'!L179,L179,L179&\"x\")))))","v":"0xxxxxxxxxxxxxxxxxxxxxxxxxxxxxxxxxxxxxxxxxxxxxxxxxxxxxxxxxxxxxxxxxxxxxxxxxxxxxxxxxxxxxxxxxxxxxxxxxxxxxxxxxxxxxxxxxxxxxxxxxxxxxxxxxxxxxxxxxxxxxxxxxxxxxxxxxxxxxxxxxxxxxxxxxxxxxxxxxx"},1,{"$f":"IF(A180=\"\",\"\",VLOOKUP(RIGHT(A180,5)*1,'Data eshop'!D:W,17,FALSE))","v":{"$error":"#VALUE!"}},{"$f":"VLOOKUP(A180,Zakázky!A:B,2,FALSE)","v":{"$error":"#N/A"}},"","Roluj nahoru, až uvidíš žlutou"]
["19ESh0",{"$f":"IFERROR(IF(ISNUMBER(L181),VLOOKUP(L181&\"-\"&M181,'Data eshop'!B:W,16,FALSE),IF(RIGHT(L181,1)=\"x\",VLOOKUP(VLOOKUP(RIGHT(A181,5)*1,'Data eshop'!D:N,11,FALSE),DATA!G:I,3,FALSE),IF(RIGHT(L181,1)=\"y\",IF(VLOOKUP(RIGHT(A181,5)*1,'Data eshop'!D:O,12,FALSE)=IF(O181=\"T7\",DATA!$D$2,IF(O181=\"E87\",DATA!$D$5,IF(O181=\"P2\",DATA!$D$6,IF(O181=\"e2695\",DATA!$D$7,\"\")))),IF(N181>=IF(O181=\"T7\",DATA!$K$11,IF(O181=\"E87\",DATA!$L$11,IF(O181=\"P2\",DATA!$M$11,IF(O181=\"e2695\",DATA!$N$11,\"\")))),\"uni008\",\"uni001\"),IF(VLOOKUP(RIGHT(A181,5)*1,'Data eshop'!D:O,12,FALSE)=DATA!$D$3,IF(O181=\"T7\",IF(N181>=500,\"uni009\",\"uni002\"),\"x\"),IF(VLOOKUP(RIGHT(A181,5)*1,'Data eshop'!D:O,12,FALSE)=DATA!$D$4,\"uni010\",\"\"))),\"\"))),\"\")","v":""},{"$f":"IFERROR(IF(A181=\"\",\"\",IF(LEFT(B181,3)=\"uni\",1,VLOOKUP(RIGHT(A181,5)&\"-\"&B181,'Data eshop'!A:R,18,FALSE))),\"\")","v":""},"",{"$f":"IFERROR(IF(A181=\"\",\"\",IF(LEFT(B181,3)=\"uni\",VLOOKUP(B181,DATA!I:X,IF(O181=\"T7\",3,IF(O181=\"E87\",4,IF(O181=\"P2\",5,IF(O181=\"E2695\",6,\"\")))),FALSE),VLOOKUP(RIGHT(A181,5)&\"-\"&B181,'Data eshop'!A:S,19,FALSE))),\"\")","v":""},{"$f":"IFERROR(IF(A181=\"\",\"\",IF(LEFT(B181,3)=\"uni\",0,VLOOKUP(RIGHT(A181,5)&\"-\"&B181,'Data eshop'!A:S,16,FALSE))),\"\")","v":""},null,"",{"$f":"IF(H181=\"\",\"\",WORKDAY(TODAY()+IF(VLOOKUP(VLOOKUP(RIGHT(A181,5)*1,'Data eshop'!D:N,11,FALSE),DATA!A:B,2,FALSE)=7,14,1),5))","v":""},"","",{"$f":"IF(L180=\"\",\"\",IF(L180=RIGHT(A180,5)&\"x\",LEFT(L180,LEN(L180)-1)&\"y\",IF(L180=RIGHT(A180,5)&\"y\",IFERROR(SMALL('Data eshop'!D:D,COUNTIF('Data eshop'!D:D,\"<\"&(LEFT(L180,LEN(L180)-1)*1))),\"\"),IF(ISERROR(IF(VLOOKUP(M180+1,'Data eshop'!C:D,2,FALSE)='Řádky zakázky'!L180,L180,L180&\"x\")),IF(RIGHT(L180,1)=\"y\",\"\",L180&\"x\"),IF(VLOOKUP(M180+1,'Data eshop'!C:D,2,FALSE)='Řádky zakázky'!L180,L180,L180&\"x\")))))","v":"0xxxxxxxxxxxxxxxxxxxxxxxxxxxxxxxxxxxxxxxxxxxxxxxxxxxxxxxxxxxxxxxxxxxxxxxxxxxxxxxxxxxxxxxxxxxxxxxxxxxxxxxxxxxxxxxxxxxxxxxxxxxxxxxxxxxxxxxxxxxxxxxxxxxxxxxxxxxxxxxxxxxxxxxxxxxxxxxxxxx"},1,{"$f":"IF(A181=\"\",\"\",VLOOKUP(RIGHT(A181,5)*1,'Data eshop'!D:W,17,FALSE))","v":{"$error":"#VALUE!"}},{"$f":"VLOOKUP(A181,Zakázky!A:B,2,FALSE)","v":{"$error":"#N/A"}},""]
["19ESh0",{"$f":"IFERROR(IF(ISNUMBER(L182),VLOOKUP(L182&\"-\"&M182,'Data eshop'!B:W,16,FALSE),IF(RIGHT(L182,1)=\"x\",VLOOKUP(VLOOKUP(RIGHT(A182,5)*1,'Data eshop'!D:N,11,FALSE),DATA!G:I,3,FALSE),IF(RIGHT(L182,1)=\"y\",IF(VLOOKUP(RIGHT(A182,5)*1,'Data eshop'!D:O,12,FALSE)=IF(O182=\"T7\",DATA!$D$2,IF(O182=\"E87\",DATA!$D$5,IF(O182=\"P2\",DATA!$D$6,IF(O182=\"e2695\",DATA!$D$7,\"\")))),IF(N182>=IF(O182=\"T7\",DATA!$K$11,IF(O182=\"E87\",DATA!$L$11,IF(O182=\"P2\",DATA!$M$11,IF(O182=\"e2695\",DATA!$N$11,\"\")))),\"uni008\",\"uni001\"),IF(VLOOKUP(RIGHT(A182,5)*1,'Data eshop'!D:O,12,FALSE)=DATA!$D$3,IF(O182=\"T7\",IF(N182>=500,\"uni009\",\"uni002\"),\"x\"),IF(VLOOKUP(RIGHT(A182,5)*1,'Data eshop'!D:O,12,FALSE)=DATA!$D$4,\"uni010\",\"\"))),\"\"))),\"\")","v":""},{"$f":"IFERROR(IF(A182=\"\",\"\",IF(LEFT(B182,3)=\"uni\",1,VLOOKUP(RIGHT(A182,5)&\"-\"&B182,'Data eshop'!A:R,18,FALSE))),\"\")","v":""},"",{"$f":"IFERROR(IF(A182=\"\",\"\",IF(LEFT(B182,3)=\"uni\",VLOOKUP(B182,DATA!I:X,IF(O182=\"T7\",3,IF(O182=\"E87\",4,IF(O182=\"P2\",5,IF(O182=\"E2695\",6,\"\")))),FALSE),VLOOKUP(RIGHT(A182,5)&\"-\"&B182,'Data eshop'!A:S,19,FALSE))),\"\")","v":""},{"$f":"IFERROR(IF(A182=\"\",\"\",IF(LEFT(B182,3)=\"uni\",0,VLOOKUP(RIGHT(A182,5)&\"-\"&B182,'Data eshop'!A:S,16,FALSE))),\"\")","v":""},null,"",{"$f":"IF(H182=\"\",\"\",WORKDAY(TODAY()+IF(VLOOKUP(VLOOKUP(RIGHT(A182,5)*1,'Data eshop'!D:N,11,FALSE),DATA!A:B,2,FALSE)=7,14,1),5))","v":""},"","",{"$f":"IF(L181=\"\",\"\",IF(L181=RIGHT(A181,5)&\"x\",LEFT(L181,LEN(L181)-1)&\"y\",IF(L181=RIGHT(A181,5)&\"y\",IFERROR(SMALL('Data eshop'!D:D,COUNTIF('Data eshop'!D:D,\"<\"&(LEFT(L181,LEN(L181)-1)*1))),\"\"),IF(ISERROR(IF(VLOOKUP(M181+1,'Data eshop'!C:D,2,FALSE)='Řádky zakázky'!L181,L181,L181&\"x\")),IF(RIGHT(L181,1)=\"y\",\"\",L181&\"x\"),IF(VLOOKUP(M181+1,'Data eshop'!C:D,2,FALSE)='Řádky zakázky'!L181,L181,L181&\"x\")))))","v":"0xxxxxxxxxxxxxxxxxxxxxxxxxxxxxxxxxxxxxxxxxxxxxxxxxxxxxxxxxxxxxxxxxxxxxxxxxxxxxxxxxxxxxxxxxxxxxxxxxxxxxxxxxxxxxxxxxxxxxxxxxxxxxxxxxxxxxxxxxxxxxxxxxxxxxxxxxxxxxxxxxxxxxxxxxxxxxxxxxxxx"},1,{"$f":"IF(A182=\"\",\"\",VLOOKUP(RIGHT(A182,5)*1,'Data eshop'!D:W,17,FALSE))","v":{"$error":"#VALUE!"}},{"$f":"VLOOKUP(A182,Zakázky!A:B,2,FALSE)","v":{"$error":"#N/A"}},""]
["19ESh0",{"$f":"IFERROR(IF(ISNUMBER(L183),VLOOKUP(L183&\"-\"&M183,'Data eshop'!B:W,16,FALSE),IF(RIGHT(L183,1)=\"x\",VLOOKUP(VLOOKUP(RIGHT(A183,5)*1,'Data eshop'!D:N,11,FALSE),DATA!G:I,3,FALSE),IF(RIGHT(L183,1)=\"y\",IF(VLOOKUP(RIGHT(A183,5)*1,'Data eshop'!D:O,12,FALSE)=IF(O183=\"T7\",DATA!$D$2,IF(O183=\"E87\",DATA!$D$5,IF(O183=\"P2\",DATA!$D$6,IF(O183=\"e2695\",DATA!$D$7,\"\")))),IF(N183>=IF(O183=\"T7\",DATA!$K$11,IF(O183=\"E87\",DATA!$L$11,IF(O183=\"P2\",DATA!$M$11,IF(O183=\"e2695\",DATA!$N$11,\"\")))),\"uni008\",\"uni001\"),IF(VLOOKUP(RIGHT(A183,5)*1,'Data eshop'!D:O,12,FALSE)=DATA!$D$3,IF(O183=\"T7\",IF(N183>=500,\"uni009\",\"uni002\"),\"x\"),IF(VLOOKUP(RIGHT(A183,5)*1,'Data eshop'!D:O,12,FALSE)=DATA!$D$4,\"uni010\",\"\"))),\"\"))),\"\")","v":""},{"$f":"IFERROR(IF(A183=\"\",\"\",IF(LEFT(B183,3)=\"uni\",1,VLOOKUP(RIGHT(A183,5)&\"-\"&B183,'Data eshop'!A:R,18,FALSE))),\"\")","v":""},"",{"$f":"IFERROR(IF(A183=\"\",\"\",IF(LEFT(B183,3)=\"uni\",VLOOKUP(B183,DATA!I:X,IF(O183=\"T7\",3,IF(O183=\"E87\",4,IF(O183=\"P2\",5,IF(O183=\"E2695\",6,\"\")))),FALSE),VLOOKUP(RIGHT(A183,5)&\"-\"&B183,'Data eshop'!A:S,19,FALSE))),\"\")","v":""},{"$f":"IFERROR(IF(A183=\"\",\"\",IF(LEFT(B183,3)=\"uni\",0,VLOOKUP(RIGHT(A183,5)&\"-\"&B183,'Data eshop'!A:S,16,FALSE))),\"\")","v":""},null,"",{"$f":"IF(H183=\"\",\"\",WORKDAY(TODAY()+IF(VLOOKUP(VLOOKUP(RIGHT(A183,5)*1,'Data eshop'!D:N,11,FALSE),DATA!A:B,2,FALSE)=7,14,1),5))","v":""},"","",{"$f":"IF(L182=\"\",\"\",IF(L182=RIGHT(A182,5)&\"x\",LEFT(L182,LEN(L182)-1)&\"y\",IF(L182=RIGHT(A182,5)&\"y\",IFERROR(SMALL('Data eshop'!D:D,COUNTIF('Data eshop'!D:D,\"<\"&(LEFT(L182,LEN(L182)-1)*1))),\"\"),IF(ISERROR(IF(VLOOKUP(M182+1,'Data eshop'!C:D,2,FALSE)='Řádky zakázky'!L182,L182,L182&\"x\")),IF(RIGHT(L182,1)=\"y\",\"\",L182&\"x\"),IF(VLOOKUP(M182+1,'Data eshop'!C:D,2,FALSE)='Řádky zakázky'!L182,L182,L182&\"x\")))))","v":"0xxxxxxxxxxxxxxxxxxxxxxxxxxxxxxxxxxxxxxxxxxxxxxxxxxxxxxxxxxxxxxxxxxxxxxxxxxxxxxxxxxxxxxxxxxxxxxxxxxxxxxxxxxxxxxxxxxxxxxxxxxxxxxxxxxxxxxxxxxxxxxxxxxxxxxxxxxxxxxxxxxxxxxxxxxxxxxxxxxxxx"},1,{"$f":"IF(A183=\"\",\"\",VLOOKUP(RIGHT(A183,5)*1,'Data eshop'!D:W,17,FALSE))","v":{"$error":"#VALUE!"}},{"$f":"VLOOKUP(A183,Zakázky!A:B,2,FALSE)","v":{"$error":"#N/A"}},""]
["19ESh0",{"$f":"IFERROR(IF(ISNUMBER(L184),VLOOKUP(L184&\"-\"&M184,'Data eshop'!B:W,16,FALSE),IF(RIGHT(L184,1)=\"x\",VLOOKUP(VLOOKUP(RIGHT(A184,5)*1,'Data eshop'!D:N,11,FALSE),DATA!G:I,3,FALSE),IF(RIGHT(L184,1)=\"y\",IF(VLOOKUP(RIGHT(A184,5)*1,'Data eshop'!D:O,12,FALSE)=IF(O184=\"T7\",DATA!$D$2,IF(O184=\"E87\",DATA!$D$5,IF(O184=\"P2\",DATA!$D$6,IF(O184=\"e2695\",DATA!$D$7,\"\")))),IF(N184>=IF(O184=\"T7\",DATA!$K$11,IF(O184=\"E87\",DATA!$L$11,IF(O184=\"P2\",DATA!$M$11,IF(O184=\"e2695\",DATA!$N$11,\"\")))),\"uni008\",\"uni001\"),IF(VLOOKUP(RIGHT(A184,5)*1,'Data eshop'!D:O,12,FALSE)=DATA!$D$3,IF(O184=\"T7\",IF(N184>=500,\"uni009\",\"uni002\"),\"x\"),IF(VLOOKUP(RIGHT(A184,5)*1,'Data eshop'!D:O,12,FALSE)=DATA!$D$4,\"uni010\",\"\"))),\"\"))),\"\")","v":""},{"$f":"IFERROR(IF(A184=\"\",\"\",IF(LEFT(B184,3)=\"uni\",1,VLOOKUP(RIGHT(A184,5)&\"-\"&B184,'Data eshop'!A:R,18,FALSE))),\"\")","v":""},"",{"$f":"IFERROR(IF(A184=\"\",\"\",IF(LEFT(B184,3)=\"uni\",VLOOKUP(B184,DATA!I:X,IF(O184=\"T7\",3,IF(O184=\"E87\",4,IF(O184=\"P2\",5,IF(O184=\"E2695\",6,\"\")))),FALSE),VLOOKUP(RIGHT(A184,5)&\"-\"&B184,'Data eshop'!A:S,19,FALSE))),\"\")","v":""},{"$f":"IFERROR(IF(A184=\"\",\"\",IF(LEFT(B184,3)=\"uni\",0,VLOOKUP(RIGHT(A184,5)&\"-\"&B184,'Data eshop'!A:S,16,FALSE))),\"\")","v":""},null,"",{"$f":"IF(H184=\"\",\"\",WORKDAY(TODAY()+IF(VLOOKUP(VLOOKUP(RIGHT(A184,5)*1,'Data eshop'!D:N,11,FALSE),DATA!A:B,2,FALSE)=7,14,1),5))","v":""},"","",{"$f":"IF(L183=\"\",\"\",IF(L183=RIGHT(A183,5)&\"x\",LEFT(L183,LEN(L183)-1)&\"y\",IF(L183=RIGHT(A183,5)&\"y\",IFERROR(SMALL('Data eshop'!D:D,COUNTIF('Data eshop'!D:D,\"<\"&(LEFT(L183,LEN(L183)-1)*1))),\"\"),IF(ISERROR(IF(VLOOKUP(M183+1,'Data eshop'!C:D,2,FALSE)='Řádky zakázky'!L183,L183,L183&\"x\")),IF(RIGHT(L183,1)=\"y\",\"\",L183&\"x\"),IF(VLOOKUP(M183+1,'Data eshop'!C:D,2,FALSE)='Řádky zakázky'!L183,L183,L183&\"x\")))))","v":"0xxxxxxxxxxxxxxxxxxxxxxxxxxxxxxxxxxxxxxxxxxxxxxxxxxxxxxxxxxxxxxxxxxxxxxxxxxxxxxxxxxxxxxxxxxxxxxxxxxxxxxxxxxxxxxxxxxxxxxxxxxxxxxxxxxxxxxxxxxxxxxxxxxxxxxxxxxxxxxxxxxxxxxxxxxxxxxxxxxxxxx"},1,{"$f":"IF(A184=\"\",\"\",VLOOKUP(RIGHT(A184,5)*1,'Data eshop'!D:W,17,FALSE))","v":{"$error":"#VALUE!"}},{"$f":"VLOOKUP(A184,Zakázky!A:B,2,FALSE)","v":{"$error":"#N/A"}},"","Roluj nahoru, až uvidíš žlutou"]
["19ESh0",{"$f":"IFERROR(IF(ISNUMBER(L185),VLOOKUP(L185&\"-\"&M185,'Data eshop'!B:W,16,FALSE),IF(RIGHT(L185,1)=\"x\",VLOOKUP(VLOOKUP(RIGHT(A185,5)*1,'Data eshop'!D:N,11,FALSE),DATA!G:I,3,FALSE),IF(RIGHT(L185,1)=\"y\",IF(VLOOKUP(RIGHT(A185,5)*1,'Data eshop'!D:O,12,FALSE)=IF(O185=\"T7\",DATA!$D$2,IF(O185=\"E87\",DATA!$D$5,IF(O185=\"P2\",DATA!$D$6,IF(O185=\"e2695\",DATA!$D$7,\"\")))),IF(N185>=IF(O185=\"T7\",DATA!$K$11,IF(O185=\"E87\",DATA!$L$11,IF(O185=\"P2\",DATA!$M$11,IF(O185=\"e2695\",DATA!$N$11,\"\")))),\"uni008\",\"uni001\"),IF(VLOOKUP(RIGHT(A185,5)*1,'Data eshop'!D:O,12,FALSE)=DATA!$D$3,IF(O185=\"T7\",IF(N185>=500,\"uni009\",\"uni002\"),\"x\"),IF(VLOOKUP(RIGHT(A185,5)*1,'Data eshop'!D:O,12,FALSE)=DATA!$D$4,\"uni010\",\"\"))),\"\"))),\"\")","v":""},{"$f":"IFERROR(IF(A185=\"\",\"\",IF(LEFT(B185,3)=\"uni\",1,VLOOKUP(RIGHT(A185,5)&\"-\"&B185,'Data eshop'!A:R,18,FALSE))),\"\")","v":""},"",{"$f":"IFERROR(IF(A185=\"\",\"\",IF(LEFT(B185,3)=\"uni\",VLOOKUP(B185,DATA!I:X,IF(O185=\"T7\",3,IF(O185=\"E87\",4,IF(O185=\"P2\",5,IF(O185=\"E2695\",6,\"\")))),FALSE),VLOOKUP(RIGHT(A185,5)&\"-\"&B185,'Data eshop'!A:S,19,FALSE))),\"\")","v":""},{"$f":"IFERROR(IF(A185=\"\",\"\",IF(LEFT(B185,3)=\"uni\",0,VLOOKUP(RIGHT(A185,5)&\"-\"&B185,'Data eshop'!A:S,16,FALSE))),\"\")","v":""},null,"",{"$f":"IF(H185=\"\",\"\",WORKDAY(TODAY()+IF(VLOOKUP(VLOOKUP(RIGHT(A185,5)*1,'Data eshop'!D:N,11,FALSE),DATA!A:B,2,FALSE)=7,14,1),5))","v":""},"","",{"$f":"IF(L184=\"\",\"\",IF(L184=RIGHT(A184,5)&\"x\",LEFT(L184,LEN(L184)-1)&\"y\",IF(L184=RIGHT(A184,5)&\"y\",IFERROR(SMALL('Data eshop'!D:D,COUNTIF('Data eshop'!D:D,\"<\"&(LEFT(L184,LEN(L184)-1)*1))),\"\"),IF(ISERROR(IF(VLOOKUP(M184+1,'Data eshop'!C:D,2,FALSE)='Řádky zakázky'!L184,L184,L184&\"x\")),IF(RIGHT(L184,1)=\"y\",\"\",L184&\"x\"),IF(VLOOKUP(M184+1,'Data eshop'!C:D,2,FALSE)='Řádky zakázky'!L184,L184,L184&\"x\")))))","v":"0xxxxxxxxxxxxxxxxxxxxxxxxxxxxxxxxxxxxxxxxxxxxxxxxxxxxxxxxxxxxxxxxxxxxxxxxxxxxxxxxxxxxxxxxxxxxxxxxxxxxxxxxxxxxxxxxxxxxxxxxxxxxxxxxxxxxxxxxxxxxxxxxxxxxxxxxxxxxxxxxxxxxxxxxxxxxxxxxxxxxxxx"},1,{"$f":"IF(A185=\"\",\"\",VLOOKUP(RIGHT(A185,5)*1,'Data eshop'!D:W,17,FALSE))","v":{"$error":"#VALUE!"}},{"$f":"VLOOKUP(A185,Zakázky!A:B,2,FALSE)","v":{"$error":"#N/A"}},""]
["19ESh0",{"$f":"IFERROR(IF(ISNUMBER(L186),VLOOKUP(L186&\"-\"&M186,'Data eshop'!B:W,16,FALSE),IF(RIGHT(L186,1)=\"x\",VLOOKUP(VLOOKUP(RIGHT(A186,5)*1,'Data eshop'!D:N,11,FALSE),DATA!G:I,3,FALSE),IF(RIGHT(L186,1)=\"y\",IF(VLOOKUP(RIGHT(A186,5)*1,'Data eshop'!D:O,12,FALSE)=IF(O186=\"T7\",DATA!$D$2,IF(O186=\"E87\",DATA!$D$5,IF(O186=\"P2\",DATA!$D$6,IF(O186=\"e2695\",DATA!$D$7,\"\")))),IF(N186>=IF(O186=\"T7\",DATA!$K$11,IF(O186=\"E87\",DATA!$L$11,IF(O186=\"P2\",DATA!$M$11,IF(O186=\"e2695\",DATA!$N$11,\"\")))),\"uni008\",\"uni001\"),IF(VLOOKUP(RIGHT(A186,5)*1,'Data eshop'!D:O,12,FALSE)=DATA!$D$3,IF(O186=\"T7\",IF(N186>=500,\"uni009\",\"uni002\"),\"x\"),IF(VLOOKUP(RIGHT(A186,5)*1,'Data eshop'!D:O,12,FALSE)=DATA!$D$4,\"uni010\",\"\"))),\"\"))),\"\")","v":""},{"$f":"IFERROR(IF(A186=\"\",\"\",IF(LEFT(B186,3)=\"uni\",1,VLOOKUP(RIGHT(A186,5)&\"-\"&B186,'Data eshop'!A:R,18,FALSE))),\"\")","v":""},"",{"$f":"IFERROR(IF(A186=\"\",\"\",IF(LEFT(B186,3)=\"uni\",VLOOKUP(B186,DATA!I:X,IF(O186=\"T7\",3,IF(O186=\"E87\",4,IF(O186=\"P2\",5,IF(O186=\"E2695\",6,\"\")))),FALSE),VLOOKUP(RIGHT(A186,5)&\"-\"&B186,'Data eshop'!A:S,19,FALSE))),\"\")","v":""},{"$f":"IFERROR(IF(A186=\"\",\"\",IF(LEFT(B186,3)=\"uni\",0,VLOOKUP(RIGHT(A186,5)&\"-\"&B186,'Data eshop'!A:S,16,FALSE))),\"\")","v":""},null,"",{"$f":"IF(H186=\"\",\"\",WORKDAY(TODAY()+IF(VLOOKUP(VLOOKUP(RIGHT(A186,5)*1,'Data eshop'!D:N,11,FALSE),DATA!A:B,2,FALSE)=7,14,1),5))","v":""},"","",{"$f":"IF(L185=\"\",\"\",IF(L185=RIGHT(A185,5)&\"x\",LEFT(L185,LEN(L185)-1)&\"y\",IF(L185=RIGHT(A185,5)&\"y\",IFERROR(SMALL('Data eshop'!D:D,COUNTIF('Data eshop'!D:D,\"<\"&(LEFT(L185,LEN(L185)-1)*1))),\"\"),IF(ISERROR(IF(VLOOKUP(M185+1,'Data eshop'!C:D,2,FALSE)='Řádky zakázky'!L185,L185,L185&\"x\")),IF(RIGHT(L185,1)=\"y\",\"\",L185&\"x\"),IF(VLOOKUP(M185+1,'Data eshop'!C:D,2,FALSE)='Řádky zakázky'!L185,L185,L185&\"x\")))))","v":"0xxxxxxxxxxxxxxxxxxxxxxxxxxxxxxxxxxxxxxxxxxxxxxxxxxxxxxxxxxxxxxxxxxxxxxxxxxxxxxxxxxxxxxxxxxxxxxxxxxxxxxxxxxxxxxxxxxxxxxxxxxxxxxxxxxxxxxxxxxxxxxxxxxxxxxxxxxxxxxxxxxxxxxxxxxxxxxxxxxxxxxxx"},1,{"$f":"IF(A186=\"\",\"\",VLOOKUP(RIGHT(A186,5)*1,'Data eshop'!D:W,17,FALSE))","v":{"$error":"#VALUE!"}},{"$f":"VLOOKUP(A186,Zakázky!A:B,2,FALSE)","v":{"$error":"#N/A"}},""]
["19ESh0",{"$f":"IFERROR(IF(ISNUMBER(L187),VLOOKUP(L187&\"-\"&M187,'Data eshop'!B:W,16,FALSE),IF(RIGHT(L187,1)=\"x\",VLOOKUP(VLOOKUP(RIGHT(A187,5)*1,'Data eshop'!D:N,11,FALSE),DATA!G:I,3,FALSE),IF(RIGHT(L187,1)=\"y\",IF(VLOOKUP(RIGHT(A187,5)*1,'Data eshop'!D:O,12,FALSE)=IF(O187=\"T7\",DATA!$D$2,IF(O187=\"E87\",DATA!$D$5,IF(O187=\"P2\",DATA!$D$6,IF(O187=\"e2695\",DATA!$D$7,\"\")))),IF(N187>=IF(O187=\"T7\",DATA!$K$11,IF(O187=\"E87\",DATA!$L$11,IF(O187=\"P2\",DATA!$M$11,IF(O187=\"e2695\",DATA!$N$11,\"\")))),\"uni008\",\"uni001\"),IF(VLOOKUP(RIGHT(A187,5)*1,'Data eshop'!D:O,12,FALSE)=DATA!$D$3,IF(O187=\"T7\",IF(N187>=500,\"uni009\",\"uni002\"),\"x\"),IF(VLOOKUP(RIGHT(A187,5)*1,'Data eshop'!D:O,12,FALSE)=DATA!$D$4,\"uni010\",\"\"))),\"\"))),\"\")","v":""},{"$f":"IFERROR(IF(A187=\"\",\"\",IF(LEFT(B187,3)=\"uni\",1,VLOOKUP(RIGHT(A187,5)&\"-\"&B187,'Data eshop'!A:R,18,FALSE))),\"\")","v":""},"",{"$f":"IFERROR(IF(A187=\"\",\"\",IF(LEFT(B187,3)=\"uni\",VLOOKUP(B187,DATA!I:X,IF(O187=\"T7\",3,IF(O187=\"E87\",4,IF(O187=\"P2\",5,IF(O187=\"E2695\",6,\"\")))),FALSE),VLOOKUP(RIGHT(A187,5)&\"-\"&B187,'Data eshop'!A:S,19,FALSE))),\"\")","v":""},{"$f":"IFERROR(IF(A187=\"\",\"\",IF(LEFT(B187,3)=\"uni\",0,VLOOKUP(RIGHT(A187,5)&\"-\"&B187,'Data eshop'!A:S,16,FALSE))),\"\")","v":""},null,"",{"$f":"IF(H187=\"\",\"\",WORKDAY(TODAY()+IF(VLOOKUP(VLOOKUP(RIGHT(A187,5)*1,'Data eshop'!D:N,11,FALSE),DATA!A:B,2,FALSE)=7,14,1),5))","v":""},"","",{"$f":"IF(L186=\"\",\"\",IF(L186=RIGHT(A186,5)&\"x\",LEFT(L186,LEN(L186)-1)&\"y\",IF(L186=RIGHT(A186,5)&\"y\",IFERROR(SMALL('Data eshop'!D:D,COUNTIF('Data eshop'!D:D,\"<\"&(LEFT(L186,LEN(L186)-1)*1))),\"\"),IF(ISERROR(IF(VLOOKUP(M186+1,'Data eshop'!C:D,2,FALSE)='Řádky zakázky'!L186,L186,L186&\"x\")),IF(RIGHT(L186,1)=\"y\",\"\",L186&\"x\"),IF(VLOOKUP(M186+1,'Data eshop'!C:D,2,FALSE)='Řádky zakázky'!L186,L186,L186&\"x\")))))","v":"0xxxxxxxxxxxxxxxxxxxxxxxxxxxxxxxxxxxxxxxxxxxxxxxxxxxxxxxxxxxxxxxxxxxxxxxxxxxxxxxxxxxxxxxxxxxxxxxxxxxxxxxxxxxxxxxxxxxxxxxxxxxxxxxxxxxxxxxxxxxxxxxxxxxxxxxxxxxxxxxxxxxxxxxxxxxxxxxxxxxxxxxxx"},1,{"$f":"IF(A187=\"\",\"\",VLOOKUP(RIGHT(A187,5)*1,'Data eshop'!D:W,17,FALSE))","v":{"$error":"#VALUE!"}},{"$f":"VLOOKUP(A187,Zakázky!A:B,2,FALSE)","v":{"$error":"#N/A"}},""]
["19ESh0",{"$f":"IFERROR(IF(ISNUMBER(L188),VLOOKUP(L188&\"-\"&M188,'Data eshop'!B:W,16,FALSE),IF(RIGHT(L188,1)=\"x\",VLOOKUP(VLOOKUP(RIGHT(A188,5)*1,'Data eshop'!D:N,11,FALSE),DATA!G:I,3,FALSE),IF(RIGHT(L188,1)=\"y\",IF(VLOOKUP(RIGHT(A188,5)*1,'Data eshop'!D:O,12,FALSE)=IF(O188=\"T7\",DATA!$D$2,IF(O188=\"E87\",DATA!$D$5,IF(O188=\"P2\",DATA!$D$6,IF(O188=\"e2695\",DATA!$D$7,\"\")))),IF(N188>=IF(O188=\"T7\",DATA!$K$11,IF(O188=\"E87\",DATA!$L$11,IF(O188=\"P2\",DATA!$M$11,IF(O188=\"e2695\",DATA!$N$11,\"\")))),\"uni008\",\"uni001\"),IF(VLOOKUP(RIGHT(A188,5)*1,'Data eshop'!D:O,12,FALSE)=DATA!$D$3,IF(O188=\"T7\",IF(N188>=500,\"uni009\",\"uni002\"),\"x\"),IF(VLOOKUP(RIGHT(A188,5)*1,'Data eshop'!D:O,12,FALSE)=DATA!$D$4,\"uni010\",\"\"))),\"\"))),\"\")","v":""},{"$f":"IFERROR(IF(A188=\"\",\"\",IF(LEFT(B188,3)=\"uni\",1,VLOOKUP(RIGHT(A188,5)&\"-\"&B188,'Data eshop'!A:R,18,FALSE))),\"\")","v":""},"",{"$f":"IFERROR(IF(A188=\"\",\"\",IF(LEFT(B188,3)=\"uni\",VLOOKUP(B188,DATA!I:X,IF(O188=\"T7\",3,IF(O188=\"E87\",4,IF(O188=\"P2\",5,IF(O188=\"E2695\",6,\"\")))),FALSE),VLOOKUP(RIGHT(A188,5)&\"-\"&B188,'Data eshop'!A:S,19,FALSE))),\"\")","v":""},{"$f":"IFERROR(IF(A188=\"\",\"\",IF(LEFT(B188,3)=\"uni\",0,VLOOKUP(RIGHT(A188,5)&\"-\"&B188,'Data eshop'!A:S,16,FALSE))),\"\")","v":""},null,"",{"$f":"IF(H188=\"\",\"\",WORKDAY(TODAY()+IF(VLOOKUP(VLOOKUP(RIGHT(A188,5)*1,'Data eshop'!D:N,11,FALSE),DATA!A:B,2,FALSE)=7,14,1),5))","v":""},"","",{"$f":"IF(L187=\"\",\"\",IF(L187=RIGHT(A187,5)&\"x\",LEFT(L187,LEN(L187)-1)&\"y\",IF(L187=RIGHT(A187,5)&\"y\",IFERROR(SMALL('Data eshop'!D:D,COUNTIF('Data eshop'!D:D,\"<\"&(LEFT(L187,LEN(L187)-1)*1))),\"\"),IF(ISERROR(IF(VLOOKUP(M187+1,'Data eshop'!C:D,2,FALSE)='Řádky zakázky'!L187,L187,L187&\"x\")),IF(RIGHT(L187,1)=\"y\",\"\",L187&\"x\"),IF(VLOOKUP(M187+1,'Data eshop'!C:D,2,FALSE)='Řádky zakázky'!L187,L187,L187&\"x\")))))","v":"0xxxxxxxxxxxxxxxxxxxxxxxxxxxxxxxxxxxxxxxxxxxxxxxxxxxxxxxxxxxxxxxxxxxxxxxxxxxxxxxxxxxxxxxxxxxxxxxxxxxxxxxxxxxxxxxxxxxxxxxxxxxxxxxxxxxxxxxxxxxxxxxxxxxxxxxxxxxxxxxxxxxxxxxxxxxxxxxxxxxxxxxxxx"},1,{"$f":"IF(A188=\"\",\"\",VLOOKUP(RIGHT(A188,5)*1,'Data eshop'!D:W,17,FALSE))","v":{"$error":"#VALUE!"}},{"$f":"VLOOKUP(A188,Zakázky!A:B,2,FALSE)","v":{"$error":"#N/A"}},"","Roluj nahoru, až uvidíš žlutou"]
["19ESh0",{"$f":"IFERROR(IF(ISNUMBER(L189),VLOOKUP(L189&\"-\"&M189,'Data eshop'!B:W,16,FALSE),IF(RIGHT(L189,1)=\"x\",VLOOKUP(VLOOKUP(RIGHT(A189,5)*1,'Data eshop'!D:N,11,FALSE),DATA!G:I,3,FALSE),IF(RIGHT(L189,1)=\"y\",IF(VLOOKUP(RIGHT(A189,5)*1,'Data eshop'!D:O,12,FALSE)=IF(O189=\"T7\",DATA!$D$2,IF(O189=\"E87\",DATA!$D$5,IF(O189=\"P2\",DATA!$D$6,IF(O189=\"e2695\",DATA!$D$7,\"\")))),IF(N189>=IF(O189=\"T7\",DATA!$K$11,IF(O189=\"E87\",DATA!$L$11,IF(O189=\"P2\",DATA!$M$11,IF(O189=\"e2695\",DATA!$N$11,\"\")))),\"uni008\",\"uni001\"),IF(VLOOKUP(RIGHT(A189,5)*1,'Data eshop'!D:O,12,FALSE)=DATA!$D$3,IF(O189=\"T7\",IF(N189>=500,\"uni009\",\"uni002\"),\"x\"),IF(VLOOKUP(RIGHT(A189,5)*1,'Data eshop'!D:O,12,FALSE)=DATA!$D$4,\"uni010\",\"\"))),\"\"))),\"\")","v":""},{"$f":"IFERROR(IF(A189=\"\",\"\",IF(LEFT(B189,3)=\"uni\",1,VLOOKUP(RIGHT(A189,5)&\"-\"&B189,'Data eshop'!A:R,18,FALSE))),\"\")","v":""},"",{"$f":"IFERROR(IF(A189=\"\",\"\",IF(LEFT(B189,3)=\"uni\",VLOOKUP(B189,DATA!I:X,IF(O189=\"T7\",3,IF(O189=\"E87\",4,IF(O189=\"P2\",5,IF(O189=\"E2695\",6,\"\")))),FALSE),VLOOKUP(RIGHT(A189,5)&\"-\"&B189,'Data eshop'!A:S,19,FALSE))),\"\")","v":""},{"$f":"IFERROR(IF(A189=\"\",\"\",IF(LEFT(B189,3)=\"uni\",0,VLOOKUP(RIGHT(A189,5)&\"-\"&B189,'Data eshop'!A:S,16,FALSE))),\"\")","v":""},null,"",{"$f":"IF(H189=\"\",\"\",WORKDAY(TODAY()+IF(VLOOKUP(VLOOKUP(RIGHT(A189,5)*1,'Data eshop'!D:N,11,FALSE),DATA!A:B,2,FALSE)=7,14,1),5))","v":""},"","",{"$f":"IF(L188=\"\",\"\",IF(L188=RIGHT(A188,5)&\"x\",LEFT(L188,LEN(L188)-1)&\"y\",IF(L188=RIGHT(A188,5)&\"y\",IFERROR(SMALL('Data eshop'!D:D,COUNTIF('Data eshop'!D:D,\"<\"&(LEFT(L188,LEN(L188)-1)*1))),\"\"),IF(ISERROR(IF(VLOOKUP(M188+1,'Data eshop'!C:D,2,FALSE)='Řádky zakázky'!L188,L188,L188&\"x\")),IF(RIGHT(L188,1)=\"y\",\"\",L188&\"x\"),IF(VLOOKUP(M188+1,'Data eshop'!C:D,2,FALSE)='Řádky zakázky'!L188,L188,L188&\"x\")))))","v":"0xxxxxxxxxxxxxxxxxxxxxxxxxxxxxxxxxxxxxxxxxxxxxxxxxxxxxxxxxxxxxxxxxxxxxxxxxxxxxxxxxxxxxxxxxxxxxxxxxxxxxxxxxxxxxxxxxxxxxxxxxxxxxxxxxxxxxxxxxxxxxxxxxxxxxxxxxxxxxxxxxxxxxxxxxxxxxxxxxxxxxxxxxxx"},1,{"$f":"IF(A189=\"\",\"\",VLOOKUP(RIGHT(A189,5)*1,'Data eshop'!D:W,17,FALSE))","v":{"$error":"#VALUE!"}},{"$f":"VLOOKUP(A189,Zakázky!A:B,2,FALSE)","v":{"$error":"#N/A"}},""]
["19ESh0",{"$f":"IFERROR(IF(ISNUMBER(L190),VLOOKUP(L190&\"-\"&M190,'Data eshop'!B:W,16,FALSE),IF(RIGHT(L190,1)=\"x\",VLOOKUP(VLOOKUP(RIGHT(A190,5)*1,'Data eshop'!D:N,11,FALSE),DATA!G:I,3,FALSE),IF(RIGHT(L190,1)=\"y\",IF(VLOOKUP(RIGHT(A190,5)*1,'Data eshop'!D:O,12,FALSE)=IF(O190=\"T7\",DATA!$D$2,IF(O190=\"E87\",DATA!$D$5,IF(O190=\"P2\",DATA!$D$6,IF(O190=\"e2695\",DATA!$D$7,\"\")))),IF(N190>=IF(O190=\"T7\",DATA!$K$11,IF(O190=\"E87\",DATA!$L$11,IF(O190=\"P2\",DATA!$M$11,IF(O190=\"e2695\",DATA!$N$11,\"\")))),\"uni008\",\"uni001\"),IF(VLOOKUP(RIGHT(A190,5)*1,'Data eshop'!D:O,12,FALSE)=DATA!$D$3,IF(O190=\"T7\",IF(N190>=500,\"uni009\",\"uni002\"),\"x\"),IF(VLOOKUP(RIGHT(A190,5)*1,'Data eshop'!D:O,12,FALSE)=DATA!$D$4,\"uni010\",\"\"))),\"\"))),\"\")","v":""},{"$f":"IFERROR(IF(A190=\"\",\"\",IF(LEFT(B190,3)=\"uni\",1,VLOOKUP(RIGHT(A190,5)&\"-\"&B190,'Data eshop'!A:R,18,FALSE))),\"\")","v":""},"",{"$f":"IFERROR(IF(A190=\"\",\"\",IF(LEFT(B190,3)=\"uni\",VLOOKUP(B190,DATA!I:X,IF(O190=\"T7\",3,IF(O190=\"E87\",4,IF(O190=\"P2\",5,IF(O190=\"E2695\",6,\"\")))),FALSE),VLOOKUP(RIGHT(A190,5)&\"-\"&B190,'Data eshop'!A:S,19,FALSE))),\"\")","v":""},{"$f":"IFERROR(IF(A190=\"\",\"\",IF(LEFT(B190,3)=\"uni\",0,VLOOKUP(RIGHT(A190,5)&\"-\"&B190,'Data eshop'!A:S,16,FALSE))),\"\")","v":""},null,"",{"$f":"IF(H190=\"\",\"\",WORKDAY(TODAY()+IF(VLOOKUP(VLOOKUP(RIGHT(A190,5)*1,'Data eshop'!D:N,11,FALSE),DATA!A:B,2,FALSE)=7,14,1),5))","v":""},"","",{"$f":"IF(L189=\"\",\"\",IF(L189=RIGHT(A189,5)&\"x\",LEFT(L189,LEN(L189)-1)&\"y\",IF(L189=RIGHT(A189,5)&\"y\",IFERROR(SMALL('Data eshop'!D:D,COUNTIF('Data eshop'!D:D,\"<\"&(LEFT(L189,LEN(L189)-1)*1))),\"\"),IF(ISERROR(IF(VLOOKUP(M189+1,'Data eshop'!C:D,2,FALSE)='Řádky zakázky'!L189,L189,L189&\"x\")),IF(RIGHT(L189,1)=\"y\",\"\",L189&\"x\"),IF(VLOOKUP(M189+1,'Data eshop'!C:D,2,FALSE)='Řádky zakázky'!L189,L189,L189&\"x\")))))","v":"0xxxxxxxxxxxxxxxxxxxxxxxxxxxxxxxxxxxxxxxxxxxxxxxxxxxxxxxxxxxxxxxxxxxxxxxxxxxxxxxxxxxxxxxxxxxxxxxxxxxxxxxxxxxxxxxxxxxxxxxxxxxxxxxxxxxxxxxxxxxxxxxxxxxxxxxxxxxxxxxxxxxxxxxxxxxxxxxxxxxxxxxxxxxx"},1,{"$f":"IF(A190=\"\",\"\",VLOOKUP(RIGHT(A190,5)*1,'Data eshop'!D:W,17,FALSE))","v":{"$error":"#VALUE!"}},{"$f":"VLOOKUP(A190,Zakázky!A:B,2,FALSE)","v":{"$error":"#N/A"}},""]
["19ESh0",{"$f":"IFERROR(IF(ISNUMBER(L191),VLOOKUP(L191&\"-\"&M191,'Data eshop'!B:W,16,FALSE),IF(RIGHT(L191,1)=\"x\",VLOOKUP(VLOOKUP(RIGHT(A191,5)*1,'Data eshop'!D:N,11,FALSE),DATA!G:I,3,FALSE),IF(RIGHT(L191,1)=\"y\",IF(VLOOKUP(RIGHT(A191,5)*1,'Data eshop'!D:O,12,FALSE)=IF(O191=\"T7\",DATA!$D$2,IF(O191=\"E87\",DATA!$D$5,IF(O191=\"P2\",DATA!$D$6,IF(O191=\"e2695\",DATA!$D$7,\"\")))),IF(N191>=IF(O191=\"T7\",DATA!$K$11,IF(O191=\"E87\",DATA!$L$11,IF(O191=\"P2\",DATA!$M$11,IF(O191=\"e2695\",DATA!$N$11,\"\")))),\"uni008\",\"uni001\"),IF(VLOOKUP(RIGHT(A191,5)*1,'Data eshop'!D:O,12,FALSE)=DATA!$D$3,IF(O191=\"T7\",IF(N191>=500,\"uni009\",\"uni002\"),\"x\"),IF(VLOOKUP(RIGHT(A191,5)*1,'Data eshop'!D:O,12,FALSE)=DATA!$D$4,\"uni010\",\"\"))),\"\"))),\"\")","v":""},{"$f":"IFERROR(IF(A191=\"\",\"\",IF(LEFT(B191,3)=\"uni\",1,VLOOKUP(RIGHT(A191,5)&\"-\"&B191,'Data eshop'!A:R,18,FALSE))),\"\")","v":""},"",{"$f":"IFERROR(IF(A191=\"\",\"\",IF(LEFT(B191,3)=\"uni\",VLOOKUP(B191,DATA!I:X,IF(O191=\"T7\",3,IF(O191=\"E87\",4,IF(O191=\"P2\",5,IF(O191=\"E2695\",6,\"\")))),FALSE),VLOOKUP(RIGHT(A191,5)&\"-\"&B191,'Data eshop'!A:S,19,FALSE))),\"\")","v":""},{"$f":"IFERROR(IF(A191=\"\",\"\",IF(LEFT(B191,3)=\"uni\",0,VLOOKUP(RIGHT(A191,5)&\"-\"&B191,'Data eshop'!A:S,16,FALSE))),\"\")","v":""},null,"",{"$f":"IF(H191=\"\",\"\",WORKDAY(TODAY()+IF(VLOOKUP(VLOOKUP(RIGHT(A191,5)*1,'Data eshop'!D:N,11,FALSE),DATA!A:B,2,FALSE)=7,14,1),5))","v":""},"","",{"$f":"IF(L190=\"\",\"\",IF(L190=RIGHT(A190,5)&\"x\",LEFT(L190,LEN(L190)-1)&\"y\",IF(L190=RIGHT(A190,5)&\"y\",IFERROR(SMALL('Data eshop'!D:D,COUNTIF('Data eshop'!D:D,\"<\"&(LEFT(L190,LEN(L190)-1)*1))),\"\"),IF(ISERROR(IF(VLOOKUP(M190+1,'Data eshop'!C:D,2,FALSE)='Řádky zakázky'!L190,L190,L190&\"x\")),IF(RIGHT(L190,1)=\"y\",\"\",L190&\"x\"),IF(VLOOKUP(M190+1,'Data eshop'!C:D,2,FALSE)='Řádky zakázky'!L190,L190,L190&\"x\")))))","v":"0xxxxxxxxxxxxxxxxxxxxxxxxxxxxxxxxxxxxxxxxxxxxxxxxxxxxxxxxxxxxxxxxxxxxxxxxxxxxxxxxxxxxxxxxxxxxxxxxxxxxxxxxxxxxxxxxxxxxxxxxxxxxxxxxxxxxxxxxxxxxxxxxxxxxxxxxxxxxxxxxxxxxxxxxxxxxxxxxxxxxxxxxxxxxx"},1,{"$f":"IF(A191=\"\",\"\",VLOOKUP(RIGHT(A191,5)*1,'Data eshop'!D:W,17,FALSE))","v":{"$error":"#VALUE!"}},{"$f":"VLOOKUP(A191,Zakázky!A:B,2,FALSE)","v":{"$error":"#N/A"}},""]
["19ESh0",{"$f":"IFERROR(IF(ISNUMBER(L192),VLOOKUP(L192&\"-\"&M192,'Data eshop'!B:W,16,FALSE),IF(RIGHT(L192,1)=\"x\",VLOOKUP(VLOOKUP(RIGHT(A192,5)*1,'Data eshop'!D:N,11,FALSE),DATA!G:I,3,FALSE),IF(RIGHT(L192,1)=\"y\",IF(VLOOKUP(RIGHT(A192,5)*1,'Data eshop'!D:O,12,FALSE)=IF(O192=\"T7\",DATA!$D$2,IF(O192=\"E87\",DATA!$D$5,IF(O192=\"P2\",DATA!$D$6,IF(O192=\"e2695\",DATA!$D$7,\"\")))),IF(N192>=IF(O192=\"T7\",DATA!$K$11,IF(O192=\"E87\",DATA!$L$11,IF(O192=\"P2\",DATA!$M$11,IF(O192=\"e2695\",DATA!$N$11,\"\")))),\"uni008\",\"uni001\"),IF(VLOOKUP(RIGHT(A192,5)*1,'Data eshop'!D:O,12,FALSE)=DATA!$D$3,IF(O192=\"T7\",IF(N192>=500,\"uni009\",\"uni002\"),\"x\"),IF(VLOOKUP(RIGHT(A192,5)*1,'Data eshop'!D:O,12,FALSE)=DATA!$D$4,\"uni010\",\"\"))),\"\"))),\"\")","v":""},{"$f":"IFERROR(IF(A192=\"\",\"\",IF(LEFT(B192,3)=\"uni\",1,VLOOKUP(RIGHT(A192,5)&\"-\"&B192,'Data eshop'!A:R,18,FALSE))),\"\")","v":""},"",{"$f":"IFERROR(IF(A192=\"\",\"\",IF(LEFT(B192,3)=\"uni\",VLOOKUP(B192,DATA!I:X,IF(O192=\"T7\",3,IF(O192=\"E87\",4,IF(O192=\"P2\",5,IF(O192=\"E2695\",6,\"\")))),FALSE),VLOOKUP(RIGHT(A192,5)&\"-\"&B192,'Data eshop'!A:S,19,FALSE))),\"\")","v":""},{"$f":"IFERROR(IF(A192=\"\",\"\",IF(LEFT(B192,3)=\"uni\",0,VLOOKUP(RIGHT(A192,5)&\"-\"&B192,'Data eshop'!A:S,16,FALSE))),\"\")","v":""},null,"",{"$f":"IF(H192=\"\",\"\",WORKDAY(TODAY()+IF(VLOOKUP(VLOOKUP(RIGHT(A192,5)*1,'Data eshop'!D:N,11,FALSE),DATA!A:B,2,FALSE)=7,14,1),5))","v":""},"","",{"$f":"IF(L191=\"\",\"\",IF(L191=RIGHT(A191,5)&\"x\",LEFT(L191,LEN(L191)-1)&\"y\",IF(L191=RIGHT(A191,5)&\"y\",IFERROR(SMALL('Data eshop'!D:D,COUNTIF('Data eshop'!D:D,\"<\"&(LEFT(L191,LEN(L191)-1)*1))),\"\"),IF(ISERROR(IF(VLOOKUP(M191+1,'Data eshop'!C:D,2,FALSE)='Řádky zakázky'!L191,L191,L191&\"x\")),IF(RIGHT(L191,1)=\"y\",\"\",L191&\"x\"),IF(VLOOKUP(M191+1,'Data eshop'!C:D,2,FALSE)='Řádky zakázky'!L191,L191,L191&\"x\")))))","v":"0xxxxxxxxxxxxxxxxxxxxxxxxxxxxxxxxxxxxxxxxxxxxxxxxxxxxxxxxxxxxxxxxxxxxxxxxxxxxxxxxxxxxxxxxxxxxxxxxxxxxxxxxxxxxxxxxxxxxxxxxxxxxxxxxxxxxxxxxxxxxxxxxxxxxxxxxxxxxxxxxxxxxxxxxxxxxxxxxxxxxxxxxxxxxxx"},1,{"$f":"IF(A192=\"\",\"\",VLOOKUP(RIGHT(A192,5)*1,'Data eshop'!D:W,17,FALSE))","v":{"$error":"#VALUE!"}},{"$f":"VLOOKUP(A192,Zakázky!A:B,2,FALSE)","v":{"$error":"#N/A"}},"","Roluj nahoru, až uvidíš žlutou"]
["19ESh0",{"$f":"IFERROR(IF(ISNUMBER(L193),VLOOKUP(L193&\"-\"&M193,'Data eshop'!B:W,16,FALSE),IF(RIGHT(L193,1)=\"x\",VLOOKUP(VLOOKUP(RIGHT(A193,5)*1,'Data eshop'!D:N,11,FALSE),DATA!G:I,3,FALSE),IF(RIGHT(L193,1)=\"y\",IF(VLOOKUP(RIGHT(A193,5)*1,'Data eshop'!D:O,12,FALSE)=IF(O193=\"T7\",DATA!$D$2,IF(O193=\"E87\",DATA!$D$5,IF(O193=\"P2\",DATA!$D$6,IF(O193=\"e2695\",DATA!$D$7,\"\")))),IF(N193>=IF(O193=\"T7\",DATA!$K$11,IF(O193=\"E87\",DATA!$L$11,IF(O193=\"P2\",DATA!$M$11,IF(O193=\"e2695\",DATA!$N$11,\"\")))),\"uni008\",\"uni001\"),IF(VLOOKUP(RIGHT(A193,5)*1,'Data eshop'!D:O,12,FALSE)=DATA!$D$3,IF(O193=\"T7\",IF(N193>=500,\"uni009\",\"uni002\"),\"x\"),IF(VLOOKUP(RIGHT(A193,5)*1,'Data eshop'!D:O,12,FALSE)=DATA!$D$4,\"uni010\",\"\"))),\"\"))),\"\")","v":""},{"$f":"IFERROR(IF(A193=\"\",\"\",IF(LEFT(B193,3)=\"uni\",1,VLOOKUP(RIGHT(A193,5)&\"-\"&B193,'Data eshop'!A:R,18,FALSE))),\"\")","v":""},"",{"$f":"IFERROR(IF(A193=\"\",\"\",IF(LEFT(B193,3)=\"uni\",VLOOKUP(B193,DATA!I:X,IF(O193=\"T7\",3,IF(O193=\"E87\",4,IF(O193=\"P2\",5,IF(O193=\"E2695\",6,\"\")))),FALSE),VLOOKUP(RIGHT(A193,5)&\"-\"&B193,'Data eshop'!A:S,19,FALSE))),\"\")","v":""},{"$f":"IFERROR(IF(A193=\"\",\"\",IF(LEFT(B193,3)=\"uni\",0,VLOOKUP(RIGHT(A193,5)&\"-\"&B193,'Data eshop'!A:S,16,FALSE))),\"\")","v":""},null,"",{"$f":"IF(H193=\"\",\"\",WORKDAY(TODAY()+IF(VLOOKUP(VLOOKUP(RIGHT(A193,5)*1,'Data eshop'!D:N,11,FALSE),DATA!A:B,2,FALSE)=7,14,1),5))","v":""},"","",{"$f":"IF(L192=\"\",\"\",IF(L192=RIGHT(A192,5)&\"x\",LEFT(L192,LEN(L192)-1)&\"y\",IF(L192=RIGHT(A192,5)&\"y\",IFERROR(SMALL('Data eshop'!D:D,COUNTIF('Data eshop'!D:D,\"<\"&(LEFT(L192,LEN(L192)-1)*1))),\"\"),IF(ISERROR(IF(VLOOKUP(M192+1,'Data eshop'!C:D,2,FALSE)='Řádky zakázky'!L192,L192,L192&\"x\")),IF(RIGHT(L192,1)=\"y\",\"\",L192&\"x\"),IF(VLOOKUP(M192+1,'Data eshop'!C:D,2,FALSE)='Řádky zakázky'!L192,L192,L192&\"x\")))))","v":"0xxxxxxxxxxxxxxxxxxxxxxxxxxxxxxxxxxxxxxxxxxxxxxxxxxxxxxxxxxxxxxxxxxxxxxxxxxxxxxxxxxxxxxxxxxxxxxxxxxxxxxxxxxxxxxxxxxxxxxxxxxxxxxxxxxxxxxxxxxxxxxxxxxxxxxxxxxxxxxxxxxxxxxxxxxxxxxxxxxxxxxxxxxxxxxx"},1,{"$f":"IF(A193=\"\",\"\",VLOOKUP(RIGHT(A193,5)*1,'Data eshop'!D:W,17,FALSE))","v":{"$error":"#VALUE!"}},{"$f":"VLOOKUP(A193,Zakázky!A:B,2,FALSE)","v":{"$error":"#N/A"}},""]
["19ESh0",{"$f":"IFERROR(IF(ISNUMBER(L194),VLOOKUP(L194&\"-\"&M194,'Data eshop'!B:W,16,FALSE),IF(RIGHT(L194,1)=\"x\",VLOOKUP(VLOOKUP(RIGHT(A194,5)*1,'Data eshop'!D:N,11,FALSE),DATA!G:I,3,FALSE),IF(RIGHT(L194,1)=\"y\",IF(VLOOKUP(RIGHT(A194,5)*1,'Data eshop'!D:O,12,FALSE)=IF(O194=\"T7\",DATA!$D$2,IF(O194=\"E87\",DATA!$D$5,IF(O194=\"P2\",DATA!$D$6,IF(O194=\"e2695\",DATA!$D$7,\"\")))),IF(N194>=IF(O194=\"T7\",DATA!$K$11,IF(O194=\"E87\",DATA!$L$11,IF(O194=\"P2\",DATA!$M$11,IF(O194=\"e2695\",DATA!$N$11,\"\")))),\"uni008\",\"uni001\"),IF(VLOOKUP(RIGHT(A194,5)*1,'Data eshop'!D:O,12,FALSE)=DATA!$D$3,IF(O194=\"T7\",IF(N194>=500,\"uni009\",\"uni002\"),\"x\"),IF(VLOOKUP(RIGHT(A194,5)*1,'Data eshop'!D:O,12,FALSE)=DATA!$D$4,\"uni010\",\"\"))),\"\"))),\"\")","v":""},{"$f":"IFERROR(IF(A194=\"\",\"\",IF(LEFT(B194,3)=\"uni\",1,VLOOKUP(RIGHT(A194,5)&\"-\"&B194,'Data eshop'!A:R,18,FALSE))),\"\")","v":""},{"$f":"IF(C194=\"\",\"\",\"KS\")","v":""},{"$f":"IFERROR(IF(A194=\"\",\"\",IF(LEFT(B194,3)=\"uni\",VLOOKUP(B194,DATA!I:X,IF(O194=\"T7\",3,IF(O194=\"E87\",4,IF(O194=\"P2\",5,IF(O194=\"E2695\",6,\"\")))),FALSE),VLOOKUP(RIGHT(A194,5)&\"-\"&B194,'Data eshop'!A:S,19,FALSE))),\"\")","v":""},{"$f":"IFERROR(IF(A194=\"\",\"\",IF(LEFT(B194,3)=\"uni\",0,VLOOKUP(RIGHT(A194,5)&\"-\"&B194,'Data eshop'!A:S,16,FALSE))),\"\")","v":""},null,{"$f":"IF(C194=\"\",\"\",\"Objednáno\")","v":""},{"$f":"IF(H194=\"\",\"\",WORKDAY(TODAY()+IF(VLOOKUP(VLOOKUP(RIGHT(A194,5)*1,'Data eshop'!D:N,11,FALSE),DATA!A:B,2,FALSE)=7,14,1),5))","v":""},{"$f":"IF(C194=\"\",\"\",\"SKL\")","v":""},{"$f":"IF(B194=\"\",\"\",IF(ISNUMBER(FIND(\"uni0\",B194)),B194,\"\"))","v":""},{"$f":"IF(L193=\"\",\"\",IF(L193=RIGHT(A193,5)&\"x\",LEFT(L193,LEN(L193)-1)&\"y\",IF(L193=RIGHT(A193,5)&\"y\",IFERROR(SMALL('Data eshop'!D:D,COUNTIF('Data eshop'!D:D,\"<\"&(LEFT(L193,LEN(L193)-1)*1))),\"\"),IF(ISERROR(IF(VLOOKUP(M193+1,'Data eshop'!C:D,2,FALSE)='Řádky zakázky'!L193,L193,L193&\"x\")),IF(RIGHT(L193,1)=\"y\",\"\",L193&\"x\"),IF(VLOOKUP(M193+1,'Data eshop'!C:D,2,FALSE)='Řádky zakázky'!L193,L193,L193&\"x\")))))","v":"0xxxxxxxxxxxxxxxxxxxxxxxxxxxxxxxxxxxxxxxxxxxxxxxxxxxxxxxxxxxxxxxxxxxxxxxxxxxxxxxxxxxxxxxxxxxxxxxxxxxxxxxxxxxxxxxxxxxxxxxxxxxxxxxxxxxxxxxxxxxxxxxxxxxxxxxxxxxxxxxxxxxxxxxxxxxxxxxxxxxxxxxxxxxxxxxx"},1,{"$f":"IF(A194=\"\",\"\",VLOOKUP(RIGHT(A194,5)*1,'Data eshop'!D:W,17,FALSE))","v":{"$error":"#VALUE!"}},{"$f":"VLOOKUP(A194,Zakázky!A:B,2,FALSE)","v":{"$error":"#N/A"}},{"$f":"IF(C194=\"\",\"\",IF(E194=0.00001,0,E194*C194))","v":""}]
[{"$f":"IFERROR(IF(L195=\"\",\"\",IF(RIGHT(L195,1)=\"x\",A194,IF(RIGHT(L195,1)=\"y\",A194,\"19ESh\"&IF(LEN(L195)=4,\"0\",\"\")&L195))),\"\")","v":"19ESh0"},{"$f":"IFERROR(IF(ISNUMBER(L195),VLOOKUP(L195&\"-\"&M195,'Data eshop'!B:W,16,FALSE),IF(RIGHT(L195,1)=\"x\",VLOOKUP(VLOOKUP(RIGHT(A195,5)*1,'Data eshop'!D:N,11,FALSE),DATA!G:I,3,FALSE),IF(RIGHT(L195,1)=\"y\",IF(VLOOKUP(RIGHT(A195,5)*1,'Data eshop'!D:O,12,FALSE)=IF(O195=\"T7\",DATA!$D$2,IF(O195=\"E87\",DATA!$D$5,IF(O195=\"P2\",DATA!$D$6,IF(O195=\"e2695\",DATA!$D$7,\"\")))),IF(N195>=IF(O195=\"T7\",DATA!$K$11,IF(O195=\"E87\",DATA!$L$11,IF(O195=\"P2\",DATA!$M$11,IF(O195=\"e2695\",DATA!$N$11,\"\")))),\"uni008\",\"uni001\"),IF(VLOOKUP(RIGHT(A195,5)*1,'Data eshop'!D:O,12,FALSE)=DATA!$D$3,IF(O195=\"T7\",IF(N195>=500,\"uni009\",\"uni002\"),\"x\"),IF(VLOOKUP(RIGHT(A195,5)*1,'Data eshop'!D:O,12,FALSE)=DATA!$D$4,\"uni010\",\"\"))),\"\"))),\"\")","v":""},{"$f":"IFERROR(IF(A195=\"\",\"\",IF(LEFT(B195,3)=\"uni\",1,VLOOKUP(RIGHT(A195,5)&\"-\"&B195,'Data eshop'!A:R,18,FALSE))),\"\")","v":""},"",{"$f":"IFERROR(IF(A195=\"\",\"\",IF(LEFT(B195,3)=\"uni\",VLOOKUP(B195,DATA!I:X,IF(O195=\"T7\",3,IF(O195=\"E87\",4,IF(O195=\"P2\",5,IF(O195=\"E2695\",6,\"\")))),FALSE),VLOOKUP(RIGHT(A195,5)&\"-\"&B195,'Data eshop'!A:S,19,FALSE))),\"\")","v":""},{"$f":"IFERROR(IF(A195=\"\",\"\",IF(LEFT(B195,3)=\"uni\",0,VLOOKUP(RIGHT(A195,5)&\"-\"&B195,'Data eshop'!A:S,16,FALSE))),\"\")","v":""},null,"",{"$f":"IF(H195=\"\",\"\",WORKDAY(TODAY()+IF(VLOOKUP(VLOOKUP(RIGHT(A195,5)*1,'Data eshop'!D:N,11,FALSE),DATA!A:B,2,FALSE)=7,14,1),5))","v":""},"","",{"$f":"IF(L194=\"\",\"\",IF(L194=RIGHT(A194,5)&\"x\",LEFT(L194,LEN(L194)-1)&\"y\",IF(L194=RIGHT(A194,5)&\"y\",IFERROR(SMALL('Data eshop'!D:D,COUNTIF('Data eshop'!D:D,\"<\"&(LEFT(L194,LEN(L194)-1)*1))),\"\"),IF(ISERROR(IF(VLOOKUP(M194+1,'Data eshop'!C:D,2,FALSE)='Řádky zakázky'!L194,L194,L194&\"x\")),IF(RIGHT(L194,1)=\"y\",\"\",L194&\"x\"),IF(VLOOKUP(M194+1,'Data eshop'!C:D,2,FALSE)='Řádky zakázky'!L194,L194,L194&\"x\")))))","v":"0xxxxxxxxxxxxxxxxxxxxxxxxxxxxxxxxxxxxxxxxxxxxxxxxxxxxxxxxxxxxxxxxxxxxxxxxxxxxxxxxxxxxxxxxxxxxxxxxxxxxxxxxxxxxxxxxxxxxxxxxxxxxxxxxxxxxxxxxxxxxxxxxxxxxxxxxxxxxxxxxxxxxxxxxxxxxxxxxxxxxxxxxxxxxxxxxx"},1,{"$f":"IF(A195=\"\",\"\",VLOOKUP(RIGHT(A195,5)*1,'Data eshop'!D:W,17,FALSE))","v":{"$error":"#VALUE!"}},{"$f":"VLOOKUP(A195,Zakázky!A:B,2,FALSE)","v":{"$error":"#N/A"}},""]
["19ESh0",{"$f":"IFERROR(IF(ISNUMBER(L196),VLOOKUP(L196&\"-\"&M196,'Data eshop'!B:W,16,FALSE),IF(RIGHT(L196,1)=\"x\",VLOOKUP(VLOOKUP(RIGHT(A196,5)*1,'Data eshop'!D:N,11,FALSE),DATA!G:I,3,FALSE),IF(RIGHT(L196,1)=\"y\",IF(VLOOKUP(RIGHT(A196,5)*1,'Data eshop'!D:O,12,FALSE)=IF(O196=\"T7\",DATA!$D$2,IF(O196=\"E87\",DATA!$D$5,IF(O196=\"P2\",DATA!$D$6,IF(O196=\"e2695\",DATA!$D$7,\"\")))),IF(N196>=IF(O196=\"T7\",DATA!$K$11,IF(O196=\"E87\",DATA!$L$11,IF(O196=\"P2\",DATA!$M$11,IF(O196=\"e2695\",DATA!$N$11,\"\")))),\"uni008\",\"uni001\"),IF(VLOOKUP(RIGHT(A196,5)*1,'Data eshop'!D:O,12,FALSE)=DATA!$D$3,IF(O196=\"T7\",IF(N196>=500,\"uni009\",\"uni002\"),\"x\"),IF(VLOOKUP(RIGHT(A196,5)*1,'Data eshop'!D:O,12,FALSE)=DATA!$D$4,\"uni010\",\"\"))),\"\"))),\"\")","v":""},{"$f":"IFERROR(IF(A196=\"\",\"\",IF(LEFT(B196,3)=\"uni\",1,VLOOKUP(RIGHT(A196,5)&\"-\"&B196,'Data eshop'!A:R,18,FALSE))),\"\")","v":""},"",{"$f":"IFERROR(IF(A196=\"\",\"\",IF(LEFT(B196,3)=\"uni\",VLOOKUP(B196,DATA!I:X,IF(O196=\"T7\",3,IF(O196=\"E87\",4,IF(O196=\"P2\",5,IF(O196=\"E2695\",6,\"\")))),FALSE),VLOOKUP(RIGHT(A196,5)&\"-\"&B196,'Data eshop'!A:S,19,FALSE))),\"\")","v":""},{"$f":"IFERROR(IF(A196=\"\",\"\",IF(LEFT(B196,3)=\"uni\",0,VLOOKUP(RIGHT(A196,5)&\"-\"&B196,'Data eshop'!A:S,16,FALSE))),\"\")","v":""},null,"",{"$f":"IF(H196=\"\",\"\",WORKDAY(TODAY()+IF(VLOOKUP(VLOOKUP(RIGHT(A196,5)*1,'Data eshop'!D:N,11,FALSE),DATA!A:B,2,FALSE)=7,14,1),5))","v":""},"","",{"$f":"IF(L195=\"\",\"\",IF(L195=RIGHT(A195,5)&\"x\",LEFT(L195,LEN(L195)-1)&\"y\",IF(L195=RIGHT(A195,5)&\"y\",IFERROR(SMALL('Data eshop'!D:D,COUNTIF('Data eshop'!D:D,\"<\"&(LEFT(L195,LEN(L195)-1)*1))),\"\"),IF(ISERROR(IF(VLOOKUP(M195+1,'Data eshop'!C:D,2,FALSE)='Řádky zakázky'!L195,L195,L195&\"x\")),IF(RIGHT(L195,1)=\"y\",\"\",L195&\"x\"),IF(VLOOKUP(M195+1,'Data eshop'!C:D,2,FALSE)='Řádky zakázky'!L195,L195,L195&\"x\")))))","v":"0xxxxxxxxxxxxxxxxxxxxxxxxxxxxxxxxxxxxxxxxxxxxxxxxxxxxxxxxxxxxxxxxxxxxxxxxxxxxxxxxxxxxxxxxxxxxxxxxxxxxxxxxxxxxxxxxxxxxxxxxxxxxxxxxxxxxxxxxxxxxxxxxxxxxxxxxxxxxxxxxxxxxxxxxxxxxxxxxxxxxxxxxxxxxxxxxxx"},1,{"$f":"IF(A196=\"\",\"\",VLOOKUP(RIGHT(A196,5)*1,'Data eshop'!D:W,17,FALSE))","v":{"$error":"#VALUE!"}},{"$f":"VLOOKUP(A196,Zakázky!A:B,2,FALSE)","v":{"$error":"#N/A"}},"","Roluj nahoru, až uvidíš žlutou"]
["19ESh0",{"$f":"IFERROR(IF(ISNUMBER(L197),VLOOKUP(L197&\"-\"&M197,'Data eshop'!B:W,16,FALSE),IF(RIGHT(L197,1)=\"x\",VLOOKUP(VLOOKUP(RIGHT(A197,5)*1,'Data eshop'!D:N,11,FALSE),DATA!G:I,3,FALSE),IF(RIGHT(L197,1)=\"y\",IF(VLOOKUP(RIGHT(A197,5)*1,'Data eshop'!D:O,12,FALSE)=IF(O197=\"T7\",DATA!$D$2,IF(O197=\"E87\",DATA!$D$5,IF(O197=\"P2\",DATA!$D$6,IF(O197=\"e2695\",DATA!$D$7,\"\")))),IF(N197>=IF(O197=\"T7\",DATA!$K$11,IF(O197=\"E87\",DATA!$L$11,IF(O197=\"P2\",DATA!$M$11,IF(O197=\"e2695\",DATA!$N$11,\"\")))),\"uni008\",\"uni001\"),IF(VLOOKUP(RIGHT(A197,5)*1,'Data eshop'!D:O,12,FALSE)=DATA!$D$3,IF(O197=\"T7\",IF(N197>=500,\"uni009\",\"uni002\"),\"x\"),IF(VLOOKUP(RIGHT(A197,5)*1,'Data eshop'!D:O,12,FALSE)=DATA!$D$4,\"uni010\",\"\"))),\"\"))),\"\")","v":""},{"$f":"IFERROR(IF(A197=\"\",\"\",IF(LEFT(B197,3)=\"uni\",1,VLOOKUP(RIGHT(A197,5)&\"-\"&B197,'Data eshop'!A:R,18,FALSE))),\"\")","v":""},"",{"$f":"IFERROR(IF(A197=\"\",\"\",IF(LEFT(B197,3)=\"uni\",VLOOKUP(B197,DATA!I:X,IF(O197=\"T7\",3,IF(O197=\"E87\",4,IF(O197=\"P2\",5,IF(O197=\"E2695\",6,\"\")))),FALSE),VLOOKUP(RIGHT(A197,5)&\"-\"&B197,'Data eshop'!A:S,19,FALSE))),\"\")","v":""},{"$f":"IFERROR(IF(A197=\"\",\"\",IF(LEFT(B197,3)=\"uni\",0,VLOOKUP(RIGHT(A197,5)&\"-\"&B197,'Data eshop'!A:S,16,FALSE))),\"\")","v":""},null,"",{"$f":"IF(H197=\"\",\"\",WORKDAY(TODAY()+IF(VLOOKUP(VLOOKUP(RIGHT(A197,5)*1,'Data eshop'!D:N,11,FALSE),DATA!A:B,2,FALSE)=7,14,1),5))","v":""},"","",{"$f":"IF(L196=\"\",\"\",IF(L196=RIGHT(A196,5)&\"x\",LEFT(L196,LEN(L196)-1)&\"y\",IF(L196=RIGHT(A196,5)&\"y\",IFERROR(SMALL('Data eshop'!D:D,COUNTIF('Data eshop'!D:D,\"<\"&(LEFT(L196,LEN(L196)-1)*1))),\"\"),IF(ISERROR(IF(VLOOKUP(M196+1,'Data eshop'!C:D,2,FALSE)='Řádky zakázky'!L196,L196,L196&\"x\")),IF(RIGHT(L196,1)=\"y\",\"\",L196&\"x\"),IF(VLOOKUP(M196+1,'Data eshop'!C:D,2,FALSE)='Řádky zakázky'!L196,L196,L196&\"x\")))))","v":"0xxxxxxxxxxxxxxxxxxxxxxxxxxxxxxxxxxxxxxxxxxxxxxxxxxxxxxxxxxxxxxxxxxxxxxxxxxxxxxxxxxxxxxxxxxxxxxxxxxxxxxxxxxxxxxxxxxxxxxxxxxxxxxxxxxxxxxxxxxxxxxxxxxxxxxxxxxxxxxxxxxxxxxxxxxxxxxxxxxxxxxxxxxxxxxxxxxx"},1,{"$f":"IF(A197=\"\",\"\",VLOOKUP(RIGHT(A197,5)*1,'Data eshop'!D:W,17,FALSE))","v":{"$error":"#VALUE!"}},{"$f":"VLOOKUP(A197,Zakázky!A:B,2,FALSE)","v":{"$error":"#N/A"}},""]
["19ESh0",{"$f":"IFERROR(IF(ISNUMBER(L198),VLOOKUP(L198&\"-\"&M198,'Data eshop'!B:W,16,FALSE),IF(RIGHT(L198,1)=\"x\",VLOOKUP(VLOOKUP(RIGHT(A198,5)*1,'Data eshop'!D:N,11,FALSE),DATA!G:I,3,FALSE),IF(RIGHT(L198,1)=\"y\",IF(VLOOKUP(RIGHT(A198,5)*1,'Data eshop'!D:O,12,FALSE)=IF(O198=\"T7\",DATA!$D$2,IF(O198=\"E87\",DATA!$D$5,IF(O198=\"P2\",DATA!$D$6,IF(O198=\"e2695\",DATA!$D$7,\"\")))),IF(N198>=IF(O198=\"T7\",DATA!$K$11,IF(O198=\"E87\",DATA!$L$11,IF(O198=\"P2\",DATA!$M$11,IF(O198=\"e2695\",DATA!$N$11,\"\")))),\"uni008\",\"uni001\"),IF(VLOOKUP(RIGHT(A198,5)*1,'Data eshop'!D:O,12,FALSE)=DATA!$D$3,IF(O198=\"T7\",IF(N198>=500,\"uni009\",\"uni002\"),\"x\"),IF(VLOOKUP(RIGHT(A198,5)*1,'Data eshop'!D:O,12,FALSE)=DATA!$D$4,\"uni010\",\"\"))),\"\"))),\"\")","v":""},{"$f":"IFERROR(IF(A198=\"\",\"\",IF(LEFT(B198,3)=\"uni\",1,VLOOKUP(RIGHT(A198,5)&\"-\"&B198,'Data eshop'!A:R,18,FALSE))),\"\")","v":""},"",{"$f":"IFERROR(IF(A198=\"\",\"\",IF(LEFT(B198,3)=\"uni\",VLOOKUP(B198,DATA!I:X,IF(O198=\"T7\",3,IF(O198=\"E87\",4,IF(O198=\"P2\",5,IF(O198=\"E2695\",6,\"\")))),FALSE),VLOOKUP(RIGHT(A198,5)&\"-\"&B198,'Data eshop'!A:S,19,FALSE))),\"\")","v":""},{"$f":"IFERROR(IF(A198=\"\",\"\",IF(LEFT(B198,3)=\"uni\",0,VLOOKUP(RIGHT(A198,5)&\"-\"&B198,'Data eshop'!A:S,16,FALSE))),\"\")","v":""},null,"",{"$f":"IF(H198=\"\",\"\",WORKDAY(TODAY()+IF(VLOOKUP(VLOOKUP(RIGHT(A198,5)*1,'Data eshop'!D:N,11,FALSE),DATA!A:B,2,FALSE)=7,14,1),5))","v":""},"","",{"$f":"IF(L197=\"\",\"\",IF(L197=RIGHT(A197,5)&\"x\",LEFT(L197,LEN(L197)-1)&\"y\",IF(L197=RIGHT(A197,5)&\"y\",IFERROR(SMALL('Data eshop'!D:D,COUNTIF('Data eshop'!D:D,\"<\"&(LEFT(L197,LEN(L197)-1)*1))),\"\"),IF(ISERROR(IF(VLOOKUP(M197+1,'Data eshop'!C:D,2,FALSE)='Řádky zakázky'!L197,L197,L197&\"x\")),IF(RIGHT(L197,1)=\"y\",\"\",L197&\"x\"),IF(VLOOKUP(M197+1,'Data eshop'!C:D,2,FALSE)='Řádky zakázky'!L197,L197,L197&\"x\")))))","v":"0xxxxxxxxxxxxxxxxxxxxxxxxxxxxxxxxxxxxxxxxxxxxxxxxxxxxxxxxxxxxxxxxxxxxxxxxxxxxxxxxxxxxxxxxxxxxxxxxxxxxxxxxxxxxxxxxxxxxxxxxxxxxxxxxxxxxxxxxxxxxxxxxxxxxxxxxxxxxxxxxxxxxxxxxxxxxxxxxxxxxxxxxxxxxxxxxxxxx"},1,{"$f":"IF(A198=\"\",\"\",VLOOKUP(RIGHT(A198,5)*1,'Data eshop'!D:W,17,FALSE))","v":{"$error":"#VALUE!"}},{"$f":"VLOOKUP(A198,Zakázky!A:B,2,FALSE)","v":{"$error":"#N/A"}},""]
["19ESh0",{"$f":"IFERROR(IF(ISNUMBER(L199),VLOOKUP(L199&\"-\"&M199,'Data eshop'!B:W,16,FALSE),IF(RIGHT(L199,1)=\"x\",VLOOKUP(VLOOKUP(RIGHT(A199,5)*1,'Data eshop'!D:N,11,FALSE),DATA!G:I,3,FALSE),IF(RIGHT(L199,1)=\"y\",IF(VLOOKUP(RIGHT(A199,5)*1,'Data eshop'!D:O,12,FALSE)=IF(O199=\"T7\",DATA!$D$2,IF(O199=\"E87\",DATA!$D$5,IF(O199=\"P2\",DATA!$D$6,IF(O199=\"e2695\",DATA!$D$7,\"\")))),IF(N199>=IF(O199=\"T7\",DATA!$K$11,IF(O199=\"E87\",DATA!$L$11,IF(O199=\"P2\",DATA!$M$11,IF(O199=\"e2695\",DATA!$N$11,\"\")))),\"uni008\",\"uni001\"),IF(VLOOKUP(RIGHT(A199,5)*1,'Data eshop'!D:O,12,FALSE)=DATA!$D$3,IF(O199=\"T7\",IF(N199>=500,\"uni009\",\"uni002\"),\"x\"),IF(VLOOKUP(RIGHT(A199,5)*1,'Data eshop'!D:O,12,FALSE)=DATA!$D$4,\"uni010\",\"\"))),\"\"))),\"\")","v":""},{"$f":"IFERROR(IF(A199=\"\",\"\",IF(LEFT(B199,3)=\"uni\",1,VLOOKUP(RIGHT(A199,5)&\"-\"&B199,'Data eshop'!A:R,18,FALSE))),\"\")","v":""},"",{"$f":"IFERROR(IF(A199=\"\",\"\",IF(LEFT(B199,3)=\"uni\",VLOOKUP(B199,DATA!I:X,IF(O199=\"T7\",3,IF(O199=\"E87\",4,IF(O199=\"P2\",5,IF(O199=\"E2695\",6,\"\")))),FALSE),VLOOKUP(RIGHT(A199,5)&\"-\"&B199,'Data eshop'!A:S,19,FALSE))),\"\")","v":""},{"$f":"IFERROR(IF(A199=\"\",\"\",IF(LEFT(B199,3)=\"uni\",0,VLOOKUP(RIGHT(A199,5)&\"-\"&B199,'Data eshop'!A:S,16,FALSE))),\"\")","v":""},null,"",{"$f":"IF(H199=\"\",\"\",WORKDAY(TODAY()+IF(VLOOKUP(VLOOKUP(RIGHT(A199,5)*1,'Data eshop'!D:N,11,FALSE),DATA!A:B,2,FALSE)=7,14,1),5))","v":""},"","",{"$f":"IF(L198=\"\",\"\",IF(L198=RIGHT(A198,5)&\"x\",LEFT(L198,LEN(L198)-1)&\"y\",IF(L198=RIGHT(A198,5)&\"y\",IFERROR(SMALL('Data eshop'!D:D,COUNTIF('Data eshop'!D:D,\"<\"&(LEFT(L198,LEN(L198)-1)*1))),\"\"),IF(ISERROR(IF(VLOOKUP(M198+1,'Data eshop'!C:D,2,FALSE)='Řádky zakázky'!L198,L198,L198&\"x\")),IF(RIGHT(L198,1)=\"y\",\"\",L198&\"x\"),IF(VLOOKUP(M198+1,'Data eshop'!C:D,2,FALSE)='Řádky zakázky'!L198,L198,L198&\"x\")))))","v":"0xxxxxxxxxxxxxxxxxxxxxxxxxxxxxxxxxxxxxxxxxxxxxxxxxxxxxxxxxxxxxxxxxxxxxxxxxxxxxxxxxxxxxxxxxxxxxxxxxxxxxxxxxxxxxxxxxxxxxxxxxxxxxxxxxxxxxxxxxxxxxxxxxxxxxxxxxxxxxxxxxxxxxxxxxxxxxxxxxxxxxxxxxxxxxxxxxxxxx"},1,{"$f":"IF(A199=\"\",\"\",VLOOKUP(RIGHT(A199,5)*1,'Data eshop'!D:W,17,FALSE))","v":{"$error":"#VALUE!"}},{"$f":"VLOOKUP(A199,Zakázky!A:B,2,FALSE)","v":{"$error":"#N/A"}},""]
["19ESh0",{"$f":"IFERROR(IF(ISNUMBER(L200),VLOOKUP(L200&\"-\"&M200,'Data eshop'!B:W,16,FALSE),IF(RIGHT(L200,1)=\"x\",VLOOKUP(VLOOKUP(RIGHT(A200,5)*1,'Data eshop'!D:N,11,FALSE),DATA!G:I,3,FALSE),IF(RIGHT(L200,1)=\"y\",IF(VLOOKUP(RIGHT(A200,5)*1,'Data eshop'!D:O,12,FALSE)=IF(O200=\"T7\",DATA!$D$2,IF(O200=\"E87\",DATA!$D$5,IF(O200=\"P2\",DATA!$D$6,IF(O200=\"e2695\",DATA!$D$7,\"\")))),IF(N200>=IF(O200=\"T7\",DATA!$K$11,IF(O200=\"E87\",DATA!$L$11,IF(O200=\"P2\",DATA!$M$11,IF(O200=\"e2695\",DATA!$N$11,\"\")))),\"uni008\",\"uni001\"),IF(VLOOKUP(RIGHT(A200,5)*1,'Data eshop'!D:O,12,FALSE)=DATA!$D$3,IF(O200=\"T7\",IF(N200>=500,\"uni009\",\"uni002\"),\"x\"),IF(VLOOKUP(RIGHT(A200,5)*1,'Data eshop'!D:O,12,FALSE)=DATA!$D$4,\"uni010\",\"\"))),\"\"))),\"\")","v":""},{"$f":"IFERROR(IF(A200=\"\",\"\",IF(LEFT(B200,3)=\"uni\",1,VLOOKUP(RIGHT(A200,5)&\"-\"&B200,'Data eshop'!A:R,18,FALSE))),\"\")","v":""},"",{"$f":"IFERROR(IF(A200=\"\",\"\",IF(LEFT(B200,3)=\"uni\",VLOOKUP(B200,DATA!I:X,IF(O200=\"T7\",3,IF(O200=\"E87\",4,IF(O200=\"P2\",5,IF(O200=\"E2695\",6,\"\")))),FALSE),VLOOKUP(RIGHT(A200,5)&\"-\"&B200,'Data eshop'!A:S,19,FALSE))),\"\")","v":""},{"$f":"IFERROR(IF(A200=\"\",\"\",IF(LEFT(B200,3)=\"uni\",0,VLOOKUP(RIGHT(A200,5)&\"-\"&B200,'Data eshop'!A:S,16,FALSE))),\"\")","v":""},null,"",{"$f":"IF(H200=\"\",\"\",WORKDAY(TODAY()+IF(VLOOKUP(VLOOKUP(RIGHT(A200,5)*1,'Data eshop'!D:N,11,FALSE),DATA!A:B,2,FALSE)=7,14,1),5))","v":""},"","",{"$f":"IF(L199=\"\",\"\",IF(L199=RIGHT(A199,5)&\"x\",LEFT(L199,LEN(L199)-1)&\"y\",IF(L199=RIGHT(A199,5)&\"y\",IFERROR(SMALL('Data eshop'!D:D,COUNTIF('Data eshop'!D:D,\"<\"&(LEFT(L199,LEN(L199)-1)*1))),\"\"),IF(ISERROR(IF(VLOOKUP(M199+1,'Data eshop'!C:D,2,FALSE)='Řádky zakázky'!L199,L199,L199&\"x\")),IF(RIGHT(L199,1)=\"y\",\"\",L199&\"x\"),IF(VLOOKUP(M199+1,'Data eshop'!C:D,2,FALSE)='Řádky zakázky'!L199,L199,L199&\"x\")))))","v":"0xxxxxxxxxxxxxxxxxxxxxxxxxxxxxxxxxxxxxxxxxxxxxxxxxxxxxxxxxxxxxxxxxxxxxxxxxxxxxxxxxxxxxxxxxxxxxxxxxxxxxxxxxxxxxxxxxxxxxxxxxxxxxxxxxxxxxxxxxxxxxxxxxxxxxxxxxxxxxxxxxxxxxxxxxxxxxxxxxxxxxxxxxxxxxxxxxxxxxx"},1,{"$f":"IF(A200=\"\",\"\",VLOOKUP(RIGHT(A200,5)*1,'Data eshop'!D:W,17,FALSE))","v":{"$error":"#VALUE!"}},{"$f":"VLOOKUP(A200,Zakázky!A:B,2,FALSE)","v":{"$error":"#N/A"}},"","Roluj nahoru, až uvidíš žlutou"]
["19ESh0",{"$f":"IFERROR(IF(ISNUMBER(L201),VLOOKUP(L201&\"-\"&M201,'Data eshop'!B:W,16,FALSE),IF(RIGHT(L201,1)=\"x\",VLOOKUP(VLOOKUP(RIGHT(A201,5)*1,'Data eshop'!D:N,11,FALSE),DATA!G:I,3,FALSE),IF(RIGHT(L201,1)=\"y\",IF(VLOOKUP(RIGHT(A201,5)*1,'Data eshop'!D:O,12,FALSE)=IF(O201=\"T7\",DATA!$D$2,IF(O201=\"E87\",DATA!$D$5,IF(O201=\"P2\",DATA!$D$6,IF(O201=\"e2695\",DATA!$D$7,\"\")))),IF(N201>=IF(O201=\"T7\",DATA!$K$11,IF(O201=\"E87\",DATA!$L$11,IF(O201=\"P2\",DATA!$M$11,IF(O201=\"e2695\",DATA!$N$11,\"\")))),\"uni008\",\"uni001\"),IF(VLOOKUP(RIGHT(A201,5)*1,'Data eshop'!D:O,12,FALSE)=DATA!$D$3,IF(O201=\"T7\",IF(N201>=500,\"uni009\",\"uni002\"),\"x\"),IF(VLOOKUP(RIGHT(A201,5)*1,'Data eshop'!D:O,12,FALSE)=DATA!$D$4,\"uni010\",\"\"))),\"\"))),\"\")","v":""},{"$f":"IFERROR(IF(A201=\"\",\"\",IF(LEFT(B201,3)=\"uni\",1,VLOOKUP(RIGHT(A201,5)&\"-\"&B201,'Data eshop'!A:R,18,FALSE))),\"\")","v":""},"",{"$f":"IFERROR(IF(A201=\"\",\"\",IF(LEFT(B201,3)=\"uni\",VLOOKUP(B201,DATA!I:X,IF(O201=\"T7\",3,IF(O201=\"E87\",4,IF(O201=\"P2\",5,IF(O201=\"E2695\",6,\"\")))),FALSE),VLOOKUP(RIGHT(A201,5)&\"-\"&B201,'Data eshop'!A:S,19,FALSE))),\"\")","v":""},{"$f":"IFERROR(IF(A201=\"\",\"\",IF(LEFT(B201,3)=\"uni\",0,VLOOKUP(RIGHT(A201,5)&\"-\"&B201,'Data eshop'!A:S,16,FALSE))),\"\")","v":""},null,"",{"$f":"IF(H201=\"\",\"\",WORKDAY(TODAY()+IF(VLOOKUP(VLOOKUP(RIGHT(A201,5)*1,'Data eshop'!D:N,11,FALSE),DATA!A:B,2,FALSE)=7,14,1),5))","v":""},"","",{"$f":"IF(L200=\"\",\"\",IF(L200=RIGHT(A200,5)&\"x\",LEFT(L200,LEN(L200)-1)&\"y\",IF(L200=RIGHT(A200,5)&\"y\",IFERROR(SMALL('Data eshop'!D:D,COUNTIF('Data eshop'!D:D,\"<\"&(LEFT(L200,LEN(L200)-1)*1))),\"\"),IF(ISERROR(IF(VLOOKUP(M200+1,'Data eshop'!C:D,2,FALSE)='Řádky zakázky'!L200,L200,L200&\"x\")),IF(RIGHT(L200,1)=\"y\",\"\",L200&\"x\"),IF(VLOOKUP(M200+1,'Data eshop'!C:D,2,FALSE)='Řádky zakázky'!L200,L200,L200&\"x\")))))","v":"0xxxxxxxxxxxxxxxxxxxxxxxxxxxxxxxxxxxxxxxxxxxxxxxxxxxxxxxxxxxxxxxxxxxxxxxxxxxxxxxxxxxxxxxxxxxxxxxxxxxxxxxxxxxxxxxxxxxxxxxxxxxxxxxxxxxxxxxxxxxxxxxxxxxxxxxxxxxxxxxxxxxxxxxxxxxxxxxxxxxxxxxxxxxxxxxxxxxxxxx"},1,{"$f":"IF(A201=\"\",\"\",VLOOKUP(RIGHT(A201,5)*1,'Data eshop'!D:W,17,FALSE))","v":{"$error":"#VALUE!"}},{"$f":"VLOOKUP(A201,Zakázky!A:B,2,FALSE)","v":{"$error":"#N/A"}},""]
["19ESh0",{"$f":"IFERROR(IF(ISNUMBER(L202),VLOOKUP(L202&\"-\"&M202,'Data eshop'!B:W,16,FALSE),IF(RIGHT(L202,1)=\"x\",VLOOKUP(VLOOKUP(RIGHT(A202,5)*1,'Data eshop'!D:N,11,FALSE),DATA!G:I,3,FALSE),IF(RIGHT(L202,1)=\"y\",IF(VLOOKUP(RIGHT(A202,5)*1,'Data eshop'!D:O,12,FALSE)=IF(O202=\"T7\",DATA!$D$2,IF(O202=\"E87\",DATA!$D$5,IF(O202=\"P2\",DATA!$D$6,IF(O202=\"e2695\",DATA!$D$7,\"\")))),IF(N202>=IF(O202=\"T7\",DATA!$K$11,IF(O202=\"E87\",DATA!$L$11,IF(O202=\"P2\",DATA!$M$11,IF(O202=\"e2695\",DATA!$N$11,\"\")))),\"uni008\",\"uni001\"),IF(VLOOKUP(RIGHT(A202,5)*1,'Data eshop'!D:O,12,FALSE)=DATA!$D$3,IF(O202=\"T7\",IF(N202>=500,\"uni009\",\"uni002\"),\"x\"),IF(VLOOKUP(RIGHT(A202,5)*1,'Data eshop'!D:O,12,FALSE)=DATA!$D$4,\"uni010\",\"\"))),\"\"))),\"\")","v":""},{"$f":"IFERROR(IF(A202=\"\",\"\",IF(LEFT(B202,3)=\"uni\",1,VLOOKUP(RIGHT(A202,5)&\"-\"&B202,'Data eshop'!A:R,18,FALSE))),\"\")","v":""},"",{"$f":"IFERROR(IF(A202=\"\",\"\",IF(LEFT(B202,3)=\"uni\",VLOOKUP(B202,DATA!I:X,IF(O202=\"T7\",3,IF(O202=\"E87\",4,IF(O202=\"P2\",5,IF(O202=\"E2695\",6,\"\")))),FALSE),VLOOKUP(RIGHT(A202,5)&\"-\"&B202,'Data eshop'!A:S,19,FALSE))),\"\")","v":""},{"$f":"IFERROR(IF(A202=\"\",\"\",IF(LEFT(B202,3)=\"uni\",0,VLOOKUP(RIGHT(A202,5)&\"-\"&B202,'Data eshop'!A:S,16,FALSE))),\"\")","v":""},null,"",{"$f":"IF(H202=\"\",\"\",WORKDAY(TODAY()+IF(VLOOKUP(VLOOKUP(RIGHT(A202,5)*1,'Data eshop'!D:N,11,FALSE),DATA!A:B,2,FALSE)=7,14,1),5))","v":""},"","",{"$f":"IF(L201=\"\",\"\",IF(L201=RIGHT(A201,5)&\"x\",LEFT(L201,LEN(L201)-1)&\"y\",IF(L201=RIGHT(A201,5)&\"y\",IFERROR(SMALL('Data eshop'!D:D,COUNTIF('Data eshop'!D:D,\"<\"&(LEFT(L201,LEN(L201)-1)*1))),\"\"),IF(ISERROR(IF(VLOOKUP(M201+1,'Data eshop'!C:D,2,FALSE)='Řádky zakázky'!L201,L201,L201&\"x\")),IF(RIGHT(L201,1)=\"y\",\"\",L201&\"x\"),IF(VLOOKUP(M201+1,'Data eshop'!C:D,2,FALSE)='Řádky zakázky'!L201,L201,L201&\"x\")))))","v":"0xxxxxxxxxxxxxxxxxxxxxxxxxxxxxxxxxxxxxxxxxxxxxxxxxxxxxxxxxxxxxxxxxxxxxxxxxxxxxxxxxxxxxxxxxxxxxxxxxxxxxxxxxxxxxxxxxxxxxxxxxxxxxxxxxxxxxxxxxxxxxxxxxxxxxxxxxxxxxxxxxxxxxxxxxxxxxxxxxxxxxxxxxxxxxxxxxxxxxxxx"},1,{"$f":"IF(A202=\"\",\"\",VLOOKUP(RIGHT(A202,5)*1,'Data eshop'!D:W,17,FALSE))","v":{"$error":"#VALUE!"}},{"$f":"VLOOKUP(A202,Zakázky!A:B,2,FALSE)","v":{"$error":"#N/A"}},""]
["19ESh0",{"$f":"IFERROR(IF(ISNUMBER(L203),VLOOKUP(L203&\"-\"&M203,'Data eshop'!B:W,16,FALSE),IF(RIGHT(L203,1)=\"x\",VLOOKUP(VLOOKUP(RIGHT(A203,5)*1,'Data eshop'!D:N,11,FALSE),DATA!G:I,3,FALSE),IF(RIGHT(L203,1)=\"y\",IF(VLOOKUP(RIGHT(A203,5)*1,'Data eshop'!D:O,12,FALSE)=IF(O203=\"T7\",DATA!$D$2,IF(O203=\"E87\",DATA!$D$5,IF(O203=\"P2\",DATA!$D$6,IF(O203=\"e2695\",DATA!$D$7,\"\")))),IF(N203>=IF(O203=\"T7\",DATA!$K$11,IF(O203=\"E87\",DATA!$L$11,IF(O203=\"P2\",DATA!$M$11,IF(O203=\"e2695\",DATA!$N$11,\"\")))),\"uni008\",\"uni001\"),IF(VLOOKUP(RIGHT(A203,5)*1,'Data eshop'!D:O,12,FALSE)=DATA!$D$3,IF(O203=\"T7\",IF(N203>=500,\"uni009\",\"uni002\"),\"x\"),IF(VLOOKUP(RIGHT(A203,5)*1,'Data eshop'!D:O,12,FALSE)=DATA!$D$4,\"uni010\",\"\"))),\"\"))),\"\")","v":""},{"$f":"IFERROR(IF(A203=\"\",\"\",IF(LEFT(B203,3)=\"uni\",1,VLOOKUP(RIGHT(A203,5)&\"-\"&B203,'Data eshop'!A:R,18,FALSE))),\"\")","v":""},"",{"$f":"IFERROR(IF(A203=\"\",\"\",IF(LEFT(B203,3)=\"uni\",VLOOKUP(B203,DATA!I:X,IF(O203=\"T7\",3,IF(O203=\"E87\",4,IF(O203=\"P2\",5,IF(O203=\"E2695\",6,\"\")))),FALSE),VLOOKUP(RIGHT(A203,5)&\"-\"&B203,'Data eshop'!A:S,19,FALSE))),\"\")","v":""},{"$f":"IFERROR(IF(A203=\"\",\"\",IF(LEFT(B203,3)=\"uni\",0,VLOOKUP(RIGHT(A203,5)&\"-\"&B203,'Data eshop'!A:S,16,FALSE))),\"\")","v":""},null,"",{"$f":"IF(H203=\"\",\"\",WORKDAY(TODAY()+IF(VLOOKUP(VLOOKUP(RIGHT(A203,5)*1,'Data eshop'!D:N,11,FALSE),DATA!A:B,2,FALSE)=7,14,1),5))","v":""},"","",{"$f":"IF(L202=\"\",\"\",IF(L202=RIGHT(A202,5)&\"x\",LEFT(L202,LEN(L202)-1)&\"y\",IF(L202=RIGHT(A202,5)&\"y\",IFERROR(SMALL('Data eshop'!D:D,COUNTIF('Data eshop'!D:D,\"<\"&(LEFT(L202,LEN(L202)-1)*1))),\"\"),IF(ISERROR(IF(VLOOKUP(M202+1,'Data eshop'!C:D,2,FALSE)='Řádky zakázky'!L202,L202,L202&\"x\")),IF(RIGHT(L202,1)=\"y\",\"\",L202&\"x\"),IF(VLOOKUP(M202+1,'Data eshop'!C:D,2,FALSE)='Řádky zakázky'!L202,L202,L202&\"x\")))))","v":"0xxxxxxxxxxxxxxxxxxxxxxxxxxxxxxxxxxxxxxxxxxxxxxxxxxxxxxxxxxxxxxxxxxxxxxxxxxxxxxxxxxxxxxxxxxxxxxxxxxxxxxxxxxxxxxxxxxxxxxxxxxxxxxxxxxxxxxxxxxxxxxxxxxxxxxxxxxxxxxxxxxxxxxxxxxxxxxxxxxxxxxxxxxxxxxxxxxxxxxxxx"},1,{"$f":"IF(A203=\"\",\"\",VLOOKUP(RIGHT(A203,5)*1,'Data eshop'!D:W,17,FALSE))","v":{"$error":"#VALUE!"}},{"$f":"VLOOKUP(A203,Zakázky!A:B,2,FALSE)","v":{"$error":"#N/A"}},""]
["19ESh0",{"$f":"IFERROR(IF(ISNUMBER(L204),VLOOKUP(L204&\"-\"&M204,'Data eshop'!B:W,16,FALSE),IF(RIGHT(L204,1)=\"x\",VLOOKUP(VLOOKUP(RIGHT(A204,5)*1,'Data eshop'!D:N,11,FALSE),DATA!G:I,3,FALSE),IF(RIGHT(L204,1)=\"y\",IF(VLOOKUP(RIGHT(A204,5)*1,'Data eshop'!D:O,12,FALSE)=IF(O204=\"T7\",DATA!$D$2,IF(O204=\"E87\",DATA!$D$5,IF(O204=\"P2\",DATA!$D$6,IF(O204=\"e2695\",DATA!$D$7,\"\")))),IF(N204>=IF(O204=\"T7\",DATA!$K$11,IF(O204=\"E87\",DATA!$L$11,IF(O204=\"P2\",DATA!$M$11,IF(O204=\"e2695\",DATA!$N$11,\"\")))),\"uni008\",\"uni001\"),IF(VLOOKUP(RIGHT(A204,5)*1,'Data eshop'!D:O,12,FALSE)=DATA!$D$3,IF(O204=\"T7\",IF(N204>=500,\"uni009\",\"uni002\"),\"x\"),IF(VLOOKUP(RIGHT(A204,5)*1,'Data eshop'!D:O,12,FALSE)=DATA!$D$4,\"uni010\",\"\"))),\"\"))),\"\")","v":""},{"$f":"IFERROR(IF(A204=\"\",\"\",IF(LEFT(B204,3)=\"uni\",1,VLOOKUP(RIGHT(A204,5)&\"-\"&B204,'Data eshop'!A:R,18,FALSE))),\"\")","v":""},"",{"$f":"IFERROR(IF(A204=\"\",\"\",IF(LEFT(B204,3)=\"uni\",VLOOKUP(B204,DATA!I:X,IF(O204=\"T7\",3,IF(O204=\"E87\",4,IF(O204=\"P2\",5,IF(O204=\"E2695\",6,\"\")))),FALSE),VLOOKUP(RIGHT(A204,5)&\"-\"&B204,'Data eshop'!A:S,19,FALSE))),\"\")","v":""},{"$f":"IFERROR(IF(A204=\"\",\"\",IF(LEFT(B204,3)=\"uni\",0,VLOOKUP(RIGHT(A204,5)&\"-\"&B204,'Data eshop'!A:S,16,FALSE))),\"\")","v":""},null,"",{"$f":"IF(H204=\"\",\"\",WORKDAY(TODAY()+IF(VLOOKUP(VLOOKUP(RIGHT(A204,5)*1,'Data eshop'!D:N,11,FALSE),DATA!A:B,2,FALSE)=7,14,1),5))","v":""},"","",{"$f":"IF(L203=\"\",\"\",IF(L203=RIGHT(A203,5)&\"x\",LEFT(L203,LEN(L203)-1)&\"y\",IF(L203=RIGHT(A203,5)&\"y\",IFERROR(SMALL('Data eshop'!D:D,COUNTIF('Data eshop'!D:D,\"<\"&(LEFT(L203,LEN(L203)-1)*1))),\"\"),IF(ISERROR(IF(VLOOKUP(M203+1,'Data eshop'!C:D,2,FALSE)='Řádky zakázky'!L203,L203,L203&\"x\")),IF(RIGHT(L203,1)=\"y\",\"\",L203&\"x\"),IF(VLOOKUP(M203+1,'Data eshop'!C:D,2,FALSE)='Řádky zakázky'!L203,L203,L203&\"x\")))))","v":"0xxxxxxxxxxxxxxxxxxxxxxxxxxxxxxxxxxxxxxxxxxxxxxxxxxxxxxxxxxxxxxxxxxxxxxxxxxxxxxxxxxxxxxxxxxxxxxxxxxxxxxxxxxxxxxxxxxxxxxxxxxxxxxxxxxxxxxxxxxxxxxxxxxxxxxxxxxxxxxxxxxxxxxxxxxxxxxxxxxxxxxxxxxxxxxxxxxxxxxxxxx"},1,{"$f":"IF(A204=\"\",\"\",VLOOKUP(RIGHT(A204,5)*1,'Data eshop'!D:W,17,FALSE))","v":{"$error":"#VALUE!"}},{"$f":"VLOOKUP(A204,Zakázky!A:B,2,FALSE)","v":{"$error":"#N/A"}},"","Roluj nahoru, až uvidíš žlutou"]
["19ESh0",{"$f":"IFERROR(IF(ISNUMBER(L205),VLOOKUP(L205&\"-\"&M205,'Data eshop'!B:W,16,FALSE),IF(RIGHT(L205,1)=\"x\",VLOOKUP(VLOOKUP(RIGHT(A205,5)*1,'Data eshop'!D:N,11,FALSE),DATA!G:I,3,FALSE),IF(RIGHT(L205,1)=\"y\",IF(VLOOKUP(RIGHT(A205,5)*1,'Data eshop'!D:O,12,FALSE)=IF(O205=\"T7\",DATA!$D$2,IF(O205=\"E87\",DATA!$D$5,IF(O205=\"P2\",DATA!$D$6,IF(O205=\"e2695\",DATA!$D$7,\"\")))),IF(N205>=IF(O205=\"T7\",DATA!$K$11,IF(O205=\"E87\",DATA!$L$11,IF(O205=\"P2\",DATA!$M$11,IF(O205=\"e2695\",DATA!$N$11,\"\")))),\"uni008\",\"uni001\"),IF(VLOOKUP(RIGHT(A205,5)*1,'Data eshop'!D:O,12,FALSE)=DATA!$D$3,IF(O205=\"T7\",IF(N205>=500,\"uni009\",\"uni002\"),\"x\"),IF(VLOOKUP(RIGHT(A205,5)*1,'Data eshop'!D:O,12,FALSE)=DATA!$D$4,\"uni010\",\"\"))),\"\"))),\"\")","v":""},{"$f":"IFERROR(IF(A205=\"\",\"\",IF(LEFT(B205,3)=\"uni\",1,VLOOKUP(RIGHT(A205,5)&\"-\"&B205,'Data eshop'!A:R,18,FALSE))),\"\")","v":""},"",{"$f":"IFERROR(IF(A205=\"\",\"\",IF(LEFT(B205,3)=\"uni\",VLOOKUP(B205,DATA!I:X,IF(O205=\"T7\",3,IF(O205=\"E87\",4,IF(O205=\"P2\",5,IF(O205=\"E2695\",6,\"\")))),FALSE),VLOOKUP(RIGHT(A205,5)&\"-\"&B205,'Data eshop'!A:S,19,FALSE))),\"\")","v":""},{"$f":"IFERROR(IF(A205=\"\",\"\",IF(LEFT(B205,3)=\"uni\",0,VLOOKUP(RIGHT(A205,5)&\"-\"&B205,'Data eshop'!A:S,16,FALSE))),\"\")","v":""},null,"",{"$f":"IF(H205=\"\",\"\",WORKDAY(TODAY()+IF(VLOOKUP(VLOOKUP(RIGHT(A205,5)*1,'Data eshop'!D:N,11,FALSE),DATA!A:B,2,FALSE)=7,14,1),5))","v":""},"","",{"$f":"IF(L204=\"\",\"\",IF(L204=RIGHT(A204,5)&\"x\",LEFT(L204,LEN(L204)-1)&\"y\",IF(L204=RIGHT(A204,5)&\"y\",IFERROR(SMALL('Data eshop'!D:D,COUNTIF('Data eshop'!D:D,\"<\"&(LEFT(L204,LEN(L204)-1)*1))),\"\"),IF(ISERROR(IF(VLOOKUP(M204+1,'Data eshop'!C:D,2,FALSE)='Řádky zakázky'!L204,L204,L204&\"x\")),IF(RIGHT(L204,1)=\"y\",\"\",L204&\"x\"),IF(VLOOKUP(M204+1,'Data eshop'!C:D,2,FALSE)='Řádky zakázky'!L204,L204,L204&\"x\")))))","v":"0xxxxxxxxxxxxxxxxxxxxxxxxxxxxxxxxxxxxxxxxxxxxxxxxxxxxxxxxxxxxxxxxxxxxxxxxxxxxxxxxxxxxxxxxxxxxxxxxxxxxxxxxxxxxxxxxxxxxxxxxxxxxxxxxxxxxxxxxxxxxxxxxxxxxxxxxxxxxxxxxxxxxxxxxxxxxxxxxxxxxxxxxxxxxxxxxxxxxxxxxxxx"},1,{"$f":"IF(A205=\"\",\"\",VLOOKUP(RIGHT(A205,5)*1,'Data eshop'!D:W,17,FALSE))","v":{"$error":"#VALUE!"}},{"$f":"VLOOKUP(A205,Zakázky!A:B,2,FALSE)","v":{"$error":"#N/A"}},""]
["19ESh0",{"$f":"IFERROR(IF(ISNUMBER(L206),VLOOKUP(L206&\"-\"&M206,'Data eshop'!B:W,16,FALSE),IF(RIGHT(L206,1)=\"x\",VLOOKUP(VLOOKUP(RIGHT(A206,5)*1,'Data eshop'!D:N,11,FALSE),DATA!G:I,3,FALSE),IF(RIGHT(L206,1)=\"y\",IF(VLOOKUP(RIGHT(A206,5)*1,'Data eshop'!D:O,12,FALSE)=IF(O206=\"T7\",DATA!$D$2,IF(O206=\"E87\",DATA!$D$5,IF(O206=\"P2\",DATA!$D$6,IF(O206=\"e2695\",DATA!$D$7,\"\")))),IF(N206>=IF(O206=\"T7\",DATA!$K$11,IF(O206=\"E87\",DATA!$L$11,IF(O206=\"P2\",DATA!$M$11,IF(O206=\"e2695\",DATA!$N$11,\"\")))),\"uni008\",\"uni001\"),IF(VLOOKUP(RIGHT(A206,5)*1,'Data eshop'!D:O,12,FALSE)=DATA!$D$3,IF(O206=\"T7\",IF(N206>=500,\"uni009\",\"uni002\"),\"x\"),IF(VLOOKUP(RIGHT(A206,5)*1,'Data eshop'!D:O,12,FALSE)=DATA!$D$4,\"uni010\",\"\"))),\"\"))),\"\")","v":""},{"$f":"IFERROR(IF(A206=\"\",\"\",IF(LEFT(B206,3)=\"uni\",1,VLOOKUP(RIGHT(A206,5)&\"-\"&B206,'Data eshop'!A:R,18,FALSE))),\"\")","v":""},"",{"$f":"IFERROR(IF(A206=\"\",\"\",IF(LEFT(B206,3)=\"uni\",VLOOKUP(B206,DATA!I:X,IF(O206=\"T7\",3,IF(O206=\"E87\",4,IF(O206=\"P2\",5,IF(O206=\"E2695\",6,\"\")))),FALSE),VLOOKUP(RIGHT(A206,5)&\"-\"&B206,'Data eshop'!A:S,19,FALSE))),\"\")","v":""},{"$f":"IFERROR(IF(A206=\"\",\"\",IF(LEFT(B206,3)=\"uni\",0,VLOOKUP(RIGHT(A206,5)&\"-\"&B206,'Data eshop'!A:S,16,FALSE))),\"\")","v":""},null,"",{"$f":"IF(H206=\"\",\"\",WORKDAY(TODAY()+IF(VLOOKUP(VLOOKUP(RIGHT(A206,5)*1,'Data eshop'!D:N,11,FALSE),DATA!A:B,2,FALSE)=7,14,1),5))","v":""},"","",{"$f":"IF(L205=\"\",\"\",IF(L205=RIGHT(A205,5)&\"x\",LEFT(L205,LEN(L205)-1)&\"y\",IF(L205=RIGHT(A205,5)&\"y\",IFERROR(SMALL('Data eshop'!D:D,COUNTIF('Data eshop'!D:D,\"<\"&(LEFT(L205,LEN(L205)-1)*1))),\"\"),IF(ISERROR(IF(VLOOKUP(M205+1,'Data eshop'!C:D,2,FALSE)='Řádky zakázky'!L205,L205,L205&\"x\")),IF(RIGHT(L205,1)=\"y\",\"\",L205&\"x\"),IF(VLOOKUP(M205+1,'Data eshop'!C:D,2,FALSE)='Řádky zakázky'!L205,L205,L205&\"x\")))))","v":"0xxxxxxxxxxxxxxxxxxxxxxxxxxxxxxxxxxxxxxxxxxxxxxxxxxxxxxxxxxxxxxxxxxxxxxxxxxxxxxxxxxxxxxxxxxxxxxxxxxxxxxxxxxxxxxxxxxxxxxxxxxxxxxxxxxxxxxxxxxxxxxxxxxxxxxxxxxxxxxxxxxxxxxxxxxxxxxxxxxxxxxxxxxxxxxxxxxxxxxxxxxxx"},1,{"$f":"IF(A206=\"\",\"\",VLOOKUP(RIGHT(A206,5)*1,'Data eshop'!D:W,17,FALSE))","v":{"$error":"#VALUE!"}},{"$f":"VLOOKUP(A206,Zakázky!A:B,2,FALSE)","v":{"$error":"#N/A"}},""]
["19ESh0",{"$f":"IFERROR(IF(ISNUMBER(L207),VLOOKUP(L207&\"-\"&M207,'Data eshop'!B:W,16,FALSE),IF(RIGHT(L207,1)=\"x\",VLOOKUP(VLOOKUP(RIGHT(A207,5)*1,'Data eshop'!D:N,11,FALSE),DATA!G:I,3,FALSE),IF(RIGHT(L207,1)=\"y\",IF(VLOOKUP(RIGHT(A207,5)*1,'Data eshop'!D:O,12,FALSE)=IF(O207=\"T7\",DATA!$D$2,IF(O207=\"E87\",DATA!$D$5,IF(O207=\"P2\",DATA!$D$6,IF(O207=\"e2695\",DATA!$D$7,\"\")))),IF(N207>=IF(O207=\"T7\",DATA!$K$11,IF(O207=\"E87\",DATA!$L$11,IF(O207=\"P2\",DATA!$M$11,IF(O207=\"e2695\",DATA!$N$11,\"\")))),\"uni008\",\"uni001\"),IF(VLOOKUP(RIGHT(A207,5)*1,'Data eshop'!D:O,12,FALSE)=DATA!$D$3,IF(O207=\"T7\",IF(N207>=500,\"uni009\",\"uni002\"),\"x\"),IF(VLOOKUP(RIGHT(A207,5)*1,'Data eshop'!D:O,12,FALSE)=DATA!$D$4,\"uni010\",\"\"))),\"\"))),\"\")","v":""},{"$f":"IFERROR(IF(A207=\"\",\"\",IF(LEFT(B207,3)=\"uni\",1,VLOOKUP(RIGHT(A207,5)&\"-\"&B207,'Data eshop'!A:R,18,FALSE))),\"\")","v":""},"",{"$f":"IFERROR(IF(A207=\"\",\"\",IF(LEFT(B207,3)=\"uni\",VLOOKUP(B207,DATA!I:X,IF(O207=\"T7\",3,IF(O207=\"E87\",4,IF(O207=\"P2\",5,IF(O207=\"E2695\",6,\"\")))),FALSE),VLOOKUP(RIGHT(A207,5)&\"-\"&B207,'Data eshop'!A:S,19,FALSE))),\"\")","v":""},{"$f":"IFERROR(IF(A207=\"\",\"\",IF(LEFT(B207,3)=\"uni\",0,VLOOKUP(RIGHT(A207,5)&\"-\"&B207,'Data eshop'!A:S,16,FALSE))),\"\")","v":""},null,"",{"$f":"IF(H207=\"\",\"\",WORKDAY(TODAY()+IF(VLOOKUP(VLOOKUP(RIGHT(A207,5)*1,'Data eshop'!D:N,11,FALSE),DATA!A:B,2,FALSE)=7,14,1),5))","v":""},"","",{"$f":"IF(L206=\"\",\"\",IF(L206=RIGHT(A206,5)&\"x\",LEFT(L206,LEN(L206)-1)&\"y\",IF(L206=RIGHT(A206,5)&\"y\",IFERROR(SMALL('Data eshop'!D:D,COUNTIF('Data eshop'!D:D,\"<\"&(LEFT(L206,LEN(L206)-1)*1))),\"\"),IF(ISERROR(IF(VLOOKUP(M206+1,'Data eshop'!C:D,2,FALSE)='Řádky zakázky'!L206,L206,L206&\"x\")),IF(RIGHT(L206,1)=\"y\",\"\",L206&\"x\"),IF(VLOOKUP(M206+1,'Data eshop'!C:D,2,FALSE)='Řádky zakázky'!L206,L206,L206&\"x\")))))","v":"0xxxxxxxxxxxxxxxxxxxxxxxxxxxxxxxxxxxxxxxxxxxxxxxxxxxxxxxxxxxxxxxxxxxxxxxxxxxxxxxxxxxxxxxxxxxxxxxxxxxxxxxxxxxxxxxxxxxxxxxxxxxxxxxxxxxxxxxxxxxxxxxxxxxxxxxxxxxxxxxxxxxxxxxxxxxxxxxxxxxxxxxxxxxxxxxxxxxxxxxxxxxxx"},1,{"$f":"IF(A207=\"\",\"\",VLOOKUP(RIGHT(A207,5)*1,'Data eshop'!D:W,17,FALSE))","v":{"$error":"#VALUE!"}},{"$f":"VLOOKUP(A207,Zakázky!A:B,2,FALSE)","v":{"$error":"#N/A"}},""]
["19ESh0",{"$f":"IFERROR(IF(ISNUMBER(L208),VLOOKUP(L208&\"-\"&M208,'Data eshop'!B:W,16,FALSE),IF(RIGHT(L208,1)=\"x\",VLOOKUP(VLOOKUP(RIGHT(A208,5)*1,'Data eshop'!D:N,11,FALSE),DATA!G:I,3,FALSE),IF(RIGHT(L208,1)=\"y\",IF(VLOOKUP(RIGHT(A208,5)*1,'Data eshop'!D:O,12,FALSE)=IF(O208=\"T7\",DATA!$D$2,IF(O208=\"E87\",DATA!$D$5,IF(O208=\"P2\",DATA!$D$6,IF(O208=\"e2695\",DATA!$D$7,\"\")))),IF(N208>=IF(O208=\"T7\",DATA!$K$11,IF(O208=\"E87\",DATA!$L$11,IF(O208=\"P2\",DATA!$M$11,IF(O208=\"e2695\",DATA!$N$11,\"\")))),\"uni008\",\"uni001\"),IF(VLOOKUP(RIGHT(A208,5)*1,'Data eshop'!D:O,12,FALSE)=DATA!$D$3,IF(O208=\"T7\",IF(N208>=500,\"uni009\",\"uni002\"),\"x\"),IF(VLOOKUP(RIGHT(A208,5)*1,'Data eshop'!D:O,12,FALSE)=DATA!$D$4,\"uni010\",\"\"))),\"\"))),\"\")","v":""},{"$f":"IFERROR(IF(A208=\"\",\"\",IF(LEFT(B208,3)=\"uni\",1,VLOOKUP(RIGHT(A208,5)&\"-\"&B208,'Data eshop'!A:R,18,FALSE))),\"\")","v":""},"",{"$f":"IFERROR(IF(A208=\"\",\"\",IF(LEFT(B208,3)=\"uni\",VLOOKUP(B208,DATA!I:X,IF(O208=\"T7\",3,IF(O208=\"E87\",4,IF(O208=\"P2\",5,IF(O208=\"E2695\",6,\"\")))),FALSE),VLOOKUP(RIGHT(A208,5)&\"-\"&B208,'Data eshop'!A:S,19,FALSE))),\"\")","v":""},{"$f":"IFERROR(IF(A208=\"\",\"\",IF(LEFT(B208,3)=\"uni\",0,VLOOKUP(RIGHT(A208,5)&\"-\"&B208,'Data eshop'!A:S,16,FALSE))),\"\")","v":""},null,"",{"$f":"IF(H208=\"\",\"\",WORKDAY(TODAY()+IF(VLOOKUP(VLOOKUP(RIGHT(A208,5)*1,'Data eshop'!D:N,11,FALSE),DATA!A:B,2,FALSE)=7,14,1),5))","v":""},"","",{"$f":"IF(L207=\"\",\"\",IF(L207=RIGHT(A207,5)&\"x\",LEFT(L207,LEN(L207)-1)&\"y\",IF(L207=RIGHT(A207,5)&\"y\",IFERROR(SMALL('Data eshop'!D:D,COUNTIF('Data eshop'!D:D,\"<\"&(LEFT(L207,LEN(L207)-1)*1))),\"\"),IF(ISERROR(IF(VLOOKUP(M207+1,'Data eshop'!C:D,2,FALSE)='Řádky zakázky'!L207,L207,L207&\"x\")),IF(RIGHT(L207,1)=\"y\",\"\",L207&\"x\"),IF(VLOOKUP(M207+1,'Data eshop'!C:D,2,FALSE)='Řádky zakázky'!L207,L207,L207&\"x\")))))","v":"0xxxxxxxxxxxxxxxxxxxxxxxxxxxxxxxxxxxxxxxxxxxxxxxxxxxxxxxxxxxxxxxxxxxxxxxxxxxxxxxxxxxxxxxxxxxxxxxxxxxxxxxxxxxxxxxxxxxxxxxxxxxxxxxxxxxxxxxxxxxxxxxxxxxxxxxxxxxxxxxxxxxxxxxxxxxxxxxxxxxxxxxxxxxxxxxxxxxxxxxxxxxxxx"},1,{"$f":"IF(A208=\"\",\"\",VLOOKUP(RIGHT(A208,5)*1,'Data eshop'!D:W,17,FALSE))","v":{"$error":"#VALUE!"}},{"$f":"VLOOKUP(A208,Zakázky!A:B,2,FALSE)","v":{"$error":"#N/A"}},"","Roluj nahoru, až uvidíš žlutou"]
["19ESh0",{"$f":"IFERROR(IF(ISNUMBER(L209),VLOOKUP(L209&\"-\"&M209,'Data eshop'!B:W,16,FALSE),IF(RIGHT(L209,1)=\"x\",VLOOKUP(VLOOKUP(RIGHT(A209,5)*1,'Data eshop'!D:N,11,FALSE),DATA!G:I,3,FALSE),IF(RIGHT(L209,1)=\"y\",IF(VLOOKUP(RIGHT(A209,5)*1,'Data eshop'!D:O,12,FALSE)=IF(O209=\"T7\",DATA!$D$2,IF(O209=\"E87\",DATA!$D$5,IF(O209=\"P2\",DATA!$D$6,IF(O209=\"e2695\",DATA!$D$7,\"\")))),IF(N209>=IF(O209=\"T7\",DATA!$K$11,IF(O209=\"E87\",DATA!$L$11,IF(O209=\"P2\",DATA!$M$11,IF(O209=\"e2695\",DATA!$N$11,\"\")))),\"uni008\",\"uni001\"),IF(VLOOKUP(RIGHT(A209,5)*1,'Data eshop'!D:O,12,FALSE)=DATA!$D$3,IF(O209=\"T7\",IF(N209>=500,\"uni009\",\"uni002\"),\"x\"),IF(VLOOKUP(RIGHT(A209,5)*1,'Data eshop'!D:O,12,FALSE)=DATA!$D$4,\"uni010\",\"\"))),\"\"))),\"\")","v":""},{"$f":"IFERROR(IF(A209=\"\",\"\",IF(LEFT(B209,3)=\"uni\",1,VLOOKUP(RIGHT(A209,5)&\"-\"&B209,'Data eshop'!A:R,18,FALSE))),\"\")","v":""},"",{"$f":"IFERROR(IF(A209=\"\",\"\",IF(LEFT(B209,3)=\"uni\",VLOOKUP(B209,DATA!I:X,IF(O209=\"T7\",3,IF(O209=\"E87\",4,IF(O209=\"P2\",5,IF(O209=\"E2695\",6,\"\")))),FALSE),VLOOKUP(RIGHT(A209,5)&\"-\"&B209,'Data eshop'!A:S,19,FALSE))),\"\")","v":""},{"$f":"IFERROR(IF(A209=\"\",\"\",IF(LEFT(B209,3)=\"uni\",0,VLOOKUP(RIGHT(A209,5)&\"-\"&B209,'Data eshop'!A:S,16,FALSE))),\"\")","v":""},null,"",{"$f":"IF(H209=\"\",\"\",WORKDAY(TODAY()+IF(VLOOKUP(VLOOKUP(RIGHT(A209,5)*1,'Data eshop'!D:N,11,FALSE),DATA!A:B,2,FALSE)=7,14,1),5))","v":""},"","",{"$f":"IF(L208=\"\",\"\",IF(L208=RIGHT(A208,5)&\"x\",LEFT(L208,LEN(L208)-1)&\"y\",IF(L208=RIGHT(A208,5)&\"y\",IFERROR(SMALL('Data eshop'!D:D,COUNTIF('Data eshop'!D:D,\"<\"&(LEFT(L208,LEN(L208)-1)*1))),\"\"),IF(ISERROR(IF(VLOOKUP(M208+1,'Data eshop'!C:D,2,FALSE)='Řádky zakázky'!L208,L208,L208&\"x\")),IF(RIGHT(L208,1)=\"y\",\"\",L208&\"x\"),IF(VLOOKUP(M208+1,'Data eshop'!C:D,2,FALSE)='Řádky zakázky'!L208,L208,L208&\"x\")))))","v":"0xxxxxxxxxxxxxxxxxxxxxxxxxxxxxxxxxxxxxxxxxxxxxxxxxxxxxxxxxxxxxxxxxxxxxxxxxxxxxxxxxxxxxxxxxxxxxxxxxxxxxxxxxxxxxxxxxxxxxxxxxxxxxxxxxxxxxxxxxxxxxxxxxxxxxxxxxxxxxxxxxxxxxxxxxxxxxxxxxxxxxxxxxxxxxxxxxxxxxxxxxxxxxxx"},{"$f":"IF(L209=\"\",\"\",IF(RIGHT(L209,1)=\"x\",M208,IF(RIGHT(L209,1)=\"y\",M208,M208+1)))","v":1},{"$f":"IF(A209=\"\",\"\",VLOOKUP(RIGHT(A209,5)*1,'Data eshop'!D:W,17,FALSE))","v":{"$error":"#VALUE!"}},{"$f":"VLOOKUP(A209,Zakázky!A:B,2,FALSE)","v":{"$error":"#N/A"}},""]
["19ESh0",{"$f":"IFERROR(IF(ISNUMBER(L210),VLOOKUP(L210&\"-\"&M210,'Data eshop'!B:W,16,FALSE),IF(RIGHT(L210,1)=\"x\",VLOOKUP(VLOOKUP(RIGHT(A210,5)*1,'Data eshop'!D:N,11,FALSE),DATA!G:I,3,FALSE),IF(RIGHT(L210,1)=\"y\",IF(VLOOKUP(RIGHT(A210,5)*1,'Data eshop'!D:O,12,FALSE)=IF(O210=\"T7\",DATA!$D$2,IF(O210=\"E87\",DATA!$D$5,IF(O210=\"P2\",DATA!$D$6,IF(O210=\"e2695\",DATA!$D$7,\"\")))),IF(N210>=IF(O210=\"T7\",DATA!$K$11,IF(O210=\"E87\",DATA!$L$11,IF(O210=\"P2\",DATA!$M$11,IF(O210=\"e2695\",DATA!$N$11,\"\")))),\"uni008\",\"uni001\"),IF(VLOOKUP(RIGHT(A210,5)*1,'Data eshop'!D:O,12,FALSE)=DATA!$D$3,IF(O210=\"T7\",IF(N210>=500,\"uni009\",\"uni002\"),\"x\"),IF(VLOOKUP(RIGHT(A210,5)*1,'Data eshop'!D:O,12,FALSE)=DATA!$D$4,\"uni010\",\"\"))),\"\"))),\"\")","v":""},{"$f":"IFERROR(IF(A210=\"\",\"\",IF(LEFT(B210,3)=\"uni\",1,VLOOKUP(RIGHT(A210,5)&\"-\"&B210,'Data eshop'!A:R,18,FALSE))),\"\")","v":""},"",{"$f":"IFERROR(IF(A210=\"\",\"\",IF(LEFT(B210,3)=\"uni\",VLOOKUP(B210,DATA!I:X,IF(O210=\"T7\",3,IF(O210=\"E87\",4,IF(O210=\"P2\",5,IF(O210=\"E2695\",6,\"\")))),FALSE),VLOOKUP(RIGHT(A210,5)&\"-\"&B210,'Data eshop'!A:S,19,FALSE))),\"\")","v":""},{"$f":"IFERROR(IF(A210=\"\",\"\",IF(LEFT(B210,3)=\"uni\",0,VLOOKUP(RIGHT(A210,5)&\"-\"&B210,'Data eshop'!A:S,16,FALSE))),\"\")","v":""},null,"",{"$f":"IF(H210=\"\",\"\",WORKDAY(TODAY()+IF(VLOOKUP(VLOOKUP(RIGHT(A210,5)*1,'Data eshop'!D:N,11,FALSE),DATA!A:B,2,FALSE)=7,14,1),5))","v":""},"","",{"$f":"IF(L209=\"\",\"\",IF(L209=RIGHT(A209,5)&\"x\",LEFT(L209,LEN(L209)-1)&\"y\",IF(L209=RIGHT(A209,5)&\"y\",IFERROR(SMALL('Data eshop'!D:D,COUNTIF('Data eshop'!D:D,\"<\"&(LEFT(L209,LEN(L209)-1)*1))),\"\"),IF(ISERROR(IF(VLOOKUP(M209+1,'Data eshop'!C:D,2,FALSE)='Řádky zakázky'!L209,L209,L209&\"x\")),IF(RIGHT(L209,1)=\"y\",\"\",L209&\"x\"),IF(VLOOKUP(M209+1,'Data eshop'!C:D,2,FALSE)='Řádky zakázky'!L209,L209,L209&\"x\")))))","v":"0xxxxxxxxxxxxxxxxxxxxxxxxxxxxxxxxxxxxxxxxxxxxxxxxxxxxxxxxxxxxxxxxxxxxxxxxxxxxxxxxxxxxxxxxxxxxxxxxxxxxxxxxxxxxxxxxxxxxxxxxxxxxxxxxxxxxxxxxxxxxxxxxxxxxxxxxxxxxxxxxxxxxxxxxxxxxxxxxxxxxxxxxxxxxxxxxxxxxxxxxxxxxxxxx"},1,{"$f":"IF(A210=\"\",\"\",VLOOKUP(RIGHT(A210,5)*1,'Data eshop'!D:W,17,FALSE))","v":{"$error":"#VALUE!"}},{"$f":"VLOOKUP(A210,Zakázky!A:B,2,FALSE)","v":{"$error":"#N/A"}},""]
["19ESh0",{"$f":"IFERROR(IF(ISNUMBER(L211),VLOOKUP(L211&\"-\"&M211,'Data eshop'!B:W,16,FALSE),IF(RIGHT(L211,1)=\"x\",VLOOKUP(VLOOKUP(RIGHT(A211,5)*1,'Data eshop'!D:N,11,FALSE),DATA!G:I,3,FALSE),IF(RIGHT(L211,1)=\"y\",IF(VLOOKUP(RIGHT(A211,5)*1,'Data eshop'!D:O,12,FALSE)=IF(O211=\"T7\",DATA!$D$2,IF(O211=\"E87\",DATA!$D$5,IF(O211=\"P2\",DATA!$D$6,IF(O211=\"e2695\",DATA!$D$7,\"\")))),IF(N211>=IF(O211=\"T7\",DATA!$K$11,IF(O211=\"E87\",DATA!$L$11,IF(O211=\"P2\",DATA!$M$11,IF(O211=\"e2695\",DATA!$N$11,\"\")))),\"uni008\",\"uni001\"),IF(VLOOKUP(RIGHT(A211,5)*1,'Data eshop'!D:O,12,FALSE)=DATA!$D$3,IF(O211=\"T7\",IF(N211>=500,\"uni009\",\"uni002\"),\"x\"),IF(VLOOKUP(RIGHT(A211,5)*1,'Data eshop'!D:O,12,FALSE)=DATA!$D$4,\"uni010\",\"\"))),\"\"))),\"\")","v":""},{"$f":"IFERROR(IF(A211=\"\",\"\",IF(LEFT(B211,3)=\"uni\",1,VLOOKUP(RIGHT(A211,5)&\"-\"&B211,'Data eshop'!A:R,18,FALSE))),\"\")","v":""},"",{"$f":"IFERROR(IF(A211=\"\",\"\",IF(LEFT(B211,3)=\"uni\",VLOOKUP(B211,DATA!I:X,IF(O211=\"T7\",3,IF(O211=\"E87\",4,IF(O211=\"P2\",5,IF(O211=\"E2695\",6,\"\")))),FALSE),VLOOKUP(RIGHT(A211,5)&\"-\"&B211,'Data eshop'!A:S,19,FALSE))),\"\")","v":""},{"$f":"IFERROR(IF(A211=\"\",\"\",IF(LEFT(B211,3)=\"uni\",0,VLOOKUP(RIGHT(A211,5)&\"-\"&B211,'Data eshop'!A:S,16,FALSE))),\"\")","v":""},null,"",{"$f":"IF(H211=\"\",\"\",WORKDAY(TODAY()+IF(VLOOKUP(VLOOKUP(RIGHT(A211,5)*1,'Data eshop'!D:N,11,FALSE),DATA!A:B,2,FALSE)=7,14,1),5))","v":""},"","",{"$f":"IF(L210=\"\",\"\",IF(L210=RIGHT(A210,5)&\"x\",LEFT(L210,LEN(L210)-1)&\"y\",IF(L210=RIGHT(A210,5)&\"y\",IFERROR(SMALL('Data eshop'!D:D,COUNTIF('Data eshop'!D:D,\"<\"&(LEFT(L210,LEN(L210)-1)*1))),\"\"),IF(ISERROR(IF(VLOOKUP(M210+1,'Data eshop'!C:D,2,FALSE)='Řádky zakázky'!L210,L210,L210&\"x\")),IF(RIGHT(L210,1)=\"y\",\"\",L210&\"x\"),IF(VLOOKUP(M210+1,'Data eshop'!C:D,2,FALSE)='Řádky zakázky'!L210,L210,L210&\"x\")))))","v":"0xxxxxxxxxxxxxxxxxxxxxxxxxxxxxxxxxxxxxxxxxxxxxxxxxxxxxxxxxxxxxxxxxxxxxxxxxxxxxxxxxxxxxxxxxxxxxxxxxxxxxxxxxxxxxxxxxxxxxxxxxxxxxxxxxxxxxxxxxxxxxxxxxxxxxxxxxxxxxxxxxxxxxxxxxxxxxxxxxxxxxxxxxxxxxxxxxxxxxxxxxxxxxxxxx"},1,{"$f":"IF(A211=\"\",\"\",VLOOKUP(RIGHT(A211,5)*1,'Data eshop'!D:W,17,FALSE))","v":{"$error":"#VALUE!"}},{"$f":"VLOOKUP(A211,Zakázky!A:B,2,FALSE)","v":{"$error":"#N/A"}},""]
["19ESh0",{"$f":"IFERROR(IF(ISNUMBER(L212),VLOOKUP(L212&\"-\"&M212,'Data eshop'!B:W,16,FALSE),IF(RIGHT(L212,1)=\"x\",VLOOKUP(VLOOKUP(RIGHT(A212,5)*1,'Data eshop'!D:N,11,FALSE),DATA!G:I,3,FALSE),IF(RIGHT(L212,1)=\"y\",IF(VLOOKUP(RIGHT(A212,5)*1,'Data eshop'!D:O,12,FALSE)=IF(O212=\"T7\",DATA!$D$2,IF(O212=\"E87\",DATA!$D$5,IF(O212=\"P2\",DATA!$D$6,IF(O212=\"e2695\",DATA!$D$7,\"\")))),IF(N212>=IF(O212=\"T7\",DATA!$K$11,IF(O212=\"E87\",DATA!$L$11,IF(O212=\"P2\",DATA!$M$11,IF(O212=\"e2695\",DATA!$N$11,\"\")))),\"uni008\",\"uni001\"),IF(VLOOKUP(RIGHT(A212,5)*1,'Data eshop'!D:O,12,FALSE)=DATA!$D$3,IF(O212=\"T7\",IF(N212>=500,\"uni009\",\"uni002\"),\"x\"),IF(VLOOKUP(RIGHT(A212,5)*1,'Data eshop'!D:O,12,FALSE)=DATA!$D$4,\"uni010\",\"\"))),\"\"))),\"\")","v":""},{"$f":"IFERROR(IF(A212=\"\",\"\",IF(LEFT(B212,3)=\"uni\",1,VLOOKUP(RIGHT(A212,5)&\"-\"&B212,'Data eshop'!A:R,18,FALSE))),\"\")","v":""},"",{"$f":"IFERROR(IF(A212=\"\",\"\",IF(LEFT(B212,3)=\"uni\",VLOOKUP(B212,DATA!I:X,IF(O212=\"T7\",3,IF(O212=\"E87\",4,IF(O212=\"P2\",5,IF(O212=\"E2695\",6,\"\")))),FALSE),VLOOKUP(RIGHT(A212,5)&\"-\"&B212,'Data eshop'!A:S,19,FALSE))),\"\")","v":""},{"$f":"IFERROR(IF(A212=\"\",\"\",IF(LEFT(B212,3)=\"uni\",0,VLOOKUP(RIGHT(A212,5)&\"-\"&B212,'Data eshop'!A:S,16,FALSE))),\"\")","v":""},null,"",{"$f":"IF(H212=\"\",\"\",WORKDAY(TODAY()+IF(VLOOKUP(VLOOKUP(RIGHT(A212,5)*1,'Data eshop'!D:N,11,FALSE),DATA!A:B,2,FALSE)=7,14,1),5))","v":""},"","",{"$f":"IF(L211=\"\",\"\",IF(L211=RIGHT(A211,5)&\"x\",LEFT(L211,LEN(L211)-1)&\"y\",IF(L211=RIGHT(A211,5)&\"y\",IFERROR(SMALL('Data eshop'!D:D,COUNTIF('Data eshop'!D:D,\"<\"&(LEFT(L211,LEN(L211)-1)*1))),\"\"),IF(ISERROR(IF(VLOOKUP(M211+1,'Data eshop'!C:D,2,FALSE)='Řádky zakázky'!L211,L211,L211&\"x\")),IF(RIGHT(L211,1)=\"y\",\"\",L211&\"x\"),IF(VLOOKUP(M211+1,'Data eshop'!C:D,2,FALSE)='Řádky zakázky'!L211,L211,L211&\"x\")))))","v":"0xxxxxxxxxxxxxxxxxxxxxxxxxxxxxxxxxxxxxxxxxxxxxxxxxxxxxxxxxxxxxxxxxxxxxxxxxxxxxxxxxxxxxxxxxxxxxxxxxxxxxxxxxxxxxxxxxxxxxxxxxxxxxxxxxxxxxxxxxxxxxxxxxxxxxxxxxxxxxxxxxxxxxxxxxxxxxxxxxxxxxxxxxxxxxxxxxxxxxxxxxxxxxxxxxx"},1,{"$f":"IF(A212=\"\",\"\",VLOOKUP(RIGHT(A212,5)*1,'Data eshop'!D:W,17,FALSE))","v":{"$error":"#VALUE!"}},{"$f":"VLOOKUP(A212,Zakázky!A:B,2,FALSE)","v":{"$error":"#N/A"}},"","Roluj nahoru, až uvidíš žlutou"]
["19ESh0",{"$f":"IFERROR(IF(ISNUMBER(L213),VLOOKUP(L213&\"-\"&M213,'Data eshop'!B:W,16,FALSE),IF(RIGHT(L213,1)=\"x\",VLOOKUP(VLOOKUP(RIGHT(A213,5)*1,'Data eshop'!D:N,11,FALSE),DATA!G:I,3,FALSE),IF(RIGHT(L213,1)=\"y\",IF(VLOOKUP(RIGHT(A213,5)*1,'Data eshop'!D:O,12,FALSE)=IF(O213=\"T7\",DATA!$D$2,IF(O213=\"E87\",DATA!$D$5,IF(O213=\"P2\",DATA!$D$6,IF(O213=\"e2695\",DATA!$D$7,\"\")))),IF(N213>=IF(O213=\"T7\",DATA!$K$11,IF(O213=\"E87\",DATA!$L$11,IF(O213=\"P2\",DATA!$M$11,IF(O213=\"e2695\",DATA!$N$11,\"\")))),\"uni008\",\"uni001\"),IF(VLOOKUP(RIGHT(A213,5)*1,'Data eshop'!D:O,12,FALSE)=DATA!$D$3,IF(O213=\"T7\",IF(N213>=500,\"uni009\",\"uni002\"),\"x\"),IF(VLOOKUP(RIGHT(A213,5)*1,'Data eshop'!D:O,12,FALSE)=DATA!$D$4,\"uni010\",\"\"))),\"\"))),\"\")","v":""},{"$f":"IFERROR(IF(A213=\"\",\"\",IF(LEFT(B213,3)=\"uni\",1,VLOOKUP(RIGHT(A213,5)&\"-\"&B213,'Data eshop'!A:R,18,FALSE))),\"\")","v":""},"",{"$f":"IFERROR(IF(A213=\"\",\"\",IF(LEFT(B213,3)=\"uni\",VLOOKUP(B213,DATA!I:X,IF(O213=\"T7\",3,IF(O213=\"E87\",4,IF(O213=\"P2\",5,IF(O213=\"E2695\",6,\"\")))),FALSE),VLOOKUP(RIGHT(A213,5)&\"-\"&B213,'Data eshop'!A:S,19,FALSE))),\"\")","v":""},{"$f":"IFERROR(IF(A213=\"\",\"\",IF(LEFT(B213,3)=\"uni\",0,VLOOKUP(RIGHT(A213,5)&\"-\"&B213,'Data eshop'!A:S,16,FALSE))),\"\")","v":""},null,"",{"$f":"IF(H213=\"\",\"\",WORKDAY(TODAY()+IF(VLOOKUP(VLOOKUP(RIGHT(A213,5)*1,'Data eshop'!D:N,11,FALSE),DATA!A:B,2,FALSE)=7,14,1),5))","v":""},"","",{"$f":"IF(L212=\"\",\"\",IF(L212=RIGHT(A212,5)&\"x\",LEFT(L212,LEN(L212)-1)&\"y\",IF(L212=RIGHT(A212,5)&\"y\",IFERROR(SMALL('Data eshop'!D:D,COUNTIF('Data eshop'!D:D,\"<\"&(LEFT(L212,LEN(L212)-1)*1))),\"\"),IF(ISERROR(IF(VLOOKUP(M212+1,'Data eshop'!C:D,2,FALSE)='Řádky zakázky'!L212,L212,L212&\"x\")),IF(RIGHT(L212,1)=\"y\",\"\",L212&\"x\"),IF(VLOOKUP(M212+1,'Data eshop'!C:D,2,FALSE)='Řádky zakázky'!L212,L212,L212&\"x\")))))","v":"0xxxxxxxxxxxxxxxxxxxxxxxxxxxxxxxxxxxxxxxxxxxxxxxxxxxxxxxxxxxxxxxxxxxxxxxxxxxxxxxxxxxxxxxxxxxxxxxxxxxxxxxxxxxxxxxxxxxxxxxxxxxxxxxxxxxxxxxxxxxxxxxxxxxxxxxxxxxxxxxxxxxxxxxxxxxxxxxxxxxxxxxxxxxxxxxxxxxxxxxxxxxxxxxxxxx"},1,{"$f":"IF(A213=\"\",\"\",VLOOKUP(RIGHT(A213,5)*1,'Data eshop'!D:W,17,FALSE))","v":{"$error":"#VALUE!"}},{"$f":"VLOOKUP(A213,Zakázky!A:B,2,FALSE)","v":{"$error":"#N/A"}},""]
["19ESh0",{"$f":"IFERROR(IF(ISNUMBER(L214),VLOOKUP(L214&\"-\"&M214,'Data eshop'!B:W,16,FALSE),IF(RIGHT(L214,1)=\"x\",VLOOKUP(VLOOKUP(RIGHT(A214,5)*1,'Data eshop'!D:N,11,FALSE),DATA!G:I,3,FALSE),IF(RIGHT(L214,1)=\"y\",IF(VLOOKUP(RIGHT(A214,5)*1,'Data eshop'!D:O,12,FALSE)=IF(O214=\"T7\",DATA!$D$2,IF(O214=\"E87\",DATA!$D$5,IF(O214=\"P2\",DATA!$D$6,IF(O214=\"e2695\",DATA!$D$7,\"\")))),IF(N214>=IF(O214=\"T7\",DATA!$K$11,IF(O214=\"E87\",DATA!$L$11,IF(O214=\"P2\",DATA!$M$11,IF(O214=\"e2695\",DATA!$N$11,\"\")))),\"uni008\",\"uni001\"),IF(VLOOKUP(RIGHT(A214,5)*1,'Data eshop'!D:O,12,FALSE)=DATA!$D$3,IF(O214=\"T7\",IF(N214>=500,\"uni009\",\"uni002\"),\"x\"),IF(VLOOKUP(RIGHT(A214,5)*1,'Data eshop'!D:O,12,FALSE)=DATA!$D$4,\"uni010\",\"\"))),\"\"))),\"\")","v":""},{"$f":"IFERROR(IF(A214=\"\",\"\",IF(LEFT(B214,3)=\"uni\",1,VLOOKUP(RIGHT(A214,5)&\"-\"&B214,'Data eshop'!A:R,18,FALSE))),\"\")","v":""},"",{"$f":"IFERROR(IF(A214=\"\",\"\",IF(LEFT(B214,3)=\"uni\",VLOOKUP(B214,DATA!I:X,IF(O214=\"T7\",3,IF(O214=\"E87\",4,IF(O214=\"P2\",5,IF(O214=\"E2695\",6,\"\")))),FALSE),VLOOKUP(RIGHT(A214,5)&\"-\"&B214,'Data eshop'!A:S,19,FALSE))),\"\")","v":""},{"$f":"IFERROR(IF(A214=\"\",\"\",IF(LEFT(B214,3)=\"uni\",0,VLOOKUP(RIGHT(A214,5)&\"-\"&B214,'Data eshop'!A:S,16,FALSE))),\"\")","v":""},null,"",{"$f":"IF(H214=\"\",\"\",WORKDAY(TODAY()+IF(VLOOKUP(VLOOKUP(RIGHT(A214,5)*1,'Data eshop'!D:N,11,FALSE),DATA!A:B,2,FALSE)=7,14,1),5))","v":""},"","",{"$f":"IF(L213=\"\",\"\",IF(L213=RIGHT(A213,5)&\"x\",LEFT(L213,LEN(L213)-1)&\"y\",IF(L213=RIGHT(A213,5)&\"y\",IFERROR(SMALL('Data eshop'!D:D,COUNTIF('Data eshop'!D:D,\"<\"&(LEFT(L213,LEN(L213)-1)*1))),\"\"),IF(ISERROR(IF(VLOOKUP(M213+1,'Data eshop'!C:D,2,FALSE)='Řádky zakázky'!L213,L213,L213&\"x\")),IF(RIGHT(L213,1)=\"y\",\"\",L213&\"x\"),IF(VLOOKUP(M213+1,'Data eshop'!C:D,2,FALSE)='Řádky zakázky'!L213,L213,L213&\"x\")))))","v":"0xxxxxxxxxxxxxxxxxxxxxxxxxxxxxxxxxxxxxxxxxxxxxxxxxxxxxxxxxxxxxxxxxxxxxxxxxxxxxxxxxxxxxxxxxxxxxxxxxxxxxxxxxxxxxxxxxxxxxxxxxxxxxxxxxxxxxxxxxxxxxxxxxxxxxxxxxxxxxxxxxxxxxxxxxxxxxxxxxxxxxxxxxxxxxxxxxxxxxxxxxxxxxxxxxxxx"},1,{"$f":"IF(A214=\"\",\"\",VLOOKUP(RIGHT(A214,5)*1,'Data eshop'!D:W,17,FALSE))","v":{"$error":"#VALUE!"}},{"$f":"VLOOKUP(A214,Zakázky!A:B,2,FALSE)","v":{"$error":"#N/A"}},""]
["19ESh0",{"$f":"IFERROR(IF(ISNUMBER(L215),VLOOKUP(L215&\"-\"&M215,'Data eshop'!B:W,16,FALSE),IF(RIGHT(L215,1)=\"x\",VLOOKUP(VLOOKUP(RIGHT(A215,5)*1,'Data eshop'!D:N,11,FALSE),DATA!G:I,3,FALSE),IF(RIGHT(L215,1)=\"y\",IF(VLOOKUP(RIGHT(A215,5)*1,'Data eshop'!D:O,12,FALSE)=IF(O215=\"T7\",DATA!$D$2,IF(O215=\"E87\",DATA!$D$5,IF(O215=\"P2\",DATA!$D$6,IF(O215=\"e2695\",DATA!$D$7,\"\")))),IF(N215>=IF(O215=\"T7\",DATA!$K$11,IF(O215=\"E87\",DATA!$L$11,IF(O215=\"P2\",DATA!$M$11,IF(O215=\"e2695\",DATA!$N$11,\"\")))),\"uni008\",\"uni001\"),IF(VLOOKUP(RIGHT(A215,5)*1,'Data eshop'!D:O,12,FALSE)=DATA!$D$3,IF(O215=\"T7\",IF(N215>=500,\"uni009\",\"uni002\"),\"x\"),IF(VLOOKUP(RIGHT(A215,5)*1,'Data eshop'!D:O,12,FALSE)=DATA!$D$4,\"uni010\",\"\"))),\"\"))),\"\")","v":""},{"$f":"IFERROR(IF(A215=\"\",\"\",IF(LEFT(B215,3)=\"uni\",1,VLOOKUP(RIGHT(A215,5)&\"-\"&B215,'Data eshop'!A:R,18,FALSE))),\"\")","v":""},"",{"$f":"IFERROR(IF(A215=\"\",\"\",IF(LEFT(B215,3)=\"uni\",VLOOKUP(B215,DATA!I:X,IF(O215=\"T7\",3,IF(O215=\"E87\",4,IF(O215=\"P2\",5,IF(O215=\"E2695\",6,\"\")))),FALSE),VLOOKUP(RIGHT(A215,5)&\"-\"&B215,'Data eshop'!A:S,19,FALSE))),\"\")","v":""},{"$f":"IFERROR(IF(A215=\"\",\"\",IF(LEFT(B215,3)=\"uni\",0,VLOOKUP(RIGHT(A215,5)&\"-\"&B215,'Data eshop'!A:S,16,FALSE))),\"\")","v":""},null,"",{"$f":"IF(H215=\"\",\"\",WORKDAY(TODAY()+IF(VLOOKUP(VLOOKUP(RIGHT(A215,5)*1,'Data eshop'!D:N,11,FALSE),DATA!A:B,2,FALSE)=7,14,1),5))","v":""},"","",{"$f":"IF(L214=\"\",\"\",IF(L214=RIGHT(A214,5)&\"x\",LEFT(L214,LEN(L214)-1)&\"y\",IF(L214=RIGHT(A214,5)&\"y\",IFERROR(SMALL('Data eshop'!D:D,COUNTIF('Data eshop'!D:D,\"<\"&(LEFT(L214,LEN(L214)-1)*1))),\"\"),IF(ISERROR(IF(VLOOKUP(M214+1,'Data eshop'!C:D,2,FALSE)='Řádky zakázky'!L214,L214,L214&\"x\")),IF(RIGHT(L214,1)=\"y\",\"\",L214&\"x\"),IF(VLOOKUP(M214+1,'Data eshop'!C:D,2,FALSE)='Řádky zakázky'!L214,L214,L214&\"x\")))))","v":"0xxxxxxxxxxxxxxxxxxxxxxxxxxxxxxxxxxxxxxxxxxxxxxxxxxxxxxxxxxxxxxxxxxxxxxxxxxxxxxxxxxxxxxxxxxxxxxxxxxxxxxxxxxxxxxxxxxxxxxxxxxxxxxxxxxxxxxxxxxxxxxxxxxxxxxxxxxxxxxxxxxxxxxxxxxxxxxxxxxxxxxxxxxxxxxxxxxxxxxxxxxxxxxxxxxxxx"},1,{"$f":"IF(A215=\"\",\"\",VLOOKUP(RIGHT(A215,5)*1,'Data eshop'!D:W,17,FALSE))","v":{"$error":"#VALUE!"}},{"$f":"VLOOKUP(A215,Zakázky!A:B,2,FALSE)","v":{"$error":"#N/A"}},""]
["19ESh0",{"$f":"IFERROR(IF(ISNUMBER(L216),VLOOKUP(L216&\"-\"&M216,'Data eshop'!B:W,16,FALSE),IF(RIGHT(L216,1)=\"x\",VLOOKUP(VLOOKUP(RIGHT(A216,5)*1,'Data eshop'!D:N,11,FALSE),DATA!G:I,3,FALSE),IF(RIGHT(L216,1)=\"y\",IF(VLOOKUP(RIGHT(A216,5)*1,'Data eshop'!D:O,12,FALSE)=IF(O216=\"T7\",DATA!$D$2,IF(O216=\"E87\",DATA!$D$5,IF(O216=\"P2\",DATA!$D$6,IF(O216=\"e2695\",DATA!$D$7,\"\")))),IF(N216>=IF(O216=\"T7\",DATA!$K$11,IF(O216=\"E87\",DATA!$L$11,IF(O216=\"P2\",DATA!$M$11,IF(O216=\"e2695\",DATA!$N$11,\"\")))),\"uni008\",\"uni001\"),IF(VLOOKUP(RIGHT(A216,5)*1,'Data eshop'!D:O,12,FALSE)=DATA!$D$3,IF(O216=\"T7\",IF(N216>=500,\"uni009\",\"uni002\"),\"x\"),IF(VLOOKUP(RIGHT(A216,5)*1,'Data eshop'!D:O,12,FALSE)=DATA!$D$4,\"uni010\",\"\"))),\"\"))),\"\")","v":""},{"$f":"IFERROR(IF(A216=\"\",\"\",IF(LEFT(B216,3)=\"uni\",1,VLOOKUP(RIGHT(A216,5)&\"-\"&B216,'Data eshop'!A:R,18,FALSE))),\"\")","v":""},"",{"$f":"IFERROR(IF(A216=\"\",\"\",IF(LEFT(B216,3)=\"uni\",VLOOKUP(B216,DATA!I:X,IF(O216=\"T7\",3,IF(O216=\"E87\",4,IF(O216=\"P2\",5,IF(O216=\"E2695\",6,\"\")))),FALSE),VLOOKUP(RIGHT(A216,5)&\"-\"&B216,'Data eshop'!A:S,19,FALSE))),\"\")","v":""},{"$f":"IFERROR(IF(A216=\"\",\"\",IF(LEFT(B216,3)=\"uni\",0,VLOOKUP(RIGHT(A216,5)&\"-\"&B216,'Data eshop'!A:S,16,FALSE))),\"\")","v":""},null,"",{"$f":"IF(H216=\"\",\"\",WORKDAY(TODAY()+IF(VLOOKUP(VLOOKUP(RIGHT(A216,5)*1,'Data eshop'!D:N,11,FALSE),DATA!A:B,2,FALSE)=7,14,1),5))","v":""},"","",{"$f":"IF(L215=\"\",\"\",IF(L215=RIGHT(A215,5)&\"x\",LEFT(L215,LEN(L215)-1)&\"y\",IF(L215=RIGHT(A215,5)&\"y\",IFERROR(SMALL('Data eshop'!D:D,COUNTIF('Data eshop'!D:D,\"<\"&(LEFT(L215,LEN(L215)-1)*1))),\"\"),IF(ISERROR(IF(VLOOKUP(M215+1,'Data eshop'!C:D,2,FALSE)='Řádky zakázky'!L215,L215,L215&\"x\")),IF(RIGHT(L215,1)=\"y\",\"\",L215&\"x\"),IF(VLOOKUP(M215+1,'Data eshop'!C:D,2,FALSE)='Řádky zakázky'!L215,L215,L215&\"x\")))))","v":"0xxxxxxxxxxxxxxxxxxxxxxxxxxxxxxxxxxxxxxxxxxxxxxxxxxxxxxxxxxxxxxxxxxxxxxxxxxxxxxxxxxxxxxxxxxxxxxxxxxxxxxxxxxxxxxxxxxxxxxxxxxxxxxxxxxxxxxxxxxxxxxxxxxxxxxxxxxxxxxxxxxxxxxxxxxxxxxxxxxxxxxxxxxxxxxxxxxxxxxxxxxxxxxxxxxxxxx"},1,{"$f":"IF(A216=\"\",\"\",VLOOKUP(RIGHT(A216,5)*1,'Data eshop'!D:W,17,FALSE))","v":{"$error":"#VALUE!"}},{"$f":"VLOOKUP(A216,Zakázky!A:B,2,FALSE)","v":{"$error":"#N/A"}},"","Roluj nahoru, až uvidíš žlutou"]
["19ESh0",{"$f":"IFERROR(IF(ISNUMBER(L217),VLOOKUP(L217&\"-\"&M217,'Data eshop'!B:W,16,FALSE),IF(RIGHT(L217,1)=\"x\",VLOOKUP(VLOOKUP(RIGHT(A217,5)*1,'Data eshop'!D:N,11,FALSE),DATA!G:I,3,FALSE),IF(RIGHT(L217,1)=\"y\",IF(VLOOKUP(RIGHT(A217,5)*1,'Data eshop'!D:O,12,FALSE)=IF(O217=\"T7\",DATA!$D$2,IF(O217=\"E87\",DATA!$D$5,IF(O217=\"P2\",DATA!$D$6,IF(O217=\"e2695\",DATA!$D$7,\"\")))),IF(N217>=IF(O217=\"T7\",DATA!$K$11,IF(O217=\"E87\",DATA!$L$11,IF(O217=\"P2\",DATA!$M$11,IF(O217=\"e2695\",DATA!$N$11,\"\")))),\"uni008\",\"uni001\"),IF(VLOOKUP(RIGHT(A217,5)*1,'Data eshop'!D:O,12,FALSE)=DATA!$D$3,IF(O217=\"T7\",IF(N217>=500,\"uni009\",\"uni002\"),\"x\"),IF(VLOOKUP(RIGHT(A217,5)*1,'Data eshop'!D:O,12,FALSE)=DATA!$D$4,\"uni010\",\"\"))),\"\"))),\"\")","v":""},{"$f":"IFERROR(IF(A217=\"\",\"\",IF(LEFT(B217,3)=\"uni\",1,VLOOKUP(RIGHT(A217,5)&\"-\"&B217,'Data eshop'!A:R,18,FALSE))),\"\")","v":""},"",{"$f":"IFERROR(IF(A217=\"\",\"\",IF(LEFT(B217,3)=\"uni\",VLOOKUP(B217,DATA!I:X,IF(O217=\"T7\",3,IF(O217=\"E87\",4,IF(O217=\"P2\",5,IF(O217=\"E2695\",6,\"\")))),FALSE),VLOOKUP(RIGHT(A217,5)&\"-\"&B217,'Data eshop'!A:S,19,FALSE))),\"\")","v":""},{"$f":"IFERROR(IF(A217=\"\",\"\",IF(LEFT(B217,3)=\"uni\",0,VLOOKUP(RIGHT(A217,5)&\"-\"&B217,'Data eshop'!A:S,16,FALSE))),\"\")","v":""},null,"",{"$f":"IF(H217=\"\",\"\",WORKDAY(TODAY()+IF(VLOOKUP(VLOOKUP(RIGHT(A217,5)*1,'Data eshop'!D:N,11,FALSE),DATA!A:B,2,FALSE)=7,14,1),5))","v":""},"","",{"$f":"IF(L216=\"\",\"\",IF(L216=RIGHT(A216,5)&\"x\",LEFT(L216,LEN(L216)-1)&\"y\",IF(L216=RIGHT(A216,5)&\"y\",IFERROR(SMALL('Data eshop'!D:D,COUNTIF('Data eshop'!D:D,\"<\"&(LEFT(L216,LEN(L216)-1)*1))),\"\"),IF(ISERROR(IF(VLOOKUP(M216+1,'Data eshop'!C:D,2,FALSE)='Řádky zakázky'!L216,L216,L216&\"x\")),IF(RIGHT(L216,1)=\"y\",\"\",L216&\"x\"),IF(VLOOKUP(M216+1,'Data eshop'!C:D,2,FALSE)='Řádky zakázky'!L216,L216,L216&\"x\")))))","v":"0xxxxxxxxxxxxxxxxxxxxxxxxxxxxxxxxxxxxxxxxxxxxxxxxxxxxxxxxxxxxxxxxxxxxxxxxxxxxxxxxxxxxxxxxxxxxxxxxxxxxxxxxxxxxxxxxxxxxxxxxxxxxxxxxxxxxxxxxxxxxxxxxxxxxxxxxxxxxxxxxxxxxxxxxxxxxxxxxxxxxxxxxxxxxxxxxxxxxxxxxxxxxxxxxxxxxxxx"},1,{"$f":"IF(A217=\"\",\"\",VLOOKUP(RIGHT(A217,5)*1,'Data eshop'!D:W,17,FALSE))","v":{"$error":"#VALUE!"}},{"$f":"VLOOKUP(A217,Zakázky!A:B,2,FALSE)","v":{"$error":"#N/A"}},""]
["19ESh0",{"$f":"IFERROR(IF(ISNUMBER(L218),VLOOKUP(L218&\"-\"&M218,'Data eshop'!B:W,16,FALSE),IF(RIGHT(L218,1)=\"x\",VLOOKUP(VLOOKUP(RIGHT(A218,5)*1,'Data eshop'!D:N,11,FALSE),DATA!G:I,3,FALSE),IF(RIGHT(L218,1)=\"y\",IF(VLOOKUP(RIGHT(A218,5)*1,'Data eshop'!D:O,12,FALSE)=IF(O218=\"T7\",DATA!$D$2,IF(O218=\"E87\",DATA!$D$5,IF(O218=\"P2\",DATA!$D$6,IF(O218=\"e2695\",DATA!$D$7,\"\")))),IF(N218>=IF(O218=\"T7\",DATA!$K$11,IF(O218=\"E87\",DATA!$L$11,IF(O218=\"P2\",DATA!$M$11,IF(O218=\"e2695\",DATA!$N$11,\"\")))),\"uni008\",\"uni001\"),IF(VLOOKUP(RIGHT(A218,5)*1,'Data eshop'!D:O,12,FALSE)=DATA!$D$3,IF(O218=\"T7\",IF(N218>=500,\"uni009\",\"uni002\"),\"x\"),IF(VLOOKUP(RIGHT(A218,5)*1,'Data eshop'!D:O,12,FALSE)=DATA!$D$4,\"uni010\",\"\"))),\"\"))),\"\")","v":""},{"$f":"IFERROR(IF(A218=\"\",\"\",IF(LEFT(B218,3)=\"uni\",1,VLOOKUP(RIGHT(A218,5)&\"-\"&B218,'Data eshop'!A:R,18,FALSE))),\"\")","v":""},"",{"$f":"IFERROR(IF(A218=\"\",\"\",IF(LEFT(B218,3)=\"uni\",VLOOKUP(B218,DATA!I:X,IF(O218=\"T7\",3,IF(O218=\"E87\",4,IF(O218=\"P2\",5,IF(O218=\"E2695\",6,\"\")))),FALSE),VLOOKUP(RIGHT(A218,5)&\"-\"&B218,'Data eshop'!A:S,19,FALSE))),\"\")","v":""},{"$f":"IFERROR(IF(A218=\"\",\"\",IF(LEFT(B218,3)=\"uni\",0,VLOOKUP(RIGHT(A218,5)&\"-\"&B218,'Data eshop'!A:S,16,FALSE))),\"\")","v":""},null,"",{"$f":"IF(H218=\"\",\"\",WORKDAY(TODAY()+IF(VLOOKUP(VLOOKUP(RIGHT(A218,5)*1,'Data eshop'!D:N,11,FALSE),DATA!A:B,2,FALSE)=7,14,1),5))","v":""},"","",{"$f":"IF(L217=\"\",\"\",IF(L217=RIGHT(A217,5)&\"x\",LEFT(L217,LEN(L217)-1)&\"y\",IF(L217=RIGHT(A217,5)&\"y\",IFERROR(SMALL('Data eshop'!D:D,COUNTIF('Data eshop'!D:D,\"<\"&(LEFT(L217,LEN(L217)-1)*1))),\"\"),IF(ISERROR(IF(VLOOKUP(M217+1,'Data eshop'!C:D,2,FALSE)='Řádky zakázky'!L217,L217,L217&\"x\")),IF(RIGHT(L217,1)=\"y\",\"\",L217&\"x\"),IF(VLOOKUP(M217+1,'Data eshop'!C:D,2,FALSE)='Řádky zakázky'!L217,L217,L217&\"x\")))))","v":"0xxxxxxxxxxxxxxxxxxxxxxxxxxxxxxxxxxxxxxxxxxxxxxxxxxxxxxxxxxxxxxxxxxxxxxxxxxxxxxxxxxxxxxxxxxxxxxxxxxxxxxxxxxxxxxxxxxxxxxxxxxxxxxxxxxxxxxxxxxxxxxxxxxxxxxxxxxxxxxxxxxxxxxxxxxxxxxxxxxxxxxxxxxxxxxxxxxxxxxxxxxxxxxxxxxxxxxxx"},1,{"$f":"IF(A218=\"\",\"\",VLOOKUP(RIGHT(A218,5)*1,'Data eshop'!D:W,17,FALSE))","v":{"$error":"#VALUE!"}},{"$f":"VLOOKUP(A218,Zakázky!A:B,2,FALSE)","v":{"$error":"#N/A"}},""]
["19ESh0",{"$f":"IFERROR(IF(ISNUMBER(L219),VLOOKUP(L219&\"-\"&M219,'Data eshop'!B:W,16,FALSE),IF(RIGHT(L219,1)=\"x\",VLOOKUP(VLOOKUP(RIGHT(A219,5)*1,'Data eshop'!D:N,11,FALSE),DATA!G:I,3,FALSE),IF(RIGHT(L219,1)=\"y\",IF(VLOOKUP(RIGHT(A219,5)*1,'Data eshop'!D:O,12,FALSE)=IF(O219=\"T7\",DATA!$D$2,IF(O219=\"E87\",DATA!$D$5,IF(O219=\"P2\",DATA!$D$6,IF(O219=\"e2695\",DATA!$D$7,\"\")))),IF(N219>=IF(O219=\"T7\",DATA!$K$11,IF(O219=\"E87\",DATA!$L$11,IF(O219=\"P2\",DATA!$M$11,IF(O219=\"e2695\",DATA!$N$11,\"\")))),\"uni008\",\"uni001\"),IF(VLOOKUP(RIGHT(A219,5)*1,'Data eshop'!D:O,12,FALSE)=DATA!$D$3,IF(O219=\"T7\",IF(N219>=500,\"uni009\",\"uni002\"),\"x\"),IF(VLOOKUP(RIGHT(A219,5)*1,'Data eshop'!D:O,12,FALSE)=DATA!$D$4,\"uni010\",\"\"))),\"\"))),\"\")","v":""},{"$f":"IFERROR(IF(A219=\"\",\"\",IF(LEFT(B219,3)=\"uni\",1,VLOOKUP(RIGHT(A219,5)&\"-\"&B219,'Data eshop'!A:R,18,FALSE))),\"\")","v":""},"",{"$f":"IFERROR(IF(A219=\"\",\"\",IF(LEFT(B219,3)=\"uni\",VLOOKUP(B219,DATA!I:X,IF(O219=\"T7\",3,IF(O219=\"E87\",4,IF(O219=\"P2\",5,IF(O219=\"E2695\",6,\"\")))),FALSE),VLOOKUP(RIGHT(A219,5)&\"-\"&B219,'Data eshop'!A:S,19,FALSE))),\"\")","v":""},{"$f":"IFERROR(IF(A219=\"\",\"\",IF(LEFT(B219,3)=\"uni\",0,VLOOKUP(RIGHT(A219,5)&\"-\"&B219,'Data eshop'!A:S,16,FALSE))),\"\")","v":""},null,"",{"$f":"IF(H219=\"\",\"\",WORKDAY(TODAY()+IF(VLOOKUP(VLOOKUP(RIGHT(A219,5)*1,'Data eshop'!D:N,11,FALSE),DATA!A:B,2,FALSE)=7,14,1),5))","v":""},"","",{"$f":"IF(L218=\"\",\"\",IF(L218=RIGHT(A218,5)&\"x\",LEFT(L218,LEN(L218)-1)&\"y\",IF(L218=RIGHT(A218,5)&\"y\",IFERROR(SMALL('Data eshop'!D:D,COUNTIF('Data eshop'!D:D,\"<\"&(LEFT(L218,LEN(L218)-1)*1))),\"\"),IF(ISERROR(IF(VLOOKUP(M218+1,'Data eshop'!C:D,2,FALSE)='Řádky zakázky'!L218,L218,L218&\"x\")),IF(RIGHT(L218,1)=\"y\",\"\",L218&\"x\"),IF(VLOOKUP(M218+1,'Data eshop'!C:D,2,FALSE)='Řádky zakázky'!L218,L218,L218&\"x\")))))","v":"0xxxxxxxxxxxxxxxxxxxxxxxxxxxxxxxxxxxxxxxxxxxxxxxxxxxxxxxxxxxxxxxxxxxxxxxxxxxxxxxxxxxxxxxxxxxxxxxxxxxxxxxxxxxxxxxxxxxxxxxxxxxxxxxxxxxxxxxxxxxxxxxxxxxxxxxxxxxxxxxxxxxxxxxxxxxxxxxxxxxxxxxxxxxxxxxxxxxxxxxxxxxxxxxxxxxxxxxxx"},1,{"$f":"IF(A219=\"\",\"\",VLOOKUP(RIGHT(A219,5)*1,'Data eshop'!D:W,17,FALSE))","v":{"$error":"#VALUE!"}},{"$f":"VLOOKUP(A219,Zakázky!A:B,2,FALSE)","v":{"$error":"#N/A"}},""]
["19ESh0",{"$f":"IFERROR(IF(ISNUMBER(L220),VLOOKUP(L220&\"-\"&M220,'Data eshop'!B:W,16,FALSE),IF(RIGHT(L220,1)=\"x\",VLOOKUP(VLOOKUP(RIGHT(A220,5)*1,'Data eshop'!D:N,11,FALSE),DATA!G:I,3,FALSE),IF(RIGHT(L220,1)=\"y\",IF(VLOOKUP(RIGHT(A220,5)*1,'Data eshop'!D:O,12,FALSE)=IF(O220=\"T7\",DATA!$D$2,IF(O220=\"E87\",DATA!$D$5,IF(O220=\"P2\",DATA!$D$6,IF(O220=\"e2695\",DATA!$D$7,\"\")))),IF(N220>=IF(O220=\"T7\",DATA!$K$11,IF(O220=\"E87\",DATA!$L$11,IF(O220=\"P2\",DATA!$M$11,IF(O220=\"e2695\",DATA!$N$11,\"\")))),\"uni008\",\"uni001\"),IF(VLOOKUP(RIGHT(A220,5)*1,'Data eshop'!D:O,12,FALSE)=DATA!$D$3,IF(O220=\"T7\",IF(N220>=500,\"uni009\",\"uni002\"),\"x\"),IF(VLOOKUP(RIGHT(A220,5)*1,'Data eshop'!D:O,12,FALSE)=DATA!$D$4,\"uni010\",\"\"))),\"\"))),\"\")","v":""},{"$f":"IFERROR(IF(A220=\"\",\"\",IF(LEFT(B220,3)=\"uni\",1,VLOOKUP(RIGHT(A220,5)&\"-\"&B220,'Data eshop'!A:R,18,FALSE))),\"\")","v":""},"",{"$f":"IFERROR(IF(A220=\"\",\"\",IF(LEFT(B220,3)=\"uni\",VLOOKUP(B220,DATA!I:X,IF(O220=\"T7\",3,IF(O220=\"E87\",4,IF(O220=\"P2\",5,IF(O220=\"E2695\",6,\"\")))),FALSE),VLOOKUP(RIGHT(A220,5)&\"-\"&B220,'Data eshop'!A:S,19,FALSE))),\"\")","v":""},{"$f":"IFERROR(IF(A220=\"\",\"\",IF(LEFT(B220,3)=\"uni\",0,VLOOKUP(RIGHT(A220,5)&\"-\"&B220,'Data eshop'!A:S,16,FALSE))),\"\")","v":""},null,"",{"$f":"IF(H220=\"\",\"\",WORKDAY(TODAY()+IF(VLOOKUP(VLOOKUP(RIGHT(A220,5)*1,'Data eshop'!D:N,11,FALSE),DATA!A:B,2,FALSE)=7,14,1),5))","v":""},"","",{"$f":"IF(L219=\"\",\"\",IF(L219=RIGHT(A219,5)&\"x\",LEFT(L219,LEN(L219)-1)&\"y\",IF(L219=RIGHT(A219,5)&\"y\",IFERROR(SMALL('Data eshop'!D:D,COUNTIF('Data eshop'!D:D,\"<\"&(LEFT(L219,LEN(L219)-1)*1))),\"\"),IF(ISERROR(IF(VLOOKUP(M219+1,'Data eshop'!C:D,2,FALSE)='Řádky zakázky'!L219,L219,L219&\"x\")),IF(RIGHT(L219,1)=\"y\",\"\",L219&\"x\"),IF(VLOOKUP(M219+1,'Data eshop'!C:D,2,FALSE)='Řádky zakázky'!L219,L219,L219&\"x\")))))","v":"0xxxxxxxxxxxxxxxxxxxxxxxxxxxxxxxxxxxxxxxxxxxxxxxxxxxxxxxxxxxxxxxxxxxxxxxxxxxxxxxxxxxxxxxxxxxxxxxxxxxxxxxxxxxxxxxxxxxxxxxxxxxxxxxxxxxxxxxxxxxxxxxxxxxxxxxxxxxxxxxxxxxxxxxxxxxxxxxxxxxxxxxxxxxxxxxxxxxxxxxxxxxxxxxxxxxxxxxxxx"},1,{"$f":"IF(A220=\"\",\"\",VLOOKUP(RIGHT(A220,5)*1,'Data eshop'!D:W,17,FALSE))","v":{"$error":"#VALUE!"}},{"$f":"VLOOKUP(A220,Zakázky!A:B,2,FALSE)","v":{"$error":"#N/A"}},"","Roluj nahoru, až uvidíš žlutou"]
["19ESh0",{"$f":"IFERROR(IF(ISNUMBER(L221),VLOOKUP(L221&\"-\"&M221,'Data eshop'!B:W,16,FALSE),IF(RIGHT(L221,1)=\"x\",VLOOKUP(VLOOKUP(RIGHT(A221,5)*1,'Data eshop'!D:N,11,FALSE),DATA!G:I,3,FALSE),IF(RIGHT(L221,1)=\"y\",IF(VLOOKUP(RIGHT(A221,5)*1,'Data eshop'!D:O,12,FALSE)=IF(O221=\"T7\",DATA!$D$2,IF(O221=\"E87\",DATA!$D$5,IF(O221=\"P2\",DATA!$D$6,IF(O221=\"e2695\",DATA!$D$7,\"\")))),IF(N221>=IF(O221=\"T7\",DATA!$K$11,IF(O221=\"E87\",DATA!$L$11,IF(O221=\"P2\",DATA!$M$11,IF(O221=\"e2695\",DATA!$N$11,\"\")))),\"uni008\",\"uni001\"),IF(VLOOKUP(RIGHT(A221,5)*1,'Data eshop'!D:O,12,FALSE)=DATA!$D$3,IF(O221=\"T7\",IF(N221>=500,\"uni009\",\"uni002\"),\"x\"),IF(VLOOKUP(RIGHT(A221,5)*1,'Data eshop'!D:O,12,FALSE)=DATA!$D$4,\"uni010\",\"\"))),\"\"))),\"\")","v":""},{"$f":"IFERROR(IF(A221=\"\",\"\",IF(LEFT(B221,3)=\"uni\",1,VLOOKUP(RIGHT(A221,5)&\"-\"&B221,'Data eshop'!A:R,18,FALSE))),\"\")","v":""},"",{"$f":"IFERROR(IF(A221=\"\",\"\",IF(LEFT(B221,3)=\"uni\",VLOOKUP(B221,DATA!I:X,IF(O221=\"T7\",3,IF(O221=\"E87\",4,IF(O221=\"P2\",5,IF(O221=\"E2695\",6,\"\")))),FALSE),VLOOKUP(RIGHT(A221,5)&\"-\"&B221,'Data eshop'!A:S,19,FALSE))),\"\")","v":""},{"$f":"IFERROR(IF(A221=\"\",\"\",IF(LEFT(B221,3)=\"uni\",0,VLOOKUP(RIGHT(A221,5)&\"-\"&B221,'Data eshop'!A:S,16,FALSE))),\"\")","v":""},null,"",{"$f":"IF(H221=\"\",\"\",WORKDAY(TODAY()+IF(VLOOKUP(VLOOKUP(RIGHT(A221,5)*1,'Data eshop'!D:N,11,FALSE),DATA!A:B,2,FALSE)=7,14,1),5))","v":""},"","",{"$f":"IF(L220=\"\",\"\",IF(L220=RIGHT(A220,5)&\"x\",LEFT(L220,LEN(L220)-1)&\"y\",IF(L220=RIGHT(A220,5)&\"y\",IFERROR(SMALL('Data eshop'!D:D,COUNTIF('Data eshop'!D:D,\"<\"&(LEFT(L220,LEN(L220)-1)*1))),\"\"),IF(ISERROR(IF(VLOOKUP(M220+1,'Data eshop'!C:D,2,FALSE)='Řádky zakázky'!L220,L220,L220&\"x\")),IF(RIGHT(L220,1)=\"y\",\"\",L220&\"x\"),IF(VLOOKUP(M220+1,'Data eshop'!C:D,2,FALSE)='Řádky zakázky'!L220,L220,L220&\"x\")))))","v":"0xxxxxxxxxxxxxxxxxxxxxxxxxxxxxxxxxxxxxxxxxxxxxxxxxxxxxxxxxxxxxxxxxxxxxxxxxxxxxxxxxxxxxxxxxxxxxxxxxxxxxxxxxxxxxxxxxxxxxxxxxxxxxxxxxxxxxxxxxxxxxxxxxxxxxxxxxxxxxxxxxxxxxxxxxxxxxxxxxxxxxxxxxxxxxxxxxxxxxxxxxxxxxxxxxxxxxxxxxxx"},1,{"$f":"IF(A221=\"\",\"\",VLOOKUP(RIGHT(A221,5)*1,'Data eshop'!D:W,17,FALSE))","v":{"$error":"#VALUE!"}},{"$f":"VLOOKUP(A221,Zakázky!A:B,2,FALSE)","v":{"$error":"#N/A"}},""]
["19ESh0",{"$f":"IFERROR(IF(ISNUMBER(L222),VLOOKUP(L222&\"-\"&M222,'Data eshop'!B:W,16,FALSE),IF(RIGHT(L222,1)=\"x\",VLOOKUP(VLOOKUP(RIGHT(A222,5)*1,'Data eshop'!D:N,11,FALSE),DATA!G:I,3,FALSE),IF(RIGHT(L222,1)=\"y\",IF(VLOOKUP(RIGHT(A222,5)*1,'Data eshop'!D:O,12,FALSE)=IF(O222=\"T7\",DATA!$D$2,IF(O222=\"E87\",DATA!$D$5,IF(O222=\"P2\",DATA!$D$6,IF(O222=\"e2695\",DATA!$D$7,\"\")))),IF(N222>=IF(O222=\"T7\",DATA!$K$11,IF(O222=\"E87\",DATA!$L$11,IF(O222=\"P2\",DATA!$M$11,IF(O222=\"e2695\",DATA!$N$11,\"\")))),\"uni008\",\"uni001\"),IF(VLOOKUP(RIGHT(A222,5)*1,'Data eshop'!D:O,12,FALSE)=DATA!$D$3,IF(O222=\"T7\",IF(N222>=500,\"uni009\",\"uni002\"),\"x\"),IF(VLOOKUP(RIGHT(A222,5)*1,'Data eshop'!D:O,12,FALSE)=DATA!$D$4,\"uni010\",\"\"))),\"\"))),\"\")","v":""},{"$f":"IFERROR(IF(A222=\"\",\"\",IF(LEFT(B222,3)=\"uni\",1,VLOOKUP(RIGHT(A222,5)&\"-\"&B222,'Data eshop'!A:R,18,FALSE))),\"\")","v":""},"",{"$f":"IFERROR(IF(A222=\"\",\"\",IF(LEFT(B222,3)=\"uni\",VLOOKUP(B222,DATA!I:X,IF(O222=\"T7\",3,IF(O222=\"E87\",4,IF(O222=\"P2\",5,IF(O222=\"E2695\",6,\"\")))),FALSE),VLOOKUP(RIGHT(A222,5)&\"-\"&B222,'Data eshop'!A:S,19,FALSE))),\"\")","v":""},{"$f":"IFERROR(IF(A222=\"\",\"\",IF(LEFT(B222,3)=\"uni\",0,VLOOKUP(RIGHT(A222,5)&\"-\"&B222,'Data eshop'!A:S,16,FALSE))),\"\")","v":""},null,"",{"$f":"IF(H222=\"\",\"\",WORKDAY(TODAY()+IF(VLOOKUP(VLOOKUP(RIGHT(A222,5)*1,'Data eshop'!D:N,11,FALSE),DATA!A:B,2,FALSE)=7,14,1),5))","v":""},"","",{"$f":"IF(L221=\"\",\"\",IF(L221=RIGHT(A221,5)&\"x\",LEFT(L221,LEN(L221)-1)&\"y\",IF(L221=RIGHT(A221,5)&\"y\",IFERROR(SMALL('Data eshop'!D:D,COUNTIF('Data eshop'!D:D,\"<\"&(LEFT(L221,LEN(L221)-1)*1))),\"\"),IF(ISERROR(IF(VLOOKUP(M221+1,'Data eshop'!C:D,2,FALSE)='Řádky zakázky'!L221,L221,L221&\"x\")),IF(RIGHT(L221,1)=\"y\",\"\",L221&\"x\"),IF(VLOOKUP(M221+1,'Data eshop'!C:D,2,FALSE)='Řádky zakázky'!L221,L221,L221&\"x\")))))","v":"0xxxxxxxxxxxxxxxxxxxxxxxxxxxxxxxxxxxxxxxxxxxxxxxxxxxxxxxxxxxxxxxxxxxxxxxxxxxxxxxxxxxxxxxxxxxxxxxxxxxxxxxxxxxxxxxxxxxxxxxxxxxxxxxxxxxxxxxxxxxxxxxxxxxxxxxxxxxxxxxxxxxxxxxxxxxxxxxxxxxxxxxxxxxxxxxxxxxxxxxxxxxxxxxxxxxxxxxxxxxx"},1,{"$f":"IF(A222=\"\",\"\",VLOOKUP(RIGHT(A222,5)*1,'Data eshop'!D:W,17,FALSE))","v":{"$error":"#VALUE!"}},{"$f":"VLOOKUP(A222,Zakázky!A:B,2,FALSE)","v":{"$error":"#N/A"}},""]
["19ESh0",{"$f":"IFERROR(IF(ISNUMBER(L223),VLOOKUP(L223&\"-\"&M223,'Data eshop'!B:W,16,FALSE),IF(RIGHT(L223,1)=\"x\",VLOOKUP(VLOOKUP(RIGHT(A223,5)*1,'Data eshop'!D:N,11,FALSE),DATA!G:I,3,FALSE),IF(RIGHT(L223,1)=\"y\",IF(VLOOKUP(RIGHT(A223,5)*1,'Data eshop'!D:O,12,FALSE)=IF(O223=\"T7\",DATA!$D$2,IF(O223=\"E87\",DATA!$D$5,IF(O223=\"P2\",DATA!$D$6,IF(O223=\"e2695\",DATA!$D$7,\"\")))),IF(N223>=IF(O223=\"T7\",DATA!$K$11,IF(O223=\"E87\",DATA!$L$11,IF(O223=\"P2\",DATA!$M$11,IF(O223=\"e2695\",DATA!$N$11,\"\")))),\"uni008\",\"uni001\"),IF(VLOOKUP(RIGHT(A223,5)*1,'Data eshop'!D:O,12,FALSE)=DATA!$D$3,IF(O223=\"T7\",IF(N223>=500,\"uni009\",\"uni002\"),\"x\"),IF(VLOOKUP(RIGHT(A223,5)*1,'Data eshop'!D:O,12,FALSE)=DATA!$D$4,\"uni010\",\"\"))),\"\"))),\"\")","v":""},{"$f":"IFERROR(IF(A223=\"\",\"\",IF(LEFT(B223,3)=\"uni\",1,VLOOKUP(RIGHT(A223,5)&\"-\"&B223,'Data eshop'!A:R,18,FALSE))),\"\")","v":""},"",{"$f":"IFERROR(IF(A223=\"\",\"\",IF(LEFT(B223,3)=\"uni\",VLOOKUP(B223,DATA!I:X,IF(O223=\"T7\",3,IF(O223=\"E87\",4,IF(O223=\"P2\",5,IF(O223=\"E2695\",6,\"\")))),FALSE),VLOOKUP(RIGHT(A223,5)&\"-\"&B223,'Data eshop'!A:S,19,FALSE))),\"\")","v":""},{"$f":"IFERROR(IF(A223=\"\",\"\",IF(LEFT(B223,3)=\"uni\",0,VLOOKUP(RIGHT(A223,5)&\"-\"&B223,'Data eshop'!A:S,16,FALSE))),\"\")","v":""},null,"",{"$f":"IF(H223=\"\",\"\",WORKDAY(TODAY()+IF(VLOOKUP(VLOOKUP(RIGHT(A223,5)*1,'Data eshop'!D:N,11,FALSE),DATA!A:B,2,FALSE)=7,14,1),5))","v":""},"","",{"$f":"IF(L222=\"\",\"\",IF(L222=RIGHT(A222,5)&\"x\",LEFT(L222,LEN(L222)-1)&\"y\",IF(L222=RIGHT(A222,5)&\"y\",IFERROR(SMALL('Data eshop'!D:D,COUNTIF('Data eshop'!D:D,\"<\"&(LEFT(L222,LEN(L222)-1)*1))),\"\"),IF(ISERROR(IF(VLOOKUP(M222+1,'Data eshop'!C:D,2,FALSE)='Řádky zakázky'!L222,L222,L222&\"x\")),IF(RIGHT(L222,1)=\"y\",\"\",L222&\"x\"),IF(VLOOKUP(M222+1,'Data eshop'!C:D,2,FALSE)='Řádky zakázky'!L222,L222,L222&\"x\")))))","v":"0xxxxxxxxxxxxxxxxxxxxxxxxxxxxxxxxxxxxxxxxxxxxxxxxxxxxxxxxxxxxxxxxxxxxxxxxxxxxxxxxxxxxxxxxxxxxxxxxxxxxxxxxxxxxxxxxxxxxxxxxxxxxxxxxxxxxxxxxxxxxxxxxxxxxxxxxxxxxxxxxxxxxxxxxxxxxxxxxxxxxxxxxxxxxxxxxxxxxxxxxxxxxxxxxxxxxxxxxxxxxx"},1,{"$f":"IF(A223=\"\",\"\",VLOOKUP(RIGHT(A223,5)*1,'Data eshop'!D:W,17,FALSE))","v":{"$error":"#VALUE!"}},{"$f":"VLOOKUP(A223,Zakázky!A:B,2,FALSE)","v":{"$error":"#N/A"}},""]
["19ESh0",{"$f":"IFERROR(IF(ISNUMBER(L224),VLOOKUP(L224&\"-\"&M224,'Data eshop'!B:W,16,FALSE),IF(RIGHT(L224,1)=\"x\",VLOOKUP(VLOOKUP(RIGHT(A224,5)*1,'Data eshop'!D:N,11,FALSE),DATA!G:I,3,FALSE),IF(RIGHT(L224,1)=\"y\",IF(VLOOKUP(RIGHT(A224,5)*1,'Data eshop'!D:O,12,FALSE)=IF(O224=\"T7\",DATA!$D$2,IF(O224=\"E87\",DATA!$D$5,IF(O224=\"P2\",DATA!$D$6,IF(O224=\"e2695\",DATA!$D$7,\"\")))),IF(N224>=IF(O224=\"T7\",DATA!$K$11,IF(O224=\"E87\",DATA!$L$11,IF(O224=\"P2\",DATA!$M$11,IF(O224=\"e2695\",DATA!$N$11,\"\")))),\"uni008\",\"uni001\"),IF(VLOOKUP(RIGHT(A224,5)*1,'Data eshop'!D:O,12,FALSE)=DATA!$D$3,IF(O224=\"T7\",IF(N224>=500,\"uni009\",\"uni002\"),\"x\"),IF(VLOOKUP(RIGHT(A224,5)*1,'Data eshop'!D:O,12,FALSE)=DATA!$D$4,\"uni010\",\"\"))),\"\"))),\"\")","v":""},{"$f":"IFERROR(IF(A224=\"\",\"\",IF(LEFT(B224,3)=\"uni\",1,VLOOKUP(RIGHT(A224,5)&\"-\"&B224,'Data eshop'!A:R,18,FALSE))),\"\")","v":""},"",{"$f":"IFERROR(IF(A224=\"\",\"\",IF(LEFT(B224,3)=\"uni\",VLOOKUP(B224,DATA!I:X,IF(O224=\"T7\",3,IF(O224=\"E87\",4,IF(O224=\"P2\",5,IF(O224=\"E2695\",6,\"\")))),FALSE),VLOOKUP(RIGHT(A224,5)&\"-\"&B224,'Data eshop'!A:S,19,FALSE))),\"\")","v":""},{"$f":"IFERROR(IF(A224=\"\",\"\",IF(LEFT(B224,3)=\"uni\",0,VLOOKUP(RIGHT(A224,5)&\"-\"&B224,'Data eshop'!A:S,16,FALSE))),\"\")","v":""},null,"",{"$f":"IF(H224=\"\",\"\",WORKDAY(TODAY()+IF(VLOOKUP(VLOOKUP(RIGHT(A224,5)*1,'Data eshop'!D:N,11,FALSE),DATA!A:B,2,FALSE)=7,14,1),5))","v":""},"","",{"$f":"IF(L223=\"\",\"\",IF(L223=RIGHT(A223,5)&\"x\",LEFT(L223,LEN(L223)-1)&\"y\",IF(L223=RIGHT(A223,5)&\"y\",IFERROR(SMALL('Data eshop'!D:D,COUNTIF('Data eshop'!D:D,\"<\"&(LEFT(L223,LEN(L223)-1)*1))),\"\"),IF(ISERROR(IF(VLOOKUP(M223+1,'Data eshop'!C:D,2,FALSE)='Řádky zakázky'!L223,L223,L223&\"x\")),IF(RIGHT(L223,1)=\"y\",\"\",L223&\"x\"),IF(VLOOKUP(M223+1,'Data eshop'!C:D,2,FALSE)='Řádky zakázky'!L223,L223,L223&\"x\")))))","v":"0xxxxxxxxxxxxxxxxxxxxxxxxxxxxxxxxxxxxxxxxxxxxxxxxxxxxxxxxxxxxxxxxxxxxxxxxxxxxxxxxxxxxxxxxxxxxxxxxxxxxxxxxxxxxxxxxxxxxxxxxxxxxxxxxxxxxxxxxxxxxxxxxxxxxxxxxxxxxxxxxxxxxxxxxxxxxxxxxxxxxxxxxxxxxxxxxxxxxxxxxxxxxxxxxxxxxxxxxxxxxxx"},1,{"$f":"IF(A224=\"\",\"\",VLOOKUP(RIGHT(A224,5)*1,'Data eshop'!D:W,17,FALSE))","v":{"$error":"#VALUE!"}},{"$f":"VLOOKUP(A224,Zakázky!A:B,2,FALSE)","v":{"$error":"#N/A"}},"","Roluj nahoru, až uvidíš žlutou"]
["19ESh0",{"$f":"IFERROR(IF(ISNUMBER(L225),VLOOKUP(L225&\"-\"&M225,'Data eshop'!B:W,16,FALSE),IF(RIGHT(L225,1)=\"x\",VLOOKUP(VLOOKUP(RIGHT(A225,5)*1,'Data eshop'!D:N,11,FALSE),DATA!G:I,3,FALSE),IF(RIGHT(L225,1)=\"y\",IF(VLOOKUP(RIGHT(A225,5)*1,'Data eshop'!D:O,12,FALSE)=IF(O225=\"T7\",DATA!$D$2,IF(O225=\"E87\",DATA!$D$5,IF(O225=\"P2\",DATA!$D$6,IF(O225=\"e2695\",DATA!$D$7,\"\")))),IF(N225>=IF(O225=\"T7\",DATA!$K$11,IF(O225=\"E87\",DATA!$L$11,IF(O225=\"P2\",DATA!$M$11,IF(O225=\"e2695\",DATA!$N$11,\"\")))),\"uni008\",\"uni001\"),IF(VLOOKUP(RIGHT(A225,5)*1,'Data eshop'!D:O,12,FALSE)=DATA!$D$3,IF(O225=\"T7\",IF(N225>=500,\"uni009\",\"uni002\"),\"x\"),IF(VLOOKUP(RIGHT(A225,5)*1,'Data eshop'!D:O,12,FALSE)=DATA!$D$4,\"uni010\",\"\"))),\"\"))),\"\")","v":""},{"$f":"IFERROR(IF(A225=\"\",\"\",IF(LEFT(B225,3)=\"uni\",1,VLOOKUP(RIGHT(A225,5)&\"-\"&B225,'Data eshop'!A:R,18,FALSE))),\"\")","v":""},"",{"$f":"IFERROR(IF(A225=\"\",\"\",IF(LEFT(B225,3)=\"uni\",VLOOKUP(B225,DATA!I:X,IF(O225=\"T7\",3,IF(O225=\"E87\",4,IF(O225=\"P2\",5,IF(O225=\"E2695\",6,\"\")))),FALSE),VLOOKUP(RIGHT(A225,5)&\"-\"&B225,'Data eshop'!A:S,19,FALSE))),\"\")","v":""},{"$f":"IFERROR(IF(A225=\"\",\"\",IF(LEFT(B225,3)=\"uni\",0,VLOOKUP(RIGHT(A225,5)&\"-\"&B225,'Data eshop'!A:S,16,FALSE))),\"\")","v":""},null,"",{"$f":"IF(H225=\"\",\"\",WORKDAY(TODAY()+IF(VLOOKUP(VLOOKUP(RIGHT(A225,5)*1,'Data eshop'!D:N,11,FALSE),DATA!A:B,2,FALSE)=7,14,1),5))","v":""},"","",{"$f":"IF(L224=\"\",\"\",IF(L224=RIGHT(A224,5)&\"x\",LEFT(L224,LEN(L224)-1)&\"y\",IF(L224=RIGHT(A224,5)&\"y\",IFERROR(SMALL('Data eshop'!D:D,COUNTIF('Data eshop'!D:D,\"<\"&(LEFT(L224,LEN(L224)-1)*1))),\"\"),IF(ISERROR(IF(VLOOKUP(M224+1,'Data eshop'!C:D,2,FALSE)='Řádky zakázky'!L224,L224,L224&\"x\")),IF(RIGHT(L224,1)=\"y\",\"\",L224&\"x\"),IF(VLOOKUP(M224+1,'Data eshop'!C:D,2,FALSE)='Řádky zakázky'!L224,L224,L224&\"x\")))))","v":"0xxxxxxxxxxxxxxxxxxxxxxxxxxxxxxxxxxxxxxxxxxxxxxxxxxxxxxxxxxxxxxxxxxxxxxxxxxxxxxxxxxxxxxxxxxxxxxxxxxxxxxxxxxxxxxxxxxxxxxxxxxxxxxxxxxxxxxxxxxxxxxxxxxxxxxxxxxxxxxxxxxxxxxxxxxxxxxxxxxxxxxxxxxxxxxxxxxxxxxxxxxxxxxxxxxxxxxxxxxxxxxx"},1,{"$f":"IF(A225=\"\",\"\",VLOOKUP(RIGHT(A225,5)*1,'Data eshop'!D:W,17,FALSE))","v":{"$error":"#VALUE!"}},{"$f":"VLOOKUP(A225,Zakázky!A:B,2,FALSE)","v":{"$error":"#N/A"}},""]
["19ESh0",{"$f":"IFERROR(IF(ISNUMBER(L226),VLOOKUP(L226&\"-\"&M226,'Data eshop'!B:W,16,FALSE),IF(RIGHT(L226,1)=\"x\",VLOOKUP(VLOOKUP(RIGHT(A226,5)*1,'Data eshop'!D:N,11,FALSE),DATA!G:I,3,FALSE),IF(RIGHT(L226,1)=\"y\",IF(VLOOKUP(RIGHT(A226,5)*1,'Data eshop'!D:O,12,FALSE)=IF(O226=\"T7\",DATA!$D$2,IF(O226=\"E87\",DATA!$D$5,IF(O226=\"P2\",DATA!$D$6,IF(O226=\"e2695\",DATA!$D$7,\"\")))),IF(N226>=IF(O226=\"T7\",DATA!$K$11,IF(O226=\"E87\",DATA!$L$11,IF(O226=\"P2\",DATA!$M$11,IF(O226=\"e2695\",DATA!$N$11,\"\")))),\"uni008\",\"uni001\"),IF(VLOOKUP(RIGHT(A226,5)*1,'Data eshop'!D:O,12,FALSE)=DATA!$D$3,IF(O226=\"T7\",IF(N226>=500,\"uni009\",\"uni002\"),\"x\"),IF(VLOOKUP(RIGHT(A226,5)*1,'Data eshop'!D:O,12,FALSE)=DATA!$D$4,\"uni010\",\"\"))),\"\"))),\"\")","v":""},{"$f":"IFERROR(IF(A226=\"\",\"\",IF(LEFT(B226,3)=\"uni\",1,VLOOKUP(RIGHT(A226,5)&\"-\"&B226,'Data eshop'!A:R,18,FALSE))),\"\")","v":""},"",{"$f":"IFERROR(IF(A226=\"\",\"\",IF(LEFT(B226,3)=\"uni\",VLOOKUP(B226,DATA!I:X,IF(O226=\"T7\",3,IF(O226=\"E87\",4,IF(O226=\"P2\",5,IF(O226=\"E2695\",6,\"\")))),FALSE),VLOOKUP(RIGHT(A226,5)&\"-\"&B226,'Data eshop'!A:S,19,FALSE))),\"\")","v":""},{"$f":"IFERROR(IF(A226=\"\",\"\",IF(LEFT(B226,3)=\"uni\",0,VLOOKUP(RIGHT(A226,5)&\"-\"&B226,'Data eshop'!A:S,16,FALSE))),\"\")","v":""},null,"",{"$f":"IF(H226=\"\",\"\",WORKDAY(TODAY()+IF(VLOOKUP(VLOOKUP(RIGHT(A226,5)*1,'Data eshop'!D:N,11,FALSE),DATA!A:B,2,FALSE)=7,14,1),5))","v":""},"","",{"$f":"IF(L225=\"\",\"\",IF(L225=RIGHT(A225,5)&\"x\",LEFT(L225,LEN(L225)-1)&\"y\",IF(L225=RIGHT(A225,5)&\"y\",IFERROR(SMALL('Data eshop'!D:D,COUNTIF('Data eshop'!D:D,\"<\"&(LEFT(L225,LEN(L225)-1)*1))),\"\"),IF(ISERROR(IF(VLOOKUP(M225+1,'Data eshop'!C:D,2,FALSE)='Řádky zakázky'!L225,L225,L225&\"x\")),IF(RIGHT(L225,1)=\"y\",\"\",L225&\"x\"),IF(VLOOKUP(M225+1,'Data eshop'!C:D,2,FALSE)='Řádky zakázky'!L225,L225,L225&\"x\")))))","v":"0xxxxxxxxxxxxxxxxxxxxxxxxxxxxxxxxxxxxxxxxxxxxxxxxxxxxxxxxxxxxxxxxxxxxxxxxxxxxxxxxxxxxxxxxxxxxxxxxxxxxxxxxxxxxxxxxxxxxxxxxxxxxxxxxxxxxxxxxxxxxxxxxxxxxxxxxxxxxxxxxxxxxxxxxxxxxxxxxxxxxxxxxxxxxxxxxxxxxxxxxxxxxxxxxxxxxxxxxxxxxxxxx"},1,{"$f":"IF(A226=\"\",\"\",VLOOKUP(RIGHT(A226,5)*1,'Data eshop'!D:W,17,FALSE))","v":{"$error":"#VALUE!"}},{"$f":"VLOOKUP(A226,Zakázky!A:B,2,FALSE)","v":{"$error":"#N/A"}},""]
["19ESh0",{"$f":"IFERROR(IF(ISNUMBER(L227),VLOOKUP(L227&\"-\"&M227,'Data eshop'!B:W,16,FALSE),IF(RIGHT(L227,1)=\"x\",VLOOKUP(VLOOKUP(RIGHT(A227,5)*1,'Data eshop'!D:N,11,FALSE),DATA!G:I,3,FALSE),IF(RIGHT(L227,1)=\"y\",IF(VLOOKUP(RIGHT(A227,5)*1,'Data eshop'!D:O,12,FALSE)=IF(O227=\"T7\",DATA!$D$2,IF(O227=\"E87\",DATA!$D$5,IF(O227=\"P2\",DATA!$D$6,IF(O227=\"e2695\",DATA!$D$7,\"\")))),IF(N227>=IF(O227=\"T7\",DATA!$K$11,IF(O227=\"E87\",DATA!$L$11,IF(O227=\"P2\",DATA!$M$11,IF(O227=\"e2695\",DATA!$N$11,\"\")))),\"uni008\",\"uni001\"),IF(VLOOKUP(RIGHT(A227,5)*1,'Data eshop'!D:O,12,FALSE)=DATA!$D$3,IF(O227=\"T7\",IF(N227>=500,\"uni009\",\"uni002\"),\"x\"),IF(VLOOKUP(RIGHT(A227,5)*1,'Data eshop'!D:O,12,FALSE)=DATA!$D$4,\"uni010\",\"\"))),\"\"))),\"\")","v":""},{"$f":"IFERROR(IF(A227=\"\",\"\",IF(LEFT(B227,3)=\"uni\",1,VLOOKUP(RIGHT(A227,5)&\"-\"&B227,'Data eshop'!A:R,18,FALSE))),\"\")","v":""},"",{"$f":"IFERROR(IF(A227=\"\",\"\",IF(LEFT(B227,3)=\"uni\",VLOOKUP(B227,DATA!I:X,IF(O227=\"T7\",3,IF(O227=\"E87\",4,IF(O227=\"P2\",5,IF(O227=\"E2695\",6,\"\")))),FALSE),VLOOKUP(RIGHT(A227,5)&\"-\"&B227,'Data eshop'!A:S,19,FALSE))),\"\")","v":""},{"$f":"IFERROR(IF(A227=\"\",\"\",IF(LEFT(B227,3)=\"uni\",0,VLOOKUP(RIGHT(A227,5)&\"-\"&B227,'Data eshop'!A:S,16,FALSE))),\"\")","v":""},null,"",{"$f":"IF(H227=\"\",\"\",WORKDAY(TODAY()+IF(VLOOKUP(VLOOKUP(RIGHT(A227,5)*1,'Data eshop'!D:N,11,FALSE),DATA!A:B,2,FALSE)=7,14,1),5))","v":""},"","",{"$f":"IF(L226=\"\",\"\",IF(L226=RIGHT(A226,5)&\"x\",LEFT(L226,LEN(L226)-1)&\"y\",IF(L226=RIGHT(A226,5)&\"y\",IFERROR(SMALL('Data eshop'!D:D,COUNTIF('Data eshop'!D:D,\"<\"&(LEFT(L226,LEN(L226)-1)*1))),\"\"),IF(ISERROR(IF(VLOOKUP(M226+1,'Data eshop'!C:D,2,FALSE)='Řádky zakázky'!L226,L226,L226&\"x\")),IF(RIGHT(L226,1)=\"y\",\"\",L226&\"x\"),IF(VLOOKUP(M226+1,'Data eshop'!C:D,2,FALSE)='Řádky zakázky'!L226,L226,L226&\"x\")))))","v":"0xxxxxxxxxxxxxxxxxxxxxxxxxxxxxxxxxxxxxxxxxxxxxxxxxxxxxxxxxxxxxxxxxxxxxxxxxxxxxxxxxxxxxxxxxxxxxxxxxxxxxxxxxxxxxxxxxxxxxxxxxxxxxxxxxxxxxxxxxxxxxxxxxxxxxxxxxxxxxxxxxxxxxxxxxxxxxxxxxxxxxxxxxxxxxxxxxxxxxxxxxxxxxxxxxxxxxxxxxxxxxxxxx"},1,{"$f":"IF(A227=\"\",\"\",VLOOKUP(RIGHT(A227,5)*1,'Data eshop'!D:W,17,FALSE))","v":{"$error":"#VALUE!"}},{"$f":"VLOOKUP(A227,Zakázky!A:B,2,FALSE)","v":{"$error":"#N/A"}},""]
["19ESh0",{"$f":"IFERROR(IF(ISNUMBER(L228),VLOOKUP(L228&\"-\"&M228,'Data eshop'!B:W,16,FALSE),IF(RIGHT(L228,1)=\"x\",VLOOKUP(VLOOKUP(RIGHT(A228,5)*1,'Data eshop'!D:N,11,FALSE),DATA!G:I,3,FALSE),IF(RIGHT(L228,1)=\"y\",IF(VLOOKUP(RIGHT(A228,5)*1,'Data eshop'!D:O,12,FALSE)=IF(O228=\"T7\",DATA!$D$2,IF(O228=\"E87\",DATA!$D$5,IF(O228=\"P2\",DATA!$D$6,IF(O228=\"e2695\",DATA!$D$7,\"\")))),IF(N228>=IF(O228=\"T7\",DATA!$K$11,IF(O228=\"E87\",DATA!$L$11,IF(O228=\"P2\",DATA!$M$11,IF(O228=\"e2695\",DATA!$N$11,\"\")))),\"uni008\",\"uni001\"),IF(VLOOKUP(RIGHT(A228,5)*1,'Data eshop'!D:O,12,FALSE)=DATA!$D$3,IF(O228=\"T7\",IF(N228>=500,\"uni009\",\"uni002\"),\"x\"),IF(VLOOKUP(RIGHT(A228,5)*1,'Data eshop'!D:O,12,FALSE)=DATA!$D$4,\"uni010\",\"\"))),\"\"))),\"\")","v":""},{"$f":"IFERROR(IF(A228=\"\",\"\",IF(LEFT(B228,3)=\"uni\",1,VLOOKUP(RIGHT(A228,5)&\"-\"&B228,'Data eshop'!A:R,18,FALSE))),\"\")","v":""},"",{"$f":"IFERROR(IF(A228=\"\",\"\",IF(LEFT(B228,3)=\"uni\",VLOOKUP(B228,DATA!I:X,IF(O228=\"T7\",3,IF(O228=\"E87\",4,IF(O228=\"P2\",5,IF(O228=\"E2695\",6,\"\")))),FALSE),VLOOKUP(RIGHT(A228,5)&\"-\"&B228,'Data eshop'!A:S,19,FALSE))),\"\")","v":""},{"$f":"IFERROR(IF(A228=\"\",\"\",IF(LEFT(B228,3)=\"uni\",0,VLOOKUP(RIGHT(A228,5)&\"-\"&B228,'Data eshop'!A:S,16,FALSE))),\"\")","v":""},null,"",{"$f":"IF(H228=\"\",\"\",WORKDAY(TODAY()+IF(VLOOKUP(VLOOKUP(RIGHT(A228,5)*1,'Data eshop'!D:N,11,FALSE),DATA!A:B,2,FALSE)=7,14,1),5))","v":""},"","",{"$f":"IF(L227=\"\",\"\",IF(L227=RIGHT(A227,5)&\"x\",LEFT(L227,LEN(L227)-1)&\"y\",IF(L227=RIGHT(A227,5)&\"y\",IFERROR(SMALL('Data eshop'!D:D,COUNTIF('Data eshop'!D:D,\"<\"&(LEFT(L227,LEN(L227)-1)*1))),\"\"),IF(ISERROR(IF(VLOOKUP(M227+1,'Data eshop'!C:D,2,FALSE)='Řádky zakázky'!L227,L227,L227&\"x\")),IF(RIGHT(L227,1)=\"y\",\"\",L227&\"x\"),IF(VLOOKUP(M227+1,'Data eshop'!C:D,2,FALSE)='Řádky zakázky'!L227,L227,L227&\"x\")))))","v":"0xxxxxxxxxxxxxxxxxxxxxxxxxxxxxxxxxxxxxxxxxxxxxxxxxxxxxxxxxxxxxxxxxxxxxxxxxxxxxxxxxxxxxxxxxxxxxxxxxxxxxxxxxxxxxxxxxxxxxxxxxxxxxxxxxxxxxxxxxxxxxxxxxxxxxxxxxxxxxxxxxxxxxxxxxxxxxxxxxxxxxxxxxxxxxxxxxxxxxxxxxxxxxxxxxxxxxxxxxxxxxxxxxx"},1,{"$f":"IF(A228=\"\",\"\",VLOOKUP(RIGHT(A228,5)*1,'Data eshop'!D:W,17,FALSE))","v":{"$error":"#VALUE!"}},{"$f":"VLOOKUP(A228,Zakázky!A:B,2,FALSE)","v":{"$error":"#N/A"}},"","Roluj nahoru, až uvidíš žlutou"]
["19ESh0",{"$f":"IFERROR(IF(ISNUMBER(L229),VLOOKUP(L229&\"-\"&M229,'Data eshop'!B:W,16,FALSE),IF(RIGHT(L229,1)=\"x\",VLOOKUP(VLOOKUP(RIGHT(A229,5)*1,'Data eshop'!D:N,11,FALSE),DATA!G:I,3,FALSE),IF(RIGHT(L229,1)=\"y\",IF(VLOOKUP(RIGHT(A229,5)*1,'Data eshop'!D:O,12,FALSE)=IF(O229=\"T7\",DATA!$D$2,IF(O229=\"E87\",DATA!$D$5,IF(O229=\"P2\",DATA!$D$6,IF(O229=\"e2695\",DATA!$D$7,\"\")))),IF(N229>=IF(O229=\"T7\",DATA!$K$11,IF(O229=\"E87\",DATA!$L$11,IF(O229=\"P2\",DATA!$M$11,IF(O229=\"e2695\",DATA!$N$11,\"\")))),\"uni008\",\"uni001\"),IF(VLOOKUP(RIGHT(A229,5)*1,'Data eshop'!D:O,12,FALSE)=DATA!$D$3,IF(O229=\"T7\",IF(N229>=500,\"uni009\",\"uni002\"),\"x\"),IF(VLOOKUP(RIGHT(A229,5)*1,'Data eshop'!D:O,12,FALSE)=DATA!$D$4,\"uni010\",\"\"))),\"\"))),\"\")","v":""},{"$f":"IFERROR(IF(A229=\"\",\"\",IF(LEFT(B229,3)=\"uni\",1,VLOOKUP(RIGHT(A229,5)&\"-\"&B229,'Data eshop'!A:R,18,FALSE))),\"\")","v":""},"",{"$f":"IFERROR(IF(A229=\"\",\"\",IF(LEFT(B229,3)=\"uni\",VLOOKUP(B229,DATA!I:X,IF(O229=\"T7\",3,IF(O229=\"E87\",4,IF(O229=\"P2\",5,IF(O229=\"E2695\",6,\"\")))),FALSE),VLOOKUP(RIGHT(A229,5)&\"-\"&B229,'Data eshop'!A:S,19,FALSE))),\"\")","v":""},{"$f":"IFERROR(IF(A229=\"\",\"\",IF(LEFT(B229,3)=\"uni\",0,VLOOKUP(RIGHT(A229,5)&\"-\"&B229,'Data eshop'!A:S,16,FALSE))),\"\")","v":""},null,"",{"$f":"IF(H229=\"\",\"\",WORKDAY(TODAY()+IF(VLOOKUP(VLOOKUP(RIGHT(A229,5)*1,'Data eshop'!D:N,11,FALSE),DATA!A:B,2,FALSE)=7,14,1),5))","v":""},"","",{"$f":"IF(L228=\"\",\"\",IF(L228=RIGHT(A228,5)&\"x\",LEFT(L228,LEN(L228)-1)&\"y\",IF(L228=RIGHT(A228,5)&\"y\",IFERROR(SMALL('Data eshop'!D:D,COUNTIF('Data eshop'!D:D,\"<\"&(LEFT(L228,LEN(L228)-1)*1))),\"\"),IF(ISERROR(IF(VLOOKUP(M228+1,'Data eshop'!C:D,2,FALSE)='Řádky zakázky'!L228,L228,L228&\"x\")),IF(RIGHT(L228,1)=\"y\",\"\",L228&\"x\"),IF(VLOOKUP(M228+1,'Data eshop'!C:D,2,FALSE)='Řádky zakázky'!L228,L228,L228&\"x\")))))","v":"0xxxxxxxxxxxxxxxxxxxxxxxxxxxxxxxxxxxxxxxxxxxxxxxxxxxxxxxxxxxxxxxxxxxxxxxxxxxxxxxxxxxxxxxxxxxxxxxxxxxxxxxxxxxxxxxxxxxxxxxxxxxxxxxxxxxxxxxxxxxxxxxxxxxxxxxxxxxxxxxxxxxxxxxxxxxxxxxxxxxxxxxxxxxxxxxxxxxxxxxxxxxxxxxxxxxxxxxxxxxxxxxxxxx"},1,{"$f":"IF(A229=\"\",\"\",VLOOKUP(RIGHT(A229,5)*1,'Data eshop'!D:W,17,FALSE))","v":{"$error":"#VALUE!"}},{"$f":"VLOOKUP(A229,Zakázky!A:B,2,FALSE)","v":{"$error":"#N/A"}},""]
["19ESh0",{"$f":"IFERROR(IF(ISNUMBER(L230),VLOOKUP(L230&\"-\"&M230,'Data eshop'!B:W,16,FALSE),IF(RIGHT(L230,1)=\"x\",VLOOKUP(VLOOKUP(RIGHT(A230,5)*1,'Data eshop'!D:N,11,FALSE),DATA!G:I,3,FALSE),IF(RIGHT(L230,1)=\"y\",IF(VLOOKUP(RIGHT(A230,5)*1,'Data eshop'!D:O,12,FALSE)=IF(O230=\"T7\",DATA!$D$2,IF(O230=\"E87\",DATA!$D$5,IF(O230=\"P2\",DATA!$D$6,IF(O230=\"e2695\",DATA!$D$7,\"\")))),IF(N230>=IF(O230=\"T7\",DATA!$K$11,IF(O230=\"E87\",DATA!$L$11,IF(O230=\"P2\",DATA!$M$11,IF(O230=\"e2695\",DATA!$N$11,\"\")))),\"uni008\",\"uni001\"),IF(VLOOKUP(RIGHT(A230,5)*1,'Data eshop'!D:O,12,FALSE)=DATA!$D$3,IF(O230=\"T7\",IF(N230>=500,\"uni009\",\"uni002\"),\"x\"),IF(VLOOKUP(RIGHT(A230,5)*1,'Data eshop'!D:O,12,FALSE)=DATA!$D$4,\"uni010\",\"\"))),\"\"))),\"\")","v":""},{"$f":"IFERROR(IF(A230=\"\",\"\",IF(LEFT(B230,3)=\"uni\",1,VLOOKUP(RIGHT(A230,5)&\"-\"&B230,'Data eshop'!A:R,18,FALSE))),\"\")","v":""},"",{"$f":"IFERROR(IF(A230=\"\",\"\",IF(LEFT(B230,3)=\"uni\",VLOOKUP(B230,DATA!I:X,IF(O230=\"T7\",3,IF(O230=\"E87\",4,IF(O230=\"P2\",5,IF(O230=\"E2695\",6,\"\")))),FALSE),VLOOKUP(RIGHT(A230,5)&\"-\"&B230,'Data eshop'!A:S,19,FALSE))),\"\")","v":""},{"$f":"IFERROR(IF(A230=\"\",\"\",IF(LEFT(B230,3)=\"uni\",0,VLOOKUP(RIGHT(A230,5)&\"-\"&B230,'Data eshop'!A:S,16,FALSE))),\"\")","v":""},null,"",{"$f":"IF(H230=\"\",\"\",WORKDAY(TODAY()+IF(VLOOKUP(VLOOKUP(RIGHT(A230,5)*1,'Data eshop'!D:N,11,FALSE),DATA!A:B,2,FALSE)=7,14,1),5))","v":""},"","",{"$f":"IF(L229=\"\",\"\",IF(L229=RIGHT(A229,5)&\"x\",LEFT(L229,LEN(L229)-1)&\"y\",IF(L229=RIGHT(A229,5)&\"y\",IFERROR(SMALL('Data eshop'!D:D,COUNTIF('Data eshop'!D:D,\"<\"&(LEFT(L229,LEN(L229)-1)*1))),\"\"),IF(ISERROR(IF(VLOOKUP(M229+1,'Data eshop'!C:D,2,FALSE)='Řádky zakázky'!L229,L229,L229&\"x\")),IF(RIGHT(L229,1)=\"y\",\"\",L229&\"x\"),IF(VLOOKUP(M229+1,'Data eshop'!C:D,2,FALSE)='Řádky zakázky'!L229,L229,L229&\"x\")))))","v":"0xxxxxxxxxxxxxxxxxxxxxxxxxxxxxxxxxxxxxxxxxxxxxxxxxxxxxxxxxxxxxxxxxxxxxxxxxxxxxxxxxxxxxxxxxxxxxxxxxxxxxxxxxxxxxxxxxxxxxxxxxxxxxxxxxxxxxxxxxxxxxxxxxxxxxxxxxxxxxxxxxxxxxxxxxxxxxxxxxxxxxxxxxxxxxxxxxxxxxxxxxxxxxxxxxxxxxxxxxxxxxxxxxxxx"},1,{"$f":"IF(A230=\"\",\"\",VLOOKUP(RIGHT(A230,5)*1,'Data eshop'!D:W,17,FALSE))","v":{"$error":"#VALUE!"}},{"$f":"VLOOKUP(A230,Zakázky!A:B,2,FALSE)","v":{"$error":"#N/A"}},""]
["19ESh0",{"$f":"IFERROR(IF(ISNUMBER(L231),VLOOKUP(L231&\"-\"&M231,'Data eshop'!B:W,16,FALSE),IF(RIGHT(L231,1)=\"x\",VLOOKUP(VLOOKUP(RIGHT(A231,5)*1,'Data eshop'!D:N,11,FALSE),DATA!G:I,3,FALSE),IF(RIGHT(L231,1)=\"y\",IF(VLOOKUP(RIGHT(A231,5)*1,'Data eshop'!D:O,12,FALSE)=IF(O231=\"T7\",DATA!$D$2,IF(O231=\"E87\",DATA!$D$5,IF(O231=\"P2\",DATA!$D$6,IF(O231=\"e2695\",DATA!$D$7,\"\")))),IF(N231>=IF(O231=\"T7\",DATA!$K$11,IF(O231=\"E87\",DATA!$L$11,IF(O231=\"P2\",DATA!$M$11,IF(O231=\"e2695\",DATA!$N$11,\"\")))),\"uni008\",\"uni001\"),IF(VLOOKUP(RIGHT(A231,5)*1,'Data eshop'!D:O,12,FALSE)=DATA!$D$3,IF(O231=\"T7\",IF(N231>=500,\"uni009\",\"uni002\"),\"x\"),IF(VLOOKUP(RIGHT(A231,5)*1,'Data eshop'!D:O,12,FALSE)=DATA!$D$4,\"uni010\",\"\"))),\"\"))),\"\")","v":""},{"$f":"IFERROR(IF(A231=\"\",\"\",IF(LEFT(B231,3)=\"uni\",1,VLOOKUP(RIGHT(A231,5)&\"-\"&B231,'Data eshop'!A:R,18,FALSE))),\"\")","v":""},"",{"$f":"IFERROR(IF(A231=\"\",\"\",IF(LEFT(B231,3)=\"uni\",VLOOKUP(B231,DATA!I:X,IF(O231=\"T7\",3,IF(O231=\"E87\",4,IF(O231=\"P2\",5,IF(O231=\"E2695\",6,\"\")))),FALSE),VLOOKUP(RIGHT(A231,5)&\"-\"&B231,'Data eshop'!A:S,19,FALSE))),\"\")","v":""},{"$f":"IFERROR(IF(A231=\"\",\"\",IF(LEFT(B231,3)=\"uni\",0,VLOOKUP(RIGHT(A231,5)&\"-\"&B231,'Data eshop'!A:S,16,FALSE))),\"\")","v":""},null,"",{"$f":"IF(H231=\"\",\"\",WORKDAY(TODAY()+IF(VLOOKUP(VLOOKUP(RIGHT(A231,5)*1,'Data eshop'!D:N,11,FALSE),DATA!A:B,2,FALSE)=7,14,1),5))","v":""},"","",{"$f":"IF(L230=\"\",\"\",IF(L230=RIGHT(A230,5)&\"x\",LEFT(L230,LEN(L230)-1)&\"y\",IF(L230=RIGHT(A230,5)&\"y\",IFERROR(SMALL('Data eshop'!D:D,COUNTIF('Data eshop'!D:D,\"<\"&(LEFT(L230,LEN(L230)-1)*1))),\"\"),IF(ISERROR(IF(VLOOKUP(M230+1,'Data eshop'!C:D,2,FALSE)='Řádky zakázky'!L230,L230,L230&\"x\")),IF(RIGHT(L230,1)=\"y\",\"\",L230&\"x\"),IF(VLOOKUP(M230+1,'Data eshop'!C:D,2,FALSE)='Řádky zakázky'!L230,L230,L230&\"x\")))))","v":"0xxxxxxxxxxxxxxxxxxxxxxxxxxxxxxxxxxxxxxxxxxxxxxxxxxxxxxxxxxxxxxxxxxxxxxxxxxxxxxxxxxxxxxxxxxxxxxxxxxxxxxxxxxxxxxxxxxxxxxxxxxxxxxxxxxxxxxxxxxxxxxxxxxxxxxxxxxxxxxxxxxxxxxxxxxxxxxxxxxxxxxxxxxxxxxxxxxxxxxxxxxxxxxxxxxxxxxxxxxxxxxxxxxxxx"},1,{"$f":"IF(A231=\"\",\"\",VLOOKUP(RIGHT(A231,5)*1,'Data eshop'!D:W,17,FALSE))","v":{"$error":"#VALUE!"}},{"$f":"VLOOKUP(A231,Zakázky!A:B,2,FALSE)","v":{"$error":"#N/A"}},""]
["19ESh0",{"$f":"IFERROR(IF(ISNUMBER(L232),VLOOKUP(L232&\"-\"&M232,'Data eshop'!B:W,16,FALSE),IF(RIGHT(L232,1)=\"x\",VLOOKUP(VLOOKUP(RIGHT(A232,5)*1,'Data eshop'!D:N,11,FALSE),DATA!G:I,3,FALSE),IF(RIGHT(L232,1)=\"y\",IF(VLOOKUP(RIGHT(A232,5)*1,'Data eshop'!D:O,12,FALSE)=IF(O232=\"T7\",DATA!$D$2,IF(O232=\"E87\",DATA!$D$5,IF(O232=\"P2\",DATA!$D$6,IF(O232=\"e2695\",DATA!$D$7,\"\")))),IF(N232>=IF(O232=\"T7\",DATA!$K$11,IF(O232=\"E87\",DATA!$L$11,IF(O232=\"P2\",DATA!$M$11,IF(O232=\"e2695\",DATA!$N$11,\"\")))),\"uni008\",\"uni001\"),IF(VLOOKUP(RIGHT(A232,5)*1,'Data eshop'!D:O,12,FALSE)=DATA!$D$3,IF(O232=\"T7\",IF(N232>=500,\"uni009\",\"uni002\"),\"x\"),IF(VLOOKUP(RIGHT(A232,5)*1,'Data eshop'!D:O,12,FALSE)=DATA!$D$4,\"uni010\",\"\"))),\"\"))),\"\")","v":""},{"$f":"IFERROR(IF(A232=\"\",\"\",IF(LEFT(B232,3)=\"uni\",1,VLOOKUP(RIGHT(A232,5)&\"-\"&B232,'Data eshop'!A:R,18,FALSE))),\"\")","v":""},"",{"$f":"IFERROR(IF(A232=\"\",\"\",IF(LEFT(B232,3)=\"uni\",VLOOKUP(B232,DATA!I:X,IF(O232=\"T7\",3,IF(O232=\"E87\",4,IF(O232=\"P2\",5,IF(O232=\"E2695\",6,\"\")))),FALSE),VLOOKUP(RIGHT(A232,5)&\"-\"&B232,'Data eshop'!A:S,19,FALSE))),\"\")","v":""},{"$f":"IFERROR(IF(A232=\"\",\"\",IF(LEFT(B232,3)=\"uni\",0,VLOOKUP(RIGHT(A232,5)&\"-\"&B232,'Data eshop'!A:S,16,FALSE))),\"\")","v":""},null,"",{"$f":"IF(H232=\"\",\"\",WORKDAY(TODAY()+IF(VLOOKUP(VLOOKUP(RIGHT(A232,5)*1,'Data eshop'!D:N,11,FALSE),DATA!A:B,2,FALSE)=7,14,1),5))","v":""},"","",{"$f":"IF(L231=\"\",\"\",IF(L231=RIGHT(A231,5)&\"x\",LEFT(L231,LEN(L231)-1)&\"y\",IF(L231=RIGHT(A231,5)&\"y\",IFERROR(SMALL('Data eshop'!D:D,COUNTIF('Data eshop'!D:D,\"<\"&(LEFT(L231,LEN(L231)-1)*1))),\"\"),IF(ISERROR(IF(VLOOKUP(M231+1,'Data eshop'!C:D,2,FALSE)='Řádky zakázky'!L231,L231,L231&\"x\")),IF(RIGHT(L231,1)=\"y\",\"\",L231&\"x\"),IF(VLOOKUP(M231+1,'Data eshop'!C:D,2,FALSE)='Řádky zakázky'!L231,L231,L231&\"x\")))))","v":"0xxxxxxxxxxxxxxxxxxxxxxxxxxxxxxxxxxxxxxxxxxxxxxxxxxxxxxxxxxxxxxxxxxxxxxxxxxxxxxxxxxxxxxxxxxxxxxxxxxxxxxxxxxxxxxxxxxxxxxxxxxxxxxxxxxxxxxxxxxxxxxxxxxxxxxxxxxxxxxxxxxxxxxxxxxxxxxxxxxxxxxxxxxxxxxxxxxxxxxxxxxxxxxxxxxxxxxxxxxxxxxxxxxxxxx"},1,{"$f":"IF(A232=\"\",\"\",VLOOKUP(RIGHT(A232,5)*1,'Data eshop'!D:W,17,FALSE))","v":{"$error":"#VALUE!"}},{"$f":"VLOOKUP(A232,Zakázky!A:B,2,FALSE)","v":{"$error":"#N/A"}},"","Roluj nahoru, až uvidíš žlutou"]
["19ESh0",{"$f":"IFERROR(IF(ISNUMBER(L233),VLOOKUP(L233&\"-\"&M233,'Data eshop'!B:W,16,FALSE),IF(RIGHT(L233,1)=\"x\",VLOOKUP(VLOOKUP(RIGHT(A233,5)*1,'Data eshop'!D:N,11,FALSE),DATA!G:I,3,FALSE),IF(RIGHT(L233,1)=\"y\",IF(VLOOKUP(RIGHT(A233,5)*1,'Data eshop'!D:O,12,FALSE)=IF(O233=\"T7\",DATA!$D$2,IF(O233=\"E87\",DATA!$D$5,IF(O233=\"P2\",DATA!$D$6,IF(O233=\"e2695\",DATA!$D$7,\"\")))),IF(N233>=IF(O233=\"T7\",DATA!$K$11,IF(O233=\"E87\",DATA!$L$11,IF(O233=\"P2\",DATA!$M$11,IF(O233=\"e2695\",DATA!$N$11,\"\")))),\"uni008\",\"uni001\"),IF(VLOOKUP(RIGHT(A233,5)*1,'Data eshop'!D:O,12,FALSE)=DATA!$D$3,IF(O233=\"T7\",IF(N233>=500,\"uni009\",\"uni002\"),\"x\"),IF(VLOOKUP(RIGHT(A233,5)*1,'Data eshop'!D:O,12,FALSE)=DATA!$D$4,\"uni010\",\"\"))),\"\"))),\"\")","v":""},{"$f":"IFERROR(IF(A233=\"\",\"\",IF(LEFT(B233,3)=\"uni\",1,VLOOKUP(RIGHT(A233,5)&\"-\"&B233,'Data eshop'!A:R,18,FALSE))),\"\")","v":""},"",{"$f":"IFERROR(IF(A233=\"\",\"\",IF(LEFT(B233,3)=\"uni\",VLOOKUP(B233,DATA!I:X,IF(O233=\"T7\",3,IF(O233=\"E87\",4,IF(O233=\"P2\",5,IF(O233=\"E2695\",6,\"\")))),FALSE),VLOOKUP(RIGHT(A233,5)&\"-\"&B233,'Data eshop'!A:S,19,FALSE))),\"\")","v":""},{"$f":"IFERROR(IF(A233=\"\",\"\",IF(LEFT(B233,3)=\"uni\",0,VLOOKUP(RIGHT(A233,5)&\"-\"&B233,'Data eshop'!A:S,16,FALSE))),\"\")","v":""},null,"",{"$f":"IF(H233=\"\",\"\",WORKDAY(TODAY()+IF(VLOOKUP(VLOOKUP(RIGHT(A233,5)*1,'Data eshop'!D:N,11,FALSE),DATA!A:B,2,FALSE)=7,14,1),5))","v":""},"","",{"$f":"IF(L232=\"\",\"\",IF(L232=RIGHT(A232,5)&\"x\",LEFT(L232,LEN(L232)-1)&\"y\",IF(L232=RIGHT(A232,5)&\"y\",IFERROR(SMALL('Data eshop'!D:D,COUNTIF('Data eshop'!D:D,\"<\"&(LEFT(L232,LEN(L232)-1)*1))),\"\"),IF(ISERROR(IF(VLOOKUP(M232+1,'Data eshop'!C:D,2,FALSE)='Řádky zakázky'!L232,L232,L232&\"x\")),IF(RIGHT(L232,1)=\"y\",\"\",L232&\"x\"),IF(VLOOKUP(M232+1,'Data eshop'!C:D,2,FALSE)='Řádky zakázky'!L232,L232,L232&\"x\")))))","v":"0xxxxxxxxxxxxxxxxxxxxxxxxxxxxxxxxxxxxxxxxxxxxxxxxxxxxxxxxxxxxxxxxxxxxxxxxxxxxxxxxxxxxxxxxxxxxxxxxxxxxxxxxxxxxxxxxxxxxxxxxxxxxxxxxxxxxxxxxxxxxxxxxxxxxxxxxxxxxxxxxxxxxxxxxxxxxxxxxxxxxxxxxxxxxxxxxxxxxxxxxxxxxxxxxxxxxxxxxxxxxxxxxxxxxxxx"},1,{"$f":"IF(A233=\"\",\"\",VLOOKUP(RIGHT(A233,5)*1,'Data eshop'!D:W,17,FALSE))","v":{"$error":"#VALUE!"}},{"$f":"VLOOKUP(A233,Zakázky!A:B,2,FALSE)","v":{"$error":"#N/A"}},""]
["19ESh0",{"$f":"IFERROR(IF(ISNUMBER(L234),VLOOKUP(L234&\"-\"&M234,'Data eshop'!B:W,16,FALSE),IF(RIGHT(L234,1)=\"x\",VLOOKUP(VLOOKUP(RIGHT(A234,5)*1,'Data eshop'!D:N,11,FALSE),DATA!G:I,3,FALSE),IF(RIGHT(L234,1)=\"y\",IF(VLOOKUP(RIGHT(A234,5)*1,'Data eshop'!D:O,12,FALSE)=IF(O234=\"T7\",DATA!$D$2,IF(O234=\"E87\",DATA!$D$5,IF(O234=\"P2\",DATA!$D$6,IF(O234=\"e2695\",DATA!$D$7,\"\")))),IF(N234>=IF(O234=\"T7\",DATA!$K$11,IF(O234=\"E87\",DATA!$L$11,IF(O234=\"P2\",DATA!$M$11,IF(O234=\"e2695\",DATA!$N$11,\"\")))),\"uni008\",\"uni001\"),IF(VLOOKUP(RIGHT(A234,5)*1,'Data eshop'!D:O,12,FALSE)=DATA!$D$3,IF(O234=\"T7\",IF(N234>=500,\"uni009\",\"uni002\"),\"x\"),IF(VLOOKUP(RIGHT(A234,5)*1,'Data eshop'!D:O,12,FALSE)=DATA!$D$4,\"uni010\",\"\"))),\"\"))),\"\")","v":""},{"$f":"IFERROR(IF(A234=\"\",\"\",IF(LEFT(B234,3)=\"uni\",1,VLOOKUP(RIGHT(A234,5)&\"-\"&B234,'Data eshop'!A:R,18,FALSE))),\"\")","v":""},"",{"$f":"IFERROR(IF(A234=\"\",\"\",IF(LEFT(B234,3)=\"uni\",VLOOKUP(B234,DATA!I:X,IF(O234=\"T7\",3,IF(O234=\"E87\",4,IF(O234=\"P2\",5,IF(O234=\"E2695\",6,\"\")))),FALSE),VLOOKUP(RIGHT(A234,5)&\"-\"&B234,'Data eshop'!A:S,19,FALSE))),\"\")","v":""},{"$f":"IFERROR(IF(A234=\"\",\"\",IF(LEFT(B234,3)=\"uni\",0,VLOOKUP(RIGHT(A234,5)&\"-\"&B234,'Data eshop'!A:S,16,FALSE))),\"\")","v":""},null,"",{"$f":"IF(H234=\"\",\"\",WORKDAY(TODAY()+IF(VLOOKUP(VLOOKUP(RIGHT(A234,5)*1,'Data eshop'!D:N,11,FALSE),DATA!A:B,2,FALSE)=7,14,1),5))","v":""},"","",{"$f":"IF(L233=\"\",\"\",IF(L233=RIGHT(A233,5)&\"x\",LEFT(L233,LEN(L233)-1)&\"y\",IF(L233=RIGHT(A233,5)&\"y\",IFERROR(SMALL('Data eshop'!D:D,COUNTIF('Data eshop'!D:D,\"<\"&(LEFT(L233,LEN(L233)-1)*1))),\"\"),IF(ISERROR(IF(VLOOKUP(M233+1,'Data eshop'!C:D,2,FALSE)='Řádky zakázky'!L233,L233,L233&\"x\")),IF(RIGHT(L233,1)=\"y\",\"\",L233&\"x\"),IF(VLOOKUP(M233+1,'Data eshop'!C:D,2,FALSE)='Řádky zakázky'!L233,L233,L233&\"x\")))))","v":"0xxxxxxxxxxxxxxxxxxxxxxxxxxxxxxxxxxxxxxxxxxxxxxxxxxxxxxxxxxxxxxxxxxxxxxxxxxxxxxxxxxxxxxxxxxxxxxxxxxxxxxxxxxxxxxxxxxxxxxxxxxxxxxxxxxxxxxxxxxxxxxxxxxxxxxxxxxxxxxxxxxxxxxxxxxxxxxxxxxxxxxxxxxxxxxxxxxxxxxxxxxxxxxxxxxxxxxxxxxxxxxxxxxxxxxxx"},1,{"$f":"IF(A234=\"\",\"\",VLOOKUP(RIGHT(A234,5)*1,'Data eshop'!D:W,17,FALSE))","v":{"$error":"#VALUE!"}},{"$f":"VLOOKUP(A234,Zakázky!A:B,2,FALSE)","v":{"$error":"#N/A"}},""]
["19ESh0",{"$f":"IFERROR(IF(ISNUMBER(L235),VLOOKUP(L235&\"-\"&M235,'Data eshop'!B:W,16,FALSE),IF(RIGHT(L235,1)=\"x\",VLOOKUP(VLOOKUP(RIGHT(A235,5)*1,'Data eshop'!D:N,11,FALSE),DATA!G:I,3,FALSE),IF(RIGHT(L235,1)=\"y\",IF(VLOOKUP(RIGHT(A235,5)*1,'Data eshop'!D:O,12,FALSE)=IF(O235=\"T7\",DATA!$D$2,IF(O235=\"E87\",DATA!$D$5,IF(O235=\"P2\",DATA!$D$6,IF(O235=\"e2695\",DATA!$D$7,\"\")))),IF(N235>=IF(O235=\"T7\",DATA!$K$11,IF(O235=\"E87\",DATA!$L$11,IF(O235=\"P2\",DATA!$M$11,IF(O235=\"e2695\",DATA!$N$11,\"\")))),\"uni008\",\"uni001\"),IF(VLOOKUP(RIGHT(A235,5)*1,'Data eshop'!D:O,12,FALSE)=DATA!$D$3,IF(O235=\"T7\",IF(N235>=500,\"uni009\",\"uni002\"),\"x\"),IF(VLOOKUP(RIGHT(A235,5)*1,'Data eshop'!D:O,12,FALSE)=DATA!$D$4,\"uni010\",\"\"))),\"\"))),\"\")","v":""},{"$f":"IFERROR(IF(A235=\"\",\"\",IF(LEFT(B235,3)=\"uni\",1,VLOOKUP(RIGHT(A235,5)&\"-\"&B235,'Data eshop'!A:R,18,FALSE))),\"\")","v":""},"",{"$f":"IFERROR(IF(A235=\"\",\"\",IF(LEFT(B235,3)=\"uni\",VLOOKUP(B235,DATA!I:X,IF(O235=\"T7\",3,IF(O235=\"E87\",4,IF(O235=\"P2\",5,IF(O235=\"E2695\",6,\"\")))),FALSE),VLOOKUP(RIGHT(A235,5)&\"-\"&B235,'Data eshop'!A:S,19,FALSE))),\"\")","v":""},{"$f":"IFERROR(IF(A235=\"\",\"\",IF(LEFT(B235,3)=\"uni\",0,VLOOKUP(RIGHT(A235,5)&\"-\"&B235,'Data eshop'!A:S,16,FALSE))),\"\")","v":""},null,"",{"$f":"IF(H235=\"\",\"\",WORKDAY(TODAY()+IF(VLOOKUP(VLOOKUP(RIGHT(A235,5)*1,'Data eshop'!D:N,11,FALSE),DATA!A:B,2,FALSE)=7,14,1),5))","v":""},"","",{"$f":"IF(L234=\"\",\"\",IF(L234=RIGHT(A234,5)&\"x\",LEFT(L234,LEN(L234)-1)&\"y\",IF(L234=RIGHT(A234,5)&\"y\",IFERROR(SMALL('Data eshop'!D:D,COUNTIF('Data eshop'!D:D,\"<\"&(LEFT(L234,LEN(L234)-1)*1))),\"\"),IF(ISERROR(IF(VLOOKUP(M234+1,'Data eshop'!C:D,2,FALSE)='Řádky zakázky'!L234,L234,L234&\"x\")),IF(RIGHT(L234,1)=\"y\",\"\",L234&\"x\"),IF(VLOOKUP(M234+1,'Data eshop'!C:D,2,FALSE)='Řádky zakázky'!L234,L234,L234&\"x\")))))","v":"0xxxxxxxxxxxxxxxxxxxxxxxxxxxxxxxxxxxxxxxxxxxxxxxxxxxxxxxxxxxxxxxxxxxxxxxxxxxxxxxxxxxxxxxxxxxxxxxxxxxxxxxxxxxxxxxxxxxxxxxxxxxxxxxxxxxxxxxxxxxxxxxxxxxxxxxxxxxxxxxxxxxxxxxxxxxxxxxxxxxxxxxxxxxxxxxxxxxxxxxxxxxxxxxxxxxxxxxxxxxxxxxxxxxxxxxxx"},1,{"$f":"IF(A235=\"\",\"\",VLOOKUP(RIGHT(A235,5)*1,'Data eshop'!D:W,17,FALSE))","v":{"$error":"#VALUE!"}},{"$f":"VLOOKUP(A235,Zakázky!A:B,2,FALSE)","v":{"$error":"#N/A"}},""]
["19ESh0",{"$f":"IFERROR(IF(ISNUMBER(L236),VLOOKUP(L236&\"-\"&M236,'Data eshop'!B:W,16,FALSE),IF(RIGHT(L236,1)=\"x\",VLOOKUP(VLOOKUP(RIGHT(A236,5)*1,'Data eshop'!D:N,11,FALSE),DATA!G:I,3,FALSE),IF(RIGHT(L236,1)=\"y\",IF(VLOOKUP(RIGHT(A236,5)*1,'Data eshop'!D:O,12,FALSE)=IF(O236=\"T7\",DATA!$D$2,IF(O236=\"E87\",DATA!$D$5,IF(O236=\"P2\",DATA!$D$6,IF(O236=\"e2695\",DATA!$D$7,\"\")))),IF(N236>=IF(O236=\"T7\",DATA!$K$11,IF(O236=\"E87\",DATA!$L$11,IF(O236=\"P2\",DATA!$M$11,IF(O236=\"e2695\",DATA!$N$11,\"\")))),\"uni008\",\"uni001\"),IF(VLOOKUP(RIGHT(A236,5)*1,'Data eshop'!D:O,12,FALSE)=DATA!$D$3,IF(O236=\"T7\",IF(N236>=500,\"uni009\",\"uni002\"),\"x\"),IF(VLOOKUP(RIGHT(A236,5)*1,'Data eshop'!D:O,12,FALSE)=DATA!$D$4,\"uni010\",\"\"))),\"\"))),\"\")","v":""},{"$f":"IFERROR(IF(A236=\"\",\"\",IF(LEFT(B236,3)=\"uni\",1,VLOOKUP(RIGHT(A236,5)&\"-\"&B236,'Data eshop'!A:R,18,FALSE))),\"\")","v":""},"",{"$f":"IFERROR(IF(A236=\"\",\"\",IF(LEFT(B236,3)=\"uni\",VLOOKUP(B236,DATA!I:X,IF(O236=\"T7\",3,IF(O236=\"E87\",4,IF(O236=\"P2\",5,IF(O236=\"E2695\",6,\"\")))),FALSE),VLOOKUP(RIGHT(A236,5)&\"-\"&B236,'Data eshop'!A:S,19,FALSE))),\"\")","v":""},{"$f":"IFERROR(IF(A236=\"\",\"\",IF(LEFT(B236,3)=\"uni\",0,VLOOKUP(RIGHT(A236,5)&\"-\"&B236,'Data eshop'!A:S,16,FALSE))),\"\")","v":""},null,"",{"$f":"IF(H236=\"\",\"\",WORKDAY(TODAY()+IF(VLOOKUP(VLOOKUP(RIGHT(A236,5)*1,'Data eshop'!D:N,11,FALSE),DATA!A:B,2,FALSE)=7,14,1),5))","v":""},"","",{"$f":"IF(L235=\"\",\"\",IF(L235=RIGHT(A235,5)&\"x\",LEFT(L235,LEN(L235)-1)&\"y\",IF(L235=RIGHT(A235,5)&\"y\",IFERROR(SMALL('Data eshop'!D:D,COUNTIF('Data eshop'!D:D,\"<\"&(LEFT(L235,LEN(L235)-1)*1))),\"\"),IF(ISERROR(IF(VLOOKUP(M235+1,'Data eshop'!C:D,2,FALSE)='Řádky zakázky'!L235,L235,L235&\"x\")),IF(RIGHT(L235,1)=\"y\",\"\",L235&\"x\"),IF(VLOOKUP(M235+1,'Data eshop'!C:D,2,FALSE)='Řádky zakázky'!L235,L235,L235&\"x\")))))","v":"0xxxxxxxxxxxxxxxxxxxxxxxxxxxxxxxxxxxxxxxxxxxxxxxxxxxxxxxxxxxxxxxxxxxxxxxxxxxxxxxxxxxxxxxxxxxxxxxxxxxxxxxxxxxxxxxxxxxxxxxxxxxxxxxxxxxxxxxxxxxxxxxxxxxxxxxxxxxxxxxxxxxxxxxxxxxxxxxxxxxxxxxxxxxxxxxxxxxxxxxxxxxxxxxxxxxxxxxxxxxxxxxxxxxxxxxxxx"},1,{"$f":"IF(A236=\"\",\"\",VLOOKUP(RIGHT(A236,5)*1,'Data eshop'!D:W,17,FALSE))","v":{"$error":"#VALUE!"}},{"$f":"VLOOKUP(A236,Zakázky!A:B,2,FALSE)","v":{"$error":"#N/A"}},"","Roluj nahoru, až uvidíš žlutou"]
["19ESh0",{"$f":"IFERROR(IF(ISNUMBER(L237),VLOOKUP(L237&\"-\"&M237,'Data eshop'!B:W,16,FALSE),IF(RIGHT(L237,1)=\"x\",VLOOKUP(VLOOKUP(RIGHT(A237,5)*1,'Data eshop'!D:N,11,FALSE),DATA!G:I,3,FALSE),IF(RIGHT(L237,1)=\"y\",IF(VLOOKUP(RIGHT(A237,5)*1,'Data eshop'!D:O,12,FALSE)=IF(O237=\"T7\",DATA!$D$2,IF(O237=\"E87\",DATA!$D$5,IF(O237=\"P2\",DATA!$D$6,IF(O237=\"e2695\",DATA!$D$7,\"\")))),IF(N237>=IF(O237=\"T7\",DATA!$K$11,IF(O237=\"E87\",DATA!$L$11,IF(O237=\"P2\",DATA!$M$11,IF(O237=\"e2695\",DATA!$N$11,\"\")))),\"uni008\",\"uni001\"),IF(VLOOKUP(RIGHT(A237,5)*1,'Data eshop'!D:O,12,FALSE)=DATA!$D$3,IF(O237=\"T7\",IF(N237>=500,\"uni009\",\"uni002\"),\"x\"),IF(VLOOKUP(RIGHT(A237,5)*1,'Data eshop'!D:O,12,FALSE)=DATA!$D$4,\"uni010\",\"\"))),\"\"))),\"\")","v":""},{"$f":"IFERROR(IF(A237=\"\",\"\",IF(LEFT(B237,3)=\"uni\",1,VLOOKUP(RIGHT(A237,5)&\"-\"&B237,'Data eshop'!A:R,18,FALSE))),\"\")","v":""},"",{"$f":"IFERROR(IF(A237=\"\",\"\",IF(LEFT(B237,3)=\"uni\",VLOOKUP(B237,DATA!I:X,IF(O237=\"T7\",3,IF(O237=\"E87\",4,IF(O237=\"P2\",5,IF(O237=\"E2695\",6,\"\")))),FALSE),VLOOKUP(RIGHT(A237,5)&\"-\"&B237,'Data eshop'!A:S,19,FALSE))),\"\")","v":""},{"$f":"IFERROR(IF(A237=\"\",\"\",IF(LEFT(B237,3)=\"uni\",0,VLOOKUP(RIGHT(A237,5)&\"-\"&B237,'Data eshop'!A:S,16,FALSE))),\"\")","v":""},null,"",{"$f":"IF(H237=\"\",\"\",WORKDAY(TODAY()+IF(VLOOKUP(VLOOKUP(RIGHT(A237,5)*1,'Data eshop'!D:N,11,FALSE),DATA!A:B,2,FALSE)=7,14,1),5))","v":""},"","",{"$f":"IF(L236=\"\",\"\",IF(L236=RIGHT(A236,5)&\"x\",LEFT(L236,LEN(L236)-1)&\"y\",IF(L236=RIGHT(A236,5)&\"y\",IFERROR(SMALL('Data eshop'!D:D,COUNTIF('Data eshop'!D:D,\"<\"&(LEFT(L236,LEN(L236)-1)*1))),\"\"),IF(ISERROR(IF(VLOOKUP(M236+1,'Data eshop'!C:D,2,FALSE)='Řádky zakázky'!L236,L236,L236&\"x\")),IF(RIGHT(L236,1)=\"y\",\"\",L236&\"x\"),IF(VLOOKUP(M236+1,'Data eshop'!C:D,2,FALSE)='Řádky zakázky'!L236,L236,L236&\"x\")))))","v":"0xxxxxxxxxxxxxxxxxxxxxxxxxxxxxxxxxxxxxxxxxxxxxxxxxxxxxxxxxxxxxxxxxxxxxxxxxxxxxxxxxxxxxxxxxxxxxxxxxxxxxxxxxxxxxxxxxxxxxxxxxxxxxxxxxxxxxxxxxxxxxxxxxxxxxxxxxxxxxxxxxxxxxxxxxxxxxxxxxxxxxxxxxxxxxxxxxxxxxxxxxxxxxxxxxxxxxxxxxxxxxxxxxxxxxxxxxxx"},1,{"$f":"IF(A237=\"\",\"\",VLOOKUP(RIGHT(A237,5)*1,'Data eshop'!D:W,17,FALSE))","v":{"$error":"#VALUE!"}},{"$f":"VLOOKUP(A237,Zakázky!A:B,2,FALSE)","v":{"$error":"#N/A"}},""]
["19ESh0",{"$f":"IFERROR(IF(ISNUMBER(L238),VLOOKUP(L238&\"-\"&M238,'Data eshop'!B:W,16,FALSE),IF(RIGHT(L238,1)=\"x\",VLOOKUP(VLOOKUP(RIGHT(A238,5)*1,'Data eshop'!D:N,11,FALSE),DATA!G:I,3,FALSE),IF(RIGHT(L238,1)=\"y\",IF(VLOOKUP(RIGHT(A238,5)*1,'Data eshop'!D:O,12,FALSE)=IF(O238=\"T7\",DATA!$D$2,IF(O238=\"E87\",DATA!$D$5,IF(O238=\"P2\",DATA!$D$6,IF(O238=\"e2695\",DATA!$D$7,\"\")))),IF(N238>=IF(O238=\"T7\",DATA!$K$11,IF(O238=\"E87\",DATA!$L$11,IF(O238=\"P2\",DATA!$M$11,IF(O238=\"e2695\",DATA!$N$11,\"\")))),\"uni008\",\"uni001\"),IF(VLOOKUP(RIGHT(A238,5)*1,'Data eshop'!D:O,12,FALSE)=DATA!$D$3,IF(O238=\"T7\",IF(N238>=500,\"uni009\",\"uni002\"),\"x\"),IF(VLOOKUP(RIGHT(A238,5)*1,'Data eshop'!D:O,12,FALSE)=DATA!$D$4,\"uni010\",\"\"))),\"\"))),\"\")","v":""},{"$f":"IFERROR(IF(A238=\"\",\"\",IF(LEFT(B238,3)=\"uni\",1,VLOOKUP(RIGHT(A238,5)&\"-\"&B238,'Data eshop'!A:R,18,FALSE))),\"\")","v":""},"",{"$f":"IFERROR(IF(A238=\"\",\"\",IF(LEFT(B238,3)=\"uni\",VLOOKUP(B238,DATA!I:X,IF(O238=\"T7\",3,IF(O238=\"E87\",4,IF(O238=\"P2\",5,IF(O238=\"E2695\",6,\"\")))),FALSE),VLOOKUP(RIGHT(A238,5)&\"-\"&B238,'Data eshop'!A:S,19,FALSE))),\"\")","v":""},{"$f":"IFERROR(IF(A238=\"\",\"\",IF(LEFT(B238,3)=\"uni\",0,VLOOKUP(RIGHT(A238,5)&\"-\"&B238,'Data eshop'!A:S,16,FALSE))),\"\")","v":""},null,"",{"$f":"IF(H238=\"\",\"\",WORKDAY(TODAY()+IF(VLOOKUP(VLOOKUP(RIGHT(A238,5)*1,'Data eshop'!D:N,11,FALSE),DATA!A:B,2,FALSE)=7,14,1),5))","v":""},"","",{"$f":"IF(L237=\"\",\"\",IF(L237=RIGHT(A237,5)&\"x\",LEFT(L237,LEN(L237)-1)&\"y\",IF(L237=RIGHT(A237,5)&\"y\",IFERROR(SMALL('Data eshop'!D:D,COUNTIF('Data eshop'!D:D,\"<\"&(LEFT(L237,LEN(L237)-1)*1))),\"\"),IF(ISERROR(IF(VLOOKUP(M237+1,'Data eshop'!C:D,2,FALSE)='Řádky zakázky'!L237,L237,L237&\"x\")),IF(RIGHT(L237,1)=\"y\",\"\",L237&\"x\"),IF(VLOOKUP(M237+1,'Data eshop'!C:D,2,FALSE)='Řádky zakázky'!L237,L237,L237&\"x\")))))","v":"0xxxxxxxxxxxxxxxxxxxxxxxxxxxxxxxxxxxxxxxxxxxxxxxxxxxxxxxxxxxxxxxxxxxxxxxxxxxxxxxxxxxxxxxxxxxxxxxxxxxxxxxxxxxxxxxxxxxxxxxxxxxxxxxxxxxxxxxxxxxxxxxxxxxxxxxxxxxxxxxxxxxxxxxxxxxxxxxxxxxxxxxxxxxxxxxxxxxxxxxxxxxxxxxxxxxxxxxxxxxxxxxxxxxxxxxxxxxx"},1,{"$f":"IF(A238=\"\",\"\",VLOOKUP(RIGHT(A238,5)*1,'Data eshop'!D:W,17,FALSE))","v":{"$error":"#VALUE!"}},{"$f":"VLOOKUP(A238,Zakázky!A:B,2,FALSE)","v":{"$error":"#N/A"}},""]
["19ESh0",{"$f":"IFERROR(IF(ISNUMBER(L239),VLOOKUP(L239&\"-\"&M239,'Data eshop'!B:W,16,FALSE),IF(RIGHT(L239,1)=\"x\",VLOOKUP(VLOOKUP(RIGHT(A239,5)*1,'Data eshop'!D:N,11,FALSE),DATA!G:I,3,FALSE),IF(RIGHT(L239,1)=\"y\",IF(VLOOKUP(RIGHT(A239,5)*1,'Data eshop'!D:O,12,FALSE)=IF(O239=\"T7\",DATA!$D$2,IF(O239=\"E87\",DATA!$D$5,IF(O239=\"P2\",DATA!$D$6,IF(O239=\"e2695\",DATA!$D$7,\"\")))),IF(N239>=IF(O239=\"T7\",DATA!$K$11,IF(O239=\"E87\",DATA!$L$11,IF(O239=\"P2\",DATA!$M$11,IF(O239=\"e2695\",DATA!$N$11,\"\")))),\"uni008\",\"uni001\"),IF(VLOOKUP(RIGHT(A239,5)*1,'Data eshop'!D:O,12,FALSE)=DATA!$D$3,IF(O239=\"T7\",IF(N239>=500,\"uni009\",\"uni002\"),\"x\"),IF(VLOOKUP(RIGHT(A239,5)*1,'Data eshop'!D:O,12,FALSE)=DATA!$D$4,\"uni010\",\"\"))),\"\"))),\"\")","v":""},{"$f":"IFERROR(IF(A239=\"\",\"\",IF(LEFT(B239,3)=\"uni\",1,VLOOKUP(RIGHT(A239,5)&\"-\"&B239,'Data eshop'!A:R,18,FALSE))),\"\")","v":""},"",{"$f":"IFERROR(IF(A239=\"\",\"\",IF(LEFT(B239,3)=\"uni\",VLOOKUP(B239,DATA!I:X,IF(O239=\"T7\",3,IF(O239=\"E87\",4,IF(O239=\"P2\",5,IF(O239=\"E2695\",6,\"\")))),FALSE),VLOOKUP(RIGHT(A239,5)&\"-\"&B239,'Data eshop'!A:S,19,FALSE))),\"\")","v":""},{"$f":"IFERROR(IF(A239=\"\",\"\",IF(LEFT(B239,3)=\"uni\",0,VLOOKUP(RIGHT(A239,5)&\"-\"&B239,'Data eshop'!A:S,16,FALSE))),\"\")","v":""},null,"",{"$f":"IF(H239=\"\",\"\",WORKDAY(TODAY()+IF(VLOOKUP(VLOOKUP(RIGHT(A239,5)*1,'Data eshop'!D:N,11,FALSE),DATA!A:B,2,FALSE)=7,14,1),5))","v":""},"","",{"$f":"IF(L238=\"\",\"\",IF(L238=RIGHT(A238,5)&\"x\",LEFT(L238,LEN(L238)-1)&\"y\",IF(L238=RIGHT(A238,5)&\"y\",IFERROR(SMALL('Data eshop'!D:D,COUNTIF('Data eshop'!D:D,\"<\"&(LEFT(L238,LEN(L238)-1)*1))),\"\"),IF(ISERROR(IF(VLOOKUP(M238+1,'Data eshop'!C:D,2,FALSE)='Řádky zakázky'!L238,L238,L238&\"x\")),IF(RIGHT(L238,1)=\"y\",\"\",L238&\"x\"),IF(VLOOKUP(M238+1,'Data eshop'!C:D,2,FALSE)='Řádky zakázky'!L238,L238,L238&\"x\")))))","v":"0xxxxxxxxxxxxxxxxxxxxxxxxxxxxxxxxxxxxxxxxxxxxxxxxxxxxxxxxxxxxxxxxxxxxxxxxxxxxxxxxxxxxxxxxxxxxxxxxxxxxxxxxxxxxxxxxxxxxxxxxxxxxxxxxxxxxxxxxxxxxxxxxxxxxxxxxxxxxxxxxxxxxxxxxxxxxxxxxxxxxxxxxxxxxxxxxxxxxxxxxxxxxxxxxxxxxxxxxxxxxxxxxxxxxxxxxxxxxx"},1,{"$f":"IF(A239=\"\",\"\",VLOOKUP(RIGHT(A239,5)*1,'Data eshop'!D:W,17,FALSE))","v":{"$error":"#VALUE!"}},{"$f":"VLOOKUP(A239,Zakázky!A:B,2,FALSE)","v":{"$error":"#N/A"}},""]
["19ESh0",{"$f":"IFERROR(IF(ISNUMBER(L240),VLOOKUP(L240&\"-\"&M240,'Data eshop'!B:W,16,FALSE),IF(RIGHT(L240,1)=\"x\",VLOOKUP(VLOOKUP(RIGHT(A240,5)*1,'Data eshop'!D:N,11,FALSE),DATA!G:I,3,FALSE),IF(RIGHT(L240,1)=\"y\",IF(VLOOKUP(RIGHT(A240,5)*1,'Data eshop'!D:O,12,FALSE)=IF(O240=\"T7\",DATA!$D$2,IF(O240=\"E87\",DATA!$D$5,IF(O240=\"P2\",DATA!$D$6,IF(O240=\"e2695\",DATA!$D$7,\"\")))),IF(N240>=IF(O240=\"T7\",DATA!$K$11,IF(O240=\"E87\",DATA!$L$11,IF(O240=\"P2\",DATA!$M$11,IF(O240=\"e2695\",DATA!$N$11,\"\")))),\"uni008\",\"uni001\"),IF(VLOOKUP(RIGHT(A240,5)*1,'Data eshop'!D:O,12,FALSE)=DATA!$D$3,IF(O240=\"T7\",IF(N240>=500,\"uni009\",\"uni002\"),\"x\"),IF(VLOOKUP(RIGHT(A240,5)*1,'Data eshop'!D:O,12,FALSE)=DATA!$D$4,\"uni010\",\"\"))),\"\"))),\"\")","v":""},{"$f":"IFERROR(IF(A240=\"\",\"\",IF(LEFT(B240,3)=\"uni\",1,VLOOKUP(RIGHT(A240,5)&\"-\"&B240,'Data eshop'!A:R,18,FALSE))),\"\")","v":""},"",{"$f":"IFERROR(IF(A240=\"\",\"\",IF(LEFT(B240,3)=\"uni\",VLOOKUP(B240,DATA!I:X,IF(O240=\"T7\",3,IF(O240=\"E87\",4,IF(O240=\"P2\",5,IF(O240=\"E2695\",6,\"\")))),FALSE),VLOOKUP(RIGHT(A240,5)&\"-\"&B240,'Data eshop'!A:S,19,FALSE))),\"\")","v":""},{"$f":"IFERROR(IF(A240=\"\",\"\",IF(LEFT(B240,3)=\"uni\",0,VLOOKUP(RIGHT(A240,5)&\"-\"&B240,'Data eshop'!A:S,16,FALSE))),\"\")","v":""},null,"",{"$f":"IF(H240=\"\",\"\",WORKDAY(TODAY()+IF(VLOOKUP(VLOOKUP(RIGHT(A240,5)*1,'Data eshop'!D:N,11,FALSE),DATA!A:B,2,FALSE)=7,14,1),5))","v":""},"","",{"$f":"IF(L239=\"\",\"\",IF(L239=RIGHT(A239,5)&\"x\",LEFT(L239,LEN(L239)-1)&\"y\",IF(L239=RIGHT(A239,5)&\"y\",IFERROR(SMALL('Data eshop'!D:D,COUNTIF('Data eshop'!D:D,\"<\"&(LEFT(L239,LEN(L239)-1)*1))),\"\"),IF(ISERROR(IF(VLOOKUP(M239+1,'Data eshop'!C:D,2,FALSE)='Řádky zakázky'!L239,L239,L239&\"x\")),IF(RIGHT(L239,1)=\"y\",\"\",L239&\"x\"),IF(VLOOKUP(M239+1,'Data eshop'!C:D,2,FALSE)='Řádky zakázky'!L239,L239,L239&\"x\")))))","v":"0xxxxxxxxxxxxxxxxxxxxxxxxxxxxxxxxxxxxxxxxxxxxxxxxxxxxxxxxxxxxxxxxxxxxxxxxxxxxxxxxxxxxxxxxxxxxxxxxxxxxxxxxxxxxxxxxxxxxxxxxxxxxxxxxxxxxxxxxxxxxxxxxxxxxxxxxxxxxxxxxxxxxxxxxxxxxxxxxxxxxxxxxxxxxxxxxxxxxxxxxxxxxxxxxxxxxxxxxxxxxxxxxxxxxxxxxxxxxxx"},1,{"$f":"IF(A240=\"\",\"\",VLOOKUP(RIGHT(A240,5)*1,'Data eshop'!D:W,17,FALSE))","v":{"$error":"#VALUE!"}},{"$f":"VLOOKUP(A240,Zakázky!A:B,2,FALSE)","v":{"$error":"#N/A"}},"","Roluj nahoru, až uvidíš žlutou"]
["19ESh0",{"$f":"IFERROR(IF(ISNUMBER(L241),VLOOKUP(L241&\"-\"&M241,'Data eshop'!B:W,16,FALSE),IF(RIGHT(L241,1)=\"x\",VLOOKUP(VLOOKUP(RIGHT(A241,5)*1,'Data eshop'!D:N,11,FALSE),DATA!G:I,3,FALSE),IF(RIGHT(L241,1)=\"y\",IF(VLOOKUP(RIGHT(A241,5)*1,'Data eshop'!D:O,12,FALSE)=IF(O241=\"T7\",DATA!$D$2,IF(O241=\"E87\",DATA!$D$5,IF(O241=\"P2\",DATA!$D$6,IF(O241=\"e2695\",DATA!$D$7,\"\")))),IF(N241>=IF(O241=\"T7\",DATA!$K$11,IF(O241=\"E87\",DATA!$L$11,IF(O241=\"P2\",DATA!$M$11,IF(O241=\"e2695\",DATA!$N$11,\"\")))),\"uni008\",\"uni001\"),IF(VLOOKUP(RIGHT(A241,5)*1,'Data eshop'!D:O,12,FALSE)=DATA!$D$3,IF(O241=\"T7\",IF(N241>=500,\"uni009\",\"uni002\"),\"x\"),IF(VLOOKUP(RIGHT(A241,5)*1,'Data eshop'!D:O,12,FALSE)=DATA!$D$4,\"uni010\",\"\"))),\"\"))),\"\")","v":""},{"$f":"IFERROR(IF(A241=\"\",\"\",IF(LEFT(B241,3)=\"uni\",1,VLOOKUP(RIGHT(A241,5)&\"-\"&B241,'Data eshop'!A:R,18,FALSE))),\"\")","v":""},"",{"$f":"IFERROR(IF(A241=\"\",\"\",IF(LEFT(B241,3)=\"uni\",VLOOKUP(B241,DATA!I:X,IF(O241=\"T7\",3,IF(O241=\"E87\",4,IF(O241=\"P2\",5,IF(O241=\"E2695\",6,\"\")))),FALSE),VLOOKUP(RIGHT(A241,5)&\"-\"&B241,'Data eshop'!A:S,19,FALSE))),\"\")","v":""},{"$f":"IFERROR(IF(A241=\"\",\"\",IF(LEFT(B241,3)=\"uni\",0,VLOOKUP(RIGHT(A241,5)&\"-\"&B241,'Data eshop'!A:S,16,FALSE))),\"\")","v":""},null,"",{"$f":"IF(H241=\"\",\"\",WORKDAY(TODAY()+IF(VLOOKUP(VLOOKUP(RIGHT(A241,5)*1,'Data eshop'!D:N,11,FALSE),DATA!A:B,2,FALSE)=7,14,1),5))","v":""},"","",{"$f":"IF(L240=\"\",\"\",IF(L240=RIGHT(A240,5)&\"x\",LEFT(L240,LEN(L240)-1)&\"y\",IF(L240=RIGHT(A240,5)&\"y\",IFERROR(SMALL('Data eshop'!D:D,COUNTIF('Data eshop'!D:D,\"<\"&(LEFT(L240,LEN(L240)-1)*1))),\"\"),IF(ISERROR(IF(VLOOKUP(M240+1,'Data eshop'!C:D,2,FALSE)='Řádky zakázky'!L240,L240,L240&\"x\")),IF(RIGHT(L240,1)=\"y\",\"\",L240&\"x\"),IF(VLOOKUP(M240+1,'Data eshop'!C:D,2,FALSE)='Řádky zakázky'!L240,L240,L240&\"x\")))))","v":"0xxxxxxxxxxxxxxxxxxxxxxxxxxxxxxxxxxxxxxxxxxxxxxxxxxxxxxxxxxxxxxxxxxxxxxxxxxxxxxxxxxxxxxxxxxxxxxxxxxxxxxxxxxxxxxxxxxxxxxxxxxxxxxxxxxxxxxxxxxxxxxxxxxxxxxxxxxxxxxxxxxxxxxxxxxxxxxxxxxxxxxxxxxxxxxxxxxxxxxxxxxxxxxxxxxxxxxxxxxxxxxxxxxxxxxxxxxxxxxx"},1,{"$f":"IF(A241=\"\",\"\",VLOOKUP(RIGHT(A241,5)*1,'Data eshop'!D:W,17,FALSE))","v":{"$error":"#VALUE!"}},{"$f":"VLOOKUP(A241,Zakázky!A:B,2,FALSE)","v":{"$error":"#N/A"}},""]
["19ESh0",{"$f":"IFERROR(IF(ISNUMBER(L242),VLOOKUP(L242&\"-\"&M242,'Data eshop'!B:W,16,FALSE),IF(RIGHT(L242,1)=\"x\",VLOOKUP(VLOOKUP(RIGHT(A242,5)*1,'Data eshop'!D:N,11,FALSE),DATA!G:I,3,FALSE),IF(RIGHT(L242,1)=\"y\",IF(VLOOKUP(RIGHT(A242,5)*1,'Data eshop'!D:O,12,FALSE)=IF(O242=\"T7\",DATA!$D$2,IF(O242=\"E87\",DATA!$D$5,IF(O242=\"P2\",DATA!$D$6,IF(O242=\"e2695\",DATA!$D$7,\"\")))),IF(N242>=IF(O242=\"T7\",DATA!$K$11,IF(O242=\"E87\",DATA!$L$11,IF(O242=\"P2\",DATA!$M$11,IF(O242=\"e2695\",DATA!$N$11,\"\")))),\"uni008\",\"uni001\"),IF(VLOOKUP(RIGHT(A242,5)*1,'Data eshop'!D:O,12,FALSE)=DATA!$D$3,IF(O242=\"T7\",IF(N242>=500,\"uni009\",\"uni002\"),\"x\"),IF(VLOOKUP(RIGHT(A242,5)*1,'Data eshop'!D:O,12,FALSE)=DATA!$D$4,\"uni010\",\"\"))),\"\"))),\"\")","v":""},{"$f":"IFERROR(IF(A242=\"\",\"\",IF(LEFT(B242,3)=\"uni\",1,VLOOKUP(RIGHT(A242,5)&\"-\"&B242,'Data eshop'!A:R,18,FALSE))),\"\")","v":""},"",{"$f":"IFERROR(IF(A242=\"\",\"\",IF(LEFT(B242,3)=\"uni\",VLOOKUP(B242,DATA!I:X,IF(O242=\"T7\",3,IF(O242=\"E87\",4,IF(O242=\"P2\",5,IF(O242=\"E2695\",6,\"\")))),FALSE),VLOOKUP(RIGHT(A242,5)&\"-\"&B242,'Data eshop'!A:S,19,FALSE))),\"\")","v":""},{"$f":"IFERROR(IF(A242=\"\",\"\",IF(LEFT(B242,3)=\"uni\",0,VLOOKUP(RIGHT(A242,5)&\"-\"&B242,'Data eshop'!A:S,16,FALSE))),\"\")","v":""},null,"",{"$f":"IF(H242=\"\",\"\",WORKDAY(TODAY()+IF(VLOOKUP(VLOOKUP(RIGHT(A242,5)*1,'Data eshop'!D:N,11,FALSE),DATA!A:B,2,FALSE)=7,14,1),5))","v":""},"","",{"$f":"IF(L241=\"\",\"\",IF(L241=RIGHT(A241,5)&\"x\",LEFT(L241,LEN(L241)-1)&\"y\",IF(L241=RIGHT(A241,5)&\"y\",IFERROR(SMALL('Data eshop'!D:D,COUNTIF('Data eshop'!D:D,\"<\"&(LEFT(L241,LEN(L241)-1)*1))),\"\"),IF(ISERROR(IF(VLOOKUP(M241+1,'Data eshop'!C:D,2,FALSE)='Řádky zakázky'!L241,L241,L241&\"x\")),IF(RIGHT(L241,1)=\"y\",\"\",L241&\"x\"),IF(VLOOKUP(M241+1,'Data eshop'!C:D,2,FALSE)='Řádky zakázky'!L241,L241,L241&\"x\")))))","v":"0xxxxxxxxxxxxxxxxxxxxxxxxxxxxxxxxxxxxxxxxxxxxxxxxxxxxxxxxxxxxxxxxxxxxxxxxxxxxxxxxxxxxxxxxxxxxxxxxxxxxxxxxxxxxxxxxxxxxxxxxxxxxxxxxxxxxxxxxxxxxxxxxxxxxxxxxxxxxxxxxxxxxxxxxxxxxxxxxxxxxxxxxxxxxxxxxxxxxxxxxxxxxxxxxxxxxxxxxxxxxxxxxxxxxxxxxxxxxxxxx"},1,{"$f":"IF(A242=\"\",\"\",VLOOKUP(RIGHT(A242,5)*1,'Data eshop'!D:W,17,FALSE))","v":{"$error":"#VALUE!"}},{"$f":"VLOOKUP(A242,Zakázky!A:B,2,FALSE)","v":{"$error":"#N/A"}},""]
["19ESh0",{"$f":"IFERROR(IF(ISNUMBER(L243),VLOOKUP(L243&\"-\"&M243,'Data eshop'!B:W,16,FALSE),IF(RIGHT(L243,1)=\"x\",VLOOKUP(VLOOKUP(RIGHT(A243,5)*1,'Data eshop'!D:N,11,FALSE),DATA!G:I,3,FALSE),IF(RIGHT(L243,1)=\"y\",IF(VLOOKUP(RIGHT(A243,5)*1,'Data eshop'!D:O,12,FALSE)=IF(O243=\"T7\",DATA!$D$2,IF(O243=\"E87\",DATA!$D$5,IF(O243=\"P2\",DATA!$D$6,IF(O243=\"e2695\",DATA!$D$7,\"\")))),IF(N243>=IF(O243=\"T7\",DATA!$K$11,IF(O243=\"E87\",DATA!$L$11,IF(O243=\"P2\",DATA!$M$11,IF(O243=\"e2695\",DATA!$N$11,\"\")))),\"uni008\",\"uni001\"),IF(VLOOKUP(RIGHT(A243,5)*1,'Data eshop'!D:O,12,FALSE)=DATA!$D$3,IF(O243=\"T7\",IF(N243>=500,\"uni009\",\"uni002\"),\"x\"),IF(VLOOKUP(RIGHT(A243,5)*1,'Data eshop'!D:O,12,FALSE)=DATA!$D$4,\"uni010\",\"\"))),\"\"))),\"\")","v":""},{"$f":"IFERROR(IF(A243=\"\",\"\",IF(LEFT(B243,3)=\"uni\",1,VLOOKUP(RIGHT(A243,5)&\"-\"&B243,'Data eshop'!A:R,18,FALSE))),\"\")","v":""},"",{"$f":"IFERROR(IF(A243=\"\",\"\",IF(LEFT(B243,3)=\"uni\",VLOOKUP(B243,DATA!I:X,IF(O243=\"T7\",3,IF(O243=\"E87\",4,IF(O243=\"P2\",5,IF(O243=\"E2695\",6,\"\")))),FALSE),VLOOKUP(RIGHT(A243,5)&\"-\"&B243,'Data eshop'!A:S,19,FALSE))),\"\")","v":""},{"$f":"IFERROR(IF(A243=\"\",\"\",IF(LEFT(B243,3)=\"uni\",0,VLOOKUP(RIGHT(A243,5)&\"-\"&B243,'Data eshop'!A:S,16,FALSE))),\"\")","v":""},null,"",{"$f":"IF(H243=\"\",\"\",WORKDAY(TODAY()+IF(VLOOKUP(VLOOKUP(RIGHT(A243,5)*1,'Data eshop'!D:N,11,FALSE),DATA!A:B,2,FALSE)=7,14,1),5))","v":""},"","",{"$f":"IF(L242=\"\",\"\",IF(L242=RIGHT(A242,5)&\"x\",LEFT(L242,LEN(L242)-1)&\"y\",IF(L242=RIGHT(A242,5)&\"y\",IFERROR(SMALL('Data eshop'!D:D,COUNTIF('Data eshop'!D:D,\"<\"&(LEFT(L242,LEN(L242)-1)*1))),\"\"),IF(ISERROR(IF(VLOOKUP(M242+1,'Data eshop'!C:D,2,FALSE)='Řádky zakázky'!L242,L242,L242&\"x\")),IF(RIGHT(L242,1)=\"y\",\"\",L242&\"x\"),IF(VLOOKUP(M242+1,'Data eshop'!C:D,2,FALSE)='Řádky zakázky'!L242,L242,L242&\"x\")))))","v":"0xxxxxxxxxxxxxxxxxxxxxxxxxxxxxxxxxxxxxxxxxxxxxxxxxxxxxxxxxxxxxxxxxxxxxxxxxxxxxxxxxxxxxxxxxxxxxxxxxxxxxxxxxxxxxxxxxxxxxxxxxxxxxxxxxxxxxxxxxxxxxxxxxxxxxxxxxxxxxxxxxxxxxxxxxxxxxxxxxxxxxxxxxxxxxxxxxxxxxxxxxxxxxxxxxxxxxxxxxxxxxxxxxxxxxxxxxxxxxxxxx"},1,{"$f":"IF(A243=\"\",\"\",VLOOKUP(RIGHT(A243,5)*1,'Data eshop'!D:W,17,FALSE))","v":{"$error":"#VALUE!"}},{"$f":"VLOOKUP(A243,Zakázky!A:B,2,FALSE)","v":{"$error":"#N/A"}},""]
["19ESh0",{"$f":"IFERROR(IF(ISNUMBER(L244),VLOOKUP(L244&\"-\"&M244,'Data eshop'!B:W,16,FALSE),IF(RIGHT(L244,1)=\"x\",VLOOKUP(VLOOKUP(RIGHT(A244,5)*1,'Data eshop'!D:N,11,FALSE),DATA!G:I,3,FALSE),IF(RIGHT(L244,1)=\"y\",IF(VLOOKUP(RIGHT(A244,5)*1,'Data eshop'!D:O,12,FALSE)=IF(O244=\"T7\",DATA!$D$2,IF(O244=\"E87\",DATA!$D$5,IF(O244=\"P2\",DATA!$D$6,IF(O244=\"e2695\",DATA!$D$7,\"\")))),IF(N244>=IF(O244=\"T7\",DATA!$K$11,IF(O244=\"E87\",DATA!$L$11,IF(O244=\"P2\",DATA!$M$11,IF(O244=\"e2695\",DATA!$N$11,\"\")))),\"uni008\",\"uni001\"),IF(VLOOKUP(RIGHT(A244,5)*1,'Data eshop'!D:O,12,FALSE)=DATA!$D$3,IF(O244=\"T7\",IF(N244>=500,\"uni009\",\"uni002\"),\"x\"),IF(VLOOKUP(RIGHT(A244,5)*1,'Data eshop'!D:O,12,FALSE)=DATA!$D$4,\"uni010\",\"\"))),\"\"))),\"\")","v":""},{"$f":"IFERROR(IF(A244=\"\",\"\",IF(LEFT(B244,3)=\"uni\",1,VLOOKUP(RIGHT(A244,5)&\"-\"&B244,'Data eshop'!A:R,18,FALSE))),\"\")","v":""},"",{"$f":"IFERROR(IF(A244=\"\",\"\",IF(LEFT(B244,3)=\"uni\",VLOOKUP(B244,DATA!I:X,IF(O244=\"T7\",3,IF(O244=\"E87\",4,IF(O244=\"P2\",5,IF(O244=\"E2695\",6,\"\")))),FALSE),VLOOKUP(RIGHT(A244,5)&\"-\"&B244,'Data eshop'!A:S,19,FALSE))),\"\")","v":""},{"$f":"IFERROR(IF(A244=\"\",\"\",IF(LEFT(B244,3)=\"uni\",0,VLOOKUP(RIGHT(A244,5)&\"-\"&B244,'Data eshop'!A:S,16,FALSE))),\"\")","v":""},null,"",{"$f":"IF(H244=\"\",\"\",WORKDAY(TODAY()+IF(VLOOKUP(VLOOKUP(RIGHT(A244,5)*1,'Data eshop'!D:N,11,FALSE),DATA!A:B,2,FALSE)=7,14,1),5))","v":""},"","",{"$f":"IF(L243=\"\",\"\",IF(L243=RIGHT(A243,5)&\"x\",LEFT(L243,LEN(L243)-1)&\"y\",IF(L243=RIGHT(A243,5)&\"y\",IFERROR(SMALL('Data eshop'!D:D,COUNTIF('Data eshop'!D:D,\"<\"&(LEFT(L243,LEN(L243)-1)*1))),\"\"),IF(ISERROR(IF(VLOOKUP(M243+1,'Data eshop'!C:D,2,FALSE)='Řádky zakázky'!L243,L243,L243&\"x\")),IF(RIGHT(L243,1)=\"y\",\"\",L243&\"x\"),IF(VLOOKUP(M243+1,'Data eshop'!C:D,2,FALSE)='Řádky zakázky'!L243,L243,L243&\"x\")))))","v":"0xxxxxxxxxxxxxxxxxxxxxxxxxxxxxxxxxxxxxxxxxxxxxxxxxxxxxxxxxxxxxxxxxxxxxxxxxxxxxxxxxxxxxxxxxxxxxxxxxxxxxxxxxxxxxxxxxxxxxxxxxxxxxxxxxxxxxxxxxxxxxxxxxxxxxxxxxxxxxxxxxxxxxxxxxxxxxxxxxxxxxxxxxxxxxxxxxxxxxxxxxxxxxxxxxxxxxxxxxxxxxxxxxxxxxxxxxxxxxxxxxx"},1,{"$f":"IF(A244=\"\",\"\",VLOOKUP(RIGHT(A244,5)*1,'Data eshop'!D:W,17,FALSE))","v":{"$error":"#VALUE!"}},{"$f":"VLOOKUP(A244,Zakázky!A:B,2,FALSE)","v":{"$error":"#N/A"}},"","Roluj nahoru, až uvidíš žlutou"]
["19ESh0",{"$f":"IFERROR(IF(ISNUMBER(L245),VLOOKUP(L245&\"-\"&M245,'Data eshop'!B:W,16,FALSE),IF(RIGHT(L245,1)=\"x\",VLOOKUP(VLOOKUP(RIGHT(A245,5)*1,'Data eshop'!D:N,11,FALSE),DATA!G:I,3,FALSE),IF(RIGHT(L245,1)=\"y\",IF(VLOOKUP(RIGHT(A245,5)*1,'Data eshop'!D:O,12,FALSE)=IF(O245=\"T7\",DATA!$D$2,IF(O245=\"E87\",DATA!$D$5,IF(O245=\"P2\",DATA!$D$6,IF(O245=\"e2695\",DATA!$D$7,\"\")))),IF(N245>=IF(O245=\"T7\",DATA!$K$11,IF(O245=\"E87\",DATA!$L$11,IF(O245=\"P2\",DATA!$M$11,IF(O245=\"e2695\",DATA!$N$11,\"\")))),\"uni008\",\"uni001\"),IF(VLOOKUP(RIGHT(A245,5)*1,'Data eshop'!D:O,12,FALSE)=DATA!$D$3,IF(O245=\"T7\",IF(N245>=500,\"uni009\",\"uni002\"),\"x\"),IF(VLOOKUP(RIGHT(A245,5)*1,'Data eshop'!D:O,12,FALSE)=DATA!$D$4,\"uni010\",\"\"))),\"\"))),\"\")","v":""},{"$f":"IFERROR(IF(A245=\"\",\"\",IF(LEFT(B245,3)=\"uni\",1,VLOOKUP(RIGHT(A245,5)&\"-\"&B245,'Data eshop'!A:R,18,FALSE))),\"\")","v":""},"",{"$f":"IFERROR(IF(A245=\"\",\"\",IF(LEFT(B245,3)=\"uni\",VLOOKUP(B245,DATA!I:X,IF(O245=\"T7\",3,IF(O245=\"E87\",4,IF(O245=\"P2\",5,IF(O245=\"E2695\",6,\"\")))),FALSE),VLOOKUP(RIGHT(A245,5)&\"-\"&B245,'Data eshop'!A:S,19,FALSE))),\"\")","v":""},{"$f":"IFERROR(IF(A245=\"\",\"\",IF(LEFT(B245,3)=\"uni\",0,VLOOKUP(RIGHT(A245,5)&\"-\"&B245,'Data eshop'!A:S,16,FALSE))),\"\")","v":""},null,"",{"$f":"IF(H245=\"\",\"\",WORKDAY(TODAY()+IF(VLOOKUP(VLOOKUP(RIGHT(A245,5)*1,'Data eshop'!D:N,11,FALSE),DATA!A:B,2,FALSE)=7,14,1),5))","v":""},"","",{"$f":"IF(L244=\"\",\"\",IF(L244=RIGHT(A244,5)&\"x\",LEFT(L244,LEN(L244)-1)&\"y\",IF(L244=RIGHT(A244,5)&\"y\",IFERROR(SMALL('Data eshop'!D:D,COUNTIF('Data eshop'!D:D,\"<\"&(LEFT(L244,LEN(L244)-1)*1))),\"\"),IF(ISERROR(IF(VLOOKUP(M244+1,'Data eshop'!C:D,2,FALSE)='Řádky zakázky'!L244,L244,L244&\"x\")),IF(RIGHT(L244,1)=\"y\",\"\",L244&\"x\"),IF(VLOOKUP(M244+1,'Data eshop'!C:D,2,FALSE)='Řádky zakázky'!L244,L244,L244&\"x\")))))","v":"0xxxxxxxxxxxxxxxxxxxxxxxxxxxxxxxxxxxxxxxxxxxxxxxxxxxxxxxxxxxxxxxxxxxxxxxxxxxxxxxxxxxxxxxxxxxxxxxxxxxxxxxxxxxxxxxxxxxxxxxxxxxxxxxxxxxxxxxxxxxxxxxxxxxxxxxxxxxxxxxxxxxxxxxxxxxxxxxxxxxxxxxxxxxxxxxxxxxxxxxxxxxxxxxxxxxxxxxxxxxxxxxxxxxxxxxxxxxxxxxxxxx"},1,{"$f":"IF(A245=\"\",\"\",VLOOKUP(RIGHT(A245,5)*1,'Data eshop'!D:W,17,FALSE))","v":{"$error":"#VALUE!"}},{"$f":"VLOOKUP(A245,Zakázky!A:B,2,FALSE)","v":{"$error":"#N/A"}},""]
["19ESh0",{"$f":"IFERROR(IF(ISNUMBER(L246),VLOOKUP(L246&\"-\"&M246,'Data eshop'!B:W,16,FALSE),IF(RIGHT(L246,1)=\"x\",VLOOKUP(VLOOKUP(RIGHT(A246,5)*1,'Data eshop'!D:N,11,FALSE),DATA!G:I,3,FALSE),IF(RIGHT(L246,1)=\"y\",IF(VLOOKUP(RIGHT(A246,5)*1,'Data eshop'!D:O,12,FALSE)=IF(O246=\"T7\",DATA!$D$2,IF(O246=\"E87\",DATA!$D$5,IF(O246=\"P2\",DATA!$D$6,IF(O246=\"e2695\",DATA!$D$7,\"\")))),IF(N246>=IF(O246=\"T7\",DATA!$K$11,IF(O246=\"E87\",DATA!$L$11,IF(O246=\"P2\",DATA!$M$11,IF(O246=\"e2695\",DATA!$N$11,\"\")))),\"uni008\",\"uni001\"),IF(VLOOKUP(RIGHT(A246,5)*1,'Data eshop'!D:O,12,FALSE)=DATA!$D$3,IF(O246=\"T7\",IF(N246>=500,\"uni009\",\"uni002\"),\"x\"),IF(VLOOKUP(RIGHT(A246,5)*1,'Data eshop'!D:O,12,FALSE)=DATA!$D$4,\"uni010\",\"\"))),\"\"))),\"\")","v":""},{"$f":"IFERROR(IF(A246=\"\",\"\",IF(LEFT(B246,3)=\"uni\",1,VLOOKUP(RIGHT(A246,5)&\"-\"&B246,'Data eshop'!A:R,18,FALSE))),\"\")","v":""},"",{"$f":"IFERROR(IF(A246=\"\",\"\",IF(LEFT(B246,3)=\"uni\",VLOOKUP(B246,DATA!I:X,IF(O246=\"T7\",3,IF(O246=\"E87\",4,IF(O246=\"P2\",5,IF(O246=\"E2695\",6,\"\")))),FALSE),VLOOKUP(RIGHT(A246,5)&\"-\"&B246,'Data eshop'!A:S,19,FALSE))),\"\")","v":""},{"$f":"IFERROR(IF(A246=\"\",\"\",IF(LEFT(B246,3)=\"uni\",0,VLOOKUP(RIGHT(A246,5)&\"-\"&B246,'Data eshop'!A:S,16,FALSE))),\"\")","v":""},null,"",{"$f":"IF(H246=\"\",\"\",WORKDAY(TODAY()+IF(VLOOKUP(VLOOKUP(RIGHT(A246,5)*1,'Data eshop'!D:N,11,FALSE),DATA!A:B,2,FALSE)=7,14,1),5))","v":""},"","",{"$f":"IF(L245=\"\",\"\",IF(L245=RIGHT(A245,5)&\"x\",LEFT(L245,LEN(L245)-1)&\"y\",IF(L245=RIGHT(A245,5)&\"y\",IFERROR(SMALL('Data eshop'!D:D,COUNTIF('Data eshop'!D:D,\"<\"&(LEFT(L245,LEN(L245)-1)*1))),\"\"),IF(ISERROR(IF(VLOOKUP(M245+1,'Data eshop'!C:D,2,FALSE)='Řádky zakázky'!L245,L245,L245&\"x\")),IF(RIGHT(L245,1)=\"y\",\"\",L245&\"x\"),IF(VLOOKUP(M245+1,'Data eshop'!C:D,2,FALSE)='Řádky zakázky'!L245,L245,L245&\"x\")))))","v":"0xxxxxxxxxxxxxxxxxxxxxxxxxxxxxxxxxxxxxxxxxxxxxxxxxxxxxxxxxxxxxxxxxxxxxxxxxxxxxxxxxxxxxxxxxxxxxxxxxxxxxxxxxxxxxxxxxxxxxxxxxxxxxxxxxxxxxxxxxxxxxxxxxxxxxxxxxxxxxxxxxxxxxxxxxxxxxxxxxxxxxxxxxxxxxxxxxxxxxxxxxxxxxxxxxxxxxxxxxxxxxxxxxxxxxxxxxxxxxxxxxxxx"},1,{"$f":"IF(A246=\"\",\"\",VLOOKUP(RIGHT(A246,5)*1,'Data eshop'!D:W,17,FALSE))","v":{"$error":"#VALUE!"}},{"$f":"VLOOKUP(A246,Zakázky!A:B,2,FALSE)","v":{"$error":"#N/A"}},""]
["19ESh0",{"$f":"IFERROR(IF(ISNUMBER(L247),VLOOKUP(L247&\"-\"&M247,'Data eshop'!B:W,16,FALSE),IF(RIGHT(L247,1)=\"x\",VLOOKUP(VLOOKUP(RIGHT(A247,5)*1,'Data eshop'!D:N,11,FALSE),DATA!G:I,3,FALSE),IF(RIGHT(L247,1)=\"y\",IF(VLOOKUP(RIGHT(A247,5)*1,'Data eshop'!D:O,12,FALSE)=IF(O247=\"T7\",DATA!$D$2,IF(O247=\"E87\",DATA!$D$5,IF(O247=\"P2\",DATA!$D$6,IF(O247=\"e2695\",DATA!$D$7,\"\")))),IF(N247>=IF(O247=\"T7\",DATA!$K$11,IF(O247=\"E87\",DATA!$L$11,IF(O247=\"P2\",DATA!$M$11,IF(O247=\"e2695\",DATA!$N$11,\"\")))),\"uni008\",\"uni001\"),IF(VLOOKUP(RIGHT(A247,5)*1,'Data eshop'!D:O,12,FALSE)=DATA!$D$3,IF(O247=\"T7\",IF(N247>=500,\"uni009\",\"uni002\"),\"x\"),IF(VLOOKUP(RIGHT(A247,5)*1,'Data eshop'!D:O,12,FALSE)=DATA!$D$4,\"uni010\",\"\"))),\"\"))),\"\")","v":""},{"$f":"IFERROR(IF(A247=\"\",\"\",IF(LEFT(B247,3)=\"uni\",1,VLOOKUP(RIGHT(A247,5)&\"-\"&B247,'Data eshop'!A:R,18,FALSE))),\"\")","v":""},"",{"$f":"IFERROR(IF(A247=\"\",\"\",IF(LEFT(B247,3)=\"uni\",VLOOKUP(B247,DATA!I:X,IF(O247=\"T7\",3,IF(O247=\"E87\",4,IF(O247=\"P2\",5,IF(O247=\"E2695\",6,\"\")))),FALSE),VLOOKUP(RIGHT(A247,5)&\"-\"&B247,'Data eshop'!A:S,19,FALSE))),\"\")","v":""},{"$f":"IFERROR(IF(A247=\"\",\"\",IF(LEFT(B247,3)=\"uni\",0,VLOOKUP(RIGHT(A247,5)&\"-\"&B247,'Data eshop'!A:S,16,FALSE))),\"\")","v":""},null,"",{"$f":"IF(H247=\"\",\"\",WORKDAY(TODAY()+IF(VLOOKUP(VLOOKUP(RIGHT(A247,5)*1,'Data eshop'!D:N,11,FALSE),DATA!A:B,2,FALSE)=7,14,1),5))","v":""},"","",{"$f":"IF(L246=\"\",\"\",IF(L246=RIGHT(A246,5)&\"x\",LEFT(L246,LEN(L246)-1)&\"y\",IF(L246=RIGHT(A246,5)&\"y\",IFERROR(SMALL('Data eshop'!D:D,COUNTIF('Data eshop'!D:D,\"<\"&(LEFT(L246,LEN(L246)-1)*1))),\"\"),IF(ISERROR(IF(VLOOKUP(M246+1,'Data eshop'!C:D,2,FALSE)='Řádky zakázky'!L246,L246,L246&\"x\")),IF(RIGHT(L246,1)=\"y\",\"\",L246&\"x\"),IF(VLOOKUP(M246+1,'Data eshop'!C:D,2,FALSE)='Řádky zakázky'!L246,L246,L246&\"x\")))))","v":"0xxxxxxxxxxxxxxxxxxxxxxxxxxxxxxxxxxxxxxxxxxxxxxxxxxxxxxxxxxxxxxxxxxxxxxxxxxxxxxxxxxxxxxxxxxxxxxxxxxxxxxxxxxxxxxxxxxxxxxxxxxxxxxxxxxxxxxxxxxxxxxxxxxxxxxxxxxxxxxxxxxxxxxxxxxxxxxxxxxxxxxxxxxxxxxxxxxxxxxxxxxxxxxxxxxxxxxxxxxxxxxxxxxxxxxxxxxxxxxxxxxxxx"},1,{"$f":"IF(A247=\"\",\"\",VLOOKUP(RIGHT(A247,5)*1,'Data eshop'!D:W,17,FALSE))","v":{"$error":"#VALUE!"}},{"$f":"VLOOKUP(A247,Zakázky!A:B,2,FALSE)","v":{"$error":"#N/A"}},""]
["19ESh0",{"$f":"IFERROR(IF(ISNUMBER(L248),VLOOKUP(L248&\"-\"&M248,'Data eshop'!B:W,16,FALSE),IF(RIGHT(L248,1)=\"x\",VLOOKUP(VLOOKUP(RIGHT(A248,5)*1,'Data eshop'!D:N,11,FALSE),DATA!G:I,3,FALSE),IF(RIGHT(L248,1)=\"y\",IF(VLOOKUP(RIGHT(A248,5)*1,'Data eshop'!D:O,12,FALSE)=IF(O248=\"T7\",DATA!$D$2,IF(O248=\"E87\",DATA!$D$5,IF(O248=\"P2\",DATA!$D$6,IF(O248=\"e2695\",DATA!$D$7,\"\")))),IF(N248>=IF(O248=\"T7\",DATA!$K$11,IF(O248=\"E87\",DATA!$L$11,IF(O248=\"P2\",DATA!$M$11,IF(O248=\"e2695\",DATA!$N$11,\"\")))),\"uni008\",\"uni001\"),IF(VLOOKUP(RIGHT(A248,5)*1,'Data eshop'!D:O,12,FALSE)=DATA!$D$3,IF(O248=\"T7\",IF(N248>=500,\"uni009\",\"uni002\"),\"x\"),IF(VLOOKUP(RIGHT(A248,5)*1,'Data eshop'!D:O,12,FALSE)=DATA!$D$4,\"uni010\",\"\"))),\"\"))),\"\")","v":""},{"$f":"IFERROR(IF(A248=\"\",\"\",IF(LEFT(B248,3)=\"uni\",1,VLOOKUP(RIGHT(A248,5)&\"-\"&B248,'Data eshop'!A:R,18,FALSE))),\"\")","v":""},"",{"$f":"IFERROR(IF(A248=\"\",\"\",IF(LEFT(B248,3)=\"uni\",VLOOKUP(B248,DATA!I:X,IF(O248=\"T7\",3,IF(O248=\"E87\",4,IF(O248=\"P2\",5,IF(O248=\"E2695\",6,\"\")))),FALSE),VLOOKUP(RIGHT(A248,5)&\"-\"&B248,'Data eshop'!A:S,19,FALSE))),\"\")","v":""},{"$f":"IFERROR(IF(A248=\"\",\"\",IF(LEFT(B248,3)=\"uni\",0,VLOOKUP(RIGHT(A248,5)&\"-\"&B248,'Data eshop'!A:S,16,FALSE))),\"\")","v":""},null,"",{"$f":"IF(H248=\"\",\"\",WORKDAY(TODAY()+IF(VLOOKUP(VLOOKUP(RIGHT(A248,5)*1,'Data eshop'!D:N,11,FALSE),DATA!A:B,2,FALSE)=7,14,1),5))","v":""},"","",{"$f":"IF(L247=\"\",\"\",IF(L247=RIGHT(A247,5)&\"x\",LEFT(L247,LEN(L247)-1)&\"y\",IF(L247=RIGHT(A247,5)&\"y\",IFERROR(SMALL('Data eshop'!D:D,COUNTIF('Data eshop'!D:D,\"<\"&(LEFT(L247,LEN(L247)-1)*1))),\"\"),IF(ISERROR(IF(VLOOKUP(M247+1,'Data eshop'!C:D,2,FALSE)='Řádky zakázky'!L247,L247,L247&\"x\")),IF(RIGHT(L247,1)=\"y\",\"\",L247&\"x\"),IF(VLOOKUP(M247+1,'Data eshop'!C:D,2,FALSE)='Řádky zakázky'!L247,L247,L247&\"x\")))))","v":"0xxxxxxxxxxxxxxxxxxxxxxxxxxxxxxxxxxxxxxxxxxxxxxxxxxxxxxxxxxxxxxxxxxxxxxxxxxxxxxxxxxxxxxxxxxxxxxxxxxxxxxxxxxxxxxxxxxxxxxxxxxxxxxxxxxxxxxxxxxxxxxxxxxxxxxxxxxxxxxxxxxxxxxxxxxxxxxxxxxxxxxxxxxxxxxxxxxxxxxxxxxxxxxxxxxxxxxxxxxxxxxxxxxxxxxxxxxxxxxxxxxxxxx"},1,{"$f":"IF(A248=\"\",\"\",VLOOKUP(RIGHT(A248,5)*1,'Data eshop'!D:W,17,FALSE))","v":{"$error":"#VALUE!"}},{"$f":"VLOOKUP(A248,Zakázky!A:B,2,FALSE)","v":{"$error":"#N/A"}},"","Roluj nahoru, až uvidíš žlutou"]
["19ESh0",{"$f":"IFERROR(IF(ISNUMBER(L249),VLOOKUP(L249&\"-\"&M249,'Data eshop'!B:W,16,FALSE),IF(RIGHT(L249,1)=\"x\",VLOOKUP(VLOOKUP(RIGHT(A249,5)*1,'Data eshop'!D:N,11,FALSE),DATA!G:I,3,FALSE),IF(RIGHT(L249,1)=\"y\",IF(VLOOKUP(RIGHT(A249,5)*1,'Data eshop'!D:O,12,FALSE)=IF(O249=\"T7\",DATA!$D$2,IF(O249=\"E87\",DATA!$D$5,IF(O249=\"P2\",DATA!$D$6,IF(O249=\"e2695\",DATA!$D$7,\"\")))),IF(N249>=IF(O249=\"T7\",DATA!$K$11,IF(O249=\"E87\",DATA!$L$11,IF(O249=\"P2\",DATA!$M$11,IF(O249=\"e2695\",DATA!$N$11,\"\")))),\"uni008\",\"uni001\"),IF(VLOOKUP(RIGHT(A249,5)*1,'Data eshop'!D:O,12,FALSE)=DATA!$D$3,IF(O249=\"T7\",IF(N249>=500,\"uni009\",\"uni002\"),\"x\"),IF(VLOOKUP(RIGHT(A249,5)*1,'Data eshop'!D:O,12,FALSE)=DATA!$D$4,\"uni010\",\"\"))),\"\"))),\"\")","v":""},{"$f":"IFERROR(IF(A249=\"\",\"\",IF(LEFT(B249,3)=\"uni\",1,VLOOKUP(RIGHT(A249,5)&\"-\"&B249,'Data eshop'!A:R,18,FALSE))),\"\")","v":""},"",{"$f":"IFERROR(IF(A249=\"\",\"\",IF(LEFT(B249,3)=\"uni\",VLOOKUP(B249,DATA!I:X,IF(O249=\"T7\",3,IF(O249=\"E87\",4,IF(O249=\"P2\",5,IF(O249=\"E2695\",6,\"\")))),FALSE),VLOOKUP(RIGHT(A249,5)&\"-\"&B249,'Data eshop'!A:S,19,FALSE))),\"\")","v":""},{"$f":"IFERROR(IF(A249=\"\",\"\",IF(LEFT(B249,3)=\"uni\",0,VLOOKUP(RIGHT(A249,5)&\"-\"&B249,'Data eshop'!A:S,16,FALSE))),\"\")","v":""},null,"",{"$f":"IF(H249=\"\",\"\",WORKDAY(TODAY()+IF(VLOOKUP(VLOOKUP(RIGHT(A249,5)*1,'Data eshop'!D:N,11,FALSE),DATA!A:B,2,FALSE)=7,14,1),5))","v":""},"","",{"$f":"IF(L248=\"\",\"\",IF(L248=RIGHT(A248,5)&\"x\",LEFT(L248,LEN(L248)-1)&\"y\",IF(L248=RIGHT(A248,5)&\"y\",IFERROR(SMALL('Data eshop'!D:D,COUNTIF('Data eshop'!D:D,\"<\"&(LEFT(L248,LEN(L248)-1)*1))),\"\"),IF(ISERROR(IF(VLOOKUP(M248+1,'Data eshop'!C:D,2,FALSE)='Řádky zakázky'!L248,L248,L248&\"x\")),IF(RIGHT(L248,1)=\"y\",\"\",L248&\"x\"),IF(VLOOKUP(M248+1,'Data eshop'!C:D,2,FALSE)='Řádky zakázky'!L248,L248,L248&\"x\")))))","v":"0xxxxxxxxxxxxxxxxxxxxxxxxxxxxxxxxxxxxxxxxxxxxxxxxxxxxxxxxxxxxxxxxxxxxxxxxxxxxxxxxxxxxxxxxxxxxxxxxxxxxxxxxxxxxxxxxxxxxxxxxxxxxxxxxxxxxxxxxxxxxxxxxxxxxxxxxxxxxxxxxxxxxxxxxxxxxxxxxxxxxxxxxxxxxxxxxxxxxxxxxxxxxxxxxxxxxxxxxxxxxxxxxxxxxxxxxxxxxxxxxxxxxxxx"},1,{"$f":"IF(A249=\"\",\"\",VLOOKUP(RIGHT(A249,5)*1,'Data eshop'!D:W,17,FALSE))","v":{"$error":"#VALUE!"}},{"$f":"VLOOKUP(A249,Zakázky!A:B,2,FALSE)","v":{"$error":"#N/A"}},""]
["19ESh0",{"$f":"IFERROR(IF(ISNUMBER(L250),VLOOKUP(L250&\"-\"&M250,'Data eshop'!B:W,16,FALSE),IF(RIGHT(L250,1)=\"x\",VLOOKUP(VLOOKUP(RIGHT(A250,5)*1,'Data eshop'!D:N,11,FALSE),DATA!G:I,3,FALSE),IF(RIGHT(L250,1)=\"y\",IF(VLOOKUP(RIGHT(A250,5)*1,'Data eshop'!D:O,12,FALSE)=IF(O250=\"T7\",DATA!$D$2,IF(O250=\"E87\",DATA!$D$5,IF(O250=\"P2\",DATA!$D$6,IF(O250=\"e2695\",DATA!$D$7,\"\")))),IF(N250>=IF(O250=\"T7\",DATA!$K$11,IF(O250=\"E87\",DATA!$L$11,IF(O250=\"P2\",DATA!$M$11,IF(O250=\"e2695\",DATA!$N$11,\"\")))),\"uni008\",\"uni001\"),IF(VLOOKUP(RIGHT(A250,5)*1,'Data eshop'!D:O,12,FALSE)=DATA!$D$3,IF(O250=\"T7\",IF(N250>=500,\"uni009\",\"uni002\"),\"x\"),IF(VLOOKUP(RIGHT(A250,5)*1,'Data eshop'!D:O,12,FALSE)=DATA!$D$4,\"uni010\",\"\"))),\"\"))),\"\")","v":""},{"$f":"IFERROR(IF(A250=\"\",\"\",IF(LEFT(B250,3)=\"uni\",1,VLOOKUP(RIGHT(A250,5)&\"-\"&B250,'Data eshop'!A:R,18,FALSE))),\"\")","v":""},"",{"$f":"IFERROR(IF(A250=\"\",\"\",IF(LEFT(B250,3)=\"uni\",VLOOKUP(B250,DATA!I:X,IF(O250=\"T7\",3,IF(O250=\"E87\",4,IF(O250=\"P2\",5,IF(O250=\"E2695\",6,\"\")))),FALSE),VLOOKUP(RIGHT(A250,5)&\"-\"&B250,'Data eshop'!A:S,19,FALSE))),\"\")","v":""},{"$f":"IFERROR(IF(A250=\"\",\"\",IF(LEFT(B250,3)=\"uni\",0,VLOOKUP(RIGHT(A250,5)&\"-\"&B250,'Data eshop'!A:S,16,FALSE))),\"\")","v":""},null,"",{"$f":"IF(H250=\"\",\"\",WORKDAY(TODAY()+IF(VLOOKUP(VLOOKUP(RIGHT(A250,5)*1,'Data eshop'!D:N,11,FALSE),DATA!A:B,2,FALSE)=7,14,1),5))","v":""},"","",{"$f":"IF(L249=\"\",\"\",IF(L249=RIGHT(A249,5)&\"x\",LEFT(L249,LEN(L249)-1)&\"y\",IF(L249=RIGHT(A249,5)&\"y\",IFERROR(SMALL('Data eshop'!D:D,COUNTIF('Data eshop'!D:D,\"<\"&(LEFT(L249,LEN(L249)-1)*1))),\"\"),IF(ISERROR(IF(VLOOKUP(M249+1,'Data eshop'!C:D,2,FALSE)='Řádky zakázky'!L249,L249,L249&\"x\")),IF(RIGHT(L249,1)=\"y\",\"\",L249&\"x\"),IF(VLOOKUP(M249+1,'Data eshop'!C:D,2,FALSE)='Řádky zakázky'!L249,L249,L249&\"x\")))))","v":"0xxxxxxxxxxxxxxxxxxxxxxxxxxxxxxxxxxxxxxxxxxxxxxxxxxxxxxxxxxxxxxxxxxxxxxxxxxxxxxxxxxxxxxxxxxxxxxxxxxxxxxxxxxxxxxxxxxxxxxxxxxxxxxxxxxxxxxxxxxxxxxxxxxxxxxxxxxxxxxxxxxxxxxxxxxxxxxxxxxxxxxxxxxxxxxxxxxxxxxxxxxxxxxxxxxxxxxxxxxxxxxxxxxxxxxxxxxxxxxxxxxxxxxxx"},1,{"$f":"IF(A250=\"\",\"\",VLOOKUP(RIGHT(A250,5)*1,'Data eshop'!D:W,17,FALSE))","v":{"$error":"#VALUE!"}},{"$f":"VLOOKUP(A250,Zakázky!A:B,2,FALSE)","v":{"$error":"#N/A"}},""]
["19ESh0",{"$f":"IFERROR(IF(ISNUMBER(L251),VLOOKUP(L251&\"-\"&M251,'Data eshop'!B:W,16,FALSE),IF(RIGHT(L251,1)=\"x\",VLOOKUP(VLOOKUP(RIGHT(A251,5)*1,'Data eshop'!D:N,11,FALSE),DATA!G:I,3,FALSE),IF(RIGHT(L251,1)=\"y\",IF(VLOOKUP(RIGHT(A251,5)*1,'Data eshop'!D:O,12,FALSE)=IF(O251=\"T7\",DATA!$D$2,IF(O251=\"E87\",DATA!$D$5,IF(O251=\"P2\",DATA!$D$6,IF(O251=\"e2695\",DATA!$D$7,\"\")))),IF(N251>=IF(O251=\"T7\",DATA!$K$11,IF(O251=\"E87\",DATA!$L$11,IF(O251=\"P2\",DATA!$M$11,IF(O251=\"e2695\",DATA!$N$11,\"\")))),\"uni008\",\"uni001\"),IF(VLOOKUP(RIGHT(A251,5)*1,'Data eshop'!D:O,12,FALSE)=DATA!$D$3,IF(O251=\"T7\",IF(N251>=500,\"uni009\",\"uni002\"),\"x\"),IF(VLOOKUP(RIGHT(A251,5)*1,'Data eshop'!D:O,12,FALSE)=DATA!$D$4,\"uni010\",\"\"))),\"\"))),\"\")","v":""},{"$f":"IFERROR(IF(A251=\"\",\"\",IF(LEFT(B251,3)=\"uni\",1,VLOOKUP(RIGHT(A251,5)&\"-\"&B251,'Data eshop'!A:R,18,FALSE))),\"\")","v":""},"",{"$f":"IFERROR(IF(A251=\"\",\"\",IF(LEFT(B251,3)=\"uni\",VLOOKUP(B251,DATA!I:X,IF(O251=\"T7\",3,IF(O251=\"E87\",4,IF(O251=\"P2\",5,IF(O251=\"E2695\",6,\"\")))),FALSE),VLOOKUP(RIGHT(A251,5)&\"-\"&B251,'Data eshop'!A:S,19,FALSE))),\"\")","v":""},{"$f":"IFERROR(IF(A251=\"\",\"\",IF(LEFT(B251,3)=\"uni\",0,VLOOKUP(RIGHT(A251,5)&\"-\"&B251,'Data eshop'!A:S,16,FALSE))),\"\")","v":""},null,"",{"$f":"IF(H251=\"\",\"\",WORKDAY(TODAY()+IF(VLOOKUP(VLOOKUP(RIGHT(A251,5)*1,'Data eshop'!D:N,11,FALSE),DATA!A:B,2,FALSE)=7,14,1),5))","v":""},"","",{"$f":"IF(L250=\"\",\"\",IF(L250=RIGHT(A250,5)&\"x\",LEFT(L250,LEN(L250)-1)&\"y\",IF(L250=RIGHT(A250,5)&\"y\",IFERROR(SMALL('Data eshop'!D:D,COUNTIF('Data eshop'!D:D,\"<\"&(LEFT(L250,LEN(L250)-1)*1))),\"\"),IF(ISERROR(IF(VLOOKUP(M250+1,'Data eshop'!C:D,2,FALSE)='Řádky zakázky'!L250,L250,L250&\"x\")),IF(RIGHT(L250,1)=\"y\",\"\",L250&\"x\"),IF(VLOOKUP(M250+1,'Data eshop'!C:D,2,FALSE)='Řádky zakázky'!L250,L250,L250&\"x\")))))","v":"0xxxxxxxxxxxxxxxxxxxxxxxxxxxxxxxxxxxxxxxxxxxxxxxxxxxxxxxxxxxxxxxxxxxxxxxxxxxxxxxxxxxxxxxxxxxxxxxxxxxxxxxxxxxxxxxxxxxxxxxxxxxxxxxxxxxxxxxxxxxxxxxxxxxxxxxxxxxxxxxxxxxxxxxxxxxxxxxxxxxxxxxxxxxxxxxxxxxxxxxxxxxxxxxxxxxxxxxxxxxxxxxxxxxxxxxxxxxxxxxxxxxxxxxxx"},1,{"$f":"IF(A251=\"\",\"\",VLOOKUP(RIGHT(A251,5)*1,'Data eshop'!D:W,17,FALSE))","v":{"$error":"#VALUE!"}},{"$f":"VLOOKUP(A251,Zakázky!A:B,2,FALSE)","v":{"$error":"#N/A"}},""]
["19ESh0",{"$f":"IFERROR(IF(ISNUMBER(L252),VLOOKUP(L252&\"-\"&M252,'Data eshop'!B:W,16,FALSE),IF(RIGHT(L252,1)=\"x\",VLOOKUP(VLOOKUP(RIGHT(A252,5)*1,'Data eshop'!D:N,11,FALSE),DATA!G:I,3,FALSE),IF(RIGHT(L252,1)=\"y\",IF(VLOOKUP(RIGHT(A252,5)*1,'Data eshop'!D:O,12,FALSE)=IF(O252=\"T7\",DATA!$D$2,IF(O252=\"E87\",DATA!$D$5,IF(O252=\"P2\",DATA!$D$6,IF(O252=\"e2695\",DATA!$D$7,\"\")))),IF(N252>=IF(O252=\"T7\",DATA!$K$11,IF(O252=\"E87\",DATA!$L$11,IF(O252=\"P2\",DATA!$M$11,IF(O252=\"e2695\",DATA!$N$11,\"\")))),\"uni008\",\"uni001\"),IF(VLOOKUP(RIGHT(A252,5)*1,'Data eshop'!D:O,12,FALSE)=DATA!$D$3,IF(O252=\"T7\",IF(N252>=500,\"uni009\",\"uni002\"),\"x\"),IF(VLOOKUP(RIGHT(A252,5)*1,'Data eshop'!D:O,12,FALSE)=DATA!$D$4,\"uni010\",\"\"))),\"\"))),\"\")","v":""},{"$f":"IFERROR(IF(A252=\"\",\"\",IF(LEFT(B252,3)=\"uni\",1,VLOOKUP(RIGHT(A252,5)&\"-\"&B252,'Data eshop'!A:R,18,FALSE))),\"\")","v":""},"",{"$f":"IFERROR(IF(A252=\"\",\"\",IF(LEFT(B252,3)=\"uni\",VLOOKUP(B252,DATA!I:X,IF(O252=\"T7\",3,IF(O252=\"E87\",4,IF(O252=\"P2\",5,IF(O252=\"E2695\",6,\"\")))),FALSE),VLOOKUP(RIGHT(A252,5)&\"-\"&B252,'Data eshop'!A:S,19,FALSE))),\"\")","v":""},{"$f":"IFERROR(IF(A252=\"\",\"\",IF(LEFT(B252,3)=\"uni\",0,VLOOKUP(RIGHT(A252,5)&\"-\"&B252,'Data eshop'!A:S,16,FALSE))),\"\")","v":""},null,"",{"$f":"IF(H252=\"\",\"\",WORKDAY(TODAY()+IF(VLOOKUP(VLOOKUP(RIGHT(A252,5)*1,'Data eshop'!D:N,11,FALSE),DATA!A:B,2,FALSE)=7,14,1),5))","v":""},"","",{"$f":"IF(L251=\"\",\"\",IF(L251=RIGHT(A251,5)&\"x\",LEFT(L251,LEN(L251)-1)&\"y\",IF(L251=RIGHT(A251,5)&\"y\",IFERROR(SMALL('Data eshop'!D:D,COUNTIF('Data eshop'!D:D,\"<\"&(LEFT(L251,LEN(L251)-1)*1))),\"\"),IF(ISERROR(IF(VLOOKUP(M251+1,'Data eshop'!C:D,2,FALSE)='Řádky zakázky'!L251,L251,L251&\"x\")),IF(RIGHT(L251,1)=\"y\",\"\",L251&\"x\"),IF(VLOOKUP(M251+1,'Data eshop'!C:D,2,FALSE)='Řádky zakázky'!L251,L251,L251&\"x\")))))","v":"0xxxxxxxxxxxxxxxxxxxxxxxxxxxxxxxxxxxxxxxxxxxxxxxxxxxxxxxxxxxxxxxxxxxxxxxxxxxxxxxxxxxxxxxxxxxxxxxxxxxxxxxxxxxxxxxxxxxxxxxxxxxxxxxxxxxxxxxxxxxxxxxxxxxxxxxxxxxxxxxxxxxxxxxxxxxxxxxxxxxxxxxxxxxxxxxxxxxxxxxxxxxxxxxxxxxxxxxxxxxxxxxxxxxxxxxxxxxxxxxxxxxxxxxxxx"},1,{"$f":"IF(A252=\"\",\"\",VLOOKUP(RIGHT(A252,5)*1,'Data eshop'!D:W,17,FALSE))","v":{"$error":"#VALUE!"}},{"$f":"VLOOKUP(A252,Zakázky!A:B,2,FALSE)","v":{"$error":"#N/A"}},"","Roluj nahoru, až uvidíš žlutou"]
["19ESh0",{"$f":"IFERROR(IF(ISNUMBER(L253),VLOOKUP(L253&\"-\"&M253,'Data eshop'!B:W,16,FALSE),IF(RIGHT(L253,1)=\"x\",VLOOKUP(VLOOKUP(RIGHT(A253,5)*1,'Data eshop'!D:N,11,FALSE),DATA!G:I,3,FALSE),IF(RIGHT(L253,1)=\"y\",IF(VLOOKUP(RIGHT(A253,5)*1,'Data eshop'!D:O,12,FALSE)=IF(O253=\"T7\",DATA!$D$2,IF(O253=\"E87\",DATA!$D$5,IF(O253=\"P2\",DATA!$D$6,IF(O253=\"e2695\",DATA!$D$7,\"\")))),IF(N253>=IF(O253=\"T7\",DATA!$K$11,IF(O253=\"E87\",DATA!$L$11,IF(O253=\"P2\",DATA!$M$11,IF(O253=\"e2695\",DATA!$N$11,\"\")))),\"uni008\",\"uni001\"),IF(VLOOKUP(RIGHT(A253,5)*1,'Data eshop'!D:O,12,FALSE)=DATA!$D$3,IF(O253=\"T7\",IF(N253>=500,\"uni009\",\"uni002\"),\"x\"),IF(VLOOKUP(RIGHT(A253,5)*1,'Data eshop'!D:O,12,FALSE)=DATA!$D$4,\"uni010\",\"\"))),\"\"))),\"\")","v":""},{"$f":"IFERROR(IF(A253=\"\",\"\",IF(LEFT(B253,3)=\"uni\",1,VLOOKUP(RIGHT(A253,5)&\"-\"&B253,'Data eshop'!A:R,18,FALSE))),\"\")","v":""},"",{"$f":"IFERROR(IF(A253=\"\",\"\",IF(LEFT(B253,3)=\"uni\",VLOOKUP(B253,DATA!I:X,IF(O253=\"T7\",3,IF(O253=\"E87\",4,IF(O253=\"P2\",5,IF(O253=\"E2695\",6,\"\")))),FALSE),VLOOKUP(RIGHT(A253,5)&\"-\"&B253,'Data eshop'!A:S,19,FALSE))),\"\")","v":""},{"$f":"IFERROR(IF(A253=\"\",\"\",IF(LEFT(B253,3)=\"uni\",0,VLOOKUP(RIGHT(A253,5)&\"-\"&B253,'Data eshop'!A:S,16,FALSE))),\"\")","v":""},null,"",{"$f":"IF(H253=\"\",\"\",WORKDAY(TODAY()+IF(VLOOKUP(VLOOKUP(RIGHT(A253,5)*1,'Data eshop'!D:N,11,FALSE),DATA!A:B,2,FALSE)=7,14,1),5))","v":""},"","",{"$f":"IF(L252=\"\",\"\",IF(L252=RIGHT(A252,5)&\"x\",LEFT(L252,LEN(L252)-1)&\"y\",IF(L252=RIGHT(A252,5)&\"y\",IFERROR(SMALL('Data eshop'!D:D,COUNTIF('Data eshop'!D:D,\"<\"&(LEFT(L252,LEN(L252)-1)*1))),\"\"),IF(ISERROR(IF(VLOOKUP(M252+1,'Data eshop'!C:D,2,FALSE)='Řádky zakázky'!L252,L252,L252&\"x\")),IF(RIGHT(L252,1)=\"y\",\"\",L252&\"x\"),IF(VLOOKUP(M252+1,'Data eshop'!C:D,2,FALSE)='Řádky zakázky'!L252,L252,L252&\"x\")))))","v":"0xxxxxxxxxxxxxxxxxxxxxxxxxxxxxxxxxxxxxxxxxxxxxxxxxxxxxxxxxxxxxxxxxxxxxxxxxxxxxxxxxxxxxxxxxxxxxxxxxxxxxxxxxxxxxxxxxxxxxxxxxxxxxxxxxxxxxxxxxxxxxxxxxxxxxxxxxxxxxxxxxxxxxxxxxxxxxxxxxxxxxxxxxxxxxxxxxxxxxxxxxxxxxxxxxxxxxxxxxxxxxxxxxxxxxxxxxxxxxxxxxxxxxxxxxxx"},1,{"$f":"IF(A253=\"\",\"\",VLOOKUP(RIGHT(A253,5)*1,'Data eshop'!D:W,17,FALSE))","v":{"$error":"#VALUE!"}},{"$f":"VLOOKUP(A253,Zakázky!A:B,2,FALSE)","v":{"$error":"#N/A"}},""]
["19ESh0",{"$f":"IFERROR(IF(ISNUMBER(L254),VLOOKUP(L254&\"-\"&M254,'Data eshop'!B:W,16,FALSE),IF(RIGHT(L254,1)=\"x\",VLOOKUP(VLOOKUP(RIGHT(A254,5)*1,'Data eshop'!D:N,11,FALSE),DATA!G:I,3,FALSE),IF(RIGHT(L254,1)=\"y\",IF(VLOOKUP(RIGHT(A254,5)*1,'Data eshop'!D:O,12,FALSE)=IF(O254=\"T7\",DATA!$D$2,IF(O254=\"E87\",DATA!$D$5,IF(O254=\"P2\",DATA!$D$6,IF(O254=\"e2695\",DATA!$D$7,\"\")))),IF(N254>=IF(O254=\"T7\",DATA!$K$11,IF(O254=\"E87\",DATA!$L$11,IF(O254=\"P2\",DATA!$M$11,IF(O254=\"e2695\",DATA!$N$11,\"\")))),\"uni008\",\"uni001\"),IF(VLOOKUP(RIGHT(A254,5)*1,'Data eshop'!D:O,12,FALSE)=DATA!$D$3,IF(O254=\"T7\",IF(N254>=500,\"uni009\",\"uni002\"),\"x\"),IF(VLOOKUP(RIGHT(A254,5)*1,'Data eshop'!D:O,12,FALSE)=DATA!$D$4,\"uni010\",\"\"))),\"\"))),\"\")","v":""},{"$f":"IFERROR(IF(A254=\"\",\"\",IF(LEFT(B254,3)=\"uni\",1,VLOOKUP(RIGHT(A254,5)&\"-\"&B254,'Data eshop'!A:R,18,FALSE))),\"\")","v":""},"",{"$f":"IFERROR(IF(A254=\"\",\"\",IF(LEFT(B254,3)=\"uni\",VLOOKUP(B254,DATA!I:X,IF(O254=\"T7\",3,IF(O254=\"E87\",4,IF(O254=\"P2\",5,IF(O254=\"E2695\",6,\"\")))),FALSE),VLOOKUP(RIGHT(A254,5)&\"-\"&B254,'Data eshop'!A:S,19,FALSE))),\"\")","v":""},{"$f":"IFERROR(IF(A254=\"\",\"\",IF(LEFT(B254,3)=\"uni\",0,VLOOKUP(RIGHT(A254,5)&\"-\"&B254,'Data eshop'!A:S,16,FALSE))),\"\")","v":""},null,"",{"$f":"IF(H254=\"\",\"\",WORKDAY(TODAY()+IF(VLOOKUP(VLOOKUP(RIGHT(A254,5)*1,'Data eshop'!D:N,11,FALSE),DATA!A:B,2,FALSE)=7,14,1),5))","v":""},"","",{"$f":"IF(L253=\"\",\"\",IF(L253=RIGHT(A253,5)&\"x\",LEFT(L253,LEN(L253)-1)&\"y\",IF(L253=RIGHT(A253,5)&\"y\",IFERROR(SMALL('Data eshop'!D:D,COUNTIF('Data eshop'!D:D,\"<\"&(LEFT(L253,LEN(L253)-1)*1))),\"\"),IF(ISERROR(IF(VLOOKUP(M253+1,'Data eshop'!C:D,2,FALSE)='Řádky zakázky'!L253,L253,L253&\"x\")),IF(RIGHT(L253,1)=\"y\",\"\",L253&\"x\"),IF(VLOOKUP(M253+1,'Data eshop'!C:D,2,FALSE)='Řádky zakázky'!L253,L253,L253&\"x\")))))","v":"0xxxxxxxxxxxxxxxxxxxxxxxxxxxxxxxxxxxxxxxxxxxxxxxxxxxxxxxxxxxxxxxxxxxxxxxxxxxxxxxxxxxxxxxxxxxxxxxxxxxxxxxxxxxxxxxxxxxxxxxxxxxxxxxxxxxxxxxxxxxxxxxxxxxxxxxxxxxxxxxxxxxxxxxxxxxxxxxxxxxxxxxxxxxxxxxxxxxxxxxxxxxxxxxxxxxxxxxxxxxxxxxxxxxxxxxxxxxxxxxxxxxxxxxxxxxx"},1,{"$f":"IF(A254=\"\",\"\",VLOOKUP(RIGHT(A254,5)*1,'Data eshop'!D:W,17,FALSE))","v":{"$error":"#VALUE!"}},{"$f":"VLOOKUP(A254,Zakázky!A:B,2,FALSE)","v":{"$error":"#N/A"}},""]
["19ESh0",{"$f":"IFERROR(IF(ISNUMBER(L255),VLOOKUP(L255&\"-\"&M255,'Data eshop'!B:W,16,FALSE),IF(RIGHT(L255,1)=\"x\",VLOOKUP(VLOOKUP(RIGHT(A255,5)*1,'Data eshop'!D:N,11,FALSE),DATA!G:I,3,FALSE),IF(RIGHT(L255,1)=\"y\",IF(VLOOKUP(RIGHT(A255,5)*1,'Data eshop'!D:O,12,FALSE)=IF(O255=\"T7\",DATA!$D$2,IF(O255=\"E87\",DATA!$D$5,IF(O255=\"P2\",DATA!$D$6,IF(O255=\"e2695\",DATA!$D$7,\"\")))),IF(N255>=IF(O255=\"T7\",DATA!$K$11,IF(O255=\"E87\",DATA!$L$11,IF(O255=\"P2\",DATA!$M$11,IF(O255=\"e2695\",DATA!$N$11,\"\")))),\"uni008\",\"uni001\"),IF(VLOOKUP(RIGHT(A255,5)*1,'Data eshop'!D:O,12,FALSE)=DATA!$D$3,IF(O255=\"T7\",IF(N255>=500,\"uni009\",\"uni002\"),\"x\"),IF(VLOOKUP(RIGHT(A255,5)*1,'Data eshop'!D:O,12,FALSE)=DATA!$D$4,\"uni010\",\"\"))),\"\"))),\"\")","v":""},{"$f":"IFERROR(IF(A255=\"\",\"\",IF(LEFT(B255,3)=\"uni\",1,VLOOKUP(RIGHT(A255,5)&\"-\"&B255,'Data eshop'!A:R,18,FALSE))),\"\")","v":""},"",{"$f":"IFERROR(IF(A255=\"\",\"\",IF(LEFT(B255,3)=\"uni\",VLOOKUP(B255,DATA!I:X,IF(O255=\"T7\",3,IF(O255=\"E87\",4,IF(O255=\"P2\",5,IF(O255=\"E2695\",6,\"\")))),FALSE),VLOOKUP(RIGHT(A255,5)&\"-\"&B255,'Data eshop'!A:S,19,FALSE))),\"\")","v":""},{"$f":"IFERROR(IF(A255=\"\",\"\",IF(LEFT(B255,3)=\"uni\",0,VLOOKUP(RIGHT(A255,5)&\"-\"&B255,'Data eshop'!A:S,16,FALSE))),\"\")","v":""},null,"",{"$f":"IF(H255=\"\",\"\",WORKDAY(TODAY()+IF(VLOOKUP(VLOOKUP(RIGHT(A255,5)*1,'Data eshop'!D:N,11,FALSE),DATA!A:B,2,FALSE)=7,14,1),5))","v":""},"","",{"$f":"IF(L254=\"\",\"\",IF(L254=RIGHT(A254,5)&\"x\",LEFT(L254,LEN(L254)-1)&\"y\",IF(L254=RIGHT(A254,5)&\"y\",IFERROR(SMALL('Data eshop'!D:D,COUNTIF('Data eshop'!D:D,\"<\"&(LEFT(L254,LEN(L254)-1)*1))),\"\"),IF(ISERROR(IF(VLOOKUP(M254+1,'Data eshop'!C:D,2,FALSE)='Řádky zakázky'!L254,L254,L254&\"x\")),IF(RIGHT(L254,1)=\"y\",\"\",L254&\"x\"),IF(VLOOKUP(M254+1,'Data eshop'!C:D,2,FALSE)='Řádky zakázky'!L254,L254,L254&\"x\")))))","v":"0xxxxxxxxxxxxxxxxxxxxxxxxxxxxxxxxxxxxxxxxxxxxxxxxxxxxxxxxxxxxxxxxxxxxxxxxxxxxxxxxxxxxxxxxxxxxxxxxxxxxxxxxxxxxxxxxxxxxxxxxxxxxxxxxxxxxxxxxxxxxxxxxxxxxxxxxxxxxxxxxxxxxxxxxxxxxxxxxxxxxxxxxxxxxxxxxxxxxxxxxxxxxxxxxxxxxxxxxxxxxxxxxxxxxxxxxxxxxxxxxxxxxxxxxxxxxx"},1,{"$f":"IF(A255=\"\",\"\",VLOOKUP(RIGHT(A255,5)*1,'Data eshop'!D:W,17,FALSE))","v":{"$error":"#VALUE!"}},{"$f":"VLOOKUP(A255,Zakázky!A:B,2,FALSE)","v":{"$error":"#N/A"}},""]
["19ESh0",{"$f":"IFERROR(IF(ISNUMBER(L256),VLOOKUP(L256&\"-\"&M256,'Data eshop'!B:W,16,FALSE),IF(RIGHT(L256,1)=\"x\",VLOOKUP(VLOOKUP(RIGHT(A256,5)*1,'Data eshop'!D:N,11,FALSE),DATA!G:I,3,FALSE),IF(RIGHT(L256,1)=\"y\",IF(VLOOKUP(RIGHT(A256,5)*1,'Data eshop'!D:O,12,FALSE)=IF(O256=\"T7\",DATA!$D$2,IF(O256=\"E87\",DATA!$D$5,IF(O256=\"P2\",DATA!$D$6,IF(O256=\"e2695\",DATA!$D$7,\"\")))),IF(N256>=IF(O256=\"T7\",DATA!$K$11,IF(O256=\"E87\",DATA!$L$11,IF(O256=\"P2\",DATA!$M$11,IF(O256=\"e2695\",DATA!$N$11,\"\")))),\"uni008\",\"uni001\"),IF(VLOOKUP(RIGHT(A256,5)*1,'Data eshop'!D:O,12,FALSE)=DATA!$D$3,IF(O256=\"T7\",IF(N256>=500,\"uni009\",\"uni002\"),\"x\"),IF(VLOOKUP(RIGHT(A256,5)*1,'Data eshop'!D:O,12,FALSE)=DATA!$D$4,\"uni010\",\"\"))),\"\"))),\"\")","v":""},{"$f":"IFERROR(IF(A256=\"\",\"\",IF(LEFT(B256,3)=\"uni\",1,VLOOKUP(RIGHT(A256,5)&\"-\"&B256,'Data eshop'!A:R,18,FALSE))),\"\")","v":""},"",{"$f":"IFERROR(IF(A256=\"\",\"\",IF(LEFT(B256,3)=\"uni\",VLOOKUP(B256,DATA!I:X,IF(O256=\"T7\",3,IF(O256=\"E87\",4,IF(O256=\"P2\",5,IF(O256=\"E2695\",6,\"\")))),FALSE),VLOOKUP(RIGHT(A256,5)&\"-\"&B256,'Data eshop'!A:S,19,FALSE))),\"\")","v":""},{"$f":"IFERROR(IF(A256=\"\",\"\",IF(LEFT(B256,3)=\"uni\",0,VLOOKUP(RIGHT(A256,5)&\"-\"&B256,'Data eshop'!A:S,16,FALSE))),\"\")","v":""},null,"",{"$f":"IF(H256=\"\",\"\",WORKDAY(TODAY()+IF(VLOOKUP(VLOOKUP(RIGHT(A256,5)*1,'Data eshop'!D:N,11,FALSE),DATA!A:B,2,FALSE)=7,14,1),5))","v":""},"","",{"$f":"IF(L255=\"\",\"\",IF(L255=RIGHT(A255,5)&\"x\",LEFT(L255,LEN(L255)-1)&\"y\",IF(L255=RIGHT(A255,5)&\"y\",IFERROR(SMALL('Data eshop'!D:D,COUNTIF('Data eshop'!D:D,\"<\"&(LEFT(L255,LEN(L255)-1)*1))),\"\"),IF(ISERROR(IF(VLOOKUP(M255+1,'Data eshop'!C:D,2,FALSE)='Řádky zakázky'!L255,L255,L255&\"x\")),IF(RIGHT(L255,1)=\"y\",\"\",L255&\"x\"),IF(VLOOKUP(M255+1,'Data eshop'!C:D,2,FALSE)='Řádky zakázky'!L255,L255,L255&\"x\")))))","v":"0xxxxxxxxxxxxxxxxxxxxxxxxxxxxxxxxxxxxxxxxxxxxxxxxxxxxxxxxxxxxxxxxxxxxxxxxxxxxxxxxxxxxxxxxxxxxxxxxxxxxxxxxxxxxxxxxxxxxxxxxxxxxxxxxxxxxxxxxxxxxxxxxxxxxxxxxxxxxxxxxxxxxxxxxxxxxxxxxxxxxxxxxxxxxxxxxxxxxxxxxxxxxxxxxxxxxxxxxxxxxxxxxxxxxxxxxxxxxxxxxxxxxxxxxxxxxxx"},1,{"$f":"IF(A256=\"\",\"\",VLOOKUP(RIGHT(A256,5)*1,'Data eshop'!D:W,17,FALSE))","v":{"$error":"#VALUE!"}},{"$f":"VLOOKUP(A256,Zakázky!A:B,2,FALSE)","v":{"$error":"#N/A"}},"","Roluj nahoru, až uvidíš žlutou"]
["19ESh0",{"$f":"IFERROR(IF(ISNUMBER(L257),VLOOKUP(L257&\"-\"&M257,'Data eshop'!B:W,16,FALSE),IF(RIGHT(L257,1)=\"x\",VLOOKUP(VLOOKUP(RIGHT(A257,5)*1,'Data eshop'!D:N,11,FALSE),DATA!G:I,3,FALSE),IF(RIGHT(L257,1)=\"y\",IF(VLOOKUP(RIGHT(A257,5)*1,'Data eshop'!D:O,12,FALSE)=IF(O257=\"T7\",DATA!$D$2,IF(O257=\"E87\",DATA!$D$5,IF(O257=\"P2\",DATA!$D$6,IF(O257=\"e2695\",DATA!$D$7,\"\")))),IF(N257>=IF(O257=\"T7\",DATA!$K$11,IF(O257=\"E87\",DATA!$L$11,IF(O257=\"P2\",DATA!$M$11,IF(O257=\"e2695\",DATA!$N$11,\"\")))),\"uni008\",\"uni001\"),IF(VLOOKUP(RIGHT(A257,5)*1,'Data eshop'!D:O,12,FALSE)=DATA!$D$3,IF(O257=\"T7\",IF(N257>=500,\"uni009\",\"uni002\"),\"x\"),IF(VLOOKUP(RIGHT(A257,5)*1,'Data eshop'!D:O,12,FALSE)=DATA!$D$4,\"uni010\",\"\"))),\"\"))),\"\")","v":""},{"$f":"IFERROR(IF(A257=\"\",\"\",IF(LEFT(B257,3)=\"uni\",1,VLOOKUP(RIGHT(A257,5)&\"-\"&B257,'Data eshop'!A:R,18,FALSE))),\"\")","v":""},"",{"$f":"IFERROR(IF(A257=\"\",\"\",IF(LEFT(B257,3)=\"uni\",VLOOKUP(B257,DATA!I:X,IF(O257=\"T7\",3,IF(O257=\"E87\",4,IF(O257=\"P2\",5,IF(O257=\"E2695\",6,\"\")))),FALSE),VLOOKUP(RIGHT(A257,5)&\"-\"&B257,'Data eshop'!A:S,19,FALSE))),\"\")","v":""},{"$f":"IFERROR(IF(A257=\"\",\"\",IF(LEFT(B257,3)=\"uni\",0,VLOOKUP(RIGHT(A257,5)&\"-\"&B257,'Data eshop'!A:S,16,FALSE))),\"\")","v":""},null,"",{"$f":"IF(H257=\"\",\"\",WORKDAY(TODAY()+IF(VLOOKUP(VLOOKUP(RIGHT(A257,5)*1,'Data eshop'!D:N,11,FALSE),DATA!A:B,2,FALSE)=7,14,1),5))","v":""},"","",{"$f":"IF(L256=\"\",\"\",IF(L256=RIGHT(A256,5)&\"x\",LEFT(L256,LEN(L256)-1)&\"y\",IF(L256=RIGHT(A256,5)&\"y\",IFERROR(SMALL('Data eshop'!D:D,COUNTIF('Data eshop'!D:D,\"<\"&(LEFT(L256,LEN(L256)-1)*1))),\"\"),IF(ISERROR(IF(VLOOKUP(M256+1,'Data eshop'!C:D,2,FALSE)='Řádky zakázky'!L256,L256,L256&\"x\")),IF(RIGHT(L256,1)=\"y\",\"\",L256&\"x\"),IF(VLOOKUP(M256+1,'Data eshop'!C:D,2,FALSE)='Řádky zakázky'!L256,L256,L256&\"x\")))))","v":"0xxxxxxxxxxxxxxxxxxxxxxxxxxxxxxxxxxxxxxxxxxxxxxxxxxxxxxxxxxxxxxxxxxxxxxxxxxxxxxxxxxxxxxxxxxxxxxxxxxxxxxxxxxxxxxxxxxxxxxxxxxxxxxxxxxxxxxxxxxxxxxxxxxxxxxxxxxxxxxxxxxxxxxxxxxxxxxxxxxxxxxxxxxxxxxxxxxxxxxxxxxxxxxxxxxxxxxxxxxxxxxxxxxxxxxxxxxxxxxxxxxxxxxxxxxxxxxx"},1,{"$f":"IF(A257=\"\",\"\",VLOOKUP(RIGHT(A257,5)*1,'Data eshop'!D:W,17,FALSE))","v":{"$error":"#VALUE!"}},{"$f":"VLOOKUP(A257,Zakázky!A:B,2,FALSE)","v":{"$error":"#N/A"}},""]
["19ESh0",{"$f":"IFERROR(IF(ISNUMBER(L258),VLOOKUP(L258&\"-\"&M258,'Data eshop'!B:W,16,FALSE),IF(RIGHT(L258,1)=\"x\",VLOOKUP(VLOOKUP(RIGHT(A258,5)*1,'Data eshop'!D:N,11,FALSE),DATA!G:I,3,FALSE),IF(RIGHT(L258,1)=\"y\",IF(VLOOKUP(RIGHT(A258,5)*1,'Data eshop'!D:O,12,FALSE)=IF(O258=\"T7\",DATA!$D$2,IF(O258=\"E87\",DATA!$D$5,IF(O258=\"P2\",DATA!$D$6,IF(O258=\"e2695\",DATA!$D$7,\"\")))),IF(N258>=IF(O258=\"T7\",DATA!$K$11,IF(O258=\"E87\",DATA!$L$11,IF(O258=\"P2\",DATA!$M$11,IF(O258=\"e2695\",DATA!$N$11,\"\")))),\"uni008\",\"uni001\"),IF(VLOOKUP(RIGHT(A258,5)*1,'Data eshop'!D:O,12,FALSE)=DATA!$D$3,IF(O258=\"T7\",IF(N258>=500,\"uni009\",\"uni002\"),\"x\"),IF(VLOOKUP(RIGHT(A258,5)*1,'Data eshop'!D:O,12,FALSE)=DATA!$D$4,\"uni010\",\"\"))),\"\"))),\"\")","v":""},{"$f":"IFERROR(IF(A258=\"\",\"\",IF(LEFT(B258,3)=\"uni\",1,VLOOKUP(RIGHT(A258,5)&\"-\"&B258,'Data eshop'!A:R,18,FALSE))),\"\")","v":""},{"$f":"IF(C258=\"\",\"\",\"KS\")","v":""},{"$f":"IFERROR(IF(A258=\"\",\"\",IF(LEFT(B258,3)=\"uni\",VLOOKUP(B258,DATA!I:X,IF(O258=\"T7\",3,IF(O258=\"E87\",4,IF(O258=\"P2\",5,IF(O258=\"E2695\",6,\"\")))),FALSE),VLOOKUP(RIGHT(A258,5)&\"-\"&B258,'Data eshop'!A:S,19,FALSE))),\"\")","v":""},{"$f":"IFERROR(IF(A258=\"\",\"\",IF(LEFT(B258,3)=\"uni\",0,VLOOKUP(RIGHT(A258,5)&\"-\"&B258,'Data eshop'!A:S,16,FALSE))),\"\")","v":""},null,{"$f":"IF(C258=\"\",\"\",\"Objednáno\")","v":""},{"$f":"IF(H258=\"\",\"\",WORKDAY(TODAY()+IF(VLOOKUP(VLOOKUP(RIGHT(A258,5)*1,'Data eshop'!D:N,11,FALSE),DATA!A:B,2,FALSE)=7,14,1),5))","v":""},{"$f":"IF(C258=\"\",\"\",\"SKL\")","v":""},{"$f":"IF(B258=\"\",\"\",IF(ISNUMBER(FIND(\"uni0\",B258)),B258,\"\"))","v":""},{"$f":"IF(L257=\"\",\"\",IF(L257=RIGHT(A257,5)&\"x\",LEFT(L257,LEN(L257)-1)&\"y\",IF(L257=RIGHT(A257,5)&\"y\",IFERROR(SMALL('Data eshop'!D:D,COUNTIF('Data eshop'!D:D,\"<\"&(LEFT(L257,LEN(L257)-1)*1))),\"\"),IF(ISERROR(IF(VLOOKUP(M257+1,'Data eshop'!C:D,2,FALSE)='Řádky zakázky'!L257,L257,L257&\"x\")),IF(RIGHT(L257,1)=\"y\",\"\",L257&\"x\"),IF(VLOOKUP(M257+1,'Data eshop'!C:D,2,FALSE)='Řádky zakázky'!L257,L257,L257&\"x\")))))","v":"0xxxxxxxxxxxxxxxxxxxxxxxxxxxxxxxxxxxxxxxxxxxxxxxxxxxxxxxxxxxxxxxxxxxxxxxxxxxxxxxxxxxxxxxxxxxxxxxxxxxxxxxxxxxxxxxxxxxxxxxxxxxxxxxxxxxxxxxxxxxxxxxxxxxxxxxxxxxxxxxxxxxxxxxxxxxxxxxxxxxxxxxxxxxxxxxxxxxxxxxxxxxxxxxxxxxxxxxxxxxxxxxxxxxxxxxxxxxxxxxxxxxxxxxxxxxxxxxx"},1,{"$f":"IF(A258=\"\",\"\",VLOOKUP(RIGHT(A258,5)*1,'Data eshop'!D:W,17,FALSE))","v":{"$error":"#VALUE!"}},{"$f":"VLOOKUP(A258,Zakázky!A:B,2,FALSE)","v":{"$error":"#N/A"}},{"$f":"IF(C258=\"\",\"\",IF(E258=0.00001,0,E258*C258))","v":""}]
[{"$f":"IFERROR(IF(L259=\"\",\"\",IF(RIGHT(L259,1)=\"x\",A258,IF(RIGHT(L259,1)=\"y\",A258,\"19ESh\"&IF(LEN(L259)=4,\"0\",\"\")&L259))),\"\")","v":"19ESh0"},{"$f":"IFERROR(IF(ISNUMBER(L259),VLOOKUP(L259&\"-\"&M259,'Data eshop'!B:W,16,FALSE),IF(RIGHT(L259,1)=\"x\",VLOOKUP(VLOOKUP(RIGHT(A259,5)*1,'Data eshop'!D:N,11,FALSE),DATA!G:I,3,FALSE),IF(RIGHT(L259,1)=\"y\",IF(VLOOKUP(RIGHT(A259,5)*1,'Data eshop'!D:O,12,FALSE)=IF(O259=\"T7\",DATA!$D$2,IF(O259=\"E87\",DATA!$D$5,IF(O259=\"P2\",DATA!$D$6,IF(O259=\"e2695\",DATA!$D$7,\"\")))),IF(N259>=IF(O259=\"T7\",DATA!$K$11,IF(O259=\"E87\",DATA!$L$11,IF(O259=\"P2\",DATA!$M$11,IF(O259=\"e2695\",DATA!$N$11,\"\")))),\"uni008\",\"uni001\"),IF(VLOOKUP(RIGHT(A259,5)*1,'Data eshop'!D:O,12,FALSE)=DATA!$D$3,IF(O259=\"T7\",IF(N259>=500,\"uni009\",\"uni002\"),\"x\"),IF(VLOOKUP(RIGHT(A259,5)*1,'Data eshop'!D:O,12,FALSE)=DATA!$D$4,\"uni010\",\"\"))),\"\"))),\"\")","v":""},{"$f":"IFERROR(IF(A259=\"\",\"\",IF(LEFT(B259,3)=\"uni\",1,VLOOKUP(RIGHT(A259,5)&\"-\"&B259,'Data eshop'!A:R,18,FALSE))),\"\")","v":""},"",{"$f":"IFERROR(IF(A259=\"\",\"\",IF(LEFT(B259,3)=\"uni\",VLOOKUP(B259,DATA!I:X,IF(O259=\"T7\",3,IF(O259=\"E87\",4,IF(O259=\"P2\",5,IF(O259=\"E2695\",6,\"\")))),FALSE),VLOOKUP(RIGHT(A259,5)&\"-\"&B259,'Data eshop'!A:S,19,FALSE))),\"\")","v":""},{"$f":"IFERROR(IF(A259=\"\",\"\",IF(LEFT(B259,3)=\"uni\",0,VLOOKUP(RIGHT(A259,5)&\"-\"&B259,'Data eshop'!A:S,16,FALSE))),\"\")","v":""},null,"",{"$f":"IF(H259=\"\",\"\",WORKDAY(TODAY()+IF(VLOOKUP(VLOOKUP(RIGHT(A259,5)*1,'Data eshop'!D:N,11,FALSE),DATA!A:B,2,FALSE)=7,14,1),5))","v":""},"","",{"$f":"IF(L258=\"\",\"\",IF(L258=RIGHT(A258,5)&\"x\",LEFT(L258,LEN(L258)-1)&\"y\",IF(L258=RIGHT(A258,5)&\"y\",IFERROR(SMALL('Data eshop'!D:D,COUNTIF('Data eshop'!D:D,\"<\"&(LEFT(L258,LEN(L258)-1)*1))),\"\"),IF(ISERROR(IF(VLOOKUP(M258+1,'Data eshop'!C:D,2,FALSE)='Řádky zakázky'!L258,L258,L258&\"x\")),IF(RIGHT(L258,1)=\"y\",\"\",L258&\"x\"),IF(VLOOKUP(M258+1,'Data eshop'!C:D,2,FALSE)='Řádky zakázky'!L258,L258,L258&\"x\")))))","v":"0xxxxxxxxxxxxxxxxxxxxxxxxxxxxxxxxxxxxxxxxxxxxxxxxxxxxxxxxxxxxxxxxxxxxxxxxxxxxxxxxxxxxxxxxxxxxxxxxxxxxxxxxxxxxxxxxxxxxxxxxxxxxxxxxxxxxxxxxxxxxxxxxxxxxxxxxxxxxxxxxxxxxxxxxxxxxxxxxxxxxxxxxxxxxxxxxxxxxxxxxxxxxxxxxxxxxxxxxxxxxxxxxxxxxxxxxxxxxxxxxxxxxxxxxxxxxxxxxx"},1,{"$f":"IF(A259=\"\",\"\",VLOOKUP(RIGHT(A259,5)*1,'Data eshop'!D:W,17,FALSE))","v":{"$error":"#VALUE!"}},{"$f":"VLOOKUP(A259,Zakázky!A:B,2,FALSE)","v":{"$error":"#N/A"}},""]
["19ESh0",{"$f":"IFERROR(IF(ISNUMBER(L260),VLOOKUP(L260&\"-\"&M260,'Data eshop'!B:W,16,FALSE),IF(RIGHT(L260,1)=\"x\",VLOOKUP(VLOOKUP(RIGHT(A260,5)*1,'Data eshop'!D:N,11,FALSE),DATA!G:I,3,FALSE),IF(RIGHT(L260,1)=\"y\",IF(VLOOKUP(RIGHT(A260,5)*1,'Data eshop'!D:O,12,FALSE)=IF(O260=\"T7\",DATA!$D$2,IF(O260=\"E87\",DATA!$D$5,IF(O260=\"P2\",DATA!$D$6,IF(O260=\"e2695\",DATA!$D$7,\"\")))),IF(N260>=IF(O260=\"T7\",DATA!$K$11,IF(O260=\"E87\",DATA!$L$11,IF(O260=\"P2\",DATA!$M$11,IF(O260=\"e2695\",DATA!$N$11,\"\")))),\"uni008\",\"uni001\"),IF(VLOOKUP(RIGHT(A260,5)*1,'Data eshop'!D:O,12,FALSE)=DATA!$D$3,IF(O260=\"T7\",IF(N260>=500,\"uni009\",\"uni002\"),\"x\"),IF(VLOOKUP(RIGHT(A260,5)*1,'Data eshop'!D:O,12,FALSE)=DATA!$D$4,\"uni010\",\"\"))),\"\"))),\"\")","v":""},{"$f":"IFERROR(IF(A260=\"\",\"\",IF(LEFT(B260,3)=\"uni\",1,VLOOKUP(RIGHT(A260,5)&\"-\"&B260,'Data eshop'!A:R,18,FALSE))),\"\")","v":""},"",{"$f":"IFERROR(IF(A260=\"\",\"\",IF(LEFT(B260,3)=\"uni\",VLOOKUP(B260,DATA!I:X,IF(O260=\"T7\",3,IF(O260=\"E87\",4,IF(O260=\"P2\",5,IF(O260=\"E2695\",6,\"\")))),FALSE),VLOOKUP(RIGHT(A260,5)&\"-\"&B260,'Data eshop'!A:S,19,FALSE))),\"\")","v":""},{"$f":"IFERROR(IF(A260=\"\",\"\",IF(LEFT(B260,3)=\"uni\",0,VLOOKUP(RIGHT(A260,5)&\"-\"&B260,'Data eshop'!A:S,16,FALSE))),\"\")","v":""},null,"",{"$f":"IF(H260=\"\",\"\",WORKDAY(TODAY()+IF(VLOOKUP(VLOOKUP(RIGHT(A260,5)*1,'Data eshop'!D:N,11,FALSE),DATA!A:B,2,FALSE)=7,14,1),5))","v":""},"","",{"$f":"IF(L259=\"\",\"\",IF(L259=RIGHT(A259,5)&\"x\",LEFT(L259,LEN(L259)-1)&\"y\",IF(L259=RIGHT(A259,5)&\"y\",IFERROR(SMALL('Data eshop'!D:D,COUNTIF('Data eshop'!D:D,\"<\"&(LEFT(L259,LEN(L259)-1)*1))),\"\"),IF(ISERROR(IF(VLOOKUP(M259+1,'Data eshop'!C:D,2,FALSE)='Řádky zakázky'!L259,L259,L259&\"x\")),IF(RIGHT(L259,1)=\"y\",\"\",L259&\"x\"),IF(VLOOKUP(M259+1,'Data eshop'!C:D,2,FALSE)='Řádky zakázky'!L259,L259,L259&\"x\")))))","v":"0xxxxxxxxxxxxxxxxxxxxxxxxxxxxxxxxxxxxxxxxxxxxxxxxxxxxxxxxxxxxxxxxxxxxxxxxxxxxxxxxxxxxxxxxxxxxxxxxxxxxxxxxxxxxxxxxxxxxxxxxxxxxxxxxxxxxxxxxxxxxxxxxxxxxxxxxxxxxxxxxxxxxxxxxxxxxxxxxxxxxxxxxxxxxxxxxxxxxxxxxxxxxxxxxxxxxxxxxxxxxxxxxxxxxxxxxxxxxxxxxxxxxxxxxxxxxxxxxxx"},1,{"$f":"IF(A260=\"\",\"\",VLOOKUP(RIGHT(A260,5)*1,'Data eshop'!D:W,17,FALSE))","v":{"$error":"#VALUE!"}},{"$f":"VLOOKUP(A260,Zakázky!A:B,2,FALSE)","v":{"$error":"#N/A"}},"","Roluj nahoru, až uvidíš žlutou"]
["19ESh0",{"$f":"IFERROR(IF(ISNUMBER(L261),VLOOKUP(L261&\"-\"&M261,'Data eshop'!B:W,16,FALSE),IF(RIGHT(L261,1)=\"x\",VLOOKUP(VLOOKUP(RIGHT(A261,5)*1,'Data eshop'!D:N,11,FALSE),DATA!G:I,3,FALSE),IF(RIGHT(L261,1)=\"y\",IF(VLOOKUP(RIGHT(A261,5)*1,'Data eshop'!D:O,12,FALSE)=IF(O261=\"T7\",DATA!$D$2,IF(O261=\"E87\",DATA!$D$5,IF(O261=\"P2\",DATA!$D$6,IF(O261=\"e2695\",DATA!$D$7,\"\")))),IF(N261>=IF(O261=\"T7\",DATA!$K$11,IF(O261=\"E87\",DATA!$L$11,IF(O261=\"P2\",DATA!$M$11,IF(O261=\"e2695\",DATA!$N$11,\"\")))),\"uni008\",\"uni001\"),IF(VLOOKUP(RIGHT(A261,5)*1,'Data eshop'!D:O,12,FALSE)=DATA!$D$3,IF(O261=\"T7\",IF(N261>=500,\"uni009\",\"uni002\"),\"x\"),IF(VLOOKUP(RIGHT(A261,5)*1,'Data eshop'!D:O,12,FALSE)=DATA!$D$4,\"uni010\",\"\"))),\"\"))),\"\")","v":""},{"$f":"IFERROR(IF(A261=\"\",\"\",IF(LEFT(B261,3)=\"uni\",1,VLOOKUP(RIGHT(A261,5)&\"-\"&B261,'Data eshop'!A:R,18,FALSE))),\"\")","v":""},"",{"$f":"IFERROR(IF(A261=\"\",\"\",IF(LEFT(B261,3)=\"uni\",VLOOKUP(B261,DATA!I:X,IF(O261=\"T7\",3,IF(O261=\"E87\",4,IF(O261=\"P2\",5,IF(O261=\"E2695\",6,\"\")))),FALSE),VLOOKUP(RIGHT(A261,5)&\"-\"&B261,'Data eshop'!A:S,19,FALSE))),\"\")","v":""},{"$f":"IFERROR(IF(A261=\"\",\"\",IF(LEFT(B261,3)=\"uni\",0,VLOOKUP(RIGHT(A261,5)&\"-\"&B261,'Data eshop'!A:S,16,FALSE))),\"\")","v":""},null,"",{"$f":"IF(H261=\"\",\"\",WORKDAY(TODAY()+IF(VLOOKUP(VLOOKUP(RIGHT(A261,5)*1,'Data eshop'!D:N,11,FALSE),DATA!A:B,2,FALSE)=7,14,1),5))","v":""},"","",{"$f":"IF(L260=\"\",\"\",IF(L260=RIGHT(A260,5)&\"x\",LEFT(L260,LEN(L260)-1)&\"y\",IF(L260=RIGHT(A260,5)&\"y\",IFERROR(SMALL('Data eshop'!D:D,COUNTIF('Data eshop'!D:D,\"<\"&(LEFT(L260,LEN(L260)-1)*1))),\"\"),IF(ISERROR(IF(VLOOKUP(M260+1,'Data eshop'!C:D,2,FALSE)='Řádky zakázky'!L260,L260,L260&\"x\")),IF(RIGHT(L260,1)=\"y\",\"\",L260&\"x\"),IF(VLOOKUP(M260+1,'Data eshop'!C:D,2,FALSE)='Řádky zakázky'!L260,L260,L260&\"x\")))))","v":"0xxxxxxxxxxxxxxxxxxxxxxxxxxxxxxxxxxxxxxxxxxxxxxxxxxxxxxxxxxxxxxxxxxxxxxxxxxxxxxxxxxxxxxxxxxxxxxxxxxxxxxxxxxxxxxxxxxxxxxxxxxxxxxxxxxxxxxxxxxxxxxxxxxxxxxxxxxxxxxxxxxxxxxxxxxxxxxxxxxxxxxxxxxxxxxxxxxxxxxxxxxxxxxxxxxxxxxxxxxxxxxxxxxxxxxxxxxxxxxxxxxxxxxxxxxxxxxxxxxx"},1,{"$f":"IF(A261=\"\",\"\",VLOOKUP(RIGHT(A261,5)*1,'Data eshop'!D:W,17,FALSE))","v":{"$error":"#VALUE!"}},{"$f":"VLOOKUP(A261,Zakázky!A:B,2,FALSE)","v":{"$error":"#N/A"}},""]
["19ESh0",{"$f":"IFERROR(IF(ISNUMBER(L262),VLOOKUP(L262&\"-\"&M262,'Data eshop'!B:W,16,FALSE),IF(RIGHT(L262,1)=\"x\",VLOOKUP(VLOOKUP(RIGHT(A262,5)*1,'Data eshop'!D:N,11,FALSE),DATA!G:I,3,FALSE),IF(RIGHT(L262,1)=\"y\",IF(VLOOKUP(RIGHT(A262,5)*1,'Data eshop'!D:O,12,FALSE)=IF(O262=\"T7\",DATA!$D$2,IF(O262=\"E87\",DATA!$D$5,IF(O262=\"P2\",DATA!$D$6,IF(O262=\"e2695\",DATA!$D$7,\"\")))),IF(N262>=IF(O262=\"T7\",DATA!$K$11,IF(O262=\"E87\",DATA!$L$11,IF(O262=\"P2\",DATA!$M$11,IF(O262=\"e2695\",DATA!$N$11,\"\")))),\"uni008\",\"uni001\"),IF(VLOOKUP(RIGHT(A262,5)*1,'Data eshop'!D:O,12,FALSE)=DATA!$D$3,IF(O262=\"T7\",IF(N262>=500,\"uni009\",\"uni002\"),\"x\"),IF(VLOOKUP(RIGHT(A262,5)*1,'Data eshop'!D:O,12,FALSE)=DATA!$D$4,\"uni010\",\"\"))),\"\"))),\"\")","v":""},{"$f":"IFERROR(IF(A262=\"\",\"\",IF(LEFT(B262,3)=\"uni\",1,VLOOKUP(RIGHT(A262,5)&\"-\"&B262,'Data eshop'!A:R,18,FALSE))),\"\")","v":""},"",{"$f":"IFERROR(IF(A262=\"\",\"\",IF(LEFT(B262,3)=\"uni\",VLOOKUP(B262,DATA!I:X,IF(O262=\"T7\",3,IF(O262=\"E87\",4,IF(O262=\"P2\",5,IF(O262=\"E2695\",6,\"\")))),FALSE),VLOOKUP(RIGHT(A262,5)&\"-\"&B262,'Data eshop'!A:S,19,FALSE))),\"\")","v":""},{"$f":"IFERROR(IF(A262=\"\",\"\",IF(LEFT(B262,3)=\"uni\",0,VLOOKUP(RIGHT(A262,5)&\"-\"&B262,'Data eshop'!A:S,16,FALSE))),\"\")","v":""},null,"",{"$f":"IF(H262=\"\",\"\",WORKDAY(TODAY()+IF(VLOOKUP(VLOOKUP(RIGHT(A262,5)*1,'Data eshop'!D:N,11,FALSE),DATA!A:B,2,FALSE)=7,14,1),5))","v":""},"","",{"$f":"IF(L261=\"\",\"\",IF(L261=RIGHT(A261,5)&\"x\",LEFT(L261,LEN(L261)-1)&\"y\",IF(L261=RIGHT(A261,5)&\"y\",IFERROR(SMALL('Data eshop'!D:D,COUNTIF('Data eshop'!D:D,\"<\"&(LEFT(L261,LEN(L261)-1)*1))),\"\"),IF(ISERROR(IF(VLOOKUP(M261+1,'Data eshop'!C:D,2,FALSE)='Řádky zakázky'!L261,L261,L261&\"x\")),IF(RIGHT(L261,1)=\"y\",\"\",L261&\"x\"),IF(VLOOKUP(M261+1,'Data eshop'!C:D,2,FALSE)='Řádky zakázky'!L261,L261,L261&\"x\")))))","v":"0xxxxxxxxxxxxxxxxxxxxxxxxxxxxxxxxxxxxxxxxxxxxxxxxxxxxxxxxxxxxxxxxxxxxxxxxxxxxxxxxxxxxxxxxxxxxxxxxxxxxxxxxxxxxxxxxxxxxxxxxxxxxxxxxxxxxxxxxxxxxxxxxxxxxxxxxxxxxxxxxxxxxxxxxxxxxxxxxxxxxxxxxxxxxxxxxxxxxxxxxxxxxxxxxxxxxxxxxxxxxxxxxxxxxxxxxxxxxxxxxxxxxxxxxxxxxxxxxxxxx"},1,{"$f":"IF(A262=\"\",\"\",VLOOKUP(RIGHT(A262,5)*1,'Data eshop'!D:W,17,FALSE))","v":{"$error":"#VALUE!"}},{"$f":"VLOOKUP(A262,Zakázky!A:B,2,FALSE)","v":{"$error":"#N/A"}},""]
["19ESh0",{"$f":"IFERROR(IF(ISNUMBER(L263),VLOOKUP(L263&\"-\"&M263,'Data eshop'!B:W,16,FALSE),IF(RIGHT(L263,1)=\"x\",VLOOKUP(VLOOKUP(RIGHT(A263,5)*1,'Data eshop'!D:N,11,FALSE),DATA!G:I,3,FALSE),IF(RIGHT(L263,1)=\"y\",IF(VLOOKUP(RIGHT(A263,5)*1,'Data eshop'!D:O,12,FALSE)=IF(O263=\"T7\",DATA!$D$2,IF(O263=\"E87\",DATA!$D$5,IF(O263=\"P2\",DATA!$D$6,IF(O263=\"e2695\",DATA!$D$7,\"\")))),IF(N263>=IF(O263=\"T7\",DATA!$K$11,IF(O263=\"E87\",DATA!$L$11,IF(O263=\"P2\",DATA!$M$11,IF(O263=\"e2695\",DATA!$N$11,\"\")))),\"uni008\",\"uni001\"),IF(VLOOKUP(RIGHT(A263,5)*1,'Data eshop'!D:O,12,FALSE)=DATA!$D$3,IF(O263=\"T7\",IF(N263>=500,\"uni009\",\"uni002\"),\"x\"),IF(VLOOKUP(RIGHT(A263,5)*1,'Data eshop'!D:O,12,FALSE)=DATA!$D$4,\"uni010\",\"\"))),\"\"))),\"\")","v":""},{"$f":"IFERROR(IF(A263=\"\",\"\",IF(LEFT(B263,3)=\"uni\",1,VLOOKUP(RIGHT(A263,5)&\"-\"&B263,'Data eshop'!A:R,18,FALSE))),\"\")","v":""},"",{"$f":"IFERROR(IF(A263=\"\",\"\",IF(LEFT(B263,3)=\"uni\",VLOOKUP(B263,DATA!I:X,IF(O263=\"T7\",3,IF(O263=\"E87\",4,IF(O263=\"P2\",5,IF(O263=\"E2695\",6,\"\")))),FALSE),VLOOKUP(RIGHT(A263,5)&\"-\"&B263,'Data eshop'!A:S,19,FALSE))),\"\")","v":""},{"$f":"IFERROR(IF(A263=\"\",\"\",IF(LEFT(B263,3)=\"uni\",0,VLOOKUP(RIGHT(A263,5)&\"-\"&B263,'Data eshop'!A:S,16,FALSE))),\"\")","v":""},null,"",{"$f":"IF(H263=\"\",\"\",WORKDAY(TODAY()+IF(VLOOKUP(VLOOKUP(RIGHT(A263,5)*1,'Data eshop'!D:N,11,FALSE),DATA!A:B,2,FALSE)=7,14,1),5))","v":""},"","",{"$f":"IF(L262=\"\",\"\",IF(L262=RIGHT(A262,5)&\"x\",LEFT(L262,LEN(L262)-1)&\"y\",IF(L262=RIGHT(A262,5)&\"y\",IFERROR(SMALL('Data eshop'!D:D,COUNTIF('Data eshop'!D:D,\"<\"&(LEFT(L262,LEN(L262)-1)*1))),\"\"),IF(ISERROR(IF(VLOOKUP(M262+1,'Data eshop'!C:D,2,FALSE)='Řádky zakázky'!L262,L262,L262&\"x\")),IF(RIGHT(L262,1)=\"y\",\"\",L262&\"x\"),IF(VLOOKUP(M262+1,'Data eshop'!C:D,2,FALSE)='Řádky zakázky'!L262,L262,L262&\"x\")))))","v":"0xxxxxxxxxxxxxxxxxxxxxxxxxxxxxxxxxxxxxxxxxxxxxxxxxxxxxxxxxxxxxxxxxxxxxxxxxxxxxxxxxxxxxxxxxxxxxxxxxxxxxxxxxxxxxxxxxxxxxxxxxxxxxxxxxxxxxxxxxxxxxxxxxxxxxxxxxxxxxxxxxxxxxxxxxxxxxxxxxxxxxxxxxxxxxxxxxxxxxxxxxxxxxxxxxxxxxxxxxxxxxxxxxxxxxxxxxxxxxxxxxxxxxxxxxxxxxxxxxxxxx"},1,{"$f":"IF(A263=\"\",\"\",VLOOKUP(RIGHT(A263,5)*1,'Data eshop'!D:W,17,FALSE))","v":{"$error":"#VALUE!"}},{"$f":"VLOOKUP(A263,Zakázky!A:B,2,FALSE)","v":{"$error":"#N/A"}},""]
["19ESh0",{"$f":"IFERROR(IF(ISNUMBER(L264),VLOOKUP(L264&\"-\"&M264,'Data eshop'!B:W,16,FALSE),IF(RIGHT(L264,1)=\"x\",VLOOKUP(VLOOKUP(RIGHT(A264,5)*1,'Data eshop'!D:N,11,FALSE),DATA!G:I,3,FALSE),IF(RIGHT(L264,1)=\"y\",IF(VLOOKUP(RIGHT(A264,5)*1,'Data eshop'!D:O,12,FALSE)=IF(O264=\"T7\",DATA!$D$2,IF(O264=\"E87\",DATA!$D$5,IF(O264=\"P2\",DATA!$D$6,IF(O264=\"e2695\",DATA!$D$7,\"\")))),IF(N264>=IF(O264=\"T7\",DATA!$K$11,IF(O264=\"E87\",DATA!$L$11,IF(O264=\"P2\",DATA!$M$11,IF(O264=\"e2695\",DATA!$N$11,\"\")))),\"uni008\",\"uni001\"),IF(VLOOKUP(RIGHT(A264,5)*1,'Data eshop'!D:O,12,FALSE)=DATA!$D$3,IF(O264=\"T7\",IF(N264>=500,\"uni009\",\"uni002\"),\"x\"),IF(VLOOKUP(RIGHT(A264,5)*1,'Data eshop'!D:O,12,FALSE)=DATA!$D$4,\"uni010\",\"\"))),\"\"))),\"\")","v":""},{"$f":"IFERROR(IF(A264=\"\",\"\",IF(LEFT(B264,3)=\"uni\",1,VLOOKUP(RIGHT(A264,5)&\"-\"&B264,'Data eshop'!A:R,18,FALSE))),\"\")","v":""},"",{"$f":"IFERROR(IF(A264=\"\",\"\",IF(LEFT(B264,3)=\"uni\",VLOOKUP(B264,DATA!I:X,IF(O264=\"T7\",3,IF(O264=\"E87\",4,IF(O264=\"P2\",5,IF(O264=\"E2695\",6,\"\")))),FALSE),VLOOKUP(RIGHT(A264,5)&\"-\"&B264,'Data eshop'!A:S,19,FALSE))),\"\")","v":""},{"$f":"IFERROR(IF(A264=\"\",\"\",IF(LEFT(B264,3)=\"uni\",0,VLOOKUP(RIGHT(A264,5)&\"-\"&B264,'Data eshop'!A:S,16,FALSE))),\"\")","v":""},null,"",{"$f":"IF(H264=\"\",\"\",WORKDAY(TODAY()+IF(VLOOKUP(VLOOKUP(RIGHT(A264,5)*1,'Data eshop'!D:N,11,FALSE),DATA!A:B,2,FALSE)=7,14,1),5))","v":""},"","",{"$f":"IF(L263=\"\",\"\",IF(L263=RIGHT(A263,5)&\"x\",LEFT(L263,LEN(L263)-1)&\"y\",IF(L263=RIGHT(A263,5)&\"y\",IFERROR(SMALL('Data eshop'!D:D,COUNTIF('Data eshop'!D:D,\"<\"&(LEFT(L263,LEN(L263)-1)*1))),\"\"),IF(ISERROR(IF(VLOOKUP(M263+1,'Data eshop'!C:D,2,FALSE)='Řádky zakázky'!L263,L263,L263&\"x\")),IF(RIGHT(L263,1)=\"y\",\"\",L263&\"x\"),IF(VLOOKUP(M263+1,'Data eshop'!C:D,2,FALSE)='Řádky zakázky'!L263,L263,L263&\"x\")))))","v":"0xxxxxxxxxxxxxxxxxxxxxxxxxxxxxxxxxxxxxxxxxxxxxxxxxxxxxxxxxxxxxxxxxxxxxxxxxxxxxxxxxxxxxxxxxxxxxxxxxxxxxxxxxxxxxxxxxxxxxxxxxxxxxxxxxxxxxxxxxxxxxxxxxxxxxxxxxxxxxxxxxxxxxxxxxxxxxxxxxxxxxxxxxxxxxxxxxxxxxxxxxxxxxxxxxxxxxxxxxxxxxxxxxxxxxxxxxxxxxxxxxxxxxxxxxxxxxxxxxxxxxx"},1,{"$f":"IF(A264=\"\",\"\",VLOOKUP(RIGHT(A264,5)*1,'Data eshop'!D:W,17,FALSE))","v":{"$error":"#VALUE!"}},{"$f":"VLOOKUP(A264,Zakázky!A:B,2,FALSE)","v":{"$error":"#N/A"}},"","Roluj nahoru, až uvidíš žlutou"]
["19ESh0",{"$f":"IFERROR(IF(ISNUMBER(L265),VLOOKUP(L265&\"-\"&M265,'Data eshop'!B:W,16,FALSE),IF(RIGHT(L265,1)=\"x\",VLOOKUP(VLOOKUP(RIGHT(A265,5)*1,'Data eshop'!D:N,11,FALSE),DATA!G:I,3,FALSE),IF(RIGHT(L265,1)=\"y\",IF(VLOOKUP(RIGHT(A265,5)*1,'Data eshop'!D:O,12,FALSE)=IF(O265=\"T7\",DATA!$D$2,IF(O265=\"E87\",DATA!$D$5,IF(O265=\"P2\",DATA!$D$6,IF(O265=\"e2695\",DATA!$D$7,\"\")))),IF(N265>=IF(O265=\"T7\",DATA!$K$11,IF(O265=\"E87\",DATA!$L$11,IF(O265=\"P2\",DATA!$M$11,IF(O265=\"e2695\",DATA!$N$11,\"\")))),\"uni008\",\"uni001\"),IF(VLOOKUP(RIGHT(A265,5)*1,'Data eshop'!D:O,12,FALSE)=DATA!$D$3,IF(O265=\"T7\",IF(N265>=500,\"uni009\",\"uni002\"),\"x\"),IF(VLOOKUP(RIGHT(A265,5)*1,'Data eshop'!D:O,12,FALSE)=DATA!$D$4,\"uni010\",\"\"))),\"\"))),\"\")","v":""},{"$f":"IFERROR(IF(A265=\"\",\"\",IF(LEFT(B265,3)=\"uni\",1,VLOOKUP(RIGHT(A265,5)&\"-\"&B265,'Data eshop'!A:R,18,FALSE))),\"\")","v":""},"",{"$f":"IFERROR(IF(A265=\"\",\"\",IF(LEFT(B265,3)=\"uni\",VLOOKUP(B265,DATA!I:X,IF(O265=\"T7\",3,IF(O265=\"E87\",4,IF(O265=\"P2\",5,IF(O265=\"E2695\",6,\"\")))),FALSE),VLOOKUP(RIGHT(A265,5)&\"-\"&B265,'Data eshop'!A:S,19,FALSE))),\"\")","v":""},{"$f":"IFERROR(IF(A265=\"\",\"\",IF(LEFT(B265,3)=\"uni\",0,VLOOKUP(RIGHT(A265,5)&\"-\"&B265,'Data eshop'!A:S,16,FALSE))),\"\")","v":""},null,"",{"$f":"IF(H265=\"\",\"\",WORKDAY(TODAY()+IF(VLOOKUP(VLOOKUP(RIGHT(A265,5)*1,'Data eshop'!D:N,11,FALSE),DATA!A:B,2,FALSE)=7,14,1),5))","v":""},"","",{"$f":"IF(L264=\"\",\"\",IF(L264=RIGHT(A264,5)&\"x\",LEFT(L264,LEN(L264)-1)&\"y\",IF(L264=RIGHT(A264,5)&\"y\",IFERROR(SMALL('Data eshop'!D:D,COUNTIF('Data eshop'!D:D,\"<\"&(LEFT(L264,LEN(L264)-1)*1))),\"\"),IF(ISERROR(IF(VLOOKUP(M264+1,'Data eshop'!C:D,2,FALSE)='Řádky zakázky'!L264,L264,L264&\"x\")),IF(RIGHT(L264,1)=\"y\",\"\",L264&\"x\"),IF(VLOOKUP(M264+1,'Data eshop'!C:D,2,FALSE)='Řádky zakázky'!L264,L264,L264&\"x\")))))","v":"0xxxxxxxxxxxxxxxxxxxxxxxxxxxxxxxxxxxxxxxxxxxxxxxxxxxxxxxxxxxxxxxxxxxxxxxxxxxxxxxxxxxxxxxxxxxxxxxxxxxxxxxxxxxxxxxxxxxxxxxxxxxxxxxxxxxxxxxxxxxxxxxxxxxxxxxxxxxxxxxxxxxxxxxxxxxxxxxxxxxxxxxxxxxxxxxxxxxxxxxxxxxxxxxxxxxxxxxxxxxxxxxxxxxxxxxxxxxxxxxxxxxxxxxxxxxxxxxxxxxxxxx"},1,{"$f":"IF(A265=\"\",\"\",VLOOKUP(RIGHT(A265,5)*1,'Data eshop'!D:W,17,FALSE))","v":{"$error":"#VALUE!"}},{"$f":"VLOOKUP(A265,Zakázky!A:B,2,FALSE)","v":{"$error":"#N/A"}},""]
["19ESh0",{"$f":"IFERROR(IF(ISNUMBER(L266),VLOOKUP(L266&\"-\"&M266,'Data eshop'!B:W,16,FALSE),IF(RIGHT(L266,1)=\"x\",VLOOKUP(VLOOKUP(RIGHT(A266,5)*1,'Data eshop'!D:N,11,FALSE),DATA!G:I,3,FALSE),IF(RIGHT(L266,1)=\"y\",IF(VLOOKUP(RIGHT(A266,5)*1,'Data eshop'!D:O,12,FALSE)=IF(O266=\"T7\",DATA!$D$2,IF(O266=\"E87\",DATA!$D$5,IF(O266=\"P2\",DATA!$D$6,IF(O266=\"e2695\",DATA!$D$7,\"\")))),IF(N266>=IF(O266=\"T7\",DATA!$K$11,IF(O266=\"E87\",DATA!$L$11,IF(O266=\"P2\",DATA!$M$11,IF(O266=\"e2695\",DATA!$N$11,\"\")))),\"uni008\",\"uni001\"),IF(VLOOKUP(RIGHT(A266,5)*1,'Data eshop'!D:O,12,FALSE)=DATA!$D$3,IF(O266=\"T7\",IF(N266>=500,\"uni009\",\"uni002\"),\"x\"),IF(VLOOKUP(RIGHT(A266,5)*1,'Data eshop'!D:O,12,FALSE)=DATA!$D$4,\"uni010\",\"\"))),\"\"))),\"\")","v":""},{"$f":"IFERROR(IF(A266=\"\",\"\",IF(LEFT(B266,3)=\"uni\",1,VLOOKUP(RIGHT(A266,5)&\"-\"&B266,'Data eshop'!A:R,18,FALSE))),\"\")","v":""},"",{"$f":"IFERROR(IF(A266=\"\",\"\",IF(LEFT(B266,3)=\"uni\",VLOOKUP(B266,DATA!I:X,IF(O266=\"T7\",3,IF(O266=\"E87\",4,IF(O266=\"P2\",5,IF(O266=\"E2695\",6,\"\")))),FALSE),VLOOKUP(RIGHT(A266,5)&\"-\"&B266,'Data eshop'!A:S,19,FALSE))),\"\")","v":""},{"$f":"IFERROR(IF(A266=\"\",\"\",IF(LEFT(B266,3)=\"uni\",0,VLOOKUP(RIGHT(A266,5)&\"-\"&B266,'Data eshop'!A:S,16,FALSE))),\"\")","v":""},null,"",{"$f":"IF(H266=\"\",\"\",WORKDAY(TODAY()+IF(VLOOKUP(VLOOKUP(RIGHT(A266,5)*1,'Data eshop'!D:N,11,FALSE),DATA!A:B,2,FALSE)=7,14,1),5))","v":""},"","",{"$f":"IF(L265=\"\",\"\",IF(L265=RIGHT(A265,5)&\"x\",LEFT(L265,LEN(L265)-1)&\"y\",IF(L265=RIGHT(A265,5)&\"y\",IFERROR(SMALL('Data eshop'!D:D,COUNTIF('Data eshop'!D:D,\"<\"&(LEFT(L265,LEN(L265)-1)*1))),\"\"),IF(ISERROR(IF(VLOOKUP(M265+1,'Data eshop'!C:D,2,FALSE)='Řádky zakázky'!L265,L265,L265&\"x\")),IF(RIGHT(L265,1)=\"y\",\"\",L265&\"x\"),IF(VLOOKUP(M265+1,'Data eshop'!C:D,2,FALSE)='Řádky zakázky'!L265,L265,L265&\"x\")))))","v":"0xxxxxxxxxxxxxxxxxxxxxxxxxxxxxxxxxxxxxxxxxxxxxxxxxxxxxxxxxxxxxxxxxxxxxxxxxxxxxxxxxxxxxxxxxxxxxxxxxxxxxxxxxxxxxxxxxxxxxxxxxxxxxxxxxxxxxxxxxxxxxxxxxxxxxxxxxxxxxxxxxxxxxxxxxxxxxxxxxxxxxxxxxxxxxxxxxxxxxxxxxxxxxxxxxxxxxxxxxxxxxxxxxxxxxxxxxxxxxxxxxxxxxxxxxxxxxxxxxxxxxxxx"},1,{"$f":"IF(A266=\"\",\"\",VLOOKUP(RIGHT(A266,5)*1,'Data eshop'!D:W,17,FALSE))","v":{"$error":"#VALUE!"}},{"$f":"VLOOKUP(A266,Zakázky!A:B,2,FALSE)","v":{"$error":"#N/A"}},""]
["19ESh0",{"$f":"IFERROR(IF(ISNUMBER(L267),VLOOKUP(L267&\"-\"&M267,'Data eshop'!B:W,16,FALSE),IF(RIGHT(L267,1)=\"x\",VLOOKUP(VLOOKUP(RIGHT(A267,5)*1,'Data eshop'!D:N,11,FALSE),DATA!G:I,3,FALSE),IF(RIGHT(L267,1)=\"y\",IF(VLOOKUP(RIGHT(A267,5)*1,'Data eshop'!D:O,12,FALSE)=IF(O267=\"T7\",DATA!$D$2,IF(O267=\"E87\",DATA!$D$5,IF(O267=\"P2\",DATA!$D$6,IF(O267=\"e2695\",DATA!$D$7,\"\")))),IF(N267>=IF(O267=\"T7\",DATA!$K$11,IF(O267=\"E87\",DATA!$L$11,IF(O267=\"P2\",DATA!$M$11,IF(O267=\"e2695\",DATA!$N$11,\"\")))),\"uni008\",\"uni001\"),IF(VLOOKUP(RIGHT(A267,5)*1,'Data eshop'!D:O,12,FALSE)=DATA!$D$3,IF(O267=\"T7\",IF(N267>=500,\"uni009\",\"uni002\"),\"x\"),IF(VLOOKUP(RIGHT(A267,5)*1,'Data eshop'!D:O,12,FALSE)=DATA!$D$4,\"uni010\",\"\"))),\"\"))),\"\")","v":""},{"$f":"IFERROR(IF(A267=\"\",\"\",IF(LEFT(B267,3)=\"uni\",1,VLOOKUP(RIGHT(A267,5)&\"-\"&B267,'Data eshop'!A:R,18,FALSE))),\"\")","v":""},"",{"$f":"IFERROR(IF(A267=\"\",\"\",IF(LEFT(B267,3)=\"uni\",VLOOKUP(B267,DATA!I:X,IF(O267=\"T7\",3,IF(O267=\"E87\",4,IF(O267=\"P2\",5,IF(O267=\"E2695\",6,\"\")))),FALSE),VLOOKUP(RIGHT(A267,5)&\"-\"&B267,'Data eshop'!A:S,19,FALSE))),\"\")","v":""},{"$f":"IFERROR(IF(A267=\"\",\"\",IF(LEFT(B267,3)=\"uni\",0,VLOOKUP(RIGHT(A267,5)&\"-\"&B267,'Data eshop'!A:S,16,FALSE))),\"\")","v":""},null,"",{"$f":"IF(H267=\"\",\"\",WORKDAY(TODAY()+IF(VLOOKUP(VLOOKUP(RIGHT(A267,5)*1,'Data eshop'!D:N,11,FALSE),DATA!A:B,2,FALSE)=7,14,1),5))","v":""},"","",{"$f":"IF(L266=\"\",\"\",IF(L266=RIGHT(A266,5)&\"x\",LEFT(L266,LEN(L266)-1)&\"y\",IF(L266=RIGHT(A266,5)&\"y\",IFERROR(SMALL('Data eshop'!D:D,COUNTIF('Data eshop'!D:D,\"<\"&(LEFT(L266,LEN(L266)-1)*1))),\"\"),IF(ISERROR(IF(VLOOKUP(M266+1,'Data eshop'!C:D,2,FALSE)='Řádky zakázky'!L266,L266,L266&\"x\")),IF(RIGHT(L266,1)=\"y\",\"\",L266&\"x\"),IF(VLOOKUP(M266+1,'Data eshop'!C:D,2,FALSE)='Řádky zakázky'!L266,L266,L266&\"x\")))))","v":"0xxxxxxxxxxxxxxxxxxxxxxxxxxxxxxxxxxxxxxxxxxxxxxxxxxxxxxxxxxxxxxxxxxxxxxxxxxxxxxxxxxxxxxxxxxxxxxxxxxxxxxxxxxxxxxxxxxxxxxxxxxxxxxxxxxxxxxxxxxxxxxxxxxxxxxxxxxxxxxxxxxxxxxxxxxxxxxxxxxxxxxxxxxxxxxxxxxxxxxxxxxxxxxxxxxxxxxxxxxxxxxxxxxxxxxxxxxxxxxxxxxxxxxxxxxxxxxxxxxxxxxxxx"},1,{"$f":"IF(A267=\"\",\"\",VLOOKUP(RIGHT(A267,5)*1,'Data eshop'!D:W,17,FALSE))","v":{"$error":"#VALUE!"}},{"$f":"VLOOKUP(A267,Zakázky!A:B,2,FALSE)","v":{"$error":"#N/A"}},""]
["19ESh0",{"$f":"IFERROR(IF(ISNUMBER(L268),VLOOKUP(L268&\"-\"&M268,'Data eshop'!B:W,16,FALSE),IF(RIGHT(L268,1)=\"x\",VLOOKUP(VLOOKUP(RIGHT(A268,5)*1,'Data eshop'!D:N,11,FALSE),DATA!G:I,3,FALSE),IF(RIGHT(L268,1)=\"y\",IF(VLOOKUP(RIGHT(A268,5)*1,'Data eshop'!D:O,12,FALSE)=IF(O268=\"T7\",DATA!$D$2,IF(O268=\"E87\",DATA!$D$5,IF(O268=\"P2\",DATA!$D$6,IF(O268=\"e2695\",DATA!$D$7,\"\")))),IF(N268>=IF(O268=\"T7\",DATA!$K$11,IF(O268=\"E87\",DATA!$L$11,IF(O268=\"P2\",DATA!$M$11,IF(O268=\"e2695\",DATA!$N$11,\"\")))),\"uni008\",\"uni001\"),IF(VLOOKUP(RIGHT(A268,5)*1,'Data eshop'!D:O,12,FALSE)=DATA!$D$3,IF(O268=\"T7\",IF(N268>=500,\"uni009\",\"uni002\"),\"x\"),IF(VLOOKUP(RIGHT(A268,5)*1,'Data eshop'!D:O,12,FALSE)=DATA!$D$4,\"uni010\",\"\"))),\"\"))),\"\")","v":""},{"$f":"IFERROR(IF(A268=\"\",\"\",IF(LEFT(B268,3)=\"uni\",1,VLOOKUP(RIGHT(A268,5)&\"-\"&B268,'Data eshop'!A:R,18,FALSE))),\"\")","v":""},"",{"$f":"IFERROR(IF(A268=\"\",\"\",IF(LEFT(B268,3)=\"uni\",VLOOKUP(B268,DATA!I:X,IF(O268=\"T7\",3,IF(O268=\"E87\",4,IF(O268=\"P2\",5,IF(O268=\"E2695\",6,\"\")))),FALSE),VLOOKUP(RIGHT(A268,5)&\"-\"&B268,'Data eshop'!A:S,19,FALSE))),\"\")","v":""},{"$f":"IFERROR(IF(A268=\"\",\"\",IF(LEFT(B268,3)=\"uni\",0,VLOOKUP(RIGHT(A268,5)&\"-\"&B268,'Data eshop'!A:S,16,FALSE))),\"\")","v":""},null,"",{"$f":"IF(H268=\"\",\"\",WORKDAY(TODAY()+IF(VLOOKUP(VLOOKUP(RIGHT(A268,5)*1,'Data eshop'!D:N,11,FALSE),DATA!A:B,2,FALSE)=7,14,1),5))","v":""},"","",{"$f":"IF(L267=\"\",\"\",IF(L267=RIGHT(A267,5)&\"x\",LEFT(L267,LEN(L267)-1)&\"y\",IF(L267=RIGHT(A267,5)&\"y\",IFERROR(SMALL('Data eshop'!D:D,COUNTIF('Data eshop'!D:D,\"<\"&(LEFT(L267,LEN(L267)-1)*1))),\"\"),IF(ISERROR(IF(VLOOKUP(M267+1,'Data eshop'!C:D,2,FALSE)='Řádky zakázky'!L267,L267,L267&\"x\")),IF(RIGHT(L267,1)=\"y\",\"\",L267&\"x\"),IF(VLOOKUP(M267+1,'Data eshop'!C:D,2,FALSE)='Řádky zakázky'!L267,L267,L267&\"x\")))))","v":"0xxxxxxxxxxxxxxxxxxxxxxxxxxxxxxxxxxxxxxxxxxxxxxxxxxxxxxxxxxxxxxxxxxxxxxxxxxxxxxxxxxxxxxxxxxxxxxxxxxxxxxxxxxxxxxxxxxxxxxxxxxxxxxxxxxxxxxxxxxxxxxxxxxxxxxxxxxxxxxxxxxxxxxxxxxxxxxxxxxxxxxxxxxxxxxxxxxxxxxxxxxxxxxxxxxxxxxxxxxxxxxxxxxxxxxxxxxxxxxxxxxxxxxxxxxxxxxxxxxxxxxxxxx"},1,{"$f":"IF(A268=\"\",\"\",VLOOKUP(RIGHT(A268,5)*1,'Data eshop'!D:W,17,FALSE))","v":{"$error":"#VALUE!"}},{"$f":"VLOOKUP(A268,Zakázky!A:B,2,FALSE)","v":{"$error":"#N/A"}},"","Roluj nahoru, až uvidíš žlutou"]
["19ESh0",{"$f":"IFERROR(IF(ISNUMBER(L269),VLOOKUP(L269&\"-\"&M269,'Data eshop'!B:W,16,FALSE),IF(RIGHT(L269,1)=\"x\",VLOOKUP(VLOOKUP(RIGHT(A269,5)*1,'Data eshop'!D:N,11,FALSE),DATA!G:I,3,FALSE),IF(RIGHT(L269,1)=\"y\",IF(VLOOKUP(RIGHT(A269,5)*1,'Data eshop'!D:O,12,FALSE)=IF(O269=\"T7\",DATA!$D$2,IF(O269=\"E87\",DATA!$D$5,IF(O269=\"P2\",DATA!$D$6,IF(O269=\"e2695\",DATA!$D$7,\"\")))),IF(N269>=IF(O269=\"T7\",DATA!$K$11,IF(O269=\"E87\",DATA!$L$11,IF(O269=\"P2\",DATA!$M$11,IF(O269=\"e2695\",DATA!$N$11,\"\")))),\"uni008\",\"uni001\"),IF(VLOOKUP(RIGHT(A269,5)*1,'Data eshop'!D:O,12,FALSE)=DATA!$D$3,IF(O269=\"T7\",IF(N269>=500,\"uni009\",\"uni002\"),\"x\"),IF(VLOOKUP(RIGHT(A269,5)*1,'Data eshop'!D:O,12,FALSE)=DATA!$D$4,\"uni010\",\"\"))),\"\"))),\"\")","v":""},{"$f":"IFERROR(IF(A269=\"\",\"\",IF(LEFT(B269,3)=\"uni\",1,VLOOKUP(RIGHT(A269,5)&\"-\"&B269,'Data eshop'!A:R,18,FALSE))),\"\")","v":""},"",{"$f":"IFERROR(IF(A269=\"\",\"\",IF(LEFT(B269,3)=\"uni\",VLOOKUP(B269,DATA!I:X,IF(O269=\"T7\",3,IF(O269=\"E87\",4,IF(O269=\"P2\",5,IF(O269=\"E2695\",6,\"\")))),FALSE),VLOOKUP(RIGHT(A269,5)&\"-\"&B269,'Data eshop'!A:S,19,FALSE))),\"\")","v":""},{"$f":"IFERROR(IF(A269=\"\",\"\",IF(LEFT(B269,3)=\"uni\",0,VLOOKUP(RIGHT(A269,5)&\"-\"&B269,'Data eshop'!A:S,16,FALSE))),\"\")","v":""},null,"",{"$f":"IF(H269=\"\",\"\",WORKDAY(TODAY()+IF(VLOOKUP(VLOOKUP(RIGHT(A269,5)*1,'Data eshop'!D:N,11,FALSE),DATA!A:B,2,FALSE)=7,14,1),5))","v":""},"","",{"$f":"IF(L268=\"\",\"\",IF(L268=RIGHT(A268,5)&\"x\",LEFT(L268,LEN(L268)-1)&\"y\",IF(L268=RIGHT(A268,5)&\"y\",IFERROR(SMALL('Data eshop'!D:D,COUNTIF('Data eshop'!D:D,\"<\"&(LEFT(L268,LEN(L268)-1)*1))),\"\"),IF(ISERROR(IF(VLOOKUP(M268+1,'Data eshop'!C:D,2,FALSE)='Řádky zakázky'!L268,L268,L268&\"x\")),IF(RIGHT(L268,1)=\"y\",\"\",L268&\"x\"),IF(VLOOKUP(M268+1,'Data eshop'!C:D,2,FALSE)='Řádky zakázky'!L268,L268,L268&\"x\")))))","v":"0xxxxxxxxxxxxxxxxxxxxxxxxxxxxxxxxxxxxxxxxxxxxxxxxxxxxxxxxxxxxxxxxxxxxxxxxxxxxxxxxxxxxxxxxxxxxxxxxxxxxxxxxxxxxxxxxxxxxxxxxxxxxxxxxxxxxxxxxxxxxxxxxxxxxxxxxxxxxxxxxxxxxxxxxxxxxxxxxxxxxxxxxxxxxxxxxxxxxxxxxxxxxxxxxxxxxxxxxxxxxxxxxxxxxxxxxxxxxxxxxxxxxxxxxxxxxxxxxxxxxxxxxxxx"},1,{"$f":"IF(A269=\"\",\"\",VLOOKUP(RIGHT(A269,5)*1,'Data eshop'!D:W,17,FALSE))","v":{"$error":"#VALUE!"}},{"$f":"VLOOKUP(A269,Zakázky!A:B,2,FALSE)","v":{"$error":"#N/A"}},""]
["19ESh0",{"$f":"IFERROR(IF(ISNUMBER(L270),VLOOKUP(L270&\"-\"&M270,'Data eshop'!B:W,16,FALSE),IF(RIGHT(L270,1)=\"x\",VLOOKUP(VLOOKUP(RIGHT(A270,5)*1,'Data eshop'!D:N,11,FALSE),DATA!G:I,3,FALSE),IF(RIGHT(L270,1)=\"y\",IF(VLOOKUP(RIGHT(A270,5)*1,'Data eshop'!D:O,12,FALSE)=IF(O270=\"T7\",DATA!$D$2,IF(O270=\"E87\",DATA!$D$5,IF(O270=\"P2\",DATA!$D$6,IF(O270=\"e2695\",DATA!$D$7,\"\")))),IF(N270>=IF(O270=\"T7\",DATA!$K$11,IF(O270=\"E87\",DATA!$L$11,IF(O270=\"P2\",DATA!$M$11,IF(O270=\"e2695\",DATA!$N$11,\"\")))),\"uni008\",\"uni001\"),IF(VLOOKUP(RIGHT(A270,5)*1,'Data eshop'!D:O,12,FALSE)=DATA!$D$3,IF(O270=\"T7\",IF(N270>=500,\"uni009\",\"uni002\"),\"x\"),IF(VLOOKUP(RIGHT(A270,5)*1,'Data eshop'!D:O,12,FALSE)=DATA!$D$4,\"uni010\",\"\"))),\"\"))),\"\")","v":""},{"$f":"IFERROR(IF(A270=\"\",\"\",IF(LEFT(B270,3)=\"uni\",1,VLOOKUP(RIGHT(A270,5)&\"-\"&B270,'Data eshop'!A:R,18,FALSE))),\"\")","v":""},"",{"$f":"IFERROR(IF(A270=\"\",\"\",IF(LEFT(B270,3)=\"uni\",VLOOKUP(B270,DATA!I:X,IF(O270=\"T7\",3,IF(O270=\"E87\",4,IF(O270=\"P2\",5,IF(O270=\"E2695\",6,\"\")))),FALSE),VLOOKUP(RIGHT(A270,5)&\"-\"&B270,'Data eshop'!A:S,19,FALSE))),\"\")","v":""},{"$f":"IFERROR(IF(A270=\"\",\"\",IF(LEFT(B270,3)=\"uni\",0,VLOOKUP(RIGHT(A270,5)&\"-\"&B270,'Data eshop'!A:S,16,FALSE))),\"\")","v":""},null,"",{"$f":"IF(H270=\"\",\"\",WORKDAY(TODAY()+IF(VLOOKUP(VLOOKUP(RIGHT(A270,5)*1,'Data eshop'!D:N,11,FALSE),DATA!A:B,2,FALSE)=7,14,1),5))","v":""},"","",{"$f":"IF(L269=\"\",\"\",IF(L269=RIGHT(A269,5)&\"x\",LEFT(L269,LEN(L269)-1)&\"y\",IF(L269=RIGHT(A269,5)&\"y\",IFERROR(SMALL('Data eshop'!D:D,COUNTIF('Data eshop'!D:D,\"<\"&(LEFT(L269,LEN(L269)-1)*1))),\"\"),IF(ISERROR(IF(VLOOKUP(M269+1,'Data eshop'!C:D,2,FALSE)='Řádky zakázky'!L269,L269,L269&\"x\")),IF(RIGHT(L269,1)=\"y\",\"\",L269&\"x\"),IF(VLOOKUP(M269+1,'Data eshop'!C:D,2,FALSE)='Řádky zakázky'!L269,L269,L269&\"x\")))))","v":"0xxxxxxxxxxxxxxxxxxxxxxxxxxxxxxxxxxxxxxxxxxxxxxxxxxxxxxxxxxxxxxxxxxxxxxxxxxxxxxxxxxxxxxxxxxxxxxxxxxxxxxxxxxxxxxxxxxxxxxxxxxxxxxxxxxxxxxxxxxxxxxxxxxxxxxxxxxxxxxxxxxxxxxxxxxxxxxxxxxxxxxxxxxxxxxxxxxxxxxxxxxxxxxxxxxxxxxxxxxxxxxxxxxxxxxxxxxxxxxxxxxxxxxxxxxxxxxxxxxxxxxxxxxxx"},1,{"$f":"IF(A270=\"\",\"\",VLOOKUP(RIGHT(A270,5)*1,'Data eshop'!D:W,17,FALSE))","v":{"$error":"#VALUE!"}},{"$f":"VLOOKUP(A270,Zakázky!A:B,2,FALSE)","v":{"$error":"#N/A"}},""]
["19ESh0",{"$f":"IFERROR(IF(ISNUMBER(L271),VLOOKUP(L271&\"-\"&M271,'Data eshop'!B:W,16,FALSE),IF(RIGHT(L271,1)=\"x\",VLOOKUP(VLOOKUP(RIGHT(A271,5)*1,'Data eshop'!D:N,11,FALSE),DATA!G:I,3,FALSE),IF(RIGHT(L271,1)=\"y\",IF(VLOOKUP(RIGHT(A271,5)*1,'Data eshop'!D:O,12,FALSE)=IF(O271=\"T7\",DATA!$D$2,IF(O271=\"E87\",DATA!$D$5,IF(O271=\"P2\",DATA!$D$6,IF(O271=\"e2695\",DATA!$D$7,\"\")))),IF(N271>=IF(O271=\"T7\",DATA!$K$11,IF(O271=\"E87\",DATA!$L$11,IF(O271=\"P2\",DATA!$M$11,IF(O271=\"e2695\",DATA!$N$11,\"\")))),\"uni008\",\"uni001\"),IF(VLOOKUP(RIGHT(A271,5)*1,'Data eshop'!D:O,12,FALSE)=DATA!$D$3,IF(O271=\"T7\",IF(N271>=500,\"uni009\",\"uni002\"),\"x\"),IF(VLOOKUP(RIGHT(A271,5)*1,'Data eshop'!D:O,12,FALSE)=DATA!$D$4,\"uni010\",\"\"))),\"\"))),\"\")","v":""},{"$f":"IFERROR(IF(A271=\"\",\"\",IF(LEFT(B271,3)=\"uni\",1,VLOOKUP(RIGHT(A271,5)&\"-\"&B271,'Data eshop'!A:R,18,FALSE))),\"\")","v":""},"",{"$f":"IFERROR(IF(A271=\"\",\"\",IF(LEFT(B271,3)=\"uni\",VLOOKUP(B271,DATA!I:X,IF(O271=\"T7\",3,IF(O271=\"E87\",4,IF(O271=\"P2\",5,IF(O271=\"E2695\",6,\"\")))),FALSE),VLOOKUP(RIGHT(A271,5)&\"-\"&B271,'Data eshop'!A:S,19,FALSE))),\"\")","v":""},{"$f":"IFERROR(IF(A271=\"\",\"\",IF(LEFT(B271,3)=\"uni\",0,VLOOKUP(RIGHT(A271,5)&\"-\"&B271,'Data eshop'!A:S,16,FALSE))),\"\")","v":""},null,"",{"$f":"IF(H271=\"\",\"\",WORKDAY(TODAY()+IF(VLOOKUP(VLOOKUP(RIGHT(A271,5)*1,'Data eshop'!D:N,11,FALSE),DATA!A:B,2,FALSE)=7,14,1),5))","v":""},"","",{"$f":"IF(L270=\"\",\"\",IF(L270=RIGHT(A270,5)&\"x\",LEFT(L270,LEN(L270)-1)&\"y\",IF(L270=RIGHT(A270,5)&\"y\",IFERROR(SMALL('Data eshop'!D:D,COUNTIF('Data eshop'!D:D,\"<\"&(LEFT(L270,LEN(L270)-1)*1))),\"\"),IF(ISERROR(IF(VLOOKUP(M270+1,'Data eshop'!C:D,2,FALSE)='Řádky zakázky'!L270,L270,L270&\"x\")),IF(RIGHT(L270,1)=\"y\",\"\",L270&\"x\"),IF(VLOOKUP(M270+1,'Data eshop'!C:D,2,FALSE)='Řádky zakázky'!L270,L270,L270&\"x\")))))","v":"0xxxxxxxxxxxxxxxxxxxxxxxxxxxxxxxxxxxxxxxxxxxxxxxxxxxxxxxxxxxxxxxxxxxxxxxxxxxxxxxxxxxxxxxxxxxxxxxxxxxxxxxxxxxxxxxxxxxxxxxxxxxxxxxxxxxxxxxxxxxxxxxxxxxxxxxxxxxxxxxxxxxxxxxxxxxxxxxxxxxxxxxxxxxxxxxxxxxxxxxxxxxxxxxxxxxxxxxxxxxxxxxxxxxxxxxxxxxxxxxxxxxxxxxxxxxxxxxxxxxxxxxxxxxxx"},1,{"$f":"IF(A271=\"\",\"\",VLOOKUP(RIGHT(A271,5)*1,'Data eshop'!D:W,17,FALSE))","v":{"$error":"#VALUE!"}},{"$f":"VLOOKUP(A271,Zakázky!A:B,2,FALSE)","v":{"$error":"#N/A"}},""]
["19ESh0",{"$f":"IFERROR(IF(ISNUMBER(L272),VLOOKUP(L272&\"-\"&M272,'Data eshop'!B:W,16,FALSE),IF(RIGHT(L272,1)=\"x\",VLOOKUP(VLOOKUP(RIGHT(A272,5)*1,'Data eshop'!D:N,11,FALSE),DATA!G:I,3,FALSE),IF(RIGHT(L272,1)=\"y\",IF(VLOOKUP(RIGHT(A272,5)*1,'Data eshop'!D:O,12,FALSE)=IF(O272=\"T7\",DATA!$D$2,IF(O272=\"E87\",DATA!$D$5,IF(O272=\"P2\",DATA!$D$6,IF(O272=\"e2695\",DATA!$D$7,\"\")))),IF(N272>=IF(O272=\"T7\",DATA!$K$11,IF(O272=\"E87\",DATA!$L$11,IF(O272=\"P2\",DATA!$M$11,IF(O272=\"e2695\",DATA!$N$11,\"\")))),\"uni008\",\"uni001\"),IF(VLOOKUP(RIGHT(A272,5)*1,'Data eshop'!D:O,12,FALSE)=DATA!$D$3,IF(O272=\"T7\",IF(N272>=500,\"uni009\",\"uni002\"),\"x\"),IF(VLOOKUP(RIGHT(A272,5)*1,'Data eshop'!D:O,12,FALSE)=DATA!$D$4,\"uni010\",\"\"))),\"\"))),\"\")","v":""},{"$f":"IFERROR(IF(A272=\"\",\"\",IF(LEFT(B272,3)=\"uni\",1,VLOOKUP(RIGHT(A272,5)&\"-\"&B272,'Data eshop'!A:R,18,FALSE))),\"\")","v":""},"",{"$f":"IFERROR(IF(A272=\"\",\"\",IF(LEFT(B272,3)=\"uni\",VLOOKUP(B272,DATA!I:X,IF(O272=\"T7\",3,IF(O272=\"E87\",4,IF(O272=\"P2\",5,IF(O272=\"E2695\",6,\"\")))),FALSE),VLOOKUP(RIGHT(A272,5)&\"-\"&B272,'Data eshop'!A:S,19,FALSE))),\"\")","v":""},{"$f":"IFERROR(IF(A272=\"\",\"\",IF(LEFT(B272,3)=\"uni\",0,VLOOKUP(RIGHT(A272,5)&\"-\"&B272,'Data eshop'!A:S,16,FALSE))),\"\")","v":""},null,"",{"$f":"IF(H272=\"\",\"\",WORKDAY(TODAY()+IF(VLOOKUP(VLOOKUP(RIGHT(A272,5)*1,'Data eshop'!D:N,11,FALSE),DATA!A:B,2,FALSE)=7,14,1),5))","v":""},"","",{"$f":"IF(L271=\"\",\"\",IF(L271=RIGHT(A271,5)&\"x\",LEFT(L271,LEN(L271)-1)&\"y\",IF(L271=RIGHT(A271,5)&\"y\",IFERROR(SMALL('Data eshop'!D:D,COUNTIF('Data eshop'!D:D,\"<\"&(LEFT(L271,LEN(L271)-1)*1))),\"\"),IF(ISERROR(IF(VLOOKUP(M271+1,'Data eshop'!C:D,2,FALSE)='Řádky zakázky'!L271,L271,L271&\"x\")),IF(RIGHT(L271,1)=\"y\",\"\",L271&\"x\"),IF(VLOOKUP(M271+1,'Data eshop'!C:D,2,FALSE)='Řádky zakázky'!L271,L271,L271&\"x\")))))","v":"0xxxxxxxxxxxxxxxxxxxxxxxxxxxxxxxxxxxxxxxxxxxxxxxxxxxxxxxxxxxxxxxxxxxxxxxxxxxxxxxxxxxxxxxxxxxxxxxxxxxxxxxxxxxxxxxxxxxxxxxxxxxxxxxxxxxxxxxxxxxxxxxxxxxxxxxxxxxxxxxxxxxxxxxxxxxxxxxxxxxxxxxxxxxxxxxxxxxxxxxxxxxxxxxxxxxxxxxxxxxxxxxxxxxxxxxxxxxxxxxxxxxxxxxxxxxxxxxxxxxxxxxxxxxxxx"},1,{"$f":"IF(A272=\"\",\"\",VLOOKUP(RIGHT(A272,5)*1,'Data eshop'!D:W,17,FALSE))","v":{"$error":"#VALUE!"}},{"$f":"VLOOKUP(A272,Zakázky!A:B,2,FALSE)","v":{"$error":"#N/A"}},"","Roluj nahoru, až uvidíš žlutou"]
["19ESh0",{"$f":"IFERROR(IF(ISNUMBER(L273),VLOOKUP(L273&\"-\"&M273,'Data eshop'!B:W,16,FALSE),IF(RIGHT(L273,1)=\"x\",VLOOKUP(VLOOKUP(RIGHT(A273,5)*1,'Data eshop'!D:N,11,FALSE),DATA!G:I,3,FALSE),IF(RIGHT(L273,1)=\"y\",IF(VLOOKUP(RIGHT(A273,5)*1,'Data eshop'!D:O,12,FALSE)=IF(O273=\"T7\",DATA!$D$2,IF(O273=\"E87\",DATA!$D$5,IF(O273=\"P2\",DATA!$D$6,IF(O273=\"e2695\",DATA!$D$7,\"\")))),IF(N273>=IF(O273=\"T7\",DATA!$K$11,IF(O273=\"E87\",DATA!$L$11,IF(O273=\"P2\",DATA!$M$11,IF(O273=\"e2695\",DATA!$N$11,\"\")))),\"uni008\",\"uni001\"),IF(VLOOKUP(RIGHT(A273,5)*1,'Data eshop'!D:O,12,FALSE)=DATA!$D$3,IF(O273=\"T7\",IF(N273>=500,\"uni009\",\"uni002\"),\"x\"),IF(VLOOKUP(RIGHT(A273,5)*1,'Data eshop'!D:O,12,FALSE)=DATA!$D$4,\"uni010\",\"\"))),\"\"))),\"\")","v":""},{"$f":"IFERROR(IF(A273=\"\",\"\",IF(LEFT(B273,3)=\"uni\",1,VLOOKUP(RIGHT(A273,5)&\"-\"&B273,'Data eshop'!A:R,18,FALSE))),\"\")","v":""},"",{"$f":"IFERROR(IF(A273=\"\",\"\",IF(LEFT(B273,3)=\"uni\",VLOOKUP(B273,DATA!I:X,IF(O273=\"T7\",3,IF(O273=\"E87\",4,IF(O273=\"P2\",5,IF(O273=\"E2695\",6,\"\")))),FALSE),VLOOKUP(RIGHT(A273,5)&\"-\"&B273,'Data eshop'!A:S,19,FALSE))),\"\")","v":""},{"$f":"IFERROR(IF(A273=\"\",\"\",IF(LEFT(B273,3)=\"uni\",0,VLOOKUP(RIGHT(A273,5)&\"-\"&B273,'Data eshop'!A:S,16,FALSE))),\"\")","v":""},null,"",{"$f":"IF(H273=\"\",\"\",WORKDAY(TODAY()+IF(VLOOKUP(VLOOKUP(RIGHT(A273,5)*1,'Data eshop'!D:N,11,FALSE),DATA!A:B,2,FALSE)=7,14,1),5))","v":""},"","",{"$f":"IF(L272=\"\",\"\",IF(L272=RIGHT(A272,5)&\"x\",LEFT(L272,LEN(L272)-1)&\"y\",IF(L272=RIGHT(A272,5)&\"y\",IFERROR(SMALL('Data eshop'!D:D,COUNTIF('Data eshop'!D:D,\"<\"&(LEFT(L272,LEN(L272)-1)*1))),\"\"),IF(ISERROR(IF(VLOOKUP(M272+1,'Data eshop'!C:D,2,FALSE)='Řádky zakázky'!L272,L272,L272&\"x\")),IF(RIGHT(L272,1)=\"y\",\"\",L272&\"x\"),IF(VLOOKUP(M272+1,'Data eshop'!C:D,2,FALSE)='Řádky zakázky'!L272,L272,L272&\"x\")))))","v":"0xxxxxxxxxxxxxxxxxxxxxxxxxxxxxxxxxxxxxxxxxxxxxxxxxxxxxxxxxxxxxxxxxxxxxxxxxxxxxxxxxxxxxxxxxxxxxxxxxxxxxxxxxxxxxxxxxxxxxxxxxxxxxxxxxxxxxxxxxxxxxxxxxxxxxxxxxxxxxxxxxxxxxxxxxxxxxxxxxxxxxxxxxxxxxxxxxxxxxxxxxxxxxxxxxxxxxxxxxxxxxxxxxxxxxxxxxxxxxxxxxxxxxxxxxxxxxxxxxxxxxxxxxxxxxxx"},{"$f":"IF(L273=\"\",\"\",IF(RIGHT(L273,1)=\"x\",M272,IF(RIGHT(L273,1)=\"y\",M272,M272+1)))","v":1},{"$f":"IF(A273=\"\",\"\",VLOOKUP(RIGHT(A273,5)*1,'Data eshop'!D:W,17,FALSE))","v":{"$error":"#VALUE!"}},{"$f":"VLOOKUP(A273,Zakázky!A:B,2,FALSE)","v":{"$error":"#N/A"}},""]
["19ESh0",{"$f":"IFERROR(IF(ISNUMBER(L274),VLOOKUP(L274&\"-\"&M274,'Data eshop'!B:W,16,FALSE),IF(RIGHT(L274,1)=\"x\",VLOOKUP(VLOOKUP(RIGHT(A274,5)*1,'Data eshop'!D:N,11,FALSE),DATA!G:I,3,FALSE),IF(RIGHT(L274,1)=\"y\",IF(VLOOKUP(RIGHT(A274,5)*1,'Data eshop'!D:O,12,FALSE)=IF(O274=\"T7\",DATA!$D$2,IF(O274=\"E87\",DATA!$D$5,IF(O274=\"P2\",DATA!$D$6,IF(O274=\"e2695\",DATA!$D$7,\"\")))),IF(N274>=IF(O274=\"T7\",DATA!$K$11,IF(O274=\"E87\",DATA!$L$11,IF(O274=\"P2\",DATA!$M$11,IF(O274=\"e2695\",DATA!$N$11,\"\")))),\"uni008\",\"uni001\"),IF(VLOOKUP(RIGHT(A274,5)*1,'Data eshop'!D:O,12,FALSE)=DATA!$D$3,IF(O274=\"T7\",IF(N274>=500,\"uni009\",\"uni002\"),\"x\"),IF(VLOOKUP(RIGHT(A274,5)*1,'Data eshop'!D:O,12,FALSE)=DATA!$D$4,\"uni010\",\"\"))),\"\"))),\"\")","v":""},{"$f":"IFERROR(IF(A274=\"\",\"\",IF(LEFT(B274,3)=\"uni\",1,VLOOKUP(RIGHT(A274,5)&\"-\"&B274,'Data eshop'!A:R,18,FALSE))),\"\")","v":""},"",{"$f":"IFERROR(IF(A274=\"\",\"\",IF(LEFT(B274,3)=\"uni\",VLOOKUP(B274,DATA!I:X,IF(O274=\"T7\",3,IF(O274=\"E87\",4,IF(O274=\"P2\",5,IF(O274=\"E2695\",6,\"\")))),FALSE),VLOOKUP(RIGHT(A274,5)&\"-\"&B274,'Data eshop'!A:S,19,FALSE))),\"\")","v":""},{"$f":"IFERROR(IF(A274=\"\",\"\",IF(LEFT(B274,3)=\"uni\",0,VLOOKUP(RIGHT(A274,5)&\"-\"&B274,'Data eshop'!A:S,16,FALSE))),\"\")","v":""},null,"",{"$f":"IF(H274=\"\",\"\",WORKDAY(TODAY()+IF(VLOOKUP(VLOOKUP(RIGHT(A274,5)*1,'Data eshop'!D:N,11,FALSE),DATA!A:B,2,FALSE)=7,14,1),5))","v":""},"","",{"$f":"IF(L273=\"\",\"\",IF(L273=RIGHT(A273,5)&\"x\",LEFT(L273,LEN(L273)-1)&\"y\",IF(L273=RIGHT(A273,5)&\"y\",IFERROR(SMALL('Data eshop'!D:D,COUNTIF('Data eshop'!D:D,\"<\"&(LEFT(L273,LEN(L273)-1)*1))),\"\"),IF(ISERROR(IF(VLOOKUP(M273+1,'Data eshop'!C:D,2,FALSE)='Řádky zakázky'!L273,L273,L273&\"x\")),IF(RIGHT(L273,1)=\"y\",\"\",L273&\"x\"),IF(VLOOKUP(M273+1,'Data eshop'!C:D,2,FALSE)='Řádky zakázky'!L273,L273,L273&\"x\")))))","v":"0xxxxxxxxxxxxxxxxxxxxxxxxxxxxxxxxxxxxxxxxxxxxxxxxxxxxxxxxxxxxxxxxxxxxxxxxxxxxxxxxxxxxxxxxxxxxxxxxxxxxxxxxxxxxxxxxxxxxxxxxxxxxxxxxxxxxxxxxxxxxxxxxxxxxxxxxxxxxxxxxxxxxxxxxxxxxxxxxxxxxxxxxxxxxxxxxxxxxxxxxxxxxxxxxxxxxxxxxxxxxxxxxxxxxxxxxxxxxxxxxxxxxxxxxxxxxxxxxxxxxxxxxxxxxxxxx"},1,{"$f":"IF(A274=\"\",\"\",VLOOKUP(RIGHT(A274,5)*1,'Data eshop'!D:W,17,FALSE))","v":{"$error":"#VALUE!"}},{"$f":"VLOOKUP(A274,Zakázky!A:B,2,FALSE)","v":{"$error":"#N/A"}},""]
["19ESh0",{"$f":"IFERROR(IF(ISNUMBER(L275),VLOOKUP(L275&\"-\"&M275,'Data eshop'!B:W,16,FALSE),IF(RIGHT(L275,1)=\"x\",VLOOKUP(VLOOKUP(RIGHT(A275,5)*1,'Data eshop'!D:N,11,FALSE),DATA!G:I,3,FALSE),IF(RIGHT(L275,1)=\"y\",IF(VLOOKUP(RIGHT(A275,5)*1,'Data eshop'!D:O,12,FALSE)=IF(O275=\"T7\",DATA!$D$2,IF(O275=\"E87\",DATA!$D$5,IF(O275=\"P2\",DATA!$D$6,IF(O275=\"e2695\",DATA!$D$7,\"\")))),IF(N275>=IF(O275=\"T7\",DATA!$K$11,IF(O275=\"E87\",DATA!$L$11,IF(O275=\"P2\",DATA!$M$11,IF(O275=\"e2695\",DATA!$N$11,\"\")))),\"uni008\",\"uni001\"),IF(VLOOKUP(RIGHT(A275,5)*1,'Data eshop'!D:O,12,FALSE)=DATA!$D$3,IF(O275=\"T7\",IF(N275>=500,\"uni009\",\"uni002\"),\"x\"),IF(VLOOKUP(RIGHT(A275,5)*1,'Data eshop'!D:O,12,FALSE)=DATA!$D$4,\"uni010\",\"\"))),\"\"))),\"\")","v":""},{"$f":"IFERROR(IF(A275=\"\",\"\",IF(LEFT(B275,3)=\"uni\",1,VLOOKUP(RIGHT(A275,5)&\"-\"&B275,'Data eshop'!A:R,18,FALSE))),\"\")","v":""},"",{"$f":"IFERROR(IF(A275=\"\",\"\",IF(LEFT(B275,3)=\"uni\",VLOOKUP(B275,DATA!I:X,IF(O275=\"T7\",3,IF(O275=\"E87\",4,IF(O275=\"P2\",5,IF(O275=\"E2695\",6,\"\")))),FALSE),VLOOKUP(RIGHT(A275,5)&\"-\"&B275,'Data eshop'!A:S,19,FALSE))),\"\")","v":""},{"$f":"IFERROR(IF(A275=\"\",\"\",IF(LEFT(B275,3)=\"uni\",0,VLOOKUP(RIGHT(A275,5)&\"-\"&B275,'Data eshop'!A:S,16,FALSE))),\"\")","v":""},null,"",{"$f":"IF(H275=\"\",\"\",WORKDAY(TODAY()+IF(VLOOKUP(VLOOKUP(RIGHT(A275,5)*1,'Data eshop'!D:N,11,FALSE),DATA!A:B,2,FALSE)=7,14,1),5))","v":""},"","",{"$f":"IF(L274=\"\",\"\",IF(L274=RIGHT(A274,5)&\"x\",LEFT(L274,LEN(L274)-1)&\"y\",IF(L274=RIGHT(A274,5)&\"y\",IFERROR(SMALL('Data eshop'!D:D,COUNTIF('Data eshop'!D:D,\"<\"&(LEFT(L274,LEN(L274)-1)*1))),\"\"),IF(ISERROR(IF(VLOOKUP(M274+1,'Data eshop'!C:D,2,FALSE)='Řádky zakázky'!L274,L274,L274&\"x\")),IF(RIGHT(L274,1)=\"y\",\"\",L274&\"x\"),IF(VLOOKUP(M274+1,'Data eshop'!C:D,2,FALSE)='Řádky zakázky'!L274,L274,L274&\"x\")))))","v":"0xxxxxxxxxxxxxxxxxxxxxxxxxxxxxxxxxxxxxxxxxxxxxxxxxxxxxxxxxxxxxxxxxxxxxxxxxxxxxxxxxxxxxxxxxxxxxxxxxxxxxxxxxxxxxxxxxxxxxxxxxxxxxxxxxxxxxxxxxxxxxxxxxxxxxxxxxxxxxxxxxxxxxxxxxxxxxxxxxxxxxxxxxxxxxxxxxxxxxxxxxxxxxxxxxxxxxxxxxxxxxxxxxxxxxxxxxxxxxxxxxxxxxxxxxxxxxxxxxxxxxxxxxxxxxxxxx"},1,{"$f":"IF(A275=\"\",\"\",VLOOKUP(RIGHT(A275,5)*1,'Data eshop'!D:W,17,FALSE))","v":{"$error":"#VALUE!"}},{"$f":"VLOOKUP(A275,Zakázky!A:B,2,FALSE)","v":{"$error":"#N/A"}},""]
["19ESh0",{"$f":"IFERROR(IF(ISNUMBER(L276),VLOOKUP(L276&\"-\"&M276,'Data eshop'!B:W,16,FALSE),IF(RIGHT(L276,1)=\"x\",VLOOKUP(VLOOKUP(RIGHT(A276,5)*1,'Data eshop'!D:N,11,FALSE),DATA!G:I,3,FALSE),IF(RIGHT(L276,1)=\"y\",IF(VLOOKUP(RIGHT(A276,5)*1,'Data eshop'!D:O,12,FALSE)=IF(O276=\"T7\",DATA!$D$2,IF(O276=\"E87\",DATA!$D$5,IF(O276=\"P2\",DATA!$D$6,IF(O276=\"e2695\",DATA!$D$7,\"\")))),IF(N276>=IF(O276=\"T7\",DATA!$K$11,IF(O276=\"E87\",DATA!$L$11,IF(O276=\"P2\",DATA!$M$11,IF(O276=\"e2695\",DATA!$N$11,\"\")))),\"uni008\",\"uni001\"),IF(VLOOKUP(RIGHT(A276,5)*1,'Data eshop'!D:O,12,FALSE)=DATA!$D$3,IF(O276=\"T7\",IF(N276>=500,\"uni009\",\"uni002\"),\"x\"),IF(VLOOKUP(RIGHT(A276,5)*1,'Data eshop'!D:O,12,FALSE)=DATA!$D$4,\"uni010\",\"\"))),\"\"))),\"\")","v":""},{"$f":"IFERROR(IF(A276=\"\",\"\",IF(LEFT(B276,3)=\"uni\",1,VLOOKUP(RIGHT(A276,5)&\"-\"&B276,'Data eshop'!A:R,18,FALSE))),\"\")","v":""},"",{"$f":"IFERROR(IF(A276=\"\",\"\",IF(LEFT(B276,3)=\"uni\",VLOOKUP(B276,DATA!I:X,IF(O276=\"T7\",3,IF(O276=\"E87\",4,IF(O276=\"P2\",5,IF(O276=\"E2695\",6,\"\")))),FALSE),VLOOKUP(RIGHT(A276,5)&\"-\"&B276,'Data eshop'!A:S,19,FALSE))),\"\")","v":""},{"$f":"IFERROR(IF(A276=\"\",\"\",IF(LEFT(B276,3)=\"uni\",0,VLOOKUP(RIGHT(A276,5)&\"-\"&B276,'Data eshop'!A:S,16,FALSE))),\"\")","v":""},null,"",{"$f":"IF(H276=\"\",\"\",WORKDAY(TODAY()+IF(VLOOKUP(VLOOKUP(RIGHT(A276,5)*1,'Data eshop'!D:N,11,FALSE),DATA!A:B,2,FALSE)=7,14,1),5))","v":""},"","",{"$f":"IF(L275=\"\",\"\",IF(L275=RIGHT(A275,5)&\"x\",LEFT(L275,LEN(L275)-1)&\"y\",IF(L275=RIGHT(A275,5)&\"y\",IFERROR(SMALL('Data eshop'!D:D,COUNTIF('Data eshop'!D:D,\"<\"&(LEFT(L275,LEN(L275)-1)*1))),\"\"),IF(ISERROR(IF(VLOOKUP(M275+1,'Data eshop'!C:D,2,FALSE)='Řádky zakázky'!L275,L275,L275&\"x\")),IF(RIGHT(L275,1)=\"y\",\"\",L275&\"x\"),IF(VLOOKUP(M275+1,'Data eshop'!C:D,2,FALSE)='Řádky zakázky'!L275,L275,L275&\"x\")))))","v":"0xxxxxxxxxxxxxxxxxxxxxxxxxxxxxxxxxxxxxxxxxxxxxxxxxxxxxxxxxxxxxxxxxxxxxxxxxxxxxxxxxxxxxxxxxxxxxxxxxxxxxxxxxxxxxxxxxxxxxxxxxxxxxxxxxxxxxxxxxxxxxxxxxxxxxxxxxxxxxxxxxxxxxxxxxxxxxxxxxxxxxxxxxxxxxxxxxxxxxxxxxxxxxxxxxxxxxxxxxxxxxxxxxxxxxxxxxxxxxxxxxxxxxxxxxxxxxxxxxxxxxxxxxxxxxxxxxx"},1,{"$f":"IF(A276=\"\",\"\",VLOOKUP(RIGHT(A276,5)*1,'Data eshop'!D:W,17,FALSE))","v":{"$error":"#VALUE!"}},{"$f":"VLOOKUP(A276,Zakázky!A:B,2,FALSE)","v":{"$error":"#N/A"}},"","Roluj nahoru, až uvidíš žlutou"]
["19ESh0",{"$f":"IFERROR(IF(ISNUMBER(L277),VLOOKUP(L277&\"-\"&M277,'Data eshop'!B:W,16,FALSE),IF(RIGHT(L277,1)=\"x\",VLOOKUP(VLOOKUP(RIGHT(A277,5)*1,'Data eshop'!D:N,11,FALSE),DATA!G:I,3,FALSE),IF(RIGHT(L277,1)=\"y\",IF(VLOOKUP(RIGHT(A277,5)*1,'Data eshop'!D:O,12,FALSE)=IF(O277=\"T7\",DATA!$D$2,IF(O277=\"E87\",DATA!$D$5,IF(O277=\"P2\",DATA!$D$6,IF(O277=\"e2695\",DATA!$D$7,\"\")))),IF(N277>=IF(O277=\"T7\",DATA!$K$11,IF(O277=\"E87\",DATA!$L$11,IF(O277=\"P2\",DATA!$M$11,IF(O277=\"e2695\",DATA!$N$11,\"\")))),\"uni008\",\"uni001\"),IF(VLOOKUP(RIGHT(A277,5)*1,'Data eshop'!D:O,12,FALSE)=DATA!$D$3,IF(O277=\"T7\",IF(N277>=500,\"uni009\",\"uni002\"),\"x\"),IF(VLOOKUP(RIGHT(A277,5)*1,'Data eshop'!D:O,12,FALSE)=DATA!$D$4,\"uni010\",\"\"))),\"\"))),\"\")","v":""},{"$f":"IFERROR(IF(A277=\"\",\"\",IF(LEFT(B277,3)=\"uni\",1,VLOOKUP(RIGHT(A277,5)&\"-\"&B277,'Data eshop'!A:R,18,FALSE))),\"\")","v":""},"",{"$f":"IFERROR(IF(A277=\"\",\"\",IF(LEFT(B277,3)=\"uni\",VLOOKUP(B277,DATA!I:X,IF(O277=\"T7\",3,IF(O277=\"E87\",4,IF(O277=\"P2\",5,IF(O277=\"E2695\",6,\"\")))),FALSE),VLOOKUP(RIGHT(A277,5)&\"-\"&B277,'Data eshop'!A:S,19,FALSE))),\"\")","v":""},{"$f":"IFERROR(IF(A277=\"\",\"\",IF(LEFT(B277,3)=\"uni\",0,VLOOKUP(RIGHT(A277,5)&\"-\"&B277,'Data eshop'!A:S,16,FALSE))),\"\")","v":""},null,"",{"$f":"IF(H277=\"\",\"\",WORKDAY(TODAY()+IF(VLOOKUP(VLOOKUP(RIGHT(A277,5)*1,'Data eshop'!D:N,11,FALSE),DATA!A:B,2,FALSE)=7,14,1),5))","v":""},"","",{"$f":"IF(L276=\"\",\"\",IF(L276=RIGHT(A276,5)&\"x\",LEFT(L276,LEN(L276)-1)&\"y\",IF(L276=RIGHT(A276,5)&\"y\",IFERROR(SMALL('Data eshop'!D:D,COUNTIF('Data eshop'!D:D,\"<\"&(LEFT(L276,LEN(L276)-1)*1))),\"\"),IF(ISERROR(IF(VLOOKUP(M276+1,'Data eshop'!C:D,2,FALSE)='Řádky zakázky'!L276,L276,L276&\"x\")),IF(RIGHT(L276,1)=\"y\",\"\",L276&\"x\"),IF(VLOOKUP(M276+1,'Data eshop'!C:D,2,FALSE)='Řádky zakázky'!L276,L276,L276&\"x\")))))","v":"0xxxxxxxxxxxxxxxxxxxxxxxxxxxxxxxxxxxxxxxxxxxxxxxxxxxxxxxxxxxxxxxxxxxxxxxxxxxxxxxxxxxxxxxxxxxxxxxxxxxxxxxxxxxxxxxxxxxxxxxxxxxxxxxxxxxxxxxxxxxxxxxxxxxxxxxxxxxxxxxxxxxxxxxxxxxxxxxxxxxxxxxxxxxxxxxxxxxxxxxxxxxxxxxxxxxxxxxxxxxxxxxxxxxxxxxxxxxxxxxxxxxxxxxxxxxxxxxxxxxxxxxxxxxxxxxxxxx"},1,{"$f":"IF(A277=\"\",\"\",VLOOKUP(RIGHT(A277,5)*1,'Data eshop'!D:W,17,FALSE))","v":{"$error":"#VALUE!"}},{"$f":"VLOOKUP(A277,Zakázky!A:B,2,FALSE)","v":{"$error":"#N/A"}},""]
["19ESh0",{"$f":"IFERROR(IF(ISNUMBER(L278),VLOOKUP(L278&\"-\"&M278,'Data eshop'!B:W,16,FALSE),IF(RIGHT(L278,1)=\"x\",VLOOKUP(VLOOKUP(RIGHT(A278,5)*1,'Data eshop'!D:N,11,FALSE),DATA!G:I,3,FALSE),IF(RIGHT(L278,1)=\"y\",IF(VLOOKUP(RIGHT(A278,5)*1,'Data eshop'!D:O,12,FALSE)=IF(O278=\"T7\",DATA!$D$2,IF(O278=\"E87\",DATA!$D$5,IF(O278=\"P2\",DATA!$D$6,IF(O278=\"e2695\",DATA!$D$7,\"\")))),IF(N278>=IF(O278=\"T7\",DATA!$K$11,IF(O278=\"E87\",DATA!$L$11,IF(O278=\"P2\",DATA!$M$11,IF(O278=\"e2695\",DATA!$N$11,\"\")))),\"uni008\",\"uni001\"),IF(VLOOKUP(RIGHT(A278,5)*1,'Data eshop'!D:O,12,FALSE)=DATA!$D$3,IF(O278=\"T7\",IF(N278>=500,\"uni009\",\"uni002\"),\"x\"),IF(VLOOKUP(RIGHT(A278,5)*1,'Data eshop'!D:O,12,FALSE)=DATA!$D$4,\"uni010\",\"\"))),\"\"))),\"\")","v":""},{"$f":"IFERROR(IF(A278=\"\",\"\",IF(LEFT(B278,3)=\"uni\",1,VLOOKUP(RIGHT(A278,5)&\"-\"&B278,'Data eshop'!A:R,18,FALSE))),\"\")","v":""},"",{"$f":"IFERROR(IF(A278=\"\",\"\",IF(LEFT(B278,3)=\"uni\",VLOOKUP(B278,DATA!I:X,IF(O278=\"T7\",3,IF(O278=\"E87\",4,IF(O278=\"P2\",5,IF(O278=\"E2695\",6,\"\")))),FALSE),VLOOKUP(RIGHT(A278,5)&\"-\"&B278,'Data eshop'!A:S,19,FALSE))),\"\")","v":""},{"$f":"IFERROR(IF(A278=\"\",\"\",IF(LEFT(B278,3)=\"uni\",0,VLOOKUP(RIGHT(A278,5)&\"-\"&B278,'Data eshop'!A:S,16,FALSE))),\"\")","v":""},null,"",{"$f":"IF(H278=\"\",\"\",WORKDAY(TODAY()+IF(VLOOKUP(VLOOKUP(RIGHT(A278,5)*1,'Data eshop'!D:N,11,FALSE),DATA!A:B,2,FALSE)=7,14,1),5))","v":""},"","",{"$f":"IF(L277=\"\",\"\",IF(L277=RIGHT(A277,5)&\"x\",LEFT(L277,LEN(L277)-1)&\"y\",IF(L277=RIGHT(A277,5)&\"y\",IFERROR(SMALL('Data eshop'!D:D,COUNTIF('Data eshop'!D:D,\"<\"&(LEFT(L277,LEN(L277)-1)*1))),\"\"),IF(ISERROR(IF(VLOOKUP(M277+1,'Data eshop'!C:D,2,FALSE)='Řádky zakázky'!L277,L277,L277&\"x\")),IF(RIGHT(L277,1)=\"y\",\"\",L277&\"x\"),IF(VLOOKUP(M277+1,'Data eshop'!C:D,2,FALSE)='Řádky zakázky'!L277,L277,L277&\"x\")))))","v":"0xxxxxxxxxxxxxxxxxxxxxxxxxxxxxxxxxxxxxxxxxxxxxxxxxxxxxxxxxxxxxxxxxxxxxxxxxxxxxxxxxxxxxxxxxxxxxxxxxxxxxxxxxxxxxxxxxxxxxxxxxxxxxxxxxxxxxxxxxxxxxxxxxxxxxxxxxxxxxxxxxxxxxxxxxxxxxxxxxxxxxxxxxxxxxxxxxxxxxxxxxxxxxxxxxxxxxxxxxxxxxxxxxxxxxxxxxxxxxxxxxxxxxxxxxxxxxxxxxxxxxxxxxxxxxxxxxxxx"},1,{"$f":"IF(A278=\"\",\"\",VLOOKUP(RIGHT(A278,5)*1,'Data eshop'!D:W,17,FALSE))","v":{"$error":"#VALUE!"}},{"$f":"VLOOKUP(A278,Zakázky!A:B,2,FALSE)","v":{"$error":"#N/A"}},""]
["19ESh0",{"$f":"IFERROR(IF(ISNUMBER(L279),VLOOKUP(L279&\"-\"&M279,'Data eshop'!B:W,16,FALSE),IF(RIGHT(L279,1)=\"x\",VLOOKUP(VLOOKUP(RIGHT(A279,5)*1,'Data eshop'!D:N,11,FALSE),DATA!G:I,3,FALSE),IF(RIGHT(L279,1)=\"y\",IF(VLOOKUP(RIGHT(A279,5)*1,'Data eshop'!D:O,12,FALSE)=IF(O279=\"T7\",DATA!$D$2,IF(O279=\"E87\",DATA!$D$5,IF(O279=\"P2\",DATA!$D$6,IF(O279=\"e2695\",DATA!$D$7,\"\")))),IF(N279>=IF(O279=\"T7\",DATA!$K$11,IF(O279=\"E87\",DATA!$L$11,IF(O279=\"P2\",DATA!$M$11,IF(O279=\"e2695\",DATA!$N$11,\"\")))),\"uni008\",\"uni001\"),IF(VLOOKUP(RIGHT(A279,5)*1,'Data eshop'!D:O,12,FALSE)=DATA!$D$3,IF(O279=\"T7\",IF(N279>=500,\"uni009\",\"uni002\"),\"x\"),IF(VLOOKUP(RIGHT(A279,5)*1,'Data eshop'!D:O,12,FALSE)=DATA!$D$4,\"uni010\",\"\"))),\"\"))),\"\")","v":""},{"$f":"IFERROR(IF(A279=\"\",\"\",IF(LEFT(B279,3)=\"uni\",1,VLOOKUP(RIGHT(A279,5)&\"-\"&B279,'Data eshop'!A:R,18,FALSE))),\"\")","v":""},"",{"$f":"IFERROR(IF(A279=\"\",\"\",IF(LEFT(B279,3)=\"uni\",VLOOKUP(B279,DATA!I:X,IF(O279=\"T7\",3,IF(O279=\"E87\",4,IF(O279=\"P2\",5,IF(O279=\"E2695\",6,\"\")))),FALSE),VLOOKUP(RIGHT(A279,5)&\"-\"&B279,'Data eshop'!A:S,19,FALSE))),\"\")","v":""},{"$f":"IFERROR(IF(A279=\"\",\"\",IF(LEFT(B279,3)=\"uni\",0,VLOOKUP(RIGHT(A279,5)&\"-\"&B279,'Data eshop'!A:S,16,FALSE))),\"\")","v":""},null,"",{"$f":"IF(H279=\"\",\"\",WORKDAY(TODAY()+IF(VLOOKUP(VLOOKUP(RIGHT(A279,5)*1,'Data eshop'!D:N,11,FALSE),DATA!A:B,2,FALSE)=7,14,1),5))","v":""},"","",{"$f":"IF(L278=\"\",\"\",IF(L278=RIGHT(A278,5)&\"x\",LEFT(L278,LEN(L278)-1)&\"y\",IF(L278=RIGHT(A278,5)&\"y\",IFERROR(SMALL('Data eshop'!D:D,COUNTIF('Data eshop'!D:D,\"<\"&(LEFT(L278,LEN(L278)-1)*1))),\"\"),IF(ISERROR(IF(VLOOKUP(M278+1,'Data eshop'!C:D,2,FALSE)='Řádky zakázky'!L278,L278,L278&\"x\")),IF(RIGHT(L278,1)=\"y\",\"\",L278&\"x\"),IF(VLOOKUP(M278+1,'Data eshop'!C:D,2,FALSE)='Řádky zakázky'!L278,L278,L278&\"x\")))))","v":"0xxxxxxxxxxxxxxxxxxxxxxxxxxxxxxxxxxxxxxxxxxxxxxxxxxxxxxxxxxxxxxxxxxxxxxxxxxxxxxxxxxxxxxxxxxxxxxxxxxxxxxxxxxxxxxxxxxxxxxxxxxxxxxxxxxxxxxxxxxxxxxxxxxxxxxxxxxxxxxxxxxxxxxxxxxxxxxxxxxxxxxxxxxxxxxxxxxxxxxxxxxxxxxxxxxxxxxxxxxxxxxxxxxxxxxxxxxxxxxxxxxxxxxxxxxxxxxxxxxxxxxxxxxxxxxxxxxxxx"},1,{"$f":"IF(A279=\"\",\"\",VLOOKUP(RIGHT(A279,5)*1,'Data eshop'!D:W,17,FALSE))","v":{"$error":"#VALUE!"}},{"$f":"VLOOKUP(A279,Zakázky!A:B,2,FALSE)","v":{"$error":"#N/A"}},""]
["19ESh0",{"$f":"IFERROR(IF(ISNUMBER(L280),VLOOKUP(L280&\"-\"&M280,'Data eshop'!B:W,16,FALSE),IF(RIGHT(L280,1)=\"x\",VLOOKUP(VLOOKUP(RIGHT(A280,5)*1,'Data eshop'!D:N,11,FALSE),DATA!G:I,3,FALSE),IF(RIGHT(L280,1)=\"y\",IF(VLOOKUP(RIGHT(A280,5)*1,'Data eshop'!D:O,12,FALSE)=IF(O280=\"T7\",DATA!$D$2,IF(O280=\"E87\",DATA!$D$5,IF(O280=\"P2\",DATA!$D$6,IF(O280=\"e2695\",DATA!$D$7,\"\")))),IF(N280>=IF(O280=\"T7\",DATA!$K$11,IF(O280=\"E87\",DATA!$L$11,IF(O280=\"P2\",DATA!$M$11,IF(O280=\"e2695\",DATA!$N$11,\"\")))),\"uni008\",\"uni001\"),IF(VLOOKUP(RIGHT(A280,5)*1,'Data eshop'!D:O,12,FALSE)=DATA!$D$3,IF(O280=\"T7\",IF(N280>=500,\"uni009\",\"uni002\"),\"x\"),IF(VLOOKUP(RIGHT(A280,5)*1,'Data eshop'!D:O,12,FALSE)=DATA!$D$4,\"uni010\",\"\"))),\"\"))),\"\")","v":""},{"$f":"IFERROR(IF(A280=\"\",\"\",IF(LEFT(B280,3)=\"uni\",1,VLOOKUP(RIGHT(A280,5)&\"-\"&B280,'Data eshop'!A:R,18,FALSE))),\"\")","v":""},"",{"$f":"IFERROR(IF(A280=\"\",\"\",IF(LEFT(B280,3)=\"uni\",VLOOKUP(B280,DATA!I:X,IF(O280=\"T7\",3,IF(O280=\"E87\",4,IF(O280=\"P2\",5,IF(O280=\"E2695\",6,\"\")))),FALSE),VLOOKUP(RIGHT(A280,5)&\"-\"&B280,'Data eshop'!A:S,19,FALSE))),\"\")","v":""},{"$f":"IFERROR(IF(A280=\"\",\"\",IF(LEFT(B280,3)=\"uni\",0,VLOOKUP(RIGHT(A280,5)&\"-\"&B280,'Data eshop'!A:S,16,FALSE))),\"\")","v":""},null,"",{"$f":"IF(H280=\"\",\"\",WORKDAY(TODAY()+IF(VLOOKUP(VLOOKUP(RIGHT(A280,5)*1,'Data eshop'!D:N,11,FALSE),DATA!A:B,2,FALSE)=7,14,1),5))","v":""},"","",{"$f":"IF(L279=\"\",\"\",IF(L279=RIGHT(A279,5)&\"x\",LEFT(L279,LEN(L279)-1)&\"y\",IF(L279=RIGHT(A279,5)&\"y\",IFERROR(SMALL('Data eshop'!D:D,COUNTIF('Data eshop'!D:D,\"<\"&(LEFT(L279,LEN(L279)-1)*1))),\"\"),IF(ISERROR(IF(VLOOKUP(M279+1,'Data eshop'!C:D,2,FALSE)='Řádky zakázky'!L279,L279,L279&\"x\")),IF(RIGHT(L279,1)=\"y\",\"\",L279&\"x\"),IF(VLOOKUP(M279+1,'Data eshop'!C:D,2,FALSE)='Řádky zakázky'!L279,L279,L279&\"x\")))))","v":"0xxxxxxxxxxxxxxxxxxxxxxxxxxxxxxxxxxxxxxxxxxxxxxxxxxxxxxxxxxxxxxxxxxxxxxxxxxxxxxxxxxxxxxxxxxxxxxxxxxxxxxxxxxxxxxxxxxxxxxxxxxxxxxxxxxxxxxxxxxxxxxxxxxxxxxxxxxxxxxxxxxxxxxxxxxxxxxxxxxxxxxxxxxxxxxxxxxxxxxxxxxxxxxxxxxxxxxxxxxxxxxxxxxxxxxxxxxxxxxxxxxxxxxxxxxxxxxxxxxxxxxxxxxxxxxxxxxxxxx"},1,{"$f":"IF(A280=\"\",\"\",VLOOKUP(RIGHT(A280,5)*1,'Data eshop'!D:W,17,FALSE))","v":{"$error":"#VALUE!"}},{"$f":"VLOOKUP(A280,Zakázky!A:B,2,FALSE)","v":{"$error":"#N/A"}},"","Roluj nahoru, až uvidíš žlutou"]
["19ESh0",{"$f":"IFERROR(IF(ISNUMBER(L281),VLOOKUP(L281&\"-\"&M281,'Data eshop'!B:W,16,FALSE),IF(RIGHT(L281,1)=\"x\",VLOOKUP(VLOOKUP(RIGHT(A281,5)*1,'Data eshop'!D:N,11,FALSE),DATA!G:I,3,FALSE),IF(RIGHT(L281,1)=\"y\",IF(VLOOKUP(RIGHT(A281,5)*1,'Data eshop'!D:O,12,FALSE)=IF(O281=\"T7\",DATA!$D$2,IF(O281=\"E87\",DATA!$D$5,IF(O281=\"P2\",DATA!$D$6,IF(O281=\"e2695\",DATA!$D$7,\"\")))),IF(N281>=IF(O281=\"T7\",DATA!$K$11,IF(O281=\"E87\",DATA!$L$11,IF(O281=\"P2\",DATA!$M$11,IF(O281=\"e2695\",DATA!$N$11,\"\")))),\"uni008\",\"uni001\"),IF(VLOOKUP(RIGHT(A281,5)*1,'Data eshop'!D:O,12,FALSE)=DATA!$D$3,IF(O281=\"T7\",IF(N281>=500,\"uni009\",\"uni002\"),\"x\"),IF(VLOOKUP(RIGHT(A281,5)*1,'Data eshop'!D:O,12,FALSE)=DATA!$D$4,\"uni010\",\"\"))),\"\"))),\"\")","v":""},{"$f":"IFERROR(IF(A281=\"\",\"\",IF(LEFT(B281,3)=\"uni\",1,VLOOKUP(RIGHT(A281,5)&\"-\"&B281,'Data eshop'!A:R,18,FALSE))),\"\")","v":""},"",{"$f":"IFERROR(IF(A281=\"\",\"\",IF(LEFT(B281,3)=\"uni\",VLOOKUP(B281,DATA!I:X,IF(O281=\"T7\",3,IF(O281=\"E87\",4,IF(O281=\"P2\",5,IF(O281=\"E2695\",6,\"\")))),FALSE),VLOOKUP(RIGHT(A281,5)&\"-\"&B281,'Data eshop'!A:S,19,FALSE))),\"\")","v":""},{"$f":"IFERROR(IF(A281=\"\",\"\",IF(LEFT(B281,3)=\"uni\",0,VLOOKUP(RIGHT(A281,5)&\"-\"&B281,'Data eshop'!A:S,16,FALSE))),\"\")","v":""},null,"",{"$f":"IF(H281=\"\",\"\",WORKDAY(TODAY()+IF(VLOOKUP(VLOOKUP(RIGHT(A281,5)*1,'Data eshop'!D:N,11,FALSE),DATA!A:B,2,FALSE)=7,14,1),5))","v":""},"","",{"$f":"IF(L280=\"\",\"\",IF(L280=RIGHT(A280,5)&\"x\",LEFT(L280,LEN(L280)-1)&\"y\",IF(L280=RIGHT(A280,5)&\"y\",IFERROR(SMALL('Data eshop'!D:D,COUNTIF('Data eshop'!D:D,\"<\"&(LEFT(L280,LEN(L280)-1)*1))),\"\"),IF(ISERROR(IF(VLOOKUP(M280+1,'Data eshop'!C:D,2,FALSE)='Řádky zakázky'!L280,L280,L280&\"x\")),IF(RIGHT(L280,1)=\"y\",\"\",L280&\"x\"),IF(VLOOKUP(M280+1,'Data eshop'!C:D,2,FALSE)='Řádky zakázky'!L280,L280,L280&\"x\")))))","v":"0xxxxxxxxxxxxxxxxxxxxxxxxxxxxxxxxxxxxxxxxxxxxxxxxxxxxxxxxxxxxxxxxxxxxxxxxxxxxxxxxxxxxxxxxxxxxxxxxxxxxxxxxxxxxxxxxxxxxxxxxxxxxxxxxxxxxxxxxxxxxxxxxxxxxxxxxxxxxxxxxxxxxxxxxxxxxxxxxxxxxxxxxxxxxxxxxxxxxxxxxxxxxxxxxxxxxxxxxxxxxxxxxxxxxxxxxxxxxxxxxxxxxxxxxxxxxxxxxxxxxxxxxxxxxxxxxxxxxxxx"},1,{"$f":"IF(A281=\"\",\"\",VLOOKUP(RIGHT(A281,5)*1,'Data eshop'!D:W,17,FALSE))","v":{"$error":"#VALUE!"}},{"$f":"VLOOKUP(A281,Zakázky!A:B,2,FALSE)","v":{"$error":"#N/A"}},""]
["19ESh0",{"$f":"IFERROR(IF(ISNUMBER(L282),VLOOKUP(L282&\"-\"&M282,'Data eshop'!B:W,16,FALSE),IF(RIGHT(L282,1)=\"x\",VLOOKUP(VLOOKUP(RIGHT(A282,5)*1,'Data eshop'!D:N,11,FALSE),DATA!G:I,3,FALSE),IF(RIGHT(L282,1)=\"y\",IF(VLOOKUP(RIGHT(A282,5)*1,'Data eshop'!D:O,12,FALSE)=IF(O282=\"T7\",DATA!$D$2,IF(O282=\"E87\",DATA!$D$5,IF(O282=\"P2\",DATA!$D$6,IF(O282=\"e2695\",DATA!$D$7,\"\")))),IF(N282>=IF(O282=\"T7\",DATA!$K$11,IF(O282=\"E87\",DATA!$L$11,IF(O282=\"P2\",DATA!$M$11,IF(O282=\"e2695\",DATA!$N$11,\"\")))),\"uni008\",\"uni001\"),IF(VLOOKUP(RIGHT(A282,5)*1,'Data eshop'!D:O,12,FALSE)=DATA!$D$3,IF(O282=\"T7\",IF(N282>=500,\"uni009\",\"uni002\"),\"x\"),IF(VLOOKUP(RIGHT(A282,5)*1,'Data eshop'!D:O,12,FALSE)=DATA!$D$4,\"uni010\",\"\"))),\"\"))),\"\")","v":""},{"$f":"IFERROR(IF(A282=\"\",\"\",IF(LEFT(B282,3)=\"uni\",1,VLOOKUP(RIGHT(A282,5)&\"-\"&B282,'Data eshop'!A:R,18,FALSE))),\"\")","v":""},"",{"$f":"IFERROR(IF(A282=\"\",\"\",IF(LEFT(B282,3)=\"uni\",VLOOKUP(B282,DATA!I:X,IF(O282=\"T7\",3,IF(O282=\"E87\",4,IF(O282=\"P2\",5,IF(O282=\"E2695\",6,\"\")))),FALSE),VLOOKUP(RIGHT(A282,5)&\"-\"&B282,'Data eshop'!A:S,19,FALSE))),\"\")","v":""},{"$f":"IFERROR(IF(A282=\"\",\"\",IF(LEFT(B282,3)=\"uni\",0,VLOOKUP(RIGHT(A282,5)&\"-\"&B282,'Data eshop'!A:S,16,FALSE))),\"\")","v":""},null,"",{"$f":"IF(H282=\"\",\"\",WORKDAY(TODAY()+IF(VLOOKUP(VLOOKUP(RIGHT(A282,5)*1,'Data eshop'!D:N,11,FALSE),DATA!A:B,2,FALSE)=7,14,1),5))","v":""},"","",{"$f":"IF(L281=\"\",\"\",IF(L281=RIGHT(A281,5)&\"x\",LEFT(L281,LEN(L281)-1)&\"y\",IF(L281=RIGHT(A281,5)&\"y\",IFERROR(SMALL('Data eshop'!D:D,COUNTIF('Data eshop'!D:D,\"<\"&(LEFT(L281,LEN(L281)-1)*1))),\"\"),IF(ISERROR(IF(VLOOKUP(M281+1,'Data eshop'!C:D,2,FALSE)='Řádky zakázky'!L281,L281,L281&\"x\")),IF(RIGHT(L281,1)=\"y\",\"\",L281&\"x\"),IF(VLOOKUP(M281+1,'Data eshop'!C:D,2,FALSE)='Řádky zakázky'!L281,L281,L281&\"x\")))))","v":"0xxxxxxxxxxxxxxxxxxxxxxxxxxxxxxxxxxxxxxxxxxxxxxxxxxxxxxxxxxxxxxxxxxxxxxxxxxxxxxxxxxxxxxxxxxxxxxxxxxxxxxxxxxxxxxxxxxxxxxxxxxxxxxxxxxxxxxxxxxxxxxxxxxxxxxxxxxxxxxxxxxxxxxxxxxxxxxxxxxxxxxxxxxxxxxxxxxxxxxxxxxxxxxxxxxxxxxxxxxxxxxxxxxxxxxxxxxxxxxxxxxxxxxxxxxxxxxxxxxxxxxxxxxxxxxxxxxxxxxxx"},1,{"$f":"IF(A282=\"\",\"\",VLOOKUP(RIGHT(A282,5)*1,'Data eshop'!D:W,17,FALSE))","v":{"$error":"#VALUE!"}},{"$f":"VLOOKUP(A282,Zakázky!A:B,2,FALSE)","v":{"$error":"#N/A"}},""]
["19ESh0",{"$f":"IFERROR(IF(ISNUMBER(L283),VLOOKUP(L283&\"-\"&M283,'Data eshop'!B:W,16,FALSE),IF(RIGHT(L283,1)=\"x\",VLOOKUP(VLOOKUP(RIGHT(A283,5)*1,'Data eshop'!D:N,11,FALSE),DATA!G:I,3,FALSE),IF(RIGHT(L283,1)=\"y\",IF(VLOOKUP(RIGHT(A283,5)*1,'Data eshop'!D:O,12,FALSE)=IF(O283=\"T7\",DATA!$D$2,IF(O283=\"E87\",DATA!$D$5,IF(O283=\"P2\",DATA!$D$6,IF(O283=\"e2695\",DATA!$D$7,\"\")))),IF(N283>=IF(O283=\"T7\",DATA!$K$11,IF(O283=\"E87\",DATA!$L$11,IF(O283=\"P2\",DATA!$M$11,IF(O283=\"e2695\",DATA!$N$11,\"\")))),\"uni008\",\"uni001\"),IF(VLOOKUP(RIGHT(A283,5)*1,'Data eshop'!D:O,12,FALSE)=DATA!$D$3,IF(O283=\"T7\",IF(N283>=500,\"uni009\",\"uni002\"),\"x\"),IF(VLOOKUP(RIGHT(A283,5)*1,'Data eshop'!D:O,12,FALSE)=DATA!$D$4,\"uni010\",\"\"))),\"\"))),\"\")","v":""},{"$f":"IFERROR(IF(A283=\"\",\"\",IF(LEFT(B283,3)=\"uni\",1,VLOOKUP(RIGHT(A283,5)&\"-\"&B283,'Data eshop'!A:R,18,FALSE))),\"\")","v":""},"",{"$f":"IFERROR(IF(A283=\"\",\"\",IF(LEFT(B283,3)=\"uni\",VLOOKUP(B283,DATA!I:X,IF(O283=\"T7\",3,IF(O283=\"E87\",4,IF(O283=\"P2\",5,IF(O283=\"E2695\",6,\"\")))),FALSE),VLOOKUP(RIGHT(A283,5)&\"-\"&B283,'Data eshop'!A:S,19,FALSE))),\"\")","v":""},{"$f":"IFERROR(IF(A283=\"\",\"\",IF(LEFT(B283,3)=\"uni\",0,VLOOKUP(RIGHT(A283,5)&\"-\"&B283,'Data eshop'!A:S,16,FALSE))),\"\")","v":""},null,"",{"$f":"IF(H283=\"\",\"\",WORKDAY(TODAY()+IF(VLOOKUP(VLOOKUP(RIGHT(A283,5)*1,'Data eshop'!D:N,11,FALSE),DATA!A:B,2,FALSE)=7,14,1),5))","v":""},"","",{"$f":"IF(L282=\"\",\"\",IF(L282=RIGHT(A282,5)&\"x\",LEFT(L282,LEN(L282)-1)&\"y\",IF(L282=RIGHT(A282,5)&\"y\",IFERROR(SMALL('Data eshop'!D:D,COUNTIF('Data eshop'!D:D,\"<\"&(LEFT(L282,LEN(L282)-1)*1))),\"\"),IF(ISERROR(IF(VLOOKUP(M282+1,'Data eshop'!C:D,2,FALSE)='Řádky zakázky'!L282,L282,L282&\"x\")),IF(RIGHT(L282,1)=\"y\",\"\",L282&\"x\"),IF(VLOOKUP(M282+1,'Data eshop'!C:D,2,FALSE)='Řádky zakázky'!L282,L282,L282&\"x\")))))","v":"0xxxxxxxxxxxxxxxxxxxxxxxxxxxxxxxxxxxxxxxxxxxxxxxxxxxxxxxxxxxxxxxxxxxxxxxxxxxxxxxxxxxxxxxxxxxxxxxxxxxxxxxxxxxxxxxxxxxxxxxxxxxxxxxxxxxxxxxxxxxxxxxxxxxxxxxxxxxxxxxxxxxxxxxxxxxxxxxxxxxxxxxxxxxxxxxxxxxxxxxxxxxxxxxxxxxxxxxxxxxxxxxxxxxxxxxxxxxxxxxxxxxxxxxxxxxxxxxxxxxxxxxxxxxxxxxxxxxxxxxxx"},1,{"$f":"IF(A283=\"\",\"\",VLOOKUP(RIGHT(A283,5)*1,'Data eshop'!D:W,17,FALSE))","v":{"$error":"#VALUE!"}},{"$f":"VLOOKUP(A283,Zakázky!A:B,2,FALSE)","v":{"$error":"#N/A"}},""]
["19ESh0",{"$f":"IFERROR(IF(ISNUMBER(L284),VLOOKUP(L284&\"-\"&M284,'Data eshop'!B:W,16,FALSE),IF(RIGHT(L284,1)=\"x\",VLOOKUP(VLOOKUP(RIGHT(A284,5)*1,'Data eshop'!D:N,11,FALSE),DATA!G:I,3,FALSE),IF(RIGHT(L284,1)=\"y\",IF(VLOOKUP(RIGHT(A284,5)*1,'Data eshop'!D:O,12,FALSE)=IF(O284=\"T7\",DATA!$D$2,IF(O284=\"E87\",DATA!$D$5,IF(O284=\"P2\",DATA!$D$6,IF(O284=\"e2695\",DATA!$D$7,\"\")))),IF(N284>=IF(O284=\"T7\",DATA!$K$11,IF(O284=\"E87\",DATA!$L$11,IF(O284=\"P2\",DATA!$M$11,IF(O284=\"e2695\",DATA!$N$11,\"\")))),\"uni008\",\"uni001\"),IF(VLOOKUP(RIGHT(A284,5)*1,'Data eshop'!D:O,12,FALSE)=DATA!$D$3,IF(O284=\"T7\",IF(N284>=500,\"uni009\",\"uni002\"),\"x\"),IF(VLOOKUP(RIGHT(A284,5)*1,'Data eshop'!D:O,12,FALSE)=DATA!$D$4,\"uni010\",\"\"))),\"\"))),\"\")","v":""},{"$f":"IFERROR(IF(A284=\"\",\"\",IF(LEFT(B284,3)=\"uni\",1,VLOOKUP(RIGHT(A284,5)&\"-\"&B284,'Data eshop'!A:R,18,FALSE))),\"\")","v":""},"",{"$f":"IFERROR(IF(A284=\"\",\"\",IF(LEFT(B284,3)=\"uni\",VLOOKUP(B284,DATA!I:X,IF(O284=\"T7\",3,IF(O284=\"E87\",4,IF(O284=\"P2\",5,IF(O284=\"E2695\",6,\"\")))),FALSE),VLOOKUP(RIGHT(A284,5)&\"-\"&B284,'Data eshop'!A:S,19,FALSE))),\"\")","v":""},{"$f":"IFERROR(IF(A284=\"\",\"\",IF(LEFT(B284,3)=\"uni\",0,VLOOKUP(RIGHT(A284,5)&\"-\"&B284,'Data eshop'!A:S,16,FALSE))),\"\")","v":""},null,"",{"$f":"IF(H284=\"\",\"\",WORKDAY(TODAY()+IF(VLOOKUP(VLOOKUP(RIGHT(A284,5)*1,'Data eshop'!D:N,11,FALSE),DATA!A:B,2,FALSE)=7,14,1),5))","v":""},"","",{"$f":"IF(L283=\"\",\"\",IF(L283=RIGHT(A283,5)&\"x\",LEFT(L283,LEN(L283)-1)&\"y\",IF(L283=RIGHT(A283,5)&\"y\",IFERROR(SMALL('Data eshop'!D:D,COUNTIF('Data eshop'!D:D,\"<\"&(LEFT(L283,LEN(L283)-1)*1))),\"\"),IF(ISERROR(IF(VLOOKUP(M283+1,'Data eshop'!C:D,2,FALSE)='Řádky zakázky'!L283,L283,L283&\"x\")),IF(RIGHT(L283,1)=\"y\",\"\",L283&\"x\"),IF(VLOOKUP(M283+1,'Data eshop'!C:D,2,FALSE)='Řádky zakázky'!L283,L283,L283&\"x\")))))","v":"0xxxxxxxxxxxxxxxxxxxxxxxxxxxxxxxxxxxxxxxxxxxxxxxxxxxxxxxxxxxxxxxxxxxxxxxxxxxxxxxxxxxxxxxxxxxxxxxxxxxxxxxxxxxxxxxxxxxxxxxxxxxxxxxxxxxxxxxxxxxxxxxxxxxxxxxxxxxxxxxxxxxxxxxxxxxxxxxxxxxxxxxxxxxxxxxxxxxxxxxxxxxxxxxxxxxxxxxxxxxxxxxxxxxxxxxxxxxxxxxxxxxxxxxxxxxxxxxxxxxxxxxxxxxxxxxxxxxxxxxxxx"},1,{"$f":"IF(A284=\"\",\"\",VLOOKUP(RIGHT(A284,5)*1,'Data eshop'!D:W,17,FALSE))","v":{"$error":"#VALUE!"}},{"$f":"VLOOKUP(A284,Zakázky!A:B,2,FALSE)","v":{"$error":"#N/A"}},"","Roluj nahoru, až uvidíš žlutou"]
["19ESh0",{"$f":"IFERROR(IF(ISNUMBER(L285),VLOOKUP(L285&\"-\"&M285,'Data eshop'!B:W,16,FALSE),IF(RIGHT(L285,1)=\"x\",VLOOKUP(VLOOKUP(RIGHT(A285,5)*1,'Data eshop'!D:N,11,FALSE),DATA!G:I,3,FALSE),IF(RIGHT(L285,1)=\"y\",IF(VLOOKUP(RIGHT(A285,5)*1,'Data eshop'!D:O,12,FALSE)=IF(O285=\"T7\",DATA!$D$2,IF(O285=\"E87\",DATA!$D$5,IF(O285=\"P2\",DATA!$D$6,IF(O285=\"e2695\",DATA!$D$7,\"\")))),IF(N285>=IF(O285=\"T7\",DATA!$K$11,IF(O285=\"E87\",DATA!$L$11,IF(O285=\"P2\",DATA!$M$11,IF(O285=\"e2695\",DATA!$N$11,\"\")))),\"uni008\",\"uni001\"),IF(VLOOKUP(RIGHT(A285,5)*1,'Data eshop'!D:O,12,FALSE)=DATA!$D$3,IF(O285=\"T7\",IF(N285>=500,\"uni009\",\"uni002\"),\"x\"),IF(VLOOKUP(RIGHT(A285,5)*1,'Data eshop'!D:O,12,FALSE)=DATA!$D$4,\"uni010\",\"\"))),\"\"))),\"\")","v":""},{"$f":"IFERROR(IF(A285=\"\",\"\",IF(LEFT(B285,3)=\"uni\",1,VLOOKUP(RIGHT(A285,5)&\"-\"&B285,'Data eshop'!A:R,18,FALSE))),\"\")","v":""},"",{"$f":"IFERROR(IF(A285=\"\",\"\",IF(LEFT(B285,3)=\"uni\",VLOOKUP(B285,DATA!I:X,IF(O285=\"T7\",3,IF(O285=\"E87\",4,IF(O285=\"P2\",5,IF(O285=\"E2695\",6,\"\")))),FALSE),VLOOKUP(RIGHT(A285,5)&\"-\"&B285,'Data eshop'!A:S,19,FALSE))),\"\")","v":""},{"$f":"IFERROR(IF(A285=\"\",\"\",IF(LEFT(B285,3)=\"uni\",0,VLOOKUP(RIGHT(A285,5)&\"-\"&B285,'Data eshop'!A:S,16,FALSE))),\"\")","v":""},null,"",{"$f":"IF(H285=\"\",\"\",WORKDAY(TODAY()+IF(VLOOKUP(VLOOKUP(RIGHT(A285,5)*1,'Data eshop'!D:N,11,FALSE),DATA!A:B,2,FALSE)=7,14,1),5))","v":""},"","",{"$f":"IF(L284=\"\",\"\",IF(L284=RIGHT(A284,5)&\"x\",LEFT(L284,LEN(L284)-1)&\"y\",IF(L284=RIGHT(A284,5)&\"y\",IFERROR(SMALL('Data eshop'!D:D,COUNTIF('Data eshop'!D:D,\"<\"&(LEFT(L284,LEN(L284)-1)*1))),\"\"),IF(ISERROR(IF(VLOOKUP(M284+1,'Data eshop'!C:D,2,FALSE)='Řádky zakázky'!L284,L284,L284&\"x\")),IF(RIGHT(L284,1)=\"y\",\"\",L284&\"x\"),IF(VLOOKUP(M284+1,'Data eshop'!C:D,2,FALSE)='Řádky zakázky'!L284,L284,L284&\"x\")))))","v":"0xxxxxxxxxxxxxxxxxxxxxxxxxxxxxxxxxxxxxxxxxxxxxxxxxxxxxxxxxxxxxxxxxxxxxxxxxxxxxxxxxxxxxxxxxxxxxxxxxxxxxxxxxxxxxxxxxxxxxxxxxxxxxxxxxxxxxxxxxxxxxxxxxxxxxxxxxxxxxxxxxxxxxxxxxxxxxxxxxxxxxxxxxxxxxxxxxxxxxxxxxxxxxxxxxxxxxxxxxxxxxxxxxxxxxxxxxxxxxxxxxxxxxxxxxxxxxxxxxxxxxxxxxxxxxxxxxxxxxxxxxxx"},1,{"$f":"IF(A285=\"\",\"\",VLOOKUP(RIGHT(A285,5)*1,'Data eshop'!D:W,17,FALSE))","v":{"$error":"#VALUE!"}},{"$f":"VLOOKUP(A285,Zakázky!A:B,2,FALSE)","v":{"$error":"#N/A"}},""]
["19ESh0",{"$f":"IFERROR(IF(ISNUMBER(L286),VLOOKUP(L286&\"-\"&M286,'Data eshop'!B:W,16,FALSE),IF(RIGHT(L286,1)=\"x\",VLOOKUP(VLOOKUP(RIGHT(A286,5)*1,'Data eshop'!D:N,11,FALSE),DATA!G:I,3,FALSE),IF(RIGHT(L286,1)=\"y\",IF(VLOOKUP(RIGHT(A286,5)*1,'Data eshop'!D:O,12,FALSE)=IF(O286=\"T7\",DATA!$D$2,IF(O286=\"E87\",DATA!$D$5,IF(O286=\"P2\",DATA!$D$6,IF(O286=\"e2695\",DATA!$D$7,\"\")))),IF(N286>=IF(O286=\"T7\",DATA!$K$11,IF(O286=\"E87\",DATA!$L$11,IF(O286=\"P2\",DATA!$M$11,IF(O286=\"e2695\",DATA!$N$11,\"\")))),\"uni008\",\"uni001\"),IF(VLOOKUP(RIGHT(A286,5)*1,'Data eshop'!D:O,12,FALSE)=DATA!$D$3,IF(O286=\"T7\",IF(N286>=500,\"uni009\",\"uni002\"),\"x\"),IF(VLOOKUP(RIGHT(A286,5)*1,'Data eshop'!D:O,12,FALSE)=DATA!$D$4,\"uni010\",\"\"))),\"\"))),\"\")","v":""},{"$f":"IFERROR(IF(A286=\"\",\"\",IF(LEFT(B286,3)=\"uni\",1,VLOOKUP(RIGHT(A286,5)&\"-\"&B286,'Data eshop'!A:R,18,FALSE))),\"\")","v":""},"",{"$f":"IFERROR(IF(A286=\"\",\"\",IF(LEFT(B286,3)=\"uni\",VLOOKUP(B286,DATA!I:X,IF(O286=\"T7\",3,IF(O286=\"E87\",4,IF(O286=\"P2\",5,IF(O286=\"E2695\",6,\"\")))),FALSE),VLOOKUP(RIGHT(A286,5)&\"-\"&B286,'Data eshop'!A:S,19,FALSE))),\"\")","v":""},{"$f":"IFERROR(IF(A286=\"\",\"\",IF(LEFT(B286,3)=\"uni\",0,VLOOKUP(RIGHT(A286,5)&\"-\"&B286,'Data eshop'!A:S,16,FALSE))),\"\")","v":""},null,"",{"$f":"IF(H286=\"\",\"\",WORKDAY(TODAY()+IF(VLOOKUP(VLOOKUP(RIGHT(A286,5)*1,'Data eshop'!D:N,11,FALSE),DATA!A:B,2,FALSE)=7,14,1),5))","v":""},"","",{"$f":"IF(L285=\"\",\"\",IF(L285=RIGHT(A285,5)&\"x\",LEFT(L285,LEN(L285)-1)&\"y\",IF(L285=RIGHT(A285,5)&\"y\",IFERROR(SMALL('Data eshop'!D:D,COUNTIF('Data eshop'!D:D,\"<\"&(LEFT(L285,LEN(L285)-1)*1))),\"\"),IF(ISERROR(IF(VLOOKUP(M285+1,'Data eshop'!C:D,2,FALSE)='Řádky zakázky'!L285,L285,L285&\"x\")),IF(RIGHT(L285,1)=\"y\",\"\",L285&\"x\"),IF(VLOOKUP(M285+1,'Data eshop'!C:D,2,FALSE)='Řádky zakázky'!L285,L285,L285&\"x\")))))","v":"0xxxxxxxxxxxxxxxxxxxxxxxxxxxxxxxxxxxxxxxxxxxxxxxxxxxxxxxxxxxxxxxxxxxxxxxxxxxxxxxxxxxxxxxxxxxxxxxxxxxxxxxxxxxxxxxxxxxxxxxxxxxxxxxxxxxxxxxxxxxxxxxxxxxxxxxxxxxxxxxxxxxxxxxxxxxxxxxxxxxxxxxxxxxxxxxxxxxxxxxxxxxxxxxxxxxxxxxxxxxxxxxxxxxxxxxxxxxxxxxxxxxxxxxxxxxxxxxxxxxxxxxxxxxxxxxxxxxxxxxxxxxx"},1,{"$f":"IF(A286=\"\",\"\",VLOOKUP(RIGHT(A286,5)*1,'Data eshop'!D:W,17,FALSE))","v":{"$error":"#VALUE!"}},{"$f":"VLOOKUP(A286,Zakázky!A:B,2,FALSE)","v":{"$error":"#N/A"}},""]
["19ESh0",{"$f":"IFERROR(IF(ISNUMBER(L287),VLOOKUP(L287&\"-\"&M287,'Data eshop'!B:W,16,FALSE),IF(RIGHT(L287,1)=\"x\",VLOOKUP(VLOOKUP(RIGHT(A287,5)*1,'Data eshop'!D:N,11,FALSE),DATA!G:I,3,FALSE),IF(RIGHT(L287,1)=\"y\",IF(VLOOKUP(RIGHT(A287,5)*1,'Data eshop'!D:O,12,FALSE)=IF(O287=\"T7\",DATA!$D$2,IF(O287=\"E87\",DATA!$D$5,IF(O287=\"P2\",DATA!$D$6,IF(O287=\"e2695\",DATA!$D$7,\"\")))),IF(N287>=IF(O287=\"T7\",DATA!$K$11,IF(O287=\"E87\",DATA!$L$11,IF(O287=\"P2\",DATA!$M$11,IF(O287=\"e2695\",DATA!$N$11,\"\")))),\"uni008\",\"uni001\"),IF(VLOOKUP(RIGHT(A287,5)*1,'Data eshop'!D:O,12,FALSE)=DATA!$D$3,IF(O287=\"T7\",IF(N287>=500,\"uni009\",\"uni002\"),\"x\"),IF(VLOOKUP(RIGHT(A287,5)*1,'Data eshop'!D:O,12,FALSE)=DATA!$D$4,\"uni010\",\"\"))),\"\"))),\"\")","v":""},{"$f":"IFERROR(IF(A287=\"\",\"\",IF(LEFT(B287,3)=\"uni\",1,VLOOKUP(RIGHT(A287,5)&\"-\"&B287,'Data eshop'!A:R,18,FALSE))),\"\")","v":""},"",{"$f":"IFERROR(IF(A287=\"\",\"\",IF(LEFT(B287,3)=\"uni\",VLOOKUP(B287,DATA!I:X,IF(O287=\"T7\",3,IF(O287=\"E87\",4,IF(O287=\"P2\",5,IF(O287=\"E2695\",6,\"\")))),FALSE),VLOOKUP(RIGHT(A287,5)&\"-\"&B287,'Data eshop'!A:S,19,FALSE))),\"\")","v":""},{"$f":"IFERROR(IF(A287=\"\",\"\",IF(LEFT(B287,3)=\"uni\",0,VLOOKUP(RIGHT(A287,5)&\"-\"&B287,'Data eshop'!A:S,16,FALSE))),\"\")","v":""},null,"",{"$f":"IF(H287=\"\",\"\",WORKDAY(TODAY()+IF(VLOOKUP(VLOOKUP(RIGHT(A287,5)*1,'Data eshop'!D:N,11,FALSE),DATA!A:B,2,FALSE)=7,14,1),5))","v":""},"","",{"$f":"IF(L286=\"\",\"\",IF(L286=RIGHT(A286,5)&\"x\",LEFT(L286,LEN(L286)-1)&\"y\",IF(L286=RIGHT(A286,5)&\"y\",IFERROR(SMALL('Data eshop'!D:D,COUNTIF('Data eshop'!D:D,\"<\"&(LEFT(L286,LEN(L286)-1)*1))),\"\"),IF(ISERROR(IF(VLOOKUP(M286+1,'Data eshop'!C:D,2,FALSE)='Řádky zakázky'!L286,L286,L286&\"x\")),IF(RIGHT(L286,1)=\"y\",\"\",L286&\"x\"),IF(VLOOKUP(M286+1,'Data eshop'!C:D,2,FALSE)='Řádky zakázky'!L286,L286,L286&\"x\")))))","v":"0xxxxxxxxxxxxxxxxxxxxxxxxxxxxxxxxxxxxxxxxxxxxxxxxxxxxxxxxxxxxxxxxxxxxxxxxxxxxxxxxxxxxxxxxxxxxxxxxxxxxxxxxxxxxxxxxxxxxxxxxxxxxxxxxxxxxxxxxxxxxxxxxxxxxxxxxxxxxxxxxxxxxxxxxxxxxxxxxxxxxxxxxxxxxxxxxxxxxxxxxxxxxxxxxxxxxxxxxxxxxxxxxxxxxxxxxxxxxxxxxxxxxxxxxxxxxxxxxxxxxxxxxxxxxxxxxxxxxxxxxxxxxx"},1,{"$f":"IF(A287=\"\",\"\",VLOOKUP(RIGHT(A287,5)*1,'Data eshop'!D:W,17,FALSE))","v":{"$error":"#VALUE!"}},{"$f":"VLOOKUP(A287,Zakázky!A:B,2,FALSE)","v":{"$error":"#N/A"}},""]
["19ESh0",{"$f":"IFERROR(IF(ISNUMBER(L288),VLOOKUP(L288&\"-\"&M288,'Data eshop'!B:W,16,FALSE),IF(RIGHT(L288,1)=\"x\",VLOOKUP(VLOOKUP(RIGHT(A288,5)*1,'Data eshop'!D:N,11,FALSE),DATA!G:I,3,FALSE),IF(RIGHT(L288,1)=\"y\",IF(VLOOKUP(RIGHT(A288,5)*1,'Data eshop'!D:O,12,FALSE)=IF(O288=\"T7\",DATA!$D$2,IF(O288=\"E87\",DATA!$D$5,IF(O288=\"P2\",DATA!$D$6,IF(O288=\"e2695\",DATA!$D$7,\"\")))),IF(N288>=IF(O288=\"T7\",DATA!$K$11,IF(O288=\"E87\",DATA!$L$11,IF(O288=\"P2\",DATA!$M$11,IF(O288=\"e2695\",DATA!$N$11,\"\")))),\"uni008\",\"uni001\"),IF(VLOOKUP(RIGHT(A288,5)*1,'Data eshop'!D:O,12,FALSE)=DATA!$D$3,IF(O288=\"T7\",IF(N288>=500,\"uni009\",\"uni002\"),\"x\"),IF(VLOOKUP(RIGHT(A288,5)*1,'Data eshop'!D:O,12,FALSE)=DATA!$D$4,\"uni010\",\"\"))),\"\"))),\"\")","v":""},{"$f":"IFERROR(IF(A288=\"\",\"\",IF(LEFT(B288,3)=\"uni\",1,VLOOKUP(RIGHT(A288,5)&\"-\"&B288,'Data eshop'!A:R,18,FALSE))),\"\")","v":""},"",{"$f":"IFERROR(IF(A288=\"\",\"\",IF(LEFT(B288,3)=\"uni\",VLOOKUP(B288,DATA!I:X,IF(O288=\"T7\",3,IF(O288=\"E87\",4,IF(O288=\"P2\",5,IF(O288=\"E2695\",6,\"\")))),FALSE),VLOOKUP(RIGHT(A288,5)&\"-\"&B288,'Data eshop'!A:S,19,FALSE))),\"\")","v":""},{"$f":"IFERROR(IF(A288=\"\",\"\",IF(LEFT(B288,3)=\"uni\",0,VLOOKUP(RIGHT(A288,5)&\"-\"&B288,'Data eshop'!A:S,16,FALSE))),\"\")","v":""},null,"",{"$f":"IF(H288=\"\",\"\",WORKDAY(TODAY()+IF(VLOOKUP(VLOOKUP(RIGHT(A288,5)*1,'Data eshop'!D:N,11,FALSE),DATA!A:B,2,FALSE)=7,14,1),5))","v":""},"","",{"$f":"IF(L287=\"\",\"\",IF(L287=RIGHT(A287,5)&\"x\",LEFT(L287,LEN(L287)-1)&\"y\",IF(L287=RIGHT(A287,5)&\"y\",IFERROR(SMALL('Data eshop'!D:D,COUNTIF('Data eshop'!D:D,\"<\"&(LEFT(L287,LEN(L287)-1)*1))),\"\"),IF(ISERROR(IF(VLOOKUP(M287+1,'Data eshop'!C:D,2,FALSE)='Řádky zakázky'!L287,L287,L287&\"x\")),IF(RIGHT(L287,1)=\"y\",\"\",L287&\"x\"),IF(VLOOKUP(M287+1,'Data eshop'!C:D,2,FALSE)='Řádky zakázky'!L287,L287,L287&\"x\")))))","v":"0xxxxxxxxxxxxxxxxxxxxxxxxxxxxxxxxxxxxxxxxxxxxxxxxxxxxxxxxxxxxxxxxxxxxxxxxxxxxxxxxxxxxxxxxxxxxxxxxxxxxxxxxxxxxxxxxxxxxxxxxxxxxxxxxxxxxxxxxxxxxxxxxxxxxxxxxxxxxxxxxxxxxxxxxxxxxxxxxxxxxxxxxxxxxxxxxxxxxxxxxxxxxxxxxxxxxxxxxxxxxxxxxxxxxxxxxxxxxxxxxxxxxxxxxxxxxxxxxxxxxxxxxxxxxxxxxxxxxxxxxxxxxxx"},1,{"$f":"IF(A288=\"\",\"\",VLOOKUP(RIGHT(A288,5)*1,'Data eshop'!D:W,17,FALSE))","v":{"$error":"#VALUE!"}},{"$f":"VLOOKUP(A288,Zakázky!A:B,2,FALSE)","v":{"$error":"#N/A"}},"","Roluj nahoru, až uvidíš žlutou"]
["19ESh0",{"$f":"IFERROR(IF(ISNUMBER(L289),VLOOKUP(L289&\"-\"&M289,'Data eshop'!B:W,16,FALSE),IF(RIGHT(L289,1)=\"x\",VLOOKUP(VLOOKUP(RIGHT(A289,5)*1,'Data eshop'!D:N,11,FALSE),DATA!G:I,3,FALSE),IF(RIGHT(L289,1)=\"y\",IF(VLOOKUP(RIGHT(A289,5)*1,'Data eshop'!D:O,12,FALSE)=IF(O289=\"T7\",DATA!$D$2,IF(O289=\"E87\",DATA!$D$5,IF(O289=\"P2\",DATA!$D$6,IF(O289=\"e2695\",DATA!$D$7,\"\")))),IF(N289>=IF(O289=\"T7\",DATA!$K$11,IF(O289=\"E87\",DATA!$L$11,IF(O289=\"P2\",DATA!$M$11,IF(O289=\"e2695\",DATA!$N$11,\"\")))),\"uni008\",\"uni001\"),IF(VLOOKUP(RIGHT(A289,5)*1,'Data eshop'!D:O,12,FALSE)=DATA!$D$3,IF(O289=\"T7\",IF(N289>=500,\"uni009\",\"uni002\"),\"x\"),IF(VLOOKUP(RIGHT(A289,5)*1,'Data eshop'!D:O,12,FALSE)=DATA!$D$4,\"uni010\",\"\"))),\"\"))),\"\")","v":""},{"$f":"IFERROR(IF(A289=\"\",\"\",IF(LEFT(B289,3)=\"uni\",1,VLOOKUP(RIGHT(A289,5)&\"-\"&B289,'Data eshop'!A:R,18,FALSE))),\"\")","v":""},"",{"$f":"IFERROR(IF(A289=\"\",\"\",IF(LEFT(B289,3)=\"uni\",VLOOKUP(B289,DATA!I:X,IF(O289=\"T7\",3,IF(O289=\"E87\",4,IF(O289=\"P2\",5,IF(O289=\"E2695\",6,\"\")))),FALSE),VLOOKUP(RIGHT(A289,5)&\"-\"&B289,'Data eshop'!A:S,19,FALSE))),\"\")","v":""},{"$f":"IFERROR(IF(A289=\"\",\"\",IF(LEFT(B289,3)=\"uni\",0,VLOOKUP(RIGHT(A289,5)&\"-\"&B289,'Data eshop'!A:S,16,FALSE))),\"\")","v":""},null,"",{"$f":"IF(H289=\"\",\"\",WORKDAY(TODAY()+IF(VLOOKUP(VLOOKUP(RIGHT(A289,5)*1,'Data eshop'!D:N,11,FALSE),DATA!A:B,2,FALSE)=7,14,1),5))","v":""},"","",{"$f":"IF(L288=\"\",\"\",IF(L288=RIGHT(A288,5)&\"x\",LEFT(L288,LEN(L288)-1)&\"y\",IF(L288=RIGHT(A288,5)&\"y\",IFERROR(SMALL('Data eshop'!D:D,COUNTIF('Data eshop'!D:D,\"<\"&(LEFT(L288,LEN(L288)-1)*1))),\"\"),IF(ISERROR(IF(VLOOKUP(M288+1,'Data eshop'!C:D,2,FALSE)='Řádky zakázky'!L288,L288,L288&\"x\")),IF(RIGHT(L288,1)=\"y\",\"\",L288&\"x\"),IF(VLOOKUP(M288+1,'Data eshop'!C:D,2,FALSE)='Řádky zakázky'!L288,L288,L288&\"x\")))))","v":"0xxxxxxxxxxxxxxxxxxxxxxxxxxxxxxxxxxxxxxxxxxxxxxxxxxxxxxxxxxxxxxxxxxxxxxxxxxxxxxxxxxxxxxxxxxxxxxxxxxxxxxxxxxxxxxxxxxxxxxxxxxxxxxxxxxxxxxxxxxxxxxxxxxxxxxxxxxxxxxxxxxxxxxxxxxxxxxxxxxxxxxxxxxxxxxxxxxxxxxxxxxxxxxxxxxxxxxxxxxxxxxxxxxxxxxxxxxxxxxxxxxxxxxxxxxxxxxxxxxxxxxxxxxxxxxxxxxxxxxxxxxxxxxx"},1,{"$f":"IF(A289=\"\",\"\",VLOOKUP(RIGHT(A289,5)*1,'Data eshop'!D:W,17,FALSE))","v":{"$error":"#VALUE!"}},{"$f":"VLOOKUP(A289,Zakázky!A:B,2,FALSE)","v":{"$error":"#N/A"}},""]
["19ESh0",{"$f":"IFERROR(IF(ISNUMBER(L290),VLOOKUP(L290&\"-\"&M290,'Data eshop'!B:W,16,FALSE),IF(RIGHT(L290,1)=\"x\",VLOOKUP(VLOOKUP(RIGHT(A290,5)*1,'Data eshop'!D:N,11,FALSE),DATA!G:I,3,FALSE),IF(RIGHT(L290,1)=\"y\",IF(VLOOKUP(RIGHT(A290,5)*1,'Data eshop'!D:O,12,FALSE)=IF(O290=\"T7\",DATA!$D$2,IF(O290=\"E87\",DATA!$D$5,IF(O290=\"P2\",DATA!$D$6,IF(O290=\"e2695\",DATA!$D$7,\"\")))),IF(N290>=IF(O290=\"T7\",DATA!$K$11,IF(O290=\"E87\",DATA!$L$11,IF(O290=\"P2\",DATA!$M$11,IF(O290=\"e2695\",DATA!$N$11,\"\")))),\"uni008\",\"uni001\"),IF(VLOOKUP(RIGHT(A290,5)*1,'Data eshop'!D:O,12,FALSE)=DATA!$D$3,IF(O290=\"T7\",IF(N290>=500,\"uni009\",\"uni002\"),\"x\"),IF(VLOOKUP(RIGHT(A290,5)*1,'Data eshop'!D:O,12,FALSE)=DATA!$D$4,\"uni010\",\"\"))),\"\"))),\"\")","v":""},{"$f":"IFERROR(IF(A290=\"\",\"\",IF(LEFT(B290,3)=\"uni\",1,VLOOKUP(RIGHT(A290,5)&\"-\"&B290,'Data eshop'!A:R,18,FALSE))),\"\")","v":""},"",{"$f":"IFERROR(IF(A290=\"\",\"\",IF(LEFT(B290,3)=\"uni\",VLOOKUP(B290,DATA!I:X,IF(O290=\"T7\",3,IF(O290=\"E87\",4,IF(O290=\"P2\",5,IF(O290=\"E2695\",6,\"\")))),FALSE),VLOOKUP(RIGHT(A290,5)&\"-\"&B290,'Data eshop'!A:S,19,FALSE))),\"\")","v":""},{"$f":"IFERROR(IF(A290=\"\",\"\",IF(LEFT(B290,3)=\"uni\",0,VLOOKUP(RIGHT(A290,5)&\"-\"&B290,'Data eshop'!A:S,16,FALSE))),\"\")","v":""},null,"",{"$f":"IF(H290=\"\",\"\",WORKDAY(TODAY()+IF(VLOOKUP(VLOOKUP(RIGHT(A290,5)*1,'Data eshop'!D:N,11,FALSE),DATA!A:B,2,FALSE)=7,14,1),5))","v":""},"","",{"$f":"IF(L289=\"\",\"\",IF(L289=RIGHT(A289,5)&\"x\",LEFT(L289,LEN(L289)-1)&\"y\",IF(L289=RIGHT(A289,5)&\"y\",IFERROR(SMALL('Data eshop'!D:D,COUNTIF('Data eshop'!D:D,\"<\"&(LEFT(L289,LEN(L289)-1)*1))),\"\"),IF(ISERROR(IF(VLOOKUP(M289+1,'Data eshop'!C:D,2,FALSE)='Řádky zakázky'!L289,L289,L289&\"x\")),IF(RIGHT(L289,1)=\"y\",\"\",L289&\"x\"),IF(VLOOKUP(M289+1,'Data eshop'!C:D,2,FALSE)='Řádky zakázky'!L289,L289,L289&\"x\")))))","v":"0xxxxxxxxxxxxxxxxxxxxxxxxxxxxxxxxxxxxxxxxxxxxxxxxxxxxxxxxxxxxxxxxxxxxxxxxxxxxxxxxxxxxxxxxxxxxxxxxxxxxxxxxxxxxxxxxxxxxxxxxxxxxxxxxxxxxxxxxxxxxxxxxxxxxxxxxxxxxxxxxxxxxxxxxxxxxxxxxxxxxxxxxxxxxxxxxxxxxxxxxxxxxxxxxxxxxxxxxxxxxxxxxxxxxxxxxxxxxxxxxxxxxxxxxxxxxxxxxxxxxxxxxxxxxxxxxxxxxxxxxxxxxxxxx"},1,{"$f":"IF(A290=\"\",\"\",VLOOKUP(RIGHT(A290,5)*1,'Data eshop'!D:W,17,FALSE))","v":{"$error":"#VALUE!"}},{"$f":"VLOOKUP(A290,Zakázky!A:B,2,FALSE)","v":{"$error":"#N/A"}},""]
["19ESh0",{"$f":"IFERROR(IF(ISNUMBER(L291),VLOOKUP(L291&\"-\"&M291,'Data eshop'!B:W,16,FALSE),IF(RIGHT(L291,1)=\"x\",VLOOKUP(VLOOKUP(RIGHT(A291,5)*1,'Data eshop'!D:N,11,FALSE),DATA!G:I,3,FALSE),IF(RIGHT(L291,1)=\"y\",IF(VLOOKUP(RIGHT(A291,5)*1,'Data eshop'!D:O,12,FALSE)=IF(O291=\"T7\",DATA!$D$2,IF(O291=\"E87\",DATA!$D$5,IF(O291=\"P2\",DATA!$D$6,IF(O291=\"e2695\",DATA!$D$7,\"\")))),IF(N291>=IF(O291=\"T7\",DATA!$K$11,IF(O291=\"E87\",DATA!$L$11,IF(O291=\"P2\",DATA!$M$11,IF(O291=\"e2695\",DATA!$N$11,\"\")))),\"uni008\",\"uni001\"),IF(VLOOKUP(RIGHT(A291,5)*1,'Data eshop'!D:O,12,FALSE)=DATA!$D$3,IF(O291=\"T7\",IF(N291>=500,\"uni009\",\"uni002\"),\"x\"),IF(VLOOKUP(RIGHT(A291,5)*1,'Data eshop'!D:O,12,FALSE)=DATA!$D$4,\"uni010\",\"\"))),\"\"))),\"\")","v":""},{"$f":"IFERROR(IF(A291=\"\",\"\",IF(LEFT(B291,3)=\"uni\",1,VLOOKUP(RIGHT(A291,5)&\"-\"&B291,'Data eshop'!A:R,18,FALSE))),\"\")","v":""},"",{"$f":"IFERROR(IF(A291=\"\",\"\",IF(LEFT(B291,3)=\"uni\",VLOOKUP(B291,DATA!I:X,IF(O291=\"T7\",3,IF(O291=\"E87\",4,IF(O291=\"P2\",5,IF(O291=\"E2695\",6,\"\")))),FALSE),VLOOKUP(RIGHT(A291,5)&\"-\"&B291,'Data eshop'!A:S,19,FALSE))),\"\")","v":""},{"$f":"IFERROR(IF(A291=\"\",\"\",IF(LEFT(B291,3)=\"uni\",0,VLOOKUP(RIGHT(A291,5)&\"-\"&B291,'Data eshop'!A:S,16,FALSE))),\"\")","v":""},null,"",{"$f":"IF(H291=\"\",\"\",WORKDAY(TODAY()+IF(VLOOKUP(VLOOKUP(RIGHT(A291,5)*1,'Data eshop'!D:N,11,FALSE),DATA!A:B,2,FALSE)=7,14,1),5))","v":""},"","",{"$f":"IF(L290=\"\",\"\",IF(L290=RIGHT(A290,5)&\"x\",LEFT(L290,LEN(L290)-1)&\"y\",IF(L290=RIGHT(A290,5)&\"y\",IFERROR(SMALL('Data eshop'!D:D,COUNTIF('Data eshop'!D:D,\"<\"&(LEFT(L290,LEN(L290)-1)*1))),\"\"),IF(ISERROR(IF(VLOOKUP(M290+1,'Data eshop'!C:D,2,FALSE)='Řádky zakázky'!L290,L290,L290&\"x\")),IF(RIGHT(L290,1)=\"y\",\"\",L290&\"x\"),IF(VLOOKUP(M290+1,'Data eshop'!C:D,2,FALSE)='Řádky zakázky'!L290,L290,L290&\"x\")))))","v":"0xxxxxxxxxxxxxxxxxxxxxxxxxxxxxxxxxxxxxxxxxxxxxxxxxxxxxxxxxxxxxxxxxxxxxxxxxxxxxxxxxxxxxxxxxxxxxxxxxxxxxxxxxxxxxxxxxxxxxxxxxxxxxxxxxxxxxxxxxxxxxxxxxxxxxxxxxxxxxxxxxxxxxxxxxxxxxxxxxxxxxxxxxxxxxxxxxxxxxxxxxxxxxxxxxxxxxxxxxxxxxxxxxxxxxxxxxxxxxxxxxxxxxxxxxxxxxxxxxxxxxxxxxxxxxxxxxxxxxxxxxxxxxxxxx"},1,{"$f":"IF(A291=\"\",\"\",VLOOKUP(RIGHT(A291,5)*1,'Data eshop'!D:W,17,FALSE))","v":{"$error":"#VALUE!"}},{"$f":"VLOOKUP(A291,Zakázky!A:B,2,FALSE)","v":{"$error":"#N/A"}},""]
["19ESh0",{"$f":"IFERROR(IF(ISNUMBER(L292),VLOOKUP(L292&\"-\"&M292,'Data eshop'!B:W,16,FALSE),IF(RIGHT(L292,1)=\"x\",VLOOKUP(VLOOKUP(RIGHT(A292,5)*1,'Data eshop'!D:N,11,FALSE),DATA!G:I,3,FALSE),IF(RIGHT(L292,1)=\"y\",IF(VLOOKUP(RIGHT(A292,5)*1,'Data eshop'!D:O,12,FALSE)=IF(O292=\"T7\",DATA!$D$2,IF(O292=\"E87\",DATA!$D$5,IF(O292=\"P2\",DATA!$D$6,IF(O292=\"e2695\",DATA!$D$7,\"\")))),IF(N292>=IF(O292=\"T7\",DATA!$K$11,IF(O292=\"E87\",DATA!$L$11,IF(O292=\"P2\",DATA!$M$11,IF(O292=\"e2695\",DATA!$N$11,\"\")))),\"uni008\",\"uni001\"),IF(VLOOKUP(RIGHT(A292,5)*1,'Data eshop'!D:O,12,FALSE)=DATA!$D$3,IF(O292=\"T7\",IF(N292>=500,\"uni009\",\"uni002\"),\"x\"),IF(VLOOKUP(RIGHT(A292,5)*1,'Data eshop'!D:O,12,FALSE)=DATA!$D$4,\"uni010\",\"\"))),\"\"))),\"\")","v":""},{"$f":"IFERROR(IF(A292=\"\",\"\",IF(LEFT(B292,3)=\"uni\",1,VLOOKUP(RIGHT(A292,5)&\"-\"&B292,'Data eshop'!A:R,18,FALSE))),\"\")","v":""},"",{"$f":"IFERROR(IF(A292=\"\",\"\",IF(LEFT(B292,3)=\"uni\",VLOOKUP(B292,DATA!I:X,IF(O292=\"T7\",3,IF(O292=\"E87\",4,IF(O292=\"P2\",5,IF(O292=\"E2695\",6,\"\")))),FALSE),VLOOKUP(RIGHT(A292,5)&\"-\"&B292,'Data eshop'!A:S,19,FALSE))),\"\")","v":""},{"$f":"IFERROR(IF(A292=\"\",\"\",IF(LEFT(B292,3)=\"uni\",0,VLOOKUP(RIGHT(A292,5)&\"-\"&B292,'Data eshop'!A:S,16,FALSE))),\"\")","v":""},null,"",{"$f":"IF(H292=\"\",\"\",WORKDAY(TODAY()+IF(VLOOKUP(VLOOKUP(RIGHT(A292,5)*1,'Data eshop'!D:N,11,FALSE),DATA!A:B,2,FALSE)=7,14,1),5))","v":""},"","",{"$f":"IF(L291=\"\",\"\",IF(L291=RIGHT(A291,5)&\"x\",LEFT(L291,LEN(L291)-1)&\"y\",IF(L291=RIGHT(A291,5)&\"y\",IFERROR(SMALL('Data eshop'!D:D,COUNTIF('Data eshop'!D:D,\"<\"&(LEFT(L291,LEN(L291)-1)*1))),\"\"),IF(ISERROR(IF(VLOOKUP(M291+1,'Data eshop'!C:D,2,FALSE)='Řádky zakázky'!L291,L291,L291&\"x\")),IF(RIGHT(L291,1)=\"y\",\"\",L291&\"x\"),IF(VLOOKUP(M291+1,'Data eshop'!C:D,2,FALSE)='Řádky zakázky'!L291,L291,L291&\"x\")))))","v":"0xxxxxxxxxxxxxxxxxxxxxxxxxxxxxxxxxxxxxxxxxxxxxxxxxxxxxxxxxxxxxxxxxxxxxxxxxxxxxxxxxxxxxxxxxxxxxxxxxxxxxxxxxxxxxxxxxxxxxxxxxxxxxxxxxxxxxxxxxxxxxxxxxxxxxxxxxxxxxxxxxxxxxxxxxxxxxxxxxxxxxxxxxxxxxxxxxxxxxxxxxxxxxxxxxxxxxxxxxxxxxxxxxxxxxxxxxxxxxxxxxxxxxxxxxxxxxxxxxxxxxxxxxxxxxxxxxxxxxxxxxxxxxxxxxx"},1,{"$f":"IF(A292=\"\",\"\",VLOOKUP(RIGHT(A292,5)*1,'Data eshop'!D:W,17,FALSE))","v":{"$error":"#VALUE!"}},{"$f":"VLOOKUP(A292,Zakázky!A:B,2,FALSE)","v":{"$error":"#N/A"}},"","Roluj nahoru, až uvidíš žlutou"]
["19ESh0",{"$f":"IFERROR(IF(ISNUMBER(L293),VLOOKUP(L293&\"-\"&M293,'Data eshop'!B:W,16,FALSE),IF(RIGHT(L293,1)=\"x\",VLOOKUP(VLOOKUP(RIGHT(A293,5)*1,'Data eshop'!D:N,11,FALSE),DATA!G:I,3,FALSE),IF(RIGHT(L293,1)=\"y\",IF(VLOOKUP(RIGHT(A293,5)*1,'Data eshop'!D:O,12,FALSE)=IF(O293=\"T7\",DATA!$D$2,IF(O293=\"E87\",DATA!$D$5,IF(O293=\"P2\",DATA!$D$6,IF(O293=\"e2695\",DATA!$D$7,\"\")))),IF(N293>=IF(O293=\"T7\",DATA!$K$11,IF(O293=\"E87\",DATA!$L$11,IF(O293=\"P2\",DATA!$M$11,IF(O293=\"e2695\",DATA!$N$11,\"\")))),\"uni008\",\"uni001\"),IF(VLOOKUP(RIGHT(A293,5)*1,'Data eshop'!D:O,12,FALSE)=DATA!$D$3,IF(O293=\"T7\",IF(N293>=500,\"uni009\",\"uni002\"),\"x\"),IF(VLOOKUP(RIGHT(A293,5)*1,'Data eshop'!D:O,12,FALSE)=DATA!$D$4,\"uni010\",\"\"))),\"\"))),\"\")","v":""},{"$f":"IFERROR(IF(A293=\"\",\"\",IF(LEFT(B293,3)=\"uni\",1,VLOOKUP(RIGHT(A293,5)&\"-\"&B293,'Data eshop'!A:R,18,FALSE))),\"\")","v":""},"",{"$f":"IFERROR(IF(A293=\"\",\"\",IF(LEFT(B293,3)=\"uni\",VLOOKUP(B293,DATA!I:X,IF(O293=\"T7\",3,IF(O293=\"E87\",4,IF(O293=\"P2\",5,IF(O293=\"E2695\",6,\"\")))),FALSE),VLOOKUP(RIGHT(A293,5)&\"-\"&B293,'Data eshop'!A:S,19,FALSE))),\"\")","v":""},{"$f":"IFERROR(IF(A293=\"\",\"\",IF(LEFT(B293,3)=\"uni\",0,VLOOKUP(RIGHT(A293,5)&\"-\"&B293,'Data eshop'!A:S,16,FALSE))),\"\")","v":""},null,"",{"$f":"IF(H293=\"\",\"\",WORKDAY(TODAY()+IF(VLOOKUP(VLOOKUP(RIGHT(A293,5)*1,'Data eshop'!D:N,11,FALSE),DATA!A:B,2,FALSE)=7,14,1),5))","v":""},"","",{"$f":"IF(L292=\"\",\"\",IF(L292=RIGHT(A292,5)&\"x\",LEFT(L292,LEN(L292)-1)&\"y\",IF(L292=RIGHT(A292,5)&\"y\",IFERROR(SMALL('Data eshop'!D:D,COUNTIF('Data eshop'!D:D,\"<\"&(LEFT(L292,LEN(L292)-1)*1))),\"\"),IF(ISERROR(IF(VLOOKUP(M292+1,'Data eshop'!C:D,2,FALSE)='Řádky zakázky'!L292,L292,L292&\"x\")),IF(RIGHT(L292,1)=\"y\",\"\",L292&\"x\"),IF(VLOOKUP(M292+1,'Data eshop'!C:D,2,FALSE)='Řádky zakázky'!L292,L292,L292&\"x\")))))","v":"0xxxxxxxxxxxxxxxxxxxxxxxxxxxxxxxxxxxxxxxxxxxxxxxxxxxxxxxxxxxxxxxxxxxxxxxxxxxxxxxxxxxxxxxxxxxxxxxxxxxxxxxxxxxxxxxxxxxxxxxxxxxxxxxxxxxxxxxxxxxxxxxxxxxxxxxxxxxxxxxxxxxxxxxxxxxxxxxxxxxxxxxxxxxxxxxxxxxxxxxxxxxxxxxxxxxxxxxxxxxxxxxxxxxxxxxxxxxxxxxxxxxxxxxxxxxxxxxxxxxxxxxxxxxxxxxxxxxxxxxxxxxxxxxxxxx"},1,{"$f":"IF(A293=\"\",\"\",VLOOKUP(RIGHT(A293,5)*1,'Data eshop'!D:W,17,FALSE))","v":{"$error":"#VALUE!"}},{"$f":"VLOOKUP(A293,Zakázky!A:B,2,FALSE)","v":{"$error":"#N/A"}},""]
["19ESh0",{"$f":"IFERROR(IF(ISNUMBER(L294),VLOOKUP(L294&\"-\"&M294,'Data eshop'!B:W,16,FALSE),IF(RIGHT(L294,1)=\"x\",VLOOKUP(VLOOKUP(RIGHT(A294,5)*1,'Data eshop'!D:N,11,FALSE),DATA!G:I,3,FALSE),IF(RIGHT(L294,1)=\"y\",IF(VLOOKUP(RIGHT(A294,5)*1,'Data eshop'!D:O,12,FALSE)=IF(O294=\"T7\",DATA!$D$2,IF(O294=\"E87\",DATA!$D$5,IF(O294=\"P2\",DATA!$D$6,IF(O294=\"e2695\",DATA!$D$7,\"\")))),IF(N294>=IF(O294=\"T7\",DATA!$K$11,IF(O294=\"E87\",DATA!$L$11,IF(O294=\"P2\",DATA!$M$11,IF(O294=\"e2695\",DATA!$N$11,\"\")))),\"uni008\",\"uni001\"),IF(VLOOKUP(RIGHT(A294,5)*1,'Data eshop'!D:O,12,FALSE)=DATA!$D$3,IF(O294=\"T7\",IF(N294>=500,\"uni009\",\"uni002\"),\"x\"),IF(VLOOKUP(RIGHT(A294,5)*1,'Data eshop'!D:O,12,FALSE)=DATA!$D$4,\"uni010\",\"\"))),\"\"))),\"\")","v":""},{"$f":"IFERROR(IF(A294=\"\",\"\",IF(LEFT(B294,3)=\"uni\",1,VLOOKUP(RIGHT(A294,5)&\"-\"&B294,'Data eshop'!A:R,18,FALSE))),\"\")","v":""},"",{"$f":"IFERROR(IF(A294=\"\",\"\",IF(LEFT(B294,3)=\"uni\",VLOOKUP(B294,DATA!I:X,IF(O294=\"T7\",3,IF(O294=\"E87\",4,IF(O294=\"P2\",5,IF(O294=\"E2695\",6,\"\")))),FALSE),VLOOKUP(RIGHT(A294,5)&\"-\"&B294,'Data eshop'!A:S,19,FALSE))),\"\")","v":""},{"$f":"IFERROR(IF(A294=\"\",\"\",IF(LEFT(B294,3)=\"uni\",0,VLOOKUP(RIGHT(A294,5)&\"-\"&B294,'Data eshop'!A:S,16,FALSE))),\"\")","v":""},null,"",{"$f":"IF(H294=\"\",\"\",WORKDAY(TODAY()+IF(VLOOKUP(VLOOKUP(RIGHT(A294,5)*1,'Data eshop'!D:N,11,FALSE),DATA!A:B,2,FALSE)=7,14,1),5))","v":""},"","",{"$f":"IF(L293=\"\",\"\",IF(L293=RIGHT(A293,5)&\"x\",LEFT(L293,LEN(L293)-1)&\"y\",IF(L293=RIGHT(A293,5)&\"y\",IFERROR(SMALL('Data eshop'!D:D,COUNTIF('Data eshop'!D:D,\"<\"&(LEFT(L293,LEN(L293)-1)*1))),\"\"),IF(ISERROR(IF(VLOOKUP(M293+1,'Data eshop'!C:D,2,FALSE)='Řádky zakázky'!L293,L293,L293&\"x\")),IF(RIGHT(L293,1)=\"y\",\"\",L293&\"x\"),IF(VLOOKUP(M293+1,'Data eshop'!C:D,2,FALSE)='Řádky zakázky'!L293,L293,L293&\"x\")))))","v":"0xxxxxxxxxxxxxxxxxxxxxxxxxxxxxxxxxxxxxxxxxxxxxxxxxxxxxxxxxxxxxxxxxxxxxxxxxxxxxxxxxxxxxxxxxxxxxxxxxxxxxxxxxxxxxxxxxxxxxxxxxxxxxxxxxxxxxxxxxxxxxxxxxxxxxxxxxxxxxxxxxxxxxxxxxxxxxxxxxxxxxxxxxxxxxxxxxxxxxxxxxxxxxxxxxxxxxxxxxxxxxxxxxxxxxxxxxxxxxxxxxxxxxxxxxxxxxxxxxxxxxxxxxxxxxxxxxxxxxxxxxxxxxxxxxxxx"},1,{"$f":"IF(A294=\"\",\"\",VLOOKUP(RIGHT(A294,5)*1,'Data eshop'!D:W,17,FALSE))","v":{"$error":"#VALUE!"}},{"$f":"VLOOKUP(A294,Zakázky!A:B,2,FALSE)","v":{"$error":"#N/A"}},""]
["19ESh0",{"$f":"IFERROR(IF(ISNUMBER(L295),VLOOKUP(L295&\"-\"&M295,'Data eshop'!B:W,16,FALSE),IF(RIGHT(L295,1)=\"x\",VLOOKUP(VLOOKUP(RIGHT(A295,5)*1,'Data eshop'!D:N,11,FALSE),DATA!G:I,3,FALSE),IF(RIGHT(L295,1)=\"y\",IF(VLOOKUP(RIGHT(A295,5)*1,'Data eshop'!D:O,12,FALSE)=IF(O295=\"T7\",DATA!$D$2,IF(O295=\"E87\",DATA!$D$5,IF(O295=\"P2\",DATA!$D$6,IF(O295=\"e2695\",DATA!$D$7,\"\")))),IF(N295>=IF(O295=\"T7\",DATA!$K$11,IF(O295=\"E87\",DATA!$L$11,IF(O295=\"P2\",DATA!$M$11,IF(O295=\"e2695\",DATA!$N$11,\"\")))),\"uni008\",\"uni001\"),IF(VLOOKUP(RIGHT(A295,5)*1,'Data eshop'!D:O,12,FALSE)=DATA!$D$3,IF(O295=\"T7\",IF(N295>=500,\"uni009\",\"uni002\"),\"x\"),IF(VLOOKUP(RIGHT(A295,5)*1,'Data eshop'!D:O,12,FALSE)=DATA!$D$4,\"uni010\",\"\"))),\"\"))),\"\")","v":""},{"$f":"IFERROR(IF(A295=\"\",\"\",IF(LEFT(B295,3)=\"uni\",1,VLOOKUP(RIGHT(A295,5)&\"-\"&B295,'Data eshop'!A:R,18,FALSE))),\"\")","v":""},"",{"$f":"IFERROR(IF(A295=\"\",\"\",IF(LEFT(B295,3)=\"uni\",VLOOKUP(B295,DATA!I:X,IF(O295=\"T7\",3,IF(O295=\"E87\",4,IF(O295=\"P2\",5,IF(O295=\"E2695\",6,\"\")))),FALSE),VLOOKUP(RIGHT(A295,5)&\"-\"&B295,'Data eshop'!A:S,19,FALSE))),\"\")","v":""},{"$f":"IFERROR(IF(A295=\"\",\"\",IF(LEFT(B295,3)=\"uni\",0,VLOOKUP(RIGHT(A295,5)&\"-\"&B295,'Data eshop'!A:S,16,FALSE))),\"\")","v":""},null,"",{"$f":"IF(H295=\"\",\"\",WORKDAY(TODAY()+IF(VLOOKUP(VLOOKUP(RIGHT(A295,5)*1,'Data eshop'!D:N,11,FALSE),DATA!A:B,2,FALSE)=7,14,1),5))","v":""},"","",{"$f":"IF(L294=\"\",\"\",IF(L294=RIGHT(A294,5)&\"x\",LEFT(L294,LEN(L294)-1)&\"y\",IF(L294=RIGHT(A294,5)&\"y\",IFERROR(SMALL('Data eshop'!D:D,COUNTIF('Data eshop'!D:D,\"<\"&(LEFT(L294,LEN(L294)-1)*1))),\"\"),IF(ISERROR(IF(VLOOKUP(M294+1,'Data eshop'!C:D,2,FALSE)='Řádky zakázky'!L294,L294,L294&\"x\")),IF(RIGHT(L294,1)=\"y\",\"\",L294&\"x\"),IF(VLOOKUP(M294+1,'Data eshop'!C:D,2,FALSE)='Řádky zakázky'!L294,L294,L294&\"x\")))))","v":"0xxxxxxxxxxxxxxxxxxxxxxxxxxxxxxxxxxxxxxxxxxxxxxxxxxxxxxxxxxxxxxxxxxxxxxxxxxxxxxxxxxxxxxxxxxxxxxxxxxxxxxxxxxxxxxxxxxxxxxxxxxxxxxxxxxxxxxxxxxxxxxxxxxxxxxxxxxxxxxxxxxxxxxxxxxxxxxxxxxxxxxxxxxxxxxxxxxxxxxxxxxxxxxxxxxxxxxxxxxxxxxxxxxxxxxxxxxxxxxxxxxxxxxxxxxxxxxxxxxxxxxxxxxxxxxxxxxxxxxxxxxxxxxxxxxxxx"},1,{"$f":"IF(A295=\"\",\"\",VLOOKUP(RIGHT(A295,5)*1,'Data eshop'!D:W,17,FALSE))","v":{"$error":"#VALUE!"}},{"$f":"VLOOKUP(A295,Zakázky!A:B,2,FALSE)","v":{"$error":"#N/A"}},""]
["19ESh0",{"$f":"IFERROR(IF(ISNUMBER(L296),VLOOKUP(L296&\"-\"&M296,'Data eshop'!B:W,16,FALSE),IF(RIGHT(L296,1)=\"x\",VLOOKUP(VLOOKUP(RIGHT(A296,5)*1,'Data eshop'!D:N,11,FALSE),DATA!G:I,3,FALSE),IF(RIGHT(L296,1)=\"y\",IF(VLOOKUP(RIGHT(A296,5)*1,'Data eshop'!D:O,12,FALSE)=IF(O296=\"T7\",DATA!$D$2,IF(O296=\"E87\",DATA!$D$5,IF(O296=\"P2\",DATA!$D$6,IF(O296=\"e2695\",DATA!$D$7,\"\")))),IF(N296>=IF(O296=\"T7\",DATA!$K$11,IF(O296=\"E87\",DATA!$L$11,IF(O296=\"P2\",DATA!$M$11,IF(O296=\"e2695\",DATA!$N$11,\"\")))),\"uni008\",\"uni001\"),IF(VLOOKUP(RIGHT(A296,5)*1,'Data eshop'!D:O,12,FALSE)=DATA!$D$3,IF(O296=\"T7\",IF(N296>=500,\"uni009\",\"uni002\"),\"x\"),IF(VLOOKUP(RIGHT(A296,5)*1,'Data eshop'!D:O,12,FALSE)=DATA!$D$4,\"uni010\",\"\"))),\"\"))),\"\")","v":""},{"$f":"IFERROR(IF(A296=\"\",\"\",IF(LEFT(B296,3)=\"uni\",1,VLOOKUP(RIGHT(A296,5)&\"-\"&B296,'Data eshop'!A:R,18,FALSE))),\"\")","v":""},"",{"$f":"IFERROR(IF(A296=\"\",\"\",IF(LEFT(B296,3)=\"uni\",VLOOKUP(B296,DATA!I:X,IF(O296=\"T7\",3,IF(O296=\"E87\",4,IF(O296=\"P2\",5,IF(O296=\"E2695\",6,\"\")))),FALSE),VLOOKUP(RIGHT(A296,5)&\"-\"&B296,'Data eshop'!A:S,19,FALSE))),\"\")","v":""},{"$f":"IFERROR(IF(A296=\"\",\"\",IF(LEFT(B296,3)=\"uni\",0,VLOOKUP(RIGHT(A296,5)&\"-\"&B296,'Data eshop'!A:S,16,FALSE))),\"\")","v":""},null,"",{"$f":"IF(H296=\"\",\"\",WORKDAY(TODAY()+IF(VLOOKUP(VLOOKUP(RIGHT(A296,5)*1,'Data eshop'!D:N,11,FALSE),DATA!A:B,2,FALSE)=7,14,1),5))","v":""},"","",{"$f":"IF(L295=\"\",\"\",IF(L295=RIGHT(A295,5)&\"x\",LEFT(L295,LEN(L295)-1)&\"y\",IF(L295=RIGHT(A295,5)&\"y\",IFERROR(SMALL('Data eshop'!D:D,COUNTIF('Data eshop'!D:D,\"<\"&(LEFT(L295,LEN(L295)-1)*1))),\"\"),IF(ISERROR(IF(VLOOKUP(M295+1,'Data eshop'!C:D,2,FALSE)='Řádky zakázky'!L295,L295,L295&\"x\")),IF(RIGHT(L295,1)=\"y\",\"\",L295&\"x\"),IF(VLOOKUP(M295+1,'Data eshop'!C:D,2,FALSE)='Řádky zakázky'!L295,L295,L295&\"x\")))))","v":"0xxxxxxxxxxxxxxxxxxxxxxxxxxxxxxxxxxxxxxxxxxxxxxxxxxxxxxxxxxxxxxxxxxxxxxxxxxxxxxxxxxxxxxxxxxxxxxxxxxxxxxxxxxxxxxxxxxxxxxxxxxxxxxxxxxxxxxxxxxxxxxxxxxxxxxxxxxxxxxxxxxxxxxxxxxxxxxxxxxxxxxxxxxxxxxxxxxxxxxxxxxxxxxxxxxxxxxxxxxxxxxxxxxxxxxxxxxxxxxxxxxxxxxxxxxxxxxxxxxxxxxxxxxxxxxxxxxxxxxxxxxxxxxxxxxxxxx"},1,{"$f":"IF(A296=\"\",\"\",VLOOKUP(RIGHT(A296,5)*1,'Data eshop'!D:W,17,FALSE))","v":{"$error":"#VALUE!"}},{"$f":"VLOOKUP(A296,Zakázky!A:B,2,FALSE)","v":{"$error":"#N/A"}},"","Roluj nahoru, až uvidíš žlutou"]
["19ESh0",{"$f":"IFERROR(IF(ISNUMBER(L297),VLOOKUP(L297&\"-\"&M297,'Data eshop'!B:W,16,FALSE),IF(RIGHT(L297,1)=\"x\",VLOOKUP(VLOOKUP(RIGHT(A297,5)*1,'Data eshop'!D:N,11,FALSE),DATA!G:I,3,FALSE),IF(RIGHT(L297,1)=\"y\",IF(VLOOKUP(RIGHT(A297,5)*1,'Data eshop'!D:O,12,FALSE)=IF(O297=\"T7\",DATA!$D$2,IF(O297=\"E87\",DATA!$D$5,IF(O297=\"P2\",DATA!$D$6,IF(O297=\"e2695\",DATA!$D$7,\"\")))),IF(N297>=IF(O297=\"T7\",DATA!$K$11,IF(O297=\"E87\",DATA!$L$11,IF(O297=\"P2\",DATA!$M$11,IF(O297=\"e2695\",DATA!$N$11,\"\")))),\"uni008\",\"uni001\"),IF(VLOOKUP(RIGHT(A297,5)*1,'Data eshop'!D:O,12,FALSE)=DATA!$D$3,IF(O297=\"T7\",IF(N297>=500,\"uni009\",\"uni002\"),\"x\"),IF(VLOOKUP(RIGHT(A297,5)*1,'Data eshop'!D:O,12,FALSE)=DATA!$D$4,\"uni010\",\"\"))),\"\"))),\"\")","v":""},{"$f":"IFERROR(IF(A297=\"\",\"\",IF(LEFT(B297,3)=\"uni\",1,VLOOKUP(RIGHT(A297,5)&\"-\"&B297,'Data eshop'!A:R,18,FALSE))),\"\")","v":""},"",{"$f":"IFERROR(IF(A297=\"\",\"\",IF(LEFT(B297,3)=\"uni\",VLOOKUP(B297,DATA!I:X,IF(O297=\"T7\",3,IF(O297=\"E87\",4,IF(O297=\"P2\",5,IF(O297=\"E2695\",6,\"\")))),FALSE),VLOOKUP(RIGHT(A297,5)&\"-\"&B297,'Data eshop'!A:S,19,FALSE))),\"\")","v":""},{"$f":"IFERROR(IF(A297=\"\",\"\",IF(LEFT(B297,3)=\"uni\",0,VLOOKUP(RIGHT(A297,5)&\"-\"&B297,'Data eshop'!A:S,16,FALSE))),\"\")","v":""},null,"",{"$f":"IF(H297=\"\",\"\",WORKDAY(TODAY()+IF(VLOOKUP(VLOOKUP(RIGHT(A297,5)*1,'Data eshop'!D:N,11,FALSE),DATA!A:B,2,FALSE)=7,14,1),5))","v":""},"","",{"$f":"IF(L296=\"\",\"\",IF(L296=RIGHT(A296,5)&\"x\",LEFT(L296,LEN(L296)-1)&\"y\",IF(L296=RIGHT(A296,5)&\"y\",IFERROR(SMALL('Data eshop'!D:D,COUNTIF('Data eshop'!D:D,\"<\"&(LEFT(L296,LEN(L296)-1)*1))),\"\"),IF(ISERROR(IF(VLOOKUP(M296+1,'Data eshop'!C:D,2,FALSE)='Řádky zakázky'!L296,L296,L296&\"x\")),IF(RIGHT(L296,1)=\"y\",\"\",L296&\"x\"),IF(VLOOKUP(M296+1,'Data eshop'!C:D,2,FALSE)='Řádky zakázky'!L296,L296,L296&\"x\")))))","v":"0xxxxxxxxxxxxxxxxxxxxxxxxxxxxxxxxxxxxxxxxxxxxxxxxxxxxxxxxxxxxxxxxxxxxxxxxxxxxxxxxxxxxxxxxxxxxxxxxxxxxxxxxxxxxxxxxxxxxxxxxxxxxxxxxxxxxxxxxxxxxxxxxxxxxxxxxxxxxxxxxxxxxxxxxxxxxxxxxxxxxxxxxxxxxxxxxxxxxxxxxxxxxxxxxxxxxxxxxxxxxxxxxxxxxxxxxxxxxxxxxxxxxxxxxxxxxxxxxxxxxxxxxxxxxxxxxxxxxxxxxxxxxxxxxxxxxxxx"},1,{"$f":"IF(A297=\"\",\"\",VLOOKUP(RIGHT(A297,5)*1,'Data eshop'!D:W,17,FALSE))","v":{"$error":"#VALUE!"}},{"$f":"VLOOKUP(A297,Zakázky!A:B,2,FALSE)","v":{"$error":"#N/A"}},""]
["19ESh0",{"$f":"IFERROR(IF(ISNUMBER(L298),VLOOKUP(L298&\"-\"&M298,'Data eshop'!B:W,16,FALSE),IF(RIGHT(L298,1)=\"x\",VLOOKUP(VLOOKUP(RIGHT(A298,5)*1,'Data eshop'!D:N,11,FALSE),DATA!G:I,3,FALSE),IF(RIGHT(L298,1)=\"y\",IF(VLOOKUP(RIGHT(A298,5)*1,'Data eshop'!D:O,12,FALSE)=IF(O298=\"T7\",DATA!$D$2,IF(O298=\"E87\",DATA!$D$5,IF(O298=\"P2\",DATA!$D$6,IF(O298=\"e2695\",DATA!$D$7,\"\")))),IF(N298>=IF(O298=\"T7\",DATA!$K$11,IF(O298=\"E87\",DATA!$L$11,IF(O298=\"P2\",DATA!$M$11,IF(O298=\"e2695\",DATA!$N$11,\"\")))),\"uni008\",\"uni001\"),IF(VLOOKUP(RIGHT(A298,5)*1,'Data eshop'!D:O,12,FALSE)=DATA!$D$3,IF(O298=\"T7\",IF(N298>=500,\"uni009\",\"uni002\"),\"x\"),IF(VLOOKUP(RIGHT(A298,5)*1,'Data eshop'!D:O,12,FALSE)=DATA!$D$4,\"uni010\",\"\"))),\"\"))),\"\")","v":""},{"$f":"IFERROR(IF(A298=\"\",\"\",IF(LEFT(B298,3)=\"uni\",1,VLOOKUP(RIGHT(A298,5)&\"-\"&B298,'Data eshop'!A:R,18,FALSE))),\"\")","v":""},"",{"$f":"IFERROR(IF(A298=\"\",\"\",IF(LEFT(B298,3)=\"uni\",VLOOKUP(B298,DATA!I:X,IF(O298=\"T7\",3,IF(O298=\"E87\",4,IF(O298=\"P2\",5,IF(O298=\"E2695\",6,\"\")))),FALSE),VLOOKUP(RIGHT(A298,5)&\"-\"&B298,'Data eshop'!A:S,19,FALSE))),\"\")","v":""},{"$f":"IFERROR(IF(A298=\"\",\"\",IF(LEFT(B298,3)=\"uni\",0,VLOOKUP(RIGHT(A298,5)&\"-\"&B298,'Data eshop'!A:S,16,FALSE))),\"\")","v":""},null,"",{"$f":"IF(H298=\"\",\"\",WORKDAY(TODAY()+IF(VLOOKUP(VLOOKUP(RIGHT(A298,5)*1,'Data eshop'!D:N,11,FALSE),DATA!A:B,2,FALSE)=7,14,1),5))","v":""},"","",{"$f":"IF(L297=\"\",\"\",IF(L297=RIGHT(A297,5)&\"x\",LEFT(L297,LEN(L297)-1)&\"y\",IF(L297=RIGHT(A297,5)&\"y\",IFERROR(SMALL('Data eshop'!D:D,COUNTIF('Data eshop'!D:D,\"<\"&(LEFT(L297,LEN(L297)-1)*1))),\"\"),IF(ISERROR(IF(VLOOKUP(M297+1,'Data eshop'!C:D,2,FALSE)='Řádky zakázky'!L297,L297,L297&\"x\")),IF(RIGHT(L297,1)=\"y\",\"\",L297&\"x\"),IF(VLOOKUP(M297+1,'Data eshop'!C:D,2,FALSE)='Řádky zakázky'!L297,L297,L297&\"x\")))))","v":"0xxxxxxxxxxxxxxxxxxxxxxxxxxxxxxxxxxxxxxxxxxxxxxxxxxxxxxxxxxxxxxxxxxxxxxxxxxxxxxxxxxxxxxxxxxxxxxxxxxxxxxxxxxxxxxxxxxxxxxxxxxxxxxxxxxxxxxxxxxxxxxxxxxxxxxxxxxxxxxxxxxxxxxxxxxxxxxxxxxxxxxxxxxxxxxxxxxxxxxxxxxxxxxxxxxxxxxxxxxxxxxxxxxxxxxxxxxxxxxxxxxxxxxxxxxxxxxxxxxxxxxxxxxxxxxxxxxxxxxxxxxxxxxxxxxxxxxxx"},1,{"$f":"IF(A298=\"\",\"\",VLOOKUP(RIGHT(A298,5)*1,'Data eshop'!D:W,17,FALSE))","v":{"$error":"#VALUE!"}},{"$f":"VLOOKUP(A298,Zakázky!A:B,2,FALSE)","v":{"$error":"#N/A"}},""]

{"sheet":"DPD","index":4,"n_rows":294,"n_cols":18,"rows_kept":294,"cut":false,"hidden":false,"merged":[]}
["Objednávka","Produkt","Adress info","Název příjemce","Adresa příjemce","Město příjemce","Poštovní směrovací číslo","Země","Telefon na štítku","Telefon pro avizaci","E-mail pro avizaci","Dobírka částka","Dobírka měna","Dobírka typ platby, 0= hotově, 2=platební kartou","Dobírka VS (pouze číslice)","Řádek","DPD"]
[{"$f":"IFERROR(VLOOKUP(P2,Zakázky!P:Q,2,FALSE),\"\")","v":""},{"$f":"IF(A2=\"\",\"\",40054 )","v":""},{"$f":"IF(A2=\"\",\"\",IF(VLOOKUP(MID(A2,6,99)*1,'Data eshop'!D:T,2,FALSE)=0,\"\",VLOOKUP(MID(A2,6,99)*1,'Data eshop'!D:T,2,FALSE)))","v":""},{"$f":"IF(A2=\"\",\"\",IF(VLOOKUP(MID(A2,6,99)*1,'Data eshop'!D:T,3,FALSE)=0,IF(VLOOKUP(MID(A2,6,99)*1,'Data eshop'!D:T,4,FALSE)=0,\"\",VLOOKUP(MID(A2,6,99)*1,'Data eshop'!D:T,4,FALSE)),VLOOKUP(MID(A2,6,99)*1,'Data eshop'!D:T,3,FALSE))&IF(VLOOKUP(MID(A2,6,99)*1,'Data eshop'!D:T,4,FALSE)=0,\"\",\" \"&VLOOKUP(MID(A2,6,99)*1,'Data eshop'!D:T,4,FALSE)))","v":""},{"$f":"IF(A2=\"\",\"\",IF(VLOOKUP(MID(A2,6,99)*1,'Data eshop'!D:T,5,FALSE)=0,\"\",VLOOKUP(MID(A2,6,99)*1,'Data eshop'!D:T,5,FALSE)))","v":""},{"$f":"IF(A2=\"\",\"\",IF(VLOOKUP(MID(A2,6,99)*1,'Data eshop'!D:T,6,FALSE)=0,\"\",VLOOKUP(MID(A2,6,99)*1,'Data eshop'!D:T,6,FALSE)))","v":""},{"$f":"IF(A2=\"\",\"\",IF(VLOOKUP(MID(A2,6,99)*1,'Data eshop'!D:T,7,FALSE)=0,\"\",VLOOKUP(MID(A2,6,99)*1,'Data eshop'!D:T,7,FALSE)))","v":""},{"$f":"IF(A2=\"\",\"\",IF(VLOOKUP(MID(A2,6,99)*1,'Data eshop'!D:T,10,FALSE)=0,\"\",VLOOKUP(VLOOKUP(MID(A2,6,99)*1,'Data eshop'!D:T,10,FALSE),DATA!O:P,2,FALSE)))","v":""},{"$f":"IF(J2=\"\",\"\",J2)","v":""},{"$f":"IF(A2=\"\",\"\",IF(VLOOKUP(MID(A2,6,99)*1,'Data eshop'!D:W,18,FALSE)=0,\"\",VLOOKUP(MID(A2,6,99)*1,'Data eshop'!D:W,18,FALSE)))","v":""},{"$f":"IF(A2=\"\",\"\",IF(VLOOKUP(MID(A2,6,99)*1,'Data eshop'!D:W,19,FALSE)=0,\"\",VLOOKUP(MID(A2,6,99)*1,'Data eshop'!D:W,19,FALSE)))","v":""},{"$f":"IF(A2=\"\",\"\",IF(VLOOKUP(MID(A2,6,99)*1,'Data eshop'!D:T,11,FALSE)=0,\"\",IF(OR(VLOOKUP(MID(A2,6,99)*1,'Data eshop'!D:T,11,FALSE)=\"Na dobírku\",VLOOKUP(MID(A2,6,99)*1,'Data eshop'!D:T,11,FALSE)=\"Na dobierku\",VLOOKUP(MID(A2,6,99)*1,'Data eshop'!D:T,11,FALSE)=\"Za pobraniem\"),VLOOKUP(MID(A2,6,99)*1,'Data eshop'!D:W,20,FALSE),\"\")))","v":""},{"$f":"IF(L2=\"\",\"\",IF(VLOOKUP(MID(A2,6,99)*1,'Data eshop'!D:T,10,FALSE)=0,\"\",IF(VLOOKUP(MID(A2,6,99)*1,'Data eshop'!D:T,10,FALSE)=\"Česká republika\",\"CZK\",IF(VLOOKUP(MID(A2,6,99)*1,'Data eshop'!D:T,10,FALSE)=\"Poland\",\"PLN\",IF(VLOOKUP(MID(A2,6,99)*1,'Data eshop'!D:T,10,FALSE)=\"Slovakia\",\"EUR\",\"\")))))","v":""},{"$f":"IF(L2=\"\",\"\",0)","v":""},null,1,null,"Roluj nahoru, až uvidíš žlutou"]
[{"$f":"IFERROR(VLOOKUP(P3,Zakázky!P:Q,2,FALSE),\"\")","v":""},{"$f":"IF(A3=\"\",\"\",40054 )","v":""},{"$f":"IF(A3=\"\",\"\",IF(VLOOKUP(MID(A3,6,99)*1,'Data eshop'!D:T,2,FALSE)=0,\"\",VLOOKUP(MID(A3,6,99)*1,'Data eshop'!D:T,2,FALSE)))","v":""},{"$f":"IF(A3=\"\",\"\",IF(VLOOKUP(MID(A3,6,99)*1,'Data eshop'!D:T,3,FALSE)=0,IF(VLOOKUP(MID(A3,6,99)*1,'Data eshop'!D:T,4,FALSE)=0,\"\",VLOOKUP(MID(A3,6,99)*1,'Data eshop'!D:T,4,FALSE)),VLOOKUP(MID(A3,6,99)*1,'Data eshop'!D:T,3,FALSE))&IF(VLOOKUP(MID(A3,6,99)*1,'Data eshop'!D:T,4,FALSE)=0,\"\",\" \"&VLOOKUP(MID(A3,6,99)*1,'Data eshop'!D:T,4,FALSE)))","v":""},{"$f":"IF(A3=\"\",\"\",IF(VLOOKUP(MID(A3,6,99)*1,'Data eshop'!D:T,5,FALSE)=0,\"\",VLOOKUP(MID(A3,6,99)*1,'Data eshop'!D:T,5,FALSE)))","v":""},{"$f":"IF(A3=\"\",\"\",IF(VLOOKUP(MID(A3,6,99)*1,'Data eshop'!D:T,6,FALSE)=0,\"\",VLOOKUP(MID(A3,6,99)*1,'Data eshop'!D:T,6,FALSE)))","v":""},{"$f":"IF(A3=\"\",\"\",IF(VLOOKUP(MID(A3,6,99)*1,'Data eshop'!D:T,7,FALSE)=0,\"\",VLOOKUP(MID(A3,6,99)*1,'Data eshop'!D:T,7,FALSE)))","v":""},{"$f":"IF(A3=\"\",\"\",IF(VLOOKUP(MID(A3,6,99)*1,'Data eshop'!D:T,10,FALSE)=0,\"\",VLOOKUP(VLOOKUP(MID(A3,6,99)*1,'Data eshop'!D:T,10,FALSE),DATA!O:P,2,FALSE)))","v":""},{"$f":"IF(J3=\"\",\"\",J3)","v":""},{"$f":"IF(A3=\"\",\"\",IF(VLOOKUP(MID(A3,6,99)*1,'Data eshop'!D:W,18,FALSE)=0,\"\",VLOOKUP(MID(A3,6,99)*1,'Data eshop'!D:W,18,FALSE)))","v":""},{"$f":"IF(A3=\"\",\"\",IF(VLOOKUP(MID(A3,6,99)*1,'Data eshop'!D:W,19,FALSE)=0,\"\",VLOOKUP(MID(A3,6,99)*1,'Data eshop'!D:W,19,FALSE)))","v":""},{"$f":"IF(A3=\"\",\"\",IF(VLOOKUP(MID(A3,6,99)*1,'Data eshop'!D:T,11,FALSE)=0,\"\",IF(OR(VLOOKUP(MID(A3,6,99)*1,'Data eshop'!D:T,11,FALSE)=\"Na dobírku\",VLOOKUP(MID(A3,6,99)*1,'Data eshop'!D:T,11,FALSE)=\"Na dobierku\",VLOOKUP(MID(A3,6,99)*1,'Data eshop'!D:T,11,FALSE)=\"Za pobraniem\"),VLOOKUP(MID(A3,6,99)*1,'Data eshop'!D:W,20,FALSE),\"\")))","v":""},{"$f":"IF(L3=\"\",\"\",IF(VLOOKUP(MID(A3,6,99)*1,'Data eshop'!D:T,10,FALSE)=0,\"\",IF(VLOOKUP(MID(A3,6,99)*1,'Data eshop'!D:T,10,FALSE)=\"Česká republika\",\"CZK\",IF(VLOOKUP(MID(A3,6,99)*1,'Data eshop'!D:T,10,FALSE)=\"Poland\",\"PLN\",IF(VLOOKUP(MID(A3,6,99)*1,'Data eshop'!D:T,10,FALSE)=\"Slovakia\",\"EUR\",\"\")))))","v":""},{"$f":"IF(L3=\"\",\"\",0)","v":""},null,2]
[{"$f":"IFERROR(VLOOKUP(P4,Zakázky!P:Q,2,FALSE),\"\")","v":""},"",{"$f":"IF(A4=\"\",\"\",IF(VLOOKUP(MID(A4,6,99)*1,'Data eshop'!D:T,2,FALSE)=0,\"\",VLOOKUP(MID(A4,6,99)*1,'Data eshop'!D:T,2,FALSE)))","v":""},{"$f":"IF(A4=\"\",\"\",IF(VLOOKUP(MID(A4,6,99)*1,'Data eshop'!D:T,3,FALSE)=0,IF(VLOOKUP(MID(A4,6,99)*1,'Data eshop'!D:T,4,FALSE)=0,\"\",VLOOKUP(MID(A4,6,99)*1,'Data eshop'!D:T,4,FALSE)),VLOOKUP(MID(A4,6,99)*1,'Data eshop'!D:T,3,FALSE))&IF(VLOOKUP(MID(A4,6,99)*1,'Data eshop'!D:T,4,FALSE)=0,\"\",\" \"&VLOOKUP(MID(A4,6,99)*1,'Data eshop'!D:T,4,FALSE)))","v":""},{"$f":"IF(A4=\"\",\"\",IF(VLOOKUP(MID(A4,6,99)*1,'Data eshop'!D:T,5,FALSE)=0,\"\",VLOOKUP(MID(A4,6,99)*1,'Data eshop'!D:T,5,FALSE)))","v":""},{"$f":"IF(A4=\"\",\"\",IF(VLOOKUP(MID(A4,6,99)*1,'Data eshop'!D:T,6,FALSE)=0,\"\",VLOOKUP(MID(A4,6,99)*1,'Data eshop'!D:T,6,FALSE)))","v":""},{"$f":"IF(A4=\"\",\"\",IF(VLOOKUP(MID(A4,6,99)*1,'Data eshop'!D:T,7,FALSE)=0,\"\",VLOOKUP(MID(A4,6,99)*1,'Data eshop'!D:T,7,FALSE)))","v":""},{"$f":"IF(A4=\"\",\"\",IF(VLOOKUP(MID(A4,6,99)*1,'Data eshop'!D:T,10,FALSE)=0,\"\",VLOOKUP(VLOOKUP(MID(A4,6,99)*1,'Data eshop'!D:T,10,FALSE),DATA!O:P,2,FALSE)))","v":""},"",{"$f":"IF(A4=\"\",\"\",IF(VLOOKUP(MID(A4,6,99)*1,'Data eshop'!D:W,18,FALSE)=0,\"\",VLOOKUP(MID(A4,6,99)*1,'Data eshop'!D:W,18,FALSE)))","v":""},{"$f":"IF(A4=\"\",\"\",IF(VLOOKUP(MID(A4,6,99)*1,'Data eshop'!D:W,19,FALSE)=0,\"\",VLOOKUP(MID(A4,6,99)*1,'Data eshop'!D:W,19,FALSE)))","v":""},{"$f":"IF(A4=\"\",\"\",IF(VLOOKUP(MID(A4,6,99)*1,'Data eshop'!D:T,11,FALSE)=0,\"\",IF(OR(VLOOKUP(MID(A4,6,99)*1,'Data eshop'!D:T,11,FALSE)=\"Na dobírku\",VLOOKUP(MID(A4,6,99)*1,'Data eshop'!D:T,11,FALSE)=\"Na dobierku\",VLOOKUP(MID(A4,6,99)*1,'Data eshop'!D:T,11,FALSE)=\"Za pobraniem\"),VLOOKUP(MID(A4,6,99)*1,'Data eshop'!D:W,20,FALSE),\"\")))","v":""},{"$f":"IF(L4=\"\",\"\",IF(VLOOKUP(MID(A4,6,99)*1,'Data eshop'!D:T,10,FALSE)=0,\"\",IF(VLOOKUP(MID(A4,6,99)*1,'Data eshop'!D:T,10,FALSE)=\"Česká republika\",\"CZK\",IF(VLOOKUP(MID(A4,6,99)*1,'Data eshop'!D:T,10,FALSE)=\"Poland\",\"PLN\",IF(VLOOKUP(MID(A4,6,99)*1,'Data eshop'!D:T,10,FALSE)=\"Slovakia\",\"EUR\",\"\")))))","v":""},"",null,3]
[{"$f":"IFERROR(VLOOKUP(P5,Zakázky!P:Q,2,FALSE),\"\")","v":""},"",{"$f":"IF(A5=\"\",\"\",IF(VLOOKUP(MID(A5,6,99)*1,'Data eshop'!D:T,2,FALSE)=0,\"\",VLOOKUP(MID(A5,6,99)*1,'Data eshop'!D:T,2,FALSE)))","v":""},{"$f":"IF(A5=\"\",\"\",IF(VLOOKUP(MID(A5,6,99)*1,'Data eshop'!D:T,3,FALSE)=0,IF(VLOOKUP(MID(A5,6,99)*1,'Data eshop'!D:T,4,FALSE)=0,\"\",VLOOKUP(MID(A5,6,99)*1,'Data eshop'!D:T,4,FALSE)),VLOOKUP(MID(A5,6,99)*1,'Data eshop'!D:T,3,FALSE))&IF(VLOOKUP(MID(A5,6,99)*1,'Data eshop'!D:T,4,FALSE)=0,\"\",\" \"&VLOOKUP(MID(A5,6,99)*1,'Data eshop'!D:T,4,FALSE)))","v":""},{"$f":"IF(A5=\"\",\"\",IF(VLOOKUP(MID(A5,6,99)*1,'Data eshop'!D:T,5,FALSE)=0,\"\",VLOOKUP(MID(A5,6,99)*1,'Data eshop'!D:T,5,FALSE)))","v":""},{"$f":"IF(A5=\"\",\"\",IF(VLOOKUP(MID(A5,6,99)*1,'Data eshop'!D:T,6,FALSE)=0,\"\",VLOOKUP(MID(A5,6,99)*1,'Data eshop'!D:T,6,FALSE)))","v":""},{"$f":"IF(A5=\"\",\"\",IF(VLOOKUP(MID(A5,6,99)*1,'Data eshop'!D:T,7,FALSE)=0,\"\",VLOOKUP(MID(A5,6,99)*1,'Data eshop'!D:T,7,FALSE)))","v":""},{"$f":"IF(A5=\"\",\"\",IF(VLOOKUP(MID(A5,6,99)*1,'Data eshop'!D:T,10,FALSE)=0,\"\",VLOOKUP(VLOOKUP(MID(A5,6,99)*1,'Data eshop'!D:T,10,FALSE),DATA!O:P,2,FALSE)))","v":""},"",{"$f":"IF(A5=\"\",\"\",IF(VLOOKUP(MID(A5,6,99)*1,'Data eshop'!D:W,18,FALSE)=0,\"\",VLOOKUP(MID(A5,6,99)*1,'Data eshop'!D:W,18,FALSE)))","v":""},{"$f":"IF(A5=\"\",\"\",IF(VLOOKUP(MID(A5,6,99)*1,'Data eshop'!D:W,19,FALSE)=0,\"\",VLOOKUP(MID(A5,6,99)*1,'Data eshop'!D:W,19,FALSE)))","v":""},{"$f":"IF(A5=\"\",\"\",IF(VLOOKUP(MID(A5,6,99)*1,'Data eshop'!D:T,11,FALSE)=0,\"\",IF(OR(VLOOKUP(MID(A5,6,99)*1,'Data eshop'!D:T,11,FALSE)=\"Na dobírku\",VLOOKUP(MID(A5,6,99)*1,'Data eshop'!D:T,11,FALSE)=\"Na dobierku\",VLOOKUP(MID(A5,6,99)*1,'Data eshop'!D:T,11,FALSE)=\"Za pobraniem\"),VLOOKUP(MID(A5,6,99)*1,'Data eshop'!D:W,20,FALSE),\"\")))","v":""},{"$f":"IF(L5=\"\",\"\",IF(VLOOKUP(MID(A5,6,99)*1,'Data eshop'!D:T,10,FALSE)=0,\"\",IF(VLOOKUP(MID(A5,6,99)*1,'Data eshop'!D:T,10,FALSE)=\"Česká republika\",\"CZK\",IF(VLOOKUP(MID(A5,6,99)*1,'Data eshop'!D:T,10,FALSE)=\"Poland\",\"PLN\",IF(VLOOKUP(MID(A5,6,99)*1,'Data eshop'!D:T,10,FALSE)=\"Slovakia\",\"EUR\",\"\")))))","v":""},"",null,4]
[{"$f":"IFERROR(VLOOKUP(P6,Zakázky!P:Q,2,FALSE),\"\")","v":""},"",{"$f":"IF(A6=\"\",\"\",IF(VLOOKUP(MID(A6,6,99)*1,'Data eshop'!D:T,2,FALSE)=0,\"\",VLOOKUP(MID(A6,6,99)*1,'Data eshop'!D:T,2,FALSE)))","v":""},{"$f":"IF(A6=\"\",\"\",IF(VLOOKUP(MID(A6,6,99)*1,'Data eshop'!D:T,3,FALSE)=0,IF(VLOOKUP(MID(A6,6,99)*1,'Data eshop'!D:T,4,FALSE)=0,\"\",VLOOKUP(MID(A6,6,99)*1,'Data eshop'!D:T,4,FALSE)),VLOOKUP(MID(A6,6,99)*1,'Data eshop'!D:T,3,FALSE))&IF(VLOOKUP(MID(A6,6,99)*1,'Data eshop'!D:T,4,FALSE)=0,\"\",\" \"&VLOOKUP(MID(A6,6,99)*1,'Data eshop'!D:T,4,FALSE)))","v":""},{"$f":"IF(A6=\"\",\"\",IF(VLOOKUP(MID(A6,6,99)*1,'Data eshop'!D:T,5,FALSE)=0,\"\",VLOOKUP(MID(A6,6,99)*1,'Data eshop'!D:T,5,FALSE)))","v":""},{"$f":"IF(A6=\"\",\"\",IF(VLOOKUP(MID(A6,6,99)*1,'Data eshop'!D:T,6,FALSE)=0,\"\",VLOOKUP(MID(A6,6,99)*1,'Data eshop'!D:T,6,FALSE)))","v":""},{"$f":"IF(A6=\"\",\"\",IF(VLOOKUP(MID(A6,6,99)*1,'Data eshop'!D:T,7,FALSE)=0,\"\",VLOOKUP(MID(A6,6,99)*1,'Data eshop'!D:T,7,FALSE)))","v":""},{"$f":"IF(A6=\"\",\"\",IF(VLOOKUP(MID(A6,6,99)*1,'Data eshop'!D:T,10,FALSE)=0,\"\",VLOOKUP(VLOOKUP(MID(A6,6,99)*1,'Data eshop'!D:T,10,FALSE),DATA!O:P,2,FALSE)))","v":""},"",{"$f":"IF(A6=\"\",\"\",IF(VLOOKUP(MID(A6,6,99)*1,'Data eshop'!D:W,18,FALSE)=0,\"\",VLOOKUP(MID(A6,6,99)*1,'Data eshop'!D:W,18,FALSE)))","v":""},{"$f":"IF(A6=\"\",\"\",IF(VLOOKUP(MID(A6,6,99)*1,'Data eshop'!D:W,19,FALSE)=0,\"\",VLOOKUP(MID(A6,6,99)*1,'Data eshop'!D:W,19,FALSE)))","v":""},{"$f":"IF(A6=\"\",\"\",IF(VLOOKUP(MID(A6,6,99)*1,'Data eshop'!D:T,11,FALSE)=0,\"\",IF(OR(VLOOKUP(MID(A6,6,99)*1,'Data eshop'!D:T,11,FALSE)=\"Na dobírku\",VLOOKUP(MID(A6,6,99)*1,'Data eshop'!D:T,11,FALSE)=\"Na dobierku\",VLOOKUP(MID(A6,6,99)*1,'Data eshop'!D:T,11,FALSE)=\"Za pobraniem\"),VLOOKUP(MID(A6,6,99)*1,'Data eshop'!D:W,20,FALSE),\"\")))","v":""},{"$f":"IF(L6=\"\",\"\",IF(VLOOKUP(MID(A6,6,99)*1,'Data eshop'!D:T,10,FALSE)=0,\"\",IF(VLOOKUP(MID(A6,6,99)*1,'Data eshop'!D:T,10,FALSE)=\"Česká republika\",\"CZK\",IF(VLOOKUP(MID(A6,6,99)*1,'Data eshop'!D:T,10,FALSE)=\"Poland\",\"PLN\",IF(VLOOKUP(MID(A6,6,99)*1,'Data eshop'!D:T,10,FALSE)=\"Slovakia\",\"EUR\",\"\")))))","v":""},"",null,5,null,"Roluj nahoru, až uvidíš žlutou"]
[{"$f":"IFERROR(VLOOKUP(P7,Zakázky!P:Q,2,FALSE),\"\")","v":""},"",{"$f":"IF(A7=\"\",\"\",IF(VLOOKUP(MID(A7,6,99)*1,'Data eshop'!D:T,2,FALSE)=0,\"\",VLOOKUP(MID(A7,6,99)*1,'Data eshop'!D:T,2,FALSE)))","v":""},{"$f":"IF(A7=\"\",\"\",IF(VLOOKUP(MID(A7,6,99)*1,'Data eshop'!D:T,3,FALSE)=0,IF(VLOOKUP(MID(A7,6,99)*1,'Data eshop'!D:T,4,FALSE)=0,\"\",VLOOKUP(MID(A7,6,99)*1,'Data eshop'!D:T,4,FALSE)),VLOOKUP(MID(A7,6,99)*1,'Data eshop'!D:T,3,FALSE))&IF(VLOOKUP(MID(A7,6,99)*1,'Data eshop'!D:T,4,FALSE)=0,\"\",\" \"&VLOOKUP(MID(A7,6,99)*1,'Data eshop'!D:T,4,FALSE)))","v":""},{"$f":"IF(A7=\"\",\"\",IF(VLOOKUP(MID(A7,6,99)*1,'Data eshop'!D:T,5,FALSE)=0,\"\",VLOOKUP(MID(A7,6,99)*1,'Data eshop'!D:T,5,FALSE)))","v":""},{"$f":"IF(A7=\"\",\"\",IF(VLOOKUP(MID(A7,6,99)*1,'Data eshop'!D:T,6,FALSE)=0,\"\",VLOOKUP(MID(A7,6,99)*1,'Data eshop'!D:T,6,FALSE)))","v":""},{"$f":"IF(A7=\"\",\"\",IF(VLOOKUP(MID(A7,6,99)*1,'Data eshop'!D:T,7,FALSE)=0,\"\",VLOOKUP(MID(A7,6,99)*1,'Data eshop'!D:T,7,FALSE)))","v":""},{"$f":"IF(A7=\"\",\"\",IF(VLOOKUP(MID(A7,6,99)*1,'Data eshop'!D:T,10,FALSE)=0,\"\",VLOOKUP(VLOOKUP(MID(A7,6,99)*1,'Data eshop'!D:T,10,FALSE),DATA!O:P,2,FALSE)))","v":""},"",{"$f":"IF(A7=\"\",\"\",IF(VLOOKUP(MID(A7,6,99)*1,'Data eshop'!D:W,18,FALSE)=0,\"\",VLOOKUP(MID(A7,6,99)*1,'Data eshop'!D:W,18,FALSE)))","v":""},{"$f":"IF(A7=\"\",\"\",IF(VLOOKUP(MID(A7,6,99)*1,'Data eshop'!D:W,19,FALSE)=0,\"\",VLOOKUP(MID(A7,6,99)*1,'Data eshop'!D:W,19,FALSE)))","v":""},{"$f":"IF(A7=\"\",\"\",IF(VLOOKUP(MID(A7,6,99)*1,'Data eshop'!D:T,11,FALSE)=0,\"\",IF(OR(VLOOKUP(MID(A7,6,99)*1,'Data eshop'!D:T,11,FALSE)=\"Na dobírku\",VLOOKUP(MID(A7,6,99)*1,'Data eshop'!D:T,11,FALSE)=\"Na dobierku\",VLOOKUP(MID(A7,6,99)*1,'Data eshop'!D:T,11,FALSE)=\"Za pobraniem\"),VLOOKUP(MID(A7,6,99)*1,'Data eshop'!D:W,20,FALSE),\"\")))","v":""},{"$f":"IF(L7=\"\",\"\",IF(VLOOKUP(MID(A7,6,99)*1,'Data eshop'!D:T,10,FALSE)=0,\"\",IF(VLOOKUP(MID(A7,6,99)*1,'Data eshop'!D:T,10,FALSE)=\"Česká republika\",\"CZK\",IF(VLOOKUP(MID(A7,6,99)*1,'Data eshop'!D:T,10,FALSE)=\"Poland\",\"PLN\",IF(VLOOKUP(MID(A7,6,99)*1,'Data eshop'!D:T,10,FALSE)=\"Slovakia\",\"EUR\",\"\")))))","v":""},"",null,6]
[{"$f":"IFERROR(VLOOKUP(P8,Zakázky!P:Q,2,FALSE),\"\")","v":""},"",{"$f":"IF(A8=\"\",\"\",IF(VLOOKUP(MID(A8,6,99)*1,'Data eshop'!D:T,2,FALSE)=0,\"\",VLOOKUP(MID(A8,6,99)*1,'Data eshop'!D:T,2,FALSE)))","v":""},{"$f":"IF(A8=\"\",\"\",IF(VLOOKUP(MID(A8,6,99)*1,'Data eshop'!D:T,3,FALSE)=0,IF(VLOOKUP(MID(A8,6,99)*1,'Data eshop'!D:T,4,FALSE)=0,\"\",VLOOKUP(MID(A8,6,99)*1,'Data eshop'!D:T,4,FALSE)),VLOOKUP(MID(A8,6,99)*1,'Data eshop'!D:T,3,FALSE))&IF(VLOOKUP(MID(A8,6,99)*1,'Data eshop'!D:T,4,FALSE)=0,\"\",\" \"&VLOOKUP(MID(A8,6,99)*1,'Data eshop'!D:T,4,FALSE)))","v":""},{"$f":"IF(A8=\"\",\"\",IF(VLOOKUP(MID(A8,6,99)*1,'Data eshop'!D:T,5,FALSE)=0,\"\",VLOOKUP(MID(A8,6,99)*1,'Data eshop'!D:T,5,FALSE)))","v":""},{"$f":"IF(A8=\"\",\"\",IF(VLOOKUP(MID(A8,6,99)*1,'Data eshop'!D:T,6,FALSE)=0,\"\",VLOOKUP(MID(A8,6,99)*1,'Data eshop'!D:T,6,FALSE)))","v":""},{"$f":"IF(A8=\"\",\"\",IF(VLOOKUP(MID(A8,6,99)*1,'Data eshop'!D:T,7,FALSE)=0,\"\",VLOOKUP(MID(A8,6,99)*1,'Data eshop'!D:T,7,FALSE)))","v":""},{"$f":"IF(A8=\"\",\"\",IF(VLOOKUP(MID(A8,6,99)*1,'Data eshop'!D:T,10,FALSE)=0,\"\",VLOOKUP(VLOOKUP(MID(A8,6,99)*1,'Data eshop'!D:T,10,FALSE),DATA!O:P,2,FALSE)))","v":""},"",{"$f":"IF(A8=\"\",\"\",IF(VLOOKUP(MID(A8,6,99)*1,'Data eshop'!D:W,18,FALSE)=0,\"\",VLOOKUP(MID(A8,6,99)*1,'Data eshop'!D:W,18,FALSE)))","v":""},{"$f":"IF(A8=\"\",\"\",IF(VLOOKUP(MID(A8,6,99)*1,'Data eshop'!D:W,19,FALSE)=0,\"\",VLOOKUP(MID(A8,6,99)*1,'Data eshop'!D:W,19,FALSE)))","v":""},{"$f":"IF(A8=\"\",\"\",IF(VLOOKUP(MID(A8,6,99)*1,'Data eshop'!D:T,11,FALSE)=0,\"\",IF(OR(VLOOKUP(MID(A8,6,99)*1,'Data eshop'!D:T,11,FALSE)=\"Na dobírku\",VLOOKUP(MID(A8,6,99)*1,'Data eshop'!D:T,11,FALSE)=\"Na dobierku\",VLOOKUP(MID(A8,6,99)*1,'Data eshop'!D:T,11,FALSE)=\"Za pobraniem\"),VLOOKUP(MID(A8,6,99)*1,'Data eshop'!D:W,20,FALSE),\"\")))","v":""},{"$f":"IF(L8=\"\",\"\",IF(VLOOKUP(MID(A8,6,99)*1,'Data eshop'!D:T,10,FALSE)=0,\"\",IF(VLOOKUP(MID(A8,6,99)*1,'Data eshop'!D:T,10,FALSE)=\"Česká republika\",\"CZK\",IF(VLOOKUP(MID(A8,6,99)*1,'Data eshop'!D:T,10,FALSE)=\"Poland\",\"PLN\",IF(VLOOKUP(MID(A8,6,99)*1,'Data eshop'!D:T,10,FALSE)=\"Slovakia\",\"EUR\",\"\")))))","v":""},"",null,7]
[{"$f":"IFERROR(VLOOKUP(P9,Zakázky!P:Q,2,FALSE),\"\")","v":""},"",{"$f":"IF(A9=\"\",\"\",IF(VLOOKUP(MID(A9,6,99)*1,'Data eshop'!D:T,2,FALSE)=0,\"\",VLOOKUP(MID(A9,6,99)*1,'Data eshop'!D:T,2,FALSE)))","v":""},{"$f":"IF(A9=\"\",\"\",IF(VLOOKUP(MID(A9,6,99)*1,'Data eshop'!D:T,3,FALSE)=0,IF(VLOOKUP(MID(A9,6,99)*1,'Data eshop'!D:T,4,FALSE)=0,\"\",VLOOKUP(MID(A9,6,99)*1,'Data eshop'!D:T,4,FALSE)),VLOOKUP(MID(A9,6,99)*1,'Data eshop'!D:T,3,FALSE))&IF(VLOOKUP(MID(A9,6,99)*1,'Data eshop'!D:T,4,FALSE)=0,\"\",\" \"&VLOOKUP(MID(A9,6,99)*1,'Data eshop'!D:T,4,FALSE)))","v":""},{"$f":"IF(A9=\"\",\"\",IF(VLOOKUP(MID(A9,6,99)*1,'Data eshop'!D:T,5,FALSE)=0,\"\",VLOOKUP(MID(A9,6,99)*1,'Data eshop'!D:T,5,FALSE)))","v":""},{"$f":"IF(A9=\"\",\"\",IF(VLOOKUP(MID(A9,6,99)*1,'Data eshop'!D:T,6,FALSE)=0,\"\",VLOOKUP(MID(A9,6,99)*1,'Data eshop'!D:T,6,FALSE)))","v":""},{"$f":"IF(A9=\"\",\"\",IF(VLOOKUP(MID(A9,6,99)*1,'Data eshop'!D:T,7,FALSE)=0,\"\",VLOOKUP(MID(A9,6,99)*1,'Data eshop'!D:T,7,FALSE)))","v":""},{"$f":"IF(A9=\"\",\"\",IF(VLOOKUP(MID(A9,6,99)*1,'Data eshop'!D:T,10,FALSE)=0,\"\",VLOOKUP(VLOOKUP(MID(A9,6,99)*1,'Data eshop'!D:T,10,FALSE),DATA!O:P,2,FALSE)))","v":""},"",{"$f":"IF(A9=\"\",\"\",IF(VLOOKUP(MID(A9,6,99)*1,'Data eshop'!D:W,18,FALSE)=0,\"\",VLOOKUP(MID(A9,6,99)*1,'Data eshop'!D:W,18,FALSE)))","v":""},{"$f":"IF(A9=\"\",\"\",IF(VLOOKUP(MID(A9,6,99)*1,'Data eshop'!D:W,19,FALSE)=0,\"\",VLOOKUP(MID(A9,6,99)*1,'Data eshop'!D:W,19,FALSE)))","v":""},{"$f":"IF(A9=\"\",\"\",IF(VLOOKUP(MID(A9,6,99)*1,'Data eshop'!D:T,11,FALSE)=0,\"\",IF(OR(VLOOKUP(MID(A9,6,99)*1,'Data eshop'!D:T,11,FALSE)=\"Na dobírku\",VLOOKUP(MID(A9,6,99)*1,'Data eshop'!D:T,11,FALSE)=\"Na dobierku\",VLOOKUP(MID(A9,6,99)*1,'Data eshop'!D:T,11,FALSE)=\"Za pobraniem\"),VLOOKUP(MID(A9,6,99)*1,'Data eshop'!D:W,20,FALSE),\"\")))","v":""},{"$f":"IF(L9=\"\",\"\",IF(VLOOKUP(MID(A9,6,99)*1,'Data eshop'!D:T,10,FALSE)=0,\"\",IF(VLOOKUP(MID(A9,6,99)*1,'Data eshop'!D:T,10,FALSE)=\"Česká republika\",\"CZK\",IF(VLOOKUP(MID(A9,6,99)*1,'Data eshop'!D:T,10,FALSE)=\"Poland\",\"PLN\",IF(VLOOKUP(MID(A9,6,99)*1,'Data eshop'!D:T,10,FALSE)=\"Slovakia\",\"EUR\",\"\")))))","v":""},"",null,8]
[{"$f":"IFERROR(VLOOKUP(P10,Zakázky!P:Q,2,FALSE),\"\")","v":""},"",{"$f":"IF(A10=\"\",\"\",IF(VLOOKUP(MID(A10,6,99)*1,'Data eshop'!D:T,2,FALSE)=0,\"\",VLOOKUP(MID(A10,6,99)*1,'Data eshop'!D:T,2,FALSE)))","v":""},{"$f":"IF(A10=\"\",\"\",IF(VLOOKUP(MID(A10,6,99)*1,'Data eshop'!D:T,3,FALSE)=0,IF(VLOOKUP(MID(A10,6,99)*1,'Data eshop'!D:T,4,FALSE)=0,\"\",VLOOKUP(MID(A10,6,99)*1,'Data eshop'!D:T,4,FALSE)),VLOOKUP(MID(A10,6,99)*1,'Data eshop'!D:T,3,FALSE))&IF(VLOOKUP(MID(A10,6,99)*1,'Data eshop'!D:T,4,FALSE)=0,\"\",\" \"&VLOOKUP(MID(A10,6,99)*1,'Data eshop'!D:T,4,FALSE)))","v":""},{"$f":"IF(A10=\"\",\"\",IF(VLOOKUP(MID(A10,6,99)*1,'Data eshop'!D:T,5,FALSE)=0,\"\",VLOOKUP(MID(A10,6,99)*1,'Data eshop'!D:T,5,FALSE)))","v":""},{"$f":"IF(A10=\"\",\"\",IF(VLOOKUP(MID(A10,6,99)*1,'Data eshop'!D:T,6,FALSE)=0,\"\",VLOOKUP(MID(A10,6,99)*1,'Data eshop'!D:T,6,FALSE)))","v":""},{"$f":"IF(A10=\"\",\"\",IF(VLOOKUP(MID(A10,6,99)*1,'Data eshop'!D:T,7,FALSE)=0,\"\",VLOOKUP(MID(A10,6,99)*1,'Data eshop'!D:T,7,FALSE)))","v":""},{"$f":"IF(A10=\"\",\"\",IF(VLOOKUP(MID(A10,6,99)*1,'Data eshop'!D:T,10,FALSE)=0,\"\",VLOOKUP(VLOOKUP(MID(A10,6,99)*1,'Data eshop'!D:T,10,FALSE),DATA!O:P,2,FALSE)))","v":""},"",{"$f":"IF(A10=\"\",\"\",IF(VLOOKUP(MID(A10,6,99)*1,'Data eshop'!D:W,18,FALSE)=0,\"\",VLOOKUP(MID(A10,6,99)*1,'Data eshop'!D:W,18,FALSE)))","v":""},{"$f":"IF(A10=\"\",\"\",IF(VLOOKUP(MID(A10,6,99)*1,'Data eshop'!D:W,19,FALSE)=0,\"\",VLOOKUP(MID(A10,6,99)*1,'Data eshop'!D:W,19,FALSE)))","v":""},{"$f":"IF(A10=\"\",\"\",IF(VLOOKUP(MID(A10,6,99)*1,'Data eshop'!D:T,11,FALSE)=0,\"\",IF(OR(VLOOKUP(MID(A10,6,99)*1,'Data eshop'!D:T,11,FALSE)=\"Na dobírku\",VLOOKUP(MID(A10,6,99)*1,'Data eshop'!D:T,11,FALSE)=\"Na dobierku\",VLOOKUP(MID(A10,6,99)*1,'Data eshop'!D:T,11,FALSE)=\"Za pobraniem\"),VLOOKUP(MID(A10,6,99)*1,'Data eshop'!D:W,20,FALSE),\"\")))","v":""},{"$f":"IF(L10=\"\",\"\",IF(VLOOKUP(MID(A10,6,99)*1,'Data eshop'!D:T,10,FALSE)=0,\"\",IF(VLOOKUP(MID(A10,6,99)*1,'Data eshop'!D:T,10,FALSE)=\"Česká republika\",\"CZK\",IF(VLOOKUP(MID(A10,6,99)*1,'Data eshop'!D:T,10,FALSE)=\"Poland\",\"PLN\",IF(VLOOKUP(MID(A10,6,99)*1,'Data eshop'!D:T,10,FALSE)=\"Slovakia\",\"EUR\",\"\")))))","v":""},"",null,9,null,"Roluj nahoru, až uvidíš žlutou"]
[{"$f":"IFERROR(VLOOKUP(P11,Zakázky!P:Q,2,FALSE),\"\")","v":""},"",{"$f":"IF(A11=\"\",\"\",IF(VLOOKUP(MID(A11,6,99)*1,'Data eshop'!D:T,2,FALSE)=0,\"\",VLOOKUP(MID(A11,6,99)*1,'Data eshop'!D:T,2,FALSE)))","v":""},{"$f":"IF(A11=\"\",\"\",IF(VLOOKUP(MID(A11,6,99)*1,'Data eshop'!D:T,3,FALSE)=0,IF(VLOOKUP(MID(A11,6,99)*1,'Data eshop'!D:T,4,FALSE)=0,\"\",VLOOKUP(MID(A11,6,99)*1,'Data eshop'!D:T,4,FALSE)),VLOOKUP(MID(A11,6,99)*1,'Data eshop'!D:T,3,FALSE))&IF(VLOOKUP(MID(A11,6,99)*1,'Data eshop'!D:T,4,FALSE)=0,\"\",\" \"&VLOOKUP(MID(A11,6,99)*1,'Data eshop'!D:T,4,FALSE)))","v":""},{"$f":"IF(A11=\"\",\"\",IF(VLOOKUP(MID(A11,6,99)*1,'Data eshop'!D:T,5,FALSE)=0,\"\",VLOOKUP(MID(A11,6,99)*1,'Data eshop'!D:T,5,FALSE)))","v":""},{"$f":"IF(A11=\"\",\"\",IF(VLOOKUP(MID(A11,6,99)*1,'Data eshop'!D:T,6,FALSE)=0,\"\",VLOOKUP(MID(A11,6,99)*1,'Data eshop'!D:T,6,FALSE)))","v":""},{"$f":"IF(A11=\"\",\"\",IF(VLOOKUP(MID(A11,6,99)*1,'Data eshop'!D:T,7,FALSE)=0,\"\",VLOOKUP(MID(A11,6,99)*1,'Data eshop'!D:T,7,FALSE)))","v":""},{"$f":"IF(A11=\"\",\"\",IF(VLOOKUP(MID(A11,6,99)*1,'Data eshop'!D:T,10,FALSE)=0,\"\",VLOOKUP(VLOOKUP(MID(A11,6,99)*1,'Data eshop'!D:T,10,FALSE),DATA!O:P,2,FALSE)))","v":""},"",{"$f":"IF(A11=\"\",\"\",IF(VLOOKUP(MID(A11,6,99)*1,'Data eshop'!D:W,18,FALSE)=0,\"\",VLOOKUP(MID(A11,6,99)*1,'Data eshop'!D:W,18,FALSE)))","v":""},{"$f":"IF(A11=\"\",\"\",IF(VLOOKUP(MID(A11,6,99)*1,'Data eshop'!D:W,19,FALSE)=0,\"\",VLOOKUP(MID(A11,6,99)*1,'Data eshop'!D:W,19,FALSE)))","v":""},{"$f":"IF(A11=\"\",\"\",IF(VLOOKUP(MID(A11,6,99)*1,'Data eshop'!D:T,11,FALSE)=0,\"\",IF(OR(VLOOKUP(MID(A11,6,99)*1,'Data eshop'!D:T,11,FALSE)=\"Na dobírku\",VLOOKUP(MID(A11,6,99)*1,'Data eshop'!D:T,11,FALSE)=\"Na dobierku\",VLOOKUP(MID(A11,6,99)*1,'Data eshop'!D:T,11,FALSE)=\"Za pobraniem\"),VLOOKUP(MID(A11,6,99)*1,'Data eshop'!D:W,20,FALSE),\"\")))","v":""},{"$f":"IF(L11=\"\",\"\",IF(VLOOKUP(MID(A11,6,99)*1,'Data eshop'!D:T,10,FALSE)=0,\"\",IF(VLOOKUP(MID(A11,6,99)*1,'Data eshop'!D:T,10,FALSE)=\"Česká republika\",\"CZK\",IF(VLOOKUP(MID(A11,6,99)*1,'Data eshop'!D:T,10,FALSE)=\"Poland\",\"PLN\",IF(VLOOKUP(MID(A11,6,99)*1,'Data eshop'!D:T,10,FALSE)=\"Slovakia\",\"EUR\",\"\")))))","v":""},"",null,10]
[{"$f":"IFERROR(VLOOKUP(P12,Zakázky!P:Q,2,FALSE),\"\")","v":""},"",{"$f":"IF(A12=\"\",\"\",IF(VLOOKUP(MID(A12,6,99)*1,'Data eshop'!D:T,2,FALSE)=0,\"\",VLOOKUP(MID(A12,6,99)*1,'Data eshop'!D:T,2,FALSE)))","v":""},{"$f":"IF(A12=\"\",\"\",IF(VLOOKUP(MID(A12,6,99)*1,'Data eshop'!D:T,3,FALSE)=0,IF(VLOOKUP(MID(A12,6,99)*1,'Data eshop'!D:T,4,FALSE)=0,\"\",VLOOKUP(MID(A12,6,99)*1,'Data eshop'!D:T,4,FALSE)),VLOOKUP(MID(A12,6,99)*1,'Data eshop'!D:T,3,FALSE))&IF(VLOOKUP(MID(A12,6,99)*1,'Data eshop'!D:T,4,FALSE)=0,\"\",\" \"&VLOOKUP(MID(A12,6,99)*1,'Data eshop'!D:T,4,FALSE)))","v":""},{"$f":"IF(A12=\"\",\"\",IF(VLOOKUP(MID(A12,6,99)*1,'Data eshop'!D:T,5,FALSE)=0,\"\",VLOOKUP(MID(A12,6,99)*1,'Data eshop'!D:T,5,FALSE)))","v":""},{"$f":"IF(A12=\"\",\"\",IF(VLOOKUP(MID(A12,6,99)*1,'Data eshop'!D:T,6,FALSE)=0,\"\",VLOOKUP(MID(A12,6,99)*1,'Data eshop'!D:T,6,FALSE)))","v":""},{"$f":"IF(A12=\"\",\"\",IF(VLOOKUP(MID(A12,6,99)*1,'Data eshop'!D:T,7,FALSE)=0,\"\",VLOOKUP(MID(A12,6,99)*1,'Data eshop'!D:T,7,FALSE)))","v":""},{"$f":"IF(A12=\"\",\"\",IF(VLOOKUP(MID(A12,6,99)*1,'Data eshop'!D:T,10,FALSE)=0,\"\",VLOOKUP(VLOOKUP(MID(A12,6,99)*1,'Data eshop'!D:T,10,FALSE),DATA!O:P,2,FALSE)))","v":""},"",{"$f":"IF(A12=\"\",\"\",IF(VLOOKUP(MID(A12,6,99)*1,'Data eshop'!D:W,18,FALSE)=0,\"\",VLOOKUP(MID(A12,6,99)*1,'Data eshop'!D:W,18,FALSE)))","v":""},{"$f":"IF(A12=\"\",\"\",IF(VLOOKUP(MID(A12,6,99)*1,'Data eshop'!D:W,19,FALSE)=0,\"\",VLOOKUP(MID(A12,6,99)*1,'Data eshop'!D:W,19,FALSE)))","v":""},{"$f":"IF(A12=\"\",\"\",IF(VLOOKUP(MID(A12,6,99)*1,'Data eshop'!D:T,11,FALSE)=0,\"\",IF(OR(VLOOKUP(MID(A12,6,99)*1,'Data eshop'!D:T,11,FALSE)=\"Na dobírku\",VLOOKUP(MID(A12,6,99)*1,'Data eshop'!D:T,11,FALSE)=\"Na dobierku\",VLOOKUP(MID(A12,6,99)*1,'Data eshop'!D:T,11,FALSE)=\"Za pobraniem\"),VLOOKUP(MID(A12,6,99)*1,'Data eshop'!D:W,20,FALSE),\"\")))","v":""},{"$f":"IF(L12=\"\",\"\",IF(VLOOKUP(MID(A12,6,99)*1,'Data eshop'!D:T,10,FALSE)=0,\"\",IF(VLOOKUP(MID(A12,6,99)*1,'Data eshop'!D:T,10,FALSE)=\"Česká republika\",\"CZK\",IF(VLOOKUP(MID(A12,6,99)*1,'Data eshop'!D:T,10,FALSE)=\"Poland\",\"PLN\",IF(VLOOKUP(MID(A12,6,99)*1,'Data eshop'!D:T,10,FALSE)=\"Slovakia\",\"EUR\",\"\")))))","v":""},"",null,11]
[{"$f":"IFERROR(VLOOKUP(P13,Zakázky!P:Q,2,FALSE),\"\")","v":""},"",{"$f":"IF(A13=\"\",\"\",IF(VLOOKUP(MID(A13,6,99)*1,'Data eshop'!D:T,2,FALSE)=0,\"\",VLOOKUP(MID(A13,6,99)*1,'Data eshop'!D:T,2,FALSE)))","v":""},{"$f":"IF(A13=\"\",\"\",IF(VLOOKUP(MID(A13,6,99)*1,'Data eshop'!D:T,3,FALSE)=0,IF(VLOOKUP(MID(A13,6,99)*1,'Data eshop'!D:T,4,FALSE)=0,\"\",VLOOKUP(MID(A13,6,99)*1,'Data eshop'!D:T,4,FALSE)),VLOOKUP(MID(A13,6,99)*1,'Data eshop'!D:T,3,FALSE))&IF(VLOOKUP(MID(A13,6,99)*1,'Data eshop'!D:T,4,FALSE)=0,\"\",\" \"&VLOOKUP(MID(A13,6,99)*1,'Data eshop'!D:T,4,FALSE)))","v":""},{"$f":"IF(A13=\"\",\"\",IF(VLOOKUP(MID(A13,6,99)*1,'Data eshop'!D:T,5,FALSE)=0,\"\",VLOOKUP(MID(A13,6,99)*1,'Data eshop'!D:T,5,FALSE)))","v":""},{"$f":"IF(A13=\"\",\"\",IF(VLOOKUP(MID(A13,6,99)*1,'Data eshop'!D:T,6,FALSE)=0,\"\",VLOOKUP(MID(A13,6,99)*1,'Data eshop'!D:T,6,FALSE)))","v":""},{"$f":"IF(A13=\"\",\"\",IF(VLOOKUP(MID(A13,6,99)*1,'Data eshop'!D:T,7,FALSE)=0,\"\",VLOOKUP(MID(A13,6,99)*1,'Data eshop'!D:T,7,FALSE)))","v":""},{"$f":"IF(A13=\"\",\"\",IF(VLOOKUP(MID(A13,6,99)*1,'Data eshop'!D:T,10,FALSE)=0,\"\",VLOOKUP(VLOOKUP(MID(A13,6,99)*1,'Data eshop'!D:T,10,FALSE),DATA!O:P,2,FALSE)))","v":""},"",{"$f":"IF(A13=\"\",\"\",IF(VLOOKUP(MID(A13,6,99)*1,'Data eshop'!D:W,18,FALSE)=0,\"\",VLOOKUP(MID(A13,6,99)*1,'Data eshop'!D:W,18,FALSE)))","v":""},{"$f":"IF(A13=\"\",\"\",IF(VLOOKUP(MID(A13,6,99)*1,'Data eshop'!D:W,19,FALSE)=0,\"\",VLOOKUP(MID(A13,6,99)*1,'Data eshop'!D:W,19,FALSE)))","v":""},{"$f":"IF(A13=\"\",\"\",IF(VLOOKUP(MID(A13,6,99)*1,'Data eshop'!D:T,11,FALSE)=0,\"\",IF(OR(VLOOKUP(MID(A13,6,99)*1,'Data eshop'!D:T,11,FALSE)=\"Na dobírku\",VLOOKUP(MID(A13,6,99)*1,'Data eshop'!D:T,11,FALSE)=\"Na dobierku\",VLOOKUP(MID(A13,6,99)*1,'Data eshop'!D:T,11,FALSE)=\"Za pobraniem\"),VLOOKUP(MID(A13,6,99)*1,'Data eshop'!D:W,20,FALSE),\"\")))","v":""},{"$f":"IF(L13=\"\",\"\",IF(VLOOKUP(MID(A13,6,99)*1,'Data eshop'!D:T,10,FALSE)=0,\"\",IF(VLOOKUP(MID(A13,6,99)*1,'Data eshop'!D:T,10,FALSE)=\"Česká republika\",\"CZK\",IF(VLOOKUP(MID(A13,6,99)*1,'Data eshop'!D:T,10,FALSE)=\"Poland\",\"PLN\",IF(VLOOKUP(MID(A13,6,99)*1,'Data eshop'!D:T,10,FALSE)=\"Slovakia\",\"EUR\",\"\")))))","v":""},"",null,12]
[{"$f":"IFERROR(VLOOKUP(P14,Zakázky!P:Q,2,FALSE),\"\")","v":""},"",{"$f":"IF(A14=\"\",\"\",IF(VLOOKUP(MID(A14,6,99)*1,'Data eshop'!D:T,2,FALSE)=0,\"\",VLOOKUP(MID(A14,6,99)*1,'Data eshop'!D:T,2,FALSE)))","v":""},{"$f":"IF(A14=\"\",\"\",IF(VLOOKUP(MID(A14,6,99)*1,'Data eshop'!D:T,3,FALSE)=0,IF(VLOOKUP(MID(A14,6,99)*1,'Data eshop'!D:T,4,FALSE)=0,\"\",VLOOKUP(MID(A14,6,99)*1,'Data eshop'!D:T,4,FALSE)),VLOOKUP(MID(A14,6,99)*1,'Data eshop'!D:T,3,FALSE))&IF(VLOOKUP(MID(A14,6,99)*1,'Data eshop'!D:T,4,FALSE)=0,\"\",\" \"&VLOOKUP(MID(A14,6,99)*1,'Data eshop'!D:T,4,FALSE)))","v":""},{"$f":"IF(A14=\"\",\"\",IF(VLOOKUP(MID(A14,6,99)*1,'Data eshop'!D:T,5,FALSE)=0,\"\",VLOOKUP(MID(A14,6,99)*1,'Data eshop'!D:T,5,FALSE)))","v":""},{"$f":"IF(A14=\"\",\"\",IF(VLOOKUP(MID(A14,6,99)*1,'Data eshop'!D:T,6,FALSE)=0,\"\",VLOOKUP(MID(A14,6,99)*1,'Data eshop'!D:T,6,FALSE)))","v":""},{"$f":"IF(A14=\"\",\"\",IF(VLOOKUP(MID(A14,6,99)*1,'Data eshop'!D:T,7,FALSE)=0,\"\",VLOOKUP(MID(A14,6,99)*1,'Data eshop'!D:T,7,FALSE)))","v":""},{"$f":"IF(A14=\"\",\"\",IF(VLOOKUP(MID(A14,6,99)*1,'Data eshop'!D:T,10,FALSE)=0,\"\",VLOOKUP(VLOOKUP(MID(A14,6,99)*1,'Data eshop'!D:T,10,FALSE),DATA!O:P,2,FALSE)))","v":""},"",{"$f":"IF(A14=\"\",\"\",IF(VLOOKUP(MID(A14,6,99)*1,'Data eshop'!D:W,18,FALSE)=0,\"\",VLOOKUP(MID(A14,6,99)*1,'Data eshop'!D:W,18,FALSE)))","v":""},{"$f":"IF(A14=\"\",\"\",IF(VLOOKUP(MID(A14,6,99)*1,'Data eshop'!D:W,19,FALSE)=0,\"\",VLOOKUP(MID(A14,6,99)*1,'Data eshop'!D:W,19,FALSE)))","v":""},{"$f":"IF(A14=\"\",\"\",IF(VLOOKUP(MID(A14,6,99)*1,'Data eshop'!D:T,11,FALSE)=0,\"\",IF(OR(VLOOKUP(MID(A14,6,99)*1,'Data eshop'!D:T,11,FALSE)=\"Na dobírku\",VLOOKUP(MID(A14,6,99)*1,'Data eshop'!D:T,11,FALSE)=\"Na dobierku\",VLOOKUP(MID(A14,6,99)*1,'Data eshop'!D:T,11,FALSE)=\"Za pobraniem\"),VLOOKUP(MID(A14,6,99)*1,'Data eshop'!D:W,20,FALSE),\"\")))","v":""},{"$f":"IF(L14=\"\",\"\",IF(VLOOKUP(MID(A14,6,99)*1,'Data eshop'!D:T,10,FALSE)=0,\"\",IF(VLOOKUP(MID(A14,6,99)*1,'Data eshop'!D:T,10,FALSE)=\"Česká republika\",\"CZK\",IF(VLOOKUP(MID(A14,6,99)*1,'Data eshop'!D:T,10,FALSE)=\"Poland\",\"PLN\",IF(VLOOKUP(MID(A14,6,99)*1,'Data eshop'!D:T,10,FALSE)=\"Slovakia\",\"EUR\",\"\")))))","v":""},"",null,13,null,"Roluj nahoru, až uvidíš žlutou"]
[{"$f":"IFERROR(VLOOKUP(P15,Zakázky!P:Q,2,FALSE),\"\")","v":""},"",{"$f":"IF(A15=\"\",\"\",IF(VLOOKUP(MID(A15,6,99)*1,'Data eshop'!D:T,2,FALSE)=0,\"\",VLOOKUP(MID(A15,6,99)*1,'Data eshop'!D:T,2,FALSE)))","v":""},{"$f":"IF(A15=\"\",\"\",IF(VLOOKUP(MID(A15,6,99)*1,'Data eshop'!D:T,3,FALSE)=0,IF(VLOOKUP(MID(A15,6,99)*1,'Data eshop'!D:T,4,FALSE)=0,\"\",VLOOKUP(MID(A15,6,99)*1,'Data eshop'!D:T,4,FALSE)),VLOOKUP(MID(A15,6,99)*1,'Data eshop'!D:T,3,FALSE))&IF(VLOOKUP(MID(A15,6,99)*1,'Data eshop'!D:T,4,FALSE)=0,\"\",\" \"&VLOOKUP(MID(A15,6,99)*1,'Data eshop'!D:T,4,FALSE)))","v":""},{"$f":"IF(A15=\"\",\"\",IF(VLOOKUP(MID(A15,6,99)*1,'Data eshop'!D:T,5,FALSE)=0,\"\",VLOOKUP(MID(A15,6,99)*1,'Data eshop'!D:T,5,FALSE)))","v":""},{"$f":"IF(A15=\"\",\"\",IF(VLOOKUP(MID(A15,6,99)*1,'Data eshop'!D:T,6,FALSE)=0,\"\",VLOOKUP(MID(A15,6,99)*1,'Data eshop'!D:T,6,FALSE)))","v":""},{"$f":"IF(A15=\"\",\"\",IF(VLOOKUP(MID(A15,6,99)*1,'Data eshop'!D:T,7,FALSE)=0,\"\",VLOOKUP(MID(A15,6,99)*1,'Data eshop'!D:T,7,FALSE)))","v":""},{"$f":"IF(A15=\"\",\"\",IF(VLOOKUP(MID(A15,6,99)*1,'Data eshop'!D:T,10,FALSE)=0,\"\",VLOOKUP(VLOOKUP(MID(A15,6,99)*1,'Data eshop'!D:T,10,FALSE),DATA!O:P,2,FALSE)))","v":""},"",{"$f":"IF(A15=\"\",\"\",IF(VLOOKUP(MID(A15,6,99)*1,'Data eshop'!D:W,18,FALSE)=0,\"\",VLOOKUP(MID(A15,6,99)*1,'Data eshop'!D:W,18,FALSE)))","v":""},{"$f":"IF(A15=\"\",\"\",IF(VLOOKUP(MID(A15,6,99)*1,'Data eshop'!D:W,19,FALSE)=0,\"\",VLOOKUP(MID(A15,6,99)*1,'Data eshop'!D:W,19,FALSE)))","v":""},{"$f":"IF(A15=\"\",\"\",IF(VLOOKUP(MID(A15,6,99)*1,'Data eshop'!D:T,11,FALSE)=0,\"\",IF(OR(VLOOKUP(MID(A15,6,99)*1,'Data eshop'!D:T,11,FALSE)=\"Na dobírku\",VLOOKUP(MID(A15,6,99)*1,'Data eshop'!D:T,11,FALSE)=\"Na dobierku\",VLOOKUP(MID(A15,6,99)*1,'Data eshop'!D:T,11,FALSE)=\"Za pobraniem\"),VLOOKUP(MID(A15,6,99)*1,'Data eshop'!D:W,20,FALSE),\"\")))","v":""},{"$f":"IF(L15=\"\",\"\",IF(VLOOKUP(MID(A15,6,99)*1,'Data eshop'!D:T,10,FALSE)=0,\"\",IF(VLOOKUP(MID(A15,6,99)*1,'Data eshop'!D:T,10,FALSE)=\"Česká republika\",\"CZK\",IF(VLOOKUP(MID(A15,6,99)*1,'Data eshop'!D:T,10,FALSE)=\"Poland\",\"PLN\",IF(VLOOKUP(MID(A15,6,99)*1,'Data eshop'!D:T,10,FALSE)=\"Slovakia\",\"EUR\",\"\")))))","v":""},"",null,14]
[{"$f":"IFERROR(VLOOKUP(P16,Zakázky!P:Q,2,FALSE),\"\")","v":""},"",{"$f":"IF(A16=\"\",\"\",IF(VLOOKUP(MID(A16,6,99)*1,'Data eshop'!D:T,2,FALSE)=0,\"\",VLOOKUP(MID(A16,6,99)*1,'Data eshop'!D:T,2,FALSE)))","v":""},{"$f":"IF(A16=\"\",\"\",IF(VLOOKUP(MID(A16,6,99)*1,'Data eshop'!D:T,3,FALSE)=0,IF(VLOOKUP(MID(A16,6,99)*1,'Data eshop'!D:T,4,FALSE)=0,\"\",VLOOKUP(MID(A16,6,99)*1,'Data eshop'!D:T,4,FALSE)),VLOOKUP(MID(A16,6,99)*1,'Data eshop'!D:T,3,FALSE))&IF(VLOOKUP(MID(A16,6,99)*1,'Data eshop'!D:T,4,FALSE)=0,\"\",\" \"&VLOOKUP(MID(A16,6,99)*1,'Data eshop'!D:T,4,FALSE)))","v":""},{"$f":"IF(A16=\"\",\"\",IF(VLOOKUP(MID(A16,6,99)*1,'Data eshop'!D:T,5,FALSE)=0,\"\",VLOOKUP(MID(A16,6,99)*1,'Data eshop'!D:T,5,FALSE)))","v":""},{"$f":"IF(A16=\"\",\"\",IF(VLOOKUP(MID(A16,6,99)*1,'Data eshop'!D:T,6,FALSE)=0,\"\",VLOOKUP(MID(A16,6,99)*1,'Data eshop'!D:T,6,FALSE)))","v":""},{"$f":"IF(A16=\"\",\"\",IF(VLOOKUP(MID(A16,6,99)*1,'Data eshop'!D:T,7,FALSE)=0,\"\",VLOOKUP(MID(A16,6,99)*1,'Data eshop'!D:T,7,FALSE)))","v":""},{"$f":"IF(A16=\"\",\"\",IF(VLOOKUP(MID(A16,6,99)*1,'Data eshop'!D:T,10,FALSE)=0,\"\",VLOOKUP(VLOOKUP(MID(A16,6,99)*1,'Data eshop'!D:T,10,FALSE),DATA!O:P,2,FALSE)))","v":""},"",{"$f":"IF(A16=\"\",\"\",IF(VLOOKUP(MID(A16,6,99)*1,'Data eshop'!D:W,18,FALSE)=0,\"\",VLOOKUP(MID(A16,6,99)*1,'Data eshop'!D:W,18,FALSE)))","v":""},{"$f":"IF(A16=\"\",\"\",IF(VLOOKUP(MID(A16,6,99)*1,'Data eshop'!D:W,19,FALSE)=0,\"\",VLOOKUP(MID(A16,6,99)*1,'Data eshop'!D:W,19,FALSE)))","v":""},{"$f":"IF(A16=\"\",\"\",IF(VLOOKUP(MID(A16,6,99)*1,'Data eshop'!D:T,11,FALSE)=0,\"\",IF(OR(VLOOKUP(MID(A16,6,99)*1,'Data eshop'!D:T,11,FALSE)=\"Na dobírku\",VLOOKUP(MID(A16,6,99)*1,'Data eshop'!D:T,11,FALSE)=\"Na dobierku\",VLOOKUP(MID(A16,6,99)*1,'Data eshop'!D:T,11,FALSE)=\"Za pobraniem\"),VLOOKUP(MID(A16,6,99)*1,'Data eshop'!D:W,20,FALSE),\"\")))","v":""},{"$f":"IF(L16=\"\",\"\",IF(VLOOKUP(MID(A16,6,99)*1,'Data eshop'!D:T,10,FALSE)=0,\"\",IF(VLOOKUP(MID(A16,6,99)*1,'Data eshop'!D:T,10,FALSE)=\"Česká republika\",\"CZK\",IF(VLOOKUP(MID(A16,6,99)*1,'Data eshop'!D:T,10,FALSE)=\"Poland\",\"PLN\",IF(VLOOKUP(MID(A16,6,99)*1,'Data eshop'!D:T,10,FALSE)=\"Slovakia\",\"EUR\",\"\")))))","v":""},"",null,15]
[{"$f":"IFERROR(VLOOKUP(P17,Zakázky!P:Q,2,FALSE),\"\")","v":""},"",{"$f":"IF(A17=\"\",\"\",IF(VLOOKUP(MID(A17,6,99)*1,'Data eshop'!D:T,2,FALSE)=0,\"\",VLOOKUP(MID(A17,6,99)*1,'Data eshop'!D:T,2,FALSE)))","v":""},{"$f":"IF(A17=\"\",\"\",IF(VLOOKUP(MID(A17,6,99)*1,'Data eshop'!D:T,3,FALSE)=0,IF(VLOOKUP(MID(A17,6,99)*1,'Data eshop'!D:T,4,FALSE)=0,\"\",VLOOKUP(MID(A17,6,99)*1,'Data eshop'!D:T,4,FALSE)),VLOOKUP(MID(A17,6,99)*1,'Data eshop'!D:T,3,FALSE))&IF(VLOOKUP(MID(A17,6,99)*1,'Data eshop'!D:T,4,FALSE)=0,\"\",\" \"&VLOOKUP(MID(A17,6,99)*1,'Data eshop'!D:T,4,FALSE)))","v":""},{"$f":"IF(A17=\"\",\"\",IF(VLOOKUP(MID(A17,6,99)*1,'Data eshop'!D:T,5,FALSE)=0,\"\",VLOOKUP(MID(A17,6,99)*1,'Data eshop'!D:T,5,FALSE)))","v":""},{"$f":"IF(A17=\"\",\"\",IF(VLOOKUP(MID(A17,6,99)*1,'Data eshop'!D:T,6,FALSE)=0,\"\",VLOOKUP(MID(A17,6,99)*1,'Data eshop'!D:T,6,FALSE)))","v":""},{"$f":"IF(A17=\"\",\"\",IF(VLOOKUP(MID(A17,6,99)*1,'Data eshop'!D:T,7,FALSE)=0,\"\",VLOOKUP(MID(A17,6,99)*1,'Data eshop'!D:T,7,FALSE)))","v":""},{"$f":"IF(A17=\"\",\"\",IF(VLOOKUP(MID(A17,6,99)*1,'Data eshop'!D:T,10,FALSE)=0,\"\",VLOOKUP(VLOOKUP(MID(A17,6,99)*1,'Data eshop'!D:T,10,FALSE),DATA!O:P,2,FALSE)))","v":""},"",{"$f":"IF(A17=\"\",\"\",IF(VLOOKUP(MID(A17,6,99)*1,'Data eshop'!D:W,18,FALSE)=0,\"\",VLOOKUP(MID(A17,6,99)*1,'Data eshop'!D:W,18,FALSE)))","v":""},{"$f":"IF(A17=\"\",\"\",IF(VLOOKUP(MID(A17,6,99)*1,'Data eshop'!D:W,19,FALSE)=0,\"\",VLOOKUP(MID(A17,6,99)*1,'Data eshop'!D:W,19,FALSE)))","v":""},{"$f":"IF(A17=\"\",\"\",IF(VLOOKUP(MID(A17,6,99)*1,'Data eshop'!D:T,11,FALSE)=0,\"\",IF(OR(VLOOKUP(MID(A17,6,99)*1,'Data eshop'!D:T,11,FALSE)=\"Na dobírku\",VLOOKUP(MID(A17,6,99)*1,'Data eshop'!D:T,11,FALSE)=\"Na dobierku\",VLOOKUP(MID(A17,6,99)*1,'Data eshop'!D:T,11,FALSE)=\"Za pobraniem\"),VLOOKUP(MID(A17,6,99)*1,'Data eshop'!D:W,20,FALSE),\"\")))","v":""},{"$f":"IF(L17=\"\",\"\",IF(VLOOKUP(MID(A17,6,99)*1,'Data eshop'!D:T,10,FALSE)=0,\"\",IF(VLOOKUP(MID(A17,6,99)*1,'Data eshop'!D:T,10,FALSE)=\"Česká republika\",\"CZK\",IF(VLOOKUP(MID(A17,6,99)*1,'Data eshop'!D:T,10,FALSE)=\"Poland\",\"PLN\",IF(VLOOKUP(MID(A17,6,99)*1,'Data eshop'!D:T,10,FALSE)=\"Slovakia\",\"EUR\",\"\")))))","v":""},"",null,16]
[{"$f":"IFERROR(VLOOKUP(P18,Zakázky!P:Q,2,FALSE),\"\")","v":""},"",{"$f":"IF(A18=\"\",\"\",IF(VLOOKUP(MID(A18,6,99)*1,'Data eshop'!D:T,2,FALSE)=0,\"\",VLOOKUP(MID(A18,6,99)*1,'Data eshop'!D:T,2,FALSE)))","v":""},{"$f":"IF(A18=\"\",\"\",IF(VLOOKUP(MID(A18,6,99)*1,'Data eshop'!D:T,3,FALSE)=0,IF(VLOOKUP(MID(A18,6,99)*1,'Data eshop'!D:T,4,FALSE)=0,\"\",VLOOKUP(MID(A18,6,99)*1,'Data eshop'!D:T,4,FALSE)),VLOOKUP(MID(A18,6,99)*1,'Data eshop'!D:T,3,FALSE))&IF(VLOOKUP(MID(A18,6,99)*1,'Data eshop'!D:T,4,FALSE)=0,\"\",\" \"&VLOOKUP(MID(A18,6,99)*1,'Data eshop'!D:T,4,FALSE)))","v":""},{"$f":"IF(A18=\"\",\"\",IF(VLOOKUP(MID(A18,6,99)*1,'Data eshop'!D:T,5,FALSE)=0,\"\",VLOOKUP(MID(A18,6,99)*1,'Data eshop'!D:T,5,FALSE)))","v":""},{"$f":"IF(A18=\"\",\"\",IF(VLOOKUP(MID(A18,6,99)*1,'Data eshop'!D:T,6,FALSE)=0,\"\",VLOOKUP(MID(A18,6,99)*1,'Data eshop'!D:T,6,FALSE)))","v":""},{"$f":"IF(A18=\"\",\"\",IF(VLOOKUP(MID(A18,6,99)*1,'Data eshop'!D:T,7,FALSE)=0,\"\",VLOOKUP(MID(A18,6,99)*1,'Data eshop'!D:T,7,FALSE)))","v":""},{"$f":"IF(A18=\"\",\"\",IF(VLOOKUP(MID(A18,6,99)*1,'Data eshop'!D:T,10,FALSE)=0,\"\",VLOOKUP(VLOOKUP(MID(A18,6,99)*1,'Data eshop'!D:T,10,FALSE),DATA!O:P,2,FALSE)))","v":""},"",{"$f":"IF(A18=\"\",\"\",IF(VLOOKUP(MID(A18,6,99)*1,'Data eshop'!D:W,18,FALSE)=0,\"\",VLOOKUP(MID(A18,6,99)*1,'Data eshop'!D:W,18,FALSE)))","v":""},{"$f":"IF(A18=\"\",\"\",IF(VLOOKUP(MID(A18,6,99)*1,'Data eshop'!D:W,19,FALSE)=0,\"\",VLOOKUP(MID(A18,6,99)*1,'Data eshop'!D:W,19,FALSE)))","v":""},{"$f":"IF(A18=\"\",\"\",IF(VLOOKUP(MID(A18,6,99)*1,'Data eshop'!D:T,11,FALSE)=0,\"\",IF(OR(VLOOKUP(MID(A18,6,99)*1,'Data eshop'!D:T,11,FALSE)=\"Na dobírku\",VLOOKUP(MID(A18,6,99)*1,'Data eshop'!D:T,11,FALSE)=\"Na dobierku\",VLOOKUP(MID(A18,6,99)*1,'Data eshop'!D:T,11,FALSE)=\"Za pobraniem\"),VLOOKUP(MID(A18,6,99)*1,'Data eshop'!D:W,20,FALSE),\"\")))","v":""},{"$f":"IF(L18=\"\",\"\",IF(VLOOKUP(MID(A18,6,99)*1,'Data eshop'!D:T,10,FALSE)=0,\"\",IF(VLOOKUP(MID(A18,6,99)*1,'Data eshop'!D:T,10,FALSE)=\"Česká republika\",\"CZK\",IF(VLOOKUP(MID(A18,6,99)*1,'Data eshop'!D:T,10,FALSE)=\"Poland\",\"PLN\",IF(VLOOKUP(MID(A18,6,99)*1,'Data eshop'!D:T,10,FALSE)=\"Slovakia\",\"EUR\",\"\")))))","v":""},"",null,17,null,"Roluj nahoru, až uvidíš žlutou"]
[{"$f":"IFERROR(VLOOKUP(P19,Zakázky!P:Q,2,FALSE),\"\")","v":""},"",{"$f":"IF(A19=\"\",\"\",IF(VLOOKUP(MID(A19,6,99)*1,'Data eshop'!D:T,2,FALSE)=0,\"\",VLOOKUP(MID(A19,6,99)*1,'Data eshop'!D:T,2,FALSE)))","v":""},{"$f":"IF(A19=\"\",\"\",IF(VLOOKUP(MID(A19,6,99)*1,'Data eshop'!D:T,3,FALSE)=0,IF(VLOOKUP(MID(A19,6,99)*1,'Data eshop'!D:T,4,FALSE)=0,\"\",VLOOKUP(MID(A19,6,99)*1,'Data eshop'!D:T,4,FALSE)),VLOOKUP(MID(A19,6,99)*1,'Data eshop'!D:T,3,FALSE))&IF(VLOOKUP(MID(A19,6,99)*1,'Data eshop'!D:T,4,FALSE)=0,\"\",\" \"&VLOOKUP(MID(A19,6,99)*1,'Data eshop'!D:T,4,FALSE)))","v":""},{"$f":"IF(A19=\"\",\"\",IF(VLOOKUP(MID(A19,6,99)*1,'Data eshop'!D:T,5,FALSE)=0,\"\",VLOOKUP(MID(A19,6,99)*1,'Data eshop'!D:T,5,FALSE)))","v":""},{"$f":"IF(A19=\"\",\"\",IF(VLOOKUP(MID(A19,6,99)*1,'Data eshop'!D:T,6,FALSE)=0,\"\",VLOOKUP(MID(A19,6,99)*1,'Data eshop'!D:T,6,FALSE)))","v":""},{"$f":"IF(A19=\"\",\"\",IF(VLOOKUP(MID(A19,6,99)*1,'Data eshop'!D:T,7,FALSE)=0,\"\",VLOOKUP(MID(A19,6,99)*1,'Data eshop'!D:T,7,FALSE)))","v":""},{"$f":"IF(A19=\"\",\"\",IF(VLOOKUP(MID(A19,6,99)*1,'Data eshop'!D:T,10,FALSE)=0,\"\",VLOOKUP(VLOOKUP(MID(A19,6,99)*1,'Data eshop'!D:T,10,FALSE),DATA!O:P,2,FALSE)))","v":""},"",{"$f":"IF(A19=\"\",\"\",IF(VLOOKUP(MID(A19,6,99)*1,'Data eshop'!D:W,18,FALSE)=0,\"\",VLOOKUP(MID(A19,6,99)*1,'Data eshop'!D:W,18,FALSE)))","v":""},{"$f":"IF(A19=\"\",\"\",IF(VLOOKUP(MID(A19,6,99)*1,'Data eshop'!D:W,19,FALSE)=0,\"\",VLOOKUP(MID(A19,6,99)*1,'Data eshop'!D:W,19,FALSE)))","v":""},{"$f":"IF(A19=\"\",\"\",IF(VLOOKUP(MID(A19,6,99)*1,'Data eshop'!D:T,11,FALSE)=0,\"\",IF(OR(VLOOKUP(MID(A19,6,99)*1,'Data eshop'!D:T,11,FALSE)=\"Na dobírku\",VLOOKUP(MID(A19,6,99)*1,'Data eshop'!D:T,11,FALSE)=\"Na dobierku\",VLOOKUP(MID(A19,6,99)*1,'Data eshop'!D:T,11,FALSE)=\"Za pobraniem\"),VLOOKUP(MID(A19,6,99)*1,'Data eshop'!D:W,20,FALSE),\"\")))","v":""},{"$f":"IF(L19=\"\",\"\",IF(VLOOKUP(MID(A19,6,99)*1,'Data eshop'!D:T,10,FALSE)=0,\"\",IF(VLOOKUP(MID(A19,6,99)*1,'Data eshop'!D:T,10,FALSE)=\"Česká republika\",\"CZK\",IF(VLOOKUP(MID(A19,6,99)*1,'Data eshop'!D:T,10,FALSE)=\"Poland\",\"PLN\",IF(VLOOKUP(MID(A19,6,99)*1,'Data eshop'!D:T,10,FALSE)=\"Slovakia\",\"EUR\",\"\")))))","v":""},"",null,18]
[{"$f":"IFERROR(VLOOKUP(P20,Zakázky!P:Q,2,FALSE),\"\")","v":""},"",{"$f":"IF(A20=\"\",\"\",IF(VLOOKUP(MID(A20,6,99)*1,'Data eshop'!D:T,2,FALSE)=0,\"\",VLOOKUP(MID(A20,6,99)*1,'Data eshop'!D:T,2,FALSE)))","v":""},{"$f":"IF(A20=\"\",\"\",IF(VLOOKUP(MID(A20,6,99)*1,'Data eshop'!D:T,3,FALSE)=0,IF(VLOOKUP(MID(A20,6,99)*1,'Data eshop'!D:T,4,FALSE)=0,\"\",VLOOKUP(MID(A20,6,99)*1,'Data eshop'!D:T,4,FALSE)),VLOOKUP(MID(A20,6,99)*1,'Data eshop'!D:T,3,FALSE))&IF(VLOOKUP(MID(A20,6,99)*1,'Data eshop'!D:T,4,FALSE)=0,\"\",\" \"&VLOOKUP(MID(A20,6,99)*1,'Data eshop'!D:T,4,FALSE)))","v":""},{"$f":"IF(A20=\"\",\"\",IF(VLOOKUP(MID(A20,6,99)*1,'Data eshop'!D:T,5,FALSE)=0,\"\",VLOOKUP(MID(A20,6,99)*1,'Data eshop'!D:T,5,FALSE)))","v":""},{"$f":"IF(A20=\"\",\"\",IF(VLOOKUP(MID(A20,6,99)*1,'Data eshop'!D:T,6,FALSE)=0,\"\",VLOOKUP(MID(A20,6,99)*1,'Data eshop'!D:T,6,FALSE)))","v":""},{"$f":"IF(A20=\"\",\"\",IF(VLOOKUP(MID(A20,6,99)*1,'Data eshop'!D:T,7,FALSE)=0,\"\",VLOOKUP(MID(A20,6,99)*1,'Data eshop'!D:T,7,FALSE)))","v":""},{"$f":"IF(A20=\"\",\"\",IF(VLOOKUP(MID(A20,6,99)*1,'Data eshop'!D:T,10,FALSE)=0,\"\",VLOOKUP(VLOOKUP(MID(A20,6,99)*1,'Data eshop'!D:T,10,FALSE),DATA!O:P,2,FALSE)))","v":""},"",{"$f":"IF(A20=\"\",\"\",IF(VLOOKUP(MID(A20,6,99)*1,'Data eshop'!D:W,18,FALSE)=0,\"\",VLOOKUP(MID(A20,6,99)*1,'Data eshop'!D:W,18,FALSE)))","v":""},{"$f":"IF(A20=\"\",\"\",IF(VLOOKUP(MID(A20,6,99)*1,'Data eshop'!D:W,19,FALSE)=0,\"\",VLOOKUP(MID(A20,6,99)*1,'Data eshop'!D:W,19,FALSE)))","v":""},{"$f":"IF(A20=\"\",\"\",IF(VLOOKUP(MID(A20,6,99)*1,'Data eshop'!D:T,11,FALSE)=0,\"\",IF(OR(VLOOKUP(MID(A20,6,99)*1,'Data eshop'!D:T,11,FALSE)=\"Na dobírku\",VLOOKUP(MID(A20,6,99)*1,'Data eshop'!D:T,11,FALSE)=\"Na dobierku\",VLOOKUP(MID(A20,6,99)*1,'Data eshop'!D:T,11,FALSE)=\"Za pobraniem\"),VLOOKUP(MID(A20,6,99)*1,'Data eshop'!D:W,20,FALSE),\"\")))","v":""},{"$f":"IF(L20=\"\",\"\",IF(VLOOKUP(MID(A20,6,99)*1,'Data eshop'!D:T,10,FALSE)=0,\"\",IF(VLOOKUP(MID(A20,6,99)*1,'Data eshop'!D:T,10,FALSE)=\"Česká republika\",\"CZK\",IF(VLOOKUP(MID(A20,6,99)*1,'Data eshop'!D:T,10,FALSE)=\"Poland\",\"PLN\",IF(VLOOKUP(MID(A20,6,99)*1,'Data eshop'!D:T,10,FALSE)=\"Slovakia\",\"EUR\",\"\")))))","v":""},"",null,19]
[{"$f":"IFERROR(VLOOKUP(P21,Zakázky!P:Q,2,FALSE),\"\")","v":""},"",{"$f":"IF(A21=\"\",\"\",IF(VLOOKUP(MID(A21,6,99)*1,'Data eshop'!D:T,2,FALSE)=0,\"\",VLOOKUP(MID(A21,6,99)*1,'Data eshop'!D:T,2,FALSE)))","v":""},{"$f":"IF(A21=\"\",\"\",IF(VLOOKUP(MID(A21,6,99)*1,'Data eshop'!D:T,3,FALSE)=0,IF(VLOOKUP(MID(A21,6,99)*1,'Data eshop'!D:T,4,FALSE)=0,\"\",VLOOKUP(MID(A21,6,99)*1,'Data eshop'!D:T,4,FALSE)),VLOOKUP(MID(A21,6,99)*1,'Data eshop'!D:T,3,FALSE))&IF(VLOOKUP(MID(A21,6,99)*1,'Data eshop'!D:T,4,FALSE)=0,\"\",\" \"&VLOOKUP(MID(A21,6,99)*1,'Data eshop'!D:T,4,FALSE)))","v":""},{"$f":"IF(A21=\"\",\"\",IF(VLOOKUP(MID(A21,6,99)*1,'Data eshop'!D:T,5,FALSE)=0,\"\",VLOOKUP(MID(A21,6,99)*1,'Data eshop'!D:T,5,FALSE)))","v":""},{"$f":"IF(A21=\"\",\"\",IF(VLOOKUP(MID(A21,6,99)*1,'Data eshop'!D:T,6,FALSE)=0,\"\",VLOOKUP(MID(A21,6,99)*1,'Data eshop'!D:T,6,FALSE)))","v":""},{"$f":"IF(A21=\"\",\"\",IF(VLOOKUP(MID(A21,6,99)*1,'Data eshop'!D:T,7,FALSE)=0,\"\",VLOOKUP(MID(A21,6,99)*1,'Data eshop'!D:T,7,FALSE)))","v":""},{"$f":"IF(A21=\"\",\"\",IF(VLOOKUP(MID(A21,6,99)*1,'Data eshop'!D:T,10,FALSE)=0,\"\",VLOOKUP(VLOOKUP(MID(A21,6,99)*1,'Data eshop'!D:T,10,FALSE),DATA!O:P,2,FALSE)))","v":""},"",{"$f":"IF(A21=\"\",\"\",IF(VLOOKUP(MID(A21,6,99)*1,'Data eshop'!D:W,18,FALSE)=0,\"\",VLOOKUP(MID(A21,6,99)*1,'Data eshop'!D:W,18,FALSE)))","v":""},{"$f":"IF(A21=\"\",\"\",IF(VLOOKUP(MID(A21,6,99)*1,'Data eshop'!D:W,19,FALSE)=0,\"\",VLOOKUP(MID(A21,6,99)*1,'Data eshop'!D:W,19,FALSE)))","v":""},{"$f":"IF(A21=\"\",\"\",IF(VLOOKUP(MID(A21,6,99)*1,'Data eshop'!D:T,11,FALSE)=0,\"\",IF(OR(VLOOKUP(MID(A21,6,99)*1,'Data eshop'!D:T,11,FALSE)=\"Na dobírku\",VLOOKUP(MID(A21,6,99)*1,'Data eshop'!D:T,11,FALSE)=\"Na dobierku\",VLOOKUP(MID(A21,6,99)*1,'Data eshop'!D:T,11,FALSE)=\"Za pobraniem\"),VLOOKUP(MID(A21,6,99)*1,'Data eshop'!D:W,20,FALSE),\"\")))","v":""},{"$f":"IF(L21=\"\",\"\",IF(VLOOKUP(MID(A21,6,99)*1,'Data eshop'!D:T,10,FALSE)=0,\"\",IF(VLOOKUP(MID(A21,6,99)*1,'Data eshop'!D:T,10,FALSE)=\"Česká republika\",\"CZK\",IF(VLOOKUP(MID(A21,6,99)*1,'Data eshop'!D:T,10,FALSE)=\"Poland\",\"PLN\",IF(VLOOKUP(MID(A21,6,99)*1,'Data eshop'!D:T,10,FALSE)=\"Slovakia\",\"EUR\",\"\")))))","v":""},"",null,20]
[{"$f":"IFERROR(VLOOKUP(P22,Zakázky!P:Q,2,FALSE),\"\")","v":""},"",{"$f":"IF(A22=\"\",\"\",IF(VLOOKUP(MID(A22,6,99)*1,'Data eshop'!D:T,2,FALSE)=0,\"\",VLOOKUP(MID(A22,6,99)*1,'Data eshop'!D:T,2,FALSE)))","v":""},{"$f":"IF(A22=\"\",\"\",IF(VLOOKUP(MID(A22,6,99)*1,'Data eshop'!D:T,3,FALSE)=0,IF(VLOOKUP(MID(A22,6,99)*1,'Data eshop'!D:T,4,FALSE)=0,\"\",VLOOKUP(MID(A22,6,99)*1,'Data eshop'!D:T,4,FALSE)),VLOOKUP(MID(A22,6,99)*1,'Data eshop'!D:T,3,FALSE))&IF(VLOOKUP(MID(A22,6,99)*1,'Data eshop'!D:T,4,FALSE)=0,\"\",\" \"&VLOOKUP(MID(A22,6,99)*1,'Data eshop'!D:T,4,FALSE)))","v":""},{"$f":"IF(A22=\"\",\"\",IF(VLOOKUP(MID(A22,6,99)*1,'Data eshop'!D:T,5,FALSE)=0,\"\",VLOOKUP(MID(A22,6,99)*1,'Data eshop'!D:T,5,FALSE)))","v":""},{"$f":"IF(A22=\"\",\"\",IF(VLOOKUP(MID(A22,6,99)*1,'Data eshop'!D:T,6,FALSE)=0,\"\",VLOOKUP(MID(A22,6,99)*1,'Data eshop'!D:T,6,FALSE)))","v":""},{"$f":"IF(A22=\"\",\"\",IF(VLOOKUP(MID(A22,6,99)*1,'Data eshop'!D:T,7,FALSE)=0,\"\",VLOOKUP(MID(A22,6,99)*1,'Data eshop'!D:T,7,FALSE)))","v":""},{"$f":"IF(A22=\"\",\"\",IF(VLOOKUP(MID(A22,6,99)*1,'Data eshop'!D:T,10,FALSE)=0,\"\",VLOOKUP(VLOOKUP(MID(A22,6,99)*1,'Data eshop'!D:T,10,FALSE),DATA!O:P,2,FALSE)))","v":""},"",{"$f":"IF(A22=\"\",\"\",IF(VLOOKUP(MID(A22,6,99)*1,'Data eshop'!D:W,18,FALSE)=0,\"\",VLOOKUP(MID(A22,6,99)*1,'Data eshop'!D:W,18,FALSE)))","v":""},{"$f":"IF(A22=\"\",\"\",IF(VLOOKUP(MID(A22,6,99)*1,'Data eshop'!D:W,19,FALSE)=0,\"\",VLOOKUP(MID(A22,6,99)*1,'Data eshop'!D:W,19,FALSE)))","v":""},{"$f":"IF(A22=\"\",\"\",IF(VLOOKUP(MID(A22,6,99)*1,'Data eshop'!D:T,11,FALSE)=0,\"\",IF(OR(VLOOKUP(MID(A22,6,99)*1,'Data eshop'!D:T,11,FALSE)=\"Na dobírku\",VLOOKUP(MID(A22,6,99)*1,'Data eshop'!D:T,11,FALSE)=\"Na dobierku\",VLOOKUP(MID(A22,6,99)*1,'Data eshop'!D:T,11,FALSE)=\"Za pobraniem\"),VLOOKUP(MID(A22,6,99)*1,'Data eshop'!D:W,20,FALSE),\"\")))","v":""},{"$f":"IF(L22=\"\",\"\",IF(VLOOKUP(MID(A22,6,99)*1,'Data eshop'!D:T,10,FALSE)=0,\"\",IF(VLOOKUP(MID(A22,6,99)*1,'Data eshop'!D:T,10,FALSE)=\"Česká republika\",\"CZK\",IF(VLOOKUP(MID(A22,6,99)*1,'Data eshop'!D:T,10,FALSE)=\"Poland\",\"PLN\",IF(VLOOKUP(MID(A22,6,99)*1,'Data eshop'!D:T,10,FALSE)=\"Slovakia\",\"EUR\",\"\")))))","v":""},"",null,21,null,"Roluj nahoru, až uvidíš žlutou"]
[{"$f":"IFERROR(VLOOKUP(P23,Zakázky!P:Q,2,FALSE),\"\")","v":""},"",{"$f":"IF(A23=\"\",\"\",IF(VLOOKUP(MID(A23,6,99)*1,'Data eshop'!D:T,2,FALSE)=0,\"\",VLOOKUP(MID(A23,6,99)*1,'Data eshop'!D:T,2,FALSE)))","v":""},{"$f":"IF(A23=\"\",\"\",IF(VLOOKUP(MID(A23,6,99)*1,'Data eshop'!D:T,3,FALSE)=0,IF(VLOOKUP(MID(A23,6,99)*1,'Data eshop'!D:T,4,FALSE)=0,\"\",VLOOKUP(MID(A23,6,99)*1,'Data eshop'!D:T,4,FALSE)),VLOOKUP(MID(A23,6,99)*1,'Data eshop'!D:T,3,FALSE))&IF(VLOOKUP(MID(A23,6,99)*1,'Data eshop'!D:T,4,FALSE)=0,\"\",\" \"&VLOOKUP(MID(A23,6,99)*1,'Data eshop'!D:T,4,FALSE)))","v":""},{"$f":"IF(A23=\"\",\"\",IF(VLOOKUP(MID(A23,6,99)*1,'Data eshop'!D:T,5,FALSE)=0,\"\",VLOOKUP(MID(A23,6,99)*1,'Data eshop'!D:T,5,FALSE)))","v":""},{"$f":"IF(A23=\"\",\"\",IF(VLOOKUP(MID(A23,6,99)*1,'Data eshop'!D:T,6,FALSE)=0,\"\",VLOOKUP(MID(A23,6,99)*1,'Data eshop'!D:T,6,FALSE)))","v":""},{"$f":"IF(A23=\"\",\"\",IF(VLOOKUP(MID(A23,6,99)*1,'Data eshop'!D:T,7,FALSE)=0,\"\",VLOOKUP(MID(A23,6,99)*1,'Data eshop'!D:T,7,FALSE)))","v":""},{"$f":"IF(A23=\"\",\"\",IF(VLOOKUP(MID(A23,6,99)*1,'Data eshop'!D:T,10,FALSE)=0,\"\",VLOOKUP(VLOOKUP(MID(A23,6,99)*1,'Data eshop'!D:T,10,FALSE),DATA!O:P,2,FALSE)))","v":""},"",{"$f":"IF(A23=\"\",\"\",IF(VLOOKUP(MID(A23,6,99)*1,'Data eshop'!D:W,18,FALSE)=0,\"\",VLOOKUP(MID(A23,6,99)*1,'Data eshop'!D:W,18,FALSE)))","v":""},{"$f":"IF(A23=\"\",\"\",IF(VLOOKUP(MID(A23,6,99)*1,'Data eshop'!D:W,19,FALSE)=0,\"\",VLOOKUP(MID(A23,6,99)*1,'Data eshop'!D:W,19,FALSE)))","v":""},{"$f":"IF(A23=\"\",\"\",IF(VLOOKUP(MID(A23,6,99)*1,'Data eshop'!D:T,11,FALSE)=0,\"\",IF(OR(VLOOKUP(MID(A23,6,99)*1,'Data eshop'!D:T,11,FALSE)=\"Na dobírku\",VLOOKUP(MID(A23,6,99)*1,'Data eshop'!D:T,11,FALSE)=\"Na dobierku\",VLOOKUP(MID(A23,6,99)*1,'Data eshop'!D:T,11,FALSE)=\"Za pobraniem\"),VLOOKUP(MID(A23,6,99)*1,'Data eshop'!D:W,20,FALSE),\"\")))","v":""},{"$f":"IF(L23=\"\",\"\",IF(VLOOKUP(MID(A23,6,99)*1,'Data eshop'!D:T,10,FALSE)=0,\"\",IF(VLOOKUP(MID(A23,6,99)*1,'Data eshop'!D:T,10,FALSE)=\"Česká republika\",\"CZK\",IF(VLOOKUP(MID(A23,6,99)*1,'Data eshop'!D:T,10,FALSE)=\"Poland\",\"PLN\",IF(VLOOKUP(MID(A23,6,99)*1,'Data eshop'!D:T,10,FALSE)=\"Slovakia\",\"EUR\",\"\")))))","v":""},"",null,22]
[{"$f":"IFERROR(VLOOKUP(P24,Zakázky!P:Q,2,FALSE),\"\")","v":""},"",{"$f":"IF(A24=\"\",\"\",IF(VLOOKUP(MID(A24,6,99)*1,'Data eshop'!D:T,2,FALSE)=0,\"\",VLOOKUP(MID(A24,6,99)*1,'Data eshop'!D:T,2,FALSE)))","v":""},{"$f":"IF(A24=\"\",\"\",IF(VLOOKUP(MID(A24,6,99)*1,'Data eshop'!D:T,3,FALSE)=0,IF(VLOOKUP(MID(A24,6,99)*1,'Data eshop'!D:T,4,FALSE)=0,\"\",VLOOKUP(MID(A24,6,99)*1,'Data eshop'!D:T,4,FALSE)),VLOOKUP(MID(A24,6,99)*1,'Data eshop'!D:T,3,FALSE))&IF(VLOOKUP(MID(A24,6,99)*1,'Data eshop'!D:T,4,FALSE)=0,\"\",\" \"&VLOOKUP(MID(A24,6,99)*1,'Data eshop'!D:T,4,FALSE)))","v":""},{"$f":"IF(A24=\"\",\"\",IF(VLOOKUP(MID(A24,6,99)*1,'Data eshop'!D:T,5,FALSE)=0,\"\",VLOOKUP(MID(A24,6,99)*1,'Data eshop'!D:T,5,FALSE)))","v":""},{"$f":"IF(A24=\"\",\"\",IF(VLOOKUP(MID(A24,6,99)*1,'Data eshop'!D:T,6,FALSE)=0,\"\",VLOOKUP(MID(A24,6,99)*1,'Data eshop'!D:T,6,FALSE)))","v":""},{"$f":"IF(A24=\"\",\"\",IF(VLOOKUP(MID(A24,6,99)*1,'Data eshop'!D:T,7,FALSE)=0,\"\",VLOOKUP(MID(A24,6,99)*1,'Data eshop'!D:T,7,FALSE)))","v":""},{"$f":"IF(A24=\"\",\"\",IF(VLOOKUP(MID(A24,6,99)*1,'Data eshop'!D:T,10,FALSE)=0,\"\",VLOOKUP(VLOOKUP(MID(A24,6,99)*1,'Data eshop'!D:T,10,FALSE),DATA!O:P,2,FALSE)))","v":""},"",{"$f":"IF(A24=\"\",\"\",IF(VLOOKUP(MID(A24,6,99)*1,'Data eshop'!D:W,18,FALSE)=0,\"\",VLOOKUP(MID(A24,6,99)*1,'Data eshop'!D:W,18,FALSE)))","v":""},{"$f":"IF(A24=\"\",\"\",IF(VLOOKUP(MID(A24,6,99)*1,'Data eshop'!D:W,19,FALSE)=0,\"\",VLOOKUP(MID(A24,6,99)*1,'Data eshop'!D:W,19,FALSE)))","v":""},{"$f":"IF(A24=\"\",\"\",IF(VLOOKUP(MID(A24,6,99)*1,'Data eshop'!D:T,11,FALSE)=0,\"\",IF(OR(VLOOKUP(MID(A24,6,99)*1,'Data eshop'!D:T,11,FALSE)=\"Na dobírku\",VLOOKUP(MID(A24,6,99)*1,'Data eshop'!D:T,11,FALSE)=\"Na dobierku\",VLOOKUP(MID(A24,6,99)*1,'Data eshop'!D:T,11,FALSE)=\"Za pobraniem\"),VLOOKUP(MID(A24,6,99)*1,'Data eshop'!D:W,20,FALSE),\"\")))","v":""},{"$f":"IF(L24=\"\",\"\",IF(VLOOKUP(MID(A24,6,99)*1,'Data eshop'!D:T,10,FALSE)=0,\"\",IF(VLOOKUP(MID(A24,6,99)*1,'Data eshop'!D:T,10,FALSE)=\"Česká republika\",\"CZK\",IF(VLOOKUP(MID(A24,6,99)*1,'Data eshop'!D:T,10,FALSE)=\"Poland\",\"PLN\",IF(VLOOKUP(MID(A24,6,99)*1,'Data eshop'!D:T,10,FALSE)=\"Slovakia\",\"EUR\",\"\")))))","v":""},"",null,23]
[{"$f":"IFERROR(VLOOKUP(P25,Zakázky!P:Q,2,FALSE),\"\")","v":""},"",{"$f":"IF(A25=\"\",\"\",IF(VLOOKUP(MID(A25,6,99)*1,'Data eshop'!D:T,2,FALSE)=0,\"\",VLOOKUP(MID(A25,6,99)*1,'Data eshop'!D:T,2,FALSE)))","v":""},{"$f":"IF(A25=\"\",\"\",IF(VLOOKUP(MID(A25,6,99)*1,'Data eshop'!D:T,3,FALSE)=0,IF(VLOOKUP(MID(A25,6,99)*1,'Data eshop'!D:T,4,FALSE)=0,\"\",VLOOKUP(MID(A25,6,99)*1,'Data eshop'!D:T,4,FALSE)),VLOOKUP(MID(A25,6,99)*1,'Data eshop'!D:T,3,FALSE))&IF(VLOOKUP(MID(A25,6,99)*1,'Data eshop'!D:T,4,FALSE)=0,\"\",\" \"&VLOOKUP(MID(A25,6,99)*1,'Data eshop'!D:T,4,FALSE)))","v":""},{"$f":"IF(A25=\"\",\"\",IF(VLOOKUP(MID(A25,6,99)*1,'Data eshop'!D:T,5,FALSE)=0,\"\",VLOOKUP(MID(A25,6,99)*1,'Data eshop'!D:T,5,FALSE)))","v":""},{"$f":"IF(A25=\"\",\"\",IF(VLOOKUP(MID(A25,6,99)*1,'Data eshop'!D:T,6,FALSE)=0,\"\",VLOOKUP(MID(A25,6,99)*1,'Data eshop'!D:T,6,FALSE)))","v":""},{"$f":"IF(A25=\"\",\"\",IF(VLOOKUP(MID(A25,6,99)*1,'Data eshop'!D:T,7,FALSE)=0,\"\",VLOOKUP(MID(A25,6,99)*1,'Data eshop'!D:T,7,FALSE)))","v":""},{"$f":"IF(A25=\"\",\"\",IF(VLOOKUP(MID(A25,6,99)*1,'Data eshop'!D:T,10,FALSE)=0,\"\",VLOOKUP(VLOOKUP(MID(A25,6,99)*1,'Data eshop'!D:T,10,FALSE),DATA!O:P,2,FALSE)))","v":""},"",{"$f":"IF(A25=\"\",\"\",IF(VLOOKUP(MID(A25,6,99)*1,'Data eshop'!D:W,18,FALSE)=0,\"\",VLOOKUP(MID(A25,6,99)*1,'Data eshop'!D:W,18,FALSE)))","v":""},{"$f":"IF(A25=\"\",\"\",IF(VLOOKUP(MID(A25,6,99)*1,'Data eshop'!D:W,19,FALSE)=0,\"\",VLOOKUP(MID(A25,6,99)*1,'Data eshop'!D:W,19,FALSE)))","v":""},{"$f":"IF(A25=\"\",\"\",IF(VLOOKUP(MID(A25,6,99)*1,'Data eshop'!D:T,11,FALSE)=0,\"\",IF(OR(VLOOKUP(MID(A25,6,99)*1,'Data eshop'!D:T,11,FALSE)=\"Na dobírku\",VLOOKUP(MID(A25,6,99)*1,'Data eshop'!D:T,11,FALSE)=\"Na dobierku\",VLOOKUP(MID(A25,6,99)*1,'Data eshop'!D:T,11,FALSE)=\"Za pobraniem\"),VLOOKUP(MID(A25,6,99)*1,'Data eshop'!D:W,20,FALSE),\"\")))","v":""},{"$f":"IF(L25=\"\",\"\",IF(VLOOKUP(MID(A25,6,99)*1,'Data eshop'!D:T,10,FALSE)=0,\"\",IF(VLOOKUP(MID(A25,6,99)*1,'Data eshop'!D:T,10,FALSE)=\"Česká republika\",\"CZK\",IF(VLOOKUP(MID(A25,6,99)*1,'Data eshop'!D:T,10,FALSE)=\"Poland\",\"PLN\",IF(VLOOKUP(MID(A25,6,99)*1,'Data eshop'!D:T,10,FALSE)=\"Slovakia\",\"EUR\",\"\")))))","v":""},"",null,24]
[{"$f":"IFERROR(VLOOKUP(P26,Zakázky!P:Q,2,FALSE),\"\")","v":""},"",{"$f":"IF(A26=\"\",\"\",IF(VLOOKUP(MID(A26,6,99)*1,'Data eshop'!D:T,2,FALSE)=0,\"\",VLOOKUP(MID(A26,6,99)*1,'Data eshop'!D:T,2,FALSE)))","v":""},{"$f":"IF(A26=\"\",\"\",IF(VLOOKUP(MID(A26,6,99)*1,'Data eshop'!D:T,3,FALSE)=0,IF(VLOOKUP(MID(A26,6,99)*1,'Data eshop'!D:T,4,FALSE)=0,\"\",VLOOKUP(MID(A26,6,99)*1,'Data eshop'!D:T,4,FALSE)),VLOOKUP(MID(A26,6,99)*1,'Data eshop'!D:T,3,FALSE))&IF(VLOOKUP(MID(A26,6,99)*1,'Data eshop'!D:T,4,FALSE)=0,\"\",\" \"&VLOOKUP(MID(A26,6,99)*1,'Data eshop'!D:T,4,FALSE)))","v":""},{"$f":"IF(A26=\"\",\"\",IF(VLOOKUP(MID(A26,6,99)*1,'Data eshop'!D:T,5,FALSE)=0,\"\",VLOOKUP(MID(A26,6,99)*1,'Data eshop'!D:T,5,FALSE)))","v":""},{"$f":"IF(A26=\"\",\"\",IF(VLOOKUP(MID(A26,6,99)*1,'Data eshop'!D:T,6,FALSE)=0,\"\",VLOOKUP(MID(A26,6,99)*1,'Data eshop'!D:T,6,FALSE)))","v":""},{"$f":"IF(A26=\"\",\"\",IF(VLOOKUP(MID(A26,6,99)*1,'Data eshop'!D:T,7,FALSE)=0,\"\",VLOOKUP(MID(A26,6,99)*1,'Data eshop'!D:T,7,FALSE)))","v":""},{"$f":"IF(A26=\"\",\"\",IF(VLOOKUP(MID(A26,6,99)*1,'Data eshop'!D:T,10,FALSE)=0,\"\",VLOOKUP(VLOOKUP(MID(A26,6,99)*1,'Data eshop'!D:T,10,FALSE),DATA!O:P,2,FALSE)))","v":""},"",{"$f":"IF(A26=\"\",\"\",IF(VLOOKUP(MID(A26,6,99)*1,'Data eshop'!D:W,18,FALSE)=0,\"\",VLOOKUP(MID(A26,6,99)*1,'Data eshop'!D:W,18,FALSE)))","v":""},{"$f":"IF(A26=\"\",\"\",IF(VLOOKUP(MID(A26,6,99)*1,'Data eshop'!D:W,19,FALSE)=0,\"\",VLOOKUP(MID(A26,6,99)*1,'Data eshop'!D:W,19,FALSE)))","v":""},{"$f":"IF(A26=\"\",\"\",IF(VLOOKUP(MID(A26,6,99)*1,'Data eshop'!D:T,11,FALSE)=0,\"\",IF(OR(VLOOKUP(MID(A26,6,99)*1,'Data eshop'!D:T,11,FALSE)=\"Na dobírku\",VLOOKUP(MID(A26,6,99)*1,'Data eshop'!D:T,11,FALSE)=\"Na dobierku\",VLOOKUP(MID(A26,6,99)*1,'Data eshop'!D:T,11,FALSE)=\"Za pobraniem\"),VLOOKUP(MID(A26,6,99)*1,'Data eshop'!D:W,20,FALSE),\"\")))","v":""},{"$f":"IF(L26=\"\",\"\",IF(VLOOKUP(MID(A26,6,99)*1,'Data eshop'!D:T,10,FALSE)=0,\"\",IF(VLOOKUP(MID(A26,6,99)*1,'Data eshop'!D:T,10,FALSE)=\"Česká republika\",\"CZK\",IF(VLOOKUP(MID(A26,6,99)*1,'Data eshop'!D:T,10,FALSE)=\"Poland\",\"PLN\",IF(VLOOKUP(MID(A26,6,99)*1,'Data eshop'!D:T,10,FALSE)=\"Slovakia\",\"EUR\",\"\")))))","v":""},"",null,25,null,"Roluj nahoru, až uvidíš žlutou"]
[{"$f":"IFERROR(VLOOKUP(P27,Zakázky!P:Q,2,FALSE),\"\")","v":""},"",{"$f":"IF(A27=\"\",\"\",IF(VLOOKUP(MID(A27,6,99)*1,'Data eshop'!D:T,2,FALSE)=0,\"\",VLOOKUP(MID(A27,6,99)*1,'Data eshop'!D:T,2,FALSE)))","v":""},{"$f":"IF(A27=\"\",\"\",IF(VLOOKUP(MID(A27,6,99)*1,'Data eshop'!D:T,3,FALSE)=0,IF(VLOOKUP(MID(A27,6,99)*1,'Data eshop'!D:T,4,FALSE)=0,\"\",VLOOKUP(MID(A27,6,99)*1,'Data eshop'!D:T,4,FALSE)),VLOOKUP(MID(A27,6,99)*1,'Data eshop'!D:T,3,FALSE))&IF(VLOOKUP(MID(A27,6,99)*1,'Data eshop'!D:T,4,FALSE)=0,\"\",\" \"&VLOOKUP(MID(A27,6,99)*1,'Data eshop'!D:T,4,FALSE)))","v":""},{"$f":"IF(A27=\"\",\"\",IF(VLOOKUP(MID(A27,6,99)*1,'Data eshop'!D:T,5,FALSE)=0,\"\",VLOOKUP(MID(A27,6,99)*1,'Data eshop'!D:T,5,FALSE)))","v":""},{"$f":"IF(A27=\"\",\"\",IF(VLOOKUP(MID(A27,6,99)*1,'Data eshop'!D:T,6,FALSE)=0,\"\",VLOOKUP(MID(A27,6,99)*1,'Data eshop'!D:T,6,FALSE)))","v":""},{"$f":"IF(A27=\"\",\"\",IF(VLOOKUP(MID(A27,6,99)*1,'Data eshop'!D:T,7,FALSE)=0,\"\",VLOOKUP(MID(A27,6,99)*1,'Data eshop'!D:T,7,FALSE)))","v":""},{"$f":"IF(A27=\"\",\"\",IF(VLOOKUP(MID(A27,6,99)*1,'Data eshop'!D:T,10,FALSE)=0,\"\",VLOOKUP(VLOOKUP(MID(A27,6,99)*1,'Data eshop'!D:T,10,FALSE),DATA!O:P,2,FALSE)))","v":""},"",{"$f":"IF(A27=\"\",\"\",IF(VLOOKUP(MID(A27,6,99)*1,'Data eshop'!D:W,18,FALSE)=0,\"\",VLOOKUP(MID(A27,6,99)*1,'Data eshop'!D:W,18,FALSE)))","v":""},{"$f":"IF(A27=\"\",\"\",IF(VLOOKUP(MID(A27,6,99)*1,'Data eshop'!D:W,19,FALSE)=0,\"\",VLOOKUP(MID(A27,6,99)*1,'Data eshop'!D:W,19,FALSE)))","v":""},{"$f":"IF(A27=\"\",\"\",IF(VLOOKUP(MID(A27,6,99)*1,'Data eshop'!D:T,11,FALSE)=0,\"\",IF(OR(VLOOKUP(MID(A27,6,99)*1,'Data eshop'!D:T,11,FALSE)=\"Na dobírku\",VLOOKUP(MID(A27,6,99)*1,'Data eshop'!D:T,11,FALSE)=\"Na dobierku\",VLOOKUP(MID(A27,6,99)*1,'Data eshop'!D:T,11,FALSE)=\"Za pobraniem\"),VLOOKUP(MID(A27,6,99)*1,'Data eshop'!D:W,20,FALSE),\"\")))","v":""},{"$f":"IF(L27=\"\",\"\",IF(VLOOKUP(MID(A27,6,99)*1,'Data eshop'!D:T,10,FALSE)=0,\"\",IF(VLOOKUP(MID(A27,6,99)*1,'Data eshop'!D:T,10,FALSE)=\"Česká republika\",\"CZK\",IF(VLOOKUP(MID(A27,6,99)*1,'Data eshop'!D:T,10,FALSE)=\"Poland\",\"PLN\",IF(VLOOKUP(MID(A27,6,99)*1,'Data eshop'!D:T,10,FALSE)=\"Slovakia\",\"EUR\",\"\")))))","v":""},"",null,26]
[{"$f":"IFERROR(VLOOKUP(P28,Zakázky!P:Q,2,FALSE),\"\")","v":""},"",{"$f":"IF(A28=\"\",\"\",IF(VLOOKUP(MID(A28,6,99)*1,'Data eshop'!D:T,2,FALSE)=0,\"\",VLOOKUP(MID(A28,6,99)*1,'Data eshop'!D:T,2,FALSE)))","v":""},{"$f":"IF(A28=\"\",\"\",IF(VLOOKUP(MID(A28,6,99)*1,'Data eshop'!D:T,3,FALSE)=0,IF(VLOOKUP(MID(A28,6,99)*1,'Data eshop'!D:T,4,FALSE)=0,\"\",VLOOKUP(MID(A28,6,99)*1,'Data eshop'!D:T,4,FALSE)),VLOOKUP(MID(A28,6,99)*1,'Data eshop'!D:T,3,FALSE))&IF(VLOOKUP(MID(A28,6,99)*1,'Data eshop'!D:T,4,FALSE)=0,\"\",\" \"&VLOOKUP(MID(A28,6,99)*1,'Data eshop'!D:T,4,FALSE)))","v":""},{"$f":"IF(A28=\"\",\"\",IF(VLOOKUP(MID(A28,6,99)*1,'Data eshop'!D:T,5,FALSE)=0,\"\",VLOOKUP(MID(A28,6,99)*1,'Data eshop'!D:T,5,FALSE)))","v":""},{"$f":"IF(A28=\"\",\"\",IF(VLOOKUP(MID(A28,6,99)*1,'Data eshop'!D:T,6,FALSE)=0,\"\",VLOOKUP(MID(A28,6,99)*1,'Data eshop'!D:T,6,FALSE)))","v":""},{"$f":"IF(A28=\"\",\"\",IF(VLOOKUP(MID(A28,6,99)*1,'Data eshop'!D:T,7,FALSE)=0,\"\",VLOOKUP(MID(A28,6,99)*1,'Data eshop'!D:T,7,FALSE)))","v":""},{"$f":"IF(A28=\"\",\"\",IF(VLOOKUP(MID(A28,6,99)*1,'Data eshop'!D:T,10,FALSE)=0,\"\",VLOOKUP(VLOOKUP(MID(A28,6,99)*1,'Data eshop'!D:T,10,FALSE),DATA!O:P,2,FALSE)))","v":""},"",{"$f":"IF(A28=\"\",\"\",IF(VLOOKUP(MID(A28,6,99)*1,'Data eshop'!D:W,18,FALSE)=0,\"\",VLOOKUP(MID(A28,6,99)*1,'Data eshop'!D:W,18,FALSE)))","v":""},{"$f":"IF(A28=\"\",\"\",IF(VLOOKUP(MID(A28,6,99)*1,'Data eshop'!D:W,19,FALSE)=0,\"\",VLOOKUP(MID(A28,6,99)*1,'Data eshop'!D:W,19,FALSE)))","v":""},{"$f":"IF(A28=\"\",\"\",IF(VLOOKUP(MID(A28,6,99)*1,'Data eshop'!D:T,11,FALSE)=0,\"\",IF(OR(VLOOKUP(MID(A28,6,99)*1,'Data eshop'!D:T,11,FALSE)=\"Na dobírku\",VLOOKUP(MID(A28,6,99)*1,'Data eshop'!D:T,11,FALSE)=\"Na dobierku\",VLOOKUP(MID(A28,6,99)*1,'Data eshop'!D:T,11,FALSE)=\"Za pobraniem\"),VLOOKUP(MID(A28,6,99)*1,'Data eshop'!D:W,20,FALSE),\"\")))","v":""},{"$f":"IF(L28=\"\",\"\",IF(VLOOKUP(MID(A28,6,99)*1,'Data eshop'!D:T,10,FALSE)=0,\"\",IF(VLOOKUP(MID(A28,6,99)*1,'Data eshop'!D:T,10,FALSE)=\"Česká republika\",\"CZK\",IF(VLOOKUP(MID(A28,6,99)*1,'Data eshop'!D:T,10,FALSE)=\"Poland\",\"PLN\",IF(VLOOKUP(MID(A28,6,99)*1,'Data eshop'!D:T,10,FALSE)=\"Slovakia\",\"EUR\",\"\")))))","v":""},"",null,27]
[{"$f":"IFERROR(VLOOKUP(P29,Zakázky!P:Q,2,FALSE),\"\")","v":""},"",{"$f":"IF(A29=\"\",\"\",IF(VLOOKUP(MID(A29,6,99)*1,'Data eshop'!D:T,2,FALSE)=0,\"\",VLOOKUP(MID(A29,6,99)*1,'Data eshop'!D:T,2,FALSE)))","v":""},{"$f":"IF(A29=\"\",\"\",IF(VLOOKUP(MID(A29,6,99)*1,'Data eshop'!D:T,3,FALSE)=0,IF(VLOOKUP(MID(A29,6,99)*1,'Data eshop'!D:T,4,FALSE)=0,\"\",VLOOKUP(MID(A29,6,99)*1,'Data eshop'!D:T,4,FALSE)),VLOOKUP(MID(A29,6,99)*1,'Data eshop'!D:T,3,FALSE))&IF(VLOOKUP(MID(A29,6,99)*1,'Data eshop'!D:T,4,FALSE)=0,\"\",\" \"&VLOOKUP(MID(A29,6,99)*1,'Data eshop'!D:T,4,FALSE)))","v":""},{"$f":"IF(A29=\"\",\"\",IF(VLOOKUP(MID(A29,6,99)*1,'Data eshop'!D:T,5,FALSE)=0,\"\",VLOOKUP(MID(A29,6,99)*1,'Data eshop'!D:T,5,FALSE)))","v":""},{"$f":"IF(A29=\"\",\"\",IF(VLOOKUP(MID(A29,6,99)*1,'Data eshop'!D:T,6,FALSE)=0,\"\",VLOOKUP(MID(A29,6,99)*1,'Data eshop'!D:T,6,FALSE)))","v":""},{"$f":"IF(A29=\"\",\"\",IF(VLOOKUP(MID(A29,6,99)*1,'Data eshop'!D:T,7,FALSE)=0,\"\",VLOOKUP(MID(A29,6,99)*1,'Data eshop'!D:T,7,FALSE)))","v":""},{"$f":"IF(A29=\"\",\"\",IF(VLOOKUP(MID(A29,6,99)*1,'Data eshop'!D:T,10,FALSE)=0,\"\",VLOOKUP(VLOOKUP(MID(A29,6,99)*1,'Data eshop'!D:T,10,FALSE),DATA!O:P,2,FALSE)))","v":""},"",{"$f":"IF(A29=\"\",\"\",IF(VLOOKUP(MID(A29,6,99)*1,'Data eshop'!D:W,18,FALSE)=0,\"\",VLOOKUP(MID(A29,6,99)*1,'Data eshop'!D:W,18,FALSE)))","v":""},{"$f":"IF(A29=\"\",\"\",IF(VLOOKUP(MID(A29,6,99)*1,'Data eshop'!D:W,19,FALSE)=0,\"\",VLOOKUP(MID(A29,6,99)*1,'Data eshop'!D:W,19,FALSE)))","v":""},{"$f":"IF(A29=\"\",\"\",IF(VLOOKUP(MID(A29,6,99)*1,'Data eshop'!D:T,11,FALSE)=0,\"\",IF(OR(VLOOKUP(MID(A29,6,99)*1,'Data eshop'!D:T,11,FALSE)=\"Na dobírku\",VLOOKUP(MID(A29,6,99)*1,'Data eshop'!D:T,11,FALSE)=\"Na dobierku\",VLOOKUP(MID(A29,6,99)*1,'Data eshop'!D:T,11,FALSE)=\"Za pobraniem\"),VLOOKUP(MID(A29,6,99)*1,'Data eshop'!D:W,20,FALSE),\"\")))","v":""},{"$f":"IF(L29=\"\",\"\",IF(VLOOKUP(MID(A29,6,99)*1,'Data eshop'!D:T,10,FALSE)=0,\"\",IF(VLOOKUP(MID(A29,6,99)*1,'Data eshop'!D:T,10,FALSE)=\"Česká republika\",\"CZK\",IF(VLOOKUP(MID(A29,6,99)*1,'Data eshop'!D:T,10,FALSE)=\"Poland\",\"PLN\",IF(VLOOKUP(MID(A29,6,99)*1,'Data eshop'!D:T,10,FALSE)=\"Slovakia\",\"EUR\",\"\")))))","v":""},"",null,28]
[{"$f":"IFERROR(VLOOKUP(P30,Zakázky!P:Q,2,FALSE),\"\")","v":""},"",{"$f":"IF(A30=\"\",\"\",IF(VLOOKUP(MID(A30,6,99)*1,'Data eshop'!D:T,2,FALSE)=0,\"\",VLOOKUP(MID(A30,6,99)*1,'Data eshop'!D:T,2,FALSE)))","v":""},{"$f":"IF(A30=\"\",\"\",IF(VLOOKUP(MID(A30,6,99)*1,'Data eshop'!D:T,3,FALSE)=0,IF(VLOOKUP(MID(A30,6,99)*1,'Data eshop'!D:T,4,FALSE)=0,\"\",VLOOKUP(MID(A30,6,99)*1,'Data eshop'!D:T,4,FALSE)),VLOOKUP(MID(A30,6,99)*1,'Data eshop'!D:T,3,FALSE))&IF(VLOOKUP(MID(A30,6,99)*1,'Data eshop'!D:T,4,FALSE)=0,\"\",\" \"&VLOOKUP(MID(A30,6,99)*1,'Data eshop'!D:T,4,FALSE)))","v":""},{"$f":"IF(A30=\"\",\"\",IF(VLOOKUP(MID(A30,6,99)*1,'Data eshop'!D:T,5,FALSE)=0,\"\",VLOOKUP(MID(A30,6,99)*1,'Data eshop'!D:T,5,FALSE)))","v":""},{"$f":"IF(A30=\"\",\"\",IF(VLOOKUP(MID(A30,6,99)*1,'Data eshop'!D:T,6,FALSE)=0,\"\",VLOOKUP(MID(A30,6,99)*1,'Data eshop'!D:T,6,FALSE)))","v":""},{"$f":"IF(A30=\"\",\"\",IF(VLOOKUP(MID(A30,6,99)*1,'Data eshop'!D:T,7,FALSE)=0,\"\",VLOOKUP(MID(A30,6,99)*1,'Data eshop'!D:T,7,FALSE)))","v":""},{"$f":"IF(A30=\"\",\"\",IF(VLOOKUP(MID(A30,6,99)*1,'Data eshop'!D:T,10,FALSE)=0,\"\",VLOOKUP(VLOOKUP(MID(A30,6,99)*1,'Data eshop'!D:T,10,FALSE),DATA!O:P,2,FALSE)))","v":""},"",{"$f":"IF(A30=\"\",\"\",IF(VLOOKUP(MID(A30,6,99)*1,'Data eshop'!D:W,18,FALSE)=0,\"\",VLOOKUP(MID(A30,6,99)*1,'Data eshop'!D:W,18,FALSE)))","v":""},{"$f":"IF(A30=\"\",\"\",IF(VLOOKUP(MID(A30,6,99)*1,'Data eshop'!D:W,19,FALSE)=0,\"\",VLOOKUP(MID(A30,6,99)*1,'Data eshop'!D:W,19,FALSE)))","v":""},{"$f":"IF(A30=\"\",\"\",IF(VLOOKUP(MID(A30,6,99)*1,'Data eshop'!D:T,11,FALSE)=0,\"\",IF(OR(VLOOKUP(MID(A30,6,99)*1,'Data eshop'!D:T,11,FALSE)=\"Na dobírku\",VLOOKUP(MID(A30,6,99)*1,'Data eshop'!D:T,11,FALSE)=\"Na dobierku\",VLOOKUP(MID(A30,6,99)*1,'Data eshop'!D:T,11,FALSE)=\"Za pobraniem\"),VLOOKUP(MID(A30,6,99)*1,'Data eshop'!D:W,20,FALSE),\"\")))","v":""},{"$f":"IF(L30=\"\",\"\",IF(VLOOKUP(MID(A30,6,99)*1,'Data eshop'!D:T,10,FALSE)=0,\"\",IF(VLOOKUP(MID(A30,6,99)*1,'Data eshop'!D:T,10,FALSE)=\"Česká republika\",\"CZK\",IF(VLOOKUP(MID(A30,6,99)*1,'Data eshop'!D:T,10,FALSE)=\"Poland\",\"PLN\",IF(VLOOKUP(MID(A30,6,99)*1,'Data eshop'!D:T,10,FALSE)=\"Slovakia\",\"EUR\",\"\")))))","v":""},"",null,29,null,"Roluj nahoru, až uvidíš žlutou"]
[{"$f":"IFERROR(VLOOKUP(P31,Zakázky!P:Q,2,FALSE),\"\")","v":""},"",{"$f":"IF(A31=\"\",\"\",IF(VLOOKUP(MID(A31,6,99)*1,'Data eshop'!D:T,2,FALSE)=0,\"\",VLOOKUP(MID(A31,6,99)*1,'Data eshop'!D:T,2,FALSE)))","v":""},{"$f":"IF(A31=\"\",\"\",IF(VLOOKUP(MID(A31,6,99)*1,'Data eshop'!D:T,3,FALSE)=0,IF(VLOOKUP(MID(A31,6,99)*1,'Data eshop'!D:T,4,FALSE)=0,\"\",VLOOKUP(MID(A31,6,99)*1,'Data eshop'!D:T,4,FALSE)),VLOOKUP(MID(A31,6,99)*1,'Data eshop'!D:T,3,FALSE))&IF(VLOOKUP(MID(A31,6,99)*1,'Data eshop'!D:T,4,FALSE)=0,\"\",\" \"&VLOOKUP(MID(A31,6,99)*1,'Data eshop'!D:T,4,FALSE)))","v":""},{"$f":"IF(A31=\"\",\"\",IF(VLOOKUP(MID(A31,6,99)*1,'Data eshop'!D:T,5,FALSE)=0,\"\",VLOOKUP(MID(A31,6,99)*1,'Data eshop'!D:T,5,FALSE)))","v":""},{"$f":"IF(A31=\"\",\"\",IF(VLOOKUP(MID(A31,6,99)*1,'Data eshop'!D:T,6,FALSE)=0,\"\",VLOOKUP(MID(A31,6,99)*1,'Data eshop'!D:T,6,FALSE)))","v":""},{"$f":"IF(A31=\"\",\"\",IF(VLOOKUP(MID(A31,6,99)*1,'Data eshop'!D:T,7,FALSE)=0,\"\",VLOOKUP(MID(A31,6,99)*1,'Data eshop'!D:T,7,FALSE)))","v":""},{"$f":"IF(A31=\"\",\"\",IF(VLOOKUP(MID(A31,6,99)*1,'Data eshop'!D:T,10,FALSE)=0,\"\",VLOOKUP(VLOOKUP(MID(A31,6,99)*1,'Data eshop'!D:T,10,FALSE),DATA!O:P,2,FALSE)))","v":""},"",{"$f":"IF(A31=\"\",\"\",IF(VLOOKUP(MID(A31,6,99)*1,'Data eshop'!D:W,18,FALSE)=0,\"\",VLOOKUP(MID(A31,6,99)*1,'Data eshop'!D:W,18,FALSE)))","v":""},{"$f":"IF(A31=\"\",\"\",IF(VLOOKUP(MID(A31,6,99)*1,'Data eshop'!D:W,19,FALSE)=0,\"\",VLOOKUP(MID(A31,6,99)*1,'Data eshop'!D:W,19,FALSE)))","v":""},{"$f":"IF(A31=\"\",\"\",IF(VLOOKUP(MID(A31,6,99)*1,'Data eshop'!D:T,11,FALSE)=0,\"\",IF(OR(VLOOKUP(MID(A31,6,99)*1,'Data eshop'!D:T,11,FALSE)=\"Na dobírku\",VLOOKUP(MID(A31,6,99)*1,'Data eshop'!D:T,11,FALSE)=\"Na dobierku\",VLOOKUP(MID(A31,6,99)*1,'Data eshop'!D:T,11,FALSE)=\"Za pobraniem\"),VLOOKUP(MID(A31,6,99)*1,'Data eshop'!D:W,20,FALSE),\"\")))","v":""},{"$f":"IF(L31=\"\",\"\",IF(VLOOKUP(MID(A31,6,99)*1,'Data eshop'!D:T,10,FALSE)=0,\"\",IF(VLOOKUP(MID(A31,6,99)*1,'Data eshop'!D:T,10,FALSE)=\"Česká republika\",\"CZK\",IF(VLOOKUP(MID(A31,6,99)*1,'Data eshop'!D:T,10,FALSE)=\"Poland\",\"PLN\",IF(VLOOKUP(MID(A31,6,99)*1,'Data eshop'!D:T,10,FALSE)=\"Slovakia\",\"EUR\",\"\")))))","v":""},"",null,30]
[{"$f":"IFERROR(VLOOKUP(P32,Zakázky!P:Q,2,FALSE),\"\")","v":""},"",{"$f":"IF(A32=\"\",\"\",IF(VLOOKUP(MID(A32,6,99)*1,'Data eshop'!D:T,2,FALSE)=0,\"\",VLOOKUP(MID(A32,6,99)*1,'Data eshop'!D:T,2,FALSE)))","v":""},{"$f":"IF(A32=\"\",\"\",IF(VLOOKUP(MID(A32,6,99)*1,'Data eshop'!D:T,3,FALSE)=0,IF(VLOOKUP(MID(A32,6,99)*1,'Data eshop'!D:T,4,FALSE)=0,\"\",VLOOKUP(MID(A32,6,99)*1,'Data eshop'!D:T,4,FALSE)),VLOOKUP(MID(A32,6,99)*1,'Data eshop'!D:T,3,FALSE))&IF(VLOOKUP(MID(A32,6,99)*1,'Data eshop'!D:T,4,FALSE)=0,\"\",\" \"&VLOOKUP(MID(A32,6,99)*1,'Data eshop'!D:T,4,FALSE)))","v":""},{"$f":"IF(A32=\"\",\"\",IF(VLOOKUP(MID(A32,6,99)*1,'Data eshop'!D:T,5,FALSE)=0,\"\",VLOOKUP(MID(A32,6,99)*1,'Data eshop'!D:T,5,FALSE)))","v":""},{"$f":"IF(A32=\"\",\"\",IF(VLOOKUP(MID(A32,6,99)*1,'Data eshop'!D:T,6,FALSE)=0,\"\",VLOOKUP(MID(A32,6,99)*1,'Data eshop'!D:T,6,FALSE)))","v":""},{"$f":"IF(A32=\"\",\"\",IF(VLOOKUP(MID(A32,6,99)*1,'Data eshop'!D:T,7,FALSE)=0,\"\",VLOOKUP(MID(A32,6,99)*1,'Data eshop'!D:T,7,FALSE)))","v":""},{"$f":"IF(A32=\"\",\"\",IF(VLOOKUP(MID(A32,6,99)*1,'Data eshop'!D:T,10,FALSE)=0,\"\",VLOOKUP(VLOOKUP(MID(A32,6,99)*1,'Data eshop'!D:T,10,FALSE),DATA!O:P,2,FALSE)))","v":""},"",{"$f":"IF(A32=\"\",\"\",IF(VLOOKUP(MID(A32,6,99)*1,'Data eshop'!D:W,18,FALSE)=0,\"\",VLOOKUP(MID(A32,6,99)*1,'Data eshop'!D:W,18,FALSE)))","v":""},{"$f":"IF(A32=\"\",\"\",IF(VLOOKUP(MID(A32,6,99)*1,'Data eshop'!D:W,19,FALSE)=0,\"\",VLOOKUP(MID(A32,6,99)*1,'Data eshop'!D:W,19,FALSE)))","v":""},{"$f":"IF(A32=\"\",\"\",IF(VLOOKUP(MID(A32,6,99)*1,'Data eshop'!D:T,11,FALSE)=0,\"\",IF(OR(VLOOKUP(MID(A32,6,99)*1,'Data eshop'!D:T,11,FALSE)=\"Na dobírku\",VLOOKUP(MID(A32,6,99)*1,'Data eshop'!D:T,11,FALSE)=\"Na dobierku\",VLOOKUP(MID(A32,6,99)*1,'Data eshop'!D:T,11,FALSE)=\"Za pobraniem\"),VLOOKUP(MID(A32,6,99)*1,'Data eshop'!D:W,20,FALSE),\"\")))","v":""},{"$f":"IF(L32=\"\",\"\",IF(VLOOKUP(MID(A32,6,99)*1,'Data eshop'!D:T,10,FALSE)=0,\"\",IF(VLOOKUP(MID(A32,6,99)*1,'Data eshop'!D:T,10,FALSE)=\"Česká republika\",\"CZK\",IF(VLOOKUP(MID(A32,6,99)*1,'Data eshop'!D:T,10,FALSE)=\"Poland\",\"PLN\",IF(VLOOKUP(MID(A32,6,99)*1,'Data eshop'!D:T,10,FALSE)=\"Slovakia\",\"EUR\",\"\")))))","v":""},"",null,31]
[{"$f":"IFERROR(VLOOKUP(P33,Zakázky!P:Q,2,FALSE),\"\")","v":""},"",{"$f":"IF(A33=\"\",\"\",IF(VLOOKUP(MID(A33,6,99)*1,'Data eshop'!D:T,2,FALSE)=0,\"\",VLOOKUP(MID(A33,6,99)*1,'Data eshop'!D:T,2,FALSE)))","v":""},{"$f":"IF(A33=\"\",\"\",IF(VLOOKUP(MID(A33,6,99)*1,'Data eshop'!D:T,3,FALSE)=0,IF(VLOOKUP(MID(A33,6,99)*1,'Data eshop'!D:T,4,FALSE)=0,\"\",VLOOKUP(MID(A33,6,99)*1,'Data eshop'!D:T,4,FALSE)),VLOOKUP(MID(A33,6,99)*1,'Data eshop'!D:T,3,FALSE))&IF(VLOOKUP(MID(A33,6,99)*1,'Data eshop'!D:T,4,FALSE)=0,\"\",\" \"&VLOOKUP(MID(A33,6,99)*1,'Data eshop'!D:T,4,FALSE)))","v":""},{"$f":"IF(A33=\"\",\"\",IF(VLOOKUP(MID(A33,6,99)*1,'Data eshop'!D:T,5,FALSE)=0,\"\",VLOOKUP(MID(A33,6,99)*1,'Data eshop'!D:T,5,FALSE)))","v":""},{"$f":"IF(A33=\"\",\"\",IF(VLOOKUP(MID(A33,6,99)*1,'Data eshop'!D:T,6,FALSE)=0,\"\",VLOOKUP(MID(A33,6,99)*1,'Data eshop'!D:T,6,FALSE)))","v":""},{"$f":"IF(A33=\"\",\"\",IF(VLOOKUP(MID(A33,6,99)*1,'Data eshop'!D:T,7,FALSE)=0,\"\",VLOOKUP(MID(A33,6,99)*1,'Data eshop'!D:T,7,FALSE)))","v":""},{"$f":"IF(A33=\"\",\"\",IF(VLOOKUP(MID(A33,6,99)*1,'Data eshop'!D:T,10,FALSE)=0,\"\",VLOOKUP(VLOOKUP(MID(A33,6,99)*1,'Data eshop'!D:T,10,FALSE),DATA!O:P,2,FALSE)))","v":""},"",{"$f":"IF(A33=\"\",\"\",IF(VLOOKUP(MID(A33,6,99)*1,'Data eshop'!D:W,18,FALSE)=0,\"\",VLOOKUP(MID(A33,6,99)*1,'Data eshop'!D:W,18,FALSE)))","v":""},{"$f":"IF(A33=\"\",\"\",IF(VLOOKUP(MID(A33,6,99)*1,'Data eshop'!D:W,19,FALSE)=0,\"\",VLOOKUP(MID(A33,6,99)*1,'Data eshop'!D:W,19,FALSE)))","v":""},{"$f":"IF(A33=\"\",\"\",IF(VLOOKUP(MID(A33,6,99)*1,'Data eshop'!D:T,11,FALSE)=0,\"\",IF(OR(VLOOKUP(MID(A33,6,99)*1,'Data eshop'!D:T,11,FALSE)=\"Na dobírku\",VLOOKUP(MID(A33,6,99)*1,'Data eshop'!D:T,11,FALSE)=\"Na dobierku\",VLOOKUP(MID(A33,6,99)*1,'Data eshop'!D:T,11,FALSE)=\"Za pobraniem\"),VLOOKUP(MID(A33,6,99)*1,'Data eshop'!D:W,20,FALSE),\"\")))","v":""},{"$f":"IF(L33=\"\",\"\",IF(VLOOKUP(MID(A33,6,99)*1,'Data eshop'!D:T,10,FALSE)=0,\"\",IF(VLOOKUP(MID(A33,6,99)*1,'Data eshop'!D:T,10,FALSE)=\"Česká republika\",\"CZK\",IF(VLOOKUP(MID(A33,6,99)*1,'Data eshop'!D:T,10,FALSE)=\"Poland\",\"PLN\",IF(VLOOKUP(MID(A33,6,99)*1,'Data eshop'!D:T,10,FALSE)=\"Slovakia\",\"EUR\",\"\")))))","v":""},"",null,32]
[{"$f":"IFERROR(VLOOKUP(P34,Zakázky!P:Q,2,FALSE),\"\")","v":""},"",{"$f":"IF(A34=\"\",\"\",IF(VLOOKUP(MID(A34,6,99)*1,'Data eshop'!D:T,2,FALSE)=0,\"\",VLOOKUP(MID(A34,6,99)*1,'Data eshop'!D:T,2,FALSE)))","v":""},{"$f":"IF(A34=\"\",\"\",IF(VLOOKUP(MID(A34,6,99)*1,'Data eshop'!D:T,3,FALSE)=0,IF(VLOOKUP(MID(A34,6,99)*1,'Data eshop'!D:T,4,FALSE)=0,\"\",VLOOKUP(MID(A34,6,99)*1,'Data eshop'!D:T,4,FALSE)),VLOOKUP(MID(A34,6,99)*1,'Data eshop'!D:T,3,FALSE))&IF(VLOOKUP(MID(A34,6,99)*1,'Data eshop'!D:T,4,FALSE)=0,\"\",\" \"&VLOOKUP(MID(A34,6,99)*1,'Data eshop'!D:T,4,FALSE)))","v":""},{"$f":"IF(A34=\"\",\"\",IF(VLOOKUP(MID(A34,6,99)*1,'Data eshop'!D:T,5,FALSE)=0,\"\",VLOOKUP(MID(A34,6,99)*1,'Data eshop'!D:T,5,FALSE)))","v":""},{"$f":"IF(A34=\"\",\"\",IF(VLOOKUP(MID(A34,6,99)*1,'Data eshop'!D:T,6,FALSE)=0,\"\",VLOOKUP(MID(A34,6,99)*1,'Data eshop'!D:T,6,FALSE)))","v":""},{"$f":"IF(A34=\"\",\"\",IF(VLOOKUP(MID(A34,6,99)*1,'Data eshop'!D:T,7,FALSE)=0,\"\",VLOOKUP(MID(A34,6,99)*1,'Data eshop'!D:T,7,FALSE)))","v":""},{"$f":"IF(A34=\"\",\"\",IF(VLOOKUP(MID(A34,6,99)*1,'Data eshop'!D:T,10,FALSE)=0,\"\",VLOOKUP(VLOOKUP(MID(A34,6,99)*1,'Data eshop'!D:T,10,FALSE),DATA!O:P,2,FALSE)))","v":""},"",{"$f":"IF(A34=\"\",\"\",IF(VLOOKUP(MID(A34,6,99)*1,'Data eshop'!D:W,18,FALSE)=0,\"\",VLOOKUP(MID(A34,6,99)*1,'Data eshop'!D:W,18,FALSE)))","v":""},{"$f":"IF(A34=\"\",\"\",IF(VLOOKUP(MID(A34,6,99)*1,'Data eshop'!D:W,19,FALSE)=0,\"\",VLOOKUP(MID(A34,6,99)*1,'Data eshop'!D:W,19,FALSE)))","v":""},{"$f":"IF(A34=\"\",\"\",IF(VLOOKUP(MID(A34,6,99)*1,'Data eshop'!D:T,11,FALSE)=0,\"\",IF(OR(VLOOKUP(MID(A34,6,99)*1,'Data eshop'!D:T,11,FALSE)=\"Na dobírku\",VLOOKUP(MID(A34,6,99)*1,'Data eshop'!D:T,11,FALSE)=\"Na dobierku\",VLOOKUP(MID(A34,6,99)*1,'Data eshop'!D:T,11,FALSE)=\"Za pobraniem\"),VLOOKUP(MID(A34,6,99)*1,'Data eshop'!D:W,20,FALSE),\"\")))","v":""},{"$f":"IF(L34=\"\",\"\",IF(VLOOKUP(MID(A34,6,99)*1,'Data eshop'!D:T,10,FALSE)=0,\"\",IF(VLOOKUP(MID(A34,6,99)*1,'Data eshop'!D:T,10,FALSE)=\"Česká republika\",\"CZK\",IF(VLOOKUP(MID(A34,6,99)*1,'Data eshop'!D:T,10,FALSE)=\"Poland\",\"PLN\",IF(VLOOKUP(MID(A34,6,99)*1,'Data eshop'!D:T,10,FALSE)=\"Slovakia\",\"EUR\",\"\")))))","v":""},"",null,33,null,"Roluj nahoru, až uvidíš žlutou"]
[{"$f":"IFERROR(VLOOKUP(P35,Zakázky!P:Q,2,FALSE),\"\")","v":""},"",{"$f":"IF(A35=\"\",\"\",IF(VLOOKUP(MID(A35,6,99)*1,'Data eshop'!D:T,2,FALSE)=0,\"\",VLOOKUP(MID(A35,6,99)*1,'Data eshop'!D:T,2,FALSE)))","v":""},{"$f":"IF(A35=\"\",\"\",IF(VLOOKUP(MID(A35,6,99)*1,'Data eshop'!D:T,3,FALSE)=0,IF(VLOOKUP(MID(A35,6,99)*1,'Data eshop'!D:T,4,FALSE)=0,\"\",VLOOKUP(MID(A35,6,99)*1,'Data eshop'!D:T,4,FALSE)),VLOOKUP(MID(A35,6,99)*1,'Data eshop'!D:T,3,FALSE))&IF(VLOOKUP(MID(A35,6,99)*1,'Data eshop'!D:T,4,FALSE)=0,\"\",\" \"&VLOOKUP(MID(A35,6,99)*1,'Data eshop'!D:T,4,FALSE)))","v":""},{"$f":"IF(A35=\"\",\"\",IF(VLOOKUP(MID(A35,6,99)*1,'Data eshop'!D:T,5,FALSE)=0,\"\",VLOOKUP(MID(A35,6,99)*1,'Data eshop'!D:T,5,FALSE)))","v":""},{"$f":"IF(A35=\"\",\"\",IF(VLOOKUP(MID(A35,6,99)*1,'Data eshop'!D:T,6,FALSE)=0,\"\",VLOOKUP(MID(A35,6,99)*1,'Data eshop'!D:T,6,FALSE)))","v":""},{"$f":"IF(A35=\"\",\"\",IF(VLOOKUP(MID(A35,6,99)*1,'Data eshop'!D:T,7,FALSE)=0,\"\",VLOOKUP(MID(A35,6,99)*1,'Data eshop'!D:T,7,FALSE)))","v":""},{"$f":"IF(A35=\"\",\"\",IF(VLOOKUP(MID(A35,6,99)*1,'Data eshop'!D:T,10,FALSE)=0,\"\",VLOOKUP(VLOOKUP(MID(A35,6,99)*1,'Data eshop'!D:T,10,FALSE),DATA!O:P,2,FALSE)))","v":""},"",{"$f":"IF(A35=\"\",\"\",IF(VLOOKUP(MID(A35,6,99)*1,'Data eshop'!D:W,18,FALSE)=0,\"\",VLOOKUP(MID(A35,6,99)*1,'Data eshop'!D:W,18,FALSE)))","v":""},{"$f":"IF(A35=\"\",\"\",IF(VLOOKUP(MID(A35,6,99)*1,'Data eshop'!D:W,19,FALSE)=0,\"\",VLOOKUP(MID(A35,6,99)*1,'Data eshop'!D:W,19,FALSE)))","v":""},{"$f":"IF(A35=\"\",\"\",IF(VLOOKUP(MID(A35,6,99)*1,'Data eshop'!D:T,11,FALSE)=0,\"\",IF(OR(VLOOKUP(MID(A35,6,99)*1,'Data eshop'!D:T,11,FALSE)=\"Na dobírku\",VLOOKUP(MID(A35,6,99)*1,'Data eshop'!D:T,11,FALSE)=\"Na dobierku\",VLOOKUP(MID(A35,6,99)*1,'Data eshop'!D:T,11,FALSE)=\"Za pobraniem\"),VLOOKUP(MID(A35,6,99)*1,'Data eshop'!D:W,20,FALSE),\"\")))","v":""},{"$f":"IF(L35=\"\",\"\",IF(VLOOKUP(MID(A35,6,99)*1,'Data eshop'!D:T,10,FALSE)=0,\"\",IF(VLOOKUP(MID(A35,6,99)*1,'Data eshop'!D:T,10,FALSE)=\"Česká republika\",\"CZK\",IF(VLOOKUP(MID(A35,6,99)*1,'Data eshop'!D:T,10,FALSE)=\"Poland\",\"PLN\",IF(VLOOKUP(MID(A35,6,99)*1,'Data eshop'!D:T,10,FALSE)=\"Slovakia\",\"EUR\",\"\")))))","v":""},"",null,34]
[{"$f":"IFERROR(VLOOKUP(P36,Zakázky!P:Q,2,FALSE),\"\")","v":""},"",{"$f":"IF(A36=\"\",\"\",IF(VLOOKUP(MID(A36,6,99)*1,'Data eshop'!D:T,2,FALSE)=0,\"\",VLOOKUP(MID(A36,6,99)*1,'Data eshop'!D:T,2,FALSE)))","v":""},{"$f":"IF(A36=\"\",\"\",IF(VLOOKUP(MID(A36,6,99)*1,'Data eshop'!D:T,3,FALSE)=0,IF(VLOOKUP(MID(A36,6,99)*1,'Data eshop'!D:T,4,FALSE)=0,\"\",VLOOKUP(MID(A36,6,99)*1,'Data eshop'!D:T,4,FALSE)),VLOOKUP(MID(A36,6,99)*1,'Data eshop'!D:T,3,FALSE))&IF(VLOOKUP(MID(A36,6,99)*1,'Data eshop'!D:T,4,FALSE)=0,\"\",\" \"&VLOOKUP(MID(A36,6,99)*1,'Data eshop'!D:T,4,FALSE)))","v":""},{"$f":"IF(A36=\"\",\"\",IF(VLOOKUP(MID(A36,6,99)*1,'Data eshop'!D:T,5,FALSE)=0,\"\",VLOOKUP(MID(A36,6,99)*1,'Data eshop'!D:T,5,FALSE)))","v":""},{"$f":"IF(A36=\"\",\"\",IF(VLOOKUP(MID(A36,6,99)*1,'Data eshop'!D:T,6,FALSE)=0,\"\",VLOOKUP(MID(A36,6,99)*1,'Data eshop'!D:T,6,FALSE)))","v":""},{"$f":"IF(A36=\"\",\"\",IF(VLOOKUP(MID(A36,6,99)*1,'Data eshop'!D:T,7,FALSE)=0,\"\",VLOOKUP(MID(A36,6,99)*1,'Data eshop'!D:T,7,FALSE)))","v":""},{"$f":"IF(A36=\"\",\"\",IF(VLOOKUP(MID(A36,6,99)*1,'Data eshop'!D:T,10,FALSE)=0,\"\",VLOOKUP(VLOOKUP(MID(A36,6,99)*1,'Data eshop'!D:T,10,FALSE),DATA!O:P,2,FALSE)))","v":""},"",{"$f":"IF(A36=\"\",\"\",IF(VLOOKUP(MID(A36,6,99)*1,'Data eshop'!D:W,18,FALSE)=0,\"\",VLOOKUP(MID(A36,6,99)*1,'Data eshop'!D:W,18,FALSE)))","v":""},{"$f":"IF(A36=\"\",\"\",IF(VLOOKUP(MID(A36,6,99)*1,'Data eshop'!D:W,19,FALSE)=0,\"\",VLOOKUP(MID(A36,6,99)*1,'Data eshop'!D:W,19,FALSE)))","v":""},{"$f":"IF(A36=\"\",\"\",IF(VLOOKUP(MID(A36,6,99)*1,'Data eshop'!D:T,11,FALSE)=0,\"\",IF(OR(VLOOKUP(MID(A36,6,99)*1,'Data eshop'!D:T,11,FALSE)=\"Na dobírku\",VLOOKUP(MID(A36,6,99)*1,'Data eshop'!D:T,11,FALSE)=\"Na dobierku\",VLOOKUP(MID(A36,6,99)*1,'Data eshop'!D:T,11,FALSE)=\"Za pobraniem\"),VLOOKUP(MID(A36,6,99)*1,'Data eshop'!D:W,20,FALSE),\"\")))","v":""},{"$f":"IF(L36=\"\",\"\",IF(VLOOKUP(MID(A36,6,99)*1,'Data eshop'!D:T,10,FALSE)=0,\"\",IF(VLOOKUP(MID(A36,6,99)*1,'Data eshop'!D:T,10,FALSE)=\"Česká republika\",\"CZK\",IF(VLOOKUP(MID(A36,6,99)*1,'Data eshop'!D:T,10,FALSE)=\"Poland\",\"PLN\",IF(VLOOKUP(MID(A36,6,99)*1,'Data eshop'!D:T,10,FALSE)=\"Slovakia\",\"EUR\",\"\")))))","v":""},"",null,35]
[{"$f":"IFERROR(VLOOKUP(P37,Zakázky!P:Q,2,FALSE),\"\")","v":""},"",{"$f":"IF(A37=\"\",\"\",IF(VLOOKUP(MID(A37,6,99)*1,'Data eshop'!D:T,2,FALSE)=0,\"\",VLOOKUP(MID(A37,6,99)*1,'Data eshop'!D:T,2,FALSE)))","v":""},{"$f":"IF(A37=\"\",\"\",IF(VLOOKUP(MID(A37,6,99)*1,'Data eshop'!D:T,3,FALSE)=0,IF(VLOOKUP(MID(A37,6,99)*1,'Data eshop'!D:T,4,FALSE)=0,\"\",VLOOKUP(MID(A37,6,99)*1,'Data eshop'!D:T,4,FALSE)),VLOOKUP(MID(A37,6,99)*1,'Data eshop'!D:T,3,FALSE))&IF(VLOOKUP(MID(A37,6,99)*1,'Data eshop'!D:T,4,FALSE)=0,\"\",\" \"&VLOOKUP(MID(A37,6,99)*1,'Data eshop'!D:T,4,FALSE)))","v":""},{"$f":"IF(A37=\"\",\"\",IF(VLOOKUP(MID(A37,6,99)*1,'Data eshop'!D:T,5,FALSE)=0,\"\",VLOOKUP(MID(A37,6,99)*1,'Data eshop'!D:T,5,FALSE)))","v":""},{"$f":"IF(A37=\"\",\"\",IF(VLOOKUP(MID(A37,6,99)*1,'Data eshop'!D:T,6,FALSE)=0,\"\",VLOOKUP(MID(A37,6,99)*1,'Data eshop'!D:T,6,FALSE)))","v":""},{"$f":"IF(A37=\"\",\"\",IF(VLOOKUP(MID(A37,6,99)*1,'Data eshop'!D:T,7,FALSE)=0,\"\",VLOOKUP(MID(A37,6,99)*1,'Data eshop'!D:T,7,FALSE)))","v":""},{"$f":"IF(A37=\"\",\"\",IF(VLOOKUP(MID(A37,6,99)*1,'Data eshop'!D:T,10,FALSE)=0,\"\",VLOOKUP(VLOOKUP(MID(A37,6,99)*1,'Data eshop'!D:T,10,FALSE),DATA!O:P,2,FALSE)))","v":""},"",{"$f":"IF(A37=\"\",\"\",IF(VLOOKUP(MID(A37,6,99)*1,'Data eshop'!D:W,18,FALSE)=0,\"\",VLOOKUP(MID(A37,6,99)*1,'Data eshop'!D:W,18,FALSE)))","v":""},{"$f":"IF(A37=\"\",\"\",IF(VLOOKUP(MID(A37,6,99)*1,'Data eshop'!D:W,19,FALSE)=0,\"\",VLOOKUP(MID(A37,6,99)*1,'Data eshop'!D:W,19,FALSE)))","v":""},{"$f":"IF(A37=\"\",\"\",IF(VLOOKUP(MID(A37,6,99)*1,'Data eshop'!D:T,11,FALSE)=0,\"\",IF(OR(VLOOKUP(MID(A37,6,99)*1,'Data eshop'!D:T,11,FALSE)=\"Na dobírku\",VLOOKUP(MID(A37,6,99)*1,'Data eshop'!D:T,11,FALSE)=\"Na dobierku\",VLOOKUP(MID(A37,6,99)*1,'Data eshop'!D:T,11,FALSE)=\"Za pobraniem\"),VLOOKUP(MID(A37,6,99)*1,'Data eshop'!D:W,20,FALSE),\"\")))","v":""},{"$f":"IF(L37=\"\",\"\",IF(VLOOKUP(MID(A37,6,99)*1,'Data eshop'!D:T,10,FALSE)=0,\"\",IF(VLOOKUP(MID(A37,6,99)*1,'Data eshop'!D:T,10,FALSE)=\"Česká republika\",\"CZK\",IF(VLOOKUP(MID(A37,6,99)*1,'Data eshop'!D:T,10,FALSE)=\"Poland\",\"PLN\",IF(VLOOKUP(MID(A37,6,99)*1,'Data eshop'!D:T,10,FALSE)=\"Slovakia\",\"EUR\",\"\")))))","v":""},"",null,36]
[{"$f":"IFERROR(VLOOKUP(P38,Zakázky!P:Q,2,FALSE),\"\")","v":""},"",{"$f":"IF(A38=\"\",\"\",IF(VLOOKUP(MID(A38,6,99)*1,'Data eshop'!D:T,2,FALSE)=0,\"\",VLOOKUP(MID(A38,6,99)*1,'Data eshop'!D:T,2,FALSE)))","v":""},{"$f":"IF(A38=\"\",\"\",IF(VLOOKUP(MID(A38,6,99)*1,'Data eshop'!D:T,3,FALSE)=0,IF(VLOOKUP(MID(A38,6,99)*1,'Data eshop'!D:T,4,FALSE)=0,\"\",VLOOKUP(MID(A38,6,99)*1,'Data eshop'!D:T,4,FALSE)),VLOOKUP(MID(A38,6,99)*1,'Data eshop'!D:T,3,FALSE))&IF(VLOOKUP(MID(A38,6,99)*1,'Data eshop'!D:T,4,FALSE)=0,\"\",\" \"&VLOOKUP(MID(A38,6,99)*1,'Data eshop'!D:T,4,FALSE)))","v":""},{"$f":"IF(A38=\"\",\"\",IF(VLOOKUP(MID(A38,6,99)*1,'Data eshop'!D:T,5,FALSE)=0,\"\",VLOOKUP(MID(A38,6,99)*1,'Data eshop'!D:T,5,FALSE)))","v":""},{"$f":"IF(A38=\"\",\"\",IF(VLOOKUP(MID(A38,6,99)*1,'Data eshop'!D:T,6,FALSE)=0,\"\",VLOOKUP(MID(A38,6,99)*1,'Data eshop'!D:T,6,FALSE)))","v":""},{"$f":"IF(A38=\"\",\"\",IF(VLOOKUP(MID(A38,6,99)*1,'Data eshop'!D:T,7,FALSE)=0,\"\",VLOOKUP(MID(A38,6,99)*1,'Data eshop'!D:T,7,FALSE)))","v":""},{"$f":"IF(A38=\"\",\"\",IF(VLOOKUP(MID(A38,6,99)*1,'Data eshop'!D:T,10,FALSE)=0,\"\",VLOOKUP(VLOOKUP(MID(A38,6,99)*1,'Data eshop'!D:T,10,FALSE),DATA!O:P,2,FALSE)))","v":""},"",{"$f":"IF(A38=\"\",\"\",IF(VLOOKUP(MID(A38,6,99)*1,'Data eshop'!D:W,18,FALSE)=0,\"\",VLOOKUP(MID(A38,6,99)*1,'Data eshop'!D:W,18,FALSE)))","v":""},{"$f":"IF(A38=\"\",\"\",IF(VLOOKUP(MID(A38,6,99)*1,'Data eshop'!D:W,19,FALSE)=0,\"\",VLOOKUP(MID(A38,6,99)*1,'Data eshop'!D:W,19,FALSE)))","v":""},{"$f":"IF(A38=\"\",\"\",IF(VLOOKUP(MID(A38,6,99)*1,'Data eshop'!D:T,11,FALSE)=0,\"\",IF(OR(VLOOKUP(MID(A38,6,99)*1,'Data eshop'!D:T,11,FALSE)=\"Na dobírku\",VLOOKUP(MID(A38,6,99)*1,'Data eshop'!D:T,11,FALSE)=\"Na dobierku\",VLOOKUP(MID(A38,6,99)*1,'Data eshop'!D:T,11,FALSE)=\"Za pobraniem\"),VLOOKUP(MID(A38,6,99)*1,'Data eshop'!D:W,20,FALSE),\"\")))","v":""},{"$f":"IF(L38=\"\",\"\",IF(VLOOKUP(MID(A38,6,99)*1,'Data eshop'!D:T,10,FALSE)=0,\"\",IF(VLOOKUP(MID(A38,6,99)*1,'Data eshop'!D:T,10,FALSE)=\"Česká republika\",\"CZK\",IF(VLOOKUP(MID(A38,6,99)*1,'Data eshop'!D:T,10,FALSE)=\"Poland\",\"PLN\",IF(VLOOKUP(MID(A38,6,99)*1,'Data eshop'!D:T,10,FALSE)=\"Slovakia\",\"EUR\",\"\")))))","v":""},"",null,37,null,"Roluj nahoru, až uvidíš žlutou"]
[{"$f":"IFERROR(VLOOKUP(P39,Zakázky!P:Q,2,FALSE),\"\")","v":""},"",{"$f":"IF(A39=\"\",\"\",IF(VLOOKUP(MID(A39,6,99)*1,'Data eshop'!D:T,2,FALSE)=0,\"\",VLOOKUP(MID(A39,6,99)*1,'Data eshop'!D:T,2,FALSE)))","v":""},{"$f":"IF(A39=\"\",\"\",IF(VLOOKUP(MID(A39,6,99)*1,'Data eshop'!D:T,3,FALSE)=0,IF(VLOOKUP(MID(A39,6,99)*1,'Data eshop'!D:T,4,FALSE)=0,\"\",VLOOKUP(MID(A39,6,99)*1,'Data eshop'!D:T,4,FALSE)),VLOOKUP(MID(A39,6,99)*1,'Data eshop'!D:T,3,FALSE))&IF(VLOOKUP(MID(A39,6,99)*1,'Data eshop'!D:T,4,FALSE)=0,\"\",\" \"&VLOOKUP(MID(A39,6,99)*1,'Data eshop'!D:T,4,FALSE)))","v":""},{"$f":"IF(A39=\"\",\"\",IF(VLOOKUP(MID(A39,6,99)*1,'Data eshop'!D:T,5,FALSE)=0,\"\",VLOOKUP(MID(A39,6,99)*1,'Data eshop'!D:T,5,FALSE)))","v":""},{"$f":"IF(A39=\"\",\"\",IF(VLOOKUP(MID(A39,6,99)*1,'Data eshop'!D:T,6,FALSE)=0,\"\",VLOOKUP(MID(A39,6,99)*1,'Data eshop'!D:T,6,FALSE)))","v":""},{"$f":"IF(A39=\"\",\"\",IF(VLOOKUP(MID(A39,6,99)*1,'Data eshop'!D:T,7,FALSE)=0,\"\",VLOOKUP(MID(A39,6,99)*1,'Data eshop'!D:T,7,FALSE)))","v":""},{"$f":"IF(A39=\"\",\"\",IF(VLOOKUP(MID(A39,6,99)*1,'Data eshop'!D:T,10,FALSE)=0,\"\",VLOOKUP(VLOOKUP(MID(A39,6,99)*1,'Data eshop'!D:T,10,FALSE),DATA!O:P,2,FALSE)))","v":""},"",{"$f":"IF(A39=\"\",\"\",IF(VLOOKUP(MID(A39,6,99)*1,'Data eshop'!D:W,18,FALSE)=0,\"\",VLOOKUP(MID(A39,6,99)*1,'Data eshop'!D:W,18,FALSE)))","v":""},{"$f":"IF(A39=\"\",\"\",IF(VLOOKUP(MID(A39,6,99)*1,'Data eshop'!D:W,19,FALSE)=0,\"\",VLOOKUP(MID(A39,6,99)*1,'Data eshop'!D:W,19,FALSE)))","v":""},{"$f":"IF(A39=\"\",\"\",IF(VLOOKUP(MID(A39,6,99)*1,'Data eshop'!D:T,11,FALSE)=0,\"\",IF(OR(VLOOKUP(MID(A39,6,99)*1,'Data eshop'!D:T,11,FALSE)=\"Na dobírku\",VLOOKUP(MID(A39,6,99)*1,'Data eshop'!D:T,11,FALSE)=\"Na dobierku\",VLOOKUP(MID(A39,6,99)*1,'Data eshop'!D:T,11,FALSE)=\"Za pobraniem\"),VLOOKUP(MID(A39,6,99)*1,'Data eshop'!D:W,20,FALSE),\"\")))","v":""},{"$f":"IF(L39=\"\",\"\",IF(VLOOKUP(MID(A39,6,99)*1,'Data eshop'!D:T,10,FALSE)=0,\"\",IF(VLOOKUP(MID(A39,6,99)*1,'Data eshop'!D:T,10,FALSE)=\"Česká republika\",\"CZK\",IF(VLOOKUP(MID(A39,6,99)*1,'Data eshop'!D:T,10,FALSE)=\"Poland\",\"PLN\",IF(VLOOKUP(MID(A39,6,99)*1,'Data eshop'!D:T,10,FALSE)=\"Slovakia\",\"EUR\",\"\")))))","v":""},"",null,38]
[{"$f":"IFERROR(VLOOKUP(P40,Zakázky!P:Q,2,FALSE),\"\")","v":""},"",{"$f":"IF(A40=\"\",\"\",IF(VLOOKUP(MID(A40,6,99)*1,'Data eshop'!D:T,2,FALSE)=0,\"\",VLOOKUP(MID(A40,6,99)*1,'Data eshop'!D:T,2,FALSE)))","v":""},{"$f":"IF(A40=\"\",\"\",IF(VLOOKUP(MID(A40,6,99)*1,'Data eshop'!D:T,3,FALSE)=0,IF(VLOOKUP(MID(A40,6,99)*1,'Data eshop'!D:T,4,FALSE)=0,\"\",VLOOKUP(MID(A40,6,99)*1,'Data eshop'!D:T,4,FALSE)),VLOOKUP(MID(A40,6,99)*1,'Data eshop'!D:T,3,FALSE))&IF(VLOOKUP(MID(A40,6,99)*1,'Data eshop'!D:T,4,FALSE)=0,\"\",\" \"&VLOOKUP(MID(A40,6,99)*1,'Data eshop'!D:T,4,FALSE)))","v":""},{"$f":"IF(A40=\"\",\"\",IF(VLOOKUP(MID(A40,6,99)*1,'Data eshop'!D:T,5,FALSE)=0,\"\",VLOOKUP(MID(A40,6,99)*1,'Data eshop'!D:T,5,FALSE)))","v":""},{"$f":"IF(A40=\"\",\"\",IF(VLOOKUP(MID(A40,6,99)*1,'Data eshop'!D:T,6,FALSE)=0,\"\",VLOOKUP(MID(A40,6,99)*1,'Data eshop'!D:T,6,FALSE)))","v":""},{"$f":"IF(A40=\"\",\"\",IF(VLOOKUP(MID(A40,6,99)*1,'Data eshop'!D:T,7,FALSE)=0,\"\",VLOOKUP(MID(A40,6,99)*1,'Data eshop'!D:T,7,FALSE)))","v":""},{"$f":"IF(A40=\"\",\"\",IF(VLOOKUP(MID(A40,6,99)*1,'Data eshop'!D:T,10,FALSE)=0,\"\",VLOOKUP(VLOOKUP(MID(A40,6,99)*1,'Data eshop'!D:T,10,FALSE),DATA!O:P,2,FALSE)))","v":""},"",{"$f":"IF(A40=\"\",\"\",IF(VLOOKUP(MID(A40,6,99)*1,'Data eshop'!D:W,18,FALSE)=0,\"\",VLOOKUP(MID(A40,6,99)*1,'Data eshop'!D:W,18,FALSE)))","v":""},{"$f":"IF(A40=\"\",\"\",IF(VLOOKUP(MID(A40,6,99)*1,'Data eshop'!D:W,19,FALSE)=0,\"\",VLOOKUP(MID(A40,6,99)*1,'Data eshop'!D:W,19,FALSE)))","v":""},{"$f":"IF(A40=\"\",\"\",IF(VLOOKUP(MID(A40,6,99)*1,'Data eshop'!D:T,11,FALSE)=0,\"\",IF(OR(VLOOKUP(MID(A40,6,99)*1,'Data eshop'!D:T,11,FALSE)=\"Na dobírku\",VLOOKUP(MID(A40,6,99)*1,'Data eshop'!D:T,11,FALSE)=\"Na dobierku\",VLOOKUP(MID(A40,6,99)*1,'Data eshop'!D:T,11,FALSE)=\"Za pobraniem\"),VLOOKUP(MID(A40,6,99)*1,'Data eshop'!D:W,20,FALSE),\"\")))","v":""},{"$f":"IF(L40=\"\",\"\",IF(VLOOKUP(MID(A40,6,99)*1,'Data eshop'!D:T,10,FALSE)=0,\"\",IF(VLOOKUP(MID(A40,6,99)*1,'Data eshop'!D:T,10,FALSE)=\"Česká republika\",\"CZK\",IF(VLOOKUP(MID(A40,6,99)*1,'Data eshop'!D:T,10,FALSE)=\"Poland\",\"PLN\",IF(VLOOKUP(MID(A40,6,99)*1,'Data eshop'!D:T,10,FALSE)=\"Slovakia\",\"EUR\",\"\")))))","v":""},"",null,39]
[{"$f":"IFERROR(VLOOKUP(P41,Zakázky!P:Q,2,FALSE),\"\")","v":""},"",{"$f":"IF(A41=\"\",\"\",IF(VLOOKUP(MID(A41,6,99)*1,'Data eshop'!D:T,2,FALSE)=0,\"\",VLOOKUP(MID(A41,6,99)*1,'Data eshop'!D:T,2,FALSE)))","v":""},{"$f":"IF(A41=\"\",\"\",IF(VLOOKUP(MID(A41,6,99)*1,'Data eshop'!D:T,3,FALSE)=0,IF(VLOOKUP(MID(A41,6,99)*1,'Data eshop'!D:T,4,FALSE)=0,\"\",VLOOKUP(MID(A41,6,99)*1,'Data eshop'!D:T,4,FALSE)),VLOOKUP(MID(A41,6,99)*1,'Data eshop'!D:T,3,FALSE))&IF(VLOOKUP(MID(A41,6,99)*1,'Data eshop'!D:T,4,FALSE)=0,\"\",\" \"&VLOOKUP(MID(A41,6,99)*1,'Data eshop'!D:T,4,FALSE)))","v":""},{"$f":"IF(A41=\"\",\"\",IF(VLOOKUP(MID(A41,6,99)*1,'Data eshop'!D:T,5,FALSE)=0,\"\",VLOOKUP(MID(A41,6,99)*1,'Data eshop'!D:T,5,FALSE)))","v":""},{"$f":"IF(A41=\"\",\"\",IF(VLOOKUP(MID(A41,6,99)*1,'Data eshop'!D:T,6,FALSE)=0,\"\",VLOOKUP(MID(A41,6,99)*1,'Data eshop'!D:T,6,FALSE)))","v":""},{"$f":"IF(A41=\"\",\"\",IF(VLOOKUP(MID(A41,6,99)*1,'Data eshop'!D:T,7,FALSE)=0,\"\",VLOOKUP(MID(A41,6,99)*1,'Data eshop'!D:T,7,FALSE)))","v":""},{"$f":"IF(A41=\"\",\"\",IF(VLOOKUP(MID(A41,6,99)*1,'Data eshop'!D:T,10,FALSE)=0,\"\",VLOOKUP(VLOOKUP(MID(A41,6,99)*1,'Data eshop'!D:T,10,FALSE),DATA!O:P,2,FALSE)))","v":""},"",{"$f":"IF(A41=\"\",\"\",IF(VLOOKUP(MID(A41,6,99)*1,'Data eshop'!D:W,18,FALSE)=0,\"\",VLOOKUP(MID(A41,6,99)*1,'Data eshop'!D:W,18,FALSE)))","v":""},{"$f":"IF(A41=\"\",\"\",IF(VLOOKUP(MID(A41,6,99)*1,'Data eshop'!D:W,19,FALSE)=0,\"\",VLOOKUP(MID(A41,6,99)*1,'Data eshop'!D:W,19,FALSE)))","v":""},{"$f":"IF(A41=\"\",\"\",IF(VLOOKUP(MID(A41,6,99)*1,'Data eshop'!D:T,11,FALSE)=0,\"\",IF(OR(VLOOKUP(MID(A41,6,99)*1,'Data eshop'!D:T,11,FALSE)=\"Na dobírku\",VLOOKUP(MID(A41,6,99)*1,'Data eshop'!D:T,11,FALSE)=\"Na dobierku\",VLOOKUP(MID(A41,6,99)*1,'Data eshop'!D:T,11,FALSE)=\"Za pobraniem\"),VLOOKUP(MID(A41,6,99)*1,'Data eshop'!D:W,20,FALSE),\"\")))","v":""},{"$f":"IF(L41=\"\",\"\",IF(VLOOKUP(MID(A41,6,99)*1,'Data eshop'!D:T,10,FALSE)=0,\"\",IF(VLOOKUP(MID(A41,6,99)*1,'Data eshop'!D:T,10,FALSE)=\"Česká republika\",\"CZK\",IF(VLOOKUP(MID(A41,6,99)*1,'Data eshop'!D:T,10,FALSE)=\"Poland\",\"PLN\",IF(VLOOKUP(MID(A41,6,99)*1,'Data eshop'!D:T,10,FALSE)=\"Slovakia\",\"EUR\",\"\")))))","v":""},"",null,40]
[{"$f":"IFERROR(VLOOKUP(P42,Zakázky!P:Q,2,FALSE),\"\")","v":""},"",{"$f":"IF(A42=\"\",\"\",IF(VLOOKUP(MID(A42,6,99)*1,'Data eshop'!D:T,2,FALSE)=0,\"\",VLOOKUP(MID(A42,6,99)*1,'Data eshop'!D:T,2,FALSE)))","v":""},{"$f":"IF(A42=\"\",\"\",IF(VLOOKUP(MID(A42,6,99)*1,'Data eshop'!D:T,3,FALSE)=0,IF(VLOOKUP(MID(A42,6,99)*1,'Data eshop'!D:T,4,FALSE)=0,\"\",VLOOKUP(MID(A42,6,99)*1,'Data eshop'!D:T,4,FALSE)),VLOOKUP(MID(A42,6,99)*1,'Data eshop'!D:T,3,FALSE))&IF(VLOOKUP(MID(A42,6,99)*1,'Data eshop'!D:T,4,FALSE)=0,\"\",\" \"&VLOOKUP(MID(A42,6,99)*1,'Data eshop'!D:T,4,FALSE)))","v":""},{"$f":"IF(A42=\"\",\"\",IF(VLOOKUP(MID(A42,6,99)*1,'Data eshop'!D:T,5,FALSE)=0,\"\",VLOOKUP(MID(A42,6,99)*1,'Data eshop'!D:T,5,FALSE)))","v":""},{"$f":"IF(A42=\"\",\"\",IF(VLOOKUP(MID(A42,6,99)*1,'Data eshop'!D:T,6,FALSE)=0,\"\",VLOOKUP(MID(A42,6,99)*1,'Data eshop'!D:T,6,FALSE)))","v":""},{"$f":"IF(A42=\"\",\"\",IF(VLOOKUP(MID(A42,6,99)*1,'Data eshop'!D:T,7,FALSE)=0,\"\",VLOOKUP(MID(A42,6,99)*1,'Data eshop'!D:T,7,FALSE)))","v":""},{"$f":"IF(A42=\"\",\"\",IF(VLOOKUP(MID(A42,6,99)*1,'Data eshop'!D:T,10,FALSE)=0,\"\",VLOOKUP(VLOOKUP(MID(A42,6,99)*1,'Data eshop'!D:T,10,FALSE),DATA!O:P,2,FALSE)))","v":""},"",{"$f":"IF(A42=\"\",\"\",IF(VLOOKUP(MID(A42,6,99)*1,'Data eshop'!D:W,18,FALSE)=0,\"\",VLOOKUP(MID(A42,6,99)*1,'Data eshop'!D:W,18,FALSE)))","v":""},{"$f":"IF(A42=\"\",\"\",IF(VLOOKUP(MID(A42,6,99)*1,'Data eshop'!D:W,19,FALSE)=0,\"\",VLOOKUP(MID(A42,6,99)*1,'Data eshop'!D:W,19,FALSE)))","v":""},{"$f":"IF(A42=\"\",\"\",IF(VLOOKUP(MID(A42,6,99)*1,'Data eshop'!D:T,11,FALSE)=0,\"\",IF(OR(VLOOKUP(MID(A42,6,99)*1,'Data eshop'!D:T,11,FALSE)=\"Na dobírku\",VLOOKUP(MID(A42,6,99)*1,'Data eshop'!D:T,11,FALSE)=\"Na dobierku\",VLOOKUP(MID(A42,6,99)*1,'Data eshop'!D:T,11,FALSE)=\"Za pobraniem\"),VLOOKUP(MID(A42,6,99)*1,'Data eshop'!D:W,20,FALSE),\"\")))","v":""},{"$f":"IF(L42=\"\",\"\",IF(VLOOKUP(MID(A42,6,99)*1,'Data eshop'!D:T,10,FALSE)=0,\"\",IF(VLOOKUP(MID(A42,6,99)*1,'Data eshop'!D:T,10,FALSE)=\"Česká republika\",\"CZK\",IF(VLOOKUP(MID(A42,6,99)*1,'Data eshop'!D:T,10,FALSE)=\"Poland\",\"PLN\",IF(VLOOKUP(MID(A42,6,99)*1,'Data eshop'!D:T,10,FALSE)=\"Slovakia\",\"EUR\",\"\")))))","v":""},"",null,41,null,"Roluj nahoru, až uvidíš žlutou"]
[{"$f":"IFERROR(VLOOKUP(P43,Zakázky!P:Q,2,FALSE),\"\")","v":""},"",{"$f":"IF(A43=\"\",\"\",IF(VLOOKUP(MID(A43,6,99)*1,'Data eshop'!D:T,2,FALSE)=0,\"\",VLOOKUP(MID(A43,6,99)*1,'Data eshop'!D:T,2,FALSE)))","v":""},{"$f":"IF(A43=\"\",\"\",IF(VLOOKUP(MID(A43,6,99)*1,'Data eshop'!D:T,3,FALSE)=0,IF(VLOOKUP(MID(A43,6,99)*1,'Data eshop'!D:T,4,FALSE)=0,\"\",VLOOKUP(MID(A43,6,99)*1,'Data eshop'!D:T,4,FALSE)),VLOOKUP(MID(A43,6,99)*1,'Data eshop'!D:T,3,FALSE))&IF(VLOOKUP(MID(A43,6,99)*1,'Data eshop'!D:T,4,FALSE)=0,\"\",\" \"&VLOOKUP(MID(A43,6,99)*1,'Data eshop'!D:T,4,FALSE)))","v":""},{"$f":"IF(A43=\"\",\"\",IF(VLOOKUP(MID(A43,6,99)*1,'Data eshop'!D:T,5,FALSE)=0,\"\",VLOOKUP(MID(A43,6,99)*1,'Data eshop'!D:T,5,FALSE)))","v":""},{"$f":"IF(A43=\"\",\"\",IF(VLOOKUP(MID(A43,6,99)*1,'Data eshop'!D:T,6,FALSE)=0,\"\",VLOOKUP(MID(A43,6,99)*1,'Data eshop'!D:T,6,FALSE)))","v":""},{"$f":"IF(A43=\"\",\"\",IF(VLOOKUP(MID(A43,6,99)*1,'Data eshop'!D:T,7,FALSE)=0,\"\",VLOOKUP(MID(A43,6,99)*1,'Data eshop'!D:T,7,FALSE)))","v":""},{"$f":"IF(A43=\"\",\"\",IF(VLOOKUP(MID(A43,6,99)*1,'Data eshop'!D:T,10,FALSE)=0,\"\",VLOOKUP(VLOOKUP(MID(A43,6,99)*1,'Data eshop'!D:T,10,FALSE),DATA!O:P,2,FALSE)))","v":""},"",{"$f":"IF(A43=\"\",\"\",IF(VLOOKUP(MID(A43,6,99)*1,'Data eshop'!D:W,18,FALSE)=0,\"\",VLOOKUP(MID(A43,6,99)*1,'Data eshop'!D:W,18,FALSE)))","v":""},{"$f":"IF(A43=\"\",\"\",IF(VLOOKUP(MID(A43,6,99)*1,'Data eshop'!D:W,19,FALSE)=0,\"\",VLOOKUP(MID(A43,6,99)*1,'Data eshop'!D:W,19,FALSE)))","v":""},{"$f":"IF(A43=\"\",\"\",IF(VLOOKUP(MID(A43,6,99)*1,'Data eshop'!D:T,11,FALSE)=0,\"\",IF(OR(VLOOKUP(MID(A43,6,99)*1,'Data eshop'!D:T,11,FALSE)=\"Na dobírku\",VLOOKUP(MID(A43,6,99)*1,'Data eshop'!D:T,11,FALSE)=\"Na dobierku\",VLOOKUP(MID(A43,6,99)*1,'Data eshop'!D:T,11,FALSE)=\"Za pobraniem\"),VLOOKUP(MID(A43,6,99)*1,'Data eshop'!D:W,20,FALSE),\"\")))","v":""},{"$f":"IF(L43=\"\",\"\",IF(VLOOKUP(MID(A43,6,99)*1,'Data eshop'!D:T,10,FALSE)=0,\"\",IF(VLOOKUP(MID(A43,6,99)*1,'Data eshop'!D:T,10,FALSE)=\"Česká republika\",\"CZK\",IF(VLOOKUP(MID(A43,6,99)*1,'Data eshop'!D:T,10,FALSE)=\"Poland\",\"PLN\",IF(VLOOKUP(MID(A43,6,99)*1,'Data eshop'!D:T,10,FALSE)=\"Slovakia\",\"EUR\",\"\")))))","v":""},"",null,42]
[{"$f":"IFERROR(VLOOKUP(P44,Zakázky!P:Q,2,FALSE),\"\")","v":""},"",{"$f":"IF(A44=\"\",\"\",IF(VLOOKUP(MID(A44,6,99)*1,'Data eshop'!D:T,2,FALSE)=0,\"\",VLOOKUP(MID(A44,6,99)*1,'Data eshop'!D:T,2,FALSE)))","v":""},{"$f":"IF(A44=\"\",\"\",IF(VLOOKUP(MID(A44,6,99)*1,'Data eshop'!D:T,3,FALSE)=0,IF(VLOOKUP(MID(A44,6,99)*1,'Data eshop'!D:T,4,FALSE)=0,\"\",VLOOKUP(MID(A44,6,99)*1,'Data eshop'!D:T,4,FALSE)),VLOOKUP(MID(A44,6,99)*1,'Data eshop'!D:T,3,FALSE))&IF(VLOOKUP(MID(A44,6,99)*1,'Data eshop'!D:T,4,FALSE)=0,\"\",\" \"&VLOOKUP(MID(A44,6,99)*1,'Data eshop'!D:T,4,FALSE)))","v":""},{"$f":"IF(A44=\"\",\"\",IF(VLOOKUP(MID(A44,6,99)*1,'Data eshop'!D:T,5,FALSE)=0,\"\",VLOOKUP(MID(A44,6,99)*1,'Data eshop'!D:T,5,FALSE)))","v":""},{"$f":"IF(A44=\"\",\"\",IF(VLOOKUP(MID(A44,6,99)*1,'Data eshop'!D:T,6,FALSE)=0,\"\",VLOOKUP(MID(A44,6,99)*1,'Data eshop'!D:T,6,FALSE)))","v":""},{"$f":"IF(A44=\"\",\"\",IF(VLOOKUP(MID(A44,6,99)*1,'Data eshop'!D:T,7,FALSE)=0,\"\",VLOOKUP(MID(A44,6,99)*1,'Data eshop'!D:T,7,FALSE)))","v":""},{"$f":"IF(A44=\"\",\"\",IF(VLOOKUP(MID(A44,6,99)*1,'Data eshop'!D:T,10,FALSE)=0,\"\",VLOOKUP(VLOOKUP(MID(A44,6,99)*1,'Data eshop'!D:T,10,FALSE),DATA!O:P,2,FALSE)))","v":""},"",{"$f":"IF(A44=\"\",\"\",IF(VLOOKUP(MID(A44,6,99)*1,'Data eshop'!D:W,18,FALSE)=0,\"\",VLOOKUP(MID(A44,6,99)*1,'Data eshop'!D:W,18,FALSE)))","v":""},{"$f":"IF(A44=\"\",\"\",IF(VLOOKUP(MID(A44,6,99)*1,'Data eshop'!D:W,19,FALSE)=0,\"\",VLOOKUP(MID(A44,6,99)*1,'Data eshop'!D:W,19,FALSE)))","v":""},{"$f":"IF(A44=\"\",\"\",IF(VLOOKUP(MID(A44,6,99)*1,'Data eshop'!D:T,11,FALSE)=0,\"\",IF(OR(VLOOKUP(MID(A44,6,99)*1,'Data eshop'!D:T,11,FALSE)=\"Na dobírku\",VLOOKUP(MID(A44,6,99)*1,'Data eshop'!D:T,11,FALSE)=\"Na dobierku\",VLOOKUP(MID(A44,6,99)*1,'Data eshop'!D:T,11,FALSE)=\"Za pobraniem\"),VLOOKUP(MID(A44,6,99)*1,'Data eshop'!D:W,20,FALSE),\"\")))","v":""},{"$f":"IF(L44=\"\",\"\",IF(VLOOKUP(MID(A44,6,99)*1,'Data eshop'!D:T,10,FALSE)=0,\"\",IF(VLOOKUP(MID(A44,6,99)*1,'Data eshop'!D:T,10,FALSE)=\"Česká republika\",\"CZK\",IF(VLOOKUP(MID(A44,6,99)*1,'Data eshop'!D:T,10,FALSE)=\"Poland\",\"PLN\",IF(VLOOKUP(MID(A44,6,99)*1,'Data eshop'!D:T,10,FALSE)=\"Slovakia\",\"EUR\",\"\")))))","v":""},"",null,43]
[{"$f":"IFERROR(VLOOKUP(P45,Zakázky!P:Q,2,FALSE),\"\")","v":""},"",{"$f":"IF(A45=\"\",\"\",IF(VLOOKUP(MID(A45,6,99)*1,'Data eshop'!D:T,2,FALSE)=0,\"\",VLOOKUP(MID(A45,6,99)*1,'Data eshop'!D:T,2,FALSE)))","v":""},{"$f":"IF(A45=\"\",\"\",IF(VLOOKUP(MID(A45,6,99)*1,'Data eshop'!D:T,3,FALSE)=0,IF(VLOOKUP(MID(A45,6,99)*1,'Data eshop'!D:T,4,FALSE)=0,\"\",VLOOKUP(MID(A45,6,99)*1,'Data eshop'!D:T,4,FALSE)),VLOOKUP(MID(A45,6,99)*1,'Data eshop'!D:T,3,FALSE))&IF(VLOOKUP(MID(A45,6,99)*1,'Data eshop'!D:T,4,FALSE)=0,\"\",\" \"&VLOOKUP(MID(A45,6,99)*1,'Data eshop'!D:T,4,FALSE)))","v":""},{"$f":"IF(A45=\"\",\"\",IF(VLOOKUP(MID(A45,6,99)*1,'Data eshop'!D:T,5,FALSE)=0,\"\",VLOOKUP(MID(A45,6,99)*1,'Data eshop'!D:T,5,FALSE)))","v":""},{"$f":"IF(A45=\"\",\"\",IF(VLOOKUP(MID(A45,6,99)*1,'Data eshop'!D:T,6,FALSE)=0,\"\",VLOOKUP(MID(A45,6,99)*1,'Data eshop'!D:T,6,FALSE)))","v":""},{"$f":"IF(A45=\"\",\"\",IF(VLOOKUP(MID(A45,6,99)*1,'Data eshop'!D:T,7,FALSE)=0,\"\",VLOOKUP(MID(A45,6,99)*1,'Data eshop'!D:T,7,FALSE)))","v":""},{"$f":"IF(A45=\"\",\"\",IF(VLOOKUP(MID(A45,6,99)*1,'Data eshop'!D:T,10,FALSE)=0,\"\",VLOOKUP(VLOOKUP(MID(A45,6,99)*1,'Data eshop'!D:T,10,FALSE),DATA!O:P,2,FALSE)))","v":""},"",{"$f":"IF(A45=\"\",\"\",IF(VLOOKUP(MID(A45,6,99)*1,'Data eshop'!D:W,18,FALSE)=0,\"\",VLOOKUP(MID(A45,6,99)*1,'Data eshop'!D:W,18,FALSE)))","v":""},{"$f":"IF(A45=\"\",\"\",IF(VLOOKUP(MID(A45,6,99)*1,'Data eshop'!D:W,19,FALSE)=0,\"\",VLOOKUP(MID(A45,6,99)*1,'Data eshop'!D:W,19,FALSE)))","v":""},{"$f":"IF(A45=\"\",\"\",IF(VLOOKUP(MID(A45,6,99)*1,'Data eshop'!D:T,11,FALSE)=0,\"\",IF(OR(VLOOKUP(MID(A45,6,99)*1,'Data eshop'!D:T,11,FALSE)=\"Na dobírku\",VLOOKUP(MID(A45,6,99)*1,'Data eshop'!D:T,11,FALSE)=\"Na dobierku\",VLOOKUP(MID(A45,6,99)*1,'Data eshop'!D:T,11,FALSE)=\"Za pobraniem\"),VLOOKUP(MID(A45,6,99)*1,'Data eshop'!D:W,20,FALSE),\"\")))","v":""},{"$f":"IF(L45=\"\",\"\",IF(VLOOKUP(MID(A45,6,99)*1,'Data eshop'!D:T,10,FALSE)=0,\"\",IF(VLOOKUP(MID(A45,6,99)*1,'Data eshop'!D:T,10,FALSE)=\"Česká republika\",\"CZK\",IF(VLOOKUP(MID(A45,6,99)*1,'Data eshop'!D:T,10,FALSE)=\"Poland\",\"PLN\",IF(VLOOKUP(MID(A45,6,99)*1,'Data eshop'!D:T,10,FALSE)=\"Slovakia\",\"EUR\",\"\")))))","v":""},"",null,44]
[{"$f":"IFERROR(VLOOKUP(P46,Zakázky!P:Q,2,FALSE),\"\")","v":""},"",{"$f":"IF(A46=\"\",\"\",IF(VLOOKUP(MID(A46,6,99)*1,'Data eshop'!D:T,2,FALSE)=0,\"\",VLOOKUP(MID(A46,6,99)*1,'Data eshop'!D:T,2,FALSE)))","v":""},{"$f":"IF(A46=\"\",\"\",IF(VLOOKUP(MID(A46,6,99)*1,'Data eshop'!D:T,3,FALSE)=0,IF(VLOOKUP(MID(A46,6,99)*1,'Data eshop'!D:T,4,FALSE)=0,\"\",VLOOKUP(MID(A46,6,99)*1,'Data eshop'!D:T,4,FALSE)),VLOOKUP(MID(A46,6,99)*1,'Data eshop'!D:T,3,FALSE))&IF(VLOOKUP(MID(A46,6,99)*1,'Data eshop'!D:T,4,FALSE)=0,\"\",\" \"&VLOOKUP(MID(A46,6,99)*1,'Data eshop'!D:T,4,FALSE)))","v":""},{"$f":"IF(A46=\"\",\"\",IF(VLOOKUP(MID(A46,6,99)*1,'Data eshop'!D:T,5,FALSE)=0,\"\",VLOOKUP(MID(A46,6,99)*1,'Data eshop'!D:T,5,FALSE)))","v":""},{"$f":"IF(A46=\"\",\"\",IF(VLOOKUP(MID(A46,6,99)*1,'Data eshop'!D:T,6,FALSE)=0,\"\",VLOOKUP(MID(A46,6,99)*1,'Data eshop'!D:T,6,FALSE)))","v":""},{"$f":"IF(A46=\"\",\"\",IF(VLOOKUP(MID(A46,6,99)*1,'Data eshop'!D:T,7,FALSE)=0,\"\",VLOOKUP(MID(A46,6,99)*1,'Data eshop'!D:T,7,FALSE)))","v":""},{"$f":"IF(A46=\"\",\"\",IF(VLOOKUP(MID(A46,6,99)*1,'Data eshop'!D:T,10,FALSE)=0,\"\",VLOOKUP(VLOOKUP(MID(A46,6,99)*1,'Data eshop'!D:T,10,FALSE),DATA!O:P,2,FALSE)))","v":""},"",{"$f":"IF(A46=\"\",\"\",IF(VLOOKUP(MID(A46,6,99)*1,'Data eshop'!D:W,18,FALSE)=0,\"\",VLOOKUP(MID(A46,6,99)*1,'Data eshop'!D:W,18,FALSE)))","v":""},{"$f":"IF(A46=\"\",\"\",IF(VLOOKUP(MID(A46,6,99)*1,'Data eshop'!D:W,19,FALSE)=0,\"\",VLOOKUP(MID(A46,6,99)*1,'Data eshop'!D:W,19,FALSE)))","v":""},{"$f":"IF(A46=\"\",\"\",IF(VLOOKUP(MID(A46,6,99)*1,'Data eshop'!D:T,11,FALSE)=0,\"\",IF(OR(VLOOKUP(MID(A46,6,99)*1,'Data eshop'!D:T,11,FALSE)=\"Na dobírku\",VLOOKUP(MID(A46,6,99)*1,'Data eshop'!D:T,11,FALSE)=\"Na dobierku\",VLOOKUP(MID(A46,6,99)*1,'Data eshop'!D:T,11,FALSE)=\"Za pobraniem\"),VLOOKUP(MID(A46,6,99)*1,'Data eshop'!D:W,20,FALSE),\"\")))","v":""},{"$f":"IF(L46=\"\",\"\",IF(VLOOKUP(MID(A46,6,99)*1,'Data eshop'!D:T,10,FALSE)=0,\"\",IF(VLOOKUP(MID(A46,6,99)*1,'Data eshop'!D:T,10,FALSE)=\"Česká republika\",\"CZK\",IF(VLOOKUP(MID(A46,6,99)*1,'Data eshop'!D:T,10,FALSE)=\"Poland\",\"PLN\",IF(VLOOKUP(MID(A46,6,99)*1,'Data eshop'!D:T,10,FALSE)=\"Slovakia\",\"EUR\",\"\")))))","v":""},"",null,45,null,"Roluj nahoru, až uvidíš žlutou"]
[{"$f":"IFERROR(VLOOKUP(P47,Zakázky!P:Q,2,FALSE),\"\")","v":""},"",{"$f":"IF(A47=\"\",\"\",IF(VLOOKUP(MID(A47,6,99)*1,'Data eshop'!D:T,2,FALSE)=0,\"\",VLOOKUP(MID(A47,6,99)*1,'Data eshop'!D:T,2,FALSE)))","v":""},{"$f":"IF(A47=\"\",\"\",IF(VLOOKUP(MID(A47,6,99)*1,'Data eshop'!D:T,3,FALSE)=0,IF(VLOOKUP(MID(A47,6,99)*1,'Data eshop'!D:T,4,FALSE)=0,\"\",VLOOKUP(MID(A47,6,99)*1,'Data eshop'!D:T,4,FALSE)),VLOOKUP(MID(A47,6,99)*1,'Data eshop'!D:T,3,FALSE))&IF(VLOOKUP(MID(A47,6,99)*1,'Data eshop'!D:T,4,FALSE)=0,\"\",\" \"&VLOOKUP(MID(A47,6,99)*1,'Data eshop'!D:T,4,FALSE)))","v":""},{"$f":"IF(A47=\"\",\"\",IF(VLOOKUP(MID(A47,6,99)*1,'Data eshop'!D:T,5,FALSE)=0,\"\",VLOOKUP(MID(A47,6,99)*1,'Data eshop'!D:T,5,FALSE)))","v":""},{"$f":"IF(A47=\"\",\"\",IF(VLOOKUP(MID(A47,6,99)*1,'Data eshop'!D:T,6,FALSE)=0,\"\",VLOOKUP(MID(A47,6,99)*1,'Data eshop'!D:T,6,FALSE)))","v":""},{"$f":"IF(A47=\"\",\"\",IF(VLOOKUP(MID(A47,6,99)*1,'Data eshop'!D:T,7,FALSE)=0,\"\",VLOOKUP(MID(A47,6,99)*1,'Data eshop'!D:T,7,FALSE)))","v":""},{"$f":"IF(A47=\"\",\"\",IF(VLOOKUP(MID(A47,6,99)*1,'Data eshop'!D:T,10,FALSE)=0,\"\",VLOOKUP(VLOOKUP(MID(A47,6,99)*1,'Data eshop'!D:T,10,FALSE),DATA!O:P,2,FALSE)))","v":""},"",{"$f":"IF(A47=\"\",\"\",IF(VLOOKUP(MID(A47,6,99)*1,'Data eshop'!D:W,18,FALSE)=0,\"\",VLOOKUP(MID(A47,6,99)*1,'Data eshop'!D:W,18,FALSE)))","v":""},{"$f":"IF(A47=\"\",\"\",IF(VLOOKUP(MID(A47,6,99)*1,'Data eshop'!D:W,19,FALSE)=0,\"\",VLOOKUP(MID(A47,6,99)*1,'Data eshop'!D:W,19,FALSE)))","v":""},{"$f":"IF(A47=\"\",\"\",IF(VLOOKUP(MID(A47,6,99)*1,'Data eshop'!D:T,11,FALSE)=0,\"\",IF(OR(VLOOKUP(MID(A47,6,99)*1,'Data eshop'!D:T,11,FALSE)=\"Na dobírku\",VLOOKUP(MID(A47,6,99)*1,'Data eshop'!D:T,11,FALSE)=\"Na dobierku\",VLOOKUP(MID(A47,6,99)*1,'Data eshop'!D:T,11,FALSE)=\"Za pobraniem\"),VLOOKUP(MID(A47,6,99)*1,'Data eshop'!D:W,20,FALSE),\"\")))","v":""},{"$f":"IF(L47=\"\",\"\",IF(VLOOKUP(MID(A47,6,99)*1,'Data eshop'!D:T,10,FALSE)=0,\"\",IF(VLOOKUP(MID(A47,6,99)*1,'Data eshop'!D:T,10,FALSE)=\"Česká republika\",\"CZK\",IF(VLOOKUP(MID(A47,6,99)*1,'Data eshop'!D:T,10,FALSE)=\"Poland\",\"PLN\",IF(VLOOKUP(MID(A47,6,99)*1,'Data eshop'!D:T,10,FALSE)=\"Slovakia\",\"EUR\",\"\")))))","v":""},"",null,46]
[{"$f":"IFERROR(VLOOKUP(P48,Zakázky!P:Q,2,FALSE),\"\")","v":""},"",{"$f":"IF(A48=\"\",\"\",IF(VLOOKUP(MID(A48,6,99)*1,'Data eshop'!D:T,2,FALSE)=0,\"\",VLOOKUP(MID(A48,6,99)*1,'Data eshop'!D:T,2,FALSE)))","v":""},{"$f":"IF(A48=\"\",\"\",IF(VLOOKUP(MID(A48,6,99)*1,'Data eshop'!D:T,3,FALSE)=0,IF(VLOOKUP(MID(A48,6,99)*1,'Data eshop'!D:T,4,FALSE)=0,\"\",VLOOKUP(MID(A48,6,99)*1,'Data eshop'!D:T,4,FALSE)),VLOOKUP(MID(A48,6,99)*1,'Data eshop'!D:T,3,FALSE))&IF(VLOOKUP(MID(A48,6,99)*1,'Data eshop'!D:T,4,FALSE)=0,\"\",\" \"&VLOOKUP(MID(A48,6,99)*1,'Data eshop'!D:T,4,FALSE)))","v":""},{"$f":"IF(A48=\"\",\"\",IF(VLOOKUP(MID(A48,6,99)*1,'Data eshop'!D:T,5,FALSE)=0,\"\",VLOOKUP(MID(A48,6,99)*1,'Data eshop'!D:T,5,FALSE)))","v":""},{"$f":"IF(A48=\"\",\"\",IF(VLOOKUP(MID(A48,6,99)*1,'Data eshop'!D:T,6,FALSE)=0,\"\",VLOOKUP(MID(A48,6,99)*1,'Data eshop'!D:T,6,FALSE)))","v":""},{"$f":"IF(A48=\"\",\"\",IF(VLOOKUP(MID(A48,6,99)*1,'Data eshop'!D:T,7,FALSE)=0,\"\",VLOOKUP(MID(A48,6,99)*1,'Data eshop'!D:T,7,FALSE)))","v":""},{"$f":"IF(A48=\"\",\"\",IF(VLOOKUP(MID(A48,6,99)*1,'Data eshop'!D:T,10,FALSE)=0,\"\",VLOOKUP(VLOOKUP(MID(A48,6,99)*1,'Data eshop'!D:T,10,FALSE),DATA!O:P,2,FALSE)))","v":""},"",{"$f":"IF(A48=\"\",\"\",IF(VLOOKUP(MID(A48,6,99)*1,'Data eshop'!D:W,18,FALSE)=0,\"\",VLOOKUP(MID(A48,6,99)*1,'Data eshop'!D:W,18,FALSE)))","v":""},{"$f":"IF(A48=\"\",\"\",IF(VLOOKUP(MID(A48,6,99)*1,'Data eshop'!D:W,19,FALSE)=0,\"\",VLOOKUP(MID(A48,6,99)*1,'Data eshop'!D:W,19,FALSE)))","v":""},{"$f":"IF(A48=\"\",\"\",IF(VLOOKUP(MID(A48,6,99)*1,'Data eshop'!D:T,11,FALSE)=0,\"\",IF(OR(VLOOKUP(MID(A48,6,99)*1,'Data eshop'!D:T,11,FALSE)=\"Na dobírku\",VLOOKUP(MID(A48,6,99)*1,'Data eshop'!D:T,11,FALSE)=\"Na dobierku\",VLOOKUP(MID(A48,6,99)*1,'Data eshop'!D:T,11,FALSE)=\"Za pobraniem\"),VLOOKUP(MID(A48,6,99)*1,'Data eshop'!D:W,20,FALSE),\"\")))","v":""},{"$f":"IF(L48=\"\",\"\",IF(VLOOKUP(MID(A48,6,99)*1,'Data eshop'!D:T,10,FALSE)=0,\"\",IF(VLOOKUP(MID(A48,6,99)*1,'Data eshop'!D:T,10,FALSE)=\"Česká republika\",\"CZK\",IF(VLOOKUP(MID(A48,6,99)*1,'Data eshop'!D:T,10,FALSE)=\"Poland\",\"PLN\",IF(VLOOKUP(MID(A48,6,99)*1,'Data eshop'!D:T,10,FALSE)=\"Slovakia\",\"EUR\",\"\")))))","v":""},"",null,47]
[{"$f":"IFERROR(VLOOKUP(P49,Zakázky!P:Q,2,FALSE),\"\")","v":""},"",{"$f":"IF(A49=\"\",\"\",IF(VLOOKUP(MID(A49,6,99)*1,'Data eshop'!D:T,2,FALSE)=0,\"\",VLOOKUP(MID(A49,6,99)*1,'Data eshop'!D:T,2,FALSE)))","v":""},{"$f":"IF(A49=\"\",\"\",IF(VLOOKUP(MID(A49,6,99)*1,'Data eshop'!D:T,3,FALSE)=0,IF(VLOOKUP(MID(A49,6,99)*1,'Data eshop'!D:T,4,FALSE)=0,\"\",VLOOKUP(MID(A49,6,99)*1,'Data eshop'!D:T,4,FALSE)),VLOOKUP(MID(A49,6,99)*1,'Data eshop'!D:T,3,FALSE))&IF(VLOOKUP(MID(A49,6,99)*1,'Data eshop'!D:T,4,FALSE)=0,\"\",\" \"&VLOOKUP(MID(A49,6,99)*1,'Data eshop'!D:T,4,FALSE)))","v":""},{"$f":"IF(A49=\"\",\"\",IF(VLOOKUP(MID(A49,6,99)*1,'Data eshop'!D:T,5,FALSE)=0,\"\",VLOOKUP(MID(A49,6,99)*1,'Data eshop'!D:T,5,FALSE)))","v":""},{"$f":"IF(A49=\"\",\"\",IF(VLOOKUP(MID(A49,6,99)*1,'Data eshop'!D:T,6,FALSE)=0,\"\",VLOOKUP(MID(A49,6,99)*1,'Data eshop'!D:T,6,FALSE)))","v":""},{"$f":"IF(A49=\"\",\"\",IF(VLOOKUP(MID(A49,6,99)*1,'Data eshop'!D:T,7,FALSE)=0,\"\",VLOOKUP(MID(A49,6,99)*1,'Data eshop'!D:T,7,FALSE)))","v":""},{"$f":"IF(A49=\"\",\"\",IF(VLOOKUP(MID(A49,6,99)*1,'Data eshop'!D:T,10,FALSE)=0,\"\",VLOOKUP(VLOOKUP(MID(A49,6,99)*1,'Data eshop'!D:T,10,FALSE),DATA!O:P,2,FALSE)))","v":""},"",{"$f":"IF(A49=\"\",\"\",IF(VLOOKUP(MID(A49,6,99)*1,'Data eshop'!D:W,18,FALSE)=0,\"\",VLOOKUP(MID(A49,6,99)*1,'Data eshop'!D:W,18,FALSE)))","v":""},{"$f":"IF(A49=\"\",\"\",IF(VLOOKUP(MID(A49,6,99)*1,'Data eshop'!D:W,19,FALSE)=0,\"\",VLOOKUP(MID(A49,6,99)*1,'Data eshop'!D:W,19,FALSE)))","v":""},{"$f":"IF(A49=\"\",\"\",IF(VLOOKUP(MID(A49,6,99)*1,'Data eshop'!D:T,11,FALSE)=0,\"\",IF(OR(VLOOKUP(MID(A49,6,99)*1,'Data eshop'!D:T,11,FALSE)=\"Na dobírku\",VLOOKUP(MID(A49,6,99)*1,'Data eshop'!D:T,11,FALSE)=\"Na dobierku\",VLOOKUP(MID(A49,6,99)*1,'Data eshop'!D:T,11,FALSE)=\"Za pobraniem\"),VLOOKUP(MID(A49,6,99)*1,'Data eshop'!D:W,20,FALSE),\"\")))","v":""},{"$f":"IF(L49=\"\",\"\",IF(VLOOKUP(MID(A49,6,99)*1,'Data eshop'!D:T,10,FALSE)=0,\"\",IF(VLOOKUP(MID(A49,6,99)*1,'Data eshop'!D:T,10,FALSE)=\"Česká republika\",\"CZK\",IF(VLOOKUP(MID(A49,6,99)*1,'Data eshop'!D:T,10,FALSE)=\"Poland\",\"PLN\",IF(VLOOKUP(MID(A49,6,99)*1,'Data eshop'!D:T,10,FALSE)=\"Slovakia\",\"EUR\",\"\")))))","v":""},"",null,48]
[{"$f":"IFERROR(VLOOKUP(P50,Zakázky!P:Q,2,FALSE),\"\")","v":""},"",{"$f":"IF(A50=\"\",\"\",IF(VLOOKUP(MID(A50,6,99)*1,'Data eshop'!D:T,2,FALSE)=0,\"\",VLOOKUP(MID(A50,6,99)*1,'Data eshop'!D:T,2,FALSE)))","v":""},{"$f":"IF(A50=\"\",\"\",IF(VLOOKUP(MID(A50,6,99)*1,'Data eshop'!D:T,3,FALSE)=0,IF(VLOOKUP(MID(A50,6,99)*1,'Data eshop'!D:T,4,FALSE)=0,\"\",VLOOKUP(MID(A50,6,99)*1,'Data eshop'!D:T,4,FALSE)),VLOOKUP(MID(A50,6,99)*1,'Data eshop'!D:T,3,FALSE))&IF(VLOOKUP(MID(A50,6,99)*1,'Data eshop'!D:T,4,FALSE)=0,\"\",\" \"&VLOOKUP(MID(A50,6,99)*1,'Data eshop'!D:T,4,FALSE)))","v":""},{"$f":"IF(A50=\"\",\"\",IF(VLOOKUP(MID(A50,6,99)*1,'Data eshop'!D:T,5,FALSE)=0,\"\",VLOOKUP(MID(A50,6,99)*1,'Data eshop'!D:T,5,FALSE)))","v":""},{"$f":"IF(A50=\"\",\"\",IF(VLOOKUP(MID(A50,6,99)*1,'Data eshop'!D:T,6,FALSE)=0,\"\",VLOOKUP(MID(A50,6,99)*1,'Data eshop'!D:T,6,FALSE)))","v":""},{"$f":"IF(A50=\"\",\"\",IF(VLOOKUP(MID(A50,6,99)*1,'Data eshop'!D:T,7,FALSE)=0,\"\",VLOOKUP(MID(A50,6,99)*1,'Data eshop'!D:T,7,FALSE)))","v":""},{"$f":"IF(A50=\"\",\"\",IF(VLOOKUP(MID(A50,6,99)*1,'Data eshop'!D:T,10,FALSE)=0,\"\",VLOOKUP(VLOOKUP(MID(A50,6,99)*1,'Data eshop'!D:T,10,FALSE),DATA!O:P,2,FALSE)))","v":""},"",{"$f":"IF(A50=\"\",\"\",IF(VLOOKUP(MID(A50,6,99)*1,'Data eshop'!D:W,18,FALSE)=0,\"\",VLOOKUP(MID(A50,6,99)*1,'Data eshop'!D:W,18,FALSE)))","v":""},{"$f":"IF(A50=\"\",\"\",IF(VLOOKUP(MID(A50,6,99)*1,'Data eshop'!D:W,19,FALSE)=0,\"\",VLOOKUP(MID(A50,6,99)*1,'Data eshop'!D:W,19,FALSE)))","v":""},{"$f":"IF(A50=\"\",\"\",IF(VLOOKUP(MID(A50,6,99)*1,'Data eshop'!D:T,11,FALSE)=0,\"\",IF(OR(VLOOKUP(MID(A50,6,99)*1,'Data eshop'!D:T,11,FALSE)=\"Na dobírku\",VLOOKUP(MID(A50,6,99)*1,'Data eshop'!D:T,11,FALSE)=\"Na dobierku\",VLOOKUP(MID(A50,6,99)*1,'Data eshop'!D:T,11,FALSE)=\"Za pobraniem\"),VLOOKUP(MID(A50,6,99)*1,'Data eshop'!D:W,20,FALSE),\"\")))","v":""},{"$f":"IF(L50=\"\",\"\",IF(VLOOKUP(MID(A50,6,99)*1,'Data eshop'!D:T,10,FALSE)=0,\"\",IF(VLOOKUP(MID(A50,6,99)*1,'Data eshop'!D:T,10,FALSE)=\"Česká republika\",\"CZK\",IF(VLOOKUP(MID(A50,6,99)*1,'Data eshop'!D:T,10,FALSE)=\"Poland\",\"PLN\",IF(VLOOKUP(MID(A50,6,99)*1,'Data eshop'!D:T,10,FALSE)=\"Slovakia\",\"EUR\",\"\")))))","v":""},"",null,49,null,"Roluj nahoru, až uvidíš žlutou"]
[{"$f":"IFERROR(VLOOKUP(P51,Zakázky!P:Q,2,FALSE),\"\")","v":""},"",{"$f":"IF(A51=\"\",\"\",IF(VLOOKUP(MID(A51,6,99)*1,'Data eshop'!D:T,2,FALSE)=0,\"\",VLOOKUP(MID(A51,6,99)*1,'Data eshop'!D:T,2,FALSE)))","v":""},{"$f":"IF(A51=\"\",\"\",IF(VLOOKUP(MID(A51,6,99)*1,'Data eshop'!D:T,3,FALSE)=0,IF(VLOOKUP(MID(A51,6,99)*1,'Data eshop'!D:T,4,FALSE)=0,\"\",VLOOKUP(MID(A51,6,99)*1,'Data eshop'!D:T,4,FALSE)),VLOOKUP(MID(A51,6,99)*1,'Data eshop'!D:T,3,FALSE))&IF(VLOOKUP(MID(A51,6,99)*1,'Data eshop'!D:T,4,FALSE)=0,\"\",\" \"&VLOOKUP(MID(A51,6,99)*1,'Data eshop'!D:T,4,FALSE)))","v":""},{"$f":"IF(A51=\"\",\"\",IF(VLOOKUP(MID(A51,6,99)*1,'Data eshop'!D:T,5,FALSE)=0,\"\",VLOOKUP(MID(A51,6,99)*1,'Data eshop'!D:T,5,FALSE)))","v":""},{"$f":"IF(A51=\"\",\"\",IF(VLOOKUP(MID(A51,6,99)*1,'Data eshop'!D:T,6,FALSE)=0,\"\",VLOOKUP(MID(A51,6,99)*1,'Data eshop'!D:T,6,FALSE)))","v":""},{"$f":"IF(A51=\"\",\"\",IF(VLOOKUP(MID(A51,6,99)*1,'Data eshop'!D:T,7,FALSE)=0,\"\",VLOOKUP(MID(A51,6,99)*1,'Data eshop'!D:T,7,FALSE)))","v":""},{"$f":"IF(A51=\"\",\"\",IF(VLOOKUP(MID(A51,6,99)*1,'Data eshop'!D:T,10,FALSE)=0,\"\",VLOOKUP(VLOOKUP(MID(A51,6,99)*1,'Data eshop'!D:T,10,FALSE),DATA!O:P,2,FALSE)))","v":""},"",{"$f":"IF(A51=\"\",\"\",IF(VLOOKUP(MID(A51,6,99)*1,'Data eshop'!D:W,18,FALSE)=0,\"\",VLOOKUP(MID(A51,6,99)*1,'Data eshop'!D:W,18,FALSE)))","v":""},{"$f":"IF(A51=\"\",\"\",IF(VLOOKUP(MID(A51,6,99)*1,'Data eshop'!D:W,19,FALSE)=0,\"\",VLOOKUP(MID(A51,6,99)*1,'Data eshop'!D:W,19,FALSE)))","v":""},{"$f":"IF(A51=\"\",\"\",IF(VLOOKUP(MID(A51,6,99)*1,'Data eshop'!D:T,11,FALSE)=0,\"\",IF(OR(VLOOKUP(MID(A51,6,99)*1,'Data eshop'!D:T,11,FALSE)=\"Na dobírku\",VLOOKUP(MID(A51,6,99)*1,'Data eshop'!D:T,11,FALSE)=\"Na dobierku\",VLOOKUP(MID(A51,6,99)*1,'Data eshop'!D:T,11,FALSE)=\"Za pobraniem\"),VLOOKUP(MID(A51,6,99)*1,'Data eshop'!D:W,20,FALSE),\"\")))","v":""},{"$f":"IF(L51=\"\",\"\",IF(VLOOKUP(MID(A51,6,99)*1,'Data eshop'!D:T,10,FALSE)=0,\"\",IF(VLOOKUP(MID(A51,6,99)*1,'Data eshop'!D:T,10,FALSE)=\"Česká republika\",\"CZK\",IF(VLOOKUP(MID(A51,6,99)*1,'Data eshop'!D:T,10,FALSE)=\"Poland\",\"PLN\",IF(VLOOKUP(MID(A51,6,99)*1,'Data eshop'!D:T,10,FALSE)=\"Slovakia\",\"EUR\",\"\")))))","v":""},"",null,50]
[{"$f":"IFERROR(VLOOKUP(P52,Zakázky!P:Q,2,FALSE),\"\")","v":""},"",{"$f":"IF(A52=\"\",\"\",IF(VLOOKUP(MID(A52,6,99)*1,'Data eshop'!D:T,2,FALSE)=0,\"\",VLOOKUP(MID(A52,6,99)*1,'Data eshop'!D:T,2,FALSE)))","v":""},{"$f":"IF(A52=\"\",\"\",IF(VLOOKUP(MID(A52,6,99)*1,'Data eshop'!D:T,3,FALSE)=0,IF(VLOOKUP(MID(A52,6,99)*1,'Data eshop'!D:T,4,FALSE)=0,\"\",VLOOKUP(MID(A52,6,99)*1,'Data eshop'!D:T,4,FALSE)),VLOOKUP(MID(A52,6,99)*1,'Data eshop'!D:T,3,FALSE))&IF(VLOOKUP(MID(A52,6,99)*1,'Data eshop'!D:T,4,FALSE)=0,\"\",\" \"&VLOOKUP(MID(A52,6,99)*1,'Data eshop'!D:T,4,FALSE)))","v":""},{"$f":"IF(A52=\"\",\"\",IF(VLOOKUP(MID(A52,6,99)*1,'Data eshop'!D:T,5,FALSE)=0,\"\",VLOOKUP(MID(A52,6,99)*1,'Data eshop'!D:T,5,FALSE)))","v":""},{"$f":"IF(A52=\"\",\"\",IF(VLOOKUP(MID(A52,6,99)*1,'Data eshop'!D:T,6,FALSE)=0,\"\",VLOOKUP(MID(A52,6,99)*1,'Data eshop'!D:T,6,FALSE)))","v":""},{"$f":"IF(A52=\"\",\"\",IF(VLOOKUP(MID(A52,6,99)*1,'Data eshop'!D:T,7,FALSE)=0,\"\",VLOOKUP(MID(A52,6,99)*1,'Data eshop'!D:T,7,FALSE)))","v":""},{"$f":"IF(A52=\"\",\"\",IF(VLOOKUP(MID(A52,6,99)*1,'Data eshop'!D:T,10,FALSE)=0,\"\",VLOOKUP(VLOOKUP(MID(A52,6,99)*1,'Data eshop'!D:T,10,FALSE),DATA!O:P,2,FALSE)))","v":""},"",{"$f":"IF(A52=\"\",\"\",IF(VLOOKUP(MID(A52,6,99)*1,'Data eshop'!D:W,18,FALSE)=0,\"\",VLOOKUP(MID(A52,6,99)*1,'Data eshop'!D:W,18,FALSE)))","v":""},{"$f":"IF(A52=\"\",\"\",IF(VLOOKUP(MID(A52,6,99)*1,'Data eshop'!D:W,19,FALSE)=0,\"\",VLOOKUP(MID(A52,6,99)*1,'Data eshop'!D:W,19,FALSE)))","v":""},{"$f":"IF(A52=\"\",\"\",IF(VLOOKUP(MID(A52,6,99)*1,'Data eshop'!D:T,11,FALSE)=0,\"\",IF(OR(VLOOKUP(MID(A52,6,99)*1,'Data eshop'!D:T,11,FALSE)=\"Na dobírku\",VLOOKUP(MID(A52,6,99)*1,'Data eshop'!D:T,11,FALSE)=\"Na dobierku\",VLOOKUP(MID(A52,6,99)*1,'Data eshop'!D:T,11,FALSE)=\"Za pobraniem\"),VLOOKUP(MID(A52,6,99)*1,'Data eshop'!D:W,20,FALSE),\"\")))","v":""},{"$f":"IF(L52=\"\",\"\",IF(VLOOKUP(MID(A52,6,99)*1,'Data eshop'!D:T,10,FALSE)=0,\"\",IF(VLOOKUP(MID(A52,6,99)*1,'Data eshop'!D:T,10,FALSE)=\"Česká republika\",\"CZK\",IF(VLOOKUP(MID(A52,6,99)*1,'Data eshop'!D:T,10,FALSE)=\"Poland\",\"PLN\",IF(VLOOKUP(MID(A52,6,99)*1,'Data eshop'!D:T,10,FALSE)=\"Slovakia\",\"EUR\",\"\")))))","v":""},"",null,51]
[{"$f":"IFERROR(VLOOKUP(P53,Zakázky!P:Q,2,FALSE),\"\")","v":""},"",{"$f":"IF(A53=\"\",\"\",IF(VLOOKUP(MID(A53,6,99)*1,'Data eshop'!D:T,2,FALSE)=0,\"\",VLOOKUP(MID(A53,6,99)*1,'Data eshop'!D:T,2,FALSE)))","v":""},{"$f":"IF(A53=\"\",\"\",IF(VLOOKUP(MID(A53,6,99)*1,'Data eshop'!D:T,3,FALSE)=0,IF(VLOOKUP(MID(A53,6,99)*1,'Data eshop'!D:T,4,FALSE)=0,\"\",VLOOKUP(MID(A53,6,99)*1,'Data eshop'!D:T,4,FALSE)),VLOOKUP(MID(A53,6,99)*1,'Data eshop'!D:T,3,FALSE))&IF(VLOOKUP(MID(A53,6,99)*1,'Data eshop'!D:T,4,FALSE)=0,\"\",\" \"&VLOOKUP(MID(A53,6,99)*1,'Data eshop'!D:T,4,FALSE)))","v":""},{"$f":"IF(A53=\"\",\"\",IF(VLOOKUP(MID(A53,6,99)*1,'Data eshop'!D:T,5,FALSE)=0,\"\",VLOOKUP(MID(A53,6,99)*1,'Data eshop'!D:T,5,FALSE)))","v":""},{"$f":"IF(A53=\"\",\"\",IF(VLOOKUP(MID(A53,6,99)*1,'Data eshop'!D:T,6,FALSE)=0,\"\",VLOOKUP(MID(A53,6,99)*1,'Data eshop'!D:T,6,FALSE)))","v":""},{"$f":"IF(A53=\"\",\"\",IF(VLOOKUP(MID(A53,6,99)*1,'Data eshop'!D:T,7,FALSE)=0,\"\",VLOOKUP(MID(A53,6,99)*1,'Data eshop'!D:T,7,FALSE)))","v":""},{"$f":"IF(A53=\"\",\"\",IF(VLOOKUP(MID(A53,6,99)*1,'Data eshop'!D:T,10,FALSE)=0,\"\",VLOOKUP(VLOOKUP(MID(A53,6,99)*1,'Data eshop'!D:T,10,FALSE),DATA!O:P,2,FALSE)))","v":""},"",{"$f":"IF(A53=\"\",\"\",IF(VLOOKUP(MID(A53,6,99)*1,'Data eshop'!D:W,18,FALSE)=0,\"\",VLOOKUP(MID(A53,6,99)*1,'Data eshop'!D:W,18,FALSE)))","v":""},{"$f":"IF(A53=\"\",\"\",IF(VLOOKUP(MID(A53,6,99)*1,'Data eshop'!D:W,19,FALSE)=0,\"\",VLOOKUP(MID(A53,6,99)*1,'Data eshop'!D:W,19,FALSE)))","v":""},{"$f":"IF(A53=\"\",\"\",IF(VLOOKUP(MID(A53,6,99)*1,'Data eshop'!D:T,11,FALSE)=0,\"\",IF(OR(VLOOKUP(MID(A53,6,99)*1,'Data eshop'!D:T,11,FALSE)=\"Na dobírku\",VLOOKUP(MID(A53,6,99)*1,'Data eshop'!D:T,11,FALSE)=\"Na dobierku\",VLOOKUP(MID(A53,6,99)*1,'Data eshop'!D:T,11,FALSE)=\"Za pobraniem\"),VLOOKUP(MID(A53,6,99)*1,'Data eshop'!D:W,20,FALSE),\"\")))","v":""},{"$f":"IF(L53=\"\",\"\",IF(VLOOKUP(MID(A53,6,99)*1,'Data eshop'!D:T,10,FALSE)=0,\"\",IF(VLOOKUP(MID(A53,6,99)*1,'Data eshop'!D:T,10,FALSE)=\"Česká republika\",\"CZK\",IF(VLOOKUP(MID(A53,6,99)*1,'Data eshop'!D:T,10,FALSE)=\"Poland\",\"PLN\",IF(VLOOKUP(MID(A53,6,99)*1,'Data eshop'!D:T,10,FALSE)=\"Slovakia\",\"EUR\",\"\")))))","v":""},"",null,52]
[{"$f":"IFERROR(VLOOKUP(P54,Zakázky!P:Q,2,FALSE),\"\")","v":""},"",{"$f":"IF(A54=\"\",\"\",IF(VLOOKUP(MID(A54,6,99)*1,'Data eshop'!D:T,2,FALSE)=0,\"\",VLOOKUP(MID(A54,6,99)*1,'Data eshop'!D:T,2,FALSE)))","v":""},{"$f":"IF(A54=\"\",\"\",IF(VLOOKUP(MID(A54,6,99)*1,'Data eshop'!D:T,3,FALSE)=0,IF(VLOOKUP(MID(A54,6,99)*1,'Data eshop'!D:T,4,FALSE)=0,\"\",VLOOKUP(MID(A54,6,99)*1,'Data eshop'!D:T,4,FALSE)),VLOOKUP(MID(A54,6,99)*1,'Data eshop'!D:T,3,FALSE))&IF(VLOOKUP(MID(A54,6,99)*1,'Data eshop'!D:T,4,FALSE)=0,\"\",\" \"&VLOOKUP(MID(A54,6,99)*1,'Data eshop'!D:T,4,FALSE)))","v":""},{"$f":"IF(A54=\"\",\"\",IF(VLOOKUP(MID(A54,6,99)*1,'Data eshop'!D:T,5,FALSE)=0,\"\",VLOOKUP(MID(A54,6,99)*1,'Data eshop'!D:T,5,FALSE)))","v":""},{"$f":"IF(A54=\"\",\"\",IF(VLOOKUP(MID(A54,6,99)*1,'Data eshop'!D:T,6,FALSE)=0,\"\",VLOOKUP(MID(A54,6,99)*1,'Data eshop'!D:T,6,FALSE)))","v":""},{"$f":"IF(A54=\"\",\"\",IF(VLOOKUP(MID(A54,6,99)*1,'Data eshop'!D:T,7,FALSE)=0,\"\",VLOOKUP(MID(A54,6,99)*1,'Data eshop'!D:T,7,FALSE)))","v":""},{"$f":"IF(A54=\"\",\"\",IF(VLOOKUP(MID(A54,6,99)*1,'Data eshop'!D:T,10,FALSE)=0,\"\",VLOOKUP(VLOOKUP(MID(A54,6,99)*1,'Data eshop'!D:T,10,FALSE),DATA!O:P,2,FALSE)))","v":""},"",{"$f":"IF(A54=\"\",\"\",IF(VLOOKUP(MID(A54,6,99)*1,'Data eshop'!D:W,18,FALSE)=0,\"\",VLOOKUP(MID(A54,6,99)*1,'Data eshop'!D:W,18,FALSE)))","v":""},{"$f":"IF(A54=\"\",\"\",IF(VLOOKUP(MID(A54,6,99)*1,'Data eshop'!D:W,19,FALSE)=0,\"\",VLOOKUP(MID(A54,6,99)*1,'Data eshop'!D:W,19,FALSE)))","v":""},{"$f":"IF(A54=\"\",\"\",IF(VLOOKUP(MID(A54,6,99)*1,'Data eshop'!D:T,11,FALSE)=0,\"\",IF(OR(VLOOKUP(MID(A54,6,99)*1,'Data eshop'!D:T,11,FALSE)=\"Na dobírku\",VLOOKUP(MID(A54,6,99)*1,'Data eshop'!D:T,11,FALSE)=\"Na dobierku\",VLOOKUP(MID(A54,6,99)*1,'Data eshop'!D:T,11,FALSE)=\"Za pobraniem\"),VLOOKUP(MID(A54,6,99)*1,'Data eshop'!D:W,20,FALSE),\"\")))","v":""},{"$f":"IF(L54=\"\",\"\",IF(VLOOKUP(MID(A54,6,99)*1,'Data eshop'!D:T,10,FALSE)=0,\"\",IF(VLOOKUP(MID(A54,6,99)*1,'Data eshop'!D:T,10,FALSE)=\"Česká republika\",\"CZK\",IF(VLOOKUP(MID(A54,6,99)*1,'Data eshop'!D:T,10,FALSE)=\"Poland\",\"PLN\",IF(VLOOKUP(MID(A54,6,99)*1,'Data eshop'!D:T,10,FALSE)=\"Slovakia\",\"EUR\",\"\")))))","v":""},"",null,53,null,"Roluj nahoru, až uvidíš žlutou"]
[{"$f":"IFERROR(VLOOKUP(P55,Zakázky!P:Q,2,FALSE),\"\")","v":""},"",{"$f":"IF(A55=\"\",\"\",IF(VLOOKUP(MID(A55,6,99)*1,'Data eshop'!D:T,2,FALSE)=0,\"\",VLOOKUP(MID(A55,6,99)*1,'Data eshop'!D:T,2,FALSE)))","v":""},{"$f":"IF(A55=\"\",\"\",IF(VLOOKUP(MID(A55,6,99)*1,'Data eshop'!D:T,3,FALSE)=0,IF(VLOOKUP(MID(A55,6,99)*1,'Data eshop'!D:T,4,FALSE)=0,\"\",VLOOKUP(MID(A55,6,99)*1,'Data eshop'!D:T,4,FALSE)),VLOOKUP(MID(A55,6,99)*1,'Data eshop'!D:T,3,FALSE))&IF(VLOOKUP(MID(A55,6,99)*1,'Data eshop'!D:T,4,FALSE)=0,\"\",\" \"&VLOOKUP(MID(A55,6,99)*1,'Data eshop'!D:T,4,FALSE)))","v":""},{"$f":"IF(A55=\"\",\"\",IF(VLOOKUP(MID(A55,6,99)*1,'Data eshop'!D:T,5,FALSE)=0,\"\",VLOOKUP(MID(A55,6,99)*1,'Data eshop'!D:T,5,FALSE)))","v":""},{"$f":"IF(A55=\"\",\"\",IF(VLOOKUP(MID(A55,6,99)*1,'Data eshop'!D:T,6,FALSE)=0,\"\",VLOOKUP(MID(A55,6,99)*1,'Data eshop'!D:T,6,FALSE)))","v":""},{"$f":"IF(A55=\"\",\"\",IF(VLOOKUP(MID(A55,6,99)*1,'Data eshop'!D:T,7,FALSE)=0,\"\",VLOOKUP(MID(A55,6,99)*1,'Data eshop'!D:T,7,FALSE)))","v":""},{"$f":"IF(A55=\"\",\"\",IF(VLOOKUP(MID(A55,6,99)*1,'Data eshop'!D:T,10,FALSE)=0,\"\",VLOOKUP(VLOOKUP(MID(A55,6,99)*1,'Data eshop'!D:T,10,FALSE),DATA!O:P,2,FALSE)))","v":""},"",{"$f":"IF(A55=\"\",\"\",IF(VLOOKUP(MID(A55,6,99)*1,'Data eshop'!D:W,18,FALSE)=0,\"\",VLOOKUP(MID(A55,6,99)*1,'Data eshop'!D:W,18,FALSE)))","v":""},{"$f":"IF(A55=\"\",\"\",IF(VLOOKUP(MID(A55,6,99)*1,'Data eshop'!D:W,19,FALSE)=0,\"\",VLOOKUP(MID(A55,6,99)*1,'Data eshop'!D:W,19,FALSE)))","v":""},{"$f":"IF(A55=\"\",\"\",IF(VLOOKUP(MID(A55,6,99)*1,'Data eshop'!D:T,11,FALSE)=0,\"\",IF(OR(VLOOKUP(MID(A55,6,99)*1,'Data eshop'!D:T,11,FALSE)=\"Na dobírku\",VLOOKUP(MID(A55,6,99)*1,'Data eshop'!D:T,11,FALSE)=\"Na dobierku\",VLOOKUP(MID(A55,6,99)*1,'Data eshop'!D:T,11,FALSE)=\"Za pobraniem\"),VLOOKUP(MID(A55,6,99)*1,'Data eshop'!D:W,20,FALSE),\"\")))","v":""},{"$f":"IF(L55=\"\",\"\",IF(VLOOKUP(MID(A55,6,99)*1,'Data eshop'!D:T,10,FALSE)=0,\"\",IF(VLOOKUP(MID(A55,6,99)*1,'Data eshop'!D:T,10,FALSE)=\"Česká republika\",\"CZK\",IF(VLOOKUP(MID(A55,6,99)*1,'Data eshop'!D:T,10,FALSE)=\"Poland\",\"PLN\",IF(VLOOKUP(MID(A55,6,99)*1,'Data eshop'!D:T,10,FALSE)=\"Slovakia\",\"EUR\",\"\")))))","v":""},"",null,54]
[{"$f":"IFERROR(VLOOKUP(P56,Zakázky!P:Q,2,FALSE),\"\")","v":""},"",{"$f":"IF(A56=\"\",\"\",IF(VLOOKUP(MID(A56,6,99)*1,'Data eshop'!D:T,2,FALSE)=0,\"\",VLOOKUP(MID(A56,6,99)*1,'Data eshop'!D:T,2,FALSE)))","v":""},{"$f":"IF(A56=\"\",\"\",IF(VLOOKUP(MID(A56,6,99)*1,'Data eshop'!D:T,3,FALSE)=0,IF(VLOOKUP(MID(A56,6,99)*1,'Data eshop'!D:T,4,FALSE)=0,\"\",VLOOKUP(MID(A56,6,99)*1,'Data eshop'!D:T,4,FALSE)),VLOOKUP(MID(A56,6,99)*1,'Data eshop'!D:T,3,FALSE))&IF(VLOOKUP(MID(A56,6,99)*1,'Data eshop'!D:T,4,FALSE)=0,\"\",\" \"&VLOOKUP(MID(A56,6,99)*1,'Data eshop'!D:T,4,FALSE)))","v":""},{"$f":"IF(A56=\"\",\"\",IF(VLOOKUP(MID(A56,6,99)*1,'Data eshop'!D:T,5,FALSE)=0,\"\",VLOOKUP(MID(A56,6,99)*1,'Data eshop'!D:T,5,FALSE)))","v":""},{"$f":"IF(A56=\"\",\"\",IF(VLOOKUP(MID(A56,6,99)*1,'Data eshop'!D:T,6,FALSE)=0,\"\",VLOOKUP(MID(A56,6,99)*1,'Data eshop'!D:T,6,FALSE)))","v":""},{"$f":"IF(A56=\"\",\"\",IF(VLOOKUP(MID(A56,6,99)*1,'Data eshop'!D:T,7,FALSE)=0,\"\",VLOOKUP(MID(A56,6,99)*1,'Data eshop'!D:T,7,FALSE)))","v":""},{"$f":"IF(A56=\"\",\"\",IF(VLOOKUP(MID(A56,6,99)*1,'Data eshop'!D:T,10,FALSE)=0,\"\",VLOOKUP(VLOOKUP(MID(A56,6,99)*1,'Data eshop'!D:T,10,FALSE),DATA!O:P,2,FALSE)))","v":""},"",{"$f":"IF(A56=\"\",\"\",IF(VLOOKUP(MID(A56,6,99)*1,'Data eshop'!D:W,18,FALSE)=0,\"\",VLOOKUP(MID(A56,6,99)*1,'Data eshop'!D:W,18,FALSE)))","v":""},{"$f":"IF(A56=\"\",\"\",IF(VLOOKUP(MID(A56,6,99)*1,'Data eshop'!D:W,19,FALSE)=0,\"\",VLOOKUP(MID(A56,6,99)*1,'Data eshop'!D:W,19,FALSE)))","v":""},{"$f":"IF(A56=\"\",\"\",IF(VLOOKUP(MID(A56,6,99)*1,'Data eshop'!D:T,11,FALSE)=0,\"\",IF(OR(VLOOKUP(MID(A56,6,99)*1,'Data eshop'!D:T,11,FALSE)=\"Na dobírku\",VLOOKUP(MID(A56,6,99)*1,'Data eshop'!D:T,11,FALSE)=\"Na dobierku\",VLOOKUP(MID(A56,6,99)*1,'Data eshop'!D:T,11,FALSE)=\"Za pobraniem\"),VLOOKUP(MID(A56,6,99)*1,'Data eshop'!D:W,20,FALSE),\"\")))","v":""},{"$f":"IF(L56=\"\",\"\",IF(VLOOKUP(MID(A56,6,99)*1,'Data eshop'!D:T,10,FALSE)=0,\"\",IF(VLOOKUP(MID(A56,6,99)*1,'Data eshop'!D:T,10,FALSE)=\"Česká republika\",\"CZK\",IF(VLOOKUP(MID(A56,6,99)*1,'Data eshop'!D:T,10,FALSE)=\"Poland\",\"PLN\",IF(VLOOKUP(MID(A56,6,99)*1,'Data eshop'!D:T,10,FALSE)=\"Slovakia\",\"EUR\",\"\")))))","v":""},"",null,55]
[{"$f":"IFERROR(VLOOKUP(P57,Zakázky!P:Q,2,FALSE),\"\")","v":""},"",{"$f":"IF(A57=\"\",\"\",IF(VLOOKUP(MID(A57,6,99)*1,'Data eshop'!D:T,2,FALSE)=0,\"\",VLOOKUP(MID(A57,6,99)*1,'Data eshop'!D:T,2,FALSE)))","v":""},{"$f":"IF(A57=\"\",\"\",IF(VLOOKUP(MID(A57,6,99)*1,'Data eshop'!D:T,3,FALSE)=0,IF(VLOOKUP(MID(A57,6,99)*1,'Data eshop'!D:T,4,FALSE)=0,\"\",VLOOKUP(MID(A57,6,99)*1,'Data eshop'!D:T,4,FALSE)),VLOOKUP(MID(A57,6,99)*1,'Data eshop'!D:T,3,FALSE))&IF(VLOOKUP(MID(A57,6,99)*1,'Data eshop'!D:T,4,FALSE)=0,\"\",\" \"&VLOOKUP(MID(A57,6,99)*1,'Data eshop'!D:T,4,FALSE)))","v":""},{"$f":"IF(A57=\"\",\"\",IF(VLOOKUP(MID(A57,6,99)*1,'Data eshop'!D:T,5,FALSE)=0,\"\",VLOOKUP(MID(A57,6,99)*1,'Data eshop'!D:T,5,FALSE)))","v":""},{"$f":"IF(A57=\"\",\"\",IF(VLOOKUP(MID(A57,6,99)*1,'Data eshop'!D:T,6,FALSE)=0,\"\",VLOOKUP(MID(A57,6,99)*1,'Data eshop'!D:T,6,FALSE)))","v":""},{"$f":"IF(A57=\"\",\"\",IF(VLOOKUP(MID(A57,6,99)*1,'Data eshop'!D:T,7,FALSE)=0,\"\",VLOOKUP(MID(A57,6,99)*1,'Data eshop'!D:T,7,FALSE)))","v":""},{"$f":"IF(A57=\"\",\"\",IF(VLOOKUP(MID(A57,6,99)*1,'Data eshop'!D:T,10,FALSE)=0,\"\",VLOOKUP(VLOOKUP(MID(A57,6,99)*1,'Data eshop'!D:T,10,FALSE),DATA!O:P,2,FALSE)))","v":""},"",{"$f":"IF(A57=\"\",\"\",IF(VLOOKUP(MID(A57,6,99)*1,'Data eshop'!D:W,18,FALSE)=0,\"\",VLOOKUP(MID(A57,6,99)*1,'Data eshop'!D:W,18,FALSE)))","v":""},{"$f":"IF(A57=\"\",\"\",IF(VLOOKUP(MID(A57,6,99)*1,'Data eshop'!D:W,19,FALSE)=0,\"\",VLOOKUP(MID(A57,6,99)*1,'Data eshop'!D:W,19,FALSE)))","v":""},{"$f":"IF(A57=\"\",\"\",IF(VLOOKUP(MID(A57,6,99)*1,'Data eshop'!D:T,11,FALSE)=0,\"\",IF(OR(VLOOKUP(MID(A57,6,99)*1,'Data eshop'!D:T,11,FALSE)=\"Na dobírku\",VLOOKUP(MID(A57,6,99)*1,'Data eshop'!D:T,11,FALSE)=\"Na dobierku\",VLOOKUP(MID(A57,6,99)*1,'Data eshop'!D:T,11,FALSE)=\"Za pobraniem\"),VLOOKUP(MID(A57,6,99)*1,'Data eshop'!D:W,20,FALSE),\"\")))","v":""},{"$f":"IF(L57=\"\",\"\",IF(VLOOKUP(MID(A57,6,99)*1,'Data eshop'!D:T,10,FALSE)=0,\"\",IF(VLOOKUP(MID(A57,6,99)*1,'Data eshop'!D:T,10,FALSE)=\"Česká republika\",\"CZK\",IF(VLOOKUP(MID(A57,6,99)*1,'Data eshop'!D:T,10,FALSE)=\"Poland\",\"PLN\",IF(VLOOKUP(MID(A57,6,99)*1,'Data eshop'!D:T,10,FALSE)=\"Slovakia\",\"EUR\",\"\")))))","v":""},"",null,56]
[{"$f":"IFERROR(VLOOKUP(P58,Zakázky!P:Q,2,FALSE),\"\")","v":""},"",{"$f":"IF(A58=\"\",\"\",IF(VLOOKUP(MID(A58,6,99)*1,'Data eshop'!D:T,2,FALSE)=0,\"\",VLOOKUP(MID(A58,6,99)*1,'Data eshop'!D:T,2,FALSE)))","v":""},{"$f":"IF(A58=\"\",\"\",IF(VLOOKUP(MID(A58,6,99)*1,'Data eshop'!D:T,3,FALSE)=0,IF(VLOOKUP(MID(A58,6,99)*1,'Data eshop'!D:T,4,FALSE)=0,\"\",VLOOKUP(MID(A58,6,99)*1,'Data eshop'!D:T,4,FALSE)),VLOOKUP(MID(A58,6,99)*1,'Data eshop'!D:T,3,FALSE))&IF(VLOOKUP(MID(A58,6,99)*1,'Data eshop'!D:T,4,FALSE)=0,\"\",\" \"&VLOOKUP(MID(A58,6,99)*1,'Data eshop'!D:T,4,FALSE)))","v":""},{"$f":"IF(A58=\"\",\"\",IF(VLOOKUP(MID(A58,6,99)*1,'Data eshop'!D:T,5,FALSE)=0,\"\",VLOOKUP(MID(A58,6,99)*1,'Data eshop'!D:T,5,FALSE)))","v":""},{"$f":"IF(A58=\"\",\"\",IF(VLOOKUP(MID(A58,6,99)*1,'Data eshop'!D:T,6,FALSE)=0,\"\",VLOOKUP(MID(A58,6,99)*1,'Data eshop'!D:T,6,FALSE)))","v":""},{"$f":"IF(A58=\"\",\"\",IF(VLOOKUP(MID(A58,6,99)*1,'Data eshop'!D:T,7,FALSE)=0,\"\",VLOOKUP(MID(A58,6,99)*1,'Data eshop'!D:T,7,FALSE)))","v":""},{"$f":"IF(A58=\"\",\"\",IF(VLOOKUP(MID(A58,6,99)*1,'Data eshop'!D:T,10,FALSE)=0,\"\",VLOOKUP(VLOOKUP(MID(A58,6,99)*1,'Data eshop'!D:T,10,FALSE),DATA!O:P,2,FALSE)))","v":""},"",{"$f":"IF(A58=\"\",\"\",IF(VLOOKUP(MID(A58,6,99)*1,'Data eshop'!D:W,18,FALSE)=0,\"\",VLOOKUP(MID(A58,6,99)*1,'Data eshop'!D:W,18,FALSE)))","v":""},{"$f":"IF(A58=\"\",\"\",IF(VLOOKUP(MID(A58,6,99)*1,'Data eshop'!D:W,19,FALSE)=0,\"\",VLOOKUP(MID(A58,6,99)*1,'Data eshop'!D:W,19,FALSE)))","v":""},{"$f":"IF(A58=\"\",\"\",IF(VLOOKUP(MID(A58,6,99)*1,'Data eshop'!D:T,11,FALSE)=0,\"\",IF(OR(VLOOKUP(MID(A58,6,99)*1,'Data eshop'!D:T,11,FALSE)=\"Na dobírku\",VLOOKUP(MID(A58,6,99)*1,'Data eshop'!D:T,11,FALSE)=\"Na dobierku\",VLOOKUP(MID(A58,6,99)*1,'Data eshop'!D:T,11,FALSE)=\"Za pobraniem\"),VLOOKUP(MID(A58,6,99)*1,'Data eshop'!D:W,20,FALSE),\"\")))","v":""},{"$f":"IF(L58=\"\",\"\",IF(VLOOKUP(MID(A58,6,99)*1,'Data eshop'!D:T,10,FALSE)=0,\"\",IF(VLOOKUP(MID(A58,6,99)*1,'Data eshop'!D:T,10,FALSE)=\"Česká republika\",\"CZK\",IF(VLOOKUP(MID(A58,6,99)*1,'Data eshop'!D:T,10,FALSE)=\"Poland\",\"PLN\",IF(VLOOKUP(MID(A58,6,99)*1,'Data eshop'!D:T,10,FALSE)=\"Slovakia\",\"EUR\",\"\")))))","v":""},"",null,57,null,"Roluj nahoru, až uvidíš žlutou"]
[{"$f":"IFERROR(VLOOKUP(P59,Zakázky!P:Q,2,FALSE),\"\")","v":""},"",{"$f":"IF(A59=\"\",\"\",IF(VLOOKUP(MID(A59,6,99)*1,'Data eshop'!D:T,2,FALSE)=0,\"\",VLOOKUP(MID(A59,6,99)*1,'Data eshop'!D:T,2,FALSE)))","v":""},{"$f":"IF(A59=\"\",\"\",IF(VLOOKUP(MID(A59,6,99)*1,'Data eshop'!D:T,3,FALSE)=0,IF(VLOOKUP(MID(A59,6,99)*1,'Data eshop'!D:T,4,FALSE)=0,\"\",VLOOKUP(MID(A59,6,99)*1,'Data eshop'!D:T,4,FALSE)),VLOOKUP(MID(A59,6,99)*1,'Data eshop'!D:T,3,FALSE))&IF(VLOOKUP(MID(A59,6,99)*1,'Data eshop'!D:T,4,FALSE)=0,\"\",\" \"&VLOOKUP(MID(A59,6,99)*1,'Data eshop'!D:T,4,FALSE)))","v":""},{"$f":"IF(A59=\"\",\"\",IF(VLOOKUP(MID(A59,6,99)*1,'Data eshop'!D:T,5,FALSE)=0,\"\",VLOOKUP(MID(A59,6,99)*1,'Data eshop'!D:T,5,FALSE)))","v":""},{"$f":"IF(A59=\"\",\"\",IF(VLOOKUP(MID(A59,6,99)*1,'Data eshop'!D:T,6,FALSE)=0,\"\",VLOOKUP(MID(A59,6,99)*1,'Data eshop'!D:T,6,FALSE)))","v":""},{"$f":"IF(A59=\"\",\"\",IF(VLOOKUP(MID(A59,6,99)*1,'Data eshop'!D:T,7,FALSE)=0,\"\",VLOOKUP(MID(A59,6,99)*1,'Data eshop'!D:T,7,FALSE)))","v":""},{"$f":"IF(A59=\"\",\"\",IF(VLOOKUP(MID(A59,6,99)*1,'Data eshop'!D:T,10,FALSE)=0,\"\",VLOOKUP(VLOOKUP(MID(A59,6,99)*1,'Data eshop'!D:T,10,FALSE),DATA!O:P,2,FALSE)))","v":""},"",{"$f":"IF(A59=\"\",\"\",IF(VLOOKUP(MID(A59,6,99)*1,'Data eshop'!D:W,18,FALSE)=0,\"\",VLOOKUP(MID(A59,6,99)*1,'Data eshop'!D:W,18,FALSE)))","v":""},{"$f":"IF(A59=\"\",\"\",IF(VLOOKUP(MID(A59,6,99)*1,'Data eshop'!D:W,19,FALSE)=0,\"\",VLOOKUP(MID(A59,6,99)*1,'Data eshop'!D:W,19,FALSE)))","v":""},{"$f":"IF(A59=\"\",\"\",IF(VLOOKUP(MID(A59,6,99)*1,'Data eshop'!D:T,11,FALSE)=0,\"\",IF(OR(VLOOKUP(MID(A59,6,99)*1,'Data eshop'!D:T,11,FALSE)=\"Na dobírku\",VLOOKUP(MID(A59,6,99)*1,'Data eshop'!D:T,11,FALSE)=\"Na dobierku\",VLOOKUP(MID(A59,6,99)*1,'Data eshop'!D:T,11,FALSE)=\"Za pobraniem\"),VLOOKUP(MID(A59,6,99)*1,'Data eshop'!D:W,20,FALSE),\"\")))","v":""},{"$f":"IF(L59=\"\",\"\",IF(VLOOKUP(MID(A59,6,99)*1,'Data eshop'!D:T,10,FALSE)=0,\"\",IF(VLOOKUP(MID(A59,6,99)*1,'Data eshop'!D:T,10,FALSE)=\"Česká republika\",\"CZK\",IF(VLOOKUP(MID(A59,6,99)*1,'Data eshop'!D:T,10,FALSE)=\"Poland\",\"PLN\",IF(VLOOKUP(MID(A59,6,99)*1,'Data eshop'!D:T,10,FALSE)=\"Slovakia\",\"EUR\",\"\")))))","v":""},"",null,58]
[{"$f":"IFERROR(VLOOKUP(P60,Zakázky!P:Q,2,FALSE),\"\")","v":""},"",{"$f":"IF(A60=\"\",\"\",IF(VLOOKUP(MID(A60,6,99)*1,'Data eshop'!D:T,2,FALSE)=0,\"\",VLOOKUP(MID(A60,6,99)*1,'Data eshop'!D:T,2,FALSE)))","v":""},{"$f":"IF(A60=\"\",\"\",IF(VLOOKUP(MID(A60,6,99)*1,'Data eshop'!D:T,3,FALSE)=0,IF(VLOOKUP(MID(A60,6,99)*1,'Data eshop'!D:T,4,FALSE)=0,\"\",VLOOKUP(MID(A60,6,99)*1,'Data eshop'!D:T,4,FALSE)),VLOOKUP(MID(A60,6,99)*1,'Data eshop'!D:T,3,FALSE))&IF(VLOOKUP(MID(A60,6,99)*1,'Data eshop'!D:T,4,FALSE)=0,\"\",\" \"&VLOOKUP(MID(A60,6,99)*1,'Data eshop'!D:T,4,FALSE)))","v":""},{"$f":"IF(A60=\"\",\"\",IF(VLOOKUP(MID(A60,6,99)*1,'Data eshop'!D:T,5,FALSE)=0,\"\",VLOOKUP(MID(A60,6,99)*1,'Data eshop'!D:T,5,FALSE)))","v":""},{"$f":"IF(A60=\"\",\"\",IF(VLOOKUP(MID(A60,6,99)*1,'Data eshop'!D:T,6,FALSE)=0,\"\",VLOOKUP(MID(A60,6,99)*1,'Data eshop'!D:T,6,FALSE)))","v":""},{"$f":"IF(A60=\"\",\"\",IF(VLOOKUP(MID(A60,6,99)*1,'Data eshop'!D:T,7,FALSE)=0,\"\",VLOOKUP(MID(A60,6,99)*1,'Data eshop'!D:T,7,FALSE)))","v":""},{"$f":"IF(A60=\"\",\"\",IF(VLOOKUP(MID(A60,6,99)*1,'Data eshop'!D:T,10,FALSE)=0,\"\",VLOOKUP(VLOOKUP(MID(A60,6,99)*1,'Data eshop'!D:T,10,FALSE),DATA!O:P,2,FALSE)))","v":""},"",{"$f":"IF(A60=\"\",\"\",IF(VLOOKUP(MID(A60,6,99)*1,'Data eshop'!D:W,18,FALSE)=0,\"\",VLOOKUP(MID(A60,6,99)*1,'Data eshop'!D:W,18,FALSE)))","v":""},{"$f":"IF(A60=\"\",\"\",IF(VLOOKUP(MID(A60,6,99)*1,'Data eshop'!D:W,19,FALSE)=0,\"\",VLOOKUP(MID(A60,6,99)*1,'Data eshop'!D:W,19,FALSE)))","v":""},{"$f":"IF(A60=\"\",\"\",IF(VLOOKUP(MID(A60,6,99)*1,'Data eshop'!D:T,11,FALSE)=0,\"\",IF(OR(VLOOKUP(MID(A60,6,99)*1,'Data eshop'!D:T,11,FALSE)=\"Na dobírku\",VLOOKUP(MID(A60,6,99)*1,'Data eshop'!D:T,11,FALSE)=\"Na dobierku\",VLOOKUP(MID(A60,6,99)*1,'Data eshop'!D:T,11,FALSE)=\"Za pobraniem\"),VLOOKUP(MID(A60,6,99)*1,'Data eshop'!D:W,20,FALSE),\"\")))","v":""},{"$f":"IF(L60=\"\",\"\",IF(VLOOKUP(MID(A60,6,99)*1,'Data eshop'!D:T,10,FALSE)=0,\"\",IF(VLOOKUP(MID(A60,6,99)*1,'Data eshop'!D:T,10,FALSE)=\"Česká republika\",\"CZK\",IF(VLOOKUP(MID(A60,6,99)*1,'Data eshop'!D:T,10,FALSE)=\"Poland\",\"PLN\",IF(VLOOKUP(MID(A60,6,99)*1,'Data eshop'!D:T,10,FALSE)=\"Slovakia\",\"EUR\",\"\")))))","v":""},"",null,59]
[{"$f":"IFERROR(VLOOKUP(P61,Zakázky!P:Q,2,FALSE),\"\")","v":""},"",{"$f":"IF(A61=\"\",\"\",IF(VLOOKUP(MID(A61,6,99)*1,'Data eshop'!D:T,2,FALSE)=0,\"\",VLOOKUP(MID(A61,6,99)*1,'Data eshop'!D:T,2,FALSE)))","v":""},{"$f":"IF(A61=\"\",\"\",IF(VLOOKUP(MID(A61,6,99)*1,'Data eshop'!D:T,3,FALSE)=0,IF(VLOOKUP(MID(A61,6,99)*1,'Data eshop'!D:T,4,FALSE)=0,\"\",VLOOKUP(MID(A61,6,99)*1,'Data eshop'!D:T,4,FALSE)),VLOOKUP(MID(A61,6,99)*1,'Data eshop'!D:T,3,FALSE))&IF(VLOOKUP(MID(A61,6,99)*1,'Data eshop'!D:T,4,FALSE)=0,\"\",\" \"&VLOOKUP(MID(A61,6,99)*1,'Data eshop'!D:T,4,FALSE)))","v":""},{"$f":"IF(A61=\"\",\"\",IF(VLOOKUP(MID(A61,6,99)*1,'Data eshop'!D:T,5,FALSE)=0,\"\",VLOOKUP(MID(A61,6,99)*1,'Data eshop'!D:T,5,FALSE)))","v":""},{"$f":"IF(A61=\"\",\"\",IF(VLOOKUP(MID(A61,6,99)*1,'Data eshop'!D:T,6,FALSE)=0,\"\",VLOOKUP(MID(A61,6,99)*1,'Data eshop'!D:T,6,FALSE)))","v":""},{"$f":"IF(A61=\"\",\"\",IF(VLOOKUP(MID(A61,6,99)*1,'Data eshop'!D:T,7,FALSE)=0,\"\",VLOOKUP(MID(A61,6,99)*1,'Data eshop'!D:T,7,FALSE)))","v":""},{"$f":"IF(A61=\"\",\"\",IF(VLOOKUP(MID(A61,6,99)*1,'Data eshop'!D:T,10,FALSE)=0,\"\",VLOOKUP(VLOOKUP(MID(A61,6,99)*1,'Data eshop'!D:T,10,FALSE),DATA!O:P,2,FALSE)))","v":""},"",{"$f":"IF(A61=\"\",\"\",IF(VLOOKUP(MID(A61,6,99)*1,'Data eshop'!D:W,18,FALSE)=0,\"\",VLOOKUP(MID(A61,6,99)*1,'Data eshop'!D:W,18,FALSE)))","v":""},{"$f":"IF(A61=\"\",\"\",IF(VLOOKUP(MID(A61,6,99)*1,'Data eshop'!D:W,19,FALSE)=0,\"\",VLOOKUP(MID(A61,6,99)*1,'Data eshop'!D:W,19,FALSE)))","v":""},{"$f":"IF(A61=\"\",\"\",IF(VLOOKUP(MID(A61,6,99)*1,'Data eshop'!D:T,11,FALSE)=0,\"\",IF(OR(VLOOKUP(MID(A61,6,99)*1,'Data eshop'!D:T,11,FALSE)=\"Na dobírku\",VLOOKUP(MID(A61,6,99)*1,'Data eshop'!D:T,11,FALSE)=\"Na dobierku\",VLOOKUP(MID(A61,6,99)*1,'Data eshop'!D:T,11,FALSE)=\"Za pobraniem\"),VLOOKUP(MID(A61,6,99)*1,'Data eshop'!D:W,20,FALSE),\"\")))","v":""},{"$f":"IF(L61=\"\",\"\",IF(VLOOKUP(MID(A61,6,99)*1,'Data eshop'!D:T,10,FALSE)=0,\"\",IF(VLOOKUP(MID(A61,6,99)*1,'Data eshop'!D:T,10,FALSE)=\"Česká republika\",\"CZK\",IF(VLOOKUP(MID(A61,6,99)*1,'Data eshop'!D:T,10,FALSE)=\"Poland\",\"PLN\",IF(VLOOKUP(MID(A61,6,99)*1,'Data eshop'!D:T,10,FALSE)=\"Slovakia\",\"EUR\",\"\")))))","v":""},"",null,60]
[{"$f":"IFERROR(VLOOKUP(P62,Zakázky!P:Q,2,FALSE),\"\")","v":""},"",{"$f":"IF(A62=\"\",\"\",IF(VLOOKUP(MID(A62,6,99)*1,'Data eshop'!D:T,2,FALSE)=0,\"\",VLOOKUP(MID(A62,6,99)*1,'Data eshop'!D:T,2,FALSE)))","v":""},{"$f":"IF(A62=\"\",\"\",IF(VLOOKUP(MID(A62,6,99)*1,'Data eshop'!D:T,3,FALSE)=0,IF(VLOOKUP(MID(A62,6,99)*1,'Data eshop'!D:T,4,FALSE)=0,\"\",VLOOKUP(MID(A62,6,99)*1,'Data eshop'!D:T,4,FALSE)),VLOOKUP(MID(A62,6,99)*1,'Data eshop'!D:T,3,FALSE))&IF(VLOOKUP(MID(A62,6,99)*1,'Data eshop'!D:T,4,FALSE)=0,\"\",\" \"&VLOOKUP(MID(A62,6,99)*1,'Data eshop'!D:T,4,FALSE)))","v":""},{"$f":"IF(A62=\"\",\"\",IF(VLOOKUP(MID(A62,6,99)*1,'Data eshop'!D:T,5,FALSE)=0,\"\",VLOOKUP(MID(A62,6,99)*1,'Data eshop'!D:T,5,FALSE)))","v":""},{"$f":"IF(A62=\"\",\"\",IF(VLOOKUP(MID(A62,6,99)*1,'Data eshop'!D:T,6,FALSE)=0,\"\",VLOOKUP(MID(A62,6,99)*1,'Data eshop'!D:T,6,FALSE)))","v":""},{"$f":"IF(A62=\"\",\"\",IF(VLOOKUP(MID(A62,6,99)*1,'Data eshop'!D:T,7,FALSE)=0,\"\",VLOOKUP(MID(A62,6,99)*1,'Data eshop'!D:T,7,FALSE)))","v":""},{"$f":"IF(A62=\"\",\"\",IF(VLOOKUP(MID(A62,6,99)*1,'Data eshop'!D:T,10,FALSE)=0,\"\",VLOOKUP(VLOOKUP(MID(A62,6,99)*1,'Data eshop'!D:T,10,FALSE),DATA!O:P,2,FALSE)))","v":""},"",{"$f":"IF(A62=\"\",\"\",IF(VLOOKUP(MID(A62,6,99)*1,'Data eshop'!D:W,18,FALSE)=0,\"\",VLOOKUP(MID(A62,6,99)*1,'Data eshop'!D:W,18,FALSE)))","v":""},{"$f":"IF(A62=\"\",\"\",IF(VLOOKUP(MID(A62,6,99)*1,'Data eshop'!D:W,19,FALSE)=0,\"\",VLOOKUP(MID(A62,6,99)*1,'Data eshop'!D:W,19,FALSE)))","v":""},{"$f":"IF(A62=\"\",\"\",IF(VLOOKUP(MID(A62,6,99)*1,'Data eshop'!D:T,11,FALSE)=0,\"\",IF(OR(VLOOKUP(MID(A62,6,99)*1,'Data eshop'!D:T,11,FALSE)=\"Na dobírku\",VLOOKUP(MID(A62,6,99)*1,'Data eshop'!D:T,11,FALSE)=\"Na dobierku\",VLOOKUP(MID(A62,6,99)*1,'Data eshop'!D:T,11,FALSE)=\"Za pobraniem\"),VLOOKUP(MID(A62,6,99)*1,'Data eshop'!D:W,20,FALSE),\"\")))","v":""},{"$f":"IF(L62=\"\",\"\",IF(VLOOKUP(MID(A62,6,99)*1,'Data eshop'!D:T,10,FALSE)=0,\"\",IF(VLOOKUP(MID(A62,6,99)*1,'Data eshop'!D:T,10,FALSE)=\"Česká republika\",\"CZK\",IF(VLOOKUP(MID(A62,6,99)*1,'Data eshop'!D:T,10,FALSE)=\"Poland\",\"PLN\",IF(VLOOKUP(MID(A62,6,99)*1,'Data eshop'!D:T,10,FALSE)=\"Slovakia\",\"EUR\",\"\")))))","v":""},"",null,61,null,"Roluj nahoru, až uvidíš žlutou"]
[{"$f":"IFERROR(VLOOKUP(P63,Zakázky!P:Q,2,FALSE),\"\")","v":""},"",{"$f":"IF(A63=\"\",\"\",IF(VLOOKUP(MID(A63,6,99)*1,'Data eshop'!D:T,2,FALSE)=0,\"\",VLOOKUP(MID(A63,6,99)*1,'Data eshop'!D:T,2,FALSE)))","v":""},{"$f":"IF(A63=\"\",\"\",IF(VLOOKUP(MID(A63,6,99)*1,'Data eshop'!D:T,3,FALSE)=0,IF(VLOOKUP(MID(A63,6,99)*1,'Data eshop'!D:T,4,FALSE)=0,\"\",VLOOKUP(MID(A63,6,99)*1,'Data eshop'!D:T,4,FALSE)),VLOOKUP(MID(A63,6,99)*1,'Data eshop'!D:T,3,FALSE))&IF(VLOOKUP(MID(A63,6,99)*1,'Data eshop'!D:T,4,FALSE)=0,\"\",\" \"&VLOOKUP(MID(A63,6,99)*1,'Data eshop'!D:T,4,FALSE)))","v":""},{"$f":"IF(A63=\"\",\"\",IF(VLOOKUP(MID(A63,6,99)*1,'Data eshop'!D:T,5,FALSE)=0,\"\",VLOOKUP(MID(A63,6,99)*1,'Data eshop'!D:T,5,FALSE)))","v":""},{"$f":"IF(A63=\"\",\"\",IF(VLOOKUP(MID(A63,6,99)*1,'Data eshop'!D:T,6,FALSE)=0,\"\",VLOOKUP(MID(A63,6,99)*1,'Data eshop'!D:T,6,FALSE)))","v":""},{"$f":"IF(A63=\"\",\"\",IF(VLOOKUP(MID(A63,6,99)*1,'Data eshop'!D:T,7,FALSE)=0,\"\",VLOOKUP(MID(A63,6,99)*1,'Data eshop'!D:T,7,FALSE)))","v":""},{"$f":"IF(A63=\"\",\"\",IF(VLOOKUP(MID(A63,6,99)*1,'Data eshop'!D:T,10,FALSE)=0,\"\",VLOOKUP(VLOOKUP(MID(A63,6,99)*1,'Data eshop'!D:T,10,FALSE),DATA!O:P,2,FALSE)))","v":""},"",{"$f":"IF(A63=\"\",\"\",IF(VLOOKUP(MID(A63,6,99)*1,'Data eshop'!D:W,18,FALSE)=0,\"\",VLOOKUP(MID(A63,6,99)*1,'Data eshop'!D:W,18,FALSE)))","v":""},{"$f":"IF(A63=\"\",\"\",IF(VLOOKUP(MID(A63,6,99)*1,'Data eshop'!D:W,19,FALSE)=0,\"\",VLOOKUP(MID(A63,6,99)*1,'Data eshop'!D:W,19,FALSE)))","v":""},{"$f":"IF(A63=\"\",\"\",IF(VLOOKUP(MID(A63,6,99)*1,'Data eshop'!D:T,11,FALSE)=0,\"\",IF(OR(VLOOKUP(MID(A63,6,99)*1,'Data eshop'!D:T,11,FALSE)=\"Na dobírku\",VLOOKUP(MID(A63,6,99)*1,'Data eshop'!D:T,11,FALSE)=\"Na dobierku\",VLOOKUP(MID(A63,6,99)*1,'Data eshop'!D:T,11,FALSE)=\"Za pobraniem\"),VLOOKUP(MID(A63,6,99)*1,'Data eshop'!D:W,20,FALSE),\"\")))","v":""},{"$f":"IF(L63=\"\",\"\",IF(VLOOKUP(MID(A63,6,99)*1,'Data eshop'!D:T,10,FALSE)=0,\"\",IF(VLOOKUP(MID(A63,6,99)*1,'Data eshop'!D:T,10,FALSE)=\"Česká republika\",\"CZK\",IF(VLOOKUP(MID(A63,6,99)*1,'Data eshop'!D:T,10,FALSE)=\"Poland\",\"PLN\",IF(VLOOKUP(MID(A63,6,99)*1,'Data eshop'!D:T,10,FALSE)=\"Slovakia\",\"EUR\",\"\")))))","v":""},"",null,62]
[{"$f":"IFERROR(VLOOKUP(P64,Zakázky!P:Q,2,FALSE),\"\")","v":""},"",{"$f":"IF(A64=\"\",\"\",IF(VLOOKUP(MID(A64,6,99)*1,'Data eshop'!D:T,2,FALSE)=0,\"\",VLOOKUP(MID(A64,6,99)*1,'Data eshop'!D:T,2,FALSE)))","v":""},{"$f":"IF(A64=\"\",\"\",IF(VLOOKUP(MID(A64,6,99)*1,'Data eshop'!D:T,3,FALSE)=0,IF(VLOOKUP(MID(A64,6,99)*1,'Data eshop'!D:T,4,FALSE)=0,\"\",VLOOKUP(MID(A64,6,99)*1,'Data eshop'!D:T,4,FALSE)),VLOOKUP(MID(A64,6,99)*1,'Data eshop'!D:T,3,FALSE))&IF(VLOOKUP(MID(A64,6,99)*1,'Data eshop'!D:T,4,FALSE)=0,\"\",\" \"&VLOOKUP(MID(A64,6,99)*1,'Data eshop'!D:T,4,FALSE)))","v":""},{"$f":"IF(A64=\"\",\"\",IF(VLOOKUP(MID(A64,6,99)*1,'Data eshop'!D:T,5,FALSE)=0,\"\",VLOOKUP(MID(A64,6,99)*1,'Data eshop'!D:T,5,FALSE)))","v":""},{"$f":"IF(A64=\"\",\"\",IF(VLOOKUP(MID(A64,6,99)*1,'Data eshop'!D:T,6,FALSE)=0,\"\",VLOOKUP(MID(A64,6,99)*1,'Data eshop'!D:T,6,FALSE)))","v":""},{"$f":"IF(A64=\"\",\"\",IF(VLOOKUP(MID(A64,6,99)*1,'Data eshop'!D:T,7,FALSE)=0,\"\",VLOOKUP(MID(A64,6,99)*1,'Data eshop'!D:T,7,FALSE)))","v":""},{"$f":"IF(A64=\"\",\"\",IF(VLOOKUP(MID(A64,6,99)*1,'Data eshop'!D:T,10,FALSE)=0,\"\",VLOOKUP(VLOOKUP(MID(A64,6,99)*1,'Data eshop'!D:T,10,FALSE),DATA!O:P,2,FALSE)))","v":""},"",{"$f":"IF(A64=\"\",\"\",IF(VLOOKUP(MID(A64,6,99)*1,'Data eshop'!D:W,18,FALSE)=0,\"\",VLOOKUP(MID(A64,6,99)*1,'Data eshop'!D:W,18,FALSE)))","v":""},{"$f":"IF(A64=\"\",\"\",IF(VLOOKUP(MID(A64,6,99)*1,'Data eshop'!D:W,19,FALSE)=0,\"\",VLOOKUP(MID(A64,6,99)*1,'Data eshop'!D:W,19,FALSE)))","v":""},{"$f":"IF(A64=\"\",\"\",IF(VLOOKUP(MID(A64,6,99)*1,'Data eshop'!D:T,11,FALSE)=0,\"\",IF(OR(VLOOKUP(MID(A64,6,99)*1,'Data eshop'!D:T,11,FALSE)=\"Na dobírku\",VLOOKUP(MID(A64,6,99)*1,'Data eshop'!D:T,11,FALSE)=\"Na dobierku\",VLOOKUP(MID(A64,6,99)*1,'Data eshop'!D:T,11,FALSE)=\"Za pobraniem\"),VLOOKUP(MID(A64,6,99)*1,'Data eshop'!D:W,20,FALSE),\"\")))","v":""},{"$f":"IF(L64=\"\",\"\",IF(VLOOKUP(MID(A64,6,99)*1,'Data eshop'!D:T,10,FALSE)=0,\"\",IF(VLOOKUP(MID(A64,6,99)*1,'Data eshop'!D:T,10,FALSE)=\"Česká republika\",\"CZK\",IF(VLOOKUP(MID(A64,6,99)*1,'Data eshop'!D:T,10,FALSE)=\"Poland\",\"PLN\",IF(VLOOKUP(MID(A64,6,99)*1,'Data eshop'!D:T,10,FALSE)=\"Slovakia\",\"EUR\",\"\")))))","v":""},"",null,63]
[{"$f":"IFERROR(VLOOKUP(P65,Zakázky!P:Q,2,FALSE),\"\")","v":""},"",{"$f":"IF(A65=\"\",\"\",IF(VLOOKUP(MID(A65,6,99)*1,'Data eshop'!D:T,2,FALSE)=0,\"\",VLOOKUP(MID(A65,6,99)*1,'Data eshop'!D:T,2,FALSE)))","v":""},{"$f":"IF(A65=\"\",\"\",IF(VLOOKUP(MID(A65,6,99)*1,'Data eshop'!D:T,3,FALSE)=0,IF(VLOOKUP(MID(A65,6,99)*1,'Data eshop'!D:T,4,FALSE)=0,\"\",VLOOKUP(MID(A65,6,99)*1,'Data eshop'!D:T,4,FALSE)),VLOOKUP(MID(A65,6,99)*1,'Data eshop'!D:T,3,FALSE))&IF(VLOOKUP(MID(A65,6,99)*1,'Data eshop'!D:T,4,FALSE)=0,\"\",\" \"&VLOOKUP(MID(A65,6,99)*1,'Data eshop'!D:T,4,FALSE)))","v":""},{"$f":"IF(A65=\"\",\"\",IF(VLOOKUP(MID(A65,6,99)*1,'Data eshop'!D:T,5,FALSE)=0,\"\",VLOOKUP(MID(A65,6,99)*1,'Data eshop'!D:T,5,FALSE)))","v":""},{"$f":"IF(A65=\"\",\"\",IF(VLOOKUP(MID(A65,6,99)*1,'Data eshop'!D:T,6,FALSE)=0,\"\",VLOOKUP(MID(A65,6,99)*1,'Data eshop'!D:T,6,FALSE)))","v":""},{"$f":"IF(A65=\"\",\"\",IF(VLOOKUP(MID(A65,6,99)*1,'Data eshop'!D:T,7,FALSE)=0,\"\",VLOOKUP(MID(A65,6,99)*1,'Data eshop'!D:T,7,FALSE)))","v":""},{"$f":"IF(A65=\"\",\"\",IF(VLOOKUP(MID(A65,6,99)*1,'Data eshop'!D:T,10,FALSE)=0,\"\",VLOOKUP(VLOOKUP(MID(A65,6,99)*1,'Data eshop'!D:T,10,FALSE),DATA!O:P,2,FALSE)))","v":""},"",{"$f":"IF(A65=\"\",\"\",IF(VLOOKUP(MID(A65,6,99)*1,'Data eshop'!D:W,18,FALSE)=0,\"\",VLOOKUP(MID(A65,6,99)*1,'Data eshop'!D:W,18,FALSE)))","v":""},{"$f":"IF(A65=\"\",\"\",IF(VLOOKUP(MID(A65,6,99)*1,'Data eshop'!D:W,19,FALSE)=0,\"\",VLOOKUP(MID(A65,6,99)*1,'Data eshop'!D:W,19,FALSE)))","v":""},{"$f":"IF(A65=\"\",\"\",IF(VLOOKUP(MID(A65,6,99)*1,'Data eshop'!D:T,11,FALSE)=0,\"\",IF(OR(VLOOKUP(MID(A65,6,99)*1,'Data eshop'!D:T,11,FALSE)=\"Na dobírku\",VLOOKUP(MID(A65,6,99)*1,'Data eshop'!D:T,11,FALSE)=\"Na dobierku\",VLOOKUP(MID(A65,6,99)*1,'Data eshop'!D:T,11,FALSE)=\"Za pobraniem\"),VLOOKUP(MID(A65,6,99)*1,'Data eshop'!D:W,20,FALSE),\"\")))","v":""},{"$f":"IF(L65=\"\",\"\",IF(VLOOKUP(MID(A65,6,99)*1,'Data eshop'!D:T,10,FALSE)=0,\"\",IF(VLOOKUP(MID(A65,6,99)*1,'Data eshop'!D:T,10,FALSE)=\"Česká republika\",\"CZK\",IF(VLOOKUP(MID(A65,6,99)*1,'Data eshop'!D:T,10,FALSE)=\"Poland\",\"PLN\",IF(VLOOKUP(MID(A65,6,99)*1,'Data eshop'!D:T,10,FALSE)=\"Slovakia\",\"EUR\",\"\")))))","v":""},"",null,64]
[{"$f":"IFERROR(VLOOKUP(P66,Zakázky!P:Q,2,FALSE),\"\")","v":""},"",{"$f":"IF(A66=\"\",\"\",IF(VLOOKUP(MID(A66,6,99)*1,'Data eshop'!D:T,2,FALSE)=0,\"\",VLOOKUP(MID(A66,6,99)*1,'Data eshop'!D:T,2,FALSE)))","v":""},{"$f":"IF(A66=\"\",\"\",IF(VLOOKUP(MID(A66,6,99)*1,'Data eshop'!D:T,3,FALSE)=0,IF(VLOOKUP(MID(A66,6,99)*1,'Data eshop'!D:T,4,FALSE)=0,\"\",VLOOKUP(MID(A66,6,99)*1,'Data eshop'!D:T,4,FALSE)),VLOOKUP(MID(A66,6,99)*1,'Data eshop'!D:T,3,FALSE))&IF(VLOOKUP(MID(A66,6,99)*1,'Data eshop'!D:T,4,FALSE)=0,\"\",\" \"&VLOOKUP(MID(A66,6,99)*1,'Data eshop'!D:T,4,FALSE)))","v":""},{"$f":"IF(A66=\"\",\"\",IF(VLOOKUP(MID(A66,6,99)*1,'Data eshop'!D:T,5,FALSE)=0,\"\",VLOOKUP(MID(A66,6,99)*1,'Data eshop'!D:T,5,FALSE)))","v":""},{"$f":"IF(A66=\"\",\"\",IF(VLOOKUP(MID(A66,6,99)*1,'Data eshop'!D:T,6,FALSE)=0,\"\",VLOOKUP(MID(A66,6,99)*1,'Data eshop'!D:T,6,FALSE)))","v":""},{"$f":"IF(A66=\"\",\"\",IF(VLOOKUP(MID(A66,6,99)*1,'Data eshop'!D:T,7,FALSE)=0,\"\",VLOOKUP(MID(A66,6,99)*1,'Data eshop'!D:T,7,FALSE)))","v":""},{"$f":"IF(A66=\"\",\"\",IF(VLOOKUP(MID(A66,6,99)*1,'Data eshop'!D:T,10,FALSE)=0,\"\",VLOOKUP(VLOOKUP(MID(A66,6,99)*1,'Data eshop'!D:T,10,FALSE),DATA!O:P,2,FALSE)))","v":""},"",{"$f":"IF(A66=\"\",\"\",IF(VLOOKUP(MID(A66,6,99)*1,'Data eshop'!D:W,18,FALSE)=0,\"\",VLOOKUP(MID(A66,6,99)*1,'Data eshop'!D:W,18,FALSE)))","v":""},{"$f":"IF(A66=\"\",\"\",IF(VLOOKUP(MID(A66,6,99)*1,'Data eshop'!D:W,19,FALSE)=0,\"\",VLOOKUP(MID(A66,6,99)*1,'Data eshop'!D:W,19,FALSE)))","v":""},{"$f":"IF(A66=\"\",\"\",IF(VLOOKUP(MID(A66,6,99)*1,'Data eshop'!D:T,11,FALSE)=0,\"\",IF(OR(VLOOKUP(MID(A66,6,99)*1,'Data eshop'!D:T,11,FALSE)=\"Na dobírku\",VLOOKUP(MID(A66,6,99)*1,'Data eshop'!D:T,11,FALSE)=\"Na dobierku\",VLOOKUP(MID(A66,6,99)*1,'Data eshop'!D:T,11,FALSE)=\"Za pobraniem\"),VLOOKUP(MID(A66,6,99)*1,'Data eshop'!D:W,20,FALSE),\"\")))","v":""},{"$f":"IF(L66=\"\",\"\",IF(VLOOKUP(MID(A66,6,99)*1,'Data eshop'!D:T,10,FALSE)=0,\"\",IF(VLOOKUP(MID(A66,6,99)*1,'Data eshop'!D:T,10,FALSE)=\"Česká republika\",\"CZK\",IF(VLOOKUP(MID(A66,6,99)*1,'Data eshop'!D:T,10,FALSE)=\"Poland\",\"PLN\",IF(VLOOKUP(MID(A66,6,99)*1,'Data eshop'!D:T,10,FALSE)=\"Slovakia\",\"EUR\",\"\")))))","v":""},"",null,65,null,"Roluj nahoru, až uvidíš žlutou"]
[{"$f":"IFERROR(VLOOKUP(P67,Zakázky!P:Q,2,FALSE),\"\")","v":""},{"$f":"IF(A67=\"\",\"\",40054 )","v":""},{"$f":"IF(A67=\"\",\"\",IF(VLOOKUP(MID(A67,6,99)*1,'Data eshop'!D:T,2,FALSE)=0,\"\",VLOOKUP(MID(A67,6,99)*1,'Data eshop'!D:T,2,FALSE)))","v":""},{"$f":"IF(A67=\"\",\"\",IF(VLOOKUP(MID(A67,6,99)*1,'Data eshop'!D:T,3,FALSE)=0,IF(VLOOKUP(MID(A67,6,99)*1,'Data eshop'!D:T,4,FALSE)=0,\"\",VLOOKUP(MID(A67,6,99)*1,'Data eshop'!D:T,4,FALSE)),VLOOKUP(MID(A67,6,99)*1,'Data eshop'!D:T,3,FALSE))&IF(VLOOKUP(MID(A67,6,99)*1,'Data eshop'!D:T,4,FALSE)=0,\"\",\" \"&VLOOKUP(MID(A67,6,99)*1,'Data eshop'!D:T,4,FALSE)))","v":""},{"$f":"IF(A67=\"\",\"\",IF(VLOOKUP(MID(A67,6,99)*1,'Data eshop'!D:T,5,FALSE)=0,\"\",VLOOKUP(MID(A67,6,99)*1,'Data eshop'!D:T,5,FALSE)))","v":""},{"$f":"IF(A67=\"\",\"\",IF(VLOOKUP(MID(A67,6,99)*1,'Data eshop'!D:T,6,FALSE)=0,\"\",VLOOKUP(MID(A67,6,99)*1,'Data eshop'!D:T,6,FALSE)))","v":""},{"$f":"IF(A67=\"\",\"\",IF(VLOOKUP(MID(A67,6,99)*1,'Data eshop'!D:T,7,FALSE)=0,\"\",VLOOKUP(MID(A67,6,99)*1,'Data eshop'!D:T,7,FALSE)))","v":""},{"$f":"IF(A67=\"\",\"\",IF(VLOOKUP(MID(A67,6,99)*1,'Data eshop'!D:T,10,FALSE)=0,\"\",VLOOKUP(VLOOKUP(MID(A67,6,99)*1,'Data eshop'!D:T,10,FALSE),DATA!O:P,2,FALSE)))","v":""},{"$f":"IF(J67=\"\",\"\",J67)","v":""},{"$f":"IF(A67=\"\",\"\",IF(VLOOKUP(MID(A67,6,99)*1,'Data eshop'!D:W,18,FALSE)=0,\"\",VLOOKUP(MID(A67,6,99)*1,'Data eshop'!D:W,18,FALSE)))","v":""},{"$f":"IF(A67=\"\",\"\",IF(VLOOKUP(MID(A67,6,99)*1,'Data eshop'!D:W,19,FALSE)=0,\"\",VLOOKUP(MID(A67,6,99)*1,'Data eshop'!D:W,19,FALSE)))","v":""},{"$f":"IF(A67=\"\",\"\",IF(VLOOKUP(MID(A67,6,99)*1,'Data eshop'!D:T,11,FALSE)=0,\"\",IF(OR(VLOOKUP(MID(A67,6,99)*1,'Data eshop'!D:T,11,FALSE)=\"Na dobírku\",VLOOKUP(MID(A67,6,99)*1,'Data eshop'!D:T,11,FALSE)=\"Na dobierku\",VLOOKUP(MID(A67,6,99)*1,'Data eshop'!D:T,11,FALSE)=\"Za pobraniem\"),VLOOKUP(MID(A67,6,99)*1,'Data eshop'!D:W,20,FALSE),\"\")))","v":""},{"$f":"IF(L67=\"\",\"\",IF(VLOOKUP(MID(A67,6,99)*1,'Data eshop'!D:T,10,FALSE)=0,\"\",IF(VLOOKUP(MID(A67,6,99)*1,'Data eshop'!D:T,10,FALSE)=\"Česká republika\",\"CZK\",IF(VLOOKUP(MID(A67,6,99)*1,'Data eshop'!D:T,10,FALSE)=\"Poland\",\"PLN\",IF(VLOOKUP(MID(A67,6,99)*1,'Data eshop'!D:T,10,FALSE)=\"Slovakia\",\"EUR\",\"\")))))","v":""},{"$f":"IF(L67=\"\",\"\",0)","v":""},null,66]
[{"$f":"IFERROR(VLOOKUP(P68,Zakázky!P:Q,2,FALSE),\"\")","v":""},"",{"$f":"IF(A68=\"\",\"\",IF(VLOOKUP(MID(A68,6,99)*1,'Data eshop'!D:T,2,FALSE)=0,\"\",VLOOKUP(MID(A68,6,99)*1,'Data eshop'!D:T,2,FALSE)))","v":""},{"$f":"IF(A68=\"\",\"\",IF(VLOOKUP(MID(A68,6,99)*1,'Data eshop'!D:T,3,FALSE)=0,IF(VLOOKUP(MID(A68,6,99)*1,'Data eshop'!D:T,4,FALSE)=0,\"\",VLOOKUP(MID(A68,6,99)*1,'Data eshop'!D:T,4,FALSE)),VLOOKUP(MID(A68,6,99)*1,'Data eshop'!D:T,3,FALSE))&IF(VLOOKUP(MID(A68,6,99)*1,'Data eshop'!D:T,4,FALSE)=0,\"\",\" \"&VLOOKUP(MID(A68,6,99)*1,'Data eshop'!D:T,4,FALSE)))","v":""},{"$f":"IF(A68=\"\",\"\",IF(VLOOKUP(MID(A68,6,99)*1,'Data eshop'!D:T,5,FALSE)=0,\"\",VLOOKUP(MID(A68,6,99)*1,'Data eshop'!D:T,5,FALSE)))","v":""},{"$f":"IF(A68=\"\",\"\",IF(VLOOKUP(MID(A68,6,99)*1,'Data eshop'!D:T,6,FALSE)=0,\"\",VLOOKUP(MID(A68,6,99)*1,'Data eshop'!D:T,6,FALSE)))","v":""},{"$f":"IF(A68=\"\",\"\",IF(VLOOKUP(MID(A68,6,99)*1,'Data eshop'!D:T,7,FALSE)=0,\"\",VLOOKUP(MID(A68,6,99)*1,'Data eshop'!D:T,7,FALSE)))","v":""},{"$f":"IF(A68=\"\",\"\",IF(VLOOKUP(MID(A68,6,99)*1,'Data eshop'!D:T,10,FALSE)=0,\"\",VLOOKUP(VLOOKUP(MID(A68,6,99)*1,'Data eshop'!D:T,10,FALSE),DATA!O:P,2,FALSE)))","v":""},"",{"$f":"IF(A68=\"\",\"\",IF(VLOOKUP(MID(A68,6,99)*1,'Data eshop'!D:W,18,FALSE)=0,\"\",VLOOKUP(MID(A68,6,99)*1,'Data eshop'!D:W,18,FALSE)))","v":""},{"$f":"IF(A68=\"\",\"\",IF(VLOOKUP(MID(A68,6,99)*1,'Data eshop'!D:W,19,FALSE)=0,\"\",VLOOKUP(MID(A68,6,99)*1,'Data eshop'!D:W,19,FALSE)))","v":""},{"$f":"IF(A68=\"\",\"\",IF(VLOOKUP(MID(A68,6,99)*1,'Data eshop'!D:T,11,FALSE)=0,\"\",IF(OR(VLOOKUP(MID(A68,6,99)*1,'Data eshop'!D:T,11,FALSE)=\"Na dobírku\",VLOOKUP(MID(A68,6,99)*1,'Data eshop'!D:T,11,FALSE)=\"Na dobierku\",VLOOKUP(MID(A68,6,99)*1,'Data eshop'!D:T,11,FALSE)=\"Za pobraniem\"),VLOOKUP(MID(A68,6,99)*1,'Data eshop'!D:W,20,FALSE),\"\")))","v":""},{"$f":"IF(L68=\"\",\"\",IF(VLOOKUP(MID(A68,6,99)*1,'Data eshop'!D:T,10,FALSE)=0,\"\",IF(VLOOKUP(MID(A68,6,99)*1,'Data eshop'!D:T,10,FALSE)=\"Česká republika\",\"CZK\",IF(VLOOKUP(MID(A68,6,99)*1,'Data eshop'!D:T,10,FALSE)=\"Poland\",\"PLN\",IF(VLOOKUP(MID(A68,6,99)*1,'Data eshop'!D:T,10,FALSE)=\"Slovakia\",\"EUR\",\"\")))))","v":""},"",null,67]
[{"$f":"IFERROR(VLOOKUP(P69,Zakázky!P:Q,2,FALSE),\"\")","v":""},"",{"$f":"IF(A69=\"\",\"\",IF(VLOOKUP(MID(A69,6,99)*1,'Data eshop'!D:T,2,FALSE)=0,\"\",VLOOKUP(MID(A69,6,99)*1,'Data eshop'!D:T,2,FALSE)))","v":""},{"$f":"IF(A69=\"\",\"\",IF(VLOOKUP(MID(A69,6,99)*1,'Data eshop'!D:T,3,FALSE)=0,IF(VLOOKUP(MID(A69,6,99)*1,'Data eshop'!D:T,4,FALSE)=0,\"\",VLOOKUP(MID(A69,6,99)*1,'Data eshop'!D:T,4,FALSE)),VLOOKUP(MID(A69,6,99)*1,'Data eshop'!D:T,3,FALSE))&IF(VLOOKUP(MID(A69,6,99)*1,'Data eshop'!D:T,4,FALSE)=0,\"\",\" \"&VLOOKUP(MID(A69,6,99)*1,'Data eshop'!D:T,4,FALSE)))","v":""},{"$f":"IF(A69=\"\",\"\",IF(VLOOKUP(MID(A69,6,99)*1,'Data eshop'!D:T,5,FALSE)=0,\"\",VLOOKUP(MID(A69,6,99)*1,'Data eshop'!D:T,5,FALSE)))","v":""},{"$f":"IF(A69=\"\",\"\",IF(VLOOKUP(MID(A69,6,99)*1,'Data eshop'!D:T,6,FALSE)=0,\"\",VLOOKUP(MID(A69,6,99)*1,'Data eshop'!D:T,6,FALSE)))","v":""},{"$f":"IF(A69=\"\",\"\",IF(VLOOKUP(MID(A69,6,99)*1,'Data eshop'!D:T,7,FALSE)=0,\"\",VLOOKUP(MID(A69,6,99)*1,'Data eshop'!D:T,7,FALSE)))","v":""},{"$f":"IF(A69=\"\",\"\",IF(VLOOKUP(MID(A69,6,99)*1,'Data eshop'!D:T,10,FALSE)=0,\"\",VLOOKUP(VLOOKUP(MID(A69,6,99)*1,'Data eshop'!D:T,10,FALSE),DATA!O:P,2,FALSE)))","v":""},"",{"$f":"IF(A69=\"\",\"\",IF(VLOOKUP(MID(A69,6,99)*1,'Data eshop'!D:W,18,FALSE)=0,\"\",VLOOKUP(MID(A69,6,99)*1,'Data eshop'!D:W,18,FALSE)))","v":""},{"$f":"IF(A69=\"\",\"\",IF(VLOOKUP(MID(A69,6,99)*1,'Data eshop'!D:W,19,FALSE)=0,\"\",VLOOKUP(MID(A69,6,99)*1,'Data eshop'!D:W,19,FALSE)))","v":""},{"$f":"IF(A69=\"\",\"\",IF(VLOOKUP(MID(A69,6,99)*1,'Data eshop'!D:T,11,FALSE)=0,\"\",IF(OR(VLOOKUP(MID(A69,6,99)*1,'Data eshop'!D:T,11,FALSE)=\"Na dobírku\",VLOOKUP(MID(A69,6,99)*1,'Data eshop'!D:T,11,FALSE)=\"Na dobierku\",VLOOKUP(MID(A69,6,99)*1,'Data eshop'!D:T,11,FALSE)=\"Za pobraniem\"),VLOOKUP(MID(A69,6,99)*1,'Data eshop'!D:W,20,FALSE),\"\")))","v":""},{"$f":"IF(L69=\"\",\"\",IF(VLOOKUP(MID(A69,6,99)*1,'Data eshop'!D:T,10,FALSE)=0,\"\",IF(VLOOKUP(MID(A69,6,99)*1,'Data eshop'!D:T,10,FALSE)=\"Česká republika\",\"CZK\",IF(VLOOKUP(MID(A69,6,99)*1,'Data eshop'!D:T,10,FALSE)=\"Poland\",\"PLN\",IF(VLOOKUP(MID(A69,6,99)*1,'Data eshop'!D:T,10,FALSE)=\"Slovakia\",\"EUR\",\"\")))))","v":""},"",null,68]
[{"$f":"IFERROR(VLOOKUP(P70,Zakázky!P:Q,2,FALSE),\"\")","v":""},"",{"$f":"IF(A70=\"\",\"\",IF(VLOOKUP(MID(A70,6,99)*1,'Data eshop'!D:T,2,FALSE)=0,\"\",VLOOKUP(MID(A70,6,99)*1,'Data eshop'!D:T,2,FALSE)))","v":""},{"$f":"IF(A70=\"\",\"\",IF(VLOOKUP(MID(A70,6,99)*1,'Data eshop'!D:T,3,FALSE)=0,IF(VLOOKUP(MID(A70,6,99)*1,'Data eshop'!D:T,4,FALSE)=0,\"\",VLOOKUP(MID(A70,6,99)*1,'Data eshop'!D:T,4,FALSE)),VLOOKUP(MID(A70,6,99)*1,'Data eshop'!D:T,3,FALSE))&IF(VLOOKUP(MID(A70,6,99)*1,'Data eshop'!D:T,4,FALSE)=0,\"\",\" \"&VLOOKUP(MID(A70,6,99)*1,'Data eshop'!D:T,4,FALSE)))","v":""},{"$f":"IF(A70=\"\",\"\",IF(VLOOKUP(MID(A70,6,99)*1,'Data eshop'!D:T,5,FALSE)=0,\"\",VLOOKUP(MID(A70,6,99)*1,'Data eshop'!D:T,5,FALSE)))","v":""},{"$f":"IF(A70=\"\",\"\",IF(VLOOKUP(MID(A70,6,99)*1,'Data eshop'!D:T,6,FALSE)=0,\"\",VLOOKUP(MID(A70,6,99)*1,'Data eshop'!D:T,6,FALSE)))","v":""},{"$f":"IF(A70=\"\",\"\",IF(VLOOKUP(MID(A70,6,99)*1,'Data eshop'!D:T,7,FALSE)=0,\"\",VLOOKUP(MID(A70,6,99)*1,'Data eshop'!D:T,7,FALSE)))","v":""},{"$f":"IF(A70=\"\",\"\",IF(VLOOKUP(MID(A70,6,99)*1,'Data eshop'!D:T,10,FALSE)=0,\"\",VLOOKUP(VLOOKUP(MID(A70,6,99)*1,'Data eshop'!D:T,10,FALSE),DATA!O:P,2,FALSE)))","v":""},"",{"$f":"IF(A70=\"\",\"\",IF(VLOOKUP(MID(A70,6,99)*1,'Data eshop'!D:W,18,FALSE)=0,\"\",VLOOKUP(MID(A70,6,99)*1,'Data eshop'!D:W,18,FALSE)))","v":""},{"$f":"IF(A70=\"\",\"\",IF(VLOOKUP(MID(A70,6,99)*1,'Data eshop'!D:W,19,FALSE)=0,\"\",VLOOKUP(MID(A70,6,99)*1,'Data eshop'!D:W,19,FALSE)))","v":""},{"$f":"IF(A70=\"\",\"\",IF(VLOOKUP(MID(A70,6,99)*1,'Data eshop'!D:T,11,FALSE)=0,\"\",IF(OR(VLOOKUP(MID(A70,6,99)*1,'Data eshop'!D:T,11,FALSE)=\"Na dobírku\",VLOOKUP(MID(A70,6,99)*1,'Data eshop'!D:T,11,FALSE)=\"Na dobierku\",VLOOKUP(MID(A70,6,99)*1,'Data eshop'!D:T,11,FALSE)=\"Za pobraniem\"),VLOOKUP(MID(A70,6,99)*1,'Data eshop'!D:W,20,FALSE),\"\")))","v":""},{"$f":"IF(L70=\"\",\"\",IF(VLOOKUP(MID(A70,6,99)*1,'Data eshop'!D:T,10,FALSE)=0,\"\",IF(VLOOKUP(MID(A70,6,99)*1,'Data eshop'!D:T,10,FALSE)=\"Česká republika\",\"CZK\",IF(VLOOKUP(MID(A70,6,99)*1,'Data eshop'!D:T,10,FALSE)=\"Poland\",\"PLN\",IF(VLOOKUP(MID(A70,6,99)*1,'Data eshop'!D:T,10,FALSE)=\"Slovakia\",\"EUR\",\"\")))))","v":""},"",null,69,null,"Roluj nahoru, až uvidíš žlutou"]
[{"$f":"IFERROR(VLOOKUP(P71,Zakázky!P:Q,2,FALSE),\"\")","v":""},"",{"$f":"IF(A71=\"\",\"\",IF(VLOOKUP(MID(A71,6,99)*1,'Data eshop'!D:T,2,FALSE)=0,\"\",VLOOKUP(MID(A71,6,99)*1,'Data eshop'!D:T,2,FALSE)))","v":""},{"$f":"IF(A71=\"\",\"\",IF(VLOOKUP(MID(A71,6,99)*1,'Data eshop'!D:T,3,FALSE)=0,IF(VLOOKUP(MID(A71,6,99)*1,'Data eshop'!D:T,4,FALSE)=0,\"\",VLOOKUP(MID(A71,6,99)*1,'Data eshop'!D:T,4,FALSE)),VLOOKUP(MID(A71,6,99)*1,'Data eshop'!D:T,3,FALSE))&IF(VLOOKUP(MID(A71,6,99)*1,'Data eshop'!D:T,4,FALSE)=0,\"\",\" \"&VLOOKUP(MID(A71,6,99)*1,'Data eshop'!D:T,4,FALSE)))","v":""},{"$f":"IF(A71=\"\",\"\",IF(VLOOKUP(MID(A71,6,99)*1,'Data eshop'!D:T,5,FALSE)=0,\"\",VLOOKUP(MID(A71,6,99)*1,'Data eshop'!D:T,5,FALSE)))","v":""},{"$f":"IF(A71=\"\",\"\",IF(VLOOKUP(MID(A71,6,99)*1,'Data eshop'!D:T,6,FALSE)=0,\"\",VLOOKUP(MID(A71,6,99)*1,'Data eshop'!D:T,6,FALSE)))","v":""},{"$f":"IF(A71=\"\",\"\",IF(VLOOKUP(MID(A71,6,99)*1,'Data eshop'!D:T,7,FALSE)=0,\"\",VLOOKUP(MID(A71,6,99)*1,'Data eshop'!D:T,7,FALSE)))","v":""},{"$f":"IF(A71=\"\",\"\",IF(VLOOKUP(MID(A71,6,99)*1,'Data eshop'!D:T,10,FALSE)=0,\"\",VLOOKUP(VLOOKUP(MID(A71,6,99)*1,'Data eshop'!D:T,10,FALSE),DATA!O:P,2,FALSE)))","v":""},"",{"$f":"IF(A71=\"\",\"\",IF(VLOOKUP(MID(A71,6,99)*1,'Data eshop'!D:W,18,FALSE)=0,\"\",VLOOKUP(MID(A71,6,99)*1,'Data eshop'!D:W,18,FALSE)))","v":""},{"$f":"IF(A71=\"\",\"\",IF(VLOOKUP(MID(A71,6,99)*1,'Data eshop'!D:W,19,FALSE)=0,\"\",VLOOKUP(MID(A71,6,99)*1,'Data eshop'!D:W,19,FALSE)))","v":""},{"$f":"IF(A71=\"\",\"\",IF(VLOOKUP(MID(A71,6,99)*1,'Data eshop'!D:T,11,FALSE)=0,\"\",IF(OR(VLOOKUP(MID(A71,6,99)*1,'Data eshop'!D:T,11,FALSE)=\"Na dobírku\",VLOOKUP(MID(A71,6,99)*1,'Data eshop'!D:T,11,FALSE)=\"Na dobierku\",VLOOKUP(MID(A71,6,99)*1,'Data eshop'!D:T,11,FALSE)=\"Za pobraniem\"),VLOOKUP(MID(A71,6,99)*1,'Data eshop'!D:W,20,FALSE),\"\")))","v":""},{"$f":"IF(L71=\"\",\"\",IF(VLOOKUP(MID(A71,6,99)*1,'Data eshop'!D:T,10,FALSE)=0,\"\",IF(VLOOKUP(MID(A71,6,99)*1,'Data eshop'!D:T,10,FALSE)=\"Česká republika\",\"CZK\",IF(VLOOKUP(MID(A71,6,99)*1,'Data eshop'!D:T,10,FALSE)=\"Poland\",\"PLN\",IF(VLOOKUP(MID(A71,6,99)*1,'Data eshop'!D:T,10,FALSE)=\"Slovakia\",\"EUR\",\"\")))))","v":""},"",null,70]
[{"$f":"IFERROR(VLOOKUP(P72,Zakázky!P:Q,2,FALSE),\"\")","v":""},"",{"$f":"IF(A72=\"\",\"\",IF(VLOOKUP(MID(A72,6,99)*1,'Data eshop'!D:T,2,FALSE)=0,\"\",VLOOKUP(MID(A72,6,99)*1,'Data eshop'!D:T,2,FALSE)))","v":""},{"$f":"IF(A72=\"\",\"\",IF(VLOOKUP(MID(A72,6,99)*1,'Data eshop'!D:T,3,FALSE)=0,IF(VLOOKUP(MID(A72,6,99)*1,'Data eshop'!D:T,4,FALSE)=0,\"\",VLOOKUP(MID(A72,6,99)*1,'Data eshop'!D:T,4,FALSE)),VLOOKUP(MID(A72,6,99)*1,'Data eshop'!D:T,3,FALSE))&IF(VLOOKUP(MID(A72,6,99)*1,'Data eshop'!D:T,4,FALSE)=0,\"\",\" \"&VLOOKUP(MID(A72,6,99)*1,'Data eshop'!D:T,4,FALSE)))","v":""},{"$f":"IF(A72=\"\",\"\",IF(VLOOKUP(MID(A72,6,99)*1,'Data eshop'!D:T,5,FALSE)=0,\"\",VLOOKUP(MID(A72,6,99)*1,'Data eshop'!D:T,5,FALSE)))","v":""},{"$f":"IF(A72=\"\",\"\",IF(VLOOKUP(MID(A72,6,99)*1,'Data eshop'!D:T,6,FALSE)=0,\"\",VLOOKUP(MID(A72,6,99)*1,'Data eshop'!D:T,6,FALSE)))","v":""},{"$f":"IF(A72=\"\",\"\",IF(VLOOKUP(MID(A72,6,99)*1,'Data eshop'!D:T,7,FALSE)=0,\"\",VLOOKUP(MID(A72,6,99)*1,'Data eshop'!D:T,7,FALSE)))","v":""},{"$f":"IF(A72=\"\",\"\",IF(VLOOKUP(MID(A72,6,99)*1,'Data eshop'!D:T,10,FALSE)=0,\"\",VLOOKUP(VLOOKUP(MID(A72,6,99)*1,'Data eshop'!D:T,10,FALSE),DATA!O:P,2,FALSE)))","v":""},"",{"$f":"IF(A72=\"\",\"\",IF(VLOOKUP(MID(A72,6,99)*1,'Data eshop'!D:W,18,FALSE)=0,\"\",VLOOKUP(MID(A72,6,99)*1,'Data eshop'!D:W,18,FALSE)))","v":""},{"$f":"IF(A72=\"\",\"\",IF(VLOOKUP(MID(A72,6,99)*1,'Data eshop'!D:W,19,FALSE)=0,\"\",VLOOKUP(MID(A72,6,99)*1,'Data eshop'!D:W,19,FALSE)))","v":""},{"$f":"IF(A72=\"\",\"\",IF(VLOOKUP(MID(A72,6,99)*1,'Data eshop'!D:T,11,FALSE)=0,\"\",IF(OR(VLOOKUP(MID(A72,6,99)*1,'Data eshop'!D:T,11,FALSE)=\"Na dobírku\",VLOOKUP(MID(A72,6,99)*1,'Data eshop'!D:T,11,FALSE)=\"Na dobierku\",VLOOKUP(MID(A72,6,99)*1,'Data eshop'!D:T,11,FALSE)=\"Za pobraniem\"),VLOOKUP(MID(A72,6,99)*1,'Data eshop'!D:W,20,FALSE),\"\")))","v":""},{"$f":"IF(L72=\"\",\"\",IF(VLOOKUP(MID(A72,6,99)*1,'Data eshop'!D:T,10,FALSE)=0,\"\",IF(VLOOKUP(MID(A72,6,99)*1,'Data eshop'!D:T,10,FALSE)=\"Česká republika\",\"CZK\",IF(VLOOKUP(MID(A72,6,99)*1,'Data eshop'!D:T,10,FALSE)=\"Poland\",\"PLN\",IF(VLOOKUP(MID(A72,6,99)*1,'Data eshop'!D:T,10,FALSE)=\"Slovakia\",\"EUR\",\"\")))))","v":""},"",null,71]
[{"$f":"IFERROR(VLOOKUP(P73,Zakázky!P:Q,2,FALSE),\"\")","v":""},"",{"$f":"IF(A73=\"\",\"\",IF(VLOOKUP(MID(A73,6,99)*1,'Data eshop'!D:T,2,FALSE)=0,\"\",VLOOKUP(MID(A73,6,99)*1,'Data eshop'!D:T,2,FALSE)))","v":""},{"$f":"IF(A73=\"\",\"\",IF(VLOOKUP(MID(A73,6,99)*1,'Data eshop'!D:T,3,FALSE)=0,IF(VLOOKUP(MID(A73,6,99)*1,'Data eshop'!D:T,4,FALSE)=0,\"\",VLOOKUP(MID(A73,6,99)*1,'Data eshop'!D:T,4,FALSE)),VLOOKUP(MID(A73,6,99)*1,'Data eshop'!D:T,3,FALSE))&IF(VLOOKUP(MID(A73,6,99)*1,'Data eshop'!D:T,4,FALSE)=0,\"\",\" \"&VLOOKUP(MID(A73,6,99)*1,'Data eshop'!D:T,4,FALSE)))","v":""},{"$f":"IF(A73=\"\",\"\",IF(VLOOKUP(MID(A73,6,99)*1,'Data eshop'!D:T,5,FALSE)=0,\"\",VLOOKUP(MID(A73,6,99)*1,'Data eshop'!D:T,5,FALSE)))","v":""},{"$f":"IF(A73=\"\",\"\",IF(VLOOKUP(MID(A73,6,99)*1,'Data eshop'!D:T,6,FALSE)=0,\"\",VLOOKUP(MID(A73,6,99)*1,'Data eshop'!D:T,6,FALSE)))","v":""},{"$f":"IF(A73=\"\",\"\",IF(VLOOKUP(MID(A73,6,99)*1,'Data eshop'!D:T,7,FALSE)=0,\"\",VLOOKUP(MID(A73,6,99)*1,'Data eshop'!D:T,7,FALSE)))","v":""},{"$f":"IF(A73=\"\",\"\",IF(VLOOKUP(MID(A73,6,99)*1,'Data eshop'!D:T,10,FALSE)=0,\"\",VLOOKUP(VLOOKUP(MID(A73,6,99)*1,'Data eshop'!D:T,10,FALSE),DATA!O:P,2,FALSE)))","v":""},"",{"$f":"IF(A73=\"\",\"\",IF(VLOOKUP(MID(A73,6,99)*1,'Data eshop'!D:W,18,FALSE)=0,\"\",VLOOKUP(MID(A73,6,99)*1,'Data eshop'!D:W,18,FALSE)))","v":""},{"$f":"IF(A73=\"\",\"\",IF(VLOOKUP(MID(A73,6,99)*1,'Data eshop'!D:W,19,FALSE)=0,\"\",VLOOKUP(MID(A73,6,99)*1,'Data eshop'!D:W,19,FALSE)))","v":""},{"$f":"IF(A73=\"\",\"\",IF(VLOOKUP(MID(A73,6,99)*1,'Data eshop'!D:T,11,FALSE)=0,\"\",IF(OR(VLOOKUP(MID(A73,6,99)*1,'Data eshop'!D:T,11,FALSE)=\"Na dobírku\",VLOOKUP(MID(A73,6,99)*1,'Data eshop'!D:T,11,FALSE)=\"Na dobierku\",VLOOKUP(MID(A73,6,99)*1,'Data eshop'!D:T,11,FALSE)=\"Za pobraniem\"),VLOOKUP(MID(A73,6,99)*1,'Data eshop'!D:W,20,FALSE),\"\")))","v":""},{"$f":"IF(L73=\"\",\"\",IF(VLOOKUP(MID(A73,6,99)*1,'Data eshop'!D:T,10,FALSE)=0,\"\",IF(VLOOKUP(MID(A73,6,99)*1,'Data eshop'!D:T,10,FALSE)=\"Česká republika\",\"CZK\",IF(VLOOKUP(MID(A73,6,99)*1,'Data eshop'!D:T,10,FALSE)=\"Poland\",\"PLN\",IF(VLOOKUP(MID(A73,6,99)*1,'Data eshop'!D:T,10,FALSE)=\"Slovakia\",\"EUR\",\"\")))))","v":""},"",null,72]
[{"$f":"IFERROR(VLOOKUP(P74,Zakázky!P:Q,2,FALSE),\"\")","v":""},"",{"$f":"IF(A74=\"\",\"\",IF(VLOOKUP(MID(A74,6,99)*1,'Data eshop'!D:T,2,FALSE)=0,\"\",VLOOKUP(MID(A74,6,99)*1,'Data eshop'!D:T,2,FALSE)))","v":""},{"$f":"IF(A74=\"\",\"\",IF(VLOOKUP(MID(A74,6,99)*1,'Data eshop'!D:T,3,FALSE)=0,IF(VLOOKUP(MID(A74,6,99)*1,'Data eshop'!D:T,4,FALSE)=0,\"\",VLOOKUP(MID(A74,6,99)*1,'Data eshop'!D:T,4,FALSE)),VLOOKUP(MID(A74,6,99)*1,'Data eshop'!D:T,3,FALSE))&IF(VLOOKUP(MID(A74,6,99)*1,'Data eshop'!D:T,4,FALSE)=0,\"\",\" \"&VLOOKUP(MID(A74,6,99)*1,'Data eshop'!D:T,4,FALSE)))","v":""},{"$f":"IF(A74=\"\",\"\",IF(VLOOKUP(MID(A74,6,99)*1,'Data eshop'!D:T,5,FALSE)=0,\"\",VLOOKUP(MID(A74,6,99)*1,'Data eshop'!D:T,5,FALSE)))","v":""},{"$f":"IF(A74=\"\",\"\",IF(VLOOKUP(MID(A74,6,99)*1,'Data eshop'!D:T,6,FALSE)=0,\"\",VLOOKUP(MID(A74,6,99)*1,'Data eshop'!D:T,6,FALSE)))","v":""},{"$f":"IF(A74=\"\",\"\",IF(VLOOKUP(MID(A74,6,99)*1,'Data eshop'!D:T,7,FALSE)=0,\"\",VLOOKUP(MID(A74,6,99)*1,'Data eshop'!D:T,7,FALSE)))","v":""},{"$f":"IF(A74=\"\",\"\",IF(VLOOKUP(MID(A74,6,99)*1,'Data eshop'!D:T,10,FALSE)=0,\"\",VLOOKUP(VLOOKUP(MID(A74,6,99)*1,'Data eshop'!D:T,10,FALSE),DATA!O:P,2,FALSE)))","v":""},"",{"$f":"IF(A74=\"\",\"\",IF(VLOOKUP(MID(A74,6,99)*1,'Data eshop'!D:W,18,FALSE)=0,\"\",VLOOKUP(MID(A74,6,99)*1,'Data eshop'!D:W,18,FALSE)))","v":""},{"$f":"IF(A74=\"\",\"\",IF(VLOOKUP(MID(A74,6,99)*1,'Data eshop'!D:W,19,FALSE)=0,\"\",VLOOKUP(MID(A74,6,99)*1,'Data eshop'!D:W,19,FALSE)))","v":""},{"$f":"IF(A74=\"\",\"\",IF(VLOOKUP(MID(A74,6,99)*1,'Data eshop'!D:T,11,FALSE)=0,\"\",IF(OR(VLOOKUP(MID(A74,6,99)*1,'Data eshop'!D:T,11,FALSE)=\"Na dobírku\",VLOOKUP(MID(A74,6,99)*1,'Data eshop'!D:T,11,FALSE)=\"Na dobierku\",VLOOKUP(MID(A74,6,99)*1,'Data eshop'!D:T,11,FALSE)=\"Za pobraniem\"),VLOOKUP(MID(A74,6,99)*1,'Data eshop'!D:W,20,FALSE),\"\")))","v":""},{"$f":"IF(L74=\"\",\"\",IF(VLOOKUP(MID(A74,6,99)*1,'Data eshop'!D:T,10,FALSE)=0,\"\",IF(VLOOKUP(MID(A74,6,99)*1,'Data eshop'!D:T,10,FALSE)=\"Česká republika\",\"CZK\",IF(VLOOKUP(MID(A74,6,99)*1,'Data eshop'!D:T,10,FALSE)=\"Poland\",\"PLN\",IF(VLOOKUP(MID(A74,6,99)*1,'Data eshop'!D:T,10,FALSE)=\"Slovakia\",\"EUR\",\"\")))))","v":""},"",null,73,null,"Roluj nahoru, až uvidíš žlutou"]
[{"$f":"IFERROR(VLOOKUP(P75,Zakázky!P:Q,2,FALSE),\"\")","v":""},"",{"$f":"IF(A75=\"\",\"\",IF(VLOOKUP(MID(A75,6,99)*1,'Data eshop'!D:T,2,FALSE)=0,\"\",VLOOKUP(MID(A75,6,99)*1,'Data eshop'!D:T,2,FALSE)))","v":""},{"$f":"IF(A75=\"\",\"\",IF(VLOOKUP(MID(A75,6,99)*1,'Data eshop'!D:T,3,FALSE)=0,IF(VLOOKUP(MID(A75,6,99)*1,'Data eshop'!D:T,4,FALSE)=0,\"\",VLOOKUP(MID(A75,6,99)*1,'Data eshop'!D:T,4,FALSE)),VLOOKUP(MID(A75,6,99)*1,'Data eshop'!D:T,3,FALSE))&IF(VLOOKUP(MID(A75,6,99)*1,'Data eshop'!D:T,4,FALSE)=0,\"\",\" \"&VLOOKUP(MID(A75,6,99)*1,'Data eshop'!D:T,4,FALSE)))","v":""},{"$f":"IF(A75=\"\",\"\",IF(VLOOKUP(MID(A75,6,99)*1,'Data eshop'!D:T,5,FALSE)=0,\"\",VLOOKUP(MID(A75,6,99)*1,'Data eshop'!D:T,5,FALSE)))","v":""},{"$f":"IF(A75=\"\",\"\",IF(VLOOKUP(MID(A75,6,99)*1,'Data eshop'!D:T,6,FALSE)=0,\"\",VLOOKUP(MID(A75,6,99)*1,'Data eshop'!D:T,6,FALSE)))","v":""},{"$f":"IF(A75=\"\",\"\",IF(VLOOKUP(MID(A75,6,99)*1,'Data eshop'!D:T,7,FALSE)=0,\"\",VLOOKUP(MID(A75,6,99)*1,'Data eshop'!D:T,7,FALSE)))","v":""},{"$f":"IF(A75=\"\",\"\",IF(VLOOKUP(MID(A75,6,99)*1,'Data eshop'!D:T,10,FALSE)=0,\"\",VLOOKUP(VLOOKUP(MID(A75,6,99)*1,'Data eshop'!D:T,10,FALSE),DATA!O:P,2,FALSE)))","v":""},"",{"$f":"IF(A75=\"\",\"\",IF(VLOOKUP(MID(A75,6,99)*1,'Data eshop'!D:W,18,FALSE)=0,\"\",VLOOKUP(MID(A75,6,99)*1,'Data eshop'!D:W,18,FALSE)))","v":""},{"$f":"IF(A75=\"\",\"\",IF(VLOOKUP(MID(A75,6,99)*1,'Data eshop'!D:W,19,FALSE)=0,\"\",VLOOKUP(MID(A75,6,99)*1,'Data eshop'!D:W,19,FALSE)))","v":""},{"$f":"IF(A75=\"\",\"\",IF(VLOOKUP(MID(A75,6,99)*1,'Data eshop'!D:T,11,FALSE)=0,\"\",IF(OR(VLOOKUP(MID(A75,6,99)*1,'Data eshop'!D:T,11,FALSE)=\"Na dobírku\",VLOOKUP(MID(A75,6,99)*1,'Data eshop'!D:T,11,FALSE)=\"Na dobierku\",VLOOKUP(MID(A75,6,99)*1,'Data eshop'!D:T,11,FALSE)=\"Za pobraniem\"),VLOOKUP(MID(A75,6,99)*1,'Data eshop'!D:W,20,FALSE),\"\")))","v":""},{"$f":"IF(L75=\"\",\"\",IF(VLOOKUP(MID(A75,6,99)*1,'Data eshop'!D:T,10,FALSE)=0,\"\",IF(VLOOKUP(MID(A75,6,99)*1,'Data eshop'!D:T,10,FALSE)=\"Česká republika\",\"CZK\",IF(VLOOKUP(MID(A75,6,99)*1,'Data eshop'!D:T,10,FALSE)=\"Poland\",\"PLN\",IF(VLOOKUP(MID(A75,6,99)*1,'Data eshop'!D:T,10,FALSE)=\"Slovakia\",\"EUR\",\"\")))))","v":""},"",null,74]
[{"$f":"IFERROR(VLOOKUP(P76,Zakázky!P:Q,2,FALSE),\"\")","v":""},"",{"$f":"IF(A76=\"\",\"\",IF(VLOOKUP(MID(A76,6,99)*1,'Data eshop'!D:T,2,FALSE)=0,\"\",VLOOKUP(MID(A76,6,99)*1,'Data eshop'!D:T,2,FALSE)))","v":""},{"$f":"IF(A76=\"\",\"\",IF(VLOOKUP(MID(A76,6,99)*1,'Data eshop'!D:T,3,FALSE)=0,IF(VLOOKUP(MID(A76,6,99)*1,'Data eshop'!D:T,4,FALSE)=0,\"\",VLOOKUP(MID(A76,6,99)*1,'Data eshop'!D:T,4,FALSE)),VLOOKUP(MID(A76,6,99)*1,'Data eshop'!D:T,3,FALSE))&IF(VLOOKUP(MID(A76,6,99)*1,'Data eshop'!D:T,4,FALSE)=0,\"\",\" \"&VLOOKUP(MID(A76,6,99)*1,'Data eshop'!D:T,4,FALSE)))","v":""},{"$f":"IF(A76=\"\",\"\",IF(VLOOKUP(MID(A76,6,99)*1,'Data eshop'!D:T,5,FALSE)=0,\"\",VLOOKUP(MID(A76,6,99)*1,'Data eshop'!D:T,5,FALSE)))","v":""},{"$f":"IF(A76=\"\",\"\",IF(VLOOKUP(MID(A76,6,99)*1,'Data eshop'!D:T,6,FALSE)=0,\"\",VLOOKUP(MID(A76,6,99)*1,'Data eshop'!D:T,6,FALSE)))","v":""},{"$f":"IF(A76=\"\",\"\",IF(VLOOKUP(MID(A76,6,99)*1,'Data eshop'!D:T,7,FALSE)=0,\"\",VLOOKUP(MID(A76,6,99)*1,'Data eshop'!D:T,7,FALSE)))","v":""},{"$f":"IF(A76=\"\",\"\",IF(VLOOKUP(MID(A76,6,99)*1,'Data eshop'!D:T,10,FALSE)=0,\"\",VLOOKUP(VLOOKUP(MID(A76,6,99)*1,'Data eshop'!D:T,10,FALSE),DATA!O:P,2,FALSE)))","v":""},"",{"$f":"IF(A76=\"\",\"\",IF(VLOOKUP(MID(A76,6,99)*1,'Data eshop'!D:W,18,FALSE)=0,\"\",VLOOKUP(MID(A76,6,99)*1,'Data eshop'!D:W,18,FALSE)))","v":""},{"$f":"IF(A76=\"\",\"\",IF(VLOOKUP(MID(A76,6,99)*1,'Data eshop'!D:W,19,FALSE)=0,\"\",VLOOKUP(MID(A76,6,99)*1,'Data eshop'!D:W,19,FALSE)))","v":""},{"$f":"IF(A76=\"\",\"\",IF(VLOOKUP(MID(A76,6,99)*1,'Data eshop'!D:T,11,FALSE)=0,\"\",IF(OR(VLOOKUP(MID(A76,6,99)*1,'Data eshop'!D:T,11,FALSE)=\"Na dobírku\",VLOOKUP(MID(A76,6,99)*1,'Data eshop'!D:T,11,FALSE)=\"Na dobierku\",VLOOKUP(MID(A76,6,99)*1,'Data eshop'!D:T,11,FALSE)=\"Za pobraniem\"),VLOOKUP(MID(A76,6,99)*1,'Data eshop'!D:W,20,FALSE),\"\")))","v":""},{"$f":"IF(L76=\"\",\"\",IF(VLOOKUP(MID(A76,6,99)*1,'Data eshop'!D:T,10,FALSE)=0,\"\",IF(VLOOKUP(MID(A76,6,99)*1,'Data eshop'!D:T,10,FALSE)=\"Česká republika\",\"CZK\",IF(VLOOKUP(MID(A76,6,99)*1,'Data eshop'!D:T,10,FALSE)=\"Poland\",\"PLN\",IF(VLOOKUP(MID(A76,6,99)*1,'Data eshop'!D:T,10,FALSE)=\"Slovakia\",\"EUR\",\"\")))))","v":""},"",null,75]
[{"$f":"IFERROR(VLOOKUP(P77,Zakázky!P:Q,2,FALSE),\"\")","v":""},"",{"$f":"IF(A77=\"\",\"\",IF(VLOOKUP(MID(A77,6,99)*1,'Data eshop'!D:T,2,FALSE)=0,\"\",VLOOKUP(MID(A77,6,99)*1,'Data eshop'!D:T,2,FALSE)))","v":""},{"$f":"IF(A77=\"\",\"\",IF(VLOOKUP(MID(A77,6,99)*1,'Data eshop'!D:T,3,FALSE)=0,IF(VLOOKUP(MID(A77,6,99)*1,'Data eshop'!D:T,4,FALSE)=0,\"\",VLOOKUP(MID(A77,6,99)*1,'Data eshop'!D:T,4,FALSE)),VLOOKUP(MID(A77,6,99)*1,'Data eshop'!D:T,3,FALSE))&IF(VLOOKUP(MID(A77,6,99)*1,'Data eshop'!D:T,4,FALSE)=0,\"\",\" \"&VLOOKUP(MID(A77,6,99)*1,'Data eshop'!D:T,4,FALSE)))","v":""},{"$f":"IF(A77=\"\",\"\",IF(VLOOKUP(MID(A77,6,99)*1,'Data eshop'!D:T,5,FALSE)=0,\"\",VLOOKUP(MID(A77,6,99)*1,'Data eshop'!D:T,5,FALSE)))","v":""},{"$f":"IF(A77=\"\",\"\",IF(VLOOKUP(MID(A77,6,99)*1,'Data eshop'!D:T,6,FALSE)=0,\"\",VLOOKUP(MID(A77,6,99)*1,'Data eshop'!D:T,6,FALSE)))","v":""},{"$f":"IF(A77=\"\",\"\",IF(VLOOKUP(MID(A77,6,99)*1,'Data eshop'!D:T,7,FALSE)=0,\"\",VLOOKUP(MID(A77,6,99)*1,'Data eshop'!D:T,7,FALSE)))","v":""},{"$f":"IF(A77=\"\",\"\",IF(VLOOKUP(MID(A77,6,99)*1,'Data eshop'!D:T,10,FALSE)=0,\"\",VLOOKUP(VLOOKUP(MID(A77,6,99)*1,'Data eshop'!D:T,10,FALSE),DATA!O:P,2,FALSE)))","v":""},"",{"$f":"IF(A77=\"\",\"\",IF(VLOOKUP(MID(A77,6,99)*1,'Data eshop'!D:W,18,FALSE)=0,\"\",VLOOKUP(MID(A77,6,99)*1,'Data eshop'!D:W,18,FALSE)))","v":""},{"$f":"IF(A77=\"\",\"\",IF(VLOOKUP(MID(A77,6,99)*1,'Data eshop'!D:W,19,FALSE)=0,\"\",VLOOKUP(MID(A77,6,99)*1,'Data eshop'!D:W,19,FALSE)))","v":""},{"$f":"IF(A77=\"\",\"\",IF(VLOOKUP(MID(A77,6,99)*1,'Data eshop'!D:T,11,FALSE)=0,\"\",IF(OR(VLOOKUP(MID(A77,6,99)*1,'Data eshop'!D:T,11,FALSE)=\"Na dobírku\",VLOOKUP(MID(A77,6,99)*1,'Data eshop'!D:T,11,FALSE)=\"Na dobierku\",VLOOKUP(MID(A77,6,99)*1,'Data eshop'!D:T,11,FALSE)=\"Za pobraniem\"),VLOOKUP(MID(A77,6,99)*1,'Data eshop'!D:W,20,FALSE),\"\")))","v":""},{"$f":"IF(L77=\"\",\"\",IF(VLOOKUP(MID(A77,6,99)*1,'Data eshop'!D:T,10,FALSE)=0,\"\",IF(VLOOKUP(MID(A77,6,99)*1,'Data eshop'!D:T,10,FALSE)=\"Česká republika\",\"CZK\",IF(VLOOKUP(MID(A77,6,99)*1,'Data eshop'!D:T,10,FALSE)=\"Poland\",\"PLN\",IF(VLOOKUP(MID(A77,6,99)*1,'Data eshop'!D:T,10,FALSE)=\"Slovakia\",\"EUR\",\"\")))))","v":""},"",null,76]
[{"$f":"IFERROR(VLOOKUP(P78,Zakázky!P:Q,2,FALSE),\"\")","v":""},"",{"$f":"IF(A78=\"\",\"\",IF(VLOOKUP(MID(A78,6,99)*1,'Data eshop'!D:T,2,FALSE)=0,\"\",VLOOKUP(MID(A78,6,99)*1,'Data eshop'!D:T,2,FALSE)))","v":""},{"$f":"IF(A78=\"\",\"\",IF(VLOOKUP(MID(A78,6,99)*1,'Data eshop'!D:T,3,FALSE)=0,IF(VLOOKUP(MID(A78,6,99)*1,'Data eshop'!D:T,4,FALSE)=0,\"\",VLOOKUP(MID(A78,6,99)*1,'Data eshop'!D:T,4,FALSE)),VLOOKUP(MID(A78,6,99)*1,'Data eshop'!D:T,3,FALSE))&IF(VLOOKUP(MID(A78,6,99)*1,'Data eshop'!D:T,4,FALSE)=0,\"\",\" \"&VLOOKUP(MID(A78,6,99)*1,'Data eshop'!D:T,4,FALSE)))","v":""},{"$f":"IF(A78=\"\",\"\",IF(VLOOKUP(MID(A78,6,99)*1,'Data eshop'!D:T,5,FALSE)=0,\"\",VLOOKUP(MID(A78,6,99)*1,'Data eshop'!D:T,5,FALSE)))","v":""},{"$f":"IF(A78=\"\",\"\",IF(VLOOKUP(MID(A78,6,99)*1,'Data eshop'!D:T,6,FALSE)=0,\"\",VLOOKUP(MID(A78,6,99)*1,'Data eshop'!D:T,6,FALSE)))","v":""},{"$f":"IF(A78=\"\",\"\",IF(VLOOKUP(MID(A78,6,99)*1,'Data eshop'!D:T,7,FALSE)=0,\"\",VLOOKUP(MID(A78,6,99)*1,'Data eshop'!D:T,7,FALSE)))","v":""},{"$f":"IF(A78=\"\",\"\",IF(VLOOKUP(MID(A78,6,99)*1,'Data eshop'!D:T,10,FALSE)=0,\"\",VLOOKUP(VLOOKUP(MID(A78,6,99)*1,'Data eshop'!D:T,10,FALSE),DATA!O:P,2,FALSE)))","v":""},"",{"$f":"IF(A78=\"\",\"\",IF(VLOOKUP(MID(A78,6,99)*1,'Data eshop'!D:W,18,FALSE)=0,\"\",VLOOKUP(MID(A78,6,99)*1,'Data eshop'!D:W,18,FALSE)))","v":""},{"$f":"IF(A78=\"\",\"\",IF(VLOOKUP(MID(A78,6,99)*1,'Data eshop'!D:W,19,FALSE)=0,\"\",VLOOKUP(MID(A78,6,99)*1,'Data eshop'!D:W,19,FALSE)))","v":""},{"$f":"IF(A78=\"\",\"\",IF(VLOOKUP(MID(A78,6,99)*1,'Data eshop'!D:T,11,FALSE)=0,\"\",IF(OR(VLOOKUP(MID(A78,6,99)*1,'Data eshop'!D:T,11,FALSE)=\"Na dobírku\",VLOOKUP(MID(A78,6,99)*1,'Data eshop'!D:T,11,FALSE)=\"Na dobierku\",VLOOKUP(MID(A78,6,99)*1,'Data eshop'!D:T,11,FALSE)=\"Za pobraniem\"),VLOOKUP(MID(A78,6,99)*1,'Data eshop'!D:W,20,FALSE),\"\")))","v":""},{"$f":"IF(L78=\"\",\"\",IF(VLOOKUP(MID(A78,6,99)*1,'Data eshop'!D:T,10,FALSE)=0,\"\",IF(VLOOKUP(MID(A78,6,99)*1,'Data eshop'!D:T,10,FALSE)=\"Česká republika\",\"CZK\",IF(VLOOKUP(MID(A78,6,99)*1,'Data eshop'!D:T,10,FALSE)=\"Poland\",\"PLN\",IF(VLOOKUP(MID(A78,6,99)*1,'Data eshop'!D:T,10,FALSE)=\"Slovakia\",\"EUR\",\"\")))))","v":""},"",null,77,null,"Roluj nahoru, až uvidíš žlutou"]
[{"$f":"IFERROR(VLOOKUP(P79,Zakázky!P:Q,2,FALSE),\"\")","v":""},"",{"$f":"IF(A79=\"\",\"\",IF(VLOOKUP(MID(A79,6,99)*1,'Data eshop'!D:T,2,FALSE)=0,\"\",VLOOKUP(MID(A79,6,99)*1,'Data eshop'!D:T,2,FALSE)))","v":""},{"$f":"IF(A79=\"\",\"\",IF(VLOOKUP(MID(A79,6,99)*1,'Data eshop'!D:T,3,FALSE)=0,IF(VLOOKUP(MID(A79,6,99)*1,'Data eshop'!D:T,4,FALSE)=0,\"\",VLOOKUP(MID(A79,6,99)*1,'Data eshop'!D:T,4,FALSE)),VLOOKUP(MID(A79,6,99)*1,'Data eshop'!D:T,3,FALSE))&IF(VLOOKUP(MID(A79,6,99)*1,'Data eshop'!D:T,4,FALSE)=0,\"\",\" \"&VLOOKUP(MID(A79,6,99)*1,'Data eshop'!D:T,4,FALSE)))","v":""},{"$f":"IF(A79=\"\",\"\",IF(VLOOKUP(MID(A79,6,99)*1,'Data eshop'!D:T,5,FALSE)=0,\"\",VLOOKUP(MID(A79,6,99)*1,'Data eshop'!D:T,5,FALSE)))","v":""},{"$f":"IF(A79=\"\",\"\",IF(VLOOKUP(MID(A79,6,99)*1,'Data eshop'!D:T,6,FALSE)=0,\"\",VLOOKUP(MID(A79,6,99)*1,'Data eshop'!D:T,6,FALSE)))","v":""},{"$f":"IF(A79=\"\",\"\",IF(VLOOKUP(MID(A79,6,99)*1,'Data eshop'!D:T,7,FALSE)=0,\"\",VLOOKUP(MID(A79,6,99)*1,'Data eshop'!D:T,7,FALSE)))","v":""},{"$f":"IF(A79=\"\",\"\",IF(VLOOKUP(MID(A79,6,99)*1,'Data eshop'!D:T,10,FALSE)=0,\"\",VLOOKUP(VLOOKUP(MID(A79,6,99)*1,'Data eshop'!D:T,10,FALSE),DATA!O:P,2,FALSE)))","v":""},"",{"$f":"IF(A79=\"\",\"\",IF(VLOOKUP(MID(A79,6,99)*1,'Data eshop'!D:W,18,FALSE)=0,\"\",VLOOKUP(MID(A79,6,99)*1,'Data eshop'!D:W,18,FALSE)))","v":""},{"$f":"IF(A79=\"\",\"\",IF(VLOOKUP(MID(A79,6,99)*1,'Data eshop'!D:W,19,FALSE)=0,\"\",VLOOKUP(MID(A79,6,99)*1,'Data eshop'!D:W,19,FALSE)))","v":""},{"$f":"IF(A79=\"\",\"\",IF(VLOOKUP(MID(A79,6,99)*1,'Data eshop'!D:T,11,FALSE)=0,\"\",IF(OR(VLOOKUP(MID(A79,6,99)*1,'Data eshop'!D:T,11,FALSE)=\"Na dobírku\",VLOOKUP(MID(A79,6,99)*1,'Data eshop'!D:T,11,FALSE)=\"Na dobierku\",VLOOKUP(MID(A79,6,99)*1,'Data eshop'!D:T,11,FALSE)=\"Za pobraniem\"),VLOOKUP(MID(A79,6,99)*1,'Data eshop'!D:W,20,FALSE),\"\")))","v":""},{"$f":"IF(L79=\"\",\"\",IF(VLOOKUP(MID(A79,6,99)*1,'Data eshop'!D:T,10,FALSE)=0,\"\",IF(VLOOKUP(MID(A79,6,99)*1,'Data eshop'!D:T,10,FALSE)=\"Česká republika\",\"CZK\",IF(VLOOKUP(MID(A79,6,99)*1,'Data eshop'!D:T,10,FALSE)=\"Poland\",\"PLN\",IF(VLOOKUP(MID(A79,6,99)*1,'Data eshop'!D:T,10,FALSE)=\"Slovakia\",\"EUR\",\"\")))))","v":""},"",null,78]
[{"$f":"IFERROR(VLOOKUP(P80,Zakázky!P:Q,2,FALSE),\"\")","v":""},"",{"$f":"IF(A80=\"\",\"\",IF(VLOOKUP(MID(A80,6,99)*1,'Data eshop'!D:T,2,FALSE)=0,\"\",VLOOKUP(MID(A80,6,99)*1,'Data eshop'!D:T,2,FALSE)))","v":""},{"$f":"IF(A80=\"\",\"\",IF(VLOOKUP(MID(A80,6,99)*1,'Data eshop'!D:T,3,FALSE)=0,IF(VLOOKUP(MID(A80,6,99)*1,'Data eshop'!D:T,4,FALSE)=0,\"\",VLOOKUP(MID(A80,6,99)*1,'Data eshop'!D:T,4,FALSE)),VLOOKUP(MID(A80,6,99)*1,'Data eshop'!D:T,3,FALSE))&IF(VLOOKUP(MID(A80,6,99)*1,'Data eshop'!D:T,4,FALSE)=0,\"\",\" \"&VLOOKUP(MID(A80,6,99)*1,'Data eshop'!D:T,4,FALSE)))","v":""},{"$f":"IF(A80=\"\",\"\",IF(VLOOKUP(MID(A80,6,99)*1,'Data eshop'!D:T,5,FALSE)=0,\"\",VLOOKUP(MID(A80,6,99)*1,'Data eshop'!D:T,5,FALSE)))","v":""},{"$f":"IF(A80=\"\",\"\",IF(VLOOKUP(MID(A80,6,99)*1,'Data eshop'!D:T,6,FALSE)=0,\"\",VLOOKUP(MID(A80,6,99)*1,'Data eshop'!D:T,6,FALSE)))","v":""},{"$f":"IF(A80=\"\",\"\",IF(VLOOKUP(MID(A80,6,99)*1,'Data eshop'!D:T,7,FALSE)=0,\"\",VLOOKUP(MID(A80,6,99)*1,'Data eshop'!D:T,7,FALSE)))","v":""},{"$f":"IF(A80=\"\",\"\",IF(VLOOKUP(MID(A80,6,99)*1,'Data eshop'!D:T,10,FALSE)=0,\"\",VLOOKUP(VLOOKUP(MID(A80,6,99)*1,'Data eshop'!D:T,10,FALSE),DATA!O:P,2,FALSE)))","v":""},"",{"$f":"IF(A80=\"\",\"\",IF(VLOOKUP(MID(A80,6,99)*1,'Data eshop'!D:W,18,FALSE)=0,\"\",VLOOKUP(MID(A80,6,99)*1,'Data eshop'!D:W,18,FALSE)))","v":""},{"$f":"IF(A80=\"\",\"\",IF(VLOOKUP(MID(A80,6,99)*1,'Data eshop'!D:W,19,FALSE)=0,\"\",VLOOKUP(MID(A80,6,99)*1,'Data eshop'!D:W,19,FALSE)))","v":""},{"$f":"IF(A80=\"\",\"\",IF(VLOOKUP(MID(A80,6,99)*1,'Data eshop'!D:T,11,FALSE)=0,\"\",IF(OR(VLOOKUP(MID(A80,6,99)*1,'Data eshop'!D:T,11,FALSE)=\"Na dobírku\",VLOOKUP(MID(A80,6,99)*1,'Data eshop'!D:T,11,FALSE)=\"Na dobierku\",VLOOKUP(MID(A80,6,99)*1,'Data eshop'!D:T,11,FALSE)=\"Za pobraniem\"),VLOOKUP(MID(A80,6,99)*1,'Data eshop'!D:W,20,FALSE),\"\")))","v":""},{"$f":"IF(L80=\"\",\"\",IF(VLOOKUP(MID(A80,6,99)*1,'Data eshop'!D:T,10,FALSE)=0,\"\",IF(VLOOKUP(MID(A80,6,99)*1,'Data eshop'!D:T,10,FALSE)=\"Česká republika\",\"CZK\",IF(VLOOKUP(MID(A80,6,99)*1,'Data eshop'!D:T,10,FALSE)=\"Poland\",\"PLN\",IF(VLOOKUP(MID(A80,6,99)*1,'Data eshop'!D:T,10,FALSE)=\"Slovakia\",\"EUR\",\"\")))))","v":""},"",null,79]
[{"$f":"IFERROR(VLOOKUP(P81,Zakázky!P:Q,2,FALSE),\"\")","v":""},"",{"$f":"IF(A81=\"\",\"\",IF(VLOOKUP(MID(A81,6,99)*1,'Data eshop'!D:T,2,FALSE)=0,\"\",VLOOKUP(MID(A81,6,99)*1,'Data eshop'!D:T,2,FALSE)))","v":""},{"$f":"IF(A81=\"\",\"\",IF(VLOOKUP(MID(A81,6,99)*1,'Data eshop'!D:T,3,FALSE)=0,IF(VLOOKUP(MID(A81,6,99)*1,'Data eshop'!D:T,4,FALSE)=0,\"\",VLOOKUP(MID(A81,6,99)*1,'Data eshop'!D:T,4,FALSE)),VLOOKUP(MID(A81,6,99)*1,'Data eshop'!D:T,3,FALSE))&IF(VLOOKUP(MID(A81,6,99)*1,'Data eshop'!D:T,4,FALSE)=0,\"\",\" \"&VLOOKUP(MID(A81,6,99)*1,'Data eshop'!D:T,4,FALSE)))","v":""},{"$f":"IF(A81=\"\",\"\",IF(VLOOKUP(MID(A81,6,99)*1,'Data eshop'!D:T,5,FALSE)=0,\"\",VLOOKUP(MID(A81,6,99)*1,'Data eshop'!D:T,5,FALSE)))","v":""},{"$f":"IF(A81=\"\",\"\",IF(VLOOKUP(MID(A81,6,99)*1,'Data eshop'!D:T,6,FALSE)=0,\"\",VLOOKUP(MID(A81,6,99)*1,'Data eshop'!D:T,6,FALSE)))","v":""},{"$f":"IF(A81=\"\",\"\",IF(VLOOKUP(MID(A81,6,99)*1,'Data eshop'!D:T,7,FALSE)=0,\"\",VLOOKUP(MID(A81,6,99)*1,'Data eshop'!D:T,7,FALSE)))","v":""},{"$f":"IF(A81=\"\",\"\",IF(VLOOKUP(MID(A81,6,99)*1,'Data eshop'!D:T,10,FALSE)=0,\"\",VLOOKUP(VLOOKUP(MID(A81,6,99)*1,'Data eshop'!D:T,10,FALSE),DATA!O:P,2,FALSE)))","v":""},"",{"$f":"IF(A81=\"\",\"\",IF(VLOOKUP(MID(A81,6,99)*1,'Data eshop'!D:W,18,FALSE)=0,\"\",VLOOKUP(MID(A81,6,99)*1,'Data eshop'!D:W,18,FALSE)))","v":""},{"$f":"IF(A81=\"\",\"\",IF(VLOOKUP(MID(A81,6,99)*1,'Data eshop'!D:W,19,FALSE)=0,\"\",VLOOKUP(MID(A81,6,99)*1,'Data eshop'!D:W,19,FALSE)))","v":""},{"$f":"IF(A81=\"\",\"\",IF(VLOOKUP(MID(A81,6,99)*1,'Data eshop'!D:T,11,FALSE)=0,\"\",IF(OR(VLOOKUP(MID(A81,6,99)*1,'Data eshop'!D:T,11,FALSE)=\"Na dobírku\",VLOOKUP(MID(A81,6,99)*1,'Data eshop'!D:T,11,FALSE)=\"Na dobierku\",VLOOKUP(MID(A81,6,99)*1,'Data eshop'!D:T,11,FALSE)=\"Za pobraniem\"),VLOOKUP(MID(A81,6,99)*1,'Data eshop'!D:W,20,FALSE),\"\")))","v":""},{"$f":"IF(L81=\"\",\"\",IF(VLOOKUP(MID(A81,6,99)*1,'Data eshop'!D:T,10,FALSE)=0,\"\",IF(VLOOKUP(MID(A81,6,99)*1,'Data eshop'!D:T,10,FALSE)=\"Česká republika\",\"CZK\",IF(VLOOKUP(MID(A81,6,99)*1,'Data eshop'!D:T,10,FALSE)=\"Poland\",\"PLN\",IF(VLOOKUP(MID(A81,6,99)*1,'Data eshop'!D:T,10,FALSE)=\"Slovakia\",\"EUR\",\"\")))))","v":""},"",null,80]
[{"$f":"IFERROR(VLOOKUP(P82,Zakázky!P:Q,2,FALSE),\"\")","v":""},"",{"$f":"IF(A82=\"\",\"\",IF(VLOOKUP(MID(A82,6,99)*1,'Data eshop'!D:T,2,FALSE)=0,\"\",VLOOKUP(MID(A82,6,99)*1,'Data eshop'!D:T,2,FALSE)))","v":""},{"$f":"IF(A82=\"\",\"\",IF(VLOOKUP(MID(A82,6,99)*1,'Data eshop'!D:T,3,FALSE)=0,IF(VLOOKUP(MID(A82,6,99)*1,'Data eshop'!D:T,4,FALSE)=0,\"\",VLOOKUP(MID(A82,6,99)*1,'Data eshop'!D:T,4,FALSE)),VLOOKUP(MID(A82,6,99)*1,'Data eshop'!D:T,3,FALSE))&IF(VLOOKUP(MID(A82,6,99)*1,'Data eshop'!D:T,4,FALSE)=0,\"\",\" \"&VLOOKUP(MID(A82,6,99)*1,'Data eshop'!D:T,4,FALSE)))","v":""},{"$f":"IF(A82=\"\",\"\",IF(VLOOKUP(MID(A82,6,99)*1,'Data eshop'!D:T,5,FALSE)=0,\"\",VLOOKUP(MID(A82,6,99)*1,'Data eshop'!D:T,5,FALSE)))","v":""},{"$f":"IF(A82=\"\",\"\",IF(VLOOKUP(MID(A82,6,99)*1,'Data eshop'!D:T,6,FALSE)=0,\"\",VLOOKUP(MID(A82,6,99)*1,'Data eshop'!D:T,6,FALSE)))","v":""},{"$f":"IF(A82=\"\",\"\",IF(VLOOKUP(MID(A82,6,99)*1,'Data eshop'!D:T,7,FALSE)=0,\"\",VLOOKUP(MID(A82,6,99)*1,'Data eshop'!D:T,7,FALSE)))","v":""},{"$f":"IF(A82=\"\",\"\",IF(VLOOKUP(MID(A82,6,99)*1,'Data eshop'!D:T,10,FALSE)=0,\"\",VLOOKUP(VLOOKUP(MID(A82,6,99)*1,'Data eshop'!D:T,10,FALSE),DATA!O:P,2,FALSE)))","v":""},"",{"$f":"IF(A82=\"\",\"\",IF(VLOOKUP(MID(A82,6,99)*1,'Data eshop'!D:W,18,FALSE)=0,\"\",VLOOKUP(MID(A82,6,99)*1,'Data eshop'!D:W,18,FALSE)))","v":""},{"$f":"IF(A82=\"\",\"\",IF(VLOOKUP(MID(A82,6,99)*1,'Data eshop'!D:W,19,FALSE)=0,\"\",VLOOKUP(MID(A82,6,99)*1,'Data eshop'!D:W,19,FALSE)))","v":""},{"$f":"IF(A82=\"\",\"\",IF(VLOOKUP(MID(A82,6,99)*1,'Data eshop'!D:T,11,FALSE)=0,\"\",IF(OR(VLOOKUP(MID(A82,6,99)*1,'Data eshop'!D:T,11,FALSE)=\"Na dobírku\",VLOOKUP(MID(A82,6,99)*1,'Data eshop'!D:T,11,FALSE)=\"Na dobierku\",VLOOKUP(MID(A82,6,99)*1,'Data eshop'!D:T,11,FALSE)=\"Za pobraniem\"),VLOOKUP(MID(A82,6,99)*1,'Data eshop'!D:W,20,FALSE),\"\")))","v":""},{"$f":"IF(L82=\"\",\"\",IF(VLOOKUP(MID(A82,6,99)*1,'Data eshop'!D:T,10,FALSE)=0,\"\",IF(VLOOKUP(MID(A82,6,99)*1,'Data eshop'!D:T,10,FALSE)=\"Česká republika\",\"CZK\",IF(VLOOKUP(MID(A82,6,99)*1,'Data eshop'!D:T,10,FALSE)=\"Poland\",\"PLN\",IF(VLOOKUP(MID(A82,6,99)*1,'Data eshop'!D:T,10,FALSE)=\"Slovakia\",\"EUR\",\"\")))))","v":""},"",null,81,null,"Roluj nahoru, až uvidíš žlutou"]
[{"$f":"IFERROR(VLOOKUP(P83,Zakázky!P:Q,2,FALSE),\"\")","v":""},"",{"$f":"IF(A83=\"\",\"\",IF(VLOOKUP(MID(A83,6,99)*1,'Data eshop'!D:T,2,FALSE)=0,\"\",VLOOKUP(MID(A83,6,99)*1,'Data eshop'!D:T,2,FALSE)))","v":""},{"$f":"IF(A83=\"\",\"\",IF(VLOOKUP(MID(A83,6,99)*1,'Data eshop'!D:T,3,FALSE)=0,IF(VLOOKUP(MID(A83,6,99)*1,'Data eshop'!D:T,4,FALSE)=0,\"\",VLOOKUP(MID(A83,6,99)*1,'Data eshop'!D:T,4,FALSE)),VLOOKUP(MID(A83,6,99)*1,'Data eshop'!D:T,3,FALSE))&IF(VLOOKUP(MID(A83,6,99)*1,'Data eshop'!D:T,4,FALSE)=0,\"\",\" \"&VLOOKUP(MID(A83,6,99)*1,'Data eshop'!D:T,4,FALSE)))","v":""},{"$f":"IF(A83=\"\",\"\",IF(VLOOKUP(MID(A83,6,99)*1,'Data eshop'!D:T,5,FALSE)=0,\"\",VLOOKUP(MID(A83,6,99)*1,'Data eshop'!D:T,5,FALSE)))","v":""},{"$f":"IF(A83=\"\",\"\",IF(VLOOKUP(MID(A83,6,99)*1,'Data eshop'!D:T,6,FALSE)=0,\"\",VLOOKUP(MID(A83,6,99)*1,'Data eshop'!D:T,6,FALSE)))","v":""},{"$f":"IF(A83=\"\",\"\",IF(VLOOKUP(MID(A83,6,99)*1,'Data eshop'!D:T,7,FALSE)=0,\"\",VLOOKUP(MID(A83,6,99)*1,'Data eshop'!D:T,7,FALSE)))","v":""},{"$f":"IF(A83=\"\",\"\",IF(VLOOKUP(MID(A83,6,99)*1,'Data eshop'!D:T,10,FALSE)=0,\"\",VLOOKUP(VLOOKUP(MID(A83,6,99)*1,'Data eshop'!D:T,10,FALSE),DATA!O:P,2,FALSE)))","v":""},"",{"$f":"IF(A83=\"\",\"\",IF(VLOOKUP(MID(A83,6,99)*1,'Data eshop'!D:W,18,FALSE)=0,\"\",VLOOKUP(MID(A83,6,99)*1,'Data eshop'!D:W,18,FALSE)))","v":""},{"$f":"IF(A83=\"\",\"\",IF(VLOOKUP(MID(A83,6,99)*1,'Data eshop'!D:W,19,FALSE)=0,\"\",VLOOKUP(MID(A83,6,99)*1,'Data eshop'!D:W,19,FALSE)))","v":""},{"$f":"IF(A83=\"\",\"\",IF(VLOOKUP(MID(A83,6,99)*1,'Data eshop'!D:T,11,FALSE)=0,\"\",IF(OR(VLOOKUP(MID(A83,6,99)*1,'Data eshop'!D:T,11,FALSE)=\"Na dobírku\",VLOOKUP(MID(A83,6,99)*1,'Data eshop'!D:T,11,FALSE)=\"Na dobierku\",VLOOKUP(MID(A83,6,99)*1,'Data eshop'!D:T,11,FALSE)=\"Za pobraniem\"),VLOOKUP(MID(A83,6,99)*1,'Data eshop'!D:W,20,FALSE),\"\")))","v":""},{"$f":"IF(L83=\"\",\"\",IF(VLOOKUP(MID(A83,6,99)*1,'Data eshop'!D:T,10,FALSE)=0,\"\",IF(VLOOKUP(MID(A83,6,99)*1,'Data eshop'!D:T,10,FALSE)=\"Česká republika\",\"CZK\",IF(VLOOKUP(MID(A83,6,99)*1,'Data eshop'!D:T,10,FALSE)=\"Poland\",\"PLN\",IF(VLOOKUP(MID(A83,6,99)*1,'Data eshop'!D:T,10,FALSE)=\"Slovakia\",\"EUR\",\"\")))))","v":""},"",null,82]
[{"$f":"IFERROR(VLOOKUP(P84,Zakázky!P:Q,2,FALSE),\"\")","v":""},"",{"$f":"IF(A84=\"\",\"\",IF(VLOOKUP(MID(A84,6,99)*1,'Data eshop'!D:T,2,FALSE)=0,\"\",VLOOKUP(MID(A84,6,99)*1,'Data eshop'!D:T,2,FALSE)))","v":""},{"$f":"IF(A84=\"\",\"\",IF(VLOOKUP(MID(A84,6,99)*1,'Data eshop'!D:T,3,FALSE)=0,IF(VLOOKUP(MID(A84,6,99)*1,'Data eshop'!D:T,4,FALSE)=0,\"\",VLOOKUP(MID(A84,6,99)*1,'Data eshop'!D:T,4,FALSE)),VLOOKUP(MID(A84,6,99)*1,'Data eshop'!D:T,3,FALSE))&IF(VLOOKUP(MID(A84,6,99)*1,'Data eshop'!D:T,4,FALSE)=0,\"\",\" \"&VLOOKUP(MID(A84,6,99)*1,'Data eshop'!D:T,4,FALSE)))","v":""},{"$f":"IF(A84=\"\",\"\",IF(VLOOKUP(MID(A84,6,99)*1,'Data eshop'!D:T,5,FALSE)=0,\"\",VLOOKUP(MID(A84,6,99)*1,'Data eshop'!D:T,5,FALSE)))","v":""},{"$f":"IF(A84=\"\",\"\",IF(VLOOKUP(MID(A84,6,99)*1,'Data eshop'!D:T,6,FALSE)=0,\"\",VLOOKUP(MID(A84,6,99)*1,'Data eshop'!D:T,6,FALSE)))","v":""},{"$f":"IF(A84=\"\",\"\",IF(VLOOKUP(MID(A84,6,99)*1,'Data eshop'!D:T,7,FALSE)=0,\"\",VLOOKUP(MID(A84,6,99)*1,'Data eshop'!D:T,7,FALSE)))","v":""},{"$f":"IF(A84=\"\",\"\",IF(VLOOKUP(MID(A84,6,99)*1,'Data eshop'!D:T,10,FALSE)=0,\"\",VLOOKUP(VLOOKUP(MID(A84,6,99)*1,'Data eshop'!D:T,10,FALSE),DATA!O:P,2,FALSE)))","v":""},"",{"$f":"IF(A84=\"\",\"\",IF(VLOOKUP(MID(A84,6,99)*1,'Data eshop'!D:W,18,FALSE)=0,\"\",VLOOKUP(MID(A84,6,99)*1,'Data eshop'!D:W,18,FALSE)))","v":""},{"$f":"IF(A84=\"\",\"\",IF(VLOOKUP(MID(A84,6,99)*1,'Data eshop'!D:W,19,FALSE)=0,\"\",VLOOKUP(MID(A84,6,99)*1,'Data eshop'!D:W,19,FALSE)))","v":""},{"$f":"IF(A84=\"\",\"\",IF(VLOOKUP(MID(A84,6,99)*1,'Data eshop'!D:T,11,FALSE)=0,\"\",IF(OR(VLOOKUP(MID(A84,6,99)*1,'Data eshop'!D:T,11,FALSE)=\"Na dobírku\",VLOOKUP(MID(A84,6,99)*1,'Data eshop'!D:T,11,FALSE)=\"Na dobierku\",VLOOKUP(MID(A84,6,99)*1,'Data eshop'!D:T,11,FALSE)=\"Za pobraniem\"),VLOOKUP(MID(A84,6,99)*1,'Data eshop'!D:W,20,FALSE),\"\")))","v":""},{"$f":"IF(L84=\"\",\"\",IF(VLOOKUP(MID(A84,6,99)*1,'Data eshop'!D:T,10,FALSE)=0,\"\",IF(VLOOKUP(MID(A84,6,99)*1,'Data eshop'!D:T,10,FALSE)=\"Česká republika\",\"CZK\",IF(VLOOKUP(MID(A84,6,99)*1,'Data eshop'!D:T,10,FALSE)=\"Poland\",\"PLN\",IF(VLOOKUP(MID(A84,6,99)*1,'Data eshop'!D:T,10,FALSE)=\"Slovakia\",\"EUR\",\"\")))))","v":""},"",null,83]
[{"$f":"IFERROR(VLOOKUP(P85,Zakázky!P:Q,2,FALSE),\"\")","v":""},"",{"$f":"IF(A85=\"\",\"\",IF(VLOOKUP(MID(A85,6,99)*1,'Data eshop'!D:T,2,FALSE)=0,\"\",VLOOKUP(MID(A85,6,99)*1,'Data eshop'!D:T,2,FALSE)))","v":""},{"$f":"IF(A85=\"\",\"\",IF(VLOOKUP(MID(A85,6,99)*1,'Data eshop'!D:T,3,FALSE)=0,IF(VLOOKUP(MID(A85,6,99)*1,'Data eshop'!D:T,4,FALSE)=0,\"\",VLOOKUP(MID(A85,6,99)*1,'Data eshop'!D:T,4,FALSE)),VLOOKUP(MID(A85,6,99)*1,'Data eshop'!D:T,3,FALSE))&IF(VLOOKUP(MID(A85,6,99)*1,'Data eshop'!D:T,4,FALSE)=0,\"\",\" \"&VLOOKUP(MID(A85,6,99)*1,'Data eshop'!D:T,4,FALSE)))","v":""},{"$f":"IF(A85=\"\",\"\",IF(VLOOKUP(MID(A85,6,99)*1,'Data eshop'!D:T,5,FALSE)=0,\"\",VLOOKUP(MID(A85,6,99)*1,'Data eshop'!D:T,5,FALSE)))","v":""},{"$f":"IF(A85=\"\",\"\",IF(VLOOKUP(MID(A85,6,99)*1,'Data eshop'!D:T,6,FALSE)=0,\"\",VLOOKUP(MID(A85,6,99)*1,'Data eshop'!D:T,6,FALSE)))","v":""},{"$f":"IF(A85=\"\",\"\",IF(VLOOKUP(MID(A85,6,99)*1,'Data eshop'!D:T,7,FALSE)=0,\"\",VLOOKUP(MID(A85,6,99)*1,'Data eshop'!D:T,7,FALSE)))","v":""},{"$f":"IF(A85=\"\",\"\",IF(VLOOKUP(MID(A85,6,99)*1,'Data eshop'!D:T,10,FALSE)=0,\"\",VLOOKUP(VLOOKUP(MID(A85,6,99)*1,'Data eshop'!D:T,10,FALSE),DATA!O:P,2,FALSE)))","v":""},"",{"$f":"IF(A85=\"\",\"\",IF(VLOOKUP(MID(A85,6,99)*1,'Data eshop'!D:W,18,FALSE)=0,\"\",VLOOKUP(MID(A85,6,99)*1,'Data eshop'!D:W,18,FALSE)))","v":""},{"$f":"IF(A85=\"\",\"\",IF(VLOOKUP(MID(A85,6,99)*1,'Data eshop'!D:W,19,FALSE)=0,\"\",VLOOKUP(MID(A85,6,99)*1,'Data eshop'!D:W,19,FALSE)))","v":""},{"$f":"IF(A85=\"\",\"\",IF(VLOOKUP(MID(A85,6,99)*1,'Data eshop'!D:T,11,FALSE)=0,\"\",IF(OR(VLOOKUP(MID(A85,6,99)*1,'Data eshop'!D:T,11,FALSE)=\"Na dobírku\",VLOOKUP(MID(A85,6,99)*1,'Data eshop'!D:T,11,FALSE)=\"Na dobierku\",VLOOKUP(MID(A85,6,99)*1,'Data eshop'!D:T,11,FALSE)=\"Za pobraniem\"),VLOOKUP(MID(A85,6,99)*1,'Data eshop'!D:W,20,FALSE),\"\")))","v":""},{"$f":"IF(L85=\"\",\"\",IF(VLOOKUP(MID(A85,6,99)*1,'Data eshop'!D:T,10,FALSE)=0,\"\",IF(VLOOKUP(MID(A85,6,99)*1,'Data eshop'!D:T,10,FALSE)=\"Česká republika\",\"CZK\",IF(VLOOKUP(MID(A85,6,99)*1,'Data eshop'!D:T,10,FALSE)=\"Poland\",\"PLN\",IF(VLOOKUP(MID(A85,6,99)*1,'Data eshop'!D:T,10,FALSE)=\"Slovakia\",\"EUR\",\"\")))))","v":""},"",null,84]
[{"$f":"IFERROR(VLOOKUP(P86,Zakázky!P:Q,2,FALSE),\"\")","v":""},"",{"$f":"IF(A86=\"\",\"\",IF(VLOOKUP(MID(A86,6,99)*1,'Data eshop'!D:T,2,FALSE)=0,\"\",VLOOKUP(MID(A86,6,99)*1,'Data eshop'!D:T,2,FALSE)))","v":""},{"$f":"IF(A86=\"\",\"\",IF(VLOOKUP(MID(A86,6,99)*1,'Data eshop'!D:T,3,FALSE)=0,IF(VLOOKUP(MID(A86,6,99)*1,'Data eshop'!D:T,4,FALSE)=0,\"\",VLOOKUP(MID(A86,6,99)*1,'Data eshop'!D:T,4,FALSE)),VLOOKUP(MID(A86,6,99)*1,'Data eshop'!D:T,3,FALSE))&IF(VLOOKUP(MID(A86,6,99)*1,'Data eshop'!D:T,4,FALSE)=0,\"\",\" \"&VLOOKUP(MID(A86,6,99)*1,'Data eshop'!D:T,4,FALSE)))","v":""},{"$f":"IF(A86=\"\",\"\",IF(VLOOKUP(MID(A86,6,99)*1,'Data eshop'!D:T,5,FALSE)=0,\"\",VLOOKUP(MID(A86,6,99)*1,'Data eshop'!D:T,5,FALSE)))","v":""},{"$f":"IF(A86=\"\",\"\",IF(VLOOKUP(MID(A86,6,99)*1,'Data eshop'!D:T,6,FALSE)=0,\"\",VLOOKUP(MID(A86,6,99)*1,'Data eshop'!D:T,6,FALSE)))","v":""},{"$f":"IF(A86=\"\",\"\",IF(VLOOKUP(MID(A86,6,99)*1,'Data eshop'!D:T,7,FALSE)=0,\"\",VLOOKUP(MID(A86,6,99)*1,'Data eshop'!D:T,7,FALSE)))","v":""},{"$f":"IF(A86=\"\",\"\",IF(VLOOKUP(MID(A86,6,99)*1,'Data eshop'!D:T,10,FALSE)=0,\"\",VLOOKUP(VLOOKUP(MID(A86,6,99)*1,'Data eshop'!D:T,10,FALSE),DATA!O:P,2,FALSE)))","v":""},"",{"$f":"IF(A86=\"\",\"\",IF(VLOOKUP(MID(A86,6,99)*1,'Data eshop'!D:W,18,FALSE)=0,\"\",VLOOKUP(MID(A86,6,99)*1,'Data eshop'!D:W,18,FALSE)))","v":""},{"$f":"IF(A86=\"\",\"\",IF(VLOOKUP(MID(A86,6,99)*1,'Data eshop'!D:W,19,FALSE)=0,\"\",VLOOKUP(MID(A86,6,99)*1,'Data eshop'!D:W,19,FALSE)))","v":""},{"$f":"IF(A86=\"\",\"\",IF(VLOOKUP(MID(A86,6,99)*1,'Data eshop'!D:T,11,FALSE)=0,\"\",IF(OR(VLOOKUP(MID(A86,6,99)*1,'Data eshop'!D:T,11,FALSE)=\"Na dobírku\",VLOOKUP(MID(A86,6,99)*1,'Data eshop'!D:T,11,FALSE)=\"Na dobierku\",VLOOKUP(MID(A86,6,99)*1,'Data eshop'!D:T,11,FALSE)=\"Za pobraniem\"),VLOOKUP(MID(A86,6,99)*1,'Data eshop'!D:W,20,FALSE),\"\")))","v":""},{"$f":"IF(L86=\"\",\"\",IF(VLOOKUP(MID(A86,6,99)*1,'Data eshop'!D:T,10,FALSE)=0,\"\",IF(VLOOKUP(MID(A86,6,99)*1,'Data eshop'!D:T,10,FALSE)=\"Česká republika\",\"CZK\",IF(VLOOKUP(MID(A86,6,99)*1,'Data eshop'!D:T,10,FALSE)=\"Poland\",\"PLN\",IF(VLOOKUP(MID(A86,6,99)*1,'Data eshop'!D:T,10,FALSE)=\"Slovakia\",\"EUR\",\"\")))))","v":""},"",null,85,null,"Roluj nahoru, až uvidíš žlutou"]
[{"$f":"IFERROR(VLOOKUP(P87,Zakázky!P:Q,2,FALSE),\"\")","v":""},"",{"$f":"IF(A87=\"\",\"\",IF(VLOOKUP(MID(A87,6,99)*1,'Data eshop'!D:T,2,FALSE)=0,\"\",VLOOKUP(MID(A87,6,99)*1,'Data eshop'!D:T,2,FALSE)))","v":""},{"$f":"IF(A87=\"\",\"\",IF(VLOOKUP(MID(A87,6,99)*1,'Data eshop'!D:T,3,FALSE)=0,IF(VLOOKUP(MID(A87,6,99)*1,'Data eshop'!D:T,4,FALSE)=0,\"\",VLOOKUP(MID(A87,6,99)*1,'Data eshop'!D:T,4,FALSE)),VLOOKUP(MID(A87,6,99)*1,'Data eshop'!D:T,3,FALSE))&IF(VLOOKUP(MID(A87,6,99)*1,'Data eshop'!D:T,4,FALSE)=0,\"\",\" \"&VLOOKUP(MID(A87,6,99)*1,'Data eshop'!D:T,4,FALSE)))","v":""},{"$f":"IF(A87=\"\",\"\",IF(VLOOKUP(MID(A87,6,99)*1,'Data eshop'!D:T,5,FALSE)=0,\"\",VLOOKUP(MID(A87,6,99)*1,'Data eshop'!D:T,5,FALSE)))","v":""},{"$f":"IF(A87=\"\",\"\",IF(VLOOKUP(MID(A87,6,99)*1,'Data eshop'!D:T,6,FALSE)=0,\"\",VLOOKUP(MID(A87,6,99)*1,'Data eshop'!D:T,6,FALSE)))","v":""},{"$f":"IF(A87=\"\",\"\",IF(VLOOKUP(MID(A87,6,99)*1,'Data eshop'!D:T,7,FALSE)=0,\"\",VLOOKUP(MID(A87,6,99)*1,'Data eshop'!D:T,7,FALSE)))","v":""},{"$f":"IF(A87=\"\",\"\",IF(VLOOKUP(MID(A87,6,99)*1,'Data eshop'!D:T,10,FALSE)=0,\"\",VLOOKUP(VLOOKUP(MID(A87,6,99)*1,'Data eshop'!D:T,10,FALSE),DATA!O:P,2,FALSE)))","v":""},"",{"$f":"IF(A87=\"\",\"\",IF(VLOOKUP(MID(A87,6,99)*1,'Data eshop'!D:W,18,FALSE)=0,\"\",VLOOKUP(MID(A87,6,99)*1,'Data eshop'!D:W,18,FALSE)))","v":""},{"$f":"IF(A87=\"\",\"\",IF(VLOOKUP(MID(A87,6,99)*1,'Data eshop'!D:W,19,FALSE)=0,\"\",VLOOKUP(MID(A87,6,99)*1,'Data eshop'!D:W,19,FALSE)))","v":""},{"$f":"IF(A87=\"\",\"\",IF(VLOOKUP(MID(A87,6,99)*1,'Data eshop'!D:T,11,FALSE)=0,\"\",IF(OR(VLOOKUP(MID(A87,6,99)*1,'Data eshop'!D:T,11,FALSE)=\"Na dobírku\",VLOOKUP(MID(A87,6,99)*1,'Data eshop'!D:T,11,FALSE)=\"Na dobierku\",VLOOKUP(MID(A87,6,99)*1,'Data eshop'!D:T,11,FALSE)=\"Za pobraniem\"),VLOOKUP(MID(A87,6,99)*1,'Data eshop'!D:W,20,FALSE),\"\")))","v":""},{"$f":"IF(L87=\"\",\"\",IF(VLOOKUP(MID(A87,6,99)*1,'Data eshop'!D:T,10,FALSE)=0,\"\",IF(VLOOKUP(MID(A87,6,99)*1,'Data eshop'!D:T,10,FALSE)=\"Česká republika\",\"CZK\",IF(VLOOKUP(MID(A87,6,99)*1,'Data eshop'!D:T,10,FALSE)=\"Poland\",\"PLN\",IF(VLOOKUP(MID(A87,6,99)*1,'Data eshop'!D:T,10,FALSE)=\"Slovakia\",\"EUR\",\"\")))))","v":""},"",null,86]
[{"$f":"IFERROR(VLOOKUP(P88,Zakázky!P:Q,2,FALSE),\"\")","v":""},"",{"$f":"IF(A88=\"\",\"\",IF(VLOOKUP(MID(A88,6,99)*1,'Data eshop'!D:T,2,FALSE)=0,\"\",VLOOKUP(MID(A88,6,99)*1,'Data eshop'!D:T,2,FALSE)))","v":""},{"$f":"IF(A88=\"\",\"\",IF(VLOOKUP(MID(A88,6,99)*1,'Data eshop'!D:T,3,FALSE)=0,IF(VLOOKUP(MID(A88,6,99)*1,'Data eshop'!D:T,4,FALSE)=0,\"\",VLOOKUP(MID(A88,6,99)*1,'Data eshop'!D:T,4,FALSE)),VLOOKUP(MID(A88,6,99)*1,'Data eshop'!D:T,3,FALSE))&IF(VLOOKUP(MID(A88,6,99)*1,'Data eshop'!D:T,4,FALSE)=0,\"\",\" \"&VLOOKUP(MID(A88,6,99)*1,'Data eshop'!D:T,4,FALSE)))","v":""},{"$f":"IF(A88=\"\",\"\",IF(VLOOKUP(MID(A88,6,99)*1,'Data eshop'!D:T,5,FALSE)=0,\"\",VLOOKUP(MID(A88,6,99)*1,'Data eshop'!D:T,5,FALSE)))","v":""},{"$f":"IF(A88=\"\",\"\",IF(VLOOKUP(MID(A88,6,99)*1,'Data eshop'!D:T,6,FALSE)=0,\"\",VLOOKUP(MID(A88,6,99)*1,'Data eshop'!D:T,6,FALSE)))","v":""},{"$f":"IF(A88=\"\",\"\",IF(VLOOKUP(MID(A88,6,99)*1,'Data eshop'!D:T,7,FALSE)=0,\"\",VLOOKUP(MID(A88,6,99)*1,'Data eshop'!D:T,7,FALSE)))","v":""},{"$f":"IF(A88=\"\",\"\",IF(VLOOKUP(MID(A88,6,99)*1,'Data eshop'!D:T,10,FALSE)=0,\"\",VLOOKUP(VLOOKUP(MID(A88,6,99)*1,'Data eshop'!D:T,10,FALSE),DATA!O:P,2,FALSE)))","v":""},"",{"$f":"IF(A88=\"\",\"\",IF(VLOOKUP(MID(A88,6,99)*1,'Data eshop'!D:W,18,FALSE)=0,\"\",VLOOKUP(MID(A88,6,99)*1,'Data eshop'!D:W,18,FALSE)))","v":""},{"$f":"IF(A88=\"\",\"\",IF(VLOOKUP(MID(A88,6,99)*1,'Data eshop'!D:W,19,FALSE)=0,\"\",VLOOKUP(MID(A88,6,99)*1,'Data eshop'!D:W,19,FALSE)))","v":""},{"$f":"IF(A88=\"\",\"\",IF(VLOOKUP(MID(A88,6,99)*1,'Data eshop'!D:T,11,FALSE)=0,\"\",IF(OR(VLOOKUP(MID(A88,6,99)*1,'Data eshop'!D:T,11,FALSE)=\"Na dobírku\",VLOOKUP(MID(A88,6,99)*1,'Data eshop'!D:T,11,FALSE)=\"Na dobierku\",VLOOKUP(MID(A88,6,99)*1,'Data eshop'!D:T,11,FALSE)=\"Za pobraniem\"),VLOOKUP(MID(A88,6,99)*1,'Data eshop'!D:W,20,FALSE),\"\")))","v":""},{"$f":"IF(L88=\"\",\"\",IF(VLOOKUP(MID(A88,6,99)*1,'Data eshop'!D:T,10,FALSE)=0,\"\",IF(VLOOKUP(MID(A88,6,99)*1,'Data eshop'!D:T,10,FALSE)=\"Česká republika\",\"CZK\",IF(VLOOKUP(MID(A88,6,99)*1,'Data eshop'!D:T,10,FALSE)=\"Poland\",\"PLN\",IF(VLOOKUP(MID(A88,6,99)*1,'Data eshop'!D:T,10,FALSE)=\"Slovakia\",\"EUR\",\"\")))))","v":""},"",null,87]
[{"$f":"IFERROR(VLOOKUP(P89,Zakázky!P:Q,2,FALSE),\"\")","v":""},"",{"$f":"IF(A89=\"\",\"\",IF(VLOOKUP(MID(A89,6,99)*1,'Data eshop'!D:T,2,FALSE)=0,\"\",VLOOKUP(MID(A89,6,99)*1,'Data eshop'!D:T,2,FALSE)))","v":""},{"$f":"IF(A89=\"\",\"\",IF(VLOOKUP(MID(A89,6,99)*1,'Data eshop'!D:T,3,FALSE)=0,IF(VLOOKUP(MID(A89,6,99)*1,'Data eshop'!D:T,4,FALSE)=0,\"\",VLOOKUP(MID(A89,6,99)*1,'Data eshop'!D:T,4,FALSE)),VLOOKUP(MID(A89,6,99)*1,'Data eshop'!D:T,3,FALSE))&IF(VLOOKUP(MID(A89,6,99)*1,'Data eshop'!D:T,4,FALSE)=0,\"\",\" \"&VLOOKUP(MID(A89,6,99)*1,'Data eshop'!D:T,4,FALSE)))","v":""},{"$f":"IF(A89=\"\",\"\",IF(VLOOKUP(MID(A89,6,99)*1,'Data eshop'!D:T,5,FALSE)=0,\"\",VLOOKUP(MID(A89,6,99)*1,'Data eshop'!D:T,5,FALSE)))","v":""},{"$f":"IF(A89=\"\",\"\",IF(VLOOKUP(MID(A89,6,99)*1,'Data eshop'!D:T,6,FALSE)=0,\"\",VLOOKUP(MID(A89,6,99)*1,'Data eshop'!D:T,6,FALSE)))","v":""},{"$f":"IF(A89=\"\",\"\",IF(VLOOKUP(MID(A89,6,99)*1,'Data eshop'!D:T,7,FALSE)=0,\"\",VLOOKUP(MID(A89,6,99)*1,'Data eshop'!D:T,7,FALSE)))","v":""},{"$f":"IF(A89=\"\",\"\",IF(VLOOKUP(MID(A89,6,99)*1,'Data eshop'!D:T,10,FALSE)=0,\"\",VLOOKUP(VLOOKUP(MID(A89,6,99)*1,'Data eshop'!D:T,10,FALSE),DATA!O:P,2,FALSE)))","v":""},"",{"$f":"IF(A89=\"\",\"\",IF(VLOOKUP(MID(A89,6,99)*1,'Data eshop'!D:W,18,FALSE)=0,\"\",VLOOKUP(MID(A89,6,99)*1,'Data eshop'!D:W,18,FALSE)))","v":""},{"$f":"IF(A89=\"\",\"\",IF(VLOOKUP(MID(A89,6,99)*1,'Data eshop'!D:W,19,FALSE)=0,\"\",VLOOKUP(MID(A89,6,99)*1,'Data eshop'!D:W,19,FALSE)))","v":""},{"$f":"IF(A89=\"\",\"\",IF(VLOOKUP(MID(A89,6,99)*1,'Data eshop'!D:T,11,FALSE)=0,\"\",IF(OR(VLOOKUP(MID(A89,6,99)*1,'Data eshop'!D:T,11,FALSE)=\"Na dobírku\",VLOOKUP(MID(A89,6,99)*1,'Data eshop'!D:T,11,FALSE)=\"Na dobierku\",VLOOKUP(MID(A89,6,99)*1,'Data eshop'!D:T,11,FALSE)=\"Za pobraniem\"),VLOOKUP(MID(A89,6,99)*1,'Data eshop'!D:W,20,FALSE),\"\")))","v":""},{"$f":"IF(L89=\"\",\"\",IF(VLOOKUP(MID(A89,6,99)*1,'Data eshop'!D:T,10,FALSE)=0,\"\",IF(VLOOKUP(MID(A89,6,99)*1,'Data eshop'!D:T,10,FALSE)=\"Česká republika\",\"CZK\",IF(VLOOKUP(MID(A89,6,99)*1,'Data eshop'!D:T,10,FALSE)=\"Poland\",\"PLN\",IF(VLOOKUP(MID(A89,6,99)*1,'Data eshop'!D:T,10,FALSE)=\"Slovakia\",\"EUR\",\"\")))))","v":""},"",null,88]
[{"$f":"IFERROR(VLOOKUP(P90,Zakázky!P:Q,2,FALSE),\"\")","v":""},"",{"$f":"IF(A90=\"\",\"\",IF(VLOOKUP(MID(A90,6,99)*1,'Data eshop'!D:T,2,FALSE)=0,\"\",VLOOKUP(MID(A90,6,99)*1,'Data eshop'!D:T,2,FALSE)))","v":""},{"$f":"IF(A90=\"\",\"\",IF(VLOOKUP(MID(A90,6,99)*1,'Data eshop'!D:T,3,FALSE)=0,IF(VLOOKUP(MID(A90,6,99)*1,'Data eshop'!D:T,4,FALSE)=0,\"\",VLOOKUP(MID(A90,6,99)*1,'Data eshop'!D:T,4,FALSE)),VLOOKUP(MID(A90,6,99)*1,'Data eshop'!D:T,3,FALSE))&IF(VLOOKUP(MID(A90,6,99)*1,'Data eshop'!D:T,4,FALSE)=0,\"\",\" \"&VLOOKUP(MID(A90,6,99)*1,'Data eshop'!D:T,4,FALSE)))","v":""},{"$f":"IF(A90=\"\",\"\",IF(VLOOKUP(MID(A90,6,99)*1,'Data eshop'!D:T,5,FALSE)=0,\"\",VLOOKUP(MID(A90,6,99)*1,'Data eshop'!D:T,5,FALSE)))","v":""},{"$f":"IF(A90=\"\",\"\",IF(VLOOKUP(MID(A90,6,99)*1,'Data eshop'!D:T,6,FALSE)=0,\"\",VLOOKUP(MID(A90,6,99)*1,'Data eshop'!D:T,6,FALSE)))","v":""},{"$f":"IF(A90=\"\",\"\",IF(VLOOKUP(MID(A90,6,99)*1,'Data eshop'!D:T,7,FALSE)=0,\"\",VLOOKUP(MID(A90,6,99)*1,'Data eshop'!D:T,7,FALSE)))","v":""},{"$f":"IF(A90=\"\",\"\",IF(VLOOKUP(MID(A90,6,99)*1,'Data eshop'!D:T,10,FALSE)=0,\"\",VLOOKUP(VLOOKUP(MID(A90,6,99)*1,'Data eshop'!D:T,10,FALSE),DATA!O:P,2,FALSE)))","v":""},"",{"$f":"IF(A90=\"\",\"\",IF(VLOOKUP(MID(A90,6,99)*1,'Data eshop'!D:W,18,FALSE)=0,\"\",VLOOKUP(MID(A90,6,99)*1,'Data eshop'!D:W,18,FALSE)))","v":""},{"$f":"IF(A90=\"\",\"\",IF(VLOOKUP(MID(A90,6,99)*1,'Data eshop'!D:W,19,FALSE)=0,\"\",VLOOKUP(MID(A90,6,99)*1,'Data eshop'!D:W,19,FALSE)))","v":""},{"$f":"IF(A90=\"\",\"\",IF(VLOOKUP(MID(A90,6,99)*1,'Data eshop'!D:T,11,FALSE)=0,\"\",IF(OR(VLOOKUP(MID(A90,6,99)*1,'Data eshop'!D:T,11,FALSE)=\"Na dobírku\",VLOOKUP(MID(A90,6,99)*1,'Data eshop'!D:T,11,FALSE)=\"Na dobierku\",VLOOKUP(MID(A90,6,99)*1,'Data eshop'!D:T,11,FALSE)=\"Za pobraniem\"),VLOOKUP(MID(A90,6,99)*1,'Data eshop'!D:W,20,FALSE),\"\")))","v":""},{"$f":"IF(L90=\"\",\"\",IF(VLOOKUP(MID(A90,6,99)*1,'Data eshop'!D:T,10,FALSE)=0,\"\",IF(VLOOKUP(MID(A90,6,99)*1,'Data eshop'!D:T,10,FALSE)=\"Česká republika\",\"CZK\",IF(VLOOKUP(MID(A90,6,99)*1,'Data eshop'!D:T,10,FALSE)=\"Poland\",\"PLN\",IF(VLOOKUP(MID(A90,6,99)*1,'Data eshop'!D:T,10,FALSE)=\"Slovakia\",\"EUR\",\"\")))))","v":""},"",null,89,null,"Roluj nahoru, až uvidíš žlutou"]
[{"$f":"IFERROR(VLOOKUP(P91,Zakázky!P:Q,2,FALSE),\"\")","v":""},"",{"$f":"IF(A91=\"\",\"\",IF(VLOOKUP(MID(A91,6,99)*1,'Data eshop'!D:T,2,FALSE)=0,\"\",VLOOKUP(MID(A91,6,99)*1,'Data eshop'!D:T,2,FALSE)))","v":""},{"$f":"IF(A91=\"\",\"\",IF(VLOOKUP(MID(A91,6,99)*1,'Data eshop'!D:T,3,FALSE)=0,IF(VLOOKUP(MID(A91,6,99)*1,'Data eshop'!D:T,4,FALSE)=0,\"\",VLOOKUP(MID(A91,6,99)*1,'Data eshop'!D:T,4,FALSE)),VLOOKUP(MID(A91,6,99)*1,'Data eshop'!D:T,3,FALSE))&IF(VLOOKUP(MID(A91,6,99)*1,'Data eshop'!D:T,4,FALSE)=0,\"\",\" \"&VLOOKUP(MID(A91,6,99)*1,'Data eshop'!D:T,4,FALSE)))","v":""},{"$f":"IF(A91=\"\",\"\",IF(VLOOKUP(MID(A91,6,99)*1,'Data eshop'!D:T,5,FALSE)=0,\"\",VLOOKUP(MID(A91,6,99)*1,'Data eshop'!D:T,5,FALSE)))","v":""},{"$f":"IF(A91=\"\",\"\",IF(VLOOKUP(MID(A91,6,99)*1,'Data eshop'!D:T,6,FALSE)=0,\"\",VLOOKUP(MID(A91,6,99)*1,'Data eshop'!D:T,6,FALSE)))","v":""},{"$f":"IF(A91=\"\",\"\",IF(VLOOKUP(MID(A91,6,99)*1,'Data eshop'!D:T,7,FALSE)=0,\"\",VLOOKUP(MID(A91,6,99)*1,'Data eshop'!D:T,7,FALSE)))","v":""},{"$f":"IF(A91=\"\",\"\",IF(VLOOKUP(MID(A91,6,99)*1,'Data eshop'!D:T,10,FALSE)=0,\"\",VLOOKUP(VLOOKUP(MID(A91,6,99)*1,'Data eshop'!D:T,10,FALSE),DATA!O:P,2,FALSE)))","v":""},"",{"$f":"IF(A91=\"\",\"\",IF(VLOOKUP(MID(A91,6,99)*1,'Data eshop'!D:W,18,FALSE)=0,\"\",VLOOKUP(MID(A91,6,99)*1,'Data eshop'!D:W,18,FALSE)))","v":""},{"$f":"IF(A91=\"\",\"\",IF(VLOOKUP(MID(A91,6,99)*1,'Data eshop'!D:W,19,FALSE)=0,\"\",VLOOKUP(MID(A91,6,99)*1,'Data eshop'!D:W,19,FALSE)))","v":""},{"$f":"IF(A91=\"\",\"\",IF(VLOOKUP(MID(A91,6,99)*1,'Data eshop'!D:T,11,FALSE)=0,\"\",IF(OR(VLOOKUP(MID(A91,6,99)*1,'Data eshop'!D:T,11,FALSE)=\"Na dobírku\",VLOOKUP(MID(A91,6,99)*1,'Data eshop'!D:T,11,FALSE)=\"Na dobierku\",VLOOKUP(MID(A91,6,99)*1,'Data eshop'!D:T,11,FALSE)=\"Za pobraniem\"),VLOOKUP(MID(A91,6,99)*1,'Data eshop'!D:W,20,FALSE),\"\")))","v":""},{"$f":"IF(L91=\"\",\"\",IF(VLOOKUP(MID(A91,6,99)*1,'Data eshop'!D:T,10,FALSE)=0,\"\",IF(VLOOKUP(MID(A91,6,99)*1,'Data eshop'!D:T,10,FALSE)=\"Česká republika\",\"CZK\",IF(VLOOKUP(MID(A91,6,99)*1,'Data eshop'!D:T,10,FALSE)=\"Poland\",\"PLN\",IF(VLOOKUP(MID(A91,6,99)*1,'Data eshop'!D:T,10,FALSE)=\"Slovakia\",\"EUR\",\"\")))))","v":""},"",null,90]
[{"$f":"IFERROR(VLOOKUP(P92,Zakázky!P:Q,2,FALSE),\"\")","v":""},"",{"$f":"IF(A92=\"\",\"\",IF(VLOOKUP(MID(A92,6,99)*1,'Data eshop'!D:T,2,FALSE)=0,\"\",VLOOKUP(MID(A92,6,99)*1,'Data eshop'!D:T,2,FALSE)))","v":""},{"$f":"IF(A92=\"\",\"\",IF(VLOOKUP(MID(A92,6,99)*1,'Data eshop'!D:T,3,FALSE)=0,IF(VLOOKUP(MID(A92,6,99)*1,'Data eshop'!D:T,4,FALSE)=0,\"\",VLOOKUP(MID(A92,6,99)*1,'Data eshop'!D:T,4,FALSE)),VLOOKUP(MID(A92,6,99)*1,'Data eshop'!D:T,3,FALSE))&IF(VLOOKUP(MID(A92,6,99)*1,'Data eshop'!D:T,4,FALSE)=0,\"\",\" \"&VLOOKUP(MID(A92,6,99)*1,'Data eshop'!D:T,4,FALSE)))","v":""},{"$f":"IF(A92=\"\",\"\",IF(VLOOKUP(MID(A92,6,99)*1,'Data eshop'!D:T,5,FALSE)=0,\"\",VLOOKUP(MID(A92,6,99)*1,'Data eshop'!D:T,5,FALSE)))","v":""},{"$f":"IF(A92=\"\",\"\",IF(VLOOKUP(MID(A92,6,99)*1,'Data eshop'!D:T,6,FALSE)=0,\"\",VLOOKUP(MID(A92,6,99)*1,'Data eshop'!D:T,6,FALSE)))","v":""},{"$f":"IF(A92=\"\",\"\",IF(VLOOKUP(MID(A92,6,99)*1,'Data eshop'!D:T,7,FALSE)=0,\"\",VLOOKUP(MID(A92,6,99)*1,'Data eshop'!D:T,7,FALSE)))","v":""},{"$f":"IF(A92=\"\",\"\",IF(VLOOKUP(MID(A92,6,99)*1,'Data eshop'!D:T,10,FALSE)=0,\"\",VLOOKUP(VLOOKUP(MID(A92,6,99)*1,'Data eshop'!D:T,10,FALSE),DATA!O:P,2,FALSE)))","v":""},"",{"$f":"IF(A92=\"\",\"\",IF(VLOOKUP(MID(A92,6,99)*1,'Data eshop'!D:W,18,FALSE)=0,\"\",VLOOKUP(MID(A92,6,99)*1,'Data eshop'!D:W,18,FALSE)))","v":""},{"$f":"IF(A92=\"\",\"\",IF(VLOOKUP(MID(A92,6,99)*1,'Data eshop'!D:W,19,FALSE)=0,\"\",VLOOKUP(MID(A92,6,99)*1,'Data eshop'!D:W,19,FALSE)))","v":""},{"$f":"IF(A92=\"\",\"\",IF(VLOOKUP(MID(A92,6,99)*1,'Data eshop'!D:T,11,FALSE)=0,\"\",IF(OR(VLOOKUP(MID(A92,6,99)*1,'Data eshop'!D:T,11,FALSE)=\"Na dobírku\",VLOOKUP(MID(A92,6,99)*1,'Data eshop'!D:T,11,FALSE)=\"Na dobierku\",VLOOKUP(MID(A92,6,99)*1,'Data eshop'!D:T,11,FALSE)=\"Za pobraniem\"),VLOOKUP(MID(A92,6,99)*1,'Data eshop'!D:W,20,FALSE),\"\")))","v":""},{"$f":"IF(L92=\"\",\"\",IF(VLOOKUP(MID(A92,6,99)*1,'Data eshop'!D:T,10,FALSE)=0,\"\",IF(VLOOKUP(MID(A92,6,99)*1,'Data eshop'!D:T,10,FALSE)=\"Česká republika\",\"CZK\",IF(VLOOKUP(MID(A92,6,99)*1,'Data eshop'!D:T,10,FALSE)=\"Poland\",\"PLN\",IF(VLOOKUP(MID(A92,6,99)*1,'Data eshop'!D:T,10,FALSE)=\"Slovakia\",\"EUR\",\"\")))))","v":""},"",null,91]
[{"$f":"IFERROR(VLOOKUP(P93,Zakázky!P:Q,2,FALSE),\"\")","v":""},"",{"$f":"IF(A93=\"\",\"\",IF(VLOOKUP(MID(A93,6,99)*1,'Data eshop'!D:T,2,FALSE)=0,\"\",VLOOKUP(MID(A93,6,99)*1,'Data eshop'!D:T,2,FALSE)))","v":""},{"$f":"IF(A93=\"\",\"\",IF(VLOOKUP(MID(A93,6,99)*1,'Data eshop'!D:T,3,FALSE)=0,IF(VLOOKUP(MID(A93,6,99)*1,'Data eshop'!D:T,4,FALSE)=0,\"\",VLOOKUP(MID(A93,6,99)*1,'Data eshop'!D:T,4,FALSE)),VLOOKUP(MID(A93,6,99)*1,'Data eshop'!D:T,3,FALSE))&IF(VLOOKUP(MID(A93,6,99)*1,'Data eshop'!D:T,4,FALSE)=0,\"\",\" \"&VLOOKUP(MID(A93,6,99)*1,'Data eshop'!D:T,4,FALSE)))","v":""},{"$f":"IF(A93=\"\",\"\",IF(VLOOKUP(MID(A93,6,99)*1,'Data eshop'!D:T,5,FALSE)=0,\"\",VLOOKUP(MID(A93,6,99)*1,'Data eshop'!D:T,5,FALSE)))","v":""},{"$f":"IF(A93=\"\",\"\",IF(VLOOKUP(MID(A93,6,99)*1,'Data eshop'!D:T,6,FALSE)=0,\"\",VLOOKUP(MID(A93,6,99)*1,'Data eshop'!D:T,6,FALSE)))","v":""},{"$f":"IF(A93=\"\",\"\",IF(VLOOKUP(MID(A93,6,99)*1,'Data eshop'!D:T,7,FALSE)=0,\"\",VLOOKUP(MID(A93,6,99)*1,'Data eshop'!D:T,7,FALSE)))","v":""},{"$f":"IF(A93=\"\",\"\",IF(VLOOKUP(MID(A93,6,99)*1,'Data eshop'!D:T,10,FALSE)=0,\"\",VLOOKUP(VLOOKUP(MID(A93,6,99)*1,'Data eshop'!D:T,10,FALSE),DATA!O:P,2,FALSE)))","v":""},"",{"$f":"IF(A93=\"\",\"\",IF(VLOOKUP(MID(A93,6,99)*1,'Data eshop'!D:W,18,FALSE)=0,\"\",VLOOKUP(MID(A93,6,99)*1,'Data eshop'!D:W,18,FALSE)))","v":""},{"$f":"IF(A93=\"\",\"\",IF(VLOOKUP(MID(A93,6,99)*1,'Data eshop'!D:W,19,FALSE)=0,\"\",VLOOKUP(MID(A93,6,99)*1,'Data eshop'!D:W,19,FALSE)))","v":""},{"$f":"IF(A93=\"\",\"\",IF(VLOOKUP(MID(A93,6,99)*1,'Data eshop'!D:T,11,FALSE)=0,\"\",IF(OR(VLOOKUP(MID(A93,6,99)*1,'Data eshop'!D:T,11,FALSE)=\"Na dobírku\",VLOOKUP(MID(A93,6,99)*1,'Data eshop'!D:T,11,FALSE)=\"Na dobierku\",VLOOKUP(MID(A93,6,99)*1,'Data eshop'!D:T,11,FALSE)=\"Za pobraniem\"),VLOOKUP(MID(A93,6,99)*1,'Data eshop'!D:W,20,FALSE),\"\")))","v":""},{"$f":"IF(L93=\"\",\"\",IF(VLOOKUP(MID(A93,6,99)*1,'Data eshop'!D:T,10,FALSE)=0,\"\",IF(VLOOKUP(MID(A93,6,99)*1,'Data eshop'!D:T,10,FALSE)=\"Česká republika\",\"CZK\",IF(VLOOKUP(MID(A93,6,99)*1,'Data eshop'!D:T,10,FALSE)=\"Poland\",\"PLN\",IF(VLOOKUP(MID(A93,6,99)*1,'Data eshop'!D:T,10,FALSE)=\"Slovakia\",\"EUR\",\"\")))))","v":""},"",null,92]
[{"$f":"IFERROR(VLOOKUP(P94,Zakázky!P:Q,2,FALSE),\"\")","v":""},"",{"$f":"IF(A94=\"\",\"\",IF(VLOOKUP(MID(A94,6,99)*1,'Data eshop'!D:T,2,FALSE)=0,\"\",VLOOKUP(MID(A94,6,99)*1,'Data eshop'!D:T,2,FALSE)))","v":""},{"$f":"IF(A94=\"\",\"\",IF(VLOOKUP(MID(A94,6,99)*1,'Data eshop'!D:T,3,FALSE)=0,IF(VLOOKUP(MID(A94,6,99)*1,'Data eshop'!D:T,4,FALSE)=0,\"\",VLOOKUP(MID(A94,6,99)*1,'Data eshop'!D:T,4,FALSE)),VLOOKUP(MID(A94,6,99)*1,'Data eshop'!D:T,3,FALSE))&IF(VLOOKUP(MID(A94,6,99)*1,'Data eshop'!D:T,4,FALSE)=0,\"\",\" \"&VLOOKUP(MID(A94,6,99)*1,'Data eshop'!D:T,4,FALSE)))","v":""},{"$f":"IF(A94=\"\",\"\",IF(VLOOKUP(MID(A94,6,99)*1,'Data eshop'!D:T,5,FALSE)=0,\"\",VLOOKUP(MID(A94,6,99)*1,'Data eshop'!D:T,5,FALSE)))","v":""},{"$f":"IF(A94=\"\",\"\",IF(VLOOKUP(MID(A94,6,99)*1,'Data eshop'!D:T,6,FALSE)=0,\"\",VLOOKUP(MID(A94,6,99)*1,'Data eshop'!D:T,6,FALSE)))","v":""},{"$f":"IF(A94=\"\",\"\",IF(VLOOKUP(MID(A94,6,99)*1,'Data eshop'!D:T,7,FALSE)=0,\"\",VLOOKUP(MID(A94,6,99)*1,'Data eshop'!D:T,7,FALSE)))","v":""},{"$f":"IF(A94=\"\",\"\",IF(VLOOKUP(MID(A94,6,99)*1,'Data eshop'!D:T,10,FALSE)=0,\"\",VLOOKUP(VLOOKUP(MID(A94,6,99)*1,'Data eshop'!D:T,10,FALSE),DATA!O:P,2,FALSE)))","v":""},"",{"$f":"IF(A94=\"\",\"\",IF(VLOOKUP(MID(A94,6,99)*1,'Data eshop'!D:W,18,FALSE)=0,\"\",VLOOKUP(MID(A94,6,99)*1,'Data eshop'!D:W,18,FALSE)))","v":""},{"$f":"IF(A94=\"\",\"\",IF(VLOOKUP(MID(A94,6,99)*1,'Data eshop'!D:W,19,FALSE)=0,\"\",VLOOKUP(MID(A94,6,99)*1,'Data eshop'!D:W,19,FALSE)))","v":""},{"$f":"IF(A94=\"\",\"\",IF(VLOOKUP(MID(A94,6,99)*1,'Data eshop'!D:T,11,FALSE)=0,\"\",IF(OR(VLOOKUP(MID(A94,6,99)*1,'Data eshop'!D:T,11,FALSE)=\"Na dobírku\",VLOOKUP(MID(A94,6,99)*1,'Data eshop'!D:T,11,FALSE)=\"Na dobierku\",VLOOKUP(MID(A94,6,99)*1,'Data eshop'!D:T,11,FALSE)=\"Za pobraniem\"),VLOOKUP(MID(A94,6,99)*1,'Data eshop'!D:W,20,FALSE),\"\")))","v":""},{"$f":"IF(L94=\"\",\"\",IF(VLOOKUP(MID(A94,6,99)*1,'Data eshop'!D:T,10,FALSE)=0,\"\",IF(VLOOKUP(MID(A94,6,99)*1,'Data eshop'!D:T,10,FALSE)=\"Česká republika\",\"CZK\",IF(VLOOKUP(MID(A94,6,99)*1,'Data eshop'!D:T,10,FALSE)=\"Poland\",\"PLN\",IF(VLOOKUP(MID(A94,6,99)*1,'Data eshop'!D:T,10,FALSE)=\"Slovakia\",\"EUR\",\"\")))))","v":""},"",null,93,null,"Roluj nahoru, až uvidíš žlutou"]
[{"$f":"IFERROR(VLOOKUP(P95,Zakázky!P:Q,2,FALSE),\"\")","v":""},"",{"$f":"IF(A95=\"\",\"\",IF(VLOOKUP(MID(A95,6,99)*1,'Data eshop'!D:T,2,FALSE)=0,\"\",VLOOKUP(MID(A95,6,99)*1,'Data eshop'!D:T,2,FALSE)))","v":""},{"$f":"IF(A95=\"\",\"\",IF(VLOOKUP(MID(A95,6,99)*1,'Data eshop'!D:T,3,FALSE)=0,IF(VLOOKUP(MID(A95,6,99)*1,'Data eshop'!D:T,4,FALSE)=0,\"\",VLOOKUP(MID(A95,6,99)*1,'Data eshop'!D:T,4,FALSE)),VLOOKUP(MID(A95,6,99)*1,'Data eshop'!D:T,3,FALSE))&IF(VLOOKUP(MID(A95,6,99)*1,'Data eshop'!D:T,4,FALSE)=0,\"\",\" \"&VLOOKUP(MID(A95,6,99)*1,'Data eshop'!D:T,4,FALSE)))","v":""},{"$f":"IF(A95=\"\",\"\",IF(VLOOKUP(MID(A95,6,99)*1,'Data eshop'!D:T,5,FALSE)=0,\"\",VLOOKUP(MID(A95,6,99)*1,'Data eshop'!D:T,5,FALSE)))","v":""},{"$f":"IF(A95=\"\",\"\",IF(VLOOKUP(MID(A95,6,99)*1,'Data eshop'!D:T,6,FALSE)=0,\"\",VLOOKUP(MID(A95,6,99)*1,'Data eshop'!D:T,6,FALSE)))","v":""},{"$f":"IF(A95=\"\",\"\",IF(VLOOKUP(MID(A95,6,99)*1,'Data eshop'!D:T,7,FALSE)=0,\"\",VLOOKUP(MID(A95,6,99)*1,'Data eshop'!D:T,7,FALSE)))","v":""},{"$f":"IF(A95=\"\",\"\",IF(VLOOKUP(MID(A95,6,99)*1,'Data eshop'!D:T,10,FALSE)=0,\"\",VLOOKUP(VLOOKUP(MID(A95,6,99)*1,'Data eshop'!D:T,10,FALSE),DATA!O:P,2,FALSE)))","v":""},"",{"$f":"IF(A95=\"\",\"\",IF(VLOOKUP(MID(A95,6,99)*1,'Data eshop'!D:W,18,FALSE)=0,\"\",VLOOKUP(MID(A95,6,99)*1,'Data eshop'!D:W,18,FALSE)))","v":""},{"$f":"IF(A95=\"\",\"\",IF(VLOOKUP(MID(A95,6,99)*1,'Data eshop'!D:W,19,FALSE)=0,\"\",VLOOKUP(MID(A95,6,99)*1,'Data eshop'!D:W,19,FALSE)))","v":""},{"$f":"IF(A95=\"\",\"\",IF(VLOOKUP(MID(A95,6,99)*1,'Data eshop'!D:T,11,FALSE)=0,\"\",IF(OR(VLOOKUP(MID(A95,6,99)*1,'Data eshop'!D:T,11,FALSE)=\"Na dobírku\",VLOOKUP(MID(A95,6,99)*1,'Data eshop'!D:T,11,FALSE)=\"Na dobierku\",VLOOKUP(MID(A95,6,99)*1,'Data eshop'!D:T,11,FALSE)=\"Za pobraniem\"),VLOOKUP(MID(A95,6,99)*1,'Data eshop'!D:W,20,FALSE),\"\")))","v":""},{"$f":"IF(L95=\"\",\"\",IF(VLOOKUP(MID(A95,6,99)*1,'Data eshop'!D:T,10,FALSE)=0,\"\",IF(VLOOKUP(MID(A95,6,99)*1,'Data eshop'!D:T,10,FALSE)=\"Česká republika\",\"CZK\",IF(VLOOKUP(MID(A95,6,99)*1,'Data eshop'!D:T,10,FALSE)=\"Poland\",\"PLN\",IF(VLOOKUP(MID(A95,6,99)*1,'Data eshop'!D:T,10,FALSE)=\"Slovakia\",\"EUR\",\"\")))))","v":""},"",null,94]
[{"$f":"IFERROR(VLOOKUP(P96,Zakázky!P:Q,2,FALSE),\"\")","v":""},"",{"$f":"IF(A96=\"\",\"\",IF(VLOOKUP(MID(A96,6,99)*1,'Data eshop'!D:T,2,FALSE)=0,\"\",VLOOKUP(MID(A96,6,99)*1,'Data eshop'!D:T,2,FALSE)))","v":""},{"$f":"IF(A96=\"\",\"\",IF(VLOOKUP(MID(A96,6,99)*1,'Data eshop'!D:T,3,FALSE)=0,IF(VLOOKUP(MID(A96,6,99)*1,'Data eshop'!D:T,4,FALSE)=0,\"\",VLOOKUP(MID(A96,6,99)*1,'Data eshop'!D:T,4,FALSE)),VLOOKUP(MID(A96,6,99)*1,'Data eshop'!D:T,3,FALSE))&IF(VLOOKUP(MID(A96,6,99)*1,'Data eshop'!D:T,4,FALSE)=0,\"\",\" \"&VLOOKUP(MID(A96,6,99)*1,'Data eshop'!D:T,4,FALSE)))","v":""},{"$f":"IF(A96=\"\",\"\",IF(VLOOKUP(MID(A96,6,99)*1,'Data eshop'!D:T,5,FALSE)=0,\"\",VLOOKUP(MID(A96,6,99)*1,'Data eshop'!D:T,5,FALSE)))","v":""},{"$f":"IF(A96=\"\",\"\",IF(VLOOKUP(MID(A96,6,99)*1,'Data eshop'!D:T,6,FALSE)=0,\"\",VLOOKUP(MID(A96,6,99)*1,'Data eshop'!D:T,6,FALSE)))","v":""},{"$f":"IF(A96=\"\",\"\",IF(VLOOKUP(MID(A96,6,99)*1,'Data eshop'!D:T,7,FALSE)=0,\"\",VLOOKUP(MID(A96,6,99)*1,'Data eshop'!D:T,7,FALSE)))","v":""},{"$f":"IF(A96=\"\",\"\",IF(VLOOKUP(MID(A96,6,99)*1,'Data eshop'!D:T,10,FALSE)=0,\"\",VLOOKUP(VLOOKUP(MID(A96,6,99)*1,'Data eshop'!D:T,10,FALSE),DATA!O:P,2,FALSE)))","v":""},"",{"$f":"IF(A96=\"\",\"\",IF(VLOOKUP(MID(A96,6,99)*1,'Data eshop'!D:W,18,FALSE)=0,\"\",VLOOKUP(MID(A96,6,99)*1,'Data eshop'!D:W,18,FALSE)))","v":""},{"$f":"IF(A96=\"\",\"\",IF(VLOOKUP(MID(A96,6,99)*1,'Data eshop'!D:W,19,FALSE)=0,\"\",VLOOKUP(MID(A96,6,99)*1,'Data eshop'!D:W,19,FALSE)))","v":""},{"$f":"IF(A96=\"\",\"\",IF(VLOOKUP(MID(A96,6,99)*1,'Data eshop'!D:T,11,FALSE)=0,\"\",IF(OR(VLOOKUP(MID(A96,6,99)*1,'Data eshop'!D:T,11,FALSE)=\"Na dobírku\",VLOOKUP(MID(A96,6,99)*1,'Data eshop'!D:T,11,FALSE)=\"Na dobierku\",VLOOKUP(MID(A96,6,99)*1,'Data eshop'!D:T,11,FALSE)=\"Za pobraniem\"),VLOOKUP(MID(A96,6,99)*1,'Data eshop'!D:W,20,FALSE),\"\")))","v":""},{"$f":"IF(L96=\"\",\"\",IF(VLOOKUP(MID(A96,6,99)*1,'Data eshop'!D:T,10,FALSE)=0,\"\",IF(VLOOKUP(MID(A96,6,99)*1,'Data eshop'!D:T,10,FALSE)=\"Česká republika\",\"CZK\",IF(VLOOKUP(MID(A96,6,99)*1,'Data eshop'!D:T,10,FALSE)=\"Poland\",\"PLN\",IF(VLOOKUP(MID(A96,6,99)*1,'Data eshop'!D:T,10,FALSE)=\"Slovakia\",\"EUR\",\"\")))))","v":""},"",null,95]
[{"$f":"IFERROR(VLOOKUP(P97,Zakázky!P:Q,2,FALSE),\"\")","v":""},"",{"$f":"IF(A97=\"\",\"\",IF(VLOOKUP(MID(A97,6,99)*1,'Data eshop'!D:T,2,FALSE)=0,\"\",VLOOKUP(MID(A97,6,99)*1,'Data eshop'!D:T,2,FALSE)))","v":""},{"$f":"IF(A97=\"\",\"\",IF(VLOOKUP(MID(A97,6,99)*1,'Data eshop'!D:T,3,FALSE)=0,IF(VLOOKUP(MID(A97,6,99)*1,'Data eshop'!D:T,4,FALSE)=0,\"\",VLOOKUP(MID(A97,6,99)*1,'Data eshop'!D:T,4,FALSE)),VLOOKUP(MID(A97,6,99)*1,'Data eshop'!D:T,3,FALSE))&IF(VLOOKUP(MID(A97,6,99)*1,'Data eshop'!D:T,4,FALSE)=0,\"\",\" \"&VLOOKUP(MID(A97,6,99)*1,'Data eshop'!D:T,4,FALSE)))","v":""},{"$f":"IF(A97=\"\",\"\",IF(VLOOKUP(MID(A97,6,99)*1,'Data eshop'!D:T,5,FALSE)=0,\"\",VLOOKUP(MID(A97,6,99)*1,'Data eshop'!D:T,5,FALSE)))","v":""},{"$f":"IF(A97=\"\",\"\",IF(VLOOKUP(MID(A97,6,99)*1,'Data eshop'!D:T,6,FALSE)=0,\"\",VLOOKUP(MID(A97,6,99)*1,'Data eshop'!D:T,6,FALSE)))","v":""},{"$f":"IF(A97=\"\",\"\",IF(VLOOKUP(MID(A97,6,99)*1,'Data eshop'!D:T,7,FALSE)=0,\"\",VLOOKUP(MID(A97,6,99)*1,'Data eshop'!D:T,7,FALSE)))","v":""},{"$f":"IF(A97=\"\",\"\",IF(VLOOKUP(MID(A97,6,99)*1,'Data eshop'!D:T,10,FALSE)=0,\"\",VLOOKUP(VLOOKUP(MID(A97,6,99)*1,'Data eshop'!D:T,10,FALSE),DATA!O:P,2,FALSE)))","v":""},"",{"$f":"IF(A97=\"\",\"\",IF(VLOOKUP(MID(A97,6,99)*1,'Data eshop'!D:W,18,FALSE)=0,\"\",VLOOKUP(MID(A97,6,99)*1,'Data eshop'!D:W,18,FALSE)))","v":""},{"$f":"IF(A97=\"\",\"\",IF(VLOOKUP(MID(A97,6,99)*1,'Data eshop'!D:W,19,FALSE)=0,\"\",VLOOKUP(MID(A97,6,99)*1,'Data eshop'!D:W,19,FALSE)))","v":""},{"$f":"IF(A97=\"\",\"\",IF(VLOOKUP(MID(A97,6,99)*1,'Data eshop'!D:T,11,FALSE)=0,\"\",IF(OR(VLOOKUP(MID(A97,6,99)*1,'Data eshop'!D:T,11,FALSE)=\"Na dobírku\",VLOOKUP(MID(A97,6,99)*1,'Data eshop'!D:T,11,FALSE)=\"Na dobierku\",VLOOKUP(MID(A97,6,99)*1,'Data eshop'!D:T,11,FALSE)=\"Za pobraniem\"),VLOOKUP(MID(A97,6,99)*1,'Data eshop'!D:W,20,FALSE),\"\")))","v":""},{"$f":"IF(L97=\"\",\"\",IF(VLOOKUP(MID(A97,6,99)*1,'Data eshop'!D:T,10,FALSE)=0,\"\",IF(VLOOKUP(MID(A97,6,99)*1,'Data eshop'!D:T,10,FALSE)=\"Česká republika\",\"CZK\",IF(VLOOKUP(MID(A97,6,99)*1,'Data eshop'!D:T,10,FALSE)=\"Poland\",\"PLN\",IF(VLOOKUP(MID(A97,6,99)*1,'Data eshop'!D:T,10,FALSE)=\"Slovakia\",\"EUR\",\"\")))))","v":""},"",null,96]
[{"$f":"IFERROR(VLOOKUP(P98,Zakázky!P:Q,2,FALSE),\"\")","v":""},"",{"$f":"IF(A98=\"\",\"\",IF(VLOOKUP(MID(A98,6,99)*1,'Data eshop'!D:T,2,FALSE)=0,\"\",VLOOKUP(MID(A98,6,99)*1,'Data eshop'!D:T,2,FALSE)))","v":""},{"$f":"IF(A98=\"\",\"\",IF(VLOOKUP(MID(A98,6,99)*1,'Data eshop'!D:T,3,FALSE)=0,IF(VLOOKUP(MID(A98,6,99)*1,'Data eshop'!D:T,4,FALSE)=0,\"\",VLOOKUP(MID(A98,6,99)*1,'Data eshop'!D:T,4,FALSE)),VLOOKUP(MID(A98,6,99)*1,'Data eshop'!D:T,3,FALSE))&IF(VLOOKUP(MID(A98,6,99)*1,'Data eshop'!D:T,4,FALSE)=0,\"\",\" \"&VLOOKUP(MID(A98,6,99)*1,'Data eshop'!D:T,4,FALSE)))","v":""},{"$f":"IF(A98=\"\",\"\",IF(VLOOKUP(MID(A98,6,99)*1,'Data eshop'!D:T,5,FALSE)=0,\"\",VLOOKUP(MID(A98,6,99)*1,'Data eshop'!D:T,5,FALSE)))","v":""},{"$f":"IF(A98=\"\",\"\",IF(VLOOKUP(MID(A98,6,99)*1,'Data eshop'!D:T,6,FALSE)=0,\"\",VLOOKUP(MID(A98,6,99)*1,'Data eshop'!D:T,6,FALSE)))","v":""},{"$f":"IF(A98=\"\",\"\",IF(VLOOKUP(MID(A98,6,99)*1,'Data eshop'!D:T,7,FALSE)=0,\"\",VLOOKUP(MID(A98,6,99)*1,'Data eshop'!D:T,7,FALSE)))","v":""},{"$f":"IF(A98=\"\",\"\",IF(VLOOKUP(MID(A98,6,99)*1,'Data eshop'!D:T,10,FALSE)=0,\"\",VLOOKUP(VLOOKUP(MID(A98,6,99)*1,'Data eshop'!D:T,10,FALSE),DATA!O:P,2,FALSE)))","v":""},"",{"$f":"IF(A98=\"\",\"\",IF(VLOOKUP(MID(A98,6,99)*1,'Data eshop'!D:W,18,FALSE)=0,\"\",VLOOKUP(MID(A98,6,99)*1,'Data eshop'!D:W,18,FALSE)))","v":""},{"$f":"IF(A98=\"\",\"\",IF(VLOOKUP(MID(A98,6,99)*1,'Data eshop'!D:W,19,FALSE)=0,\"\",VLOOKUP(MID(A98,6,99)*1,'Data eshop'!D:W,19,FALSE)))","v":""},{"$f":"IF(A98=\"\",\"\",IF(VLOOKUP(MID(A98,6,99)*1,'Data eshop'!D:T,11,FALSE)=0,\"\",IF(OR(VLOOKUP(MID(A98,6,99)*1,'Data eshop'!D:T,11,FALSE)=\"Na dobírku\",VLOOKUP(MID(A98,6,99)*1,'Data eshop'!D:T,11,FALSE)=\"Na dobierku\",VLOOKUP(MID(A98,6,99)*1,'Data eshop'!D:T,11,FALSE)=\"Za pobraniem\"),VLOOKUP(MID(A98,6,99)*1,'Data eshop'!D:W,20,FALSE),\"\")))","v":""},{"$f":"IF(L98=\"\",\"\",IF(VLOOKUP(MID(A98,6,99)*1,'Data eshop'!D:T,10,FALSE)=0,\"\",IF(VLOOKUP(MID(A98,6,99)*1,'Data eshop'!D:T,10,FALSE)=\"Česká republika\",\"CZK\",IF(VLOOKUP(MID(A98,6,99)*1,'Data eshop'!D:T,10,FALSE)=\"Poland\",\"PLN\",IF(VLOOKUP(MID(A98,6,99)*1,'Data eshop'!D:T,10,FALSE)=\"Slovakia\",\"EUR\",\"\")))))","v":""},"",null,97,null,"Roluj nahoru, až uvidíš žlutou"]
[{"$f":"IFERROR(VLOOKUP(P99,Zakázky!P:Q,2,FALSE),\"\")","v":""},"",{"$f":"IF(A99=\"\",\"\",IF(VLOOKUP(MID(A99,6,99)*1,'Data eshop'!D:T,2,FALSE)=0,\"\",VLOOKUP(MID(A99,6,99)*1,'Data eshop'!D:T,2,FALSE)))","v":""},{"$f":"IF(A99=\"\",\"\",IF(VLOOKUP(MID(A99,6,99)*1,'Data eshop'!D:T,3,FALSE)=0,IF(VLOOKUP(MID(A99,6,99)*1,'Data eshop'!D:T,4,FALSE)=0,\"\",VLOOKUP(MID(A99,6,99)*1,'Data eshop'!D:T,4,FALSE)),VLOOKUP(MID(A99,6,99)*1,'Data eshop'!D:T,3,FALSE))&IF(VLOOKUP(MID(A99,6,99)*1,'Data eshop'!D:T,4,FALSE)=0,\"\",\" \"&VLOOKUP(MID(A99,6,99)*1,'Data eshop'!D:T,4,FALSE)))","v":""},{"$f":"IF(A99=\"\",\"\",IF(VLOOKUP(MID(A99,6,99)*1,'Data eshop'!D:T,5,FALSE)=0,\"\",VLOOKUP(MID(A99,6,99)*1,'Data eshop'!D:T,5,FALSE)))","v":""},{"$f":"IF(A99=\"\",\"\",IF(VLOOKUP(MID(A99,6,99)*1,'Data eshop'!D:T,6,FALSE)=0,\"\",VLOOKUP(MID(A99,6,99)*1,'Data eshop'!D:T,6,FALSE)))","v":""},{"$f":"IF(A99=\"\",\"\",IF(VLOOKUP(MID(A99,6,99)*1,'Data eshop'!D:T,7,FALSE)=0,\"\",VLOOKUP(MID(A99,6,99)*1,'Data eshop'!D:T,7,FALSE)))","v":""},{"$f":"IF(A99=\"\",\"\",IF(VLOOKUP(MID(A99,6,99)*1,'Data eshop'!D:T,10,FALSE)=0,\"\",VLOOKUP(VLOOKUP(MID(A99,6,99)*1,'Data eshop'!D:T,10,FALSE),DATA!O:P,2,FALSE)))","v":""},"",{"$f":"IF(A99=\"\",\"\",IF(VLOOKUP(MID(A99,6,99)*1,'Data eshop'!D:W,18,FALSE)=0,\"\",VLOOKUP(MID(A99,6,99)*1,'Data eshop'!D:W,18,FALSE)))","v":""},{"$f":"IF(A99=\"\",\"\",IF(VLOOKUP(MID(A99,6,99)*1,'Data eshop'!D:W,19,FALSE)=0,\"\",VLOOKUP(MID(A99,6,99)*1,'Data eshop'!D:W,19,FALSE)))","v":""},{"$f":"IF(A99=\"\",\"\",IF(VLOOKUP(MID(A99,6,99)*1,'Data eshop'!D:T,11,FALSE)=0,\"\",IF(OR(VLOOKUP(MID(A99,6,99)*1,'Data eshop'!D:T,11,FALSE)=\"Na dobírku\",VLOOKUP(MID(A99,6,99)*1,'Data eshop'!D:T,11,FALSE)=\"Na dobierku\",VLOOKUP(MID(A99,6,99)*1,'Data eshop'!D:T,11,FALSE)=\"Za pobraniem\"),VLOOKUP(MID(A99,6,99)*1,'Data eshop'!D:W,20,FALSE),\"\")))","v":""},{"$f":"IF(L99=\"\",\"\",IF(VLOOKUP(MID(A99,6,99)*1,'Data eshop'!D:T,10,FALSE)=0,\"\",IF(VLOOKUP(MID(A99,6,99)*1,'Data eshop'!D:T,10,FALSE)=\"Česká republika\",\"CZK\",IF(VLOOKUP(MID(A99,6,99)*1,'Data eshop'!D:T,10,FALSE)=\"Poland\",\"PLN\",IF(VLOOKUP(MID(A99,6,99)*1,'Data eshop'!D:T,10,FALSE)=\"Slovakia\",\"EUR\",\"\")))))","v":""},"",null,98]
[{"$f":"IFERROR(VLOOKUP(P100,Zakázky!P:Q,2,FALSE),\"\")","v":""},"",{"$f":"IF(A100=\"\",\"\",IF(VLOOKUP(MID(A100,6,99)*1,'Data eshop'!D:T,2,FALSE)=0,\"\",VLOOKUP(MID(A100,6,99)*1,'Data eshop'!D:T,2,FALSE)))","v":""},{"$f":"IF(A100=\"\",\"\",IF(VLOOKUP(MID(A100,6,99)*1,'Data eshop'!D:T,3,FALSE)=0,IF(VLOOKUP(MID(A100,6,99)*1,'Data eshop'!D:T,4,FALSE)=0,\"\",VLOOKUP(MID(A100,6,99)*1,'Data eshop'!D:T,4,FALSE)),VLOOKUP(MID(A100,6,99)*1,'Data eshop'!D:T,3,FALSE))&IF(VLOOKUP(MID(A100,6,99)*1,'Data eshop'!D:T,4,FALSE)=0,\"\",\" \"&VLOOKUP(MID(A100,6,99)*1,'Data eshop'!D:T,4,FALSE)))","v":""},{"$f":"IF(A100=\"\",\"\",IF(VLOOKUP(MID(A100,6,99)*1,'Data eshop'!D:T,5,FALSE)=0,\"\",VLOOKUP(MID(A100,6,99)*1,'Data eshop'!D:T,5,FALSE)))","v":""},{"$f":"IF(A100=\"\",\"\",IF(VLOOKUP(MID(A100,6,99)*1,'Data eshop'!D:T,6,FALSE)=0,\"\",VLOOKUP(MID(A100,6,99)*1,'Data eshop'!D:T,6,FALSE)))","v":""},{"$f":"IF(A100=\"\",\"\",IF(VLOOKUP(MID(A100,6,99)*1,'Data eshop'!D:T,7,FALSE)=0,\"\",VLOOKUP(MID(A100,6,99)*1,'Data eshop'!D:T,7,FALSE)))","v":""},{"$f":"IF(A100=\"\",\"\",IF(VLOOKUP(MID(A100,6,99)*1,'Data eshop'!D:T,10,FALSE)=0,\"\",VLOOKUP(VLOOKUP(MID(A100,6,99)*1,'Data eshop'!D:T,10,FALSE),DATA!O:P,2,FALSE)))","v":""},"",{"$f":"IF(A100=\"\",\"\",IF(VLOOKUP(MID(A100,6,99)*1,'Data eshop'!D:W,18,FALSE)=0,\"\",VLOOKUP(MID(A100,6,99)*1,'Data eshop'!D:W,18,FALSE)))","v":""},{"$f":"IF(A100=\"\",\"\",IF(VLOOKUP(MID(A100,6,99)*1,'Data eshop'!D:W,19,FALSE)=0,\"\",VLOOKUP(MID(A100,6,99)*1,'Data eshop'!D:W,19,FALSE)))","v":""},{"$f":"IF(A100=\"\",\"\",IF(VLOOKUP(MID(A100,6,99)*1,'Data eshop'!D:T,11,FALSE)=0,\"\",IF(OR(VLOOKUP(MID(A100,6,99)*1,'Data eshop'!D:T,11,FALSE)=\"Na dobírku\",VLOOKUP(MID(A100,6,99)*1,'Data eshop'!D:T,11,FALSE)=\"Na dobierku\",VLOOKUP(MID(A100,6,99)*1,'Data eshop'!D:T,11,FALSE)=\"Za pobraniem\"),VLOOKUP(MID(A100,6,99)*1,'Data eshop'!D:W,20,FALSE),\"\")))","v":""},{"$f":"IF(L100=\"\",\"\",IF(VLOOKUP(MID(A100,6,99)*1,'Data eshop'!D:T,10,FALSE)=0,\"\",IF(VLOOKUP(MID(A100,6,99)*1,'Data eshop'!D:T,10,FALSE)=\"Česká republika\",\"CZK\",IF(VLOOKUP(MID(A100,6,99)*1,'Data eshop'!D:T,10,FALSE)=\"Poland\",\"PLN\",IF(VLOOKUP(MID(A100,6,99)*1,'Data eshop'!D:T,10,FALSE)=\"Slovakia\",\"EUR\",\"\")))))","v":""},"",null,99]
[{"$f":"IFERROR(VLOOKUP(P101,Zakázky!P:Q,2,FALSE),\"\")","v":""},"",{"$f":"IF(A101=\"\",\"\",IF(VLOOKUP(MID(A101,6,99)*1,'Data eshop'!D:T,2,FALSE)=0,\"\",VLOOKUP(MID(A101,6,99)*1,'Data eshop'!D:T,2,FALSE)))","v":""},{"$f":"IF(A101=\"\",\"\",IF(VLOOKUP(MID(A101,6,99)*1,'Data eshop'!D:T,3,FALSE)=0,IF(VLOOKUP(MID(A101,6,99)*1,'Data eshop'!D:T,4,FALSE)=0,\"\",VLOOKUP(MID(A101,6,99)*1,'Data eshop'!D:T,4,FALSE)),VLOOKUP(MID(A101,6,99)*1,'Data eshop'!D:T,3,FALSE))&IF(VLOOKUP(MID(A101,6,99)*1,'Data eshop'!D:T,4,FALSE)=0,\"\",\" \"&VLOOKUP(MID(A101,6,99)*1,'Data eshop'!D:T,4,FALSE)))","v":""},{"$f":"IF(A101=\"\",\"\",IF(VLOOKUP(MID(A101,6,99)*1,'Data eshop'!D:T,5,FALSE)=0,\"\",VLOOKUP(MID(A101,6,99)*1,'Data eshop'!D:T,5,FALSE)))","v":""},{"$f":"IF(A101=\"\",\"\",IF(VLOOKUP(MID(A101,6,99)*1,'Data eshop'!D:T,6,FALSE)=0,\"\",VLOOKUP(MID(A101,6,99)*1,'Data eshop'!D:T,6,FALSE)))","v":""},{"$f":"IF(A101=\"\",\"\",IF(VLOOKUP(MID(A101,6,99)*1,'Data eshop'!D:T,7,FALSE)=0,\"\",VLOOKUP(MID(A101,6,99)*1,'Data eshop'!D:T,7,FALSE)))","v":""},{"$f":"IF(A101=\"\",\"\",IF(VLOOKUP(MID(A101,6,99)*1,'Data eshop'!D:T,10,FALSE)=0,\"\",VLOOKUP(VLOOKUP(MID(A101,6,99)*1,'Data eshop'!D:T,10,FALSE),DATA!O:P,2,FALSE)))","v":""},"",{"$f":"IF(A101=\"\",\"\",IF(VLOOKUP(MID(A101,6,99)*1,'Data eshop'!D:W,18,FALSE)=0,\"\",VLOOKUP(MID(A101,6,99)*1,'Data eshop'!D:W,18,FALSE)))","v":""},{"$f":"IF(A101=\"\",\"\",IF(VLOOKUP(MID(A101,6,99)*1,'Data eshop'!D:W,19,FALSE)=0,\"\",VLOOKUP(MID(A101,6,99)*1,'Data eshop'!D:W,19,FALSE)))","v":""},{"$f":"IF(A101=\"\",\"\",IF(VLOOKUP(MID(A101,6,99)*1,'Data eshop'!D:T,11,FALSE)=0,\"\",IF(OR(VLOOKUP(MID(A101,6,99)*1,'Data eshop'!D:T,11,FALSE)=\"Na dobírku\",VLOOKUP(MID(A101,6,99)*1,'Data eshop'!D:T,11,FALSE)=\"Na dobierku\",VLOOKUP(MID(A101,6,99)*1,'Data eshop'!D:T,11,FALSE)=\"Za pobraniem\"),VLOOKUP(MID(A101,6,99)*1,'Data eshop'!D:W,20,FALSE),\"\")))","v":""},{"$f":"IF(L101=\"\",\"\",IF(VLOOKUP(MID(A101,6,99)*1,'Data eshop'!D:T,10,FALSE)=0,\"\",IF(VLOOKUP(MID(A101,6,99)*1,'Data eshop'!D:T,10,FALSE)=\"Česká republika\",\"CZK\",IF(VLOOKUP(MID(A101,6,99)*1,'Data eshop'!D:T,10,FALSE)=\"Poland\",\"PLN\",IF(VLOOKUP(MID(A101,6,99)*1,'Data eshop'!D:T,10,FALSE)=\"Slovakia\",\"EUR\",\"\")))))","v":""},"",null,100]
[{"$f":"IFERROR(VLOOKUP(P102,Zakázky!P:Q,2,FALSE),\"\")","v":""},"",{"$f":"IF(A102=\"\",\"\",IF(VLOOKUP(MID(A102,6,99)*1,'Data eshop'!D:T,2,FALSE)=0,\"\",VLOOKUP(MID(A102,6,99)*1,'Data eshop'!D:T,2,FALSE)))","v":""},{"$f":"IF(A102=\"\",\"\",IF(VLOOKUP(MID(A102,6,99)*1,'Data eshop'!D:T,3,FALSE)=0,IF(VLOOKUP(MID(A102,6,99)*1,'Data eshop'!D:T,4,FALSE)=0,\"\",VLOOKUP(MID(A102,6,99)*1,'Data eshop'!D:T,4,FALSE)),VLOOKUP(MID(A102,6,99)*1,'Data eshop'!D:T,3,FALSE))&IF(VLOOKUP(MID(A102,6,99)*1,'Data eshop'!D:T,4,FALSE)=0,\"\",\" \"&VLOOKUP(MID(A102,6,99)*1,'Data eshop'!D:T,4,FALSE)))","v":""},{"$f":"IF(A102=\"\",\"\",IF(VLOOKUP(MID(A102,6,99)*1,'Data eshop'!D:T,5,FALSE)=0,\"\",VLOOKUP(MID(A102,6,99)*1,'Data eshop'!D:T,5,FALSE)))","v":""},{"$f":"IF(A102=\"\",\"\",IF(VLOOKUP(MID(A102,6,99)*1,'Data eshop'!D:T,6,FALSE)=0,\"\",VLOOKUP(MID(A102,6,99)*1,'Data eshop'!D:T,6,FALSE)))","v":""},{"$f":"IF(A102=\"\",\"\",IF(VLOOKUP(MID(A102,6,99)*1,'Data eshop'!D:T,7,FALSE)=0,\"\",VLOOKUP(MID(A102,6,99)*1,'Data eshop'!D:T,7,FALSE)))","v":""},{"$f":"IF(A102=\"\",\"\",IF(VLOOKUP(MID(A102,6,99)*1,'Data eshop'!D:T,10,FALSE)=0,\"\",VLOOKUP(VLOOKUP(MID(A102,6,99)*1,'Data eshop'!D:T,10,FALSE),DATA!O:P,2,FALSE)))","v":""},"",{"$f":"IF(A102=\"\",\"\",IF(VLOOKUP(MID(A102,6,99)*1,'Data eshop'!D:W,18,FALSE)=0,\"\",VLOOKUP(MID(A102,6,99)*1,'Data eshop'!D:W,18,FALSE)))","v":""},{"$f":"IF(A102=\"\",\"\",IF(VLOOKUP(MID(A102,6,99)*1,'Data eshop'!D:W,19,FALSE)=0,\"\",VLOOKUP(MID(A102,6,99)*1,'Data eshop'!D:W,19,FALSE)))","v":""},{"$f":"IF(A102=\"\",\"\",IF(VLOOKUP(MID(A102,6,99)*1,'Data eshop'!D:T,11,FALSE)=0,\"\",IF(OR(VLOOKUP(MID(A102,6,99)*1,'Data eshop'!D:T,11,FALSE)=\"Na dobírku\",VLOOKUP(MID(A102,6,99)*1,'Data eshop'!D:T,11,FALSE)=\"Na dobierku\",VLOOKUP(MID(A102,6,99)*1,'Data eshop'!D:T,11,FALSE)=\"Za pobraniem\"),VLOOKUP(MID(A102,6,99)*1,'Data eshop'!D:W,20,FALSE),\"\")))","v":""},{"$f":"IF(L102=\"\",\"\",IF(VLOOKUP(MID(A102,6,99)*1,'Data eshop'!D:T,10,FALSE)=0,\"\",IF(VLOOKUP(MID(A102,6,99)*1,'Data eshop'!D:T,10,FALSE)=\"Česká republika\",\"CZK\",IF(VLOOKUP(MID(A102,6,99)*1,'Data eshop'!D:T,10,FALSE)=\"Poland\",\"PLN\",IF(VLOOKUP(MID(A102,6,99)*1,'Data eshop'!D:T,10,FALSE)=\"Slovakia\",\"EUR\",\"\")))))","v":""},"",null,101,null,"Roluj nahoru, až uvidíš žlutou"]
[{"$f":"IFERROR(VLOOKUP(P103,Zakázky!P:Q,2,FALSE),\"\")","v":""},"",{"$f":"IF(A103=\"\",\"\",IF(VLOOKUP(MID(A103,6,99)*1,'Data eshop'!D:T,2,FALSE)=0,\"\",VLOOKUP(MID(A103,6,99)*1,'Data eshop'!D:T,2,FALSE)))","v":""},{"$f":"IF(A103=\"\",\"\",IF(VLOOKUP(MID(A103,6,99)*1,'Data eshop'!D:T,3,FALSE)=0,IF(VLOOKUP(MID(A103,6,99)*1,'Data eshop'!D:T,4,FALSE)=0,\"\",VLOOKUP(MID(A103,6,99)*1,'Data eshop'!D:T,4,FALSE)),VLOOKUP(MID(A103,6,99)*1,'Data eshop'!D:T,3,FALSE))&IF(VLOOKUP(MID(A103,6,99)*1,'Data eshop'!D:T,4,FALSE)=0,\"\",\" \"&VLOOKUP(MID(A103,6,99)*1,'Data eshop'!D:T,4,FALSE)))","v":""},{"$f":"IF(A103=\"\",\"\",IF(VLOOKUP(MID(A103,6,99)*1,'Data eshop'!D:T,5,FALSE)=0,\"\",VLOOKUP(MID(A103,6,99)*1,'Data eshop'!D:T,5,FALSE)))","v":""},{"$f":"IF(A103=\"\",\"\",IF(VLOOKUP(MID(A103,6,99)*1,'Data eshop'!D:T,6,FALSE)=0,\"\",VLOOKUP(MID(A103,6,99)*1,'Data eshop'!D:T,6,FALSE)))","v":""},{"$f":"IF(A103=\"\",\"\",IF(VLOOKUP(MID(A103,6,99)*1,'Data eshop'!D:T,7,FALSE)=0,\"\",VLOOKUP(MID(A103,6,99)*1,'Data eshop'!D:T,7,FALSE)))","v":""},{"$f":"IF(A103=\"\",\"\",IF(VLOOKUP(MID(A103,6,99)*1,'Data eshop'!D:T,10,FALSE)=0,\"\",VLOOKUP(VLOOKUP(MID(A103,6,99)*1,'Data eshop'!D:T,10,FALSE),DATA!O:P,2,FALSE)))","v":""},"",{"$f":"IF(A103=\"\",\"\",IF(VLOOKUP(MID(A103,6,99)*1,'Data eshop'!D:W,18,FALSE)=0,\"\",VLOOKUP(MID(A103,6,99)*1,'Data eshop'!D:W,18,FALSE)))","v":""},{"$f":"IF(A103=\"\",\"\",IF(VLOOKUP(MID(A103,6,99)*1,'Data eshop'!D:W,19,FALSE)=0,\"\",VLOOKUP(MID(A103,6,99)*1,'Data eshop'!D:W,19,FALSE)))","v":""},{"$f":"IF(A103=\"\",\"\",IF(VLOOKUP(MID(A103,6,99)*1,'Data eshop'!D:T,11,FALSE)=0,\"\",IF(OR(VLOOKUP(MID(A103,6,99)*1,'Data eshop'!D:T,11,FALSE)=\"Na dobírku\",VLOOKUP(MID(A103,6,99)*1,'Data eshop'!D:T,11,FALSE)=\"Na dobierku\",VLOOKUP(MID(A103,6,99)*1,'Data eshop'!D:T,11,FALSE)=\"Za pobraniem\"),VLOOKUP(MID(A103,6,99)*1,'Data eshop'!D:W,20,FALSE),\"\")))","v":""},{"$f":"IF(L103=\"\",\"\",IF(VLOOKUP(MID(A103,6,99)*1,'Data eshop'!D:T,10,FALSE)=0,\"\",IF(VLOOKUP(MID(A103,6,99)*1,'Data eshop'!D:T,10,FALSE)=\"Česká republika\",\"CZK\",IF(VLOOKUP(MID(A103,6,99)*1,'Data eshop'!D:T,10,FALSE)=\"Poland\",\"PLN\",IF(VLOOKUP(MID(A103,6,99)*1,'Data eshop'!D:T,10,FALSE)=\"Slovakia\",\"EUR\",\"\")))))","v":""},"",null,102]
[{"$f":"IFERROR(VLOOKUP(P104,Zakázky!P:Q,2,FALSE),\"\")","v":""},"",{"$f":"IF(A104=\"\",\"\",IF(VLOOKUP(MID(A104,6,99)*1,'Data eshop'!D:T,2,FALSE)=0,\"\",VLOOKUP(MID(A104,6,99)*1,'Data eshop'!D:T,2,FALSE)))","v":""},{"$f":"IF(A104=\"\",\"\",IF(VLOOKUP(MID(A104,6,99)*1,'Data eshop'!D:T,3,FALSE)=0,IF(VLOOKUP(MID(A104,6,99)*1,'Data eshop'!D:T,4,FALSE)=0,\"\",VLOOKUP(MID(A104,6,99)*1,'Data eshop'!D:T,4,FALSE)),VLOOKUP(MID(A104,6,99)*1,'Data eshop'!D:T,3,FALSE))&IF(VLOOKUP(MID(A104,6,99)*1,'Data eshop'!D:T,4,FALSE)=0,\"\",\" \"&VLOOKUP(MID(A104,6,99)*1,'Data eshop'!D:T,4,FALSE)))","v":""},{"$f":"IF(A104=\"\",\"\",IF(VLOOKUP(MID(A104,6,99)*1,'Data eshop'!D:T,5,FALSE)=0,\"\",VLOOKUP(MID(A104,6,99)*1,'Data eshop'!D:T,5,FALSE)))","v":""},{"$f":"IF(A104=\"\",\"\",IF(VLOOKUP(MID(A104,6,99)*1,'Data eshop'!D:T,6,FALSE)=0,\"\",VLOOKUP(MID(A104,6,99)*1,'Data eshop'!D:T,6,FALSE)))","v":""},{"$f":"IF(A104=\"\",\"\",IF(VLOOKUP(MID(A104,6,99)*1,'Data eshop'!D:T,7,FALSE)=0,\"\",VLOOKUP(MID(A104,6,99)*1,'Data eshop'!D:T,7,FALSE)))","v":""},{"$f":"IF(A104=\"\",\"\",IF(VLOOKUP(MID(A104,6,99)*1,'Data eshop'!D:T,10,FALSE)=0,\"\",VLOOKUP(VLOOKUP(MID(A104,6,99)*1,'Data eshop'!D:T,10,FALSE),DATA!O:P,2,FALSE)))","v":""},"",{"$f":"IF(A104=\"\",\"\",IF(VLOOKUP(MID(A104,6,99)*1,'Data eshop'!D:W,18,FALSE)=0,\"\",VLOOKUP(MID(A104,6,99)*1,'Data eshop'!D:W,18,FALSE)))","v":""},{"$f":"IF(A104=\"\",\"\",IF(VLOOKUP(MID(A104,6,99)*1,'Data eshop'!D:W,19,FALSE)=0,\"\",VLOOKUP(MID(A104,6,99)*1,'Data eshop'!D:W,19,FALSE)))","v":""},{"$f":"IF(A104=\"\",\"\",IF(VLOOKUP(MID(A104,6,99)*1,'Data eshop'!D:T,11,FALSE)=0,\"\",IF(OR(VLOOKUP(MID(A104,6,99)*1,'Data eshop'!D:T,11,FALSE)=\"Na dobírku\",VLOOKUP(MID(A104,6,99)*1,'Data eshop'!D:T,11,FALSE)=\"Na dobierku\",VLOOKUP(MID(A104,6,99)*1,'Data eshop'!D:T,11,FALSE)=\"Za pobraniem\"),VLOOKUP(MID(A104,6,99)*1,'Data eshop'!D:W,20,FALSE),\"\")))","v":""},{"$f":"IF(L104=\"\",\"\",IF(VLOOKUP(MID(A104,6,99)*1,'Data eshop'!D:T,10,FALSE)=0,\"\",IF(VLOOKUP(MID(A104,6,99)*1,'Data eshop'!D:T,10,FALSE)=\"Česká republika\",\"CZK\",IF(VLOOKUP(MID(A104,6,99)*1,'Data eshop'!D:T,10,FALSE)=\"Poland\",\"PLN\",IF(VLOOKUP(MID(A104,6,99)*1,'Data eshop'!D:T,10,FALSE)=\"Slovakia\",\"EUR\",\"\")))))","v":""},"",null,103]
[{"$f":"IFERROR(VLOOKUP(P105,Zakázky!P:Q,2,FALSE),\"\")","v":""},"",{"$f":"IF(A105=\"\",\"\",IF(VLOOKUP(MID(A105,6,99)*1,'Data eshop'!D:T,2,FALSE)=0,\"\",VLOOKUP(MID(A105,6,99)*1,'Data eshop'!D:T,2,FALSE)))","v":""},{"$f":"IF(A105=\"\",\"\",IF(VLOOKUP(MID(A105,6,99)*1,'Data eshop'!D:T,3,FALSE)=0,IF(VLOOKUP(MID(A105,6,99)*1,'Data eshop'!D:T,4,FALSE)=0,\"\",VLOOKUP(MID(A105,6,99)*1,'Data eshop'!D:T,4,FALSE)),VLOOKUP(MID(A105,6,99)*1,'Data eshop'!D:T,3,FALSE))&IF(VLOOKUP(MID(A105,6,99)*1,'Data eshop'!D:T,4,FALSE)=0,\"\",\" \"&VLOOKUP(MID(A105,6,99)*1,'Data eshop'!D:T,4,FALSE)))","v":""},{"$f":"IF(A105=\"\",\"\",IF(VLOOKUP(MID(A105,6,99)*1,'Data eshop'!D:T,5,FALSE)=0,\"\",VLOOKUP(MID(A105,6,99)*1,'Data eshop'!D:T,5,FALSE)))","v":""},{"$f":"IF(A105=\"\",\"\",IF(VLOOKUP(MID(A105,6,99)*1,'Data eshop'!D:T,6,FALSE)=0,\"\",VLOOKUP(MID(A105,6,99)*1,'Data eshop'!D:T,6,FALSE)))","v":""},{"$f":"IF(A105=\"\",\"\",IF(VLOOKUP(MID(A105,6,99)*1,'Data eshop'!D:T,7,FALSE)=0,\"\",VLOOKUP(MID(A105,6,99)*1,'Data eshop'!D:T,7,FALSE)))","v":""},{"$f":"IF(A105=\"\",\"\",IF(VLOOKUP(MID(A105,6,99)*1,'Data eshop'!D:T,10,FALSE)=0,\"\",VLOOKUP(VLOOKUP(MID(A105,6,99)*1,'Data eshop'!D:T,10,FALSE),DATA!O:P,2,FALSE)))","v":""},"",{"$f":"IF(A105=\"\",\"\",IF(VLOOKUP(MID(A105,6,99)*1,'Data eshop'!D:W,18,FALSE)=0,\"\",VLOOKUP(MID(A105,6,99)*1,'Data eshop'!D:W,18,FALSE)))","v":""},{"$f":"IF(A105=\"\",\"\",IF(VLOOKUP(MID(A105,6,99)*1,'Data eshop'!D:W,19,FALSE)=0,\"\",VLOOKUP(MID(A105,6,99)*1,'Data eshop'!D:W,19,FALSE)))","v":""},{"$f":"IF(A105=\"\",\"\",IF(VLOOKUP(MID(A105,6,99)*1,'Data eshop'!D:T,11,FALSE)=0,\"\",IF(OR(VLOOKUP(MID(A105,6,99)*1,'Data eshop'!D:T,11,FALSE)=\"Na dobírku\",VLOOKUP(MID(A105,6,99)*1,'Data eshop'!D:T,11,FALSE)=\"Na dobierku\",VLOOKUP(MID(A105,6,99)*1,'Data eshop'!D:T,11,FALSE)=\"Za pobraniem\"),VLOOKUP(MID(A105,6,99)*1,'Data eshop'!D:W,20,FALSE),\"\")))","v":""},{"$f":"IF(L105=\"\",\"\",IF(VLOOKUP(MID(A105,6,99)*1,'Data eshop'!D:T,10,FALSE)=0,\"\",IF(VLOOKUP(MID(A105,6,99)*1,'Data eshop'!D:T,10,FALSE)=\"Česká republika\",\"CZK\",IF(VLOOKUP(MID(A105,6,99)*1,'Data eshop'!D:T,10,FALSE)=\"Poland\",\"PLN\",IF(VLOOKUP(MID(A105,6,99)*1,'Data eshop'!D:T,10,FALSE)=\"Slovakia\",\"EUR\",\"\")))))","v":""},"",null,104]
[{"$f":"IFERROR(VLOOKUP(P106,Zakázky!P:Q,2,FALSE),\"\")","v":""},"",{"$f":"IF(A106=\"\",\"\",IF(VLOOKUP(MID(A106,6,99)*1,'Data eshop'!D:T,2,FALSE)=0,\"\",VLOOKUP(MID(A106,6,99)*1,'Data eshop'!D:T,2,FALSE)))","v":""},{"$f":"IF(A106=\"\",\"\",IF(VLOOKUP(MID(A106,6,99)*1,'Data eshop'!D:T,3,FALSE)=0,IF(VLOOKUP(MID(A106,6,99)*1,'Data eshop'!D:T,4,FALSE)=0,\"\",VLOOKUP(MID(A106,6,99)*1,'Data eshop'!D:T,4,FALSE)),VLOOKUP(MID(A106,6,99)*1,'Data eshop'!D:T,3,FALSE))&IF(VLOOKUP(MID(A106,6,99)*1,'Data eshop'!D:T,4,FALSE)=0,\"\",\" \"&VLOOKUP(MID(A106,6,99)*1,'Data eshop'!D:T,4,FALSE)))","v":""},{"$f":"IF(A106=\"\",\"\",IF(VLOOKUP(MID(A106,6,99)*1,'Data eshop'!D:T,5,FALSE)=0,\"\",VLOOKUP(MID(A106,6,99)*1,'Data eshop'!D:T,5,FALSE)))","v":""},{"$f":"IF(A106=\"\",\"\",IF(VLOOKUP(MID(A106,6,99)*1,'Data eshop'!D:T,6,FALSE)=0,\"\",VLOOKUP(MID(A106,6,99)*1,'Data eshop'!D:T,6,FALSE)))","v":""},{"$f":"IF(A106=\"\",\"\",IF(VLOOKUP(MID(A106,6,99)*1,'Data eshop'!D:T,7,FALSE)=0,\"\",VLOOKUP(MID(A106,6,99)*1,'Data eshop'!D:T,7,FALSE)))","v":""},{"$f":"IF(A106=\"\",\"\",IF(VLOOKUP(MID(A106,6,99)*1,'Data eshop'!D:T,10,FALSE)=0,\"\",VLOOKUP(VLOOKUP(MID(A106,6,99)*1,'Data eshop'!D:T,10,FALSE),DATA!O:P,2,FALSE)))","v":""},"",{"$f":"IF(A106=\"\",\"\",IF(VLOOKUP(MID(A106,6,99)*1,'Data eshop'!D:W,18,FALSE)=0,\"\",VLOOKUP(MID(A106,6,99)*1,'Data eshop'!D:W,18,FALSE)))","v":""},{"$f":"IF(A106=\"\",\"\",IF(VLOOKUP(MID(A106,6,99)*1,'Data eshop'!D:W,19,FALSE)=0,\"\",VLOOKUP(MID(A106,6,99)*1,'Data eshop'!D:W,19,FALSE)))","v":""},{"$f":"IF(A106=\"\",\"\",IF(VLOOKUP(MID(A106,6,99)*1,'Data eshop'!D:T,11,FALSE)=0,\"\",IF(OR(VLOOKUP(MID(A106,6,99)*1,'Data eshop'!D:T,11,FALSE)=\"Na dobírku\",VLOOKUP(MID(A106,6,99)*1,'Data eshop'!D:T,11,FALSE)=\"Na dobierku\",VLOOKUP(MID(A106,6,99)*1,'Data eshop'!D:T,11,FALSE)=\"Za pobraniem\"),VLOOKUP(MID(A106,6,99)*1,'Data eshop'!D:W,20,FALSE),\"\")))","v":""},{"$f":"IF(L106=\"\",\"\",IF(VLOOKUP(MID(A106,6,99)*1,'Data eshop'!D:T,10,FALSE)=0,\"\",IF(VLOOKUP(MID(A106,6,99)*1,'Data eshop'!D:T,10,FALSE)=\"Česká republika\",\"CZK\",IF(VLOOKUP(MID(A106,6,99)*1,'Data eshop'!D:T,10,FALSE)=\"Poland\",\"PLN\",IF(VLOOKUP(MID(A106,6,99)*1,'Data eshop'!D:T,10,FALSE)=\"Slovakia\",\"EUR\",\"\")))))","v":""},"",null,105,null,"Roluj nahoru, až uvidíš žlutou"]
[{"$f":"IFERROR(VLOOKUP(P107,Zakázky!P:Q,2,FALSE),\"\")","v":""},"",{"$f":"IF(A107=\"\",\"\",IF(VLOOKUP(MID(A107,6,99)*1,'Data eshop'!D:T,2,FALSE)=0,\"\",VLOOKUP(MID(A107,6,99)*1,'Data eshop'!D:T,2,FALSE)))","v":""},{"$f":"IF(A107=\"\",\"\",IF(VLOOKUP(MID(A107,6,99)*1,'Data eshop'!D:T,3,FALSE)=0,IF(VLOOKUP(MID(A107,6,99)*1,'Data eshop'!D:T,4,FALSE)=0,\"\",VLOOKUP(MID(A107,6,99)*1,'Data eshop'!D:T,4,FALSE)),VLOOKUP(MID(A107,6,99)*1,'Data eshop'!D:T,3,FALSE))&IF(VLOOKUP(MID(A107,6,99)*1,'Data eshop'!D:T,4,FALSE)=0,\"\",\" \"&VLOOKUP(MID(A107,6,99)*1,'Data eshop'!D:T,4,FALSE)))","v":""},{"$f":"IF(A107=\"\",\"\",IF(VLOOKUP(MID(A107,6,99)*1,'Data eshop'!D:T,5,FALSE)=0,\"\",VLOOKUP(MID(A107,6,99)*1,'Data eshop'!D:T,5,FALSE)))","v":""},{"$f":"IF(A107=\"\",\"\",IF(VLOOKUP(MID(A107,6,99)*1,'Data eshop'!D:T,6,FALSE)=0,\"\",VLOOKUP(MID(A107,6,99)*1,'Data eshop'!D:T,6,FALSE)))","v":""},{"$f":"IF(A107=\"\",\"\",IF(VLOOKUP(MID(A107,6,99)*1,'Data eshop'!D:T,7,FALSE)=0,\"\",VLOOKUP(MID(A107,6,99)*1,'Data eshop'!D:T,7,FALSE)))","v":""},{"$f":"IF(A107=\"\",\"\",IF(VLOOKUP(MID(A107,6,99)*1,'Data eshop'!D:T,10,FALSE)=0,\"\",VLOOKUP(VLOOKUP(MID(A107,6,99)*1,'Data eshop'!D:T,10,FALSE),DATA!O:P,2,FALSE)))","v":""},"",{"$f":"IF(A107=\"\",\"\",IF(VLOOKUP(MID(A107,6,99)*1,'Data eshop'!D:W,18,FALSE)=0,\"\",VLOOKUP(MID(A107,6,99)*1,'Data eshop'!D:W,18,FALSE)))","v":""},{"$f":"IF(A107=\"\",\"\",IF(VLOOKUP(MID(A107,6,99)*1,'Data eshop'!D:W,19,FALSE)=0,\"\",VLOOKUP(MID(A107,6,99)*1,'Data eshop'!D:W,19,FALSE)))","v":""},{"$f":"IF(A107=\"\",\"\",IF(VLOOKUP(MID(A107,6,99)*1,'Data eshop'!D:T,11,FALSE)=0,\"\",IF(OR(VLOOKUP(MID(A107,6,99)*1,'Data eshop'!D:T,11,FALSE)=\"Na dobírku\",VLOOKUP(MID(A107,6,99)*1,'Data eshop'!D:T,11,FALSE)=\"Na dobierku\",VLOOKUP(MID(A107,6,99)*1,'Data eshop'!D:T,11,FALSE)=\"Za pobraniem\"),VLOOKUP(MID(A107,6,99)*1,'Data eshop'!D:W,20,FALSE),\"\")))","v":""},{"$f":"IF(L107=\"\",\"\",IF(VLOOKUP(MID(A107,6,99)*1,'Data eshop'!D:T,10,FALSE)=0,\"\",IF(VLOOKUP(MID(A107,6,99)*1,'Data eshop'!D:T,10,FALSE)=\"Česká republika\",\"CZK\",IF(VLOOKUP(MID(A107,6,99)*1,'Data eshop'!D:T,10,FALSE)=\"Poland\",\"PLN\",IF(VLOOKUP(MID(A107,6,99)*1,'Data eshop'!D:T,10,FALSE)=\"Slovakia\",\"EUR\",\"\")))))","v":""},"",null,106]
[{"$f":"IFERROR(VLOOKUP(P108,Zakázky!P:Q,2,FALSE),\"\")","v":""},"",{"$f":"IF(A108=\"\",\"\",IF(VLOOKUP(MID(A108,6,99)*1,'Data eshop'!D:T,2,FALSE)=0,\"\",VLOOKUP(MID(A108,6,99)*1,'Data eshop'!D:T,2,FALSE)))","v":""},{"$f":"IF(A108=\"\",\"\",IF(VLOOKUP(MID(A108,6,99)*1,'Data eshop'!D:T,3,FALSE)=0,IF(VLOOKUP(MID(A108,6,99)*1,'Data eshop'!D:T,4,FALSE)=0,\"\",VLOOKUP(MID(A108,6,99)*1,'Data eshop'!D:T,4,FALSE)),VLOOKUP(MID(A108,6,99)*1,'Data eshop'!D:T,3,FALSE))&IF(VLOOKUP(MID(A108,6,99)*1,'Data eshop'!D:T,4,FALSE)=0,\"\",\" \"&VLOOKUP(MID(A108,6,99)*1,'Data eshop'!D:T,4,FALSE)))","v":""},{"$f":"IF(A108=\"\",\"\",IF(VLOOKUP(MID(A108,6,99)*1,'Data eshop'!D:T,5,FALSE)=0,\"\",VLOOKUP(MID(A108,6,99)*1,'Data eshop'!D:T,5,FALSE)))","v":""},{"$f":"IF(A108=\"\",\"\",IF(VLOOKUP(MID(A108,6,99)*1,'Data eshop'!D:T,6,FALSE)=0,\"\",VLOOKUP(MID(A108,6,99)*1,'Data eshop'!D:T,6,FALSE)))","v":""},{"$f":"IF(A108=\"\",\"\",IF(VLOOKUP(MID(A108,6,99)*1,'Data eshop'!D:T,7,FALSE)=0,\"\",VLOOKUP(MID(A108,6,99)*1,'Data eshop'!D:T,7,FALSE)))","v":""},{"$f":"IF(A108=\"\",\"\",IF(VLOOKUP(MID(A108,6,99)*1,'Data eshop'!D:T,10,FALSE)=0,\"\",VLOOKUP(VLOOKUP(MID(A108,6,99)*1,'Data eshop'!D:T,10,FALSE),DATA!O:P,2,FALSE)))","v":""},"",{"$f":"IF(A108=\"\",\"\",IF(VLOOKUP(MID(A108,6,99)*1,'Data eshop'!D:W,18,FALSE)=0,\"\",VLOOKUP(MID(A108,6,99)*1,'Data eshop'!D:W,18,FALSE)))","v":""},{"$f":"IF(A108=\"\",\"\",IF(VLOOKUP(MID(A108,6,99)*1,'Data eshop'!D:W,19,FALSE)=0,\"\",VLOOKUP(MID(A108,6,99)*1,'Data eshop'!D:W,19,FALSE)))","v":""},{"$f":"IF(A108=\"\",\"\",IF(VLOOKUP(MID(A108,6,99)*1,'Data eshop'!D:T,11,FALSE)=0,\"\",IF(OR(VLOOKUP(MID(A108,6,99)*1,'Data eshop'!D:T,11,FALSE)=\"Na dobírku\",VLOOKUP(MID(A108,6,99)*1,'Data eshop'!D:T,11,FALSE)=\"Na dobierku\",VLOOKUP(MID(A108,6,99)*1,'Data eshop'!D:T,11,FALSE)=\"Za pobraniem\"),VLOOKUP(MID(A108,6,99)*1,'Data eshop'!D:W,20,FALSE),\"\")))","v":""},{"$f":"IF(L108=\"\",\"\",IF(VLOOKUP(MID(A108,6,99)*1,'Data eshop'!D:T,10,FALSE)=0,\"\",IF(VLOOKUP(MID(A108,6,99)*1,'Data eshop'!D:T,10,FALSE)=\"Česká republika\",\"CZK\",IF(VLOOKUP(MID(A108,6,99)*1,'Data eshop'!D:T,10,FALSE)=\"Poland\",\"PLN\",IF(VLOOKUP(MID(A108,6,99)*1,'Data eshop'!D:T,10,FALSE)=\"Slovakia\",\"EUR\",\"\")))))","v":""},"",null,107]
[{"$f":"IFERROR(VLOOKUP(P109,Zakázky!P:Q,2,FALSE),\"\")","v":""},"",{"$f":"IF(A109=\"\",\"\",IF(VLOOKUP(MID(A109,6,99)*1,'Data eshop'!D:T,2,FALSE)=0,\"\",VLOOKUP(MID(A109,6,99)*1,'Data eshop'!D:T,2,FALSE)))","v":""},{"$f":"IF(A109=\"\",\"\",IF(VLOOKUP(MID(A109,6,99)*1,'Data eshop'!D:T,3,FALSE)=0,IF(VLOOKUP(MID(A109,6,99)*1,'Data eshop'!D:T,4,FALSE)=0,\"\",VLOOKUP(MID(A109,6,99)*1,'Data eshop'!D:T,4,FALSE)),VLOOKUP(MID(A109,6,99)*1,'Data eshop'!D:T,3,FALSE))&IF(VLOOKUP(MID(A109,6,99)*1,'Data eshop'!D:T,4,FALSE)=0,\"\",\" \"&VLOOKUP(MID(A109,6,99)*1,'Data eshop'!D:T,4,FALSE)))","v":""},{"$f":"IF(A109=\"\",\"\",IF(VLOOKUP(MID(A109,6,99)*1,'Data eshop'!D:T,5,FALSE)=0,\"\",VLOOKUP(MID(A109,6,99)*1,'Data eshop'!D:T,5,FALSE)))","v":""},{"$f":"IF(A109=\"\",\"\",IF(VLOOKUP(MID(A109,6,99)*1,'Data eshop'!D:T,6,FALSE)=0,\"\",VLOOKUP(MID(A109,6,99)*1,'Data eshop'!D:T,6,FALSE)))","v":""},{"$f":"IF(A109=\"\",\"\",IF(VLOOKUP(MID(A109,6,99)*1,'Data eshop'!D:T,7,FALSE)=0,\"\",VLOOKUP(MID(A109,6,99)*1,'Data eshop'!D:T,7,FALSE)))","v":""},{"$f":"IF(A109=\"\",\"\",IF(VLOOKUP(MID(A109,6,99)*1,'Data eshop'!D:T,10,FALSE)=0,\"\",VLOOKUP(VLOOKUP(MID(A109,6,99)*1,'Data eshop'!D:T,10,FALSE),DATA!O:P,2,FALSE)))","v":""},"",{"$f":"IF(A109=\"\",\"\",IF(VLOOKUP(MID(A109,6,99)*1,'Data eshop'!D:W,18,FALSE)=0,\"\",VLOOKUP(MID(A109,6,99)*1,'Data eshop'!D:W,18,FALSE)))","v":""},{"$f":"IF(A109=\"\",\"\",IF(VLOOKUP(MID(A109,6,99)*1,'Data eshop'!D:W,19,FALSE)=0,\"\",VLOOKUP(MID(A109,6,99)*1,'Data eshop'!D:W,19,FALSE)))","v":""},{"$f":"IF(A109=\"\",\"\",IF(VLOOKUP(MID(A109,6,99)*1,'Data eshop'!D:T,11,FALSE)=0,\"\",IF(OR(VLOOKUP(MID(A109,6,99)*1,'Data eshop'!D:T,11,FALSE)=\"Na dobírku\",VLOOKUP(MID(A109,6,99)*1,'Data eshop'!D:T,11,FALSE)=\"Na dobierku\",VLOOKUP(MID(A109,6,99)*1,'Data eshop'!D:T,11,FALSE)=\"Za pobraniem\"),VLOOKUP(MID(A109,6,99)*1,'Data eshop'!D:W,20,FALSE),\"\")))","v":""},{"$f":"IF(L109=\"\",\"\",IF(VLOOKUP(MID(A109,6,99)*1,'Data eshop'!D:T,10,FALSE)=0,\"\",IF(VLOOKUP(MID(A109,6,99)*1,'Data eshop'!D:T,10,FALSE)=\"Česká republika\",\"CZK\",IF(VLOOKUP(MID(A109,6,99)*1,'Data eshop'!D:T,10,FALSE)=\"Poland\",\"PLN\",IF(VLOOKUP(MID(A109,6,99)*1,'Data eshop'!D:T,10,FALSE)=\"Slovakia\",\"EUR\",\"\")))))","v":""},"",null,108]
[{"$f":"IFERROR(VLOOKUP(P110,Zakázky!P:Q,2,FALSE),\"\")","v":""},"",{"$f":"IF(A110=\"\",\"\",IF(VLOOKUP(MID(A110,6,99)*1,'Data eshop'!D:T,2,FALSE)=0,\"\",VLOOKUP(MID(A110,6,99)*1,'Data eshop'!D:T,2,FALSE)))","v":""},{"$f":"IF(A110=\"\",\"\",IF(VLOOKUP(MID(A110,6,99)*1,'Data eshop'!D:T,3,FALSE)=0,IF(VLOOKUP(MID(A110,6,99)*1,'Data eshop'!D:T,4,FALSE)=0,\"\",VLOOKUP(MID(A110,6,99)*1,'Data eshop'!D:T,4,FALSE)),VLOOKUP(MID(A110,6,99)*1,'Data eshop'!D:T,3,FALSE))&IF(VLOOKUP(MID(A110,6,99)*1,'Data eshop'!D:T,4,FALSE)=0,\"\",\" \"&VLOOKUP(MID(A110,6,99)*1,'Data eshop'!D:T,4,FALSE)))","v":""},{"$f":"IF(A110=\"\",\"\",IF(VLOOKUP(MID(A110,6,99)*1,'Data eshop'!D:T,5,FALSE)=0,\"\",VLOOKUP(MID(A110,6,99)*1,'Data eshop'!D:T,5,FALSE)))","v":""},{"$f":"IF(A110=\"\",\"\",IF(VLOOKUP(MID(A110,6,99)*1,'Data eshop'!D:T,6,FALSE)=0,\"\",VLOOKUP(MID(A110,6,99)*1,'Data eshop'!D:T,6,FALSE)))","v":""},{"$f":"IF(A110=\"\",\"\",IF(VLOOKUP(MID(A110,6,99)*1,'Data eshop'!D:T,7,FALSE)=0,\"\",VLOOKUP(MID(A110,6,99)*1,'Data eshop'!D:T,7,FALSE)))","v":""},{"$f":"IF(A110=\"\",\"\",IF(VLOOKUP(MID(A110,6,99)*1,'Data eshop'!D:T,10,FALSE)=0,\"\",VLOOKUP(VLOOKUP(MID(A110,6,99)*1,'Data eshop'!D:T,10,FALSE),DATA!O:P,2,FALSE)))","v":""},"",{"$f":"IF(A110=\"\",\"\",IF(VLOOKUP(MID(A110,6,99)*1,'Data eshop'!D:W,18,FALSE)=0,\"\",VLOOKUP(MID(A110,6,99)*1,'Data eshop'!D:W,18,FALSE)))","v":""},{"$f":"IF(A110=\"\",\"\",IF(VLOOKUP(MID(A110,6,99)*1,'Data eshop'!D:W,19,FALSE)=0,\"\",VLOOKUP(MID(A110,6,99)*1,'Data eshop'!D:W,19,FALSE)))","v":""},{"$f":"IF(A110=\"\",\"\",IF(VLOOKUP(MID(A110,6,99)*1,'Data eshop'!D:T,11,FALSE)=0,\"\",IF(OR(VLOOKUP(MID(A110,6,99)*1,'Data eshop'!D:T,11,FALSE)=\"Na dobírku\",VLOOKUP(MID(A110,6,99)*1,'Data eshop'!D:T,11,FALSE)=\"Na dobierku\",VLOOKUP(MID(A110,6,99)*1,'Data eshop'!D:T,11,FALSE)=\"Za pobraniem\"),VLOOKUP(MID(A110,6,99)*1,'Data eshop'!D:W,20,FALSE),\"\")))","v":""},{"$f":"IF(L110=\"\",\"\",IF(VLOOKUP(MID(A110,6,99)*1,'Data eshop'!D:T,10,FALSE)=0,\"\",IF(VLOOKUP(MID(A110,6,99)*1,'Data eshop'!D:T,10,FALSE)=\"Česká republika\",\"CZK\",IF(VLOOKUP(MID(A110,6,99)*1,'Data eshop'!D:T,10,FALSE)=\"Poland\",\"PLN\",IF(VLOOKUP(MID(A110,6,99)*1,'Data eshop'!D:T,10,FALSE)=\"Slovakia\",\"EUR\",\"\")))))","v":""},"",null,109,null,"Roluj nahoru, až uvidíš žlutou"]
[{"$f":"IFERROR(VLOOKUP(P111,Zakázky!P:Q,2,FALSE),\"\")","v":""},"",{"$f":"IF(A111=\"\",\"\",IF(VLOOKUP(MID(A111,6,99)*1,'Data eshop'!D:T,2,FALSE)=0,\"\",VLOOKUP(MID(A111,6,99)*1,'Data eshop'!D:T,2,FALSE)))","v":""},{"$f":"IF(A111=\"\",\"\",IF(VLOOKUP(MID(A111,6,99)*1,'Data eshop'!D:T,3,FALSE)=0,IF(VLOOKUP(MID(A111,6,99)*1,'Data eshop'!D:T,4,FALSE)=0,\"\",VLOOKUP(MID(A111,6,99)*1,'Data eshop'!D:T,4,FALSE)),VLOOKUP(MID(A111,6,99)*1,'Data eshop'!D:T,3,FALSE))&IF(VLOOKUP(MID(A111,6,99)*1,'Data eshop'!D:T,4,FALSE)=0,\"\",\" \"&VLOOKUP(MID(A111,6,99)*1,'Data eshop'!D:T,4,FALSE)))","v":""},{"$f":"IF(A111=\"\",\"\",IF(VLOOKUP(MID(A111,6,99)*1,'Data eshop'!D:T,5,FALSE)=0,\"\",VLOOKUP(MID(A111,6,99)*1,'Data eshop'!D:T,5,FALSE)))","v":""},{"$f":"IF(A111=\"\",\"\",IF(VLOOKUP(MID(A111,6,99)*1,'Data eshop'!D:T,6,FALSE)=0,\"\",VLOOKUP(MID(A111,6,99)*1,'Data eshop'!D:T,6,FALSE)))","v":""},{"$f":"IF(A111=\"\",\"\",IF(VLOOKUP(MID(A111,6,99)*1,'Data eshop'!D:T,7,FALSE)=0,\"\",VLOOKUP(MID(A111,6,99)*1,'Data eshop'!D:T,7,FALSE)))","v":""},{"$f":"IF(A111=\"\",\"\",IF(VLOOKUP(MID(A111,6,99)*1,'Data eshop'!D:T,10,FALSE)=0,\"\",VLOOKUP(VLOOKUP(MID(A111,6,99)*1,'Data eshop'!D:T,10,FALSE),DATA!O:P,2,FALSE)))","v":""},"",{"$f":"IF(A111=\"\",\"\",IF(VLOOKUP(MID(A111,6,99)*1,'Data eshop'!D:W,18,FALSE)=0,\"\",VLOOKUP(MID(A111,6,99)*1,'Data eshop'!D:W,18,FALSE)))","v":""},{"$f":"IF(A111=\"\",\"\",IF(VLOOKUP(MID(A111,6,99)*1,'Data eshop'!D:W,19,FALSE)=0,\"\",VLOOKUP(MID(A111,6,99)*1,'Data eshop'!D:W,19,FALSE)))","v":""},{"$f":"IF(A111=\"\",\"\",IF(VLOOKUP(MID(A111,6,99)*1,'Data eshop'!D:T,11,FALSE)=0,\"\",IF(OR(VLOOKUP(MID(A111,6,99)*1,'Data eshop'!D:T,11,FALSE)=\"Na dobírku\",VLOOKUP(MID(A111,6,99)*1,'Data eshop'!D:T,11,FALSE)=\"Na dobierku\",VLOOKUP(MID(A111,6,99)*1,'Data eshop'!D:T,11,FALSE)=\"Za pobraniem\"),VLOOKUP(MID(A111,6,99)*1,'Data eshop'!D:W,20,FALSE),\"\")))","v":""},{"$f":"IF(L111=\"\",\"\",IF(VLOOKUP(MID(A111,6,99)*1,'Data eshop'!D:T,10,FALSE)=0,\"\",IF(VLOOKUP(MID(A111,6,99)*1,'Data eshop'!D:T,10,FALSE)=\"Česká republika\",\"CZK\",IF(VLOOKUP(MID(A111,6,99)*1,'Data eshop'!D:T,10,FALSE)=\"Poland\",\"PLN\",IF(VLOOKUP(MID(A111,6,99)*1,'Data eshop'!D:T,10,FALSE)=\"Slovakia\",\"EUR\",\"\")))))","v":""},"",null,110]
[{"$f":"IFERROR(VLOOKUP(P112,Zakázky!P:Q,2,FALSE),\"\")","v":""},"",{"$f":"IF(A112=\"\",\"\",IF(VLOOKUP(MID(A112,6,99)*1,'Data eshop'!D:T,2,FALSE)=0,\"\",VLOOKUP(MID(A112,6,99)*1,'Data eshop'!D:T,2,FALSE)))","v":""},{"$f":"IF(A112=\"\",\"\",IF(VLOOKUP(MID(A112,6,99)*1,'Data eshop'!D:T,3,FALSE)=0,IF(VLOOKUP(MID(A112,6,99)*1,'Data eshop'!D:T,4,FALSE)=0,\"\",VLOOKUP(MID(A112,6,99)*1,'Data eshop'!D:T,4,FALSE)),VLOOKUP(MID(A112,6,99)*1,'Data eshop'!D:T,3,FALSE))&IF(VLOOKUP(MID(A112,6,99)*1,'Data eshop'!D:T,4,FALSE)=0,\"\",\" \"&VLOOKUP(MID(A112,6,99)*1,'Data eshop'!D:T,4,FALSE)))","v":""},{"$f":"IF(A112=\"\",\"\",IF(VLOOKUP(MID(A112,6,99)*1,'Data eshop'!D:T,5,FALSE)=0,\"\",VLOOKUP(MID(A112,6,99)*1,'Data eshop'!D:T,5,FALSE)))","v":""},{"$f":"IF(A112=\"\",\"\",IF(VLOOKUP(MID(A112,6,99)*1,'Data eshop'!D:T,6,FALSE)=0,\"\",VLOOKUP(MID(A112,6,99)*1,'Data eshop'!D:T,6,FALSE)))","v":""},{"$f":"IF(A112=\"\",\"\",IF(VLOOKUP(MID(A112,6,99)*1,'Data eshop'!D:T,7,FALSE)=0,\"\",VLOOKUP(MID(A112,6,99)*1,'Data eshop'!D:T,7,FALSE)))","v":""},{"$f":"IF(A112=\"\",\"\",IF(VLOOKUP(MID(A112,6,99)*1,'Data eshop'!D:T,10,FALSE)=0,\"\",VLOOKUP(VLOOKUP(MID(A112,6,99)*1,'Data eshop'!D:T,10,FALSE),DATA!O:P,2,FALSE)))","v":""},"",{"$f":"IF(A112=\"\",\"\",IF(VLOOKUP(MID(A112,6,99)*1,'Data eshop'!D:W,18,FALSE)=0,\"\",VLOOKUP(MID(A112,6,99)*1,'Data eshop'!D:W,18,FALSE)))","v":""},{"$f":"IF(A112=\"\",\"\",IF(VLOOKUP(MID(A112,6,99)*1,'Data eshop'!D:W,19,FALSE)=0,\"\",VLOOKUP(MID(A112,6,99)*1,'Data eshop'!D:W,19,FALSE)))","v":""},{"$f":"IF(A112=\"\",\"\",IF(VLOOKUP(MID(A112,6,99)*1,'Data eshop'!D:T,11,FALSE)=0,\"\",IF(OR(VLOOKUP(MID(A112,6,99)*1,'Data eshop'!D:T,11,FALSE)=\"Na dobírku\",VLOOKUP(MID(A112,6,99)*1,'Data eshop'!D:T,11,FALSE)=\"Na dobierku\",VLOOKUP(MID(A112,6,99)*1,'Data eshop'!D:T,11,FALSE)=\"Za pobraniem\"),VLOOKUP(MID(A112,6,99)*1,'Data eshop'!D:W,20,FALSE),\"\")))","v":""},{"$f":"IF(L112=\"\",\"\",IF(VLOOKUP(MID(A112,6,99)*1,'Data eshop'!D:T,10,FALSE)=0,\"\",IF(VLOOKUP(MID(A112,6,99)*1,'Data eshop'!D:T,10,FALSE)=\"Česká republika\",\"CZK\",IF(VLOOKUP(MID(A112,6,99)*1,'Data eshop'!D:T,10,FALSE)=\"Poland\",\"PLN\",IF(VLOOKUP(MID(A112,6,99)*1,'Data eshop'!D:T,10,FALSE)=\"Slovakia\",\"EUR\",\"\")))))","v":""},"",null,111]
[{"$f":"IFERROR(VLOOKUP(P113,Zakázky!P:Q,2,FALSE),\"\")","v":""},"",{"$f":"IF(A113=\"\",\"\",IF(VLOOKUP(MID(A113,6,99)*1,'Data eshop'!D:T,2,FALSE)=0,\"\",VLOOKUP(MID(A113,6,99)*1,'Data eshop'!D:T,2,FALSE)))","v":""},{"$f":"IF(A113=\"\",\"\",IF(VLOOKUP(MID(A113,6,99)*1,'Data eshop'!D:T,3,FALSE)=0,IF(VLOOKUP(MID(A113,6,99)*1,'Data eshop'!D:T,4,FALSE)=0,\"\",VLOOKUP(MID(A113,6,99)*1,'Data eshop'!D:T,4,FALSE)),VLOOKUP(MID(A113,6,99)*1,'Data eshop'!D:T,3,FALSE))&IF(VLOOKUP(MID(A113,6,99)*1,'Data eshop'!D:T,4,FALSE)=0,\"\",\" \"&VLOOKUP(MID(A113,6,99)*1,'Data eshop'!D:T,4,FALSE)))","v":""},{"$f":"IF(A113=\"\",\"\",IF(VLOOKUP(MID(A113,6,99)*1,'Data eshop'!D:T,5,FALSE)=0,\"\",VLOOKUP(MID(A113,6,99)*1,'Data eshop'!D:T,5,FALSE)))","v":""},{"$f":"IF(A113=\"\",\"\",IF(VLOOKUP(MID(A113,6,99)*1,'Data eshop'!D:T,6,FALSE)=0,\"\",VLOOKUP(MID(A113,6,99)*1,'Data eshop'!D:T,6,FALSE)))","v":""},{"$f":"IF(A113=\"\",\"\",IF(VLOOKUP(MID(A113,6,99)*1,'Data eshop'!D:T,7,FALSE)=0,\"\",VLOOKUP(MID(A113,6,99)*1,'Data eshop'!D:T,7,FALSE)))","v":""},{"$f":"IF(A113=\"\",\"\",IF(VLOOKUP(MID(A113,6,99)*1,'Data eshop'!D:T,10,FALSE)=0,\"\",VLOOKUP(VLOOKUP(MID(A113,6,99)*1,'Data eshop'!D:T,10,FALSE),DATA!O:P,2,FALSE)))","v":""},"",{"$f":"IF(A113=\"\",\"\",IF(VLOOKUP(MID(A113,6,99)*1,'Data eshop'!D:W,18,FALSE)=0,\"\",VLOOKUP(MID(A113,6,99)*1,'Data eshop'!D:W,18,FALSE)))","v":""},{"$f":"IF(A113=\"\",\"\",IF(VLOOKUP(MID(A113,6,99)*1,'Data eshop'!D:W,19,FALSE)=0,\"\",VLOOKUP(MID(A113,6,99)*1,'Data eshop'!D:W,19,FALSE)))","v":""},{"$f":"IF(A113=\"\",\"\",IF(VLOOKUP(MID(A113,6,99)*1,'Data eshop'!D:T,11,FALSE)=0,\"\",IF(OR(VLOOKUP(MID(A113,6,99)*1,'Data eshop'!D:T,11,FALSE)=\"Na dobírku\",VLOOKUP(MID(A113,6,99)*1,'Data eshop'!D:T,11,FALSE)=\"Na dobierku\",VLOOKUP(MID(A113,6,99)*1,'Data eshop'!D:T,11,FALSE)=\"Za pobraniem\"),VLOOKUP(MID(A113,6,99)*1,'Data eshop'!D:W,20,FALSE),\"\")))","v":""},{"$f":"IF(L113=\"\",\"\",IF(VLOOKUP(MID(A113,6,99)*1,'Data eshop'!D:T,10,FALSE)=0,\"\",IF(VLOOKUP(MID(A113,6,99)*1,'Data eshop'!D:T,10,FALSE)=\"Česká republika\",\"CZK\",IF(VLOOKUP(MID(A113,6,99)*1,'Data eshop'!D:T,10,FALSE)=\"Poland\",\"PLN\",IF(VLOOKUP(MID(A113,6,99)*1,'Data eshop'!D:T,10,FALSE)=\"Slovakia\",\"EUR\",\"\")))))","v":""},"",null,112]
[{"$f":"IFERROR(VLOOKUP(P114,Zakázky!P:Q,2,FALSE),\"\")","v":""},"",{"$f":"IF(A114=\"\",\"\",IF(VLOOKUP(MID(A114,6,99)*1,'Data eshop'!D:T,2,FALSE)=0,\"\",VLOOKUP(MID(A114,6,99)*1,'Data eshop'!D:T,2,FALSE)))","v":""},{"$f":"IF(A114=\"\",\"\",IF(VLOOKUP(MID(A114,6,99)*1,'Data eshop'!D:T,3,FALSE)=0,IF(VLOOKUP(MID(A114,6,99)*1,'Data eshop'!D:T,4,FALSE)=0,\"\",VLOOKUP(MID(A114,6,99)*1,'Data eshop'!D:T,4,FALSE)),VLOOKUP(MID(A114,6,99)*1,'Data eshop'!D:T,3,FALSE))&IF(VLOOKUP(MID(A114,6,99)*1,'Data eshop'!D:T,4,FALSE)=0,\"\",\" \"&VLOOKUP(MID(A114,6,99)*1,'Data eshop'!D:T,4,FALSE)))","v":""},{"$f":"IF(A114=\"\",\"\",IF(VLOOKUP(MID(A114,6,99)*1,'Data eshop'!D:T,5,FALSE)=0,\"\",VLOOKUP(MID(A114,6,99)*1,'Data eshop'!D:T,5,FALSE)))","v":""},{"$f":"IF(A114=\"\",\"\",IF(VLOOKUP(MID(A114,6,99)*1,'Data eshop'!D:T,6,FALSE)=0,\"\",VLOOKUP(MID(A114,6,99)*1,'Data eshop'!D:T,6,FALSE)))","v":""},{"$f":"IF(A114=\"\",\"\",IF(VLOOKUP(MID(A114,6,99)*1,'Data eshop'!D:T,7,FALSE)=0,\"\",VLOOKUP(MID(A114,6,99)*1,'Data eshop'!D:T,7,FALSE)))","v":""},{"$f":"IF(A114=\"\",\"\",IF(VLOOKUP(MID(A114,6,99)*1,'Data eshop'!D:T,10,FALSE)=0,\"\",VLOOKUP(VLOOKUP(MID(A114,6,99)*1,'Data eshop'!D:T,10,FALSE),DATA!O:P,2,FALSE)))","v":""},"",{"$f":"IF(A114=\"\",\"\",IF(VLOOKUP(MID(A114,6,99)*1,'Data eshop'!D:W,18,FALSE)=0,\"\",VLOOKUP(MID(A114,6,99)*1,'Data eshop'!D:W,18,FALSE)))","v":""},{"$f":"IF(A114=\"\",\"\",IF(VLOOKUP(MID(A114,6,99)*1,'Data eshop'!D:W,19,FALSE)=0,\"\",VLOOKUP(MID(A114,6,99)*1,'Data eshop'!D:W,19,FALSE)))","v":""},{"$f":"IF(A114=\"\",\"\",IF(VLOOKUP(MID(A114,6,99)*1,'Data eshop'!D:T,11,FALSE)=0,\"\",IF(OR(VLOOKUP(MID(A114,6,99)*1,'Data eshop'!D:T,11,FALSE)=\"Na dobírku\",VLOOKUP(MID(A114,6,99)*1,'Data eshop'!D:T,11,FALSE)=\"Na dobierku\",VLOOKUP(MID(A114,6,99)*1,'Data eshop'!D:T,11,FALSE)=\"Za pobraniem\"),VLOOKUP(MID(A114,6,99)*1,'Data eshop'!D:W,20,FALSE),\"\")))","v":""},{"$f":"IF(L114=\"\",\"\",IF(VLOOKUP(MID(A114,6,99)*1,'Data eshop'!D:T,10,FALSE)=0,\"\",IF(VLOOKUP(MID(A114,6,99)*1,'Data eshop'!D:T,10,FALSE)=\"Česká republika\",\"CZK\",IF(VLOOKUP(MID(A114,6,99)*1,'Data eshop'!D:T,10,FALSE)=\"Poland\",\"PLN\",IF(VLOOKUP(MID(A114,6,99)*1,'Data eshop'!D:T,10,FALSE)=\"Slovakia\",\"EUR\",\"\")))))","v":""},"",null,113,null,"Roluj nahoru, až uvidíš žlutou"]
[{"$f":"IFERROR(VLOOKUP(P115,Zakázky!P:Q,2,FALSE),\"\")","v":""},"",{"$f":"IF(A115=\"\",\"\",IF(VLOOKUP(MID(A115,6,99)*1,'Data eshop'!D:T,2,FALSE)=0,\"\",VLOOKUP(MID(A115,6,99)*1,'Data eshop'!D:T,2,FALSE)))","v":""},{"$f":"IF(A115=\"\",\"\",IF(VLOOKUP(MID(A115,6,99)*1,'Data eshop'!D:T,3,FALSE)=0,IF(VLOOKUP(MID(A115,6,99)*1,'Data eshop'!D:T,4,FALSE)=0,\"\",VLOOKUP(MID(A115,6,99)*1,'Data eshop'!D:T,4,FALSE)),VLOOKUP(MID(A115,6,99)*1,'Data eshop'!D:T,3,FALSE))&IF(VLOOKUP(MID(A115,6,99)*1,'Data eshop'!D:T,4,FALSE)=0,\"\",\" \"&VLOOKUP(MID(A115,6,99)*1,'Data eshop'!D:T,4,FALSE)))","v":""},{"$f":"IF(A115=\"\",\"\",IF(VLOOKUP(MID(A115,6,99)*1,'Data eshop'!D:T,5,FALSE)=0,\"\",VLOOKUP(MID(A115,6,99)*1,'Data eshop'!D:T,5,FALSE)))","v":""},{"$f":"IF(A115=\"\",\"\",IF(VLOOKUP(MID(A115,6,99)*1,'Data eshop'!D:T,6,FALSE)=0,\"\",VLOOKUP(MID(A115,6,99)*1,'Data eshop'!D:T,6,FALSE)))","v":""},{"$f":"IF(A115=\"\",\"\",IF(VLOOKUP(MID(A115,6,99)*1,'Data eshop'!D:T,7,FALSE)=0,\"\",VLOOKUP(MID(A115,6,99)*1,'Data eshop'!D:T,7,FALSE)))","v":""},{"$f":"IF(A115=\"\",\"\",IF(VLOOKUP(MID(A115,6,99)*1,'Data eshop'!D:T,10,FALSE)=0,\"\",VLOOKUP(VLOOKUP(MID(A115,6,99)*1,'Data eshop'!D:T,10,FALSE),DATA!O:P,2,FALSE)))","v":""},"",{"$f":"IF(A115=\"\",\"\",IF(VLOOKUP(MID(A115,6,99)*1,'Data eshop'!D:W,18,FALSE)=0,\"\",VLOOKUP(MID(A115,6,99)*1,'Data eshop'!D:W,18,FALSE)))","v":""},{"$f":"IF(A115=\"\",\"\",IF(VLOOKUP(MID(A115,6,99)*1,'Data eshop'!D:W,19,FALSE)=0,\"\",VLOOKUP(MID(A115,6,99)*1,'Data eshop'!D:W,19,FALSE)))","v":""},{"$f":"IF(A115=\"\",\"\",IF(VLOOKUP(MID(A115,6,99)*1,'Data eshop'!D:T,11,FALSE)=0,\"\",IF(OR(VLOOKUP(MID(A115,6,99)*1,'Data eshop'!D:T,11,FALSE)=\"Na dobírku\",VLOOKUP(MID(A115,6,99)*1,'Data eshop'!D:T,11,FALSE)=\"Na dobierku\",VLOOKUP(MID(A115,6,99)*1,'Data eshop'!D:T,11,FALSE)=\"Za pobraniem\"),VLOOKUP(MID(A115,6,99)*1,'Data eshop'!D:W,20,FALSE),\"\")))","v":""},{"$f":"IF(L115=\"\",\"\",IF(VLOOKUP(MID(A115,6,99)*1,'Data eshop'!D:T,10,FALSE)=0,\"\",IF(VLOOKUP(MID(A115,6,99)*1,'Data eshop'!D:T,10,FALSE)=\"Česká republika\",\"CZK\",IF(VLOOKUP(MID(A115,6,99)*1,'Data eshop'!D:T,10,FALSE)=\"Poland\",\"PLN\",IF(VLOOKUP(MID(A115,6,99)*1,'Data eshop'!D:T,10,FALSE)=\"Slovakia\",\"EUR\",\"\")))))","v":""},"",null,114]
[{"$f":"IFERROR(VLOOKUP(P116,Zakázky!P:Q,2,FALSE),\"\")","v":""},"",{"$f":"IF(A116=\"\",\"\",IF(VLOOKUP(MID(A116,6,99)*1,'Data eshop'!D:T,2,FALSE)=0,\"\",VLOOKUP(MID(A116,6,99)*1,'Data eshop'!D:T,2,FALSE)))","v":""},{"$f":"IF(A116=\"\",\"\",IF(VLOOKUP(MID(A116,6,99)*1,'Data eshop'!D:T,3,FALSE)=0,IF(VLOOKUP(MID(A116,6,99)*1,'Data eshop'!D:T,4,FALSE)=0,\"\",VLOOKUP(MID(A116,6,99)*1,'Data eshop'!D:T,4,FALSE)),VLOOKUP(MID(A116,6,99)*1,'Data eshop'!D:T,3,FALSE))&IF(VLOOKUP(MID(A116,6,99)*1,'Data eshop'!D:T,4,FALSE)=0,\"\",\" \"&VLOOKUP(MID(A116,6,99)*1,'Data eshop'!D:T,4,FALSE)))","v":""},{"$f":"IF(A116=\"\",\"\",IF(VLOOKUP(MID(A116,6,99)*1,'Data eshop'!D:T,5,FALSE)=0,\"\",VLOOKUP(MID(A116,6,99)*1,'Data eshop'!D:T,5,FALSE)))","v":""},{"$f":"IF(A116=\"\",\"\",IF(VLOOKUP(MID(A116,6,99)*1,'Data eshop'!D:T,6,FALSE)=0,\"\",VLOOKUP(MID(A116,6,99)*1,'Data eshop'!D:T,6,FALSE)))","v":""},{"$f":"IF(A116=\"\",\"\",IF(VLOOKUP(MID(A116,6,99)*1,'Data eshop'!D:T,7,FALSE)=0,\"\",VLOOKUP(MID(A116,6,99)*1,'Data eshop'!D:T,7,FALSE)))","v":""},{"$f":"IF(A116=\"\",\"\",IF(VLOOKUP(MID(A116,6,99)*1,'Data eshop'!D:T,10,FALSE)=0,\"\",VLOOKUP(VLOOKUP(MID(A116,6,99)*1,'Data eshop'!D:T,10,FALSE),DATA!O:P,2,FALSE)))","v":""},"",{"$f":"IF(A116=\"\",\"\",IF(VLOOKUP(MID(A116,6,99)*1,'Data eshop'!D:W,18,FALSE)=0,\"\",VLOOKUP(MID(A116,6,99)*1,'Data eshop'!D:W,18,FALSE)))","v":""},{"$f":"IF(A116=\"\",\"\",IF(VLOOKUP(MID(A116,6,99)*1,'Data eshop'!D:W,19,FALSE)=0,\"\",VLOOKUP(MID(A116,6,99)*1,'Data eshop'!D:W,19,FALSE)))","v":""},{"$f":"IF(A116=\"\",\"\",IF(VLOOKUP(MID(A116,6,99)*1,'Data eshop'!D:T,11,FALSE)=0,\"\",IF(OR(VLOOKUP(MID(A116,6,99)*1,'Data eshop'!D:T,11,FALSE)=\"Na dobírku\",VLOOKUP(MID(A116,6,99)*1,'Data eshop'!D:T,11,FALSE)=\"Na dobierku\",VLOOKUP(MID(A116,6,99)*1,'Data eshop'!D:T,11,FALSE)=\"Za pobraniem\"),VLOOKUP(MID(A116,6,99)*1,'Data eshop'!D:W,20,FALSE),\"\")))","v":""},{"$f":"IF(L116=\"\",\"\",IF(VLOOKUP(MID(A116,6,99)*1,'Data eshop'!D:T,10,FALSE)=0,\"\",IF(VLOOKUP(MID(A116,6,99)*1,'Data eshop'!D:T,10,FALSE)=\"Česká republika\",\"CZK\",IF(VLOOKUP(MID(A116,6,99)*1,'Data eshop'!D:T,10,FALSE)=\"Poland\",\"PLN\",IF(VLOOKUP(MID(A116,6,99)*1,'Data eshop'!D:T,10,FALSE)=\"Slovakia\",\"EUR\",\"\")))))","v":""},"",null,115]
[{"$f":"IFERROR(VLOOKUP(P117,Zakázky!P:Q,2,FALSE),\"\")","v":""},"",{"$f":"IF(A117=\"\",\"\",IF(VLOOKUP(MID(A117,6,99)*1,'Data eshop'!D:T,2,FALSE)=0,\"\",VLOOKUP(MID(A117,6,99)*1,'Data eshop'!D:T,2,FALSE)))","v":""},{"$f":"IF(A117=\"\",\"\",IF(VLOOKUP(MID(A117,6,99)*1,'Data eshop'!D:T,3,FALSE)=0,IF(VLOOKUP(MID(A117,6,99)*1,'Data eshop'!D:T,4,FALSE)=0,\"\",VLOOKUP(MID(A117,6,99)*1,'Data eshop'!D:T,4,FALSE)),VLOOKUP(MID(A117,6,99)*1,'Data eshop'!D:T,3,FALSE))&IF(VLOOKUP(MID(A117,6,99)*1,'Data eshop'!D:T,4,FALSE)=0,\"\",\" \"&VLOOKUP(MID(A117,6,99)*1,'Data eshop'!D:T,4,FALSE)))","v":""},{"$f":"IF(A117=\"\",\"\",IF(VLOOKUP(MID(A117,6,99)*1,'Data eshop'!D:T,5,FALSE)=0,\"\",VLOOKUP(MID(A117,6,99)*1,'Data eshop'!D:T,5,FALSE)))","v":""},{"$f":"IF(A117=\"\",\"\",IF(VLOOKUP(MID(A117,6,99)*1,'Data eshop'!D:T,6,FALSE)=0,\"\",VLOOKUP(MID(A117,6,99)*1,'Data eshop'!D:T,6,FALSE)))","v":""},{"$f":"IF(A117=\"\",\"\",IF(VLOOKUP(MID(A117,6,99)*1,'Data eshop'!D:T,7,FALSE)=0,\"\",VLOOKUP(MID(A117,6,99)*1,'Data eshop'!D:T,7,FALSE)))","v":""},{"$f":"IF(A117=\"\",\"\",IF(VLOOKUP(MID(A117,6,99)*1,'Data eshop'!D:T,10,FALSE)=0,\"\",VLOOKUP(VLOOKUP(MID(A117,6,99)*1,'Data eshop'!D:T,10,FALSE),DATA!O:P,2,FALSE)))","v":""},"",{"$f":"IF(A117=\"\",\"\",IF(VLOOKUP(MID(A117,6,99)*1,'Data eshop'!D:W,18,FALSE)=0,\"\",VLOOKUP(MID(A117,6,99)*1,'Data eshop'!D:W,18,FALSE)))","v":""},{"$f":"IF(A117=\"\",\"\",IF(VLOOKUP(MID(A117,6,99)*1,'Data eshop'!D:W,19,FALSE)=0,\"\",VLOOKUP(MID(A117,6,99)*1,'Data eshop'!D:W,19,FALSE)))","v":""},{"$f":"IF(A117=\"\",\"\",IF(VLOOKUP(MID(A117,6,99)*1,'Data eshop'!D:T,11,FALSE)=0,\"\",IF(OR(VLOOKUP(MID(A117,6,99)*1,'Data eshop'!D:T,11,FALSE)=\"Na dobírku\",VLOOKUP(MID(A117,6,99)*1,'Data eshop'!D:T,11,FALSE)=\"Na dobierku\",VLOOKUP(MID(A117,6,99)*1,'Data eshop'!D:T,11,FALSE)=\"Za pobraniem\"),VLOOKUP(MID(A117,6,99)*1,'Data eshop'!D:W,20,FALSE),\"\")))","v":""},{"$f":"IF(L117=\"\",\"\",IF(VLOOKUP(MID(A117,6,99)*1,'Data eshop'!D:T,10,FALSE)=0,\"\",IF(VLOOKUP(MID(A117,6,99)*1,'Data eshop'!D:T,10,FALSE)=\"Česká republika\",\"CZK\",IF(VLOOKUP(MID(A117,6,99)*1,'Data eshop'!D:T,10,FALSE)=\"Poland\",\"PLN\",IF(VLOOKUP(MID(A117,6,99)*1,'Data eshop'!D:T,10,FALSE)=\"Slovakia\",\"EUR\",\"\")))))","v":""},"",null,116]
[{"$f":"IFERROR(VLOOKUP(P118,Zakázky!P:Q,2,FALSE),\"\")","v":""},"",{"$f":"IF(A118=\"\",\"\",IF(VLOOKUP(MID(A118,6,99)*1,'Data eshop'!D:T,2,FALSE)=0,\"\",VLOOKUP(MID(A118,6,99)*1,'Data eshop'!D:T,2,FALSE)))","v":""},{"$f":"IF(A118=\"\",\"\",IF(VLOOKUP(MID(A118,6,99)*1,'Data eshop'!D:T,3,FALSE)=0,IF(VLOOKUP(MID(A118,6,99)*1,'Data eshop'!D:T,4,FALSE)=0,\"\",VLOOKUP(MID(A118,6,99)*1,'Data eshop'!D:T,4,FALSE)),VLOOKUP(MID(A118,6,99)*1,'Data eshop'!D:T,3,FALSE))&IF(VLOOKUP(MID(A118,6,99)*1,'Data eshop'!D:T,4,FALSE)=0,\"\",\" \"&VLOOKUP(MID(A118,6,99)*1,'Data eshop'!D:T,4,FALSE)))","v":""},{"$f":"IF(A118=\"\",\"\",IF(VLOOKUP(MID(A118,6,99)*1,'Data eshop'!D:T,5,FALSE)=0,\"\",VLOOKUP(MID(A118,6,99)*1,'Data eshop'!D:T,5,FALSE)))","v":""},{"$f":"IF(A118=\"\",\"\",IF(VLOOKUP(MID(A118,6,99)*1,'Data eshop'!D:T,6,FALSE)=0,\"\",VLOOKUP(MID(A118,6,99)*1,'Data eshop'!D:T,6,FALSE)))","v":""},{"$f":"IF(A118=\"\",\"\",IF(VLOOKUP(MID(A118,6,99)*1,'Data eshop'!D:T,7,FALSE)=0,\"\",VLOOKUP(MID(A118,6,99)*1,'Data eshop'!D:T,7,FALSE)))","v":""},{"$f":"IF(A118=\"\",\"\",IF(VLOOKUP(MID(A118,6,99)*1,'Data eshop'!D:T,10,FALSE)=0,\"\",VLOOKUP(VLOOKUP(MID(A118,6,99)*1,'Data eshop'!D:T,10,FALSE),DATA!O:P,2,FALSE)))","v":""},"",{"$f":"IF(A118=\"\",\"\",IF(VLOOKUP(MID(A118,6,99)*1,'Data eshop'!D:W,18,FALSE)=0,\"\",VLOOKUP(MID(A118,6,99)*1,'Data eshop'!D:W,18,FALSE)))","v":""},{"$f":"IF(A118=\"\",\"\",IF(VLOOKUP(MID(A118,6,99)*1,'Data eshop'!D:W,19,FALSE)=0,\"\",VLOOKUP(MID(A118,6,99)*1,'Data eshop'!D:W,19,FALSE)))","v":""},{"$f":"IF(A118=\"\",\"\",IF(VLOOKUP(MID(A118,6,99)*1,'Data eshop'!D:T,11,FALSE)=0,\"\",IF(OR(VLOOKUP(MID(A118,6,99)*1,'Data eshop'!D:T,11,FALSE)=\"Na dobírku\",VLOOKUP(MID(A118,6,99)*1,'Data eshop'!D:T,11,FALSE)=\"Na dobierku\",VLOOKUP(MID(A118,6,99)*1,'Data eshop'!D:T,11,FALSE)=\"Za pobraniem\"),VLOOKUP(MID(A118,6,99)*1,'Data eshop'!D:W,20,FALSE),\"\")))","v":""},{"$f":"IF(L118=\"\",\"\",IF(VLOOKUP(MID(A118,6,99)*1,'Data eshop'!D:T,10,FALSE)=0,\"\",IF(VLOOKUP(MID(A118,6,99)*1,'Data eshop'!D:T,10,FALSE)=\"Česká republika\",\"CZK\",IF(VLOOKUP(MID(A118,6,99)*1,'Data eshop'!D:T,10,FALSE)=\"Poland\",\"PLN\",IF(VLOOKUP(MID(A118,6,99)*1,'Data eshop'!D:T,10,FALSE)=\"Slovakia\",\"EUR\",\"\")))))","v":""},"",null,117,null,"Roluj nahoru, až uvidíš žlutou"]
[{"$f":"IFERROR(VLOOKUP(P119,Zakázky!P:Q,2,FALSE),\"\")","v":""},"",{"$f":"IF(A119=\"\",\"\",IF(VLOOKUP(MID(A119,6,99)*1,'Data eshop'!D:T,2,FALSE)=0,\"\",VLOOKUP(MID(A119,6,99)*1,'Data eshop'!D:T,2,FALSE)))","v":""},{"$f":"IF(A119=\"\",\"\",IF(VLOOKUP(MID(A119,6,99)*1,'Data eshop'!D:T,3,FALSE)=0,IF(VLOOKUP(MID(A119,6,99)*1,'Data eshop'!D:T,4,FALSE)=0,\"\",VLOOKUP(MID(A119,6,99)*1,'Data eshop'!D:T,4,FALSE)),VLOOKUP(MID(A119,6,99)*1,'Data eshop'!D:T,3,FALSE))&IF(VLOOKUP(MID(A119,6,99)*1,'Data eshop'!D:T,4,FALSE)=0,\"\",\" \"&VLOOKUP(MID(A119,6,99)*1,'Data eshop'!D:T,4,FALSE)))","v":""},{"$f":"IF(A119=\"\",\"\",IF(VLOOKUP(MID(A119,6,99)*1,'Data eshop'!D:T,5,FALSE)=0,\"\",VLOOKUP(MID(A119,6,99)*1,'Data eshop'!D:T,5,FALSE)))","v":""},{"$f":"IF(A119=\"\",\"\",IF(VLOOKUP(MID(A119,6,99)*1,'Data eshop'!D:T,6,FALSE)=0,\"\",VLOOKUP(MID(A119,6,99)*1,'Data eshop'!D:T,6,FALSE)))","v":""},{"$f":"IF(A119=\"\",\"\",IF(VLOOKUP(MID(A119,6,99)*1,'Data eshop'!D:T,7,FALSE)=0,\"\",VLOOKUP(MID(A119,6,99)*1,'Data eshop'!D:T,7,FALSE)))","v":""},{"$f":"IF(A119=\"\",\"\",IF(VLOOKUP(MID(A119,6,99)*1,'Data eshop'!D:T,10,FALSE)=0,\"\",VLOOKUP(VLOOKUP(MID(A119,6,99)*1,'Data eshop'!D:T,10,FALSE),DATA!O:P,2,FALSE)))","v":""},"",{"$f":"IF(A119=\"\",\"\",IF(VLOOKUP(MID(A119,6,99)*1,'Data eshop'!D:W,18,FALSE)=0,\"\",VLOOKUP(MID(A119,6,99)*1,'Data eshop'!D:W,18,FALSE)))","v":""},{"$f":"IF(A119=\"\",\"\",IF(VLOOKUP(MID(A119,6,99)*1,'Data eshop'!D:W,19,FALSE)=0,\"\",VLOOKUP(MID(A119,6,99)*1,'Data eshop'!D:W,19,FALSE)))","v":""},{"$f":"IF(A119=\"\",\"\",IF(VLOOKUP(MID(A119,6,99)*1,'Data eshop'!D:T,11,FALSE)=0,\"\",IF(OR(VLOOKUP(MID(A119,6,99)*1,'Data eshop'!D:T,11,FALSE)=\"Na dobírku\",VLOOKUP(MID(A119,6,99)*1,'Data eshop'!D:T,11,FALSE)=\"Na dobierku\",VLOOKUP(MID(A119,6,99)*1,'Data eshop'!D:T,11,FALSE)=\"Za pobraniem\"),VLOOKUP(MID(A119,6,99)*1,'Data eshop'!D:W,20,FALSE),\"\")))","v":""},{"$f":"IF(L119=\"\",\"\",IF(VLOOKUP(MID(A119,6,99)*1,'Data eshop'!D:T,10,FALSE)=0,\"\",IF(VLOOKUP(MID(A119,6,99)*1,'Data eshop'!D:T,10,FALSE)=\"Česká republika\",\"CZK\",IF(VLOOKUP(MID(A119,6,99)*1,'Data eshop'!D:T,10,FALSE)=\"Poland\",\"PLN\",IF(VLOOKUP(MID(A119,6,99)*1,'Data eshop'!D:T,10,FALSE)=\"Slovakia\",\"EUR\",\"\")))))","v":""},"",null,118]
[{"$f":"IFERROR(VLOOKUP(P120,Zakázky!P:Q,2,FALSE),\"\")","v":""},"",{"$f":"IF(A120=\"\",\"\",IF(VLOOKUP(MID(A120,6,99)*1,'Data eshop'!D:T,2,FALSE)=0,\"\",VLOOKUP(MID(A120,6,99)*1,'Data eshop'!D:T,2,FALSE)))","v":""},{"$f":"IF(A120=\"\",\"\",IF(VLOOKUP(MID(A120,6,99)*1,'Data eshop'!D:T,3,FALSE)=0,IF(VLOOKUP(MID(A120,6,99)*1,'Data eshop'!D:T,4,FALSE)=0,\"\",VLOOKUP(MID(A120,6,99)*1,'Data eshop'!D:T,4,FALSE)),VLOOKUP(MID(A120,6,99)*1,'Data eshop'!D:T,3,FALSE))&IF(VLOOKUP(MID(A120,6,99)*1,'Data eshop'!D:T,4,FALSE)=0,\"\",\" \"&VLOOKUP(MID(A120,6,99)*1,'Data eshop'!D:T,4,FALSE)))","v":""},{"$f":"IF(A120=\"\",\"\",IF(VLOOKUP(MID(A120,6,99)*1,'Data eshop'!D:T,5,FALSE)=0,\"\",VLOOKUP(MID(A120,6,99)*1,'Data eshop'!D:T,5,FALSE)))","v":""},{"$f":"IF(A120=\"\",\"\",IF(VLOOKUP(MID(A120,6,99)*1,'Data eshop'!D:T,6,FALSE)=0,\"\",VLOOKUP(MID(A120,6,99)*1,'Data eshop'!D:T,6,FALSE)))","v":""},{"$f":"IF(A120=\"\",\"\",IF(VLOOKUP(MID(A120,6,99)*1,'Data eshop'!D:T,7,FALSE)=0,\"\",VLOOKUP(MID(A120,6,99)*1,'Data eshop'!D:T,7,FALSE)))","v":""},{"$f":"IF(A120=\"\",\"\",IF(VLOOKUP(MID(A120,6,99)*1,'Data eshop'!D:T,10,FALSE)=0,\"\",VLOOKUP(VLOOKUP(MID(A120,6,99)*1,'Data eshop'!D:T,10,FALSE),DATA!O:P,2,FALSE)))","v":""},"",{"$f":"IF(A120=\"\",\"\",IF(VLOOKUP(MID(A120,6,99)*1,'Data eshop'!D:W,18,FALSE)=0,\"\",VLOOKUP(MID(A120,6,99)*1,'Data eshop'!D:W,18,FALSE)))","v":""},{"$f":"IF(A120=\"\",\"\",IF(VLOOKUP(MID(A120,6,99)*1,'Data eshop'!D:W,19,FALSE)=0,\"\",VLOOKUP(MID(A120,6,99)*1,'Data eshop'!D:W,19,FALSE)))","v":""},{"$f":"IF(A120=\"\",\"\",IF(VLOOKUP(MID(A120,6,99)*1,'Data eshop'!D:T,11,FALSE)=0,\"\",IF(OR(VLOOKUP(MID(A120,6,99)*1,'Data eshop'!D:T,11,FALSE)=\"Na dobírku\",VLOOKUP(MID(A120,6,99)*1,'Data eshop'!D:T,11,FALSE)=\"Na dobierku\",VLOOKUP(MID(A120,6,99)*1,'Data eshop'!D:T,11,FALSE)=\"Za pobraniem\"),VLOOKUP(MID(A120,6,99)*1,'Data eshop'!D:W,20,FALSE),\"\")))","v":""},{"$f":"IF(L120=\"\",\"\",IF(VLOOKUP(MID(A120,6,99)*1,'Data eshop'!D:T,10,FALSE)=0,\"\",IF(VLOOKUP(MID(A120,6,99)*1,'Data eshop'!D:T,10,FALSE)=\"Česká republika\",\"CZK\",IF(VLOOKUP(MID(A120,6,99)*1,'Data eshop'!D:T,10,FALSE)=\"Poland\",\"PLN\",IF(VLOOKUP(MID(A120,6,99)*1,'Data eshop'!D:T,10,FALSE)=\"Slovakia\",\"EUR\",\"\")))))","v":""},"",null,119]
[{"$f":"IFERROR(VLOOKUP(P121,Zakázky!P:Q,2,FALSE),\"\")","v":""},"",{"$f":"IF(A121=\"\",\"\",IF(VLOOKUP(MID(A121,6,99)*1,'Data eshop'!D:T,2,FALSE)=0,\"\",VLOOKUP(MID(A121,6,99)*1,'Data eshop'!D:T,2,FALSE)))","v":""},{"$f":"IF(A121=\"\",\"\",IF(VLOOKUP(MID(A121,6,99)*1,'Data eshop'!D:T,3,FALSE)=0,IF(VLOOKUP(MID(A121,6,99)*1,'Data eshop'!D:T,4,FALSE)=0,\"\",VLOOKUP(MID(A121,6,99)*1,'Data eshop'!D:T,4,FALSE)),VLOOKUP(MID(A121,6,99)*1,'Data eshop'!D:T,3,FALSE))&IF(VLOOKUP(MID(A121,6,99)*1,'Data eshop'!D:T,4,FALSE)=0,\"\",\" \"&VLOOKUP(MID(A121,6,99)*1,'Data eshop'!D:T,4,FALSE)))","v":""},{"$f":"IF(A121=\"\",\"\",IF(VLOOKUP(MID(A121,6,99)*1,'Data eshop'!D:T,5,FALSE)=0,\"\",VLOOKUP(MID(A121,6,99)*1,'Data eshop'!D:T,5,FALSE)))","v":""},{"$f":"IF(A121=\"\",\"\",IF(VLOOKUP(MID(A121,6,99)*1,'Data eshop'!D:T,6,FALSE)=0,\"\",VLOOKUP(MID(A121,6,99)*1,'Data eshop'!D:T,6,FALSE)))","v":""},{"$f":"IF(A121=\"\",\"\",IF(VLOOKUP(MID(A121,6,99)*1,'Data eshop'!D:T,7,FALSE)=0,\"\",VLOOKUP(MID(A121,6,99)*1,'Data eshop'!D:T,7,FALSE)))","v":""},{"$f":"IF(A121=\"\",\"\",IF(VLOOKUP(MID(A121,6,99)*1,'Data eshop'!D:T,10,FALSE)=0,\"\",VLOOKUP(VLOOKUP(MID(A121,6,99)*1,'Data eshop'!D:T,10,FALSE),DATA!O:P,2,FALSE)))","v":""},"",{"$f":"IF(A121=\"\",\"\",IF(VLOOKUP(MID(A121,6,99)*1,'Data eshop'!D:W,18,FALSE)=0,\"\",VLOOKUP(MID(A121,6,99)*1,'Data eshop'!D:W,18,FALSE)))","v":""},{"$f":"IF(A121=\"\",\"\",IF(VLOOKUP(MID(A121,6,99)*1,'Data eshop'!D:W,19,FALSE)=0,\"\",VLOOKUP(MID(A121,6,99)*1,'Data eshop'!D:W,19,FALSE)))","v":""},{"$f":"IF(A121=\"\",\"\",IF(VLOOKUP(MID(A121,6,99)*1,'Data eshop'!D:T,11,FALSE)=0,\"\",IF(OR(VLOOKUP(MID(A121,6,99)*1,'Data eshop'!D:T,11,FALSE)=\"Na dobírku\",VLOOKUP(MID(A121,6,99)*1,'Data eshop'!D:T,11,FALSE)=\"Na dobierku\",VLOOKUP(MID(A121,6,99)*1,'Data eshop'!D:T,11,FALSE)=\"Za pobraniem\"),VLOOKUP(MID(A121,6,99)*1,'Data eshop'!D:W,20,FALSE),\"\")))","v":""},{"$f":"IF(L121=\"\",\"\",IF(VLOOKUP(MID(A121,6,99)*1,'Data eshop'!D:T,10,FALSE)=0,\"\",IF(VLOOKUP(MID(A121,6,99)*1,'Data eshop'!D:T,10,FALSE)=\"Česká republika\",\"CZK\",IF(VLOOKUP(MID(A121,6,99)*1,'Data eshop'!D:T,10,FALSE)=\"Poland\",\"PLN\",IF(VLOOKUP(MID(A121,6,99)*1,'Data eshop'!D:T,10,FALSE)=\"Slovakia\",\"EUR\",\"\")))))","v":""},"",null,120]
[{"$f":"IFERROR(VLOOKUP(P122,Zakázky!P:Q,2,FALSE),\"\")","v":""},"",{"$f":"IF(A122=\"\",\"\",IF(VLOOKUP(MID(A122,6,99)*1,'Data eshop'!D:T,2,FALSE)=0,\"\",VLOOKUP(MID(A122,6,99)*1,'Data eshop'!D:T,2,FALSE)))","v":""},{"$f":"IF(A122=\"\",\"\",IF(VLOOKUP(MID(A122,6,99)*1,'Data eshop'!D:T,3,FALSE)=0,IF(VLOOKUP(MID(A122,6,99)*1,'Data eshop'!D:T,4,FALSE)=0,\"\",VLOOKUP(MID(A122,6,99)*1,'Data eshop'!D:T,4,FALSE)),VLOOKUP(MID(A122,6,99)*1,'Data eshop'!D:T,3,FALSE))&IF(VLOOKUP(MID(A122,6,99)*1,'Data eshop'!D:T,4,FALSE)=0,\"\",\" \"&VLOOKUP(MID(A122,6,99)*1,'Data eshop'!D:T,4,FALSE)))","v":""},{"$f":"IF(A122=\"\",\"\",IF(VLOOKUP(MID(A122,6,99)*1,'Data eshop'!D:T,5,FALSE)=0,\"\",VLOOKUP(MID(A122,6,99)*1,'Data eshop'!D:T,5,FALSE)))","v":""},{"$f":"IF(A122=\"\",\"\",IF(VLOOKUP(MID(A122,6,99)*1,'Data eshop'!D:T,6,FALSE)=0,\"\",VLOOKUP(MID(A122,6,99)*1,'Data eshop'!D:T,6,FALSE)))","v":""},{"$f":"IF(A122=\"\",\"\",IF(VLOOKUP(MID(A122,6,99)*1,'Data eshop'!D:T,7,FALSE)=0,\"\",VLOOKUP(MID(A122,6,99)*1,'Data eshop'!D:T,7,FALSE)))","v":""},{"$f":"IF(A122=\"\",\"\",IF(VLOOKUP(MID(A122,6,99)*1,'Data eshop'!D:T,10,FALSE)=0,\"\",VLOOKUP(VLOOKUP(MID(A122,6,99)*1,'Data eshop'!D:T,10,FALSE),DATA!O:P,2,FALSE)))","v":""},"",{"$f":"IF(A122=\"\",\"\",IF(VLOOKUP(MID(A122,6,99)*1,'Data eshop'!D:W,18,FALSE)=0,\"\",VLOOKUP(MID(A122,6,99)*1,'Data eshop'!D:W,18,FALSE)))","v":""},{"$f":"IF(A122=\"\",\"\",IF(VLOOKUP(MID(A122,6,99)*1,'Data eshop'!D:W,19,FALSE)=0,\"\",VLOOKUP(MID(A122,6,99)*1,'Data eshop'!D:W,19,FALSE)))","v":""},{"$f":"IF(A122=\"\",\"\",IF(VLOOKUP(MID(A122,6,99)*1,'Data eshop'!D:T,11,FALSE)=0,\"\",IF(OR(VLOOKUP(MID(A122,6,99)*1,'Data eshop'!D:T,11,FALSE)=\"Na dobírku\",VLOOKUP(MID(A122,6,99)*1,'Data eshop'!D:T,11,FALSE)=\"Na dobierku\",VLOOKUP(MID(A122,6,99)*1,'Data eshop'!D:T,11,FALSE)=\"Za pobraniem\"),VLOOKUP(MID(A122,6,99)*1,'Data eshop'!D:W,20,FALSE),\"\")))","v":""},{"$f":"IF(L122=\"\",\"\",IF(VLOOKUP(MID(A122,6,99)*1,'Data eshop'!D:T,10,FALSE)=0,\"\",IF(VLOOKUP(MID(A122,6,99)*1,'Data eshop'!D:T,10,FALSE)=\"Česká republika\",\"CZK\",IF(VLOOKUP(MID(A122,6,99)*1,'Data eshop'!D:T,10,FALSE)=\"Poland\",\"PLN\",IF(VLOOKUP(MID(A122,6,99)*1,'Data eshop'!D:T,10,FALSE)=\"Slovakia\",\"EUR\",\"\")))))","v":""},"",null,121,null,"Roluj nahoru, až uvidíš žlutou"]
[{"$f":"IFERROR(VLOOKUP(P123,Zakázky!P:Q,2,FALSE),\"\")","v":""},"",{"$f":"IF(A123=\"\",\"\",IF(VLOOKUP(MID(A123,6,99)*1,'Data eshop'!D:T,2,FALSE)=0,\"\",VLOOKUP(MID(A123,6,99)*1,'Data eshop'!D:T,2,FALSE)))","v":""},{"$f":"IF(A123=\"\",\"\",IF(VLOOKUP(MID(A123,6,99)*1,'Data eshop'!D:T,3,FALSE)=0,IF(VLOOKUP(MID(A123,6,99)*1,'Data eshop'!D:T,4,FALSE)=0,\"\",VLOOKUP(MID(A123,6,99)*1,'Data eshop'!D:T,4,FALSE)),VLOOKUP(MID(A123,6,99)*1,'Data eshop'!D:T,3,FALSE))&IF(VLOOKUP(MID(A123,6,99)*1,'Data eshop'!D:T,4,FALSE)=0,\"\",\" \"&VLOOKUP(MID(A123,6,99)*1,'Data eshop'!D:T,4,FALSE)))","v":""},{"$f":"IF(A123=\"\",\"\",IF(VLOOKUP(MID(A123,6,99)*1,'Data eshop'!D:T,5,FALSE)=0,\"\",VLOOKUP(MID(A123,6,99)*1,'Data eshop'!D:T,5,FALSE)))","v":""},{"$f":"IF(A123=\"\",\"\",IF(VLOOKUP(MID(A123,6,99)*1,'Data eshop'!D:T,6,FALSE)=0,\"\",VLOOKUP(MID(A123,6,99)*1,'Data eshop'!D:T,6,FALSE)))","v":""},{"$f":"IF(A123=\"\",\"\",IF(VLOOKUP(MID(A123,6,99)*1,'Data eshop'!D:T,7,FALSE)=0,\"\",VLOOKUP(MID(A123,6,99)*1,'Data eshop'!D:T,7,FALSE)))","v":""},{"$f":"IF(A123=\"\",\"\",IF(VLOOKUP(MID(A123,6,99)*1,'Data eshop'!D:T,10,FALSE)=0,\"\",VLOOKUP(VLOOKUP(MID(A123,6,99)*1,'Data eshop'!D:T,10,FALSE),DATA!O:P,2,FALSE)))","v":""},"",{"$f":"IF(A123=\"\",\"\",IF(VLOOKUP(MID(A123,6,99)*1,'Data eshop'!D:W,18,FALSE)=0,\"\",VLOOKUP(MID(A123,6,99)*1,'Data eshop'!D:W,18,FALSE)))","v":""},{"$f":"IF(A123=\"\",\"\",IF(VLOOKUP(MID(A123,6,99)*1,'Data eshop'!D:W,19,FALSE)=0,\"\",VLOOKUP(MID(A123,6,99)*1,'Data eshop'!D:W,19,FALSE)))","v":""},{"$f":"IF(A123=\"\",\"\",IF(VLOOKUP(MID(A123,6,99)*1,'Data eshop'!D:T,11,FALSE)=0,\"\",IF(OR(VLOOKUP(MID(A123,6,99)*1,'Data eshop'!D:T,11,FALSE)=\"Na dobírku\",VLOOKUP(MID(A123,6,99)*1,'Data eshop'!D:T,11,FALSE)=\"Na dobierku\",VLOOKUP(MID(A123,6,99)*1,'Data eshop'!D:T,11,FALSE)=\"Za pobraniem\"),VLOOKUP(MID(A123,6,99)*1,'Data eshop'!D:W,20,FALSE),\"\")))","v":""},{"$f":"IF(L123=\"\",\"\",IF(VLOOKUP(MID(A123,6,99)*1,'Data eshop'!D:T,10,FALSE)=0,\"\",IF(VLOOKUP(MID(A123,6,99)*1,'Data eshop'!D:T,10,FALSE)=\"Česká republika\",\"CZK\",IF(VLOOKUP(MID(A123,6,99)*1,'Data eshop'!D:T,10,FALSE)=\"Poland\",\"PLN\",IF(VLOOKUP(MID(A123,6,99)*1,'Data eshop'!D:T,10,FALSE)=\"Slovakia\",\"EUR\",\"\")))))","v":""},"",null,122]
[{"$f":"IFERROR(VLOOKUP(P124,Zakázky!P:Q,2,FALSE),\"\")","v":""},"",{"$f":"IF(A124=\"\",\"\",IF(VLOOKUP(MID(A124,6,99)*1,'Data eshop'!D:T,2,FALSE)=0,\"\",VLOOKUP(MID(A124,6,99)*1,'Data eshop'!D:T,2,FALSE)))","v":""},{"$f":"IF(A124=\"\",\"\",IF(VLOOKUP(MID(A124,6,99)*1,'Data eshop'!D:T,3,FALSE)=0,IF(VLOOKUP(MID(A124,6,99)*1,'Data eshop'!D:T,4,FALSE)=0,\"\",VLOOKUP(MID(A124,6,99)*1,'Data eshop'!D:T,4,FALSE)),VLOOKUP(MID(A124,6,99)*1,'Data eshop'!D:T,3,FALSE))&IF(VLOOKUP(MID(A124,6,99)*1,'Data eshop'!D:T,4,FALSE)=0,\"\",\" \"&VLOOKUP(MID(A124,6,99)*1,'Data eshop'!D:T,4,FALSE)))","v":""},{"$f":"IF(A124=\"\",\"\",IF(VLOOKUP(MID(A124,6,99)*1,'Data eshop'!D:T,5,FALSE)=0,\"\",VLOOKUP(MID(A124,6,99)*1,'Data eshop'!D:T,5,FALSE)))","v":""},{"$f":"IF(A124=\"\",\"\",IF(VLOOKUP(MID(A124,6,99)*1,'Data eshop'!D:T,6,FALSE)=0,\"\",VLOOKUP(MID(A124,6,99)*1,'Data eshop'!D:T,6,FALSE)))","v":""},{"$f":"IF(A124=\"\",\"\",IF(VLOOKUP(MID(A124,6,99)*1,'Data eshop'!D:T,7,FALSE)=0,\"\",VLOOKUP(MID(A124,6,99)*1,'Data eshop'!D:T,7,FALSE)))","v":""},{"$f":"IF(A124=\"\",\"\",IF(VLOOKUP(MID(A124,6,99)*1,'Data eshop'!D:T,10,FALSE)=0,\"\",VLOOKUP(VLOOKUP(MID(A124,6,99)*1,'Data eshop'!D:T,10,FALSE),DATA!O:P,2,FALSE)))","v":""},"",{"$f":"IF(A124=\"\",\"\",IF(VLOOKUP(MID(A124,6,99)*1,'Data eshop'!D:W,18,FALSE)=0,\"\",VLOOKUP(MID(A124,6,99)*1,'Data eshop'!D:W,18,FALSE)))","v":""},{"$f":"IF(A124=\"\",\"\",IF(VLOOKUP(MID(A124,6,99)*1,'Data eshop'!D:W,19,FALSE)=0,\"\",VLOOKUP(MID(A124,6,99)*1,'Data eshop'!D:W,19,FALSE)))","v":""},{"$f":"IF(A124=\"\",\"\",IF(VLOOKUP(MID(A124,6,99)*1,'Data eshop'!D:T,11,FALSE)=0,\"\",IF(OR(VLOOKUP(MID(A124,6,99)*1,'Data eshop'!D:T,11,FALSE)=\"Na dobírku\",VLOOKUP(MID(A124,6,99)*1,'Data eshop'!D:T,11,FALSE)=\"Na dobierku\",VLOOKUP(MID(A124,6,99)*1,'Data eshop'!D:T,11,FALSE)=\"Za pobraniem\"),VLOOKUP(MID(A124,6,99)*1,'Data eshop'!D:W,20,FALSE),\"\")))","v":""},{"$f":"IF(L124=\"\",\"\",IF(VLOOKUP(MID(A124,6,99)*1,'Data eshop'!D:T,10,FALSE)=0,\"\",IF(VLOOKUP(MID(A124,6,99)*1,'Data eshop'!D:T,10,FALSE)=\"Česká republika\",\"CZK\",IF(VLOOKUP(MID(A124,6,99)*1,'Data eshop'!D:T,10,FALSE)=\"Poland\",\"PLN\",IF(VLOOKUP(MID(A124,6,99)*1,'Data eshop'!D:T,10,FALSE)=\"Slovakia\",\"EUR\",\"\")))))","v":""},"",null,123]
[{"$f":"IFERROR(VLOOKUP(P125,Zakázky!P:Q,2,FALSE),\"\")","v":""},"",{"$f":"IF(A125=\"\",\"\",IF(VLOOKUP(MID(A125,6,99)*1,'Data eshop'!D:T,2,FALSE)=0,\"\",VLOOKUP(MID(A125,6,99)*1,'Data eshop'!D:T,2,FALSE)))","v":""},{"$f":"IF(A125=\"\",\"\",IF(VLOOKUP(MID(A125,6,99)*1,'Data eshop'!D:T,3,FALSE)=0,IF(VLOOKUP(MID(A125,6,99)*1,'Data eshop'!D:T,4,FALSE)=0,\"\",VLOOKUP(MID(A125,6,99)*1,'Data eshop'!D:T,4,FALSE)),VLOOKUP(MID(A125,6,99)*1,'Data eshop'!D:T,3,FALSE))&IF(VLOOKUP(MID(A125,6,99)*1,'Data eshop'!D:T,4,FALSE)=0,\"\",\" \"&VLOOKUP(MID(A125,6,99)*1,'Data eshop'!D:T,4,FALSE)))","v":""},{"$f":"IF(A125=\"\",\"\",IF(VLOOKUP(MID(A125,6,99)*1,'Data eshop'!D:T,5,FALSE)=0,\"\",VLOOKUP(MID(A125,6,99)*1,'Data eshop'!D:T,5,FALSE)))","v":""},{"$f":"IF(A125=\"\",\"\",IF(VLOOKUP(MID(A125,6,99)*1,'Data eshop'!D:T,6,FALSE)=0,\"\",VLOOKUP(MID(A125,6,99)*1,'Data eshop'!D:T,6,FALSE)))","v":""},{"$f":"IF(A125=\"\",\"\",IF(VLOOKUP(MID(A125,6,99)*1,'Data eshop'!D:T,7,FALSE)=0,\"\",VLOOKUP(MID(A125,6,99)*1,'Data eshop'!D:T,7,FALSE)))","v":""},{"$f":"IF(A125=\"\",\"\",IF(VLOOKUP(MID(A125,6,99)*1,'Data eshop'!D:T,10,FALSE)=0,\"\",VLOOKUP(VLOOKUP(MID(A125,6,99)*1,'Data eshop'!D:T,10,FALSE),DATA!O:P,2,FALSE)))","v":""},"",{"$f":"IF(A125=\"\",\"\",IF(VLOOKUP(MID(A125,6,99)*1,'Data eshop'!D:W,18,FALSE)=0,\"\",VLOOKUP(MID(A125,6,99)*1,'Data eshop'!D:W,18,FALSE)))","v":""},{"$f":"IF(A125=\"\",\"\",IF(VLOOKUP(MID(A125,6,99)*1,'Data eshop'!D:W,19,FALSE)=0,\"\",VLOOKUP(MID(A125,6,99)*1,'Data eshop'!D:W,19,FALSE)))","v":""},{"$f":"IF(A125=\"\",\"\",IF(VLOOKUP(MID(A125,6,99)*1,'Data eshop'!D:T,11,FALSE)=0,\"\",IF(OR(VLOOKUP(MID(A125,6,99)*1,'Data eshop'!D:T,11,FALSE)=\"Na dobírku\",VLOOKUP(MID(A125,6,99)*1,'Data eshop'!D:T,11,FALSE)=\"Na dobierku\",VLOOKUP(MID(A125,6,99)*1,'Data eshop'!D:T,11,FALSE)=\"Za pobraniem\"),VLOOKUP(MID(A125,6,99)*1,'Data eshop'!D:W,20,FALSE),\"\")))","v":""},{"$f":"IF(L125=\"\",\"\",IF(VLOOKUP(MID(A125,6,99)*1,'Data eshop'!D:T,10,FALSE)=0,\"\",IF(VLOOKUP(MID(A125,6,99)*1,'Data eshop'!D:T,10,FALSE)=\"Česká republika\",\"CZK\",IF(VLOOKUP(MID(A125,6,99)*1,'Data eshop'!D:T,10,FALSE)=\"Poland\",\"PLN\",IF(VLOOKUP(MID(A125,6,99)*1,'Data eshop'!D:T,10,FALSE)=\"Slovakia\",\"EUR\",\"\")))))","v":""},"",null,124]
[{"$f":"IFERROR(VLOOKUP(P126,Zakázky!P:Q,2,FALSE),\"\")","v":""},"",{"$f":"IF(A126=\"\",\"\",IF(VLOOKUP(MID(A126,6,99)*1,'Data eshop'!D:T,2,FALSE)=0,\"\",VLOOKUP(MID(A126,6,99)*1,'Data eshop'!D:T,2,FALSE)))","v":""},{"$f":"IF(A126=\"\",\"\",IF(VLOOKUP(MID(A126,6,99)*1,'Data eshop'!D:T,3,FALSE)=0,IF(VLOOKUP(MID(A126,6,99)*1,'Data eshop'!D:T,4,FALSE)=0,\"\",VLOOKUP(MID(A126,6,99)*1,'Data eshop'!D:T,4,FALSE)),VLOOKUP(MID(A126,6,99)*1,'Data eshop'!D:T,3,FALSE))&IF(VLOOKUP(MID(A126,6,99)*1,'Data eshop'!D:T,4,FALSE)=0,\"\",\" \"&VLOOKUP(MID(A126,6,99)*1,'Data eshop'!D:T,4,FALSE)))","v":""},{"$f":"IF(A126=\"\",\"\",IF(VLOOKUP(MID(A126,6,99)*1,'Data eshop'!D:T,5,FALSE)=0,\"\",VLOOKUP(MID(A126,6,99)*1,'Data eshop'!D:T,5,FALSE)))","v":""},{"$f":"IF(A126=\"\",\"\",IF(VLOOKUP(MID(A126,6,99)*1,'Data eshop'!D:T,6,FALSE)=0,\"\",VLOOKUP(MID(A126,6,99)*1,'Data eshop'!D:T,6,FALSE)))","v":""},{"$f":"IF(A126=\"\",\"\",IF(VLOOKUP(MID(A126,6,99)*1,'Data eshop'!D:T,7,FALSE)=0,\"\",VLOOKUP(MID(A126,6,99)*1,'Data eshop'!D:T,7,FALSE)))","v":""},{"$f":"IF(A126=\"\",\"\",IF(VLOOKUP(MID(A126,6,99)*1,'Data eshop'!D:T,10,FALSE)=0,\"\",VLOOKUP(VLOOKUP(MID(A126,6,99)*1,'Data eshop'!D:T,10,FALSE),DATA!O:P,2,FALSE)))","v":""},"",{"$f":"IF(A126=\"\",\"\",IF(VLOOKUP(MID(A126,6,99)*1,'Data eshop'!D:W,18,FALSE)=0,\"\",VLOOKUP(MID(A126,6,99)*1,'Data eshop'!D:W,18,FALSE)))","v":""},{"$f":"IF(A126=\"\",\"\",IF(VLOOKUP(MID(A126,6,99)*1,'Data eshop'!D:W,19,FALSE)=0,\"\",VLOOKUP(MID(A126,6,99)*1,'Data eshop'!D:W,19,FALSE)))","v":""},{"$f":"IF(A126=\"\",\"\",IF(VLOOKUP(MID(A126,6,99)*1,'Data eshop'!D:T,11,FALSE)=0,\"\",IF(OR(VLOOKUP(MID(A126,6,99)*1,'Data eshop'!D:T,11,FALSE)=\"Na dobírku\",VLOOKUP(MID(A126,6,99)*1,'Data eshop'!D:T,11,FALSE)=\"Na dobierku\",VLOOKUP(MID(A126,6,99)*1,'Data eshop'!D:T,11,FALSE)=\"Za pobraniem\"),VLOOKUP(MID(A126,6,99)*1,'Data eshop'!D:W,20,FALSE),\"\")))","v":""},{"$f":"IF(L126=\"\",\"\",IF(VLOOKUP(MID(A126,6,99)*1,'Data eshop'!D:T,10,FALSE)=0,\"\",IF(VLOOKUP(MID(A126,6,99)*1,'Data eshop'!D:T,10,FALSE)=\"Česká republika\",\"CZK\",IF(VLOOKUP(MID(A126,6,99)*1,'Data eshop'!D:T,10,FALSE)=\"Poland\",\"PLN\",IF(VLOOKUP(MID(A126,6,99)*1,'Data eshop'!D:T,10,FALSE)=\"Slovakia\",\"EUR\",\"\")))))","v":""},"",null,125,null,"Roluj nahoru, až uvidíš žlutou"]
[{"$f":"IFERROR(VLOOKUP(P127,Zakázky!P:Q,2,FALSE),\"\")","v":""},"",{"$f":"IF(A127=\"\",\"\",IF(VLOOKUP(MID(A127,6,99)*1,'Data eshop'!D:T,2,FALSE)=0,\"\",VLOOKUP(MID(A127,6,99)*1,'Data eshop'!D:T,2,FALSE)))","v":""},{"$f":"IF(A127=\"\",\"\",IF(VLOOKUP(MID(A127,6,99)*1,'Data eshop'!D:T,3,FALSE)=0,IF(VLOOKUP(MID(A127,6,99)*1,'Data eshop'!D:T,4,FALSE)=0,\"\",VLOOKUP(MID(A127,6,99)*1,'Data eshop'!D:T,4,FALSE)),VLOOKUP(MID(A127,6,99)*1,'Data eshop'!D:T,3,FALSE))&IF(VLOOKUP(MID(A127,6,99)*1,'Data eshop'!D:T,4,FALSE)=0,\"\",\" \"&VLOOKUP(MID(A127,6,99)*1,'Data eshop'!D:T,4,FALSE)))","v":""},{"$f":"IF(A127=\"\",\"\",IF(VLOOKUP(MID(A127,6,99)*1,'Data eshop'!D:T,5,FALSE)=0,\"\",VLOOKUP(MID(A127,6,99)*1,'Data eshop'!D:T,5,FALSE)))","v":""},{"$f":"IF(A127=\"\",\"\",IF(VLOOKUP(MID(A127,6,99)*1,'Data eshop'!D:T,6,FALSE)=0,\"\",VLOOKUP(MID(A127,6,99)*1,'Data eshop'!D:T,6,FALSE)))","v":""},{"$f":"IF(A127=\"\",\"\",IF(VLOOKUP(MID(A127,6,99)*1,'Data eshop'!D:T,7,FALSE)=0,\"\",VLOOKUP(MID(A127,6,99)*1,'Data eshop'!D:T,7,FALSE)))","v":""},{"$f":"IF(A127=\"\",\"\",IF(VLOOKUP(MID(A127,6,99)*1,'Data eshop'!D:T,10,FALSE)=0,\"\",VLOOKUP(VLOOKUP(MID(A127,6,99)*1,'Data eshop'!D:T,10,FALSE),DATA!O:P,2,FALSE)))","v":""},"",{"$f":"IF(A127=\"\",\"\",IF(VLOOKUP(MID(A127,6,99)*1,'Data eshop'!D:W,18,FALSE)=0,\"\",VLOOKUP(MID(A127,6,99)*1,'Data eshop'!D:W,18,FALSE)))","v":""},{"$f":"IF(A127=\"\",\"\",IF(VLOOKUP(MID(A127,6,99)*1,'Data eshop'!D:W,19,FALSE)=0,\"\",VLOOKUP(MID(A127,6,99)*1,'Data eshop'!D:W,19,FALSE)))","v":""},{"$f":"IF(A127=\"\",\"\",IF(VLOOKUP(MID(A127,6,99)*1,'Data eshop'!D:T,11,FALSE)=0,\"\",IF(OR(VLOOKUP(MID(A127,6,99)*1,'Data eshop'!D:T,11,FALSE)=\"Na dobírku\",VLOOKUP(MID(A127,6,99)*1,'Data eshop'!D:T,11,FALSE)=\"Na dobierku\",VLOOKUP(MID(A127,6,99)*1,'Data eshop'!D:T,11,FALSE)=\"Za pobraniem\"),VLOOKUP(MID(A127,6,99)*1,'Data eshop'!D:W,20,FALSE),\"\")))","v":""},{"$f":"IF(L127=\"\",\"\",IF(VLOOKUP(MID(A127,6,99)*1,'Data eshop'!D:T,10,FALSE)=0,\"\",IF(VLOOKUP(MID(A127,6,99)*1,'Data eshop'!D:T,10,FALSE)=\"Česká republika\",\"CZK\",IF(VLOOKUP(MID(A127,6,99)*1,'Data eshop'!D:T,10,FALSE)=\"Poland\",\"PLN\",IF(VLOOKUP(MID(A127,6,99)*1,'Data eshop'!D:T,10,FALSE)=\"Slovakia\",\"EUR\",\"\")))))","v":""},"",null,126]
[{"$f":"IFERROR(VLOOKUP(P128,Zakázky!P:Q,2,FALSE),\"\")","v":""},"",{"$f":"IF(A128=\"\",\"\",IF(VLOOKUP(MID(A128,6,99)*1,'Data eshop'!D:T,2,FALSE)=0,\"\",VLOOKUP(MID(A128,6,99)*1,'Data eshop'!D:T,2,FALSE)))","v":""},{"$f":"IF(A128=\"\",\"\",IF(VLOOKUP(MID(A128,6,99)*1,'Data eshop'!D:T,3,FALSE)=0,IF(VLOOKUP(MID(A128,6,99)*1,'Data eshop'!D:T,4,FALSE)=0,\"\",VLOOKUP(MID(A128,6,99)*1,'Data eshop'!D:T,4,FALSE)),VLOOKUP(MID(A128,6,99)*1,'Data eshop'!D:T,3,FALSE))&IF(VLOOKUP(MID(A128,6,99)*1,'Data eshop'!D:T,4,FALSE)=0,\"\",\" \"&VLOOKUP(MID(A128,6,99)*1,'Data eshop'!D:T,4,FALSE)))","v":""},{"$f":"IF(A128=\"\",\"\",IF(VLOOKUP(MID(A128,6,99)*1,'Data eshop'!D:T,5,FALSE)=0,\"\",VLOOKUP(MID(A128,6,99)*1,'Data eshop'!D:T,5,FALSE)))","v":""},{"$f":"IF(A128=\"\",\"\",IF(VLOOKUP(MID(A128,6,99)*1,'Data eshop'!D:T,6,FALSE)=0,\"\",VLOOKUP(MID(A128,6,99)*1,'Data eshop'!D:T,6,FALSE)))","v":""},{"$f":"IF(A128=\"\",\"\",IF(VLOOKUP(MID(A128,6,99)*1,'Data eshop'!D:T,7,FALSE)=0,\"\",VLOOKUP(MID(A128,6,99)*1,'Data eshop'!D:T,7,FALSE)))","v":""},{"$f":"IF(A128=\"\",\"\",IF(VLOOKUP(MID(A128,6,99)*1,'Data eshop'!D:T,10,FALSE)=0,\"\",VLOOKUP(VLOOKUP(MID(A128,6,99)*1,'Data eshop'!D:T,10,FALSE),DATA!O:P,2,FALSE)))","v":""},"",{"$f":"IF(A128=\"\",\"\",IF(VLOOKUP(MID(A128,6,99)*1,'Data eshop'!D:W,18,FALSE)=0,\"\",VLOOKUP(MID(A128,6,99)*1,'Data eshop'!D:W,18,FALSE)))","v":""},{"$f":"IF(A128=\"\",\"\",IF(VLOOKUP(MID(A128,6,99)*1,'Data eshop'!D:W,19,FALSE)=0,\"\",VLOOKUP(MID(A128,6,99)*1,'Data eshop'!D:W,19,FALSE)))","v":""},{"$f":"IF(A128=\"\",\"\",IF(VLOOKUP(MID(A128,6,99)*1,'Data eshop'!D:T,11,FALSE)=0,\"\",IF(OR(VLOOKUP(MID(A128,6,99)*1,'Data eshop'!D:T,11,FALSE)=\"Na dobírku\",VLOOKUP(MID(A128,6,99)*1,'Data eshop'!D:T,11,FALSE)=\"Na dobierku\",VLOOKUP(MID(A128,6,99)*1,'Data eshop'!D:T,11,FALSE)=\"Za pobraniem\"),VLOOKUP(MID(A128,6,99)*1,'Data eshop'!D:W,20,FALSE),\"\")))","v":""},{"$f":"IF(L128=\"\",\"\",IF(VLOOKUP(MID(A128,6,99)*1,'Data eshop'!D:T,10,FALSE)=0,\"\",IF(VLOOKUP(MID(A128,6,99)*1,'Data eshop'!D:T,10,FALSE)=\"Česká republika\",\"CZK\",IF(VLOOKUP(MID(A128,6,99)*1,'Data eshop'!D:T,10,FALSE)=\"Poland\",\"PLN\",IF(VLOOKUP(MID(A128,6,99)*1,'Data eshop'!D:T,10,FALSE)=\"Slovakia\",\"EUR\",\"\")))))","v":""},"",null,127]
[{"$f":"IFERROR(VLOOKUP(P129,Zakázky!P:Q,2,FALSE),\"\")","v":""},"",{"$f":"IF(A129=\"\",\"\",IF(VLOOKUP(MID(A129,6,99)*1,'Data eshop'!D:T,2,FALSE)=0,\"\",VLOOKUP(MID(A129,6,99)*1,'Data eshop'!D:T,2,FALSE)))","v":""},{"$f":"IF(A129=\"\",\"\",IF(VLOOKUP(MID(A129,6,99)*1,'Data eshop'!D:T,3,FALSE)=0,IF(VLOOKUP(MID(A129,6,99)*1,'Data eshop'!D:T,4,FALSE)=0,\"\",VLOOKUP(MID(A129,6,99)*1,'Data eshop'!D:T,4,FALSE)),VLOOKUP(MID(A129,6,99)*1,'Data eshop'!D:T,3,FALSE))&IF(VLOOKUP(MID(A129,6,99)*1,'Data eshop'!D:T,4,FALSE)=0,\"\",\" \"&VLOOKUP(MID(A129,6,99)*1,'Data eshop'!D:T,4,FALSE)))","v":""},{"$f":"IF(A129=\"\",\"\",IF(VLOOKUP(MID(A129,6,99)*1,'Data eshop'!D:T,5,FALSE)=0,\"\",VLOOKUP(MID(A129,6,99)*1,'Data eshop'!D:T,5,FALSE)))","v":""},{"$f":"IF(A129=\"\",\"\",IF(VLOOKUP(MID(A129,6,99)*1,'Data eshop'!D:T,6,FALSE)=0,\"\",VLOOKUP(MID(A129,6,99)*1,'Data eshop'!D:T,6,FALSE)))","v":""},{"$f":"IF(A129=\"\",\"\",IF(VLOOKUP(MID(A129,6,99)*1,'Data eshop'!D:T,7,FALSE)=0,\"\",VLOOKUP(MID(A129,6,99)*1,'Data eshop'!D:T,7,FALSE)))","v":""},{"$f":"IF(A129=\"\",\"\",IF(VLOOKUP(MID(A129,6,99)*1,'Data eshop'!D:T,10,FALSE)=0,\"\",VLOOKUP(VLOOKUP(MID(A129,6,99)*1,'Data eshop'!D:T,10,FALSE),DATA!O:P,2,FALSE)))","v":""},"",{"$f":"IF(A129=\"\",\"\",IF(VLOOKUP(MID(A129,6,99)*1,'Data eshop'!D:W,18,FALSE)=0,\"\",VLOOKUP(MID(A129,6,99)*1,'Data eshop'!D:W,18,FALSE)))","v":""},{"$f":"IF(A129=\"\",\"\",IF(VLOOKUP(MID(A129,6,99)*1,'Data eshop'!D:W,19,FALSE)=0,\"\",VLOOKUP(MID(A129,6,99)*1,'Data eshop'!D:W,19,FALSE)))","v":""},{"$f":"IF(A129=\"\",\"\",IF(VLOOKUP(MID(A129,6,99)*1,'Data eshop'!D:T,11,FALSE)=0,\"\",IF(OR(VLOOKUP(MID(A129,6,99)*1,'Data eshop'!D:T,11,FALSE)=\"Na dobírku\",VLOOKUP(MID(A129,6,99)*1,'Data eshop'!D:T,11,FALSE)=\"Na dobierku\",VLOOKUP(MID(A129,6,99)*1,'Data eshop'!D:T,11,FALSE)=\"Za pobraniem\"),VLOOKUP(MID(A129,6,99)*1,'Data eshop'!D:W,20,FALSE),\"\")))","v":""},{"$f":"IF(L129=\"\",\"\",IF(VLOOKUP(MID(A129,6,99)*1,'Data eshop'!D:T,10,FALSE)=0,\"\",IF(VLOOKUP(MID(A129,6,99)*1,'Data eshop'!D:T,10,FALSE)=\"Česká republika\",\"CZK\",IF(VLOOKUP(MID(A129,6,99)*1,'Data eshop'!D:T,10,FALSE)=\"Poland\",\"PLN\",IF(VLOOKUP(MID(A129,6,99)*1,'Data eshop'!D:T,10,FALSE)=\"Slovakia\",\"EUR\",\"\")))))","v":""},"",null,128]
[{"$f":"IFERROR(VLOOKUP(P130,Zakázky!P:Q,2,FALSE),\"\")","v":""},"",{"$f":"IF(A130=\"\",\"\",IF(VLOOKUP(MID(A130,6,99)*1,'Data eshop'!D:T,2,FALSE)=0,\"\",VLOOKUP(MID(A130,6,99)*1,'Data eshop'!D:T,2,FALSE)))","v":""},{"$f":"IF(A130=\"\",\"\",IF(VLOOKUP(MID(A130,6,99)*1,'Data eshop'!D:T,3,FALSE)=0,IF(VLOOKUP(MID(A130,6,99)*1,'Data eshop'!D:T,4,FALSE)=0,\"\",VLOOKUP(MID(A130,6,99)*1,'Data eshop'!D:T,4,FALSE)),VLOOKUP(MID(A130,6,99)*1,'Data eshop'!D:T,3,FALSE))&IF(VLOOKUP(MID(A130,6,99)*1,'Data eshop'!D:T,4,FALSE)=0,\"\",\" \"&VLOOKUP(MID(A130,6,99)*1,'Data eshop'!D:T,4,FALSE)))","v":""},{"$f":"IF(A130=\"\",\"\",IF(VLOOKUP(MID(A130,6,99)*1,'Data eshop'!D:T,5,FALSE)=0,\"\",VLOOKUP(MID(A130,6,99)*1,'Data eshop'!D:T,5,FALSE)))","v":""},{"$f":"IF(A130=\"\",\"\",IF(VLOOKUP(MID(A130,6,99)*1,'Data eshop'!D:T,6,FALSE)=0,\"\",VLOOKUP(MID(A130,6,99)*1,'Data eshop'!D:T,6,FALSE)))","v":""},{"$f":"IF(A130=\"\",\"\",IF(VLOOKUP(MID(A130,6,99)*1,'Data eshop'!D:T,7,FALSE)=0,\"\",VLOOKUP(MID(A130,6,99)*1,'Data eshop'!D:T,7,FALSE)))","v":""},{"$f":"IF(A130=\"\",\"\",IF(VLOOKUP(MID(A130,6,99)*1,'Data eshop'!D:T,10,FALSE)=0,\"\",VLOOKUP(VLOOKUP(MID(A130,6,99)*1,'Data eshop'!D:T,10,FALSE),DATA!O:P,2,FALSE)))","v":""},"",{"$f":"IF(A130=\"\",\"\",IF(VLOOKUP(MID(A130,6,99)*1,'Data eshop'!D:W,18,FALSE)=0,\"\",VLOOKUP(MID(A130,6,99)*1,'Data eshop'!D:W,18,FALSE)))","v":""},{"$f":"IF(A130=\"\",\"\",IF(VLOOKUP(MID(A130,6,99)*1,'Data eshop'!D:W,19,FALSE)=0,\"\",VLOOKUP(MID(A130,6,99)*1,'Data eshop'!D:W,19,FALSE)))","v":""},{"$f":"IF(A130=\"\",\"\",IF(VLOOKUP(MID(A130,6,99)*1,'Data eshop'!D:T,11,FALSE)=0,\"\",IF(OR(VLOOKUP(MID(A130,6,99)*1,'Data eshop'!D:T,11,FALSE)=\"Na dobírku\",VLOOKUP(MID(A130,6,99)*1,'Data eshop'!D:T,11,FALSE)=\"Na dobierku\",VLOOKUP(MID(A130,6,99)*1,'Data eshop'!D:T,11,FALSE)=\"Za pobraniem\"),VLOOKUP(MID(A130,6,99)*1,'Data eshop'!D:W,20,FALSE),\"\")))","v":""},{"$f":"IF(L130=\"\",\"\",IF(VLOOKUP(MID(A130,6,99)*1,'Data eshop'!D:T,10,FALSE)=0,\"\",IF(VLOOKUP(MID(A130,6,99)*1,'Data eshop'!D:T,10,FALSE)=\"Česká republika\",\"CZK\",IF(VLOOKUP(MID(A130,6,99)*1,'Data eshop'!D:T,10,FALSE)=\"Poland\",\"PLN\",IF(VLOOKUP(MID(A130,6,99)*1,'Data eshop'!D:T,10,FALSE)=\"Slovakia\",\"EUR\",\"\")))))","v":""},"",null,129,null,"Roluj nahoru, až uvidíš žlutou"]
[{"$f":"IFERROR(VLOOKUP(P131,Zakázky!P:Q,2,FALSE),\"\")","v":""},{"$f":"IF(A131=\"\",\"\",40054 )","v":""},{"$f":"IF(A131=\"\",\"\",IF(VLOOKUP(MID(A131,6,99)*1,'Data eshop'!D:T,2,FALSE)=0,\"\",VLOOKUP(MID(A131,6,99)*1,'Data eshop'!D:T,2,FALSE)))","v":""},{"$f":"IF(A131=\"\",\"\",IF(VLOOKUP(MID(A131,6,99)*1,'Data eshop'!D:T,3,FALSE)=0,IF(VLOOKUP(MID(A131,6,99)*1,'Data eshop'!D:T,4,FALSE)=0,\"\",VLOOKUP(MID(A131,6,99)*1,'Data eshop'!D:T,4,FALSE)),VLOOKUP(MID(A131,6,99)*1,'Data eshop'!D:T,3,FALSE))&IF(VLOOKUP(MID(A131,6,99)*1,'Data eshop'!D:T,4,FALSE)=0,\"\",\" \"&VLOOKUP(MID(A131,6,99)*1,'Data eshop'!D:T,4,FALSE)))","v":""},{"$f":"IF(A131=\"\",\"\",IF(VLOOKUP(MID(A131,6,99)*1,'Data eshop'!D:T,5,FALSE)=0,\"\",VLOOKUP(MID(A131,6,99)*1,'Data eshop'!D:T,5,FALSE)))","v":""},{"$f":"IF(A131=\"\",\"\",IF(VLOOKUP(MID(A131,6,99)*1,'Data eshop'!D:T,6,FALSE)=0,\"\",VLOOKUP(MID(A131,6,99)*1,'Data eshop'!D:T,6,FALSE)))","v":""},{"$f":"IF(A131=\"\",\"\",IF(VLOOKUP(MID(A131,6,99)*1,'Data eshop'!D:T,7,FALSE)=0,\"\",VLOOKUP(MID(A131,6,99)*1,'Data eshop'!D:T,7,FALSE)))","v":""},{"$f":"IF(A131=\"\",\"\",IF(VLOOKUP(MID(A131,6,99)*1,'Data eshop'!D:T,10,FALSE)=0,\"\",VLOOKUP(VLOOKUP(MID(A131,6,99)*1,'Data eshop'!D:T,10,FALSE),DATA!O:P,2,FALSE)))","v":""},{"$f":"IF(J131=\"\",\"\",J131)","v":""},{"$f":"IF(A131=\"\",\"\",IF(VLOOKUP(MID(A131,6,99)*1,'Data eshop'!D:W,18,FALSE)=0,\"\",VLOOKUP(MID(A131,6,99)*1,'Data eshop'!D:W,18,FALSE)))","v":""},{"$f":"IF(A131=\"\",\"\",IF(VLOOKUP(MID(A131,6,99)*1,'Data eshop'!D:W,19,FALSE)=0,\"\",VLOOKUP(MID(A131,6,99)*1,'Data eshop'!D:W,19,FALSE)))","v":""},{"$f":"IF(A131=\"\",\"\",IF(VLOOKUP(MID(A131,6,99)*1,'Data eshop'!D:T,11,FALSE)=0,\"\",IF(OR(VLOOKUP(MID(A131,6,99)*1,'Data eshop'!D:T,11,FALSE)=\"Na dobírku\",VLOOKUP(MID(A131,6,99)*1,'Data eshop'!D:T,11,FALSE)=\"Na dobierku\",VLOOKUP(MID(A131,6,99)*1,'Data eshop'!D:T,11,FALSE)=\"Za pobraniem\"),VLOOKUP(MID(A131,6,99)*1,'Data eshop'!D:W,20,FALSE),\"\")))","v":""},{"$f":"IF(L131=\"\",\"\",IF(VLOOKUP(MID(A131,6,99)*1,'Data eshop'!D:T,10,FALSE)=0,\"\",IF(VLOOKUP(MID(A131,6,99)*1,'Data eshop'!D:T,10,FALSE)=\"Česká republika\",\"CZK\",IF(VLOOKUP(MID(A131,6,99)*1,'Data eshop'!D:T,10,FALSE)=\"Poland\",\"PLN\",IF(VLOOKUP(MID(A131,6,99)*1,'Data eshop'!D:T,10,FALSE)=\"Slovakia\",\"EUR\",\"\")))))","v":""},{"$f":"IF(L131=\"\",\"\",0)","v":""},null,130]
[{"$f":"IFERROR(VLOOKUP(P132,Zakázky!P:Q,2,FALSE),\"\")","v":""},"",{"$f":"IF(A132=\"\",\"\",IF(VLOOKUP(MID(A132,6,99)*1,'Data eshop'!D:T,2,FALSE)=0,\"\",VLOOKUP(MID(A132,6,99)*1,'Data eshop'!D:T,2,FALSE)))","v":""},{"$f":"IF(A132=\"\",\"\",IF(VLOOKUP(MID(A132,6,99)*1,'Data eshop'!D:T,3,FALSE)=0,IF(VLOOKUP(MID(A132,6,99)*1,'Data eshop'!D:T,4,FALSE)=0,\"\",VLOOKUP(MID(A132,6,99)*1,'Data eshop'!D:T,4,FALSE)),VLOOKUP(MID(A132,6,99)*1,'Data eshop'!D:T,3,FALSE))&IF(VLOOKUP(MID(A132,6,99)*1,'Data eshop'!D:T,4,FALSE)=0,\"\",\" \"&VLOOKUP(MID(A132,6,99)*1,'Data eshop'!D:T,4,FALSE)))","v":""},{"$f":"IF(A132=\"\",\"\",IF(VLOOKUP(MID(A132,6,99)*1,'Data eshop'!D:T,5,FALSE)=0,\"\",VLOOKUP(MID(A132,6,99)*1,'Data eshop'!D:T,5,FALSE)))","v":""},{"$f":"IF(A132=\"\",\"\",IF(VLOOKUP(MID(A132,6,99)*1,'Data eshop'!D:T,6,FALSE)=0,\"\",VLOOKUP(MID(A132,6,99)*1,'Data eshop'!D:T,6,FALSE)))","v":""},{"$f":"IF(A132=\"\",\"\",IF(VLOOKUP(MID(A132,6,99)*1,'Data eshop'!D:T,7,FALSE)=0,\"\",VLOOKUP(MID(A132,6,99)*1,'Data eshop'!D:T,7,FALSE)))","v":""},{"$f":"IF(A132=\"\",\"\",IF(VLOOKUP(MID(A132,6,99)*1,'Data eshop'!D:T,10,FALSE)=0,\"\",VLOOKUP(VLOOKUP(MID(A132,6,99)*1,'Data eshop'!D:T,10,FALSE),DATA!O:P,2,FALSE)))","v":""},"",{"$f":"IF(A132=\"\",\"\",IF(VLOOKUP(MID(A132,6,99)*1,'Data eshop'!D:W,18,FALSE)=0,\"\",VLOOKUP(MID(A132,6,99)*1,'Data eshop'!D:W,18,FALSE)))","v":""},{"$f":"IF(A132=\"\",\"\",IF(VLOOKUP(MID(A132,6,99)*1,'Data eshop'!D:W,19,FALSE)=0,\"\",VLOOKUP(MID(A132,6,99)*1,'Data eshop'!D:W,19,FALSE)))","v":""},{"$f":"IF(A132=\"\",\"\",IF(VLOOKUP(MID(A132,6,99)*1,'Data eshop'!D:T,11,FALSE)=0,\"\",IF(OR(VLOOKUP(MID(A132,6,99)*1,'Data eshop'!D:T,11,FALSE)=\"Na dobírku\",VLOOKUP(MID(A132,6,99)*1,'Data eshop'!D:T,11,FALSE)=\"Na dobierku\",VLOOKUP(MID(A132,6,99)*1,'Data eshop'!D:T,11,FALSE)=\"Za pobraniem\"),VLOOKUP(MID(A132,6,99)*1,'Data eshop'!D:W,20,FALSE),\"\")))","v":""},{"$f":"IF(L132=\"\",\"\",IF(VLOOKUP(MID(A132,6,99)*1,'Data eshop'!D:T,10,FALSE)=0,\"\",IF(VLOOKUP(MID(A132,6,99)*1,'Data eshop'!D:T,10,FALSE)=\"Česká republika\",\"CZK\",IF(VLOOKUP(MID(A132,6,99)*1,'Data eshop'!D:T,10,FALSE)=\"Poland\",\"PLN\",IF(VLOOKUP(MID(A132,6,99)*1,'Data eshop'!D:T,10,FALSE)=\"Slovakia\",\"EUR\",\"\")))))","v":""},"",null,131]
[{"$f":"IFERROR(VLOOKUP(P133,Zakázky!P:Q,2,FALSE),\"\")","v":""},"",{"$f":"IF(A133=\"\",\"\",IF(VLOOKUP(MID(A133,6,99)*1,'Data eshop'!D:T,2,FALSE)=0,\"\",VLOOKUP(MID(A133,6,99)*1,'Data eshop'!D:T,2,FALSE)))","v":""},{"$f":"IF(A133=\"\",\"\",IF(VLOOKUP(MID(A133,6,99)*1,'Data eshop'!D:T,3,FALSE)=0,IF(VLOOKUP(MID(A133,6,99)*1,'Data eshop'!D:T,4,FALSE)=0,\"\",VLOOKUP(MID(A133,6,99)*1,'Data eshop'!D:T,4,FALSE)),VLOOKUP(MID(A133,6,99)*1,'Data eshop'!D:T,3,FALSE))&IF(VLOOKUP(MID(A133,6,99)*1,'Data eshop'!D:T,4,FALSE)=0,\"\",\" \"&VLOOKUP(MID(A133,6,99)*1,'Data eshop'!D:T,4,FALSE)))","v":""},{"$f":"IF(A133=\"\",\"\",IF(VLOOKUP(MID(A133,6,99)*1,'Data eshop'!D:T,5,FALSE)=0,\"\",VLOOKUP(MID(A133,6,99)*1,'Data eshop'!D:T,5,FALSE)))","v":""},{"$f":"IF(A133=\"\",\"\",IF(VLOOKUP(MID(A133,6,99)*1,'Data eshop'!D:T,6,FALSE)=0,\"\",VLOOKUP(MID(A133,6,99)*1,'Data eshop'!D:T,6,FALSE)))","v":""},{"$f":"IF(A133=\"\",\"\",IF(VLOOKUP(MID(A133,6,99)*1,'Data eshop'!D:T,7,FALSE)=0,\"\",VLOOKUP(MID(A133,6,99)*1,'Data eshop'!D:T,7,FALSE)))","v":""},{"$f":"IF(A133=\"\",\"\",IF(VLOOKUP(MID(A133,6,99)*1,'Data eshop'!D:T,10,FALSE)=0,\"\",VLOOKUP(VLOOKUP(MID(A133,6,99)*1,'Data eshop'!D:T,10,FALSE),DATA!O:P,2,FALSE)))","v":""},"",{"$f":"IF(A133=\"\",\"\",IF(VLOOKUP(MID(A133,6,99)*1,'Data eshop'!D:W,18,FALSE)=0,\"\",VLOOKUP(MID(A133,6,99)*1,'Data eshop'!D:W,18,FALSE)))","v":""},{"$f":"IF(A133=\"\",\"\",IF(VLOOKUP(MID(A133,6,99)*1,'Data eshop'!D:W,19,FALSE)=0,\"\",VLOOKUP(MID(A133,6,99)*1,'Data eshop'!D:W,19,FALSE)))","v":""},{"$f":"IF(A133=\"\",\"\",IF(VLOOKUP(MID(A133,6,99)*1,'Data eshop'!D:T,11,FALSE)=0,\"\",IF(OR(VLOOKUP(MID(A133,6,99)*1,'Data eshop'!D:T,11,FALSE)=\"Na dobírku\",VLOOKUP(MID(A133,6,99)*1,'Data eshop'!D:T,11,FALSE)=\"Na dobierku\",VLOOKUP(MID(A133,6,99)*1,'Data eshop'!D:T,11,FALSE)=\"Za pobraniem\"),VLOOKUP(MID(A133,6,99)*1,'Data eshop'!D:W,20,FALSE),\"\")))","v":""},{"$f":"IF(L133=\"\",\"\",IF(VLOOKUP(MID(A133,6,99)*1,'Data eshop'!D:T,10,FALSE)=0,\"\",IF(VLOOKUP(MID(A133,6,99)*1,'Data eshop'!D:T,10,FALSE)=\"Česká republika\",\"CZK\",IF(VLOOKUP(MID(A133,6,99)*1,'Data eshop'!D:T,10,FALSE)=\"Poland\",\"PLN\",IF(VLOOKUP(MID(A133,6,99)*1,'Data eshop'!D:T,10,FALSE)=\"Slovakia\",\"EUR\",\"\")))))","v":""},"",null,132]
[{"$f":"IFERROR(VLOOKUP(P134,Zakázky!P:Q,2,FALSE),\"\")","v":""},"",{"$f":"IF(A134=\"\",\"\",IF(VLOOKUP(MID(A134,6,99)*1,'Data eshop'!D:T,2,FALSE)=0,\"\",VLOOKUP(MID(A134,6,99)*1,'Data eshop'!D:T,2,FALSE)))","v":""},{"$f":"IF(A134=\"\",\"\",IF(VLOOKUP(MID(A134,6,99)*1,'Data eshop'!D:T,3,FALSE)=0,IF(VLOOKUP(MID(A134,6,99)*1,'Data eshop'!D:T,4,FALSE)=0,\"\",VLOOKUP(MID(A134,6,99)*1,'Data eshop'!D:T,4,FALSE)),VLOOKUP(MID(A134,6,99)*1,'Data eshop'!D:T,3,FALSE))&IF(VLOOKUP(MID(A134,6,99)*1,'Data eshop'!D:T,4,FALSE)=0,\"\",\" \"&VLOOKUP(MID(A134,6,99)*1,'Data eshop'!D:T,4,FALSE)))","v":""},{"$f":"IF(A134=\"\",\"\",IF(VLOOKUP(MID(A134,6,99)*1,'Data eshop'!D:T,5,FALSE)=0,\"\",VLOOKUP(MID(A134,6,99)*1,'Data eshop'!D:T,5,FALSE)))","v":""},{"$f":"IF(A134=\"\",\"\",IF(VLOOKUP(MID(A134,6,99)*1,'Data eshop'!D:T,6,FALSE)=0,\"\",VLOOKUP(MID(A134,6,99)*1,'Data eshop'!D:T,6,FALSE)))","v":""},{"$f":"IF(A134=\"\",\"\",IF(VLOOKUP(MID(A134,6,99)*1,'Data eshop'!D:T,7,FALSE)=0,\"\",VLOOKUP(MID(A134,6,99)*1,'Data eshop'!D:T,7,FALSE)))","v":""},{"$f":"IF(A134=\"\",\"\",IF(VLOOKUP(MID(A134,6,99)*1,'Data eshop'!D:T,10,FALSE)=0,\"\",VLOOKUP(VLOOKUP(MID(A134,6,99)*1,'Data eshop'!D:T,10,FALSE),DATA!O:P,2,FALSE)))","v":""},"",{"$f":"IF(A134=\"\",\"\",IF(VLOOKUP(MID(A134,6,99)*1,'Data eshop'!D:W,18,FALSE)=0,\"\",VLOOKUP(MID(A134,6,99)*1,'Data eshop'!D:W,18,FALSE)))","v":""},{"$f":"IF(A134=\"\",\"\",IF(VLOOKUP(MID(A134,6,99)*1,'Data eshop'!D:W,19,FALSE)=0,\"\",VLOOKUP(MID(A134,6,99)*1,'Data eshop'!D:W,19,FALSE)))","v":""},{"$f":"IF(A134=\"\",\"\",IF(VLOOKUP(MID(A134,6,99)*1,'Data eshop'!D:T,11,FALSE)=0,\"\",IF(OR(VLOOKUP(MID(A134,6,99)*1,'Data eshop'!D:T,11,FALSE)=\"Na dobírku\",VLOOKUP(MID(A134,6,99)*1,'Data eshop'!D:T,11,FALSE)=\"Na dobierku\",VLOOKUP(MID(A134,6,99)*1,'Data eshop'!D:T,11,FALSE)=\"Za pobraniem\"),VLOOKUP(MID(A134,6,99)*1,'Data eshop'!D:W,20,FALSE),\"\")))","v":""},{"$f":"IF(L134=\"\",\"\",IF(VLOOKUP(MID(A134,6,99)*1,'Data eshop'!D:T,10,FALSE)=0,\"\",IF(VLOOKUP(MID(A134,6,99)*1,'Data eshop'!D:T,10,FALSE)=\"Česká republika\",\"CZK\",IF(VLOOKUP(MID(A134,6,99)*1,'Data eshop'!D:T,10,FALSE)=\"Poland\",\"PLN\",IF(VLOOKUP(MID(A134,6,99)*1,'Data eshop'!D:T,10,FALSE)=\"Slovakia\",\"EUR\",\"\")))))","v":""},"",null,133,null,"Roluj nahoru, až uvidíš žlutou"]
[{"$f":"IFERROR(VLOOKUP(P135,Zakázky!P:Q,2,FALSE),\"\")","v":""},"",{"$f":"IF(A135=\"\",\"\",IF(VLOOKUP(MID(A135,6,99)*1,'Data eshop'!D:T,2,FALSE)=0,\"\",VLOOKUP(MID(A135,6,99)*1,'Data eshop'!D:T,2,FALSE)))","v":""},{"$f":"IF(A135=\"\",\"\",IF(VLOOKUP(MID(A135,6,99)*1,'Data eshop'!D:T,3,FALSE)=0,IF(VLOOKUP(MID(A135,6,99)*1,'Data eshop'!D:T,4,FALSE)=0,\"\",VLOOKUP(MID(A135,6,99)*1,'Data eshop'!D:T,4,FALSE)),VLOOKUP(MID(A135,6,99)*1,'Data eshop'!D:T,3,FALSE))&IF(VLOOKUP(MID(A135,6,99)*1,'Data eshop'!D:T,4,FALSE)=0,\"\",\" \"&VLOOKUP(MID(A135,6,99)*1,'Data eshop'!D:T,4,FALSE)))","v":""},{"$f":"IF(A135=\"\",\"\",IF(VLOOKUP(MID(A135,6,99)*1,'Data eshop'!D:T,5,FALSE)=0,\"\",VLOOKUP(MID(A135,6,99)*1,'Data eshop'!D:T,5,FALSE)))","v":""},{"$f":"IF(A135=\"\",\"\",IF(VLOOKUP(MID(A135,6,99)*1,'Data eshop'!D:T,6,FALSE)=0,\"\",VLOOKUP(MID(A135,6,99)*1,'Data eshop'!D:T,6,FALSE)))","v":""},{"$f":"IF(A135=\"\",\"\",IF(VLOOKUP(MID(A135,6,99)*1,'Data eshop'!D:T,7,FALSE)=0,\"\",VLOOKUP(MID(A135,6,99)*1,'Data eshop'!D:T,7,FALSE)))","v":""},{"$f":"IF(A135=\"\",\"\",IF(VLOOKUP(MID(A135,6,99)*1,'Data eshop'!D:T,10,FALSE)=0,\"\",VLOOKUP(VLOOKUP(MID(A135,6,99)*1,'Data eshop'!D:T,10,FALSE),DATA!O:P,2,FALSE)))","v":""},"",{"$f":"IF(A135=\"\",\"\",IF(VLOOKUP(MID(A135,6,99)*1,'Data eshop'!D:W,18,FALSE)=0,\"\",VLOOKUP(MID(A135,6,99)*1,'Data eshop'!D:W,18,FALSE)))","v":""},{"$f":"IF(A135=\"\",\"\",IF(VLOOKUP(MID(A135,6,99)*1,'Data eshop'!D:W,19,FALSE)=0,\"\",VLOOKUP(MID(A135,6,99)*1,'Data eshop'!D:W,19,FALSE)))","v":""},{"$f":"IF(A135=\"\",\"\",IF(VLOOKUP(MID(A135,6,99)*1,'Data eshop'!D:T,11,FALSE)=0,\"\",IF(OR(VLOOKUP(MID(A135,6,99)*1,'Data eshop'!D:T,11,FALSE)=\"Na dobírku\",VLOOKUP(MID(A135,6,99)*1,'Data eshop'!D:T,11,FALSE)=\"Na dobierku\",VLOOKUP(MID(A135,6,99)*1,'Data eshop'!D:T,11,FALSE)=\"Za pobraniem\"),VLOOKUP(MID(A135,6,99)*1,'Data eshop'!D:W,20,FALSE),\"\")))","v":""},{"$f":"IF(L135=\"\",\"\",IF(VLOOKUP(MID(A135,6,99)*1,'Data eshop'!D:T,10,FALSE)=0,\"\",IF(VLOOKUP(MID(A135,6,99)*1,'Data eshop'!D:T,10,FALSE)=\"Česká republika\",\"CZK\",IF(VLOOKUP(MID(A135,6,99)*1,'Data eshop'!D:T,10,FALSE)=\"Poland\",\"PLN\",IF(VLOOKUP(MID(A135,6,99)*1,'Data eshop'!D:T,10,FALSE)=\"Slovakia\",\"EUR\",\"\")))))","v":""},"",null,134]
[{"$f":"IFERROR(VLOOKUP(P136,Zakázky!P:Q,2,FALSE),\"\")","v":""},"",{"$f":"IF(A136=\"\",\"\",IF(VLOOKUP(MID(A136,6,99)*1,'Data eshop'!D:T,2,FALSE)=0,\"\",VLOOKUP(MID(A136,6,99)*1,'Data eshop'!D:T,2,FALSE)))","v":""},{"$f":"IF(A136=\"\",\"\",IF(VLOOKUP(MID(A136,6,99)*1,'Data eshop'!D:T,3,FALSE)=0,IF(VLOOKUP(MID(A136,6,99)*1,'Data eshop'!D:T,4,FALSE)=0,\"\",VLOOKUP(MID(A136,6,99)*1,'Data eshop'!D:T,4,FALSE)),VLOOKUP(MID(A136,6,99)*1,'Data eshop'!D:T,3,FALSE))&IF(VLOOKUP(MID(A136,6,99)*1,'Data eshop'!D:T,4,FALSE)=0,\"\",\" \"&VLOOKUP(MID(A136,6,99)*1,'Data eshop'!D:T,4,FALSE)))","v":""},{"$f":"IF(A136=\"\",\"\",IF(VLOOKUP(MID(A136,6,99)*1,'Data eshop'!D:T,5,FALSE)=0,\"\",VLOOKUP(MID(A136,6,99)*1,'Data eshop'!D:T,5,FALSE)))","v":""},{"$f":"IF(A136=\"\",\"\",IF(VLOOKUP(MID(A136,6,99)*1,'Data eshop'!D:T,6,FALSE)=0,\"\",VLOOKUP(MID(A136,6,99)*1,'Data eshop'!D:T,6,FALSE)))","v":""},{"$f":"IF(A136=\"\",\"\",IF(VLOOKUP(MID(A136,6,99)*1,'Data eshop'!D:T,7,FALSE)=0,\"\",VLOOKUP(MID(A136,6,99)*1,'Data eshop'!D:T,7,FALSE)))","v":""},{"$f":"IF(A136=\"\",\"\",IF(VLOOKUP(MID(A136,6,99)*1,'Data eshop'!D:T,10,FALSE)=0,\"\",VLOOKUP(VLOOKUP(MID(A136,6,99)*1,'Data eshop'!D:T,10,FALSE),DATA!O:P,2,FALSE)))","v":""},"",{"$f":"IF(A136=\"\",\"\",IF(VLOOKUP(MID(A136,6,99)*1,'Data eshop'!D:W,18,FALSE)=0,\"\",VLOOKUP(MID(A136,6,99)*1,'Data eshop'!D:W,18,FALSE)))","v":""},{"$f":"IF(A136=\"\",\"\",IF(VLOOKUP(MID(A136,6,99)*1,'Data eshop'!D:W,19,FALSE)=0,\"\",VLOOKUP(MID(A136,6,99)*1,'Data eshop'!D:W,19,FALSE)))","v":""},{"$f":"IF(A136=\"\",\"\",IF(VLOOKUP(MID(A136,6,99)*1,'Data eshop'!D:T,11,FALSE)=0,\"\",IF(OR(VLOOKUP(MID(A136,6,99)*1,'Data eshop'!D:T,11,FALSE)=\"Na dobírku\",VLOOKUP(MID(A136,6,99)*1,'Data eshop'!D:T,11,FALSE)=\"Na dobierku\",VLOOKUP(MID(A136,6,99)*1,'Data eshop'!D:T,11,FALSE)=\"Za pobraniem\"),VLOOKUP(MID(A136,6,99)*1,'Data eshop'!D:W,20,FALSE),\"\")))","v":""},{"$f":"IF(L136=\"\",\"\",IF(VLOOKUP(MID(A136,6,99)*1,'Data eshop'!D:T,10,FALSE)=0,\"\",IF(VLOOKUP(MID(A136,6,99)*1,'Data eshop'!D:T,10,FALSE)=\"Česká republika\",\"CZK\",IF(VLOOKUP(MID(A136,6,99)*1,'Data eshop'!D:T,10,FALSE)=\"Poland\",\"PLN\",IF(VLOOKUP(MID(A136,6,99)*1,'Data eshop'!D:T,10,FALSE)=\"Slovakia\",\"EUR\",\"\")))))","v":""},"",null,135]
[{"$f":"IFERROR(VLOOKUP(P137,Zakázky!P:Q,2,FALSE),\"\")","v":""},"",{"$f":"IF(A137=\"\",\"\",IF(VLOOKUP(MID(A137,6,99)*1,'Data eshop'!D:T,2,FALSE)=0,\"\",VLOOKUP(MID(A137,6,99)*1,'Data eshop'!D:T,2,FALSE)))","v":""},{"$f":"IF(A137=\"\",\"\",IF(VLOOKUP(MID(A137,6,99)*1,'Data eshop'!D:T,3,FALSE)=0,IF(VLOOKUP(MID(A137,6,99)*1,'Data eshop'!D:T,4,FALSE)=0,\"\",VLOOKUP(MID(A137,6,99)*1,'Data eshop'!D:T,4,FALSE)),VLOOKUP(MID(A137,6,99)*1,'Data eshop'!D:T,3,FALSE))&IF(VLOOKUP(MID(A137,6,99)*1,'Data eshop'!D:T,4,FALSE)=0,\"\",\" \"&VLOOKUP(MID(A137,6,99)*1,'Data eshop'!D:T,4,FALSE)))","v":""},{"$f":"IF(A137=\"\",\"\",IF(VLOOKUP(MID(A137,6,99)*1,'Data eshop'!D:T,5,FALSE)=0,\"\",VLOOKUP(MID(A137,6,99)*1,'Data eshop'!D:T,5,FALSE)))","v":""},{"$f":"IF(A137=\"\",\"\",IF(VLOOKUP(MID(A137,6,99)*1,'Data eshop'!D:T,6,FALSE)=0,\"\",VLOOKUP(MID(A137,6,99)*1,'Data eshop'!D:T,6,FALSE)))","v":""},{"$f":"IF(A137=\"\",\"\",IF(VLOOKUP(MID(A137,6,99)*1,'Data eshop'!D:T,7,FALSE)=0,\"\",VLOOKUP(MID(A137,6,99)*1,'Data eshop'!D:T,7,FALSE)))","v":""},{"$f":"IF(A137=\"\",\"\",IF(VLOOKUP(MID(A137,6,99)*1,'Data eshop'!D:T,10,FALSE)=0,\"\",VLOOKUP(VLOOKUP(MID(A137,6,99)*1,'Data eshop'!D:T,10,FALSE),DATA!O:P,2,FALSE)))","v":""},"",{"$f":"IF(A137=\"\",\"\",IF(VLOOKUP(MID(A137,6,99)*1,'Data eshop'!D:W,18,FALSE)=0,\"\",VLOOKUP(MID(A137,6,99)*1,'Data eshop'!D:W,18,FALSE)))","v":""},{"$f":"IF(A137=\"\",\"\",IF(VLOOKUP(MID(A137,6,99)*1,'Data eshop'!D:W,19,FALSE)=0,\"\",VLOOKUP(MID(A137,6,99)*1,'Data eshop'!D:W,19,FALSE)))","v":""},{"$f":"IF(A137=\"\",\"\",IF(VLOOKUP(MID(A137,6,99)*1,'Data eshop'!D:T,11,FALSE)=0,\"\",IF(OR(VLOOKUP(MID(A137,6,99)*1,'Data eshop'!D:T,11,FALSE)=\"Na dobírku\",VLOOKUP(MID(A137,6,99)*1,'Data eshop'!D:T,11,FALSE)=\"Na dobierku\",VLOOKUP(MID(A137,6,99)*1,'Data eshop'!D:T,11,FALSE)=\"Za pobraniem\"),VLOOKUP(MID(A137,6,99)*1,'Data eshop'!D:W,20,FALSE),\"\")))","v":""},{"$f":"IF(L137=\"\",\"\",IF(VLOOKUP(MID(A137,6,99)*1,'Data eshop'!D:T,10,FALSE)=0,\"\",IF(VLOOKUP(MID(A137,6,99)*1,'Data eshop'!D:T,10,FALSE)=\"Česká republika\",\"CZK\",IF(VLOOKUP(MID(A137,6,99)*1,'Data eshop'!D:T,10,FALSE)=\"Poland\",\"PLN\",IF(VLOOKUP(MID(A137,6,99)*1,'Data eshop'!D:T,10,FALSE)=\"Slovakia\",\"EUR\",\"\")))))","v":""},"",null,136]
[{"$f":"IFERROR(VLOOKUP(P138,Zakázky!P:Q,2,FALSE),\"\")","v":""},"",{"$f":"IF(A138=\"\",\"\",IF(VLOOKUP(MID(A138,6,99)*1,'Data eshop'!D:T,2,FALSE)=0,\"\",VLOOKUP(MID(A138,6,99)*1,'Data eshop'!D:T,2,FALSE)))","v":""},{"$f":"IF(A138=\"\",\"\",IF(VLOOKUP(MID(A138,6,99)*1,'Data eshop'!D:T,3,FALSE)=0,IF(VLOOKUP(MID(A138,6,99)*1,'Data eshop'!D:T,4,FALSE)=0,\"\",VLOOKUP(MID(A138,6,99)*1,'Data eshop'!D:T,4,FALSE)),VLOOKUP(MID(A138,6,99)*1,'Data eshop'!D:T,3,FALSE))&IF(VLOOKUP(MID(A138,6,99)*1,'Data eshop'!D:T,4,FALSE)=0,\"\",\" \"&VLOOKUP(MID(A138,6,99)*1,'Data eshop'!D:T,4,FALSE)))","v":""},{"$f":"IF(A138=\"\",\"\",IF(VLOOKUP(MID(A138,6,99)*1,'Data eshop'!D:T,5,FALSE)=0,\"\",VLOOKUP(MID(A138,6,99)*1,'Data eshop'!D:T,5,FALSE)))","v":""},{"$f":"IF(A138=\"\",\"\",IF(VLOOKUP(MID(A138,6,99)*1,'Data eshop'!D:T,6,FALSE)=0,\"\",VLOOKUP(MID(A138,6,99)*1,'Data eshop'!D:T,6,FALSE)))","v":""},{"$f":"IF(A138=\"\",\"\",IF(VLOOKUP(MID(A138,6,99)*1,'Data eshop'!D:T,7,FALSE)=0,\"\",VLOOKUP(MID(A138,6,99)*1,'Data eshop'!D:T,7,FALSE)))","v":""},{"$f":"IF(A138=\"\",\"\",IF(VLOOKUP(MID(A138,6,99)*1,'Data eshop'!D:T,10,FALSE)=0,\"\",VLOOKUP(VLOOKUP(MID(A138,6,99)*1,'Data eshop'!D:T,10,FALSE),DATA!O:P,2,FALSE)))","v":""},"",{"$f":"IF(A138=\"\",\"\",IF(VLOOKUP(MID(A138,6,99)*1,'Data eshop'!D:W,18,FALSE)=0,\"\",VLOOKUP(MID(A138,6,99)*1,'Data eshop'!D:W,18,FALSE)))","v":""},{"$f":"IF(A138=\"\",\"\",IF(VLOOKUP(MID(A138,6,99)*1,'Data eshop'!D:W,19,FALSE)=0,\"\",VLOOKUP(MID(A138,6,99)*1,'Data eshop'!D:W,19,FALSE)))","v":""},{"$f":"IF(A138=\"\",\"\",IF(VLOOKUP(MID(A138,6,99)*1,'Data eshop'!D:T,11,FALSE)=0,\"\",IF(OR(VLOOKUP(MID(A138,6,99)*1,'Data eshop'!D:T,11,FALSE)=\"Na dobírku\",VLOOKUP(MID(A138,6,99)*1,'Data eshop'!D:T,11,FALSE)=\"Na dobierku\",VLOOKUP(MID(A138,6,99)*1,'Data eshop'!D:T,11,FALSE)=\"Za pobraniem\"),VLOOKUP(MID(A138,6,99)*1,'Data eshop'!D:W,20,FALSE),\"\")))","v":""},{"$f":"IF(L138=\"\",\"\",IF(VLOOKUP(MID(A138,6,99)*1,'Data eshop'!D:T,10,FALSE)=0,\"\",IF(VLOOKUP(MID(A138,6,99)*1,'Data eshop'!D:T,10,FALSE)=\"Česká republika\",\"CZK\",IF(VLOOKUP(MID(A138,6,99)*1,'Data eshop'!D:T,10,FALSE)=\"Poland\",\"PLN\",IF(VLOOKUP(MID(A138,6,99)*1,'Data eshop'!D:T,10,FALSE)=\"Slovakia\",\"EUR\",\"\")))))","v":""},"",null,137,null,"Roluj nahoru, až uvidíš žlutou"]
[{"$f":"IFERROR(VLOOKUP(P139,Zakázky!P:Q,2,FALSE),\"\")","v":""},"",{"$f":"IF(A139=\"\",\"\",IF(VLOOKUP(MID(A139,6,99)*1,'Data eshop'!D:T,2,FALSE)=0,\"\",VLOOKUP(MID(A139,6,99)*1,'Data eshop'!D:T,2,FALSE)))","v":""},{"$f":"IF(A139=\"\",\"\",IF(VLOOKUP(MID(A139,6,99)*1,'Data eshop'!D:T,3,FALSE)=0,IF(VLOOKUP(MID(A139,6,99)*1,'Data eshop'!D:T,4,FALSE)=0,\"\",VLOOKUP(MID(A139,6,99)*1,'Data eshop'!D:T,4,FALSE)),VLOOKUP(MID(A139,6,99)*1,'Data eshop'!D:T,3,FALSE))&IF(VLOOKUP(MID(A139,6,99)*1,'Data eshop'!D:T,4,FALSE)=0,\"\",\" \"&VLOOKUP(MID(A139,6,99)*1,'Data eshop'!D:T,4,FALSE)))","v":""},{"$f":"IF(A139=\"\",\"\",IF(VLOOKUP(MID(A139,6,99)*1,'Data eshop'!D:T,5,FALSE)=0,\"\",VLOOKUP(MID(A139,6,99)*1,'Data eshop'!D:T,5,FALSE)))","v":""},{"$f":"IF(A139=\"\",\"\",IF(VLOOKUP(MID(A139,6,99)*1,'Data eshop'!D:T,6,FALSE)=0,\"\",VLOOKUP(MID(A139,6,99)*1,'Data eshop'!D:T,6,FALSE)))","v":""},{"$f":"IF(A139=\"\",\"\",IF(VLOOKUP(MID(A139,6,99)*1,'Data eshop'!D:T,7,FALSE)=0,\"\",VLOOKUP(MID(A139,6,99)*1,'Data eshop'!D:T,7,FALSE)))","v":""},{"$f":"IF(A139=\"\",\"\",IF(VLOOKUP(MID(A139,6,99)*1,'Data eshop'!D:T,10,FALSE)=0,\"\",VLOOKUP(VLOOKUP(MID(A139,6,99)*1,'Data eshop'!D:T,10,FALSE),DATA!O:P,2,FALSE)))","v":""},"",{"$f":"IF(A139=\"\",\"\",IF(VLOOKUP(MID(A139,6,99)*1,'Data eshop'!D:W,18,FALSE)=0,\"\",VLOOKUP(MID(A139,6,99)*1,'Data eshop'!D:W,18,FALSE)))","v":""},{"$f":"IF(A139=\"\",\"\",IF(VLOOKUP(MID(A139,6,99)*1,'Data eshop'!D:W,19,FALSE)=0,\"\",VLOOKUP(MID(A139,6,99)*1,'Data eshop'!D:W,19,FALSE)))","v":""},{"$f":"IF(A139=\"\",\"\",IF(VLOOKUP(MID(A139,6,99)*1,'Data eshop'!D:T,11,FALSE)=0,\"\",IF(OR(VLOOKUP(MID(A139,6,99)*1,'Data eshop'!D:T,11,FALSE)=\"Na dobírku\",VLOOKUP(MID(A139,6,99)*1,'Data eshop'!D:T,11,FALSE)=\"Na dobierku\",VLOOKUP(MID(A139,6,99)*1,'Data eshop'!D:T,11,FALSE)=\"Za pobraniem\"),VLOOKUP(MID(A139,6,99)*1,'Data eshop'!D:W,20,FALSE),\"\")))","v":""},{"$f":"IF(L139=\"\",\"\",IF(VLOOKUP(MID(A139,6,99)*1,'Data eshop'!D:T,10,FALSE)=0,\"\",IF(VLOOKUP(MID(A139,6,99)*1,'Data eshop'!D:T,10,FALSE)=\"Česká republika\",\"CZK\",IF(VLOOKUP(MID(A139,6,99)*1,'Data eshop'!D:T,10,FALSE)=\"Poland\",\"PLN\",IF(VLOOKUP(MID(A139,6,99)*1,'Data eshop'!D:T,10,FALSE)=\"Slovakia\",\"EUR\",\"\")))))","v":""},"",null,138]
[{"$f":"IFERROR(VLOOKUP(P140,Zakázky!P:Q,2,FALSE),\"\")","v":""},"",{"$f":"IF(A140=\"\",\"\",IF(VLOOKUP(MID(A140,6,99)*1,'Data eshop'!D:T,2,FALSE)=0,\"\",VLOOKUP(MID(A140,6,99)*1,'Data eshop'!D:T,2,FALSE)))","v":""},{"$f":"IF(A140=\"\",\"\",IF(VLOOKUP(MID(A140,6,99)*1,'Data eshop'!D:T,3,FALSE)=0,IF(VLOOKUP(MID(A140,6,99)*1,'Data eshop'!D:T,4,FALSE)=0,\"\",VLOOKUP(MID(A140,6,99)*1,'Data eshop'!D:T,4,FALSE)),VLOOKUP(MID(A140,6,99)*1,'Data eshop'!D:T,3,FALSE))&IF(VLOOKUP(MID(A140,6,99)*1,'Data eshop'!D:T,4,FALSE)=0,\"\",\" \"&VLOOKUP(MID(A140,6,99)*1,'Data eshop'!D:T,4,FALSE)))","v":""},{"$f":"IF(A140=\"\",\"\",IF(VLOOKUP(MID(A140,6,99)*1,'Data eshop'!D:T,5,FALSE)=0,\"\",VLOOKUP(MID(A140,6,99)*1,'Data eshop'!D:T,5,FALSE)))","v":""},{"$f":"IF(A140=\"\",\"\",IF(VLOOKUP(MID(A140,6,99)*1,'Data eshop'!D:T,6,FALSE)=0,\"\",VLOOKUP(MID(A140,6,99)*1,'Data eshop'!D:T,6,FALSE)))","v":""},{"$f":"IF(A140=\"\",\"\",IF(VLOOKUP(MID(A140,6,99)*1,'Data eshop'!D:T,7,FALSE)=0,\"\",VLOOKUP(MID(A140,6,99)*1,'Data eshop'!D:T,7,FALSE)))","v":""},{"$f":"IF(A140=\"\",\"\",IF(VLOOKUP(MID(A140,6,99)*1,'Data eshop'!D:T,10,FALSE)=0,\"\",VLOOKUP(VLOOKUP(MID(A140,6,99)*1,'Data eshop'!D:T,10,FALSE),DATA!O:P,2,FALSE)))","v":""},"",{"$f":"IF(A140=\"\",\"\",IF(VLOOKUP(MID(A140,6,99)*1,'Data eshop'!D:W,18,FALSE)=0,\"\",VLOOKUP(MID(A140,6,99)*1,'Data eshop'!D:W,18,FALSE)))","v":""},{"$f":"IF(A140=\"\",\"\",IF(VLOOKUP(MID(A140,6,99)*1,'Data eshop'!D:W,19,FALSE)=0,\"\",VLOOKUP(MID(A140,6,99)*1,'Data eshop'!D:W,19,FALSE)))","v":""},{"$f":"IF(A140=\"\",\"\",IF(VLOOKUP(MID(A140,6,99)*1,'Data eshop'!D:T,11,FALSE)=0,\"\",IF(OR(VLOOKUP(MID(A140,6,99)*1,'Data eshop'!D:T,11,FALSE)=\"Na dobírku\",VLOOKUP(MID(A140,6,99)*1,'Data eshop'!D:T,11,FALSE)=\"Na dobierku\",VLOOKUP(MID(A140,6,99)*1,'Data eshop'!D:T,11,FALSE)=\"Za pobraniem\"),VLOOKUP(MID(A140,6,99)*1,'Data eshop'!D:W,20,FALSE),\"\")))","v":""},{"$f":"IF(L140=\"\",\"\",IF(VLOOKUP(MID(A140,6,99)*1,'Data eshop'!D:T,10,FALSE)=0,\"\",IF(VLOOKUP(MID(A140,6,99)*1,'Data eshop'!D:T,10,FALSE)=\"Česká republika\",\"CZK\",IF(VLOOKUP(MID(A140,6,99)*1,'Data eshop'!D:T,10,FALSE)=\"Poland\",\"PLN\",IF(VLOOKUP(MID(A140,6,99)*1,'Data eshop'!D:T,10,FALSE)=\"Slovakia\",\"EUR\",\"\")))))","v":""},"",null,139]
[{"$f":"IFERROR(VLOOKUP(P141,Zakázky!P:Q,2,FALSE),\"\")","v":""},"",{"$f":"IF(A141=\"\",\"\",IF(VLOOKUP(MID(A141,6,99)*1,'Data eshop'!D:T,2,FALSE)=0,\"\",VLOOKUP(MID(A141,6,99)*1,'Data eshop'!D:T,2,FALSE)))","v":""},{"$f":"IF(A141=\"\",\"\",IF(VLOOKUP(MID(A141,6,99)*1,'Data eshop'!D:T,3,FALSE)=0,IF(VLOOKUP(MID(A141,6,99)*1,'Data eshop'!D:T,4,FALSE)=0,\"\",VLOOKUP(MID(A141,6,99)*1,'Data eshop'!D:T,4,FALSE)),VLOOKUP(MID(A141,6,99)*1,'Data eshop'!D:T,3,FALSE))&IF(VLOOKUP(MID(A141,6,99)*1,'Data eshop'!D:T,4,FALSE)=0,\"\",\" \"&VLOOKUP(MID(A141,6,99)*1,'Data eshop'!D:T,4,FALSE)))","v":""},{"$f":"IF(A141=\"\",\"\",IF(VLOOKUP(MID(A141,6,99)*1,'Data eshop'!D:T,5,FALSE)=0,\"\",VLOOKUP(MID(A141,6,99)*1,'Data eshop'!D:T,5,FALSE)))","v":""},{"$f":"IF(A141=\"\",\"\",IF(VLOOKUP(MID(A141,6,99)*1,'Data eshop'!D:T,6,FALSE)=0,\"\",VLOOKUP(MID(A141,6,99)*1,'Data eshop'!D:T,6,FALSE)))","v":""},{"$f":"IF(A141=\"\",\"\",IF(VLOOKUP(MID(A141,6,99)*1,'Data eshop'!D:T,7,FALSE)=0,\"\",VLOOKUP(MID(A141,6,99)*1,'Data eshop'!D:T,7,FALSE)))","v":""},{"$f":"IF(A141=\"\",\"\",IF(VLOOKUP(MID(A141,6,99)*1,'Data eshop'!D:T,10,FALSE)=0,\"\",VLOOKUP(VLOOKUP(MID(A141,6,99)*1,'Data eshop'!D:T,10,FALSE),DATA!O:P,2,FALSE)))","v":""},"",{"$f":"IF(A141=\"\",\"\",IF(VLOOKUP(MID(A141,6,99)*1,'Data eshop'!D:W,18,FALSE)=0,\"\",VLOOKUP(MID(A141,6,99)*1,'Data eshop'!D:W,18,FALSE)))","v":""},{"$f":"IF(A141=\"\",\"\",IF(VLOOKUP(MID(A141,6,99)*1,'Data eshop'!D:W,19,FALSE)=0,\"\",VLOOKUP(MID(A141,6,99)*1,'Data eshop'!D:W,19,FALSE)))","v":""},{"$f":"IF(A141=\"\",\"\",IF(VLOOKUP(MID(A141,6,99)*1,'Data eshop'!D:T,11,FALSE)=0,\"\",IF(OR(VLOOKUP(MID(A141,6,99)*1,'Data eshop'!D:T,11,FALSE)=\"Na dobírku\",VLOOKUP(MID(A141,6,99)*1,'Data eshop'!D:T,11,FALSE)=\"Na dobierku\",VLOOKUP(MID(A141,6,99)*1,'Data eshop'!D:T,11,FALSE)=\"Za pobraniem\"),VLOOKUP(MID(A141,6,99)*1,'Data eshop'!D:W,20,FALSE),\"\")))","v":""},{"$f":"IF(L141=\"\",\"\",IF(VLOOKUP(MID(A141,6,99)*1,'Data eshop'!D:T,10,FALSE)=0,\"\",IF(VLOOKUP(MID(A141,6,99)*1,'Data eshop'!D:T,10,FALSE)=\"Česká republika\",\"CZK\",IF(VLOOKUP(MID(A141,6,99)*1,'Data eshop'!D:T,10,FALSE)=\"Poland\",\"PLN\",IF(VLOOKUP(MID(A141,6,99)*1,'Data eshop'!D:T,10,FALSE)=\"Slovakia\",\"EUR\",\"\")))))","v":""},"",null,140]
[{"$f":"IFERROR(VLOOKUP(P142,Zakázky!P:Q,2,FALSE),\"\")","v":""},"",{"$f":"IF(A142=\"\",\"\",IF(VLOOKUP(MID(A142,6,99)*1,'Data eshop'!D:T,2,FALSE)=0,\"\",VLOOKUP(MID(A142,6,99)*1,'Data eshop'!D:T,2,FALSE)))","v":""},{"$f":"IF(A142=\"\",\"\",IF(VLOOKUP(MID(A142,6,99)*1,'Data eshop'!D:T,3,FALSE)=0,IF(VLOOKUP(MID(A142,6,99)*1,'Data eshop'!D:T,4,FALSE)=0,\"\",VLOOKUP(MID(A142,6,99)*1,'Data eshop'!D:T,4,FALSE)),VLOOKUP(MID(A142,6,99)*1,'Data eshop'!D:T,3,FALSE))&IF(VLOOKUP(MID(A142,6,99)*1,'Data eshop'!D:T,4,FALSE)=0,\"\",\" \"&VLOOKUP(MID(A142,6,99)*1,'Data eshop'!D:T,4,FALSE)))","v":""},{"$f":"IF(A142=\"\",\"\",IF(VLOOKUP(MID(A142,6,99)*1,'Data eshop'!D:T,5,FALSE)=0,\"\",VLOOKUP(MID(A142,6,99)*1,'Data eshop'!D:T,5,FALSE)))","v":""},{"$f":"IF(A142=\"\",\"\",IF(VLOOKUP(MID(A142,6,99)*1,'Data eshop'!D:T,6,FALSE)=0,\"\",VLOOKUP(MID(A142,6,99)*1,'Data eshop'!D:T,6,FALSE)))","v":""},{"$f":"IF(A142=\"\",\"\",IF(VLOOKUP(MID(A142,6,99)*1,'Data eshop'!D:T,7,FALSE)=0,\"\",VLOOKUP(MID(A142,6,99)*1,'Data eshop'!D:T,7,FALSE)))","v":""},{"$f":"IF(A142=\"\",\"\",IF(VLOOKUP(MID(A142,6,99)*1,'Data eshop'!D:T,10,FALSE)=0,\"\",VLOOKUP(VLOOKUP(MID(A142,6,99)*1,'Data eshop'!D:T,10,FALSE),DATA!O:P,2,FALSE)))","v":""},"",{"$f":"IF(A142=\"\",\"\",IF(VLOOKUP(MID(A142,6,99)*1,'Data eshop'!D:W,18,FALSE)=0,\"\",VLOOKUP(MID(A142,6,99)*1,'Data eshop'!D:W,18,FALSE)))","v":""},{"$f":"IF(A142=\"\",\"\",IF(VLOOKUP(MID(A142,6,99)*1,'Data eshop'!D:W,19,FALSE)=0,\"\",VLOOKUP(MID(A142,6,99)*1,'Data eshop'!D:W,19,FALSE)))","v":""},{"$f":"IF(A142=\"\",\"\",IF(VLOOKUP(MID(A142,6,99)*1,'Data eshop'!D:T,11,FALSE)=0,\"\",IF(OR(VLOOKUP(MID(A142,6,99)*1,'Data eshop'!D:T,11,FALSE)=\"Na dobírku\",VLOOKUP(MID(A142,6,99)*1,'Data eshop'!D:T,11,FALSE)=\"Na dobierku\",VLOOKUP(MID(A142,6,99)*1,'Data eshop'!D:T,11,FALSE)=\"Za pobraniem\"),VLOOKUP(MID(A142,6,99)*1,'Data eshop'!D:W,20,FALSE),\"\")))","v":""},{"$f":"IF(L142=\"\",\"\",IF(VLOOKUP(MID(A142,6,99)*1,'Data eshop'!D:T,10,FALSE)=0,\"\",IF(VLOOKUP(MID(A142,6,99)*1,'Data eshop'!D:T,10,FALSE)=\"Česká republika\",\"CZK\",IF(VLOOKUP(MID(A142,6,99)*1,'Data eshop'!D:T,10,FALSE)=\"Poland\",\"PLN\",IF(VLOOKUP(MID(A142,6,99)*1,'Data eshop'!D:T,10,FALSE)=\"Slovakia\",\"EUR\",\"\")))))","v":""},"",null,141,null,"Roluj nahoru, až uvidíš žlutou"]
[{"$f":"IFERROR(VLOOKUP(P143,Zakázky!P:Q,2,FALSE),\"\")","v":""},"",{"$f":"IF(A143=\"\",\"\",IF(VLOOKUP(MID(A143,6,99)*1,'Data eshop'!D:T,2,FALSE)=0,\"\",VLOOKUP(MID(A143,6,99)*1,'Data eshop'!D:T,2,FALSE)))","v":""},{"$f":"IF(A143=\"\",\"\",IF(VLOOKUP(MID(A143,6,99)*1,'Data eshop'!D:T,3,FALSE)=0,IF(VLOOKUP(MID(A143,6,99)*1,'Data eshop'!D:T,4,FALSE)=0,\"\",VLOOKUP(MID(A143,6,99)*1,'Data eshop'!D:T,4,FALSE)),VLOOKUP(MID(A143,6,99)*1,'Data eshop'!D:T,3,FALSE))&IF(VLOOKUP(MID(A143,6,99)*1,'Data eshop'!D:T,4,FALSE)=0,\"\",\" \"&VLOOKUP(MID(A143,6,99)*1,'Data eshop'!D:T,4,FALSE)))","v":""},{"$f":"IF(A143=\"\",\"\",IF(VLOOKUP(MID(A143,6,99)*1,'Data eshop'!D:T,5,FALSE)=0,\"\",VLOOKUP(MID(A143,6,99)*1,'Data eshop'!D:T,5,FALSE)))","v":""},{"$f":"IF(A143=\"\",\"\",IF(VLOOKUP(MID(A143,6,99)*1,'Data eshop'!D:T,6,FALSE)=0,\"\",VLOOKUP(MID(A143,6,99)*1,'Data eshop'!D:T,6,FALSE)))","v":""},{"$f":"IF(A143=\"\",\"\",IF(VLOOKUP(MID(A143,6,99)*1,'Data eshop'!D:T,7,FALSE)=0,\"\",VLOOKUP(MID(A143,6,99)*1,'Data eshop'!D:T,7,FALSE)))","v":""},{"$f":"IF(A143=\"\",\"\",IF(VLOOKUP(MID(A143,6,99)*1,'Data eshop'!D:T,10,FALSE)=0,\"\",VLOOKUP(VLOOKUP(MID(A143,6,99)*1,'Data eshop'!D:T,10,FALSE),DATA!O:P,2,FALSE)))","v":""},"",{"$f":"IF(A143=\"\",\"\",IF(VLOOKUP(MID(A143,6,99)*1,'Data eshop'!D:W,18,FALSE)=0,\"\",VLOOKUP(MID(A143,6,99)*1,'Data eshop'!D:W,18,FALSE)))","v":""},{"$f":"IF(A143=\"\",\"\",IF(VLOOKUP(MID(A143,6,99)*1,'Data eshop'!D:W,19,FALSE)=0,\"\",VLOOKUP(MID(A143,6,99)*1,'Data eshop'!D:W,19,FALSE)))","v":""},{"$f":"IF(A143=\"\",\"\",IF(VLOOKUP(MID(A143,6,99)*1,'Data eshop'!D:T,11,FALSE)=0,\"\",IF(OR(VLOOKUP(MID(A143,6,99)*1,'Data eshop'!D:T,11,FALSE)=\"Na dobírku\",VLOOKUP(MID(A143,6,99)*1,'Data eshop'!D:T,11,FALSE)=\"Na dobierku\",VLOOKUP(MID(A143,6,99)*1,'Data eshop'!D:T,11,FALSE)=\"Za pobraniem\"),VLOOKUP(MID(A143,6,99)*1,'Data eshop'!D:W,20,FALSE),\"\")))","v":""},{"$f":"IF(L143=\"\",\"\",IF(VLOOKUP(MID(A143,6,99)*1,'Data eshop'!D:T,10,FALSE)=0,\"\",IF(VLOOKUP(MID(A143,6,99)*1,'Data eshop'!D:T,10,FALSE)=\"Česká republika\",\"CZK\",IF(VLOOKUP(MID(A143,6,99)*1,'Data eshop'!D:T,10,FALSE)=\"Poland\",\"PLN\",IF(VLOOKUP(MID(A143,6,99)*1,'Data eshop'!D:T,10,FALSE)=\"Slovakia\",\"EUR\",\"\")))))","v":""},"",null,142]
[{"$f":"IFERROR(VLOOKUP(P144,Zakázky!P:Q,2,FALSE),\"\")","v":""},"",{"$f":"IF(A144=\"\",\"\",IF(VLOOKUP(MID(A144,6,99)*1,'Data eshop'!D:T,2,FALSE)=0,\"\",VLOOKUP(MID(A144,6,99)*1,'Data eshop'!D:T,2,FALSE)))","v":""},{"$f":"IF(A144=\"\",\"\",IF(VLOOKUP(MID(A144,6,99)*1,'Data eshop'!D:T,3,FALSE)=0,IF(VLOOKUP(MID(A144,6,99)*1,'Data eshop'!D:T,4,FALSE)=0,\"\",VLOOKUP(MID(A144,6,99)*1,'Data eshop'!D:T,4,FALSE)),VLOOKUP(MID(A144,6,99)*1,'Data eshop'!D:T,3,FALSE))&IF(VLOOKUP(MID(A144,6,99)*1,'Data eshop'!D:T,4,FALSE)=0,\"\",\" \"&VLOOKUP(MID(A144,6,99)*1,'Data eshop'!D:T,4,FALSE)))","v":""},{"$f":"IF(A144=\"\",\"\",IF(VLOOKUP(MID(A144,6,99)*1,'Data eshop'!D:T,5,FALSE)=0,\"\",VLOOKUP(MID(A144,6,99)*1,'Data eshop'!D:T,5,FALSE)))","v":""},{"$f":"IF(A144=\"\",\"\",IF(VLOOKUP(MID(A144,6,99)*1,'Data eshop'!D:T,6,FALSE)=0,\"\",VLOOKUP(MID(A144,6,99)*1,'Data eshop'!D:T,6,FALSE)))","v":""},{"$f":"IF(A144=\"\",\"\",IF(VLOOKUP(MID(A144,6,99)*1,'Data eshop'!D:T,7,FALSE)=0,\"\",VLOOKUP(MID(A144,6,99)*1,'Data eshop'!D:T,7,FALSE)))","v":""},{"$f":"IF(A144=\"\",\"\",IF(VLOOKUP(MID(A144,6,99)*1,'Data eshop'!D:T,10,FALSE)=0,\"\",VLOOKUP(VLOOKUP(MID(A144,6,99)*1,'Data eshop'!D:T,10,FALSE),DATA!O:P,2,FALSE)))","v":""},"",{"$f":"IF(A144=\"\",\"\",IF(VLOOKUP(MID(A144,6,99)*1,'Data eshop'!D:W,18,FALSE)=0,\"\",VLOOKUP(MID(A144,6,99)*1,'Data eshop'!D:W,18,FALSE)))","v":""},{"$f":"IF(A144=\"\",\"\",IF(VLOOKUP(MID(A144,6,99)*1,'Data eshop'!D:W,19,FALSE)=0,\"\",VLOOKUP(MID(A144,6,99)*1,'Data eshop'!D:W,19,FALSE)))","v":""},{"$f":"IF(A144=\"\",\"\",IF(VLOOKUP(MID(A144,6,99)*1,'Data eshop'!D:T,11,FALSE)=0,\"\",IF(OR(VLOOKUP(MID(A144,6,99)*1,'Data eshop'!D:T,11,FALSE)=\"Na dobírku\",VLOOKUP(MID(A144,6,99)*1,'Data eshop'!D:T,11,FALSE)=\"Na dobierku\",VLOOKUP(MID(A144,6,99)*1,'Data eshop'!D:T,11,FALSE)=\"Za pobraniem\"),VLOOKUP(MID(A144,6,99)*1,'Data eshop'!D:W,20,FALSE),\"\")))","v":""},{"$f":"IF(L144=\"\",\"\",IF(VLOOKUP(MID(A144,6,99)*1,'Data eshop'!D:T,10,FALSE)=0,\"\",IF(VLOOKUP(MID(A144,6,99)*1,'Data eshop'!D:T,10,FALSE)=\"Česká republika\",\"CZK\",IF(VLOOKUP(MID(A144,6,99)*1,'Data eshop'!D:T,10,FALSE)=\"Poland\",\"PLN\",IF(VLOOKUP(MID(A144,6,99)*1,'Data eshop'!D:T,10,FALSE)=\"Slovakia\",\"EUR\",\"\")))))","v":""},"",null,143]
[{"$f":"IFERROR(VLOOKUP(P145,Zakázky!P:Q,2,FALSE),\"\")","v":""},"",{"$f":"IF(A145=\"\",\"\",IF(VLOOKUP(MID(A145,6,99)*1,'Data eshop'!D:T,2,FALSE)=0,\"\",VLOOKUP(MID(A145,6,99)*1,'Data eshop'!D:T,2,FALSE)))","v":""},{"$f":"IF(A145=\"\",\"\",IF(VLOOKUP(MID(A145,6,99)*1,'Data eshop'!D:T,3,FALSE)=0,IF(VLOOKUP(MID(A145,6,99)*1,'Data eshop'!D:T,4,FALSE)=0,\"\",VLOOKUP(MID(A145,6,99)*1,'Data eshop'!D:T,4,FALSE)),VLOOKUP(MID(A145,6,99)*1,'Data eshop'!D:T,3,FALSE))&IF(VLOOKUP(MID(A145,6,99)*1,'Data eshop'!D:T,4,FALSE)=0,\"\",\" \"&VLOOKUP(MID(A145,6,99)*1,'Data eshop'!D:T,4,FALSE)))","v":""},{"$f":"IF(A145=\"\",\"\",IF(VLOOKUP(MID(A145,6,99)*1,'Data eshop'!D:T,5,FALSE)=0,\"\",VLOOKUP(MID(A145,6,99)*1,'Data eshop'!D:T,5,FALSE)))","v":""},{"$f":"IF(A145=\"\",\"\",IF(VLOOKUP(MID(A145,6,99)*1,'Data eshop'!D:T,6,FALSE)=0,\"\",VLOOKUP(MID(A145,6,99)*1,'Data eshop'!D:T,6,FALSE)))","v":""},{"$f":"IF(A145=\"\",\"\",IF(VLOOKUP(MID(A145,6,99)*1,'Data eshop'!D:T,7,FALSE)=0,\"\",VLOOKUP(MID(A145,6,99)*1,'Data eshop'!D:T,7,FALSE)))","v":""},{"$f":"IF(A145=\"\",\"\",IF(VLOOKUP(MID(A145,6,99)*1,'Data eshop'!D:T,10,FALSE)=0,\"\",VLOOKUP(VLOOKUP(MID(A145,6,99)*1,'Data eshop'!D:T,10,FALSE),DATA!O:P,2,FALSE)))","v":""},"",{"$f":"IF(A145=\"\",\"\",IF(VLOOKUP(MID(A145,6,99)*1,'Data eshop'!D:W,18,FALSE)=0,\"\",VLOOKUP(MID(A145,6,99)*1,'Data eshop'!D:W,18,FALSE)))","v":""},{"$f":"IF(A145=\"\",\"\",IF(VLOOKUP(MID(A145,6,99)*1,'Data eshop'!D:W,19,FALSE)=0,\"\",VLOOKUP(MID(A145,6,99)*1,'Data eshop'!D:W,19,FALSE)))","v":""},{"$f":"IF(A145=\"\",\"\",IF(VLOOKUP(MID(A145,6,99)*1,'Data eshop'!D:T,11,FALSE)=0,\"\",IF(OR(VLOOKUP(MID(A145,6,99)*1,'Data eshop'!D:T,11,FALSE)=\"Na dobírku\",VLOOKUP(MID(A145,6,99)*1,'Data eshop'!D:T,11,FALSE)=\"Na dobierku\",VLOOKUP(MID(A145,6,99)*1,'Data eshop'!D:T,11,FALSE)=\"Za pobraniem\"),VLOOKUP(MID(A145,6,99)*1,'Data eshop'!D:W,20,FALSE),\"\")))","v":""},{"$f":"IF(L145=\"\",\"\",IF(VLOOKUP(MID(A145,6,99)*1,'Data eshop'!D:T,10,FALSE)=0,\"\",IF(VLOOKUP(MID(A145,6,99)*1,'Data eshop'!D:T,10,FALSE)=\"Česká republika\",\"CZK\",IF(VLOOKUP(MID(A145,6,99)*1,'Data eshop'!D:T,10,FALSE)=\"Poland\",\"PLN\",IF(VLOOKUP(MID(A145,6,99)*1,'Data eshop'!D:T,10,FALSE)=\"Slovakia\",\"EUR\",\"\")))))","v":""},"",null,144]
[{"$f":"IFERROR(VLOOKUP(P146,Zakázky!P:Q,2,FALSE),\"\")","v":""},"",{"$f":"IF(A146=\"\",\"\",IF(VLOOKUP(MID(A146,6,99)*1,'Data eshop'!D:T,2,FALSE)=0,\"\",VLOOKUP(MID(A146,6,99)*1,'Data eshop'!D:T,2,FALSE)))","v":""},{"$f":"IF(A146=\"\",\"\",IF(VLOOKUP(MID(A146,6,99)*1,'Data eshop'!D:T,3,FALSE)=0,IF(VLOOKUP(MID(A146,6,99)*1,'Data eshop'!D:T,4,FALSE)=0,\"\",VLOOKUP(MID(A146,6,99)*1,'Data eshop'!D:T,4,FALSE)),VLOOKUP(MID(A146,6,99)*1,'Data eshop'!D:T,3,FALSE))&IF(VLOOKUP(MID(A146,6,99)*1,'Data eshop'!D:T,4,FALSE)=0,\"\",\" \"&VLOOKUP(MID(A146,6,99)*1,'Data eshop'!D:T,4,FALSE)))","v":""},{"$f":"IF(A146=\"\",\"\",IF(VLOOKUP(MID(A146,6,99)*1,'Data eshop'!D:T,5,FALSE)=0,\"\",VLOOKUP(MID(A146,6,99)*1,'Data eshop'!D:T,5,FALSE)))","v":""},{"$f":"IF(A146=\"\",\"\",IF(VLOOKUP(MID(A146,6,99)*1,'Data eshop'!D:T,6,FALSE)=0,\"\",VLOOKUP(MID(A146,6,99)*1,'Data eshop'!D:T,6,FALSE)))","v":""},{"$f":"IF(A146=\"\",\"\",IF(VLOOKUP(MID(A146,6,99)*1,'Data eshop'!D:T,7,FALSE)=0,\"\",VLOOKUP(MID(A146,6,99)*1,'Data eshop'!D:T,7,FALSE)))","v":""},{"$f":"IF(A146=\"\",\"\",IF(VLOOKUP(MID(A146,6,99)*1,'Data eshop'!D:T,10,FALSE)=0,\"\",VLOOKUP(VLOOKUP(MID(A146,6,99)*1,'Data eshop'!D:T,10,FALSE),DATA!O:P,2,FALSE)))","v":""},"",{"$f":"IF(A146=\"\",\"\",IF(VLOOKUP(MID(A146,6,99)*1,'Data eshop'!D:W,18,FALSE)=0,\"\",VLOOKUP(MID(A146,6,99)*1,'Data eshop'!D:W,18,FALSE)))","v":""},{"$f":"IF(A146=\"\",\"\",IF(VLOOKUP(MID(A146,6,99)*1,'Data eshop'!D:W,19,FALSE)=0,\"\",VLOOKUP(MID(A146,6,99)*1,'Data eshop'!D:W,19,FALSE)))","v":""},{"$f":"IF(A146=\"\",\"\",IF(VLOOKUP(MID(A146,6,99)*1,'Data eshop'!D:T,11,FALSE)=0,\"\",IF(OR(VLOOKUP(MID(A146,6,99)*1,'Data eshop'!D:T,11,FALSE)=\"Na dobírku\",VLOOKUP(MID(A146,6,99)*1,'Data eshop'!D:T,11,FALSE)=\"Na dobierku\",VLOOKUP(MID(A146,6,99)*1,'Data eshop'!D:T,11,FALSE)=\"Za pobraniem\"),VLOOKUP(MID(A146,6,99)*1,'Data eshop'!D:W,20,FALSE),\"\")))","v":""},{"$f":"IF(L146=\"\",\"\",IF(VLOOKUP(MID(A146,6,99)*1,'Data eshop'!D:T,10,FALSE)=0,\"\",IF(VLOOKUP(MID(A146,6,99)*1,'Data eshop'!D:T,10,FALSE)=\"Česká republika\",\"CZK\",IF(VLOOKUP(MID(A146,6,99)*1,'Data eshop'!D:T,10,FALSE)=\"Poland\",\"PLN\",IF(VLOOKUP(MID(A146,6,99)*1,'Data eshop'!D:T,10,FALSE)=\"Slovakia\",\"EUR\",\"\")))))","v":""},"",null,145,null,"Roluj nahoru, až uvidíš žlutou"]
[{"$f":"IFERROR(VLOOKUP(P147,Zakázky!P:Q,2,FALSE),\"\")","v":""},"",{"$f":"IF(A147=\"\",\"\",IF(VLOOKUP(MID(A147,6,99)*1,'Data eshop'!D:T,2,FALSE)=0,\"\",VLOOKUP(MID(A147,6,99)*1,'Data eshop'!D:T,2,FALSE)))","v":""},{"$f":"IF(A147=\"\",\"\",IF(VLOOKUP(MID(A147,6,99)*1,'Data eshop'!D:T,3,FALSE)=0,IF(VLOOKUP(MID(A147,6,99)*1,'Data eshop'!D:T,4,FALSE)=0,\"\",VLOOKUP(MID(A147,6,99)*1,'Data eshop'!D:T,4,FALSE)),VLOOKUP(MID(A147,6,99)*1,'Data eshop'!D:T,3,FALSE))&IF(VLOOKUP(MID(A147,6,99)*1,'Data eshop'!D:T,4,FALSE)=0,\"\",\" \"&VLOOKUP(MID(A147,6,99)*1,'Data eshop'!D:T,4,FALSE)))","v":""},{"$f":"IF(A147=\"\",\"\",IF(VLOOKUP(MID(A147,6,99)*1,'Data eshop'!D:T,5,FALSE)=0,\"\",VLOOKUP(MID(A147,6,99)*1,'Data eshop'!D:T,5,FALSE)))","v":""},{"$f":"IF(A147=\"\",\"\",IF(VLOOKUP(MID(A147,6,99)*1,'Data eshop'!D:T,6,FALSE)=0,\"\",VLOOKUP(MID(A147,6,99)*1,'Data eshop'!D:T,6,FALSE)))","v":""},{"$f":"IF(A147=\"\",\"\",IF(VLOOKUP(MID(A147,6,99)*1,'Data eshop'!D:T,7,FALSE)=0,\"\",VLOOKUP(MID(A147,6,99)*1,'Data eshop'!D:T,7,FALSE)))","v":""},{"$f":"IF(A147=\"\",\"\",IF(VLOOKUP(MID(A147,6,99)*1,'Data eshop'!D:T,10,FALSE)=0,\"\",VLOOKUP(VLOOKUP(MID(A147,6,99)*1,'Data eshop'!D:T,10,FALSE),DATA!O:P,2,FALSE)))","v":""},"",{"$f":"IF(A147=\"\",\"\",IF(VLOOKUP(MID(A147,6,99)*1,'Data eshop'!D:W,18,FALSE)=0,\"\",VLOOKUP(MID(A147,6,99)*1,'Data eshop'!D:W,18,FALSE)))","v":""},{"$f":"IF(A147=\"\",\"\",IF(VLOOKUP(MID(A147,6,99)*1,'Data eshop'!D:W,19,FALSE)=0,\"\",VLOOKUP(MID(A147,6,99)*1,'Data eshop'!D:W,19,FALSE)))","v":""},{"$f":"IF(A147=\"\",\"\",IF(VLOOKUP(MID(A147,6,99)*1,'Data eshop'!D:T,11,FALSE)=0,\"\",IF(OR(VLOOKUP(MID(A147,6,99)*1,'Data eshop'!D:T,11,FALSE)=\"Na dobírku\",VLOOKUP(MID(A147,6,99)*1,'Data eshop'!D:T,11,FALSE)=\"Na dobierku\",VLOOKUP(MID(A147,6,99)*1,'Data eshop'!D:T,11,FALSE)=\"Za pobraniem\"),VLOOKUP(MID(A147,6,99)*1,'Data eshop'!D:W,20,FALSE),\"\")))","v":""},{"$f":"IF(L147=\"\",\"\",IF(VLOOKUP(MID(A147,6,99)*1,'Data eshop'!D:T,10,FALSE)=0,\"\",IF(VLOOKUP(MID(A147,6,99)*1,'Data eshop'!D:T,10,FALSE)=\"Česká republika\",\"CZK\",IF(VLOOKUP(MID(A147,6,99)*1,'Data eshop'!D:T,10,FALSE)=\"Poland\",\"PLN\",IF(VLOOKUP(MID(A147,6,99)*1,'Data eshop'!D:T,10,FALSE)=\"Slovakia\",\"EUR\",\"\")))))","v":""},"",null,146]
[{"$f":"IFERROR(VLOOKUP(P148,Zakázky!P:Q,2,FALSE),\"\")","v":""},"",{"$f":"IF(A148=\"\",\"\",IF(VLOOKUP(MID(A148,6,99)*1,'Data eshop'!D:T,2,FALSE)=0,\"\",VLOOKUP(MID(A148,6,99)*1,'Data eshop'!D:T,2,FALSE)))","v":""},{"$f":"IF(A148=\"\",\"\",IF(VLOOKUP(MID(A148,6,99)*1,'Data eshop'!D:T,3,FALSE)=0,IF(VLOOKUP(MID(A148,6,99)*1,'Data eshop'!D:T,4,FALSE)=0,\"\",VLOOKUP(MID(A148,6,99)*1,'Data eshop'!D:T,4,FALSE)),VLOOKUP(MID(A148,6,99)*1,'Data eshop'!D:T,3,FALSE))&IF(VLOOKUP(MID(A148,6,99)*1,'Data eshop'!D:T,4,FALSE)=0,\"\",\" \"&VLOOKUP(MID(A148,6,99)*1,'Data eshop'!D:T,4,FALSE)))","v":""},{"$f":"IF(A148=\"\",\"\",IF(VLOOKUP(MID(A148,6,99)*1,'Data eshop'!D:T,5,FALSE)=0,\"\",VLOOKUP(MID(A148,6,99)*1,'Data eshop'!D:T,5,FALSE)))","v":""},{"$f":"IF(A148=\"\",\"\",IF(VLOOKUP(MID(A148,6,99)*1,'Data eshop'!D:T,6,FALSE)=0,\"\",VLOOKUP(MID(A148,6,99)*1,'Data eshop'!D:T,6,FALSE)))","v":""},{"$f":"IF(A148=\"\",\"\",IF(VLOOKUP(MID(A148,6,99)*1,'Data eshop'!D:T,7,FALSE)=0,\"\",VLOOKUP(MID(A148,6,99)*1,'Data eshop'!D:T,7,FALSE)))","v":""},{"$f":"IF(A148=\"\",\"\",IF(VLOOKUP(MID(A148,6,99)*1,'Data eshop'!D:T,10,FALSE)=0,\"\",VLOOKUP(VLOOKUP(MID(A148,6,99)*1,'Data eshop'!D:T,10,FALSE),DATA!O:P,2,FALSE)))","v":""},"",{"$f":"IF(A148=\"\",\"\",IF(VLOOKUP(MID(A148,6,99)*1,'Data eshop'!D:W,18,FALSE)=0,\"\",VLOOKUP(MID(A148,6,99)*1,'Data eshop'!D:W,18,FALSE)))","v":""},{"$f":"IF(A148=\"\",\"\",IF(VLOOKUP(MID(A148,6,99)*1,'Data eshop'!D:W,19,FALSE)=0,\"\",VLOOKUP(MID(A148,6,99)*1,'Data eshop'!D:W,19,FALSE)))","v":""},{"$f":"IF(A148=\"\",\"\",IF(VLOOKUP(MID(A148,6,99)*1,'Data eshop'!D:T,11,FALSE)=0,\"\",IF(OR(VLOOKUP(MID(A148,6,99)*1,'Data eshop'!D:T,11,FALSE)=\"Na dobírku\",VLOOKUP(MID(A148,6,99)*1,'Data eshop'!D:T,11,FALSE)=\"Na dobierku\",VLOOKUP(MID(A148,6,99)*1,'Data eshop'!D:T,11,FALSE)=\"Za pobraniem\"),VLOOKUP(MID(A148,6,99)*1,'Data eshop'!D:W,20,FALSE),\"\")))","v":""},{"$f":"IF(L148=\"\",\"\",IF(VLOOKUP(MID(A148,6,99)*1,'Data eshop'!D:T,10,FALSE)=0,\"\",IF(VLOOKUP(MID(A148,6,99)*1,'Data eshop'!D:T,10,FALSE)=\"Česká republika\",\"CZK\",IF(VLOOKUP(MID(A148,6,99)*1,'Data eshop'!D:T,10,FALSE)=\"Poland\",\"PLN\",IF(VLOOKUP(MID(A148,6,99)*1,'Data eshop'!D:T,10,FALSE)=\"Slovakia\",\"EUR\",\"\")))))","v":""},"",null,147]
[{"$f":"IFERROR(VLOOKUP(P149,Zakázky!P:Q,2,FALSE),\"\")","v":""},"",{"$f":"IF(A149=\"\",\"\",IF(VLOOKUP(MID(A149,6,99)*1,'Data eshop'!D:T,2,FALSE)=0,\"\",VLOOKUP(MID(A149,6,99)*1,'Data eshop'!D:T,2,FALSE)))","v":""},{"$f":"IF(A149=\"\",\"\",IF(VLOOKUP(MID(A149,6,99)*1,'Data eshop'!D:T,3,FALSE)=0,IF(VLOOKUP(MID(A149,6,99)*1,'Data eshop'!D:T,4,FALSE)=0,\"\",VLOOKUP(MID(A149,6,99)*1,'Data eshop'!D:T,4,FALSE)),VLOOKUP(MID(A149,6,99)*1,'Data eshop'!D:T,3,FALSE))&IF(VLOOKUP(MID(A149,6,99)*1,'Data eshop'!D:T,4,FALSE)=0,\"\",\" \"&VLOOKUP(MID(A149,6,99)*1,'Data eshop'!D:T,4,FALSE)))","v":""},{"$f":"IF(A149=\"\",\"\",IF(VLOOKUP(MID(A149,6,99)*1,'Data eshop'!D:T,5,FALSE)=0,\"\",VLOOKUP(MID(A149,6,99)*1,'Data eshop'!D:T,5,FALSE)))","v":""},{"$f":"IF(A149=\"\",\"\",IF(VLOOKUP(MID(A149,6,99)*1,'Data eshop'!D:T,6,FALSE)=0,\"\",VLOOKUP(MID(A149,6,99)*1,'Data eshop'!D:T,6,FALSE)))","v":""},{"$f":"IF(A149=\"\",\"\",IF(VLOOKUP(MID(A149,6,99)*1,'Data eshop'!D:T,7,FALSE)=0,\"\",VLOOKUP(MID(A149,6,99)*1,'Data eshop'!D:T,7,FALSE)))","v":""},{"$f":"IF(A149=\"\",\"\",IF(VLOOKUP(MID(A149,6,99)*1,'Data eshop'!D:T,10,FALSE)=0,\"\",VLOOKUP(VLOOKUP(MID(A149,6,99)*1,'Data eshop'!D:T,10,FALSE),DATA!O:P,2,FALSE)))","v":""},"",{"$f":"IF(A149=\"\",\"\",IF(VLOOKUP(MID(A149,6,99)*1,'Data eshop'!D:W,18,FALSE)=0,\"\",VLOOKUP(MID(A149,6,99)*1,'Data eshop'!D:W,18,FALSE)))","v":""},{"$f":"IF(A149=\"\",\"\",IF(VLOOKUP(MID(A149,6,99)*1,'Data eshop'!D:W,19,FALSE)=0,\"\",VLOOKUP(MID(A149,6,99)*1,'Data eshop'!D:W,19,FALSE)))","v":""},{"$f":"IF(A149=\"\",\"\",IF(VLOOKUP(MID(A149,6,99)*1,'Data eshop'!D:T,11,FALSE)=0,\"\",IF(OR(VLOOKUP(MID(A149,6,99)*1,'Data eshop'!D:T,11,FALSE)=\"Na dobírku\",VLOOKUP(MID(A149,6,99)*1,'Data eshop'!D:T,11,FALSE)=\"Na dobierku\",VLOOKUP(MID(A149,6,99)*1,'Data eshop'!D:T,11,FALSE)=\"Za pobraniem\"),VLOOKUP(MID(A149,6,99)*1,'Data eshop'!D:W,20,FALSE),\"\")))","v":""},{"$f":"IF(L149=\"\",\"\",IF(VLOOKUP(MID(A149,6,99)*1,'Data eshop'!D:T,10,FALSE)=0,\"\",IF(VLOOKUP(MID(A149,6,99)*1,'Data eshop'!D:T,10,FALSE)=\"Česká republika\",\"CZK\",IF(VLOOKUP(MID(A149,6,99)*1,'Data eshop'!D:T,10,FALSE)=\"Poland\",\"PLN\",IF(VLOOKUP(MID(A149,6,99)*1,'Data eshop'!D:T,10,FALSE)=\"Slovakia\",\"EUR\",\"\")))))","v":""},"",null,148]
[{"$f":"IFERROR(VLOOKUP(P150,Zakázky!P:Q,2,FALSE),\"\")","v":""},"",{"$f":"IF(A150=\"\",\"\",IF(VLOOKUP(MID(A150,6,99)*1,'Data eshop'!D:T,2,FALSE)=0,\"\",VLOOKUP(MID(A150,6,99)*1,'Data eshop'!D:T,2,FALSE)))","v":""},{"$f":"IF(A150=\"\",\"\",IF(VLOOKUP(MID(A150,6,99)*1,'Data eshop'!D:T,3,FALSE)=0,IF(VLOOKUP(MID(A150,6,99)*1,'Data eshop'!D:T,4,FALSE)=0,\"\",VLOOKUP(MID(A150,6,99)*1,'Data eshop'!D:T,4,FALSE)),VLOOKUP(MID(A150,6,99)*1,'Data eshop'!D:T,3,FALSE))&IF(VLOOKUP(MID(A150,6,99)*1,'Data eshop'!D:T,4,FALSE)=0,\"\",\" \"&VLOOKUP(MID(A150,6,99)*1,'Data eshop'!D:T,4,FALSE)))","v":""},{"$f":"IF(A150=\"\",\"\",IF(VLOOKUP(MID(A150,6,99)*1,'Data eshop'!D:T,5,FALSE)=0,\"\",VLOOKUP(MID(A150,6,99)*1,'Data eshop'!D:T,5,FALSE)))","v":""},{"$f":"IF(A150=\"\",\"\",IF(VLOOKUP(MID(A150,6,99)*1,'Data eshop'!D:T,6,FALSE)=0,\"\",VLOOKUP(MID(A150,6,99)*1,'Data eshop'!D:T,6,FALSE)))","v":""},{"$f":"IF(A150=\"\",\"\",IF(VLOOKUP(MID(A150,6,99)*1,'Data eshop'!D:T,7,FALSE)=0,\"\",VLOOKUP(MID(A150,6,99)*1,'Data eshop'!D:T,7,FALSE)))","v":""},{"$f":"IF(A150=\"\",\"\",IF(VLOOKUP(MID(A150,6,99)*1,'Data eshop'!D:T,10,FALSE)=0,\"\",VLOOKUP(VLOOKUP(MID(A150,6,99)*1,'Data eshop'!D:T,10,FALSE),DATA!O:P,2,FALSE)))","v":""},"",{"$f":"IF(A150=\"\",\"\",IF(VLOOKUP(MID(A150,6,99)*1,'Data eshop'!D:W,18,FALSE)=0,\"\",VLOOKUP(MID(A150,6,99)*1,'Data eshop'!D:W,18,FALSE)))","v":""},{"$f":"IF(A150=\"\",\"\",IF(VLOOKUP(MID(A150,6,99)*1,'Data eshop'!D:W,19,FALSE)=0,\"\",VLOOKUP(MID(A150,6,99)*1,'Data eshop'!D:W,19,FALSE)))","v":""},{"$f":"IF(A150=\"\",\"\",IF(VLOOKUP(MID(A150,6,99)*1,'Data eshop'!D:T,11,FALSE)=0,\"\",IF(OR(VLOOKUP(MID(A150,6,99)*1,'Data eshop'!D:T,11,FALSE)=\"Na dobírku\",VLOOKUP(MID(A150,6,99)*1,'Data eshop'!D:T,11,FALSE)=\"Na dobierku\",VLOOKUP(MID(A150,6,99)*1,'Data eshop'!D:T,11,FALSE)=\"Za pobraniem\"),VLOOKUP(MID(A150,6,99)*1,'Data eshop'!D:W,20,FALSE),\"\")))","v":""},{"$f":"IF(L150=\"\",\"\",IF(VLOOKUP(MID(A150,6,99)*1,'Data eshop'!D:T,10,FALSE)=0,\"\",IF(VLOOKUP(MID(A150,6,99)*1,'Data eshop'!D:T,10,FALSE)=\"Česká republika\",\"CZK\",IF(VLOOKUP(MID(A150,6,99)*1,'Data eshop'!D:T,10,FALSE)=\"Poland\",\"PLN\",IF(VLOOKUP(MID(A150,6,99)*1,'Data eshop'!D:T,10,FALSE)=\"Slovakia\",\"EUR\",\"\")))))","v":""},"",null,149,null,"Roluj nahoru, až uvidíš žlutou"]
[{"$f":"IFERROR(VLOOKUP(P151,Zakázky!P:Q,2,FALSE),\"\")","v":""},"",{"$f":"IF(A151=\"\",\"\",IF(VLOOKUP(MID(A151,6,99)*1,'Data eshop'!D:T,2,FALSE)=0,\"\",VLOOKUP(MID(A151,6,99)*1,'Data eshop'!D:T,2,FALSE)))","v":""},{"$f":"IF(A151=\"\",\"\",IF(VLOOKUP(MID(A151,6,99)*1,'Data eshop'!D:T,3,FALSE)=0,IF(VLOOKUP(MID(A151,6,99)*1,'Data eshop'!D:T,4,FALSE)=0,\"\",VLOOKUP(MID(A151,6,99)*1,'Data eshop'!D:T,4,FALSE)),VLOOKUP(MID(A151,6,99)*1,'Data eshop'!D:T,3,FALSE))&IF(VLOOKUP(MID(A151,6,99)*1,'Data eshop'!D:T,4,FALSE)=0,\"\",\" \"&VLOOKUP(MID(A151,6,99)*1,'Data eshop'!D:T,4,FALSE)))","v":""},{"$f":"IF(A151=\"\",\"\",IF(VLOOKUP(MID(A151,6,99)*1,'Data eshop'!D:T,5,FALSE)=0,\"\",VLOOKUP(MID(A151,6,99)*1,'Data eshop'!D:T,5,FALSE)))","v":""},{"$f":"IF(A151=\"\",\"\",IF(VLOOKUP(MID(A151,6,99)*1,'Data eshop'!D:T,6,FALSE)=0,\"\",VLOOKUP(MID(A151,6,99)*1,'Data eshop'!D:T,6,FALSE)))","v":""},{"$f":"IF(A151=\"\",\"\",IF(VLOOKUP(MID(A151,6,99)*1,'Data eshop'!D:T,7,FALSE)=0,\"\",VLOOKUP(MID(A151,6,99)*1,'Data eshop'!D:T,7,FALSE)))","v":""},{"$f":"IF(A151=\"\",\"\",IF(VLOOKUP(MID(A151,6,99)*1,'Data eshop'!D:T,10,FALSE)=0,\"\",VLOOKUP(VLOOKUP(MID(A151,6,99)*1,'Data eshop'!D:T,10,FALSE),DATA!O:P,2,FALSE)))","v":""},"",{"$f":"IF(A151=\"\",\"\",IF(VLOOKUP(MID(A151,6,99)*1,'Data eshop'!D:W,18,FALSE)=0,\"\",VLOOKUP(MID(A151,6,99)*1,'Data eshop'!D:W,18,FALSE)))","v":""},{"$f":"IF(A151=\"\",\"\",IF(VLOOKUP(MID(A151,6,99)*1,'Data eshop'!D:W,19,FALSE)=0,\"\",VLOOKUP(MID(A151,6,99)*1,'Data eshop'!D:W,19,FALSE)))","v":""},{"$f":"IF(A151=\"\",\"\",IF(VLOOKUP(MID(A151,6,99)*1,'Data eshop'!D:T,11,FALSE)=0,\"\",IF(OR(VLOOKUP(MID(A151,6,99)*1,'Data eshop'!D:T,11,FALSE)=\"Na dobírku\",VLOOKUP(MID(A151,6,99)*1,'Data eshop'!D:T,11,FALSE)=\"Na dobierku\",VLOOKUP(MID(A151,6,99)*1,'Data eshop'!D:T,11,FALSE)=\"Za pobraniem\"),VLOOKUP(MID(A151,6,99)*1,'Data eshop'!D:W,20,FALSE),\"\")))","v":""},{"$f":"IF(L151=\"\",\"\",IF(VLOOKUP(MID(A151,6,99)*1,'Data eshop'!D:T,10,FALSE)=0,\"\",IF(VLOOKUP(MID(A151,6,99)*1,'Data eshop'!D:T,10,FALSE)=\"Česká republika\",\"CZK\",IF(VLOOKUP(MID(A151,6,99)*1,'Data eshop'!D:T,10,FALSE)=\"Poland\",\"PLN\",IF(VLOOKUP(MID(A151,6,99)*1,'Data eshop'!D:T,10,FALSE)=\"Slovakia\",\"EUR\",\"\")))))","v":""},"",null,150]
[{"$f":"IFERROR(VLOOKUP(P152,Zakázky!P:Q,2,FALSE),\"\")","v":""},"",{"$f":"IF(A152=\"\",\"\",IF(VLOOKUP(MID(A152,6,99)*1,'Data eshop'!D:T,2,FALSE)=0,\"\",VLOOKUP(MID(A152,6,99)*1,'Data eshop'!D:T,2,FALSE)))","v":""},{"$f":"IF(A152=\"\",\"\",IF(VLOOKUP(MID(A152,6,99)*1,'Data eshop'!D:T,3,FALSE)=0,IF(VLOOKUP(MID(A152,6,99)*1,'Data eshop'!D:T,4,FALSE)=0,\"\",VLOOKUP(MID(A152,6,99)*1,'Data eshop'!D:T,4,FALSE)),VLOOKUP(MID(A152,6,99)*1,'Data eshop'!D:T,3,FALSE))&IF(VLOOKUP(MID(A152,6,99)*1,'Data eshop'!D:T,4,FALSE)=0,\"\",\" \"&VLOOKUP(MID(A152,6,99)*1,'Data eshop'!D:T,4,FALSE)))","v":""},{"$f":"IF(A152=\"\",\"\",IF(VLOOKUP(MID(A152,6,99)*1,'Data eshop'!D:T,5,FALSE)=0,\"\",VLOOKUP(MID(A152,6,99)*1,'Data eshop'!D:T,5,FALSE)))","v":""},{"$f":"IF(A152=\"\",\"\",IF(VLOOKUP(MID(A152,6,99)*1,'Data eshop'!D:T,6,FALSE)=0,\"\",VLOOKUP(MID(A152,6,99)*1,'Data eshop'!D:T,6,FALSE)))","v":""},{"$f":"IF(A152=\"\",\"\",IF(VLOOKUP(MID(A152,6,99)*1,'Data eshop'!D:T,7,FALSE)=0,\"\",VLOOKUP(MID(A152,6,99)*1,'Data eshop'!D:T,7,FALSE)))","v":""},{"$f":"IF(A152=\"\",\"\",IF(VLOOKUP(MID(A152,6,99)*1,'Data eshop'!D:T,10,FALSE)=0,\"\",VLOOKUP(VLOOKUP(MID(A152,6,99)*1,'Data eshop'!D:T,10,FALSE),DATA!O:P,2,FALSE)))","v":""},"",{"$f":"IF(A152=\"\",\"\",IF(VLOOKUP(MID(A152,6,99)*1,'Data eshop'!D:W,18,FALSE)=0,\"\",VLOOKUP(MID(A152,6,99)*1,'Data eshop'!D:W,18,FALSE)))","v":""},{"$f":"IF(A152=\"\",\"\",IF(VLOOKUP(MID(A152,6,99)*1,'Data eshop'!D:W,19,FALSE)=0,\"\",VLOOKUP(MID(A152,6,99)*1,'Data eshop'!D:W,19,FALSE)))","v":""},{"$f":"IF(A152=\"\",\"\",IF(VLOOKUP(MID(A152,6,99)*1,'Data eshop'!D:T,11,FALSE)=0,\"\",IF(OR(VLOOKUP(MID(A152,6,99)*1,'Data eshop'!D:T,11,FALSE)=\"Na dobírku\",VLOOKUP(MID(A152,6,99)*1,'Data eshop'!D:T,11,FALSE)=\"Na dobierku\",VLOOKUP(MID(A152,6,99)*1,'Data eshop'!D:T,11,FALSE)=\"Za pobraniem\"),VLOOKUP(MID(A152,6,99)*1,'Data eshop'!D:W,20,FALSE),\"\")))","v":""},{"$f":"IF(L152=\"\",\"\",IF(VLOOKUP(MID(A152,6,99)*1,'Data eshop'!D:T,10,FALSE)=0,\"\",IF(VLOOKUP(MID(A152,6,99)*1,'Data eshop'!D:T,10,FALSE)=\"Česká republika\",\"CZK\",IF(VLOOKUP(MID(A152,6,99)*1,'Data eshop'!D:T,10,FALSE)=\"Poland\",\"PLN\",IF(VLOOKUP(MID(A152,6,99)*1,'Data eshop'!D:T,10,FALSE)=\"Slovakia\",\"EUR\",\"\")))))","v":""},"",null,151]
[{"$f":"IFERROR(VLOOKUP(P153,Zakázky!P:Q,2,FALSE),\"\")","v":""},"",{"$f":"IF(A153=\"\",\"\",IF(VLOOKUP(MID(A153,6,99)*1,'Data eshop'!D:T,2,FALSE)=0,\"\",VLOOKUP(MID(A153,6,99)*1,'Data eshop'!D:T,2,FALSE)))","v":""},{"$f":"IF(A153=\"\",\"\",IF(VLOOKUP(MID(A153,6,99)*1,'Data eshop'!D:T,3,FALSE)=0,IF(VLOOKUP(MID(A153,6,99)*1,'Data eshop'!D:T,4,FALSE)=0,\"\",VLOOKUP(MID(A153,6,99)*1,'Data eshop'!D:T,4,FALSE)),VLOOKUP(MID(A153,6,99)*1,'Data eshop'!D:T,3,FALSE))&IF(VLOOKUP(MID(A153,6,99)*1,'Data eshop'!D:T,4,FALSE)=0,\"\",\" \"&VLOOKUP(MID(A153,6,99)*1,'Data eshop'!D:T,4,FALSE)))","v":""},{"$f":"IF(A153=\"\",\"\",IF(VLOOKUP(MID(A153,6,99)*1,'Data eshop'!D:T,5,FALSE)=0,\"\",VLOOKUP(MID(A153,6,99)*1,'Data eshop'!D:T,5,FALSE)))","v":""},{"$f":"IF(A153=\"\",\"\",IF(VLOOKUP(MID(A153,6,99)*1,'Data eshop'!D:T,6,FALSE)=0,\"\",VLOOKUP(MID(A153,6,99)*1,'Data eshop'!D:T,6,FALSE)))","v":""},{"$f":"IF(A153=\"\",\"\",IF(VLOOKUP(MID(A153,6,99)*1,'Data eshop'!D:T,7,FALSE)=0,\"\",VLOOKUP(MID(A153,6,99)*1,'Data eshop'!D:T,7,FALSE)))","v":""},{"$f":"IF(A153=\"\",\"\",IF(VLOOKUP(MID(A153,6,99)*1,'Data eshop'!D:T,10,FALSE)=0,\"\",VLOOKUP(VLOOKUP(MID(A153,6,99)*1,'Data eshop'!D:T,10,FALSE),DATA!O:P,2,FALSE)))","v":""},"",{"$f":"IF(A153=\"\",\"\",IF(VLOOKUP(MID(A153,6,99)*1,'Data eshop'!D:W,18,FALSE)=0,\"\",VLOOKUP(MID(A153,6,99)*1,'Data eshop'!D:W,18,FALSE)))","v":""},{"$f":"IF(A153=\"\",\"\",IF(VLOOKUP(MID(A153,6,99)*1,'Data eshop'!D:W,19,FALSE)=0,\"\",VLOOKUP(MID(A153,6,99)*1,'Data eshop'!D:W,19,FALSE)))","v":""},{"$f":"IF(A153=\"\",\"\",IF(VLOOKUP(MID(A153,6,99)*1,'Data eshop'!D:T,11,FALSE)=0,\"\",IF(OR(VLOOKUP(MID(A153,6,99)*1,'Data eshop'!D:T,11,FALSE)=\"Na dobírku\",VLOOKUP(MID(A153,6,99)*1,'Data eshop'!D:T,11,FALSE)=\"Na dobierku\",VLOOKUP(MID(A153,6,99)*1,'Data eshop'!D:T,11,FALSE)=\"Za pobraniem\"),VLOOKUP(MID(A153,6,99)*1,'Data eshop'!D:W,20,FALSE),\"\")))","v":""},{"$f":"IF(L153=\"\",\"\",IF(VLOOKUP(MID(A153,6,99)*1,'Data eshop'!D:T,10,FALSE)=0,\"\",IF(VLOOKUP(MID(A153,6,99)*1,'Data eshop'!D:T,10,FALSE)=\"Česká republika\",\"CZK\",IF(VLOOKUP(MID(A153,6,99)*1,'Data eshop'!D:T,10,FALSE)=\"Poland\",\"PLN\",IF(VLOOKUP(MID(A153,6,99)*1,'Data eshop'!D:T,10,FALSE)=\"Slovakia\",\"EUR\",\"\")))))","v":""},"",null,152]
[{"$f":"IFERROR(VLOOKUP(P154,Zakázky!P:Q,2,FALSE),\"\")","v":""},"",{"$f":"IF(A154=\"\",\"\",IF(VLOOKUP(MID(A154,6,99)*1,'Data eshop'!D:T,2,FALSE)=0,\"\",VLOOKUP(MID(A154,6,99)*1,'Data eshop'!D:T,2,FALSE)))","v":""},{"$f":"IF(A154=\"\",\"\",IF(VLOOKUP(MID(A154,6,99)*1,'Data eshop'!D:T,3,FALSE)=0,IF(VLOOKUP(MID(A154,6,99)*1,'Data eshop'!D:T,4,FALSE)=0,\"\",VLOOKUP(MID(A154,6,99)*1,'Data eshop'!D:T,4,FALSE)),VLOOKUP(MID(A154,6,99)*1,'Data eshop'!D:T,3,FALSE))&IF(VLOOKUP(MID(A154,6,99)*1,'Data eshop'!D:T,4,FALSE)=0,\"\",\" \"&VLOOKUP(MID(A154,6,99)*1,'Data eshop'!D:T,4,FALSE)))","v":""},{"$f":"IF(A154=\"\",\"\",IF(VLOOKUP(MID(A154,6,99)*1,'Data eshop'!D:T,5,FALSE)=0,\"\",VLOOKUP(MID(A154,6,99)*1,'Data eshop'!D:T,5,FALSE)))","v":""},{"$f":"IF(A154=\"\",\"\",IF(VLOOKUP(MID(A154,6,99)*1,'Data eshop'!D:T,6,FALSE)=0,\"\",VLOOKUP(MID(A154,6,99)*1,'Data eshop'!D:T,6,FALSE)))","v":""},{"$f":"IF(A154=\"\",\"\",IF(VLOOKUP(MID(A154,6,99)*1,'Data eshop'!D:T,7,FALSE)=0,\"\",VLOOKUP(MID(A154,6,99)*1,'Data eshop'!D:T,7,FALSE)))","v":""},{"$f":"IF(A154=\"\",\"\",IF(VLOOKUP(MID(A154,6,99)*1,'Data eshop'!D:T,10,FALSE)=0,\"\",VLOOKUP(VLOOKUP(MID(A154,6,99)*1,'Data eshop'!D:T,10,FALSE),DATA!O:P,2,FALSE)))","v":""},"",{"$f":"IF(A154=\"\",\"\",IF(VLOOKUP(MID(A154,6,99)*1,'Data eshop'!D:W,18,FALSE)=0,\"\",VLOOKUP(MID(A154,6,99)*1,'Data eshop'!D:W,18,FALSE)))","v":""},{"$f":"IF(A154=\"\",\"\",IF(VLOOKUP(MID(A154,6,99)*1,'Data eshop'!D:W,19,FALSE)=0,\"\",VLOOKUP(MID(A154,6,99)*1,'Data eshop'!D:W,19,FALSE)))","v":""},{"$f":"IF(A154=\"\",\"\",IF(VLOOKUP(MID(A154,6,99)*1,'Data eshop'!D:T,11,FALSE)=0,\"\",IF(OR(VLOOKUP(MID(A154,6,99)*1,'Data eshop'!D:T,11,FALSE)=\"Na dobírku\",VLOOKUP(MID(A154,6,99)*1,'Data eshop'!D:T,11,FALSE)=\"Na dobierku\",VLOOKUP(MID(A154,6,99)*1,'Data eshop'!D:T,11,FALSE)=\"Za pobraniem\"),VLOOKUP(MID(A154,6,99)*1,'Data eshop'!D:W,20,FALSE),\"\")))","v":""},{"$f":"IF(L154=\"\",\"\",IF(VLOOKUP(MID(A154,6,99)*1,'Data eshop'!D:T,10,FALSE)=0,\"\",IF(VLOOKUP(MID(A154,6,99)*1,'Data eshop'!D:T,10,FALSE)=\"Česká republika\",\"CZK\",IF(VLOOKUP(MID(A154,6,99)*1,'Data eshop'!D:T,10,FALSE)=\"Poland\",\"PLN\",IF(VLOOKUP(MID(A154,6,99)*1,'Data eshop'!D:T,10,FALSE)=\"Slovakia\",\"EUR\",\"\")))))","v":""},"",null,153,null,"Roluj nahoru, až uvidíš žlutou"]
[{"$f":"IFERROR(VLOOKUP(P155,Zakázky!P:Q,2,FALSE),\"\")","v":""},"",{"$f":"IF(A155=\"\",\"\",IF(VLOOKUP(MID(A155,6,99)*1,'Data eshop'!D:T,2,FALSE)=0,\"\",VLOOKUP(MID(A155,6,99)*1,'Data eshop'!D:T,2,FALSE)))","v":""},{"$f":"IF(A155=\"\",\"\",IF(VLOOKUP(MID(A155,6,99)*1,'Data eshop'!D:T,3,FALSE)=0,IF(VLOOKUP(MID(A155,6,99)*1,'Data eshop'!D:T,4,FALSE)=0,\"\",VLOOKUP(MID(A155,6,99)*1,'Data eshop'!D:T,4,FALSE)),VLOOKUP(MID(A155,6,99)*1,'Data eshop'!D:T,3,FALSE))&IF(VLOOKUP(MID(A155,6,99)*1,'Data eshop'!D:T,4,FALSE)=0,\"\",\" \"&VLOOKUP(MID(A155,6,99)*1,'Data eshop'!D:T,4,FALSE)))","v":""},{"$f":"IF(A155=\"\",\"\",IF(VLOOKUP(MID(A155,6,99)*1,'Data eshop'!D:T,5,FALSE)=0,\"\",VLOOKUP(MID(A155,6,99)*1,'Data eshop'!D:T,5,FALSE)))","v":""},{"$f":"IF(A155=\"\",\"\",IF(VLOOKUP(MID(A155,6,99)*1,'Data eshop'!D:T,6,FALSE)=0,\"\",VLOOKUP(MID(A155,6,99)*1,'Data eshop'!D:T,6,FALSE)))","v":""},{"$f":"IF(A155=\"\",\"\",IF(VLOOKUP(MID(A155,6,99)*1,'Data eshop'!D:T,7,FALSE)=0,\"\",VLOOKUP(MID(A155,6,99)*1,'Data eshop'!D:T,7,FALSE)))","v":""},{"$f":"IF(A155=\"\",\"\",IF(VLOOKUP(MID(A155,6,99)*1,'Data eshop'!D:T,10,FALSE)=0,\"\",VLOOKUP(VLOOKUP(MID(A155,6,99)*1,'Data eshop'!D:T,10,FALSE),DATA!O:P,2,FALSE)))","v":""},"",{"$f":"IF(A155=\"\",\"\",IF(VLOOKUP(MID(A155,6,99)*1,'Data eshop'!D:W,18,FALSE)=0,\"\",VLOOKUP(MID(A155,6,99)*1,'Data eshop'!D:W,18,FALSE)))","v":""},{"$f":"IF(A155=\"\",\"\",IF(VLOOKUP(MID(A155,6,99)*1,'Data eshop'!D:W,19,FALSE)=0,\"\",VLOOKUP(MID(A155,6,99)*1,'Data eshop'!D:W,19,FALSE)))","v":""},{"$f":"IF(A155=\"\",\"\",IF(VLOOKUP(MID(A155,6,99)*1,'Data eshop'!D:T,11,FALSE)=0,\"\",IF(OR(VLOOKUP(MID(A155,6,99)*1,'Data eshop'!D:T,11,FALSE)=\"Na dobírku\",VLOOKUP(MID(A155,6,99)*1,'Data eshop'!D:T,11,FALSE)=\"Na dobierku\",VLOOKUP(MID(A155,6,99)*1,'Data eshop'!D:T,11,FALSE)=\"Za pobraniem\"),VLOOKUP(MID(A155,6,99)*1,'Data eshop'!D:W,20,FALSE),\"\")))","v":""},{"$f":"IF(L155=\"\",\"\",IF(VLOOKUP(MID(A155,6,99)*1,'Data eshop'!D:T,10,FALSE)=0,\"\",IF(VLOOKUP(MID(A155,6,99)*1,'Data eshop'!D:T,10,FALSE)=\"Česká republika\",\"CZK\",IF(VLOOKUP(MID(A155,6,99)*1,'Data eshop'!D:T,10,FALSE)=\"Poland\",\"PLN\",IF(VLOOKUP(MID(A155,6,99)*1,'Data eshop'!D:T,10,FALSE)=\"Slovakia\",\"EUR\",\"\")))))","v":""},"",null,154]
[{"$f":"IFERROR(VLOOKUP(P156,Zakázky!P:Q,2,FALSE),\"\")","v":""},"",{"$f":"IF(A156=\"\",\"\",IF(VLOOKUP(MID(A156,6,99)*1,'Data eshop'!D:T,2,FALSE)=0,\"\",VLOOKUP(MID(A156,6,99)*1,'Data eshop'!D:T,2,FALSE)))","v":""},{"$f":"IF(A156=\"\",\"\",IF(VLOOKUP(MID(A156,6,99)*1,'Data eshop'!D:T,3,FALSE)=0,IF(VLOOKUP(MID(A156,6,99)*1,'Data eshop'!D:T,4,FALSE)=0,\"\",VLOOKUP(MID(A156,6,99)*1,'Data eshop'!D:T,4,FALSE)),VLOOKUP(MID(A156,6,99)*1,'Data eshop'!D:T,3,FALSE))&IF(VLOOKUP(MID(A156,6,99)*1,'Data eshop'!D:T,4,FALSE)=0,\"\",\" \"&VLOOKUP(MID(A156,6,99)*1,'Data eshop'!D:T,4,FALSE)))","v":""},{"$f":"IF(A156=\"\",\"\",IF(VLOOKUP(MID(A156,6,99)*1,'Data eshop'!D:T,5,FALSE)=0,\"\",VLOOKUP(MID(A156,6,99)*1,'Data eshop'!D:T,5,FALSE)))","v":""},{"$f":"IF(A156=\"\",\"\",IF(VLOOKUP(MID(A156,6,99)*1,'Data eshop'!D:T,6,FALSE)=0,\"\",VLOOKUP(MID(A156,6,99)*1,'Data eshop'!D:T,6,FALSE)))","v":""},{"$f":"IF(A156=\"\",\"\",IF(VLOOKUP(MID(A156,6,99)*1,'Data eshop'!D:T,7,FALSE)=0,\"\",VLOOKUP(MID(A156,6,99)*1,'Data eshop'!D:T,7,FALSE)))","v":""},{"$f":"IF(A156=\"\",\"\",IF(VLOOKUP(MID(A156,6,99)*1,'Data eshop'!D:T,10,FALSE)=0,\"\",VLOOKUP(VLOOKUP(MID(A156,6,99)*1,'Data eshop'!D:T,10,FALSE),DATA!O:P,2,FALSE)))","v":""},"",{"$f":"IF(A156=\"\",\"\",IF(VLOOKUP(MID(A156,6,99)*1,'Data eshop'!D:W,18,FALSE)=0,\"\",VLOOKUP(MID(A156,6,99)*1,'Data eshop'!D:W,18,FALSE)))","v":""},{"$f":"IF(A156=\"\",\"\",IF(VLOOKUP(MID(A156,6,99)*1,'Data eshop'!D:W,19,FALSE)=0,\"\",VLOOKUP(MID(A156,6,99)*1,'Data eshop'!D:W,19,FALSE)))","v":""},{"$f":"IF(A156=\"\",\"\",IF(VLOOKUP(MID(A156,6,99)*1,'Data eshop'!D:T,11,FALSE)=0,\"\",IF(OR(VLOOKUP(MID(A156,6,99)*1,'Data eshop'!D:T,11,FALSE)=\"Na dobírku\",VLOOKUP(MID(A156,6,99)*1,'Data eshop'!D:T,11,FALSE)=\"Na dobierku\",VLOOKUP(MID(A156,6,99)*1,'Data eshop'!D:T,11,FALSE)=\"Za pobraniem\"),VLOOKUP(MID(A156,6,99)*1,'Data eshop'!D:W,20,FALSE),\"\")))","v":""},{"$f":"IF(L156=\"\",\"\",IF(VLOOKUP(MID(A156,6,99)*1,'Data eshop'!D:T,10,FALSE)=0,\"\",IF(VLOOKUP(MID(A156,6,99)*1,'Data eshop'!D:T,10,FALSE)=\"Česká republika\",\"CZK\",IF(VLOOKUP(MID(A156,6,99)*1,'Data eshop'!D:T,10,FALSE)=\"Poland\",\"PLN\",IF(VLOOKUP(MID(A156,6,99)*1,'Data eshop'!D:T,10,FALSE)=\"Slovakia\",\"EUR\",\"\")))))","v":""},"",null,155]
[{"$f":"IFERROR(VLOOKUP(P157,Zakázky!P:Q,2,FALSE),\"\")","v":""},"",{"$f":"IF(A157=\"\",\"\",IF(VLOOKUP(MID(A157,6,99)*1,'Data eshop'!D:T,2,FALSE)=0,\"\",VLOOKUP(MID(A157,6,99)*1,'Data eshop'!D:T,2,FALSE)))","v":""},{"$f":"IF(A157=\"\",\"\",IF(VLOOKUP(MID(A157,6,99)*1,'Data eshop'!D:T,3,FALSE)=0,IF(VLOOKUP(MID(A157,6,99)*1,'Data eshop'!D:T,4,FALSE)=0,\"\",VLOOKUP(MID(A157,6,99)*1,'Data eshop'!D:T,4,FALSE)),VLOOKUP(MID(A157,6,99)*1,'Data eshop'!D:T,3,FALSE))&IF(VLOOKUP(MID(A157,6,99)*1,'Data eshop'!D:T,4,FALSE)=0,\"\",\" \"&VLOOKUP(MID(A157,6,99)*1,'Data eshop'!D:T,4,FALSE)))","v":""},{"$f":"IF(A157=\"\",\"\",IF(VLOOKUP(MID(A157,6,99)*1,'Data eshop'!D:T,5,FALSE)=0,\"\",VLOOKUP(MID(A157,6,99)*1,'Data eshop'!D:T,5,FALSE)))","v":""},{"$f":"IF(A157=\"\",\"\",IF(VLOOKUP(MID(A157,6,99)*1,'Data eshop'!D:T,6,FALSE)=0,\"\",VLOOKUP(MID(A157,6,99)*1,'Data eshop'!D:T,6,FALSE)))","v":""},{"$f":"IF(A157=\"\",\"\",IF(VLOOKUP(MID(A157,6,99)*1,'Data eshop'!D:T,7,FALSE)=0,\"\",VLOOKUP(MID(A157,6,99)*1,'Data eshop'!D:T,7,FALSE)))","v":""},{"$f":"IF(A157=\"\",\"\",IF(VLOOKUP(MID(A157,6,99)*1,'Data eshop'!D:T,10,FALSE)=0,\"\",VLOOKUP(VLOOKUP(MID(A157,6,99)*1,'Data eshop'!D:T,10,FALSE),DATA!O:P,2,FALSE)))","v":""},"",{"$f":"IF(A157=\"\",\"\",IF(VLOOKUP(MID(A157,6,99)*1,'Data eshop'!D:W,18,FALSE)=0,\"\",VLOOKUP(MID(A157,6,99)*1,'Data eshop'!D:W,18,FALSE)))","v":""},{"$f":"IF(A157=\"\",\"\",IF(VLOOKUP(MID(A157,6,99)*1,'Data eshop'!D:W,19,FALSE)=0,\"\",VLOOKUP(MID(A157,6,99)*1,'Data eshop'!D:W,19,FALSE)))","v":""},{"$f":"IF(A157=\"\",\"\",IF(VLOOKUP(MID(A157,6,99)*1,'Data eshop'!D:T,11,FALSE)=0,\"\",IF(OR(VLOOKUP(MID(A157,6,99)*1,'Data eshop'!D:T,11,FALSE)=\"Na dobírku\",VLOOKUP(MID(A157,6,99)*1,'Data eshop'!D:T,11,FALSE)=\"Na dobierku\",VLOOKUP(MID(A157,6,99)*1,'Data eshop'!D:T,11,FALSE)=\"Za pobraniem\"),VLOOKUP(MID(A157,6,99)*1,'Data eshop'!D:W,20,FALSE),\"\")))","v":""},{"$f":"IF(L157=\"\",\"\",IF(VLOOKUP(MID(A157,6,99)*1,'Data eshop'!D:T,10,FALSE)=0,\"\",IF(VLOOKUP(MID(A157,6,99)*1,'Data eshop'!D:T,10,FALSE)=\"Česká republika\",\"CZK\",IF(VLOOKUP(MID(A157,6,99)*1,'Data eshop'!D:T,10,FALSE)=\"Poland\",\"PLN\",IF(VLOOKUP(MID(A157,6,99)*1,'Data eshop'!D:T,10,FALSE)=\"Slovakia\",\"EUR\",\"\")))))","v":""},"",null,156]
[{"$f":"IFERROR(VLOOKUP(P158,Zakázky!P:Q,2,FALSE),\"\")","v":""},"",{"$f":"IF(A158=\"\",\"\",IF(VLOOKUP(MID(A158,6,99)*1,'Data eshop'!D:T,2,FALSE)=0,\"\",VLOOKUP(MID(A158,6,99)*1,'Data eshop'!D:T,2,FALSE)))","v":""},{"$f":"IF(A158=\"\",\"\",IF(VLOOKUP(MID(A158,6,99)*1,'Data eshop'!D:T,3,FALSE)=0,IF(VLOOKUP(MID(A158,6,99)*1,'Data eshop'!D:T,4,FALSE)=0,\"\",VLOOKUP(MID(A158,6,99)*1,'Data eshop'!D:T,4,FALSE)),VLOOKUP(MID(A158,6,99)*1,'Data eshop'!D:T,3,FALSE))&IF(VLOOKUP(MID(A158,6,99)*1,'Data eshop'!D:T,4,FALSE)=0,\"\",\" \"&VLOOKUP(MID(A158,6,99)*1,'Data eshop'!D:T,4,FALSE)))","v":""},{"$f":"IF(A158=\"\",\"\",IF(VLOOKUP(MID(A158,6,99)*1,'Data eshop'!D:T,5,FALSE)=0,\"\",VLOOKUP(MID(A158,6,99)*1,'Data eshop'!D:T,5,FALSE)))","v":""},{"$f":"IF(A158=\"\",\"\",IF(VLOOKUP(MID(A158,6,99)*1,'Data eshop'!D:T,6,FALSE)=0,\"\",VLOOKUP(MID(A158,6,99)*1,'Data eshop'!D:T,6,FALSE)))","v":""},{"$f":"IF(A158=\"\",\"\",IF(VLOOKUP(MID(A158,6,99)*1,'Data eshop'!D:T,7,FALSE)=0,\"\",VLOOKUP(MID(A158,6,99)*1,'Data eshop'!D:T,7,FALSE)))","v":""},{"$f":"IF(A158=\"\",\"\",IF(VLOOKUP(MID(A158,6,99)*1,'Data eshop'!D:T,10,FALSE)=0,\"\",VLOOKUP(VLOOKUP(MID(A158,6,99)*1,'Data eshop'!D:T,10,FALSE),DATA!O:P,2,FALSE)))","v":""},"",{"$f":"IF(A158=\"\",\"\",IF(VLOOKUP(MID(A158,6,99)*1,'Data eshop'!D:W,18,FALSE)=0,\"\",VLOOKUP(MID(A158,6,99)*1,'Data eshop'!D:W,18,FALSE)))","v":""},{"$f":"IF(A158=\"\",\"\",IF(VLOOKUP(MID(A158,6,99)*1,'Data eshop'!D:W,19,FALSE)=0,\"\",VLOOKUP(MID(A158,6,99)*1,'Data eshop'!D:W,19,FALSE)))","v":""},{"$f":"IF(A158=\"\",\"\",IF(VLOOKUP(MID(A158,6,99)*1,'Data eshop'!D:T,11,FALSE)=0,\"\",IF(OR(VLOOKUP(MID(A158,6,99)*1,'Data eshop'!D:T,11,FALSE)=\"Na dobírku\",VLOOKUP(MID(A158,6,99)*1,'Data eshop'!D:T,11,FALSE)=\"Na dobierku\",VLOOKUP(MID(A158,6,99)*1,'Data eshop'!D:T,11,FALSE)=\"Za pobraniem\"),VLOOKUP(MID(A158,6,99)*1,'Data eshop'!D:W,20,FALSE),\"\")))","v":""},{"$f":"IF(L158=\"\",\"\",IF(VLOOKUP(MID(A158,6,99)*1,'Data eshop'!D:T,10,FALSE)=0,\"\",IF(VLOOKUP(MID(A158,6,99)*1,'Data eshop'!D:T,10,FALSE)=\"Česká republika\",\"CZK\",IF(VLOOKUP(MID(A158,6,99)*1,'Data eshop'!D:T,10,FALSE)=\"Poland\",\"PLN\",IF(VLOOKUP(MID(A158,6,99)*1,'Data eshop'!D:T,10,FALSE)=\"Slovakia\",\"EUR\",\"\")))))","v":""},"",null,157,null,"Roluj nahoru, až uvidíš žlutou"]
[{"$f":"IFERROR(VLOOKUP(P159,Zakázky!P:Q,2,FALSE),\"\")","v":""},"",{"$f":"IF(A159=\"\",\"\",IF(VLOOKUP(MID(A159,6,99)*1,'Data eshop'!D:T,2,FALSE)=0,\"\",VLOOKUP(MID(A159,6,99)*1,'Data eshop'!D:T,2,FALSE)))","v":""},{"$f":"IF(A159=\"\",\"\",IF(VLOOKUP(MID(A159,6,99)*1,'Data eshop'!D:T,3,FALSE)=0,IF(VLOOKUP(MID(A159,6,99)*1,'Data eshop'!D:T,4,FALSE)=0,\"\",VLOOKUP(MID(A159,6,99)*1,'Data eshop'!D:T,4,FALSE)),VLOOKUP(MID(A159,6,99)*1,'Data eshop'!D:T,3,FALSE))&IF(VLOOKUP(MID(A159,6,99)*1,'Data eshop'!D:T,4,FALSE)=0,\"\",\" \"&VLOOKUP(MID(A159,6,99)*1,'Data eshop'!D:T,4,FALSE)))","v":""},{"$f":"IF(A159=\"\",\"\",IF(VLOOKUP(MID(A159,6,99)*1,'Data eshop'!D:T,5,FALSE)=0,\"\",VLOOKUP(MID(A159,6,99)*1,'Data eshop'!D:T,5,FALSE)))","v":""},{"$f":"IF(A159=\"\",\"\",IF(VLOOKUP(MID(A159,6,99)*1,'Data eshop'!D:T,6,FALSE)=0,\"\",VLOOKUP(MID(A159,6,99)*1,'Data eshop'!D:T,6,FALSE)))","v":""},{"$f":"IF(A159=\"\",\"\",IF(VLOOKUP(MID(A159,6,99)*1,'Data eshop'!D:T,7,FALSE)=0,\"\",VLOOKUP(MID(A159,6,99)*1,'Data eshop'!D:T,7,FALSE)))","v":""},{"$f":"IF(A159=\"\",\"\",IF(VLOOKUP(MID(A159,6,99)*1,'Data eshop'!D:T,10,FALSE)=0,\"\",VLOOKUP(VLOOKUP(MID(A159,6,99)*1,'Data eshop'!D:T,10,FALSE),DATA!O:P,2,FALSE)))","v":""},"",{"$f":"IF(A159=\"\",\"\",IF(VLOOKUP(MID(A159,6,99)*1,'Data eshop'!D:W,18,FALSE)=0,\"\",VLOOKUP(MID(A159,6,99)*1,'Data eshop'!D:W,18,FALSE)))","v":""},{"$f":"IF(A159=\"\",\"\",IF(VLOOKUP(MID(A159,6,99)*1,'Data eshop'!D:W,19,FALSE)=0,\"\",VLOOKUP(MID(A159,6,99)*1,'Data eshop'!D:W,19,FALSE)))","v":""},{"$f":"IF(A159=\"\",\"\",IF(VLOOKUP(MID(A159,6,99)*1,'Data eshop'!D:T,11,FALSE)=0,\"\",IF(OR(VLOOKUP(MID(A159,6,99)*1,'Data eshop'!D:T,11,FALSE)=\"Na dobírku\",VLOOKUP(MID(A159,6,99)*1,'Data eshop'!D:T,11,FALSE)=\"Na dobierku\",VLOOKUP(MID(A159,6,99)*1,'Data eshop'!D:T,11,FALSE)=\"Za pobraniem\"),VLOOKUP(MID(A159,6,99)*1,'Data eshop'!D:W,20,FALSE),\"\")))","v":""},{"$f":"IF(L159=\"\",\"\",IF(VLOOKUP(MID(A159,6,99)*1,'Data eshop'!D:T,10,FALSE)=0,\"\",IF(VLOOKUP(MID(A159,6,99)*1,'Data eshop'!D:T,10,FALSE)=\"Česká republika\",\"CZK\",IF(VLOOKUP(MID(A159,6,99)*1,'Data eshop'!D:T,10,FALSE)=\"Poland\",\"PLN\",IF(VLOOKUP(MID(A159,6,99)*1,'Data eshop'!D:T,10,FALSE)=\"Slovakia\",\"EUR\",\"\")))))","v":""},"",null,158]
[{"$f":"IFERROR(VLOOKUP(P160,Zakázky!P:Q,2,FALSE),\"\")","v":""},"",{"$f":"IF(A160=\"\",\"\",IF(VLOOKUP(MID(A160,6,99)*1,'Data eshop'!D:T,2,FALSE)=0,\"\",VLOOKUP(MID(A160,6,99)*1,'Data eshop'!D:T,2,FALSE)))","v":""},{"$f":"IF(A160=\"\",\"\",IF(VLOOKUP(MID(A160,6,99)*1,'Data eshop'!D:T,3,FALSE)=0,IF(VLOOKUP(MID(A160,6,99)*1,'Data eshop'!D:T,4,FALSE)=0,\"\",VLOOKUP(MID(A160,6,99)*1,'Data eshop'!D:T,4,FALSE)),VLOOKUP(MID(A160,6,99)*1,'Data eshop'!D:T,3,FALSE))&IF(VLOOKUP(MID(A160,6,99)*1,'Data eshop'!D:T,4,FALSE)=0,\"\",\" \"&VLOOKUP(MID(A160,6,99)*1,'Data eshop'!D:T,4,FALSE)))","v":""},{"$f":"IF(A160=\"\",\"\",IF(VLOOKUP(MID(A160,6,99)*1,'Data eshop'!D:T,5,FALSE)=0,\"\",VLOOKUP(MID(A160,6,99)*1,'Data eshop'!D:T,5,FALSE)))","v":""},{"$f":"IF(A160=\"\",\"\",IF(VLOOKUP(MID(A160,6,99)*1,'Data eshop'!D:T,6,FALSE)=0,\"\",VLOOKUP(MID(A160,6,99)*1,'Data eshop'!D:T,6,FALSE)))","v":""},{"$f":"IF(A160=\"\",\"\",IF(VLOOKUP(MID(A160,6,99)*1,'Data eshop'!D:T,7,FALSE)=0,\"\",VLOOKUP(MID(A160,6,99)*1,'Data eshop'!D:T,7,FALSE)))","v":""},{"$f":"IF(A160=\"\",\"\",IF(VLOOKUP(MID(A160,6,99)*1,'Data eshop'!D:T,10,FALSE)=0,\"\",VLOOKUP(VLOOKUP(MID(A160,6,99)*1,'Data eshop'!D:T,10,FALSE),DATA!O:P,2,FALSE)))","v":""},"",{"$f":"IF(A160=\"\",\"\",IF(VLOOKUP(MID(A160,6,99)*1,'Data eshop'!D:W,18,FALSE)=0,\"\",VLOOKUP(MID(A160,6,99)*1,'Data eshop'!D:W,18,FALSE)))","v":""},{"$f":"IF(A160=\"\",\"\",IF(VLOOKUP(MID(A160,6,99)*1,'Data eshop'!D:W,19,FALSE)=0,\"\",VLOOKUP(MID(A160,6,99)*1,'Data eshop'!D:W,19,FALSE)))","v":""},{"$f":"IF(A160=\"\",\"\",IF(VLOOKUP(MID(A160,6,99)*1,'Data eshop'!D:T,11,FALSE)=0,\"\",IF(OR(VLOOKUP(MID(A160,6,99)*1,'Data eshop'!D:T,11,FALSE)=\"Na dobírku\",VLOOKUP(MID(A160,6,99)*1,'Data eshop'!D:T,11,FALSE)=\"Na dobierku\",VLOOKUP(MID(A160,6,99)*1,'Data eshop'!D:T,11,FALSE)=\"Za pobraniem\"),VLOOKUP(MID(A160,6,99)*1,'Data eshop'!D:W,20,FALSE),\"\")))","v":""},{"$f":"IF(L160=\"\",\"\",IF(VLOOKUP(MID(A160,6,99)*1,'Data eshop'!D:T,10,FALSE)=0,\"\",IF(VLOOKUP(MID(A160,6,99)*1,'Data eshop'!D:T,10,FALSE)=\"Česká republika\",\"CZK\",IF(VLOOKUP(MID(A160,6,99)*1,'Data eshop'!D:T,10,FALSE)=\"Poland\",\"PLN\",IF(VLOOKUP(MID(A160,6,99)*1,'Data eshop'!D:T,10,FALSE)=\"Slovakia\",\"EUR\",\"\")))))","v":""},"",null,159]
[{"$f":"IFERROR(VLOOKUP(P161,Zakázky!P:Q,2,FALSE),\"\")","v":""},"",{"$f":"IF(A161=\"\",\"\",IF(VLOOKUP(MID(A161,6,99)*1,'Data eshop'!D:T,2,FALSE)=0,\"\",VLOOKUP(MID(A161,6,99)*1,'Data eshop'!D:T,2,FALSE)))","v":""},{"$f":"IF(A161=\"\",\"\",IF(VLOOKUP(MID(A161,6,99)*1,'Data eshop'!D:T,3,FALSE)=0,IF(VLOOKUP(MID(A161,6,99)*1,'Data eshop'!D:T,4,FALSE)=0,\"\",VLOOKUP(MID(A161,6,99)*1,'Data eshop'!D:T,4,FALSE)),VLOOKUP(MID(A161,6,99)*1,'Data eshop'!D:T,3,FALSE))&IF(VLOOKUP(MID(A161,6,99)*1,'Data eshop'!D:T,4,FALSE)=0,\"\",\" \"&VLOOKUP(MID(A161,6,99)*1,'Data eshop'!D:T,4,FALSE)))","v":""},{"$f":"IF(A161=\"\",\"\",IF(VLOOKUP(MID(A161,6,99)*1,'Data eshop'!D:T,5,FALSE)=0,\"\",VLOOKUP(MID(A161,6,99)*1,'Data eshop'!D:T,5,FALSE)))","v":""},{"$f":"IF(A161=\"\",\"\",IF(VLOOKUP(MID(A161,6,99)*1,'Data eshop'!D:T,6,FALSE)=0,\"\",VLOOKUP(MID(A161,6,99)*1,'Data eshop'!D:T,6,FALSE)))","v":""},{"$f":"IF(A161=\"\",\"\",IF(VLOOKUP(MID(A161,6,99)*1,'Data eshop'!D:T,7,FALSE)=0,\"\",VLOOKUP(MID(A161,6,99)*1,'Data eshop'!D:T,7,FALSE)))","v":""},{"$f":"IF(A161=\"\",\"\",IF(VLOOKUP(MID(A161,6,99)*1,'Data eshop'!D:T,10,FALSE)=0,\"\",VLOOKUP(VLOOKUP(MID(A161,6,99)*1,'Data eshop'!D:T,10,FALSE),DATA!O:P,2,FALSE)))","v":""},"",{"$f":"IF(A161=\"\",\"\",IF(VLOOKUP(MID(A161,6,99)*1,'Data eshop'!D:W,18,FALSE)=0,\"\",VLOOKUP(MID(A161,6,99)*1,'Data eshop'!D:W,18,FALSE)))","v":""},{"$f":"IF(A161=\"\",\"\",IF(VLOOKUP(MID(A161,6,99)*1,'Data eshop'!D:W,19,FALSE)=0,\"\",VLOOKUP(MID(A161,6,99)*1,'Data eshop'!D:W,19,FALSE)))","v":""},{"$f":"IF(A161=\"\",\"\",IF(VLOOKUP(MID(A161,6,99)*1,'Data eshop'!D:T,11,FALSE)=0,\"\",IF(OR(VLOOKUP(MID(A161,6,99)*1,'Data eshop'!D:T,11,FALSE)=\"Na dobírku\",VLOOKUP(MID(A161,6,99)*1,'Data eshop'!D:T,11,FALSE)=\"Na dobierku\",VLOOKUP(MID(A161,6,99)*1,'Data eshop'!D:T,11,FALSE)=\"Za pobraniem\"),VLOOKUP(MID(A161,6,99)*1,'Data eshop'!D:W,20,FALSE),\"\")))","v":""},{"$f":"IF(L161=\"\",\"\",IF(VLOOKUP(MID(A161,6,99)*1,'Data eshop'!D:T,10,FALSE)=0,\"\",IF(VLOOKUP(MID(A161,6,99)*1,'Data eshop'!D:T,10,FALSE)=\"Česká republika\",\"CZK\",IF(VLOOKUP(MID(A161,6,99)*1,'Data eshop'!D:T,10,FALSE)=\"Poland\",\"PLN\",IF(VLOOKUP(MID(A161,6,99)*1,'Data eshop'!D:T,10,FALSE)=\"Slovakia\",\"EUR\",\"\")))))","v":""},"",null,160]
[{"$f":"IFERROR(VLOOKUP(P162,Zakázky!P:Q,2,FALSE),\"\")","v":""},"",{"$f":"IF(A162=\"\",\"\",IF(VLOOKUP(MID(A162,6,99)*1,'Data eshop'!D:T,2,FALSE)=0,\"\",VLOOKUP(MID(A162,6,99)*1,'Data eshop'!D:T,2,FALSE)))","v":""},{"$f":"IF(A162=\"\",\"\",IF(VLOOKUP(MID(A162,6,99)*1,'Data eshop'!D:T,3,FALSE)=0,IF(VLOOKUP(MID(A162,6,99)*1,'Data eshop'!D:T,4,FALSE)=0,\"\",VLOOKUP(MID(A162,6,99)*1,'Data eshop'!D:T,4,FALSE)),VLOOKUP(MID(A162,6,99)*1,'Data eshop'!D:T,3,FALSE))&IF(VLOOKUP(MID(A162,6,99)*1,'Data eshop'!D:T,4,FALSE)=0,\"\",\" \"&VLOOKUP(MID(A162,6,99)*1,'Data eshop'!D:T,4,FALSE)))","v":""},{"$f":"IF(A162=\"\",\"\",IF(VLOOKUP(MID(A162,6,99)*1,'Data eshop'!D:T,5,FALSE)=0,\"\",VLOOKUP(MID(A162,6,99)*1,'Data eshop'!D:T,5,FALSE)))","v":""},{"$f":"IF(A162=\"\",\"\",IF(VLOOKUP(MID(A162,6,99)*1,'Data eshop'!D:T,6,FALSE)=0,\"\",VLOOKUP(MID(A162,6,99)*1,'Data eshop'!D:T,6,FALSE)))","v":""},{"$f":"IF(A162=\"\",\"\",IF(VLOOKUP(MID(A162,6,99)*1,'Data eshop'!D:T,7,FALSE)=0,\"\",VLOOKUP(MID(A162,6,99)*1,'Data eshop'!D:T,7,FALSE)))","v":""},{"$f":"IF(A162=\"\",\"\",IF(VLOOKUP(MID(A162,6,99)*1,'Data eshop'!D:T,10,FALSE)=0,\"\",VLOOKUP(VLOOKUP(MID(A162,6,99)*1,'Data eshop'!D:T,10,FALSE),DATA!O:P,2,FALSE)))","v":""},"",{"$f":"IF(A162=\"\",\"\",IF(VLOOKUP(MID(A162,6,99)*1,'Data eshop'!D:W,18,FALSE)=0,\"\",VLOOKUP(MID(A162,6,99)*1,'Data eshop'!D:W,18,FALSE)))","v":""},{"$f":"IF(A162=\"\",\"\",IF(VLOOKUP(MID(A162,6,99)*1,'Data eshop'!D:W,19,FALSE)=0,\"\",VLOOKUP(MID(A162,6,99)*1,'Data eshop'!D:W,19,FALSE)))","v":""},{"$f":"IF(A162=\"\",\"\",IF(VLOOKUP(MID(A162,6,99)*1,'Data eshop'!D:T,11,FALSE)=0,\"\",IF(OR(VLOOKUP(MID(A162,6,99)*1,'Data eshop'!D:T,11,FALSE)=\"Na dobírku\",VLOOKUP(MID(A162,6,99)*1,'Data eshop'!D:T,11,FALSE)=\"Na dobierku\",VLOOKUP(MID(A162,6,99)*1,'Data eshop'!D:T,11,FALSE)=\"Za pobraniem\"),VLOOKUP(MID(A162,6,99)*1,'Data eshop'!D:W,20,FALSE),\"\")))","v":""},{"$f":"IF(L162=\"\",\"\",IF(VLOOKUP(MID(A162,6,99)*1,'Data eshop'!D:T,10,FALSE)=0,\"\",IF(VLOOKUP(MID(A162,6,99)*1,'Data eshop'!D:T,10,FALSE)=\"Česká republika\",\"CZK\",IF(VLOOKUP(MID(A162,6,99)*1,'Data eshop'!D:T,10,FALSE)=\"Poland\",\"PLN\",IF(VLOOKUP(MID(A162,6,99)*1,'Data eshop'!D:T,10,FALSE)=\"Slovakia\",\"EUR\",\"\")))))","v":""},"",null,161,null,"Roluj nahoru, až uvidíš žlutou"]
[{"$f":"IFERROR(VLOOKUP(P163,Zakázky!P:Q,2,FALSE),\"\")","v":""},"",{"$f":"IF(A163=\"\",\"\",IF(VLOOKUP(MID(A163,6,99)*1,'Data eshop'!D:T,2,FALSE)=0,\"\",VLOOKUP(MID(A163,6,99)*1,'Data eshop'!D:T,2,FALSE)))","v":""},{"$f":"IF(A163=\"\",\"\",IF(VLOOKUP(MID(A163,6,99)*1,'Data eshop'!D:T,3,FALSE)=0,IF(VLOOKUP(MID(A163,6,99)*1,'Data eshop'!D:T,4,FALSE)=0,\"\",VLOOKUP(MID(A163,6,99)*1,'Data eshop'!D:T,4,FALSE)),VLOOKUP(MID(A163,6,99)*1,'Data eshop'!D:T,3,FALSE))&IF(VLOOKUP(MID(A163,6,99)*1,'Data eshop'!D:T,4,FALSE)=0,\"\",\" \"&VLOOKUP(MID(A163,6,99)*1,'Data eshop'!D:T,4,FALSE)))","v":""},{"$f":"IF(A163=\"\",\"\",IF(VLOOKUP(MID(A163,6,99)*1,'Data eshop'!D:T,5,FALSE)=0,\"\",VLOOKUP(MID(A163,6,99)*1,'Data eshop'!D:T,5,FALSE)))","v":""},{"$f":"IF(A163=\"\",\"\",IF(VLOOKUP(MID(A163,6,99)*1,'Data eshop'!D:T,6,FALSE)=0,\"\",VLOOKUP(MID(A163,6,99)*1,'Data eshop'!D:T,6,FALSE)))","v":""},{"$f":"IF(A163=\"\",\"\",IF(VLOOKUP(MID(A163,6,99)*1,'Data eshop'!D:T,7,FALSE)=0,\"\",VLOOKUP(MID(A163,6,99)*1,'Data eshop'!D:T,7,FALSE)))","v":""},{"$f":"IF(A163=\"\",\"\",IF(VLOOKUP(MID(A163,6,99)*1,'Data eshop'!D:T,10,FALSE)=0,\"\",VLOOKUP(VLOOKUP(MID(A163,6,99)*1,'Data eshop'!D:T,10,FALSE),DATA!O:P,2,FALSE)))","v":""},"",{"$f":"IF(A163=\"\",\"\",IF(VLOOKUP(MID(A163,6,99)*1,'Data eshop'!D:W,18,FALSE)=0,\"\",VLOOKUP(MID(A163,6,99)*1,'Data eshop'!D:W,18,FALSE)))","v":""},{"$f":"IF(A163=\"\",\"\",IF(VLOOKUP(MID(A163,6,99)*1,'Data eshop'!D:W,19,FALSE)=0,\"\",VLOOKUP(MID(A163,6,99)*1,'Data eshop'!D:W,19,FALSE)))","v":""},{"$f":"IF(A163=\"\",\"\",IF(VLOOKUP(MID(A163,6,99)*1,'Data eshop'!D:T,11,FALSE)=0,\"\",IF(OR(VLOOKUP(MID(A163,6,99)*1,'Data eshop'!D:T,11,FALSE)=\"Na dobírku\",VLOOKUP(MID(A163,6,99)*1,'Data eshop'!D:T,11,FALSE)=\"Na dobierku\",VLOOKUP(MID(A163,6,99)*1,'Data eshop'!D:T,11,FALSE)=\"Za pobraniem\"),VLOOKUP(MID(A163,6,99)*1,'Data eshop'!D:W,20,FALSE),\"\")))","v":""},{"$f":"IF(L163=\"\",\"\",IF(VLOOKUP(MID(A163,6,99)*1,'Data eshop'!D:T,10,FALSE)=0,\"\",IF(VLOOKUP(MID(A163,6,99)*1,'Data eshop'!D:T,10,FALSE)=\"Česká republika\",\"CZK\",IF(VLOOKUP(MID(A163,6,99)*1,'Data eshop'!D:T,10,FALSE)=\"Poland\",\"PLN\",IF(VLOOKUP(MID(A163,6,99)*1,'Data eshop'!D:T,10,FALSE)=\"Slovakia\",\"EUR\",\"\")))))","v":""},"",null,162]
[{"$f":"IFERROR(VLOOKUP(P164,Zakázky!P:Q,2,FALSE),\"\")","v":""},"",{"$f":"IF(A164=\"\",\"\",IF(VLOOKUP(MID(A164,6,99)*1,'Data eshop'!D:T,2,FALSE)=0,\"\",VLOOKUP(MID(A164,6,99)*1,'Data eshop'!D:T,2,FALSE)))","v":""},{"$f":"IF(A164=\"\",\"\",IF(VLOOKUP(MID(A164,6,99)*1,'Data eshop'!D:T,3,FALSE)=0,IF(VLOOKUP(MID(A164,6,99)*1,'Data eshop'!D:T,4,FALSE)=0,\"\",VLOOKUP(MID(A164,6,99)*1,'Data eshop'!D:T,4,FALSE)),VLOOKUP(MID(A164,6,99)*1,'Data eshop'!D:T,3,FALSE))&IF(VLOOKUP(MID(A164,6,99)*1,'Data eshop'!D:T,4,FALSE)=0,\"\",\" \"&VLOOKUP(MID(A164,6,99)*1,'Data eshop'!D:T,4,FALSE)))","v":""},{"$f":"IF(A164=\"\",\"\",IF(VLOOKUP(MID(A164,6,99)*1,'Data eshop'!D:T,5,FALSE)=0,\"\",VLOOKUP(MID(A164,6,99)*1,'Data eshop'!D:T,5,FALSE)))","v":""},{"$f":"IF(A164=\"\",\"\",IF(VLOOKUP(MID(A164,6,99)*1,'Data eshop'!D:T,6,FALSE)=0,\"\",VLOOKUP(MID(A164,6,99)*1,'Data eshop'!D:T,6,FALSE)))","v":""},{"$f":"IF(A164=\"\",\"\",IF(VLOOKUP(MID(A164,6,99)*1,'Data eshop'!D:T,7,FALSE)=0,\"\",VLOOKUP(MID(A164,6,99)*1,'Data eshop'!D:T,7,FALSE)))","v":""},{"$f":"IF(A164=\"\",\"\",IF(VLOOKUP(MID(A164,6,99)*1,'Data eshop'!D:T,10,FALSE)=0,\"\",VLOOKUP(VLOOKUP(MID(A164,6,99)*1,'Data eshop'!D:T,10,FALSE),DATA!O:P,2,FALSE)))","v":""},"",{"$f":"IF(A164=\"\",\"\",IF(VLOOKUP(MID(A164,6,99)*1,'Data eshop'!D:W,18,FALSE)=0,\"\",VLOOKUP(MID(A164,6,99)*1,'Data eshop'!D:W,18,FALSE)))","v":""},{"$f":"IF(A164=\"\",\"\",IF(VLOOKUP(MID(A164,6,99)*1,'Data eshop'!D:W,19,FALSE)=0,\"\",VLOOKUP(MID(A164,6,99)*1,'Data eshop'!D:W,19,FALSE)))","v":""},{"$f":"IF(A164=\"\",\"\",IF(VLOOKUP(MID(A164,6,99)*1,'Data eshop'!D:T,11,FALSE)=0,\"\",IF(OR(VLOOKUP(MID(A164,6,99)*1,'Data eshop'!D:T,11,FALSE)=\"Na dobírku\",VLOOKUP(MID(A164,6,99)*1,'Data eshop'!D:T,11,FALSE)=\"Na dobierku\",VLOOKUP(MID(A164,6,99)*1,'Data eshop'!D:T,11,FALSE)=\"Za pobraniem\"),VLOOKUP(MID(A164,6,99)*1,'Data eshop'!D:W,20,FALSE),\"\")))","v":""},{"$f":"IF(L164=\"\",\"\",IF(VLOOKUP(MID(A164,6,99)*1,'Data eshop'!D:T,10,FALSE)=0,\"\",IF(VLOOKUP(MID(A164,6,99)*1,'Data eshop'!D:T,10,FALSE)=\"Česká republika\",\"CZK\",IF(VLOOKUP(MID(A164,6,99)*1,'Data eshop'!D:T,10,FALSE)=\"Poland\",\"PLN\",IF(VLOOKUP(MID(A164,6,99)*1,'Data eshop'!D:T,10,FALSE)=\"Slovakia\",\"EUR\",\"\")))))","v":""},"",null,163]
[{"$f":"IFERROR(VLOOKUP(P165,Zakázky!P:Q,2,FALSE),\"\")","v":""},"",{"$f":"IF(A165=\"\",\"\",IF(VLOOKUP(MID(A165,6,99)*1,'Data eshop'!D:T,2,FALSE)=0,\"\",VLOOKUP(MID(A165,6,99)*1,'Data eshop'!D:T,2,FALSE)))","v":""},{"$f":"IF(A165=\"\",\"\",IF(VLOOKUP(MID(A165,6,99)*1,'Data eshop'!D:T,3,FALSE)=0,IF(VLOOKUP(MID(A165,6,99)*1,'Data eshop'!D:T,4,FALSE)=0,\"\",VLOOKUP(MID(A165,6,99)*1,'Data eshop'!D:T,4,FALSE)),VLOOKUP(MID(A165,6,99)*1,'Data eshop'!D:T,3,FALSE))&IF(VLOOKUP(MID(A165,6,99)*1,'Data eshop'!D:T,4,FALSE)=0,\"\",\" \"&VLOOKUP(MID(A165,6,99)*1,'Data eshop'!D:T,4,FALSE)))","v":""},{"$f":"IF(A165=\"\",\"\",IF(VLOOKUP(MID(A165,6,99)*1,'Data eshop'!D:T,5,FALSE)=0,\"\",VLOOKUP(MID(A165,6,99)*1,'Data eshop'!D:T,5,FALSE)))","v":""},{"$f":"IF(A165=\"\",\"\",IF(VLOOKUP(MID(A165,6,99)*1,'Data eshop'!D:T,6,FALSE)=0,\"\",VLOOKUP(MID(A165,6,99)*1,'Data eshop'!D:T,6,FALSE)))","v":""},{"$f":"IF(A165=\"\",\"\",IF(VLOOKUP(MID(A165,6,99)*1,'Data eshop'!D:T,7,FALSE)=0,\"\",VLOOKUP(MID(A165,6,99)*1,'Data eshop'!D:T,7,FALSE)))","v":""},{"$f":"IF(A165=\"\",\"\",IF(VLOOKUP(MID(A165,6,99)*1,'Data eshop'!D:T,10,FALSE)=0,\"\",VLOOKUP(VLOOKUP(MID(A165,6,99)*1,'Data eshop'!D:T,10,FALSE),DATA!O:P,2,FALSE)))","v":""},"",{"$f":"IF(A165=\"\",\"\",IF(VLOOKUP(MID(A165,6,99)*1,'Data eshop'!D:W,18,FALSE)=0,\"\",VLOOKUP(MID(A165,6,99)*1,'Data eshop'!D:W,18,FALSE)))","v":""},{"$f":"IF(A165=\"\",\"\",IF(VLOOKUP(MID(A165,6,99)*1,'Data eshop'!D:W,19,FALSE)=0,\"\",VLOOKUP(MID(A165,6,99)*1,'Data eshop'!D:W,19,FALSE)))","v":""},{"$f":"IF(A165=\"\",\"\",IF(VLOOKUP(MID(A165,6,99)*1,'Data eshop'!D:T,11,FALSE)=0,\"\",IF(OR(VLOOKUP(MID(A165,6,99)*1,'Data eshop'!D:T,11,FALSE)=\"Na dobírku\",VLOOKUP(MID(A165,6,99)*1,'Data eshop'!D:T,11,FALSE)=\"Na dobierku\",VLOOKUP(MID(A165,6,99)*1,'Data eshop'!D:T,11,FALSE)=\"Za pobraniem\"),VLOOKUP(MID(A165,6,99)*1,'Data eshop'!D:W,20,FALSE),\"\")))","v":""},{"$f":"IF(L165=\"\",\"\",IF(VLOOKUP(MID(A165,6,99)*1,'Data eshop'!D:T,10,FALSE)=0,\"\",IF(VLOOKUP(MID(A165,6,99)*1,'Data eshop'!D:T,10,FALSE)=\"Česká republika\",\"CZK\",IF(VLOOKUP(MID(A165,6,99)*1,'Data eshop'!D:T,10,FALSE)=\"Poland\",\"PLN\",IF(VLOOKUP(MID(A165,6,99)*1,'Data eshop'!D:T,10,FALSE)=\"Slovakia\",\"EUR\",\"\")))))","v":""},"",null,164]
[{"$f":"IFERROR(VLOOKUP(P166,Zakázky!P:Q,2,FALSE),\"\")","v":""},"",{"$f":"IF(A166=\"\",\"\",IF(VLOOKUP(MID(A166,6,99)*1,'Data eshop'!D:T,2,FALSE)=0,\"\",VLOOKUP(MID(A166,6,99)*1,'Data eshop'!D:T,2,FALSE)))","v":""},{"$f":"IF(A166=\"\",\"\",IF(VLOOKUP(MID(A166,6,99)*1,'Data eshop'!D:T,3,FALSE)=0,IF(VLOOKUP(MID(A166,6,99)*1,'Data eshop'!D:T,4,FALSE)=0,\"\",VLOOKUP(MID(A166,6,99)*1,'Data eshop'!D:T,4,FALSE)),VLOOKUP(MID(A166,6,99)*1,'Data eshop'!D:T,3,FALSE))&IF(VLOOKUP(MID(A166,6,99)*1,'Data eshop'!D:T,4,FALSE)=0,\"\",\" \"&VLOOKUP(MID(A166,6,99)*1,'Data eshop'!D:T,4,FALSE)))","v":""},{"$f":"IF(A166=\"\",\"\",IF(VLOOKUP(MID(A166,6,99)*1,'Data eshop'!D:T,5,FALSE)=0,\"\",VLOOKUP(MID(A166,6,99)*1,'Data eshop'!D:T,5,FALSE)))","v":""},{"$f":"IF(A166=\"\",\"\",IF(VLOOKUP(MID(A166,6,99)*1,'Data eshop'!D:T,6,FALSE)=0,\"\",VLOOKUP(MID(A166,6,99)*1,'Data eshop'!D:T,6,FALSE)))","v":""},{"$f":"IF(A166=\"\",\"\",IF(VLOOKUP(MID(A166,6,99)*1,'Data eshop'!D:T,7,FALSE)=0,\"\",VLOOKUP(MID(A166,6,99)*1,'Data eshop'!D:T,7,FALSE)))","v":""},{"$f":"IF(A166=\"\",\"\",IF(VLOOKUP(MID(A166,6,99)*1,'Data eshop'!D:T,10,FALSE)=0,\"\",VLOOKUP(VLOOKUP(MID(A166,6,99)*1,'Data eshop'!D:T,10,FALSE),DATA!O:P,2,FALSE)))","v":""},"",{"$f":"IF(A166=\"\",\"\",IF(VLOOKUP(MID(A166,6,99)*1,'Data eshop'!D:W,18,FALSE)=0,\"\",VLOOKUP(MID(A166,6,99)*1,'Data eshop'!D:W,18,FALSE)))","v":""},{"$f":"IF(A166=\"\",\"\",IF(VLOOKUP(MID(A166,6,99)*1,'Data eshop'!D:W,19,FALSE)=0,\"\",VLOOKUP(MID(A166,6,99)*1,'Data eshop'!D:W,19,FALSE)))","v":""},{"$f":"IF(A166=\"\",\"\",IF(VLOOKUP(MID(A166,6,99)*1,'Data eshop'!D:T,11,FALSE)=0,\"\",IF(OR(VLOOKUP(MID(A166,6,99)*1,'Data eshop'!D:T,11,FALSE)=\"Na dobírku\",VLOOKUP(MID(A166,6,99)*1,'Data eshop'!D:T,11,FALSE)=\"Na dobierku\",VLOOKUP(MID(A166,6,99)*1,'Data eshop'!D:T,11,FALSE)=\"Za pobraniem\"),VLOOKUP(MID(A166,6,99)*1,'Data eshop'!D:W,20,FALSE),\"\")))","v":""},{"$f":"IF(L166=\"\",\"\",IF(VLOOKUP(MID(A166,6,99)*1,'Data eshop'!D:T,10,FALSE)=0,\"\",IF(VLOOKUP(MID(A166,6,99)*1,'Data eshop'!D:T,10,FALSE)=\"Česká republika\",\"CZK\",IF(VLOOKUP(MID(A166,6,99)*1,'Data eshop'!D:T,10,FALSE)=\"Poland\",\"PLN\",IF(VLOOKUP(MID(A166,6,99)*1,'Data eshop'!D:T,10,FALSE)=\"Slovakia\",\"EUR\",\"\")))))","v":""},"",null,165,null,"Roluj nahoru, až uvidíš žlutou"]
[{"$f":"IFERROR(VLOOKUP(P167,Zakázky!P:Q,2,FALSE),\"\")","v":""},"",{"$f":"IF(A167=\"\",\"\",IF(VLOOKUP(MID(A167,6,99)*1,'Data eshop'!D:T,2,FALSE)=0,\"\",VLOOKUP(MID(A167,6,99)*1,'Data eshop'!D:T,2,FALSE)))","v":""},{"$f":"IF(A167=\"\",\"\",IF(VLOOKUP(MID(A167,6,99)*1,'Data eshop'!D:T,3,FALSE)=0,IF(VLOOKUP(MID(A167,6,99)*1,'Data eshop'!D:T,4,FALSE)=0,\"\",VLOOKUP(MID(A167,6,99)*1,'Data eshop'!D:T,4,FALSE)),VLOOKUP(MID(A167,6,99)*1,'Data eshop'!D:T,3,FALSE))&IF(VLOOKUP(MID(A167,6,99)*1,'Data eshop'!D:T,4,FALSE)=0,\"\",\" \"&VLOOKUP(MID(A167,6,99)*1,'Data eshop'!D:T,4,FALSE)))","v":""},{"$f":"IF(A167=\"\",\"\",IF(VLOOKUP(MID(A167,6,99)*1,'Data eshop'!D:T,5,FALSE)=0,\"\",VLOOKUP(MID(A167,6,99)*1,'Data eshop'!D:T,5,FALSE)))","v":""},{"$f":"IF(A167=\"\",\"\",IF(VLOOKUP(MID(A167,6,99)*1,'Data eshop'!D:T,6,FALSE)=0,\"\",VLOOKUP(MID(A167,6,99)*1,'Data eshop'!D:T,6,FALSE)))","v":""},{"$f":"IF(A167=\"\",\"\",IF(VLOOKUP(MID(A167,6,99)*1,'Data eshop'!D:T,7,FALSE)=0,\"\",VLOOKUP(MID(A167,6,99)*1,'Data eshop'!D:T,7,FALSE)))","v":""},{"$f":"IF(A167=\"\",\"\",IF(VLOOKUP(MID(A167,6,99)*1,'Data eshop'!D:T,10,FALSE)=0,\"\",VLOOKUP(VLOOKUP(MID(A167,6,99)*1,'Data eshop'!D:T,10,FALSE),DATA!O:P,2,FALSE)))","v":""},"",{"$f":"IF(A167=\"\",\"\",IF(VLOOKUP(MID(A167,6,99)*1,'Data eshop'!D:W,18,FALSE)=0,\"\",VLOOKUP(MID(A167,6,99)*1,'Data eshop'!D:W,18,FALSE)))","v":""},{"$f":"IF(A167=\"\",\"\",IF(VLOOKUP(MID(A167,6,99)*1,'Data eshop'!D:W,19,FALSE)=0,\"\",VLOOKUP(MID(A167,6,99)*1,'Data eshop'!D:W,19,FALSE)))","v":""},{"$f":"IF(A167=\"\",\"\",IF(VLOOKUP(MID(A167,6,99)*1,'Data eshop'!D:T,11,FALSE)=0,\"\",IF(OR(VLOOKUP(MID(A167,6,99)*1,'Data eshop'!D:T,11,FALSE)=\"Na dobírku\",VLOOKUP(MID(A167,6,99)*1,'Data eshop'!D:T,11,FALSE)=\"Na dobierku\",VLOOKUP(MID(A167,6,99)*1,'Data eshop'!D:T,11,FALSE)=\"Za pobraniem\"),VLOOKUP(MID(A167,6,99)*1,'Data eshop'!D:W,20,FALSE),\"\")))","v":""},{"$f":"IF(L167=\"\",\"\",IF(VLOOKUP(MID(A167,6,99)*1,'Data eshop'!D:T,10,FALSE)=0,\"\",IF(VLOOKUP(MID(A167,6,99)*1,'Data eshop'!D:T,10,FALSE)=\"Česká republika\",\"CZK\",IF(VLOOKUP(MID(A167,6,99)*1,'Data eshop'!D:T,10,FALSE)=\"Poland\",\"PLN\",IF(VLOOKUP(MID(A167,6,99)*1,'Data eshop'!D:T,10,FALSE)=\"Slovakia\",\"EUR\",\"\")))))","v":""},"",null,166]
[{"$f":"IFERROR(VLOOKUP(P168,Zakázky!P:Q,2,FALSE),\"\")","v":""},"",{"$f":"IF(A168=\"\",\"\",IF(VLOOKUP(MID(A168,6,99)*1,'Data eshop'!D:T,2,FALSE)=0,\"\",VLOOKUP(MID(A168,6,99)*1,'Data eshop'!D:T,2,FALSE)))","v":""},{"$f":"IF(A168=\"\",\"\",IF(VLOOKUP(MID(A168,6,99)*1,'Data eshop'!D:T,3,FALSE)=0,IF(VLOOKUP(MID(A168,6,99)*1,'Data eshop'!D:T,4,FALSE)=0,\"\",VLOOKUP(MID(A168,6,99)*1,'Data eshop'!D:T,4,FALSE)),VLOOKUP(MID(A168,6,99)*1,'Data eshop'!D:T,3,FALSE))&IF(VLOOKUP(MID(A168,6,99)*1,'Data eshop'!D:T,4,FALSE)=0,\"\",\" \"&VLOOKUP(MID(A168,6,99)*1,'Data eshop'!D:T,4,FALSE)))","v":""},{"$f":"IF(A168=\"\",\"\",IF(VLOOKUP(MID(A168,6,99)*1,'Data eshop'!D:T,5,FALSE)=0,\"\",VLOOKUP(MID(A168,6,99)*1,'Data eshop'!D:T,5,FALSE)))","v":""},{"$f":"IF(A168=\"\",\"\",IF(VLOOKUP(MID(A168,6,99)*1,'Data eshop'!D:T,6,FALSE)=0,\"\",VLOOKUP(MID(A168,6,99)*1,'Data eshop'!D:T,6,FALSE)))","v":""},{"$f":"IF(A168=\"\",\"\",IF(VLOOKUP(MID(A168,6,99)*1,'Data eshop'!D:T,7,FALSE)=0,\"\",VLOOKUP(MID(A168,6,99)*1,'Data eshop'!D:T,7,FALSE)))","v":""},{"$f":"IF(A168=\"\",\"\",IF(VLOOKUP(MID(A168,6,99)*1,'Data eshop'!D:T,10,FALSE)=0,\"\",VLOOKUP(VLOOKUP(MID(A168,6,99)*1,'Data eshop'!D:T,10,FALSE),DATA!O:P,2,FALSE)))","v":""},"",{"$f":"IF(A168=\"\",\"\",IF(VLOOKUP(MID(A168,6,99)*1,'Data eshop'!D:W,18,FALSE)=0,\"\",VLOOKUP(MID(A168,6,99)*1,'Data eshop'!D:W,18,FALSE)))","v":""},{"$f":"IF(A168=\"\",\"\",IF(VLOOKUP(MID(A168,6,99)*1,'Data eshop'!D:W,19,FALSE)=0,\"\",VLOOKUP(MID(A168,6,99)*1,'Data eshop'!D:W,19,FALSE)))","v":""},{"$f":"IF(A168=\"\",\"\",IF(VLOOKUP(MID(A168,6,99)*1,'Data eshop'!D:T,11,FALSE)=0,\"\",IF(OR(VLOOKUP(MID(A168,6,99)*1,'Data eshop'!D:T,11,FALSE)=\"Na dobírku\",VLOOKUP(MID(A168,6,99)*1,'Data eshop'!D:T,11,FALSE)=\"Na dobierku\",VLOOKUP(MID(A168,6,99)*1,'Data eshop'!D:T,11,FALSE)=\"Za pobraniem\"),VLOOKUP(MID(A168,6,99)*1,'Data eshop'!D:W,20,FALSE),\"\")))","v":""},{"$f":"IF(L168=\"\",\"\",IF(VLOOKUP(MID(A168,6,99)*1,'Data eshop'!D:T,10,FALSE)=0,\"\",IF(VLOOKUP(MID(A168,6,99)*1,'Data eshop'!D:T,10,FALSE)=\"Česká republika\",\"CZK\",IF(VLOOKUP(MID(A168,6,99)*1,'Data eshop'!D:T,10,FALSE)=\"Poland\",\"PLN\",IF(VLOOKUP(MID(A168,6,99)*1,'Data eshop'!D:T,10,FALSE)=\"Slovakia\",\"EUR\",\"\")))))","v":""},"",null,167]
[{"$f":"IFERROR(VLOOKUP(P169,Zakázky!P:Q,2,FALSE),\"\")","v":""},"",{"$f":"IF(A169=\"\",\"\",IF(VLOOKUP(MID(A169,6,99)*1,'Data eshop'!D:T,2,FALSE)=0,\"\",VLOOKUP(MID(A169,6,99)*1,'Data eshop'!D:T,2,FALSE)))","v":""},{"$f":"IF(A169=\"\",\"\",IF(VLOOKUP(MID(A169,6,99)*1,'Data eshop'!D:T,3,FALSE)=0,IF(VLOOKUP(MID(A169,6,99)*1,'Data eshop'!D:T,4,FALSE)=0,\"\",VLOOKUP(MID(A169,6,99)*1,'Data eshop'!D:T,4,FALSE)),VLOOKUP(MID(A169,6,99)*1,'Data eshop'!D:T,3,FALSE))&IF(VLOOKUP(MID(A169,6,99)*1,'Data eshop'!D:T,4,FALSE)=0,\"\",\" \"&VLOOKUP(MID(A169,6,99)*1,'Data eshop'!D:T,4,FALSE)))","v":""},{"$f":"IF(A169=\"\",\"\",IF(VLOOKUP(MID(A169,6,99)*1,'Data eshop'!D:T,5,FALSE)=0,\"\",VLOOKUP(MID(A169,6,99)*1,'Data eshop'!D:T,5,FALSE)))","v":""},{"$f":"IF(A169=\"\",\"\",IF(VLOOKUP(MID(A169,6,99)*1,'Data eshop'!D:T,6,FALSE)=0,\"\",VLOOKUP(MID(A169,6,99)*1,'Data eshop'!D:T,6,FALSE)))","v":""},{"$f":"IF(A169=\"\",\"\",IF(VLOOKUP(MID(A169,6,99)*1,'Data eshop'!D:T,7,FALSE)=0,\"\",VLOOKUP(MID(A169,6,99)*1,'Data eshop'!D:T,7,FALSE)))","v":""},{"$f":"IF(A169=\"\",\"\",IF(VLOOKUP(MID(A169,6,99)*1,'Data eshop'!D:T,10,FALSE)=0,\"\",VLOOKUP(VLOOKUP(MID(A169,6,99)*1,'Data eshop'!D:T,10,FALSE),DATA!O:P,2,FALSE)))","v":""},"",{"$f":"IF(A169=\"\",\"\",IF(VLOOKUP(MID(A169,6,99)*1,'Data eshop'!D:W,18,FALSE)=0,\"\",VLOOKUP(MID(A169,6,99)*1,'Data eshop'!D:W,18,FALSE)))","v":""},{"$f":"IF(A169=\"\",\"\",IF(VLOOKUP(MID(A169,6,99)*1,'Data eshop'!D:W,19,FALSE)=0,\"\",VLOOKUP(MID(A169,6,99)*1,'Data eshop'!D:W,19,FALSE)))","v":""},{"$f":"IF(A169=\"\",\"\",IF(VLOOKUP(MID(A169,6,99)*1,'Data eshop'!D:T,11,FALSE)=0,\"\",IF(OR(VLOOKUP(MID(A169,6,99)*1,'Data eshop'!D:T,11,FALSE)=\"Na dobírku\",VLOOKUP(MID(A169,6,99)*1,'Data eshop'!D:T,11,FALSE)=\"Na dobierku\",VLOOKUP(MID(A169,6,99)*1,'Data eshop'!D:T,11,FALSE)=\"Za pobraniem\"),VLOOKUP(MID(A169,6,99)*1,'Data eshop'!D:W,20,FALSE),\"\")))","v":""},{"$f":"IF(L169=\"\",\"\",IF(VLOOKUP(MID(A169,6,99)*1,'Data eshop'!D:T,10,FALSE)=0,\"\",IF(VLOOKUP(MID(A169,6,99)*1,'Data eshop'!D:T,10,FALSE)=\"Česká republika\",\"CZK\",IF(VLOOKUP(MID(A169,6,99)*1,'Data eshop'!D:T,10,FALSE)=\"Poland\",\"PLN\",IF(VLOOKUP(MID(A169,6,99)*1,'Data eshop'!D:T,10,FALSE)=\"Slovakia\",\"EUR\",\"\")))))","v":""},"",null,168]
[{"$f":"IFERROR(VLOOKUP(P170,Zakázky!P:Q,2,FALSE),\"\")","v":""},"",{"$f":"IF(A170=\"\",\"\",IF(VLOOKUP(MID(A170,6,99)*1,'Data eshop'!D:T,2,FALSE)=0,\"\",VLOOKUP(MID(A170,6,99)*1,'Data eshop'!D:T,2,FALSE)))","v":""},{"$f":"IF(A170=\"\",\"\",IF(VLOOKUP(MID(A170,6,99)*1,'Data eshop'!D:T,3,FALSE)=0,IF(VLOOKUP(MID(A170,6,99)*1,'Data eshop'!D:T,4,FALSE)=0,\"\",VLOOKUP(MID(A170,6,99)*1,'Data eshop'!D:T,4,FALSE)),VLOOKUP(MID(A170,6,99)*1,'Data eshop'!D:T,3,FALSE))&IF(VLOOKUP(MID(A170,6,99)*1,'Data eshop'!D:T,4,FALSE)=0,\"\",\" \"&VLOOKUP(MID(A170,6,99)*1,'Data eshop'!D:T,4,FALSE)))","v":""},{"$f":"IF(A170=\"\",\"\",IF(VLOOKUP(MID(A170,6,99)*1,'Data eshop'!D:T,5,FALSE)=0,\"\",VLOOKUP(MID(A170,6,99)*1,'Data eshop'!D:T,5,FALSE)))","v":""},{"$f":"IF(A170=\"\",\"\",IF(VLOOKUP(MID(A170,6,99)*1,'Data eshop'!D:T,6,FALSE)=0,\"\",VLOOKUP(MID(A170,6,99)*1,'Data eshop'!D:T,6,FALSE)))","v":""},{"$f":"IF(A170=\"\",\"\",IF(VLOOKUP(MID(A170,6,99)*1,'Data eshop'!D:T,7,FALSE)=0,\"\",VLOOKUP(MID(A170,6,99)*1,'Data eshop'!D:T,7,FALSE)))","v":""},{"$f":"IF(A170=\"\",\"\",IF(VLOOKUP(MID(A170,6,99)*1,'Data eshop'!D:T,10,FALSE)=0,\"\",VLOOKUP(VLOOKUP(MID(A170,6,99)*1,'Data eshop'!D:T,10,FALSE),DATA!O:P,2,FALSE)))","v":""},"",{"$f":"IF(A170=\"\",\"\",IF(VLOOKUP(MID(A170,6,99)*1,'Data eshop'!D:W,18,FALSE)=0,\"\",VLOOKUP(MID(A170,6,99)*1,'Data eshop'!D:W,18,FALSE)))","v":""},{"$f":"IF(A170=\"\",\"\",IF(VLOOKUP(MID(A170,6,99)*1,'Data eshop'!D:W,19,FALSE)=0,\"\",VLOOKUP(MID(A170,6,99)*1,'Data eshop'!D:W,19,FALSE)))","v":""},{"$f":"IF(A170=\"\",\"\",IF(VLOOKUP(MID(A170,6,99)*1,'Data eshop'!D:T,11,FALSE)=0,\"\",IF(OR(VLOOKUP(MID(A170,6,99)*1,'Data eshop'!D:T,11,FALSE)=\"Na dobírku\",VLOOKUP(MID(A170,6,99)*1,'Data eshop'!D:T,11,FALSE)=\"Na dobierku\",VLOOKUP(MID(A170,6,99)*1,'Data eshop'!D:T,11,FALSE)=\"Za pobraniem\"),VLOOKUP(MID(A170,6,99)*1,'Data eshop'!D:W,20,FALSE),\"\")))","v":""},{"$f":"IF(L170=\"\",\"\",IF(VLOOKUP(MID(A170,6,99)*1,'Data eshop'!D:T,10,FALSE)=0,\"\",IF(VLOOKUP(MID(A170,6,99)*1,'Data eshop'!D:T,10,FALSE)=\"Česká republika\",\"CZK\",IF(VLOOKUP(MID(A170,6,99)*1,'Data eshop'!D:T,10,FALSE)=\"Poland\",\"PLN\",IF(VLOOKUP(MID(A170,6,99)*1,'Data eshop'!D:T,10,FALSE)=\"Slovakia\",\"EUR\",\"\")))))","v":""},"",null,169,null,"Roluj nahoru, až uvidíš žlutou"]
[{"$f":"IFERROR(VLOOKUP(P171,Zakázky!P:Q,2,FALSE),\"\")","v":""},"",{"$f":"IF(A171=\"\",\"\",IF(VLOOKUP(MID(A171,6,99)*1,'Data eshop'!D:T,2,FALSE)=0,\"\",VLOOKUP(MID(A171,6,99)*1,'Data eshop'!D:T,2,FALSE)))","v":""},{"$f":"IF(A171=\"\",\"\",IF(VLOOKUP(MID(A171,6,99)*1,'Data eshop'!D:T,3,FALSE)=0,IF(VLOOKUP(MID(A171,6,99)*1,'Data eshop'!D:T,4,FALSE)=0,\"\",VLOOKUP(MID(A171,6,99)*1,'Data eshop'!D:T,4,FALSE)),VLOOKUP(MID(A171,6,99)*1,'Data eshop'!D:T,3,FALSE))&IF(VLOOKUP(MID(A171,6,99)*1,'Data eshop'!D:T,4,FALSE)=0,\"\",\" \"&VLOOKUP(MID(A171,6,99)*1,'Data eshop'!D:T,4,FALSE)))","v":""},{"$f":"IF(A171=\"\",\"\",IF(VLOOKUP(MID(A171,6,99)*1,'Data eshop'!D:T,5,FALSE)=0,\"\",VLOOKUP(MID(A171,6,99)*1,'Data eshop'!D:T,5,FALSE)))","v":""},{"$f":"IF(A171=\"\",\"\",IF(VLOOKUP(MID(A171,6,99)*1,'Data eshop'!D:T,6,FALSE)=0,\"\",VLOOKUP(MID(A171,6,99)*1,'Data eshop'!D:T,6,FALSE)))","v":""},{"$f":"IF(A171=\"\",\"\",IF(VLOOKUP(MID(A171,6,99)*1,'Data eshop'!D:T,7,FALSE)=0,\"\",VLOOKUP(MID(A171,6,99)*1,'Data eshop'!D:T,7,FALSE)))","v":""},{"$f":"IF(A171=\"\",\"\",IF(VLOOKUP(MID(A171,6,99)*1,'Data eshop'!D:T,10,FALSE)=0,\"\",VLOOKUP(VLOOKUP(MID(A171,6,99)*1,'Data eshop'!D:T,10,FALSE),DATA!O:P,2,FALSE)))","v":""},"",{"$f":"IF(A171=\"\",\"\",IF(VLOOKUP(MID(A171,6,99)*1,'Data eshop'!D:W,18,FALSE)=0,\"\",VLOOKUP(MID(A171,6,99)*1,'Data eshop'!D:W,18,FALSE)))","v":""},{"$f":"IF(A171=\"\",\"\",IF(VLOOKUP(MID(A171,6,99)*1,'Data eshop'!D:W,19,FALSE)=0,\"\",VLOOKUP(MID(A171,6,99)*1,'Data eshop'!D:W,19,FALSE)))","v":""},{"$f":"IF(A171=\"\",\"\",IF(VLOOKUP(MID(A171,6,99)*1,'Data eshop'!D:T,11,FALSE)=0,\"\",IF(OR(VLOOKUP(MID(A171,6,99)*1,'Data eshop'!D:T,11,FALSE)=\"Na dobírku\",VLOOKUP(MID(A171,6,99)*1,'Data eshop'!D:T,11,FALSE)=\"Na dobierku\",VLOOKUP(MID(A171,6,99)*1,'Data eshop'!D:T,11,FALSE)=\"Za pobraniem\"),VLOOKUP(MID(A171,6,99)*1,'Data eshop'!D:W,20,FALSE),\"\")))","v":""},{"$f":"IF(L171=\"\",\"\",IF(VLOOKUP(MID(A171,6,99)*1,'Data eshop'!D:T,10,FALSE)=0,\"\",IF(VLOOKUP(MID(A171,6,99)*1,'Data eshop'!D:T,10,FALSE)=\"Česká republika\",\"CZK\",IF(VLOOKUP(MID(A171,6,99)*1,'Data eshop'!D:T,10,FALSE)=\"Poland\",\"PLN\",IF(VLOOKUP(MID(A171,6,99)*1,'Data eshop'!D:T,10,FALSE)=\"Slovakia\",\"EUR\",\"\")))))","v":""},"",null,170]
[{"$f":"IFERROR(VLOOKUP(P172,Zakázky!P:Q,2,FALSE),\"\")","v":""},"",{"$f":"IF(A172=\"\",\"\",IF(VLOOKUP(MID(A172,6,99)*1,'Data eshop'!D:T,2,FALSE)=0,\"\",VLOOKUP(MID(A172,6,99)*1,'Data eshop'!D:T,2,FALSE)))","v":""},{"$f":"IF(A172=\"\",\"\",IF(VLOOKUP(MID(A172,6,99)*1,'Data eshop'!D:T,3,FALSE)=0,IF(VLOOKUP(MID(A172,6,99)*1,'Data eshop'!D:T,4,FALSE)=0,\"\",VLOOKUP(MID(A172,6,99)*1,'Data eshop'!D:T,4,FALSE)),VLOOKUP(MID(A172,6,99)*1,'Data eshop'!D:T,3,FALSE))&IF(VLOOKUP(MID(A172,6,99)*1,'Data eshop'!D:T,4,FALSE)=0,\"\",\" \"&VLOOKUP(MID(A172,6,99)*1,'Data eshop'!D:T,4,FALSE)))","v":""},{"$f":"IF(A172=\"\",\"\",IF(VLOOKUP(MID(A172,6,99)*1,'Data eshop'!D:T,5,FALSE)=0,\"\",VLOOKUP(MID(A172,6,99)*1,'Data eshop'!D:T,5,FALSE)))","v":""},{"$f":"IF(A172=\"\",\"\",IF(VLOOKUP(MID(A172,6,99)*1,'Data eshop'!D:T,6,FALSE)=0,\"\",VLOOKUP(MID(A172,6,99)*1,'Data eshop'!D:T,6,FALSE)))","v":""},{"$f":"IF(A172=\"\",\"\",IF(VLOOKUP(MID(A172,6,99)*1,'Data eshop'!D:T,7,FALSE)=0,\"\",VLOOKUP(MID(A172,6,99)*1,'Data eshop'!D:T,7,FALSE)))","v":""},{"$f":"IF(A172=\"\",\"\",IF(VLOOKUP(MID(A172,6,99)*1,'Data eshop'!D:T,10,FALSE)=0,\"\",VLOOKUP(VLOOKUP(MID(A172,6,99)*1,'Data eshop'!D:T,10,FALSE),DATA!O:P,2,FALSE)))","v":""},"",{"$f":"IF(A172=\"\",\"\",IF(VLOOKUP(MID(A172,6,99)*1,'Data eshop'!D:W,18,FALSE)=0,\"\",VLOOKUP(MID(A172,6,99)*1,'Data eshop'!D:W,18,FALSE)))","v":""},{"$f":"IF(A172=\"\",\"\",IF(VLOOKUP(MID(A172,6,99)*1,'Data eshop'!D:W,19,FALSE)=0,\"\",VLOOKUP(MID(A172,6,99)*1,'Data eshop'!D:W,19,FALSE)))","v":""},{"$f":"IF(A172=\"\",\"\",IF(VLOOKUP(MID(A172,6,99)*1,'Data eshop'!D:T,11,FALSE)=0,\"\",IF(OR(VLOOKUP(MID(A172,6,99)*1,'Data eshop'!D:T,11,FALSE)=\"Na dobírku\",VLOOKUP(MID(A172,6,99)*1,'Data eshop'!D:T,11,FALSE)=\"Na dobierku\",VLOOKUP(MID(A172,6,99)*1,'Data eshop'!D:T,11,FALSE)=\"Za pobraniem\"),VLOOKUP(MID(A172,6,99)*1,'Data eshop'!D:W,20,FALSE),\"\")))","v":""},{"$f":"IF(L172=\"\",\"\",IF(VLOOKUP(MID(A172,6,99)*1,'Data eshop'!D:T,10,FALSE)=0,\"\",IF(VLOOKUP(MID(A172,6,99)*1,'Data eshop'!D:T,10,FALSE)=\"Česká republika\",\"CZK\",IF(VLOOKUP(MID(A172,6,99)*1,'Data eshop'!D:T,10,FALSE)=\"Poland\",\"PLN\",IF(VLOOKUP(MID(A172,6,99)*1,'Data eshop'!D:T,10,FALSE)=\"Slovakia\",\"EUR\",\"\")))))","v":""},"",null,171]
[{"$f":"IFERROR(VLOOKUP(P173,Zakázky!P:Q,2,FALSE),\"\")","v":""},"",{"$f":"IF(A173=\"\",\"\",IF(VLOOKUP(MID(A173,6,99)*1,'Data eshop'!D:T,2,FALSE)=0,\"\",VLOOKUP(MID(A173,6,99)*1,'Data eshop'!D:T,2,FALSE)))","v":""},{"$f":"IF(A173=\"\",\"\",IF(VLOOKUP(MID(A173,6,99)*1,'Data eshop'!D:T,3,FALSE)=0,IF(VLOOKUP(MID(A173,6,99)*1,'Data eshop'!D:T,4,FALSE)=0,\"\",VLOOKUP(MID(A173,6,99)*1,'Data eshop'!D:T,4,FALSE)),VLOOKUP(MID(A173,6,99)*1,'Data eshop'!D:T,3,FALSE))&IF(VLOOKUP(MID(A173,6,99)*1,'Data eshop'!D:T,4,FALSE)=0,\"\",\" \"&VLOOKUP(MID(A173,6,99)*1,'Data eshop'!D:T,4,FALSE)))","v":""},{"$f":"IF(A173=\"\",\"\",IF(VLOOKUP(MID(A173,6,99)*1,'Data eshop'!D:T,5,FALSE)=0,\"\",VLOOKUP(MID(A173,6,99)*1,'Data eshop'!D:T,5,FALSE)))","v":""},{"$f":"IF(A173=\"\",\"\",IF(VLOOKUP(MID(A173,6,99)*1,'Data eshop'!D:T,6,FALSE)=0,\"\",VLOOKUP(MID(A173,6,99)*1,'Data eshop'!D:T,6,FALSE)))","v":""},{"$f":"IF(A173=\"\",\"\",IF(VLOOKUP(MID(A173,6,99)*1,'Data eshop'!D:T,7,FALSE)=0,\"\",VLOOKUP(MID(A173,6,99)*1,'Data eshop'!D:T,7,FALSE)))","v":""},{"$f":"IF(A173=\"\",\"\",IF(VLOOKUP(MID(A173,6,99)*1,'Data eshop'!D:T,10,FALSE)=0,\"\",VLOOKUP(VLOOKUP(MID(A173,6,99)*1,'Data eshop'!D:T,10,FALSE),DATA!O:P,2,FALSE)))","v":""},"",{"$f":"IF(A173=\"\",\"\",IF(VLOOKUP(MID(A173,6,99)*1,'Data eshop'!D:W,18,FALSE)=0,\"\",VLOOKUP(MID(A173,6,99)*1,'Data eshop'!D:W,18,FALSE)))","v":""},{"$f":"IF(A173=\"\",\"\",IF(VLOOKUP(MID(A173,6,99)*1,'Data eshop'!D:W,19,FALSE)=0,\"\",VLOOKUP(MID(A173,6,99)*1,'Data eshop'!D:W,19,FALSE)))","v":""},{"$f":"IF(A173=\"\",\"\",IF(VLOOKUP(MID(A173,6,99)*1,'Data eshop'!D:T,11,FALSE)=0,\"\",IF(OR(VLOOKUP(MID(A173,6,99)*1,'Data eshop'!D:T,11,FALSE)=\"Na dobírku\",VLOOKUP(MID(A173,6,99)*1,'Data eshop'!D:T,11,FALSE)=\"Na dobierku\",VLOOKUP(MID(A173,6,99)*1,'Data eshop'!D:T,11,FALSE)=\"Za pobraniem\"),VLOOKUP(MID(A173,6,99)*1,'Data eshop'!D:W,20,FALSE),\"\")))","v":""},{"$f":"IF(L173=\"\",\"\",IF(VLOOKUP(MID(A173,6,99)*1,'Data eshop'!D:T,10,FALSE)=0,\"\",IF(VLOOKUP(MID(A173,6,99)*1,'Data eshop'!D:T,10,FALSE)=\"Česká republika\",\"CZK\",IF(VLOOKUP(MID(A173,6,99)*1,'Data eshop'!D:T,10,FALSE)=\"Poland\",\"PLN\",IF(VLOOKUP(MID(A173,6,99)*1,'Data eshop'!D:T,10,FALSE)=\"Slovakia\",\"EUR\",\"\")))))","v":""},"",null,172]
[{"$f":"IFERROR(VLOOKUP(P174,Zakázky!P:Q,2,FALSE),\"\")","v":""},"",{"$f":"IF(A174=\"\",\"\",IF(VLOOKUP(MID(A174,6,99)*1,'Data eshop'!D:T,2,FALSE)=0,\"\",VLOOKUP(MID(A174,6,99)*1,'Data eshop'!D:T,2,FALSE)))","v":""},{"$f":"IF(A174=\"\",\"\",IF(VLOOKUP(MID(A174,6,99)*1,'Data eshop'!D:T,3,FALSE)=0,IF(VLOOKUP(MID(A174,6,99)*1,'Data eshop'!D:T,4,FALSE)=0,\"\",VLOOKUP(MID(A174,6,99)*1,'Data eshop'!D:T,4,FALSE)),VLOOKUP(MID(A174,6,99)*1,'Data eshop'!D:T,3,FALSE))&IF(VLOOKUP(MID(A174,6,99)*1,'Data eshop'!D:T,4,FALSE)=0,\"\",\" \"&VLOOKUP(MID(A174,6,99)*1,'Data eshop'!D:T,4,FALSE)))","v":""},{"$f":"IF(A174=\"\",\"\",IF(VLOOKUP(MID(A174,6,99)*1,'Data eshop'!D:T,5,FALSE)=0,\"\",VLOOKUP(MID(A174,6,99)*1,'Data eshop'!D:T,5,FALSE)))","v":""},{"$f":"IF(A174=\"\",\"\",IF(VLOOKUP(MID(A174,6,99)*1,'Data eshop'!D:T,6,FALSE)=0,\"\",VLOOKUP(MID(A174,6,99)*1,'Data eshop'!D:T,6,FALSE)))","v":""},{"$f":"IF(A174=\"\",\"\",IF(VLOOKUP(MID(A174,6,99)*1,'Data eshop'!D:T,7,FALSE)=0,\"\",VLOOKUP(MID(A174,6,99)*1,'Data eshop'!D:T,7,FALSE)))","v":""},{"$f":"IF(A174=\"\",\"\",IF(VLOOKUP(MID(A174,6,99)*1,'Data eshop'!D:T,10,FALSE)=0,\"\",VLOOKUP(VLOOKUP(MID(A174,6,99)*1,'Data eshop'!D:T,10,FALSE),DATA!O:P,2,FALSE)))","v":""},"",{"$f":"IF(A174=\"\",\"\",IF(VLOOKUP(MID(A174,6,99)*1,'Data eshop'!D:W,18,FALSE)=0,\"\",VLOOKUP(MID(A174,6,99)*1,'Data eshop'!D:W,18,FALSE)))","v":""},{"$f":"IF(A174=\"\",\"\",IF(VLOOKUP(MID(A174,6,99)*1,'Data eshop'!D:W,19,FALSE)=0,\"\",VLOOKUP(MID(A174,6,99)*1,'Data eshop'!D:W,19,FALSE)))","v":""},{"$f":"IF(A174=\"\",\"\",IF(VLOOKUP(MID(A174,6,99)*1,'Data eshop'!D:T,11,FALSE)=0,\"\",IF(OR(VLOOKUP(MID(A174,6,99)*1,'Data eshop'!D:T,11,FALSE)=\"Na dobírku\",VLOOKUP(MID(A174,6,99)*1,'Data eshop'!D:T,11,FALSE)=\"Na dobierku\",VLOOKUP(MID(A174,6,99)*1,'Data eshop'!D:T,11,FALSE)=\"Za pobraniem\"),VLOOKUP(MID(A174,6,99)*1,'Data eshop'!D:W,20,FALSE),\"\")))","v":""},{"$f":"IF(L174=\"\",\"\",IF(VLOOKUP(MID(A174,6,99)*1,'Data eshop'!D:T,10,FALSE)=0,\"\",IF(VLOOKUP(MID(A174,6,99)*1,'Data eshop'!D:T,10,FALSE)=\"Česká republika\",\"CZK\",IF(VLOOKUP(MID(A174,6,99)*1,'Data eshop'!D:T,10,FALSE)=\"Poland\",\"PLN\",IF(VLOOKUP(MID(A174,6,99)*1,'Data eshop'!D:T,10,FALSE)=\"Slovakia\",\"EUR\",\"\")))))","v":""},"",null,173,null,"Roluj nahoru, až uvidíš žlutou"]
[{"$f":"IFERROR(VLOOKUP(P175,Zakázky!P:Q,2,FALSE),\"\")","v":""},"",{"$f":"IF(A175=\"\",\"\",IF(VLOOKUP(MID(A175,6,99)*1,'Data eshop'!D:T,2,FALSE)=0,\"\",VLOOKUP(MID(A175,6,99)*1,'Data eshop'!D:T,2,FALSE)))","v":""},{"$f":"IF(A175=\"\",\"\",IF(VLOOKUP(MID(A175,6,99)*1,'Data eshop'!D:T,3,FALSE)=0,IF(VLOOKUP(MID(A175,6,99)*1,'Data eshop'!D:T,4,FALSE)=0,\"\",VLOOKUP(MID(A175,6,99)*1,'Data eshop'!D:T,4,FALSE)),VLOOKUP(MID(A175,6,99)*1,'Data eshop'!D:T,3,FALSE))&IF(VLOOKUP(MID(A175,6,99)*1,'Data eshop'!D:T,4,FALSE)=0,\"\",\" \"&VLOOKUP(MID(A175,6,99)*1,'Data eshop'!D:T,4,FALSE)))","v":""},{"$f":"IF(A175=\"\",\"\",IF(VLOOKUP(MID(A175,6,99)*1,'Data eshop'!D:T,5,FALSE)=0,\"\",VLOOKUP(MID(A175,6,99)*1,'Data eshop'!D:T,5,FALSE)))","v":""},{"$f":"IF(A175=\"\",\"\",IF(VLOOKUP(MID(A175,6,99)*1,'Data eshop'!D:T,6,FALSE)=0,\"\",VLOOKUP(MID(A175,6,99)*1,'Data eshop'!D:T,6,FALSE)))","v":""},{"$f":"IF(A175=\"\",\"\",IF(VLOOKUP(MID(A175,6,99)*1,'Data eshop'!D:T,7,FALSE)=0,\"\",VLOOKUP(MID(A175,6,99)*1,'Data eshop'!D:T,7,FALSE)))","v":""},{"$f":"IF(A175=\"\",\"\",IF(VLOOKUP(MID(A175,6,99)*1,'Data eshop'!D:T,10,FALSE)=0,\"\",VLOOKUP(VLOOKUP(MID(A175,6,99)*1,'Data eshop'!D:T,10,FALSE),DATA!O:P,2,FALSE)))","v":""},"",{"$f":"IF(A175=\"\",\"\",IF(VLOOKUP(MID(A175,6,99)*1,'Data eshop'!D:W,18,FALSE)=0,\"\",VLOOKUP(MID(A175,6,99)*1,'Data eshop'!D:W,18,FALSE)))","v":""},{"$f":"IF(A175=\"\",\"\",IF(VLOOKUP(MID(A175,6,99)*1,'Data eshop'!D:W,19,FALSE)=0,\"\",VLOOKUP(MID(A175,6,99)*1,'Data eshop'!D:W,19,FALSE)))","v":""},{"$f":"IF(A175=\"\",\"\",IF(VLOOKUP(MID(A175,6,99)*1,'Data eshop'!D:T,11,FALSE)=0,\"\",IF(OR(VLOOKUP(MID(A175,6,99)*1,'Data eshop'!D:T,11,FALSE)=\"Na dobírku\",VLOOKUP(MID(A175,6,99)*1,'Data eshop'!D:T,11,FALSE)=\"Na dobierku\",VLOOKUP(MID(A175,6,99)*1,'Data eshop'!D:T,11,FALSE)=\"Za pobraniem\"),VLOOKUP(MID(A175,6,99)*1,'Data eshop'!D:W,20,FALSE),\"\")))","v":""},{"$f":"IF(L175=\"\",\"\",IF(VLOOKUP(MID(A175,6,99)*1,'Data eshop'!D:T,10,FALSE)=0,\"\",IF(VLOOKUP(MID(A175,6,99)*1,'Data eshop'!D:T,10,FALSE)=\"Česká republika\",\"CZK\",IF(VLOOKUP(MID(A175,6,99)*1,'Data eshop'!D:T,10,FALSE)=\"Poland\",\"PLN\",IF(VLOOKUP(MID(A175,6,99)*1,'Data eshop'!D:T,10,FALSE)=\"Slovakia\",\"EUR\",\"\")))))","v":""},"",null,174]
[{"$f":"IFERROR(VLOOKUP(P176,Zakázky!P:Q,2,FALSE),\"\")","v":""},"",{"$f":"IF(A176=\"\",\"\",IF(VLOOKUP(MID(A176,6,99)*1,'Data eshop'!D:T,2,FALSE)=0,\"\",VLOOKUP(MID(A176,6,99)*1,'Data eshop'!D:T,2,FALSE)))","v":""},{"$f":"IF(A176=\"\",\"\",IF(VLOOKUP(MID(A176,6,99)*1,'Data eshop'!D:T,3,FALSE)=0,IF(VLOOKUP(MID(A176,6,99)*1,'Data eshop'!D:T,4,FALSE)=0,\"\",VLOOKUP(MID(A176,6,99)*1,'Data eshop'!D:T,4,FALSE)),VLOOKUP(MID(A176,6,99)*1,'Data eshop'!D:T,3,FALSE))&IF(VLOOKUP(MID(A176,6,99)*1,'Data eshop'!D:T,4,FALSE)=0,\"\",\" \"&VLOOKUP(MID(A176,6,99)*1,'Data eshop'!D:T,4,FALSE)))","v":""},{"$f":"IF(A176=\"\",\"\",IF(VLOOKUP(MID(A176,6,99)*1,'Data eshop'!D:T,5,FALSE)=0,\"\",VLOOKUP(MID(A176,6,99)*1,'Data eshop'!D:T,5,FALSE)))","v":""},{"$f":"IF(A176=\"\",\"\",IF(VLOOKUP(MID(A176,6,99)*1,'Data eshop'!D:T,6,FALSE)=0,\"\",VLOOKUP(MID(A176,6,99)*1,'Data eshop'!D:T,6,FALSE)))","v":""},{"$f":"IF(A176=\"\",\"\",IF(VLOOKUP(MID(A176,6,99)*1,'Data eshop'!D:T,7,FALSE)=0,\"\",VLOOKUP(MID(A176,6,99)*1,'Data eshop'!D:T,7,FALSE)))","v":""},{"$f":"IF(A176=\"\",\"\",IF(VLOOKUP(MID(A176,6,99)*1,'Data eshop'!D:T,10,FALSE)=0,\"\",VLOOKUP(VLOOKUP(MID(A176,6,99)*1,'Data eshop'!D:T,10,FALSE),DATA!O:P,2,FALSE)))","v":""},"",{"$f":"IF(A176=\"\",\"\",IF(VLOOKUP(MID(A176,6,99)*1,'Data eshop'!D:W,18,FALSE)=0,\"\",VLOOKUP(MID(A176,6,99)*1,'Data eshop'!D:W,18,FALSE)))","v":""},{"$f":"IF(A176=\"\",\"\",IF(VLOOKUP(MID(A176,6,99)*1,'Data eshop'!D:W,19,FALSE)=0,\"\",VLOOKUP(MID(A176,6,99)*1,'Data eshop'!D:W,19,FALSE)))","v":""},{"$f":"IF(A176=\"\",\"\",IF(VLOOKUP(MID(A176,6,99)*1,'Data eshop'!D:T,11,FALSE)=0,\"\",IF(OR(VLOOKUP(MID(A176,6,99)*1,'Data eshop'!D:T,11,FALSE)=\"Na dobírku\",VLOOKUP(MID(A176,6,99)*1,'Data eshop'!D:T,11,FALSE)=\"Na dobierku\",VLOOKUP(MID(A176,6,99)*1,'Data eshop'!D:T,11,FALSE)=\"Za pobraniem\"),VLOOKUP(MID(A176,6,99)*1,'Data eshop'!D:W,20,FALSE),\"\")))","v":""},{"$f":"IF(L176=\"\",\"\",IF(VLOOKUP(MID(A176,6,99)*1,'Data eshop'!D:T,10,FALSE)=0,\"\",IF(VLOOKUP(MID(A176,6,99)*1,'Data eshop'!D:T,10,FALSE)=\"Česká republika\",\"CZK\",IF(VLOOKUP(MID(A176,6,99)*1,'Data eshop'!D:T,10,FALSE)=\"Poland\",\"PLN\",IF(VLOOKUP(MID(A176,6,99)*1,'Data eshop'!D:T,10,FALSE)=\"Slovakia\",\"EUR\",\"\")))))","v":""},"",null,175]
[{"$f":"IFERROR(VLOOKUP(P177,Zakázky!P:Q,2,FALSE),\"\")","v":""},"",{"$f":"IF(A177=\"\",\"\",IF(VLOOKUP(MID(A177,6,99)*1,'Data eshop'!D:T,2,FALSE)=0,\"\",VLOOKUP(MID(A177,6,99)*1,'Data eshop'!D:T,2,FALSE)))","v":""},{"$f":"IF(A177=\"\",\"\",IF(VLOOKUP(MID(A177,6,99)*1,'Data eshop'!D:T,3,FALSE)=0,IF(VLOOKUP(MID(A177,6,99)*1,'Data eshop'!D:T,4,FALSE)=0,\"\",VLOOKUP(MID(A177,6,99)*1,'Data eshop'!D:T,4,FALSE)),VLOOKUP(MID(A177,6,99)*1,'Data eshop'!D:T,3,FALSE))&IF(VLOOKUP(MID(A177,6,99)*1,'Data eshop'!D:T,4,FALSE)=0,\"\",\" \"&VLOOKUP(MID(A177,6,99)*1,'Data eshop'!D:T,4,FALSE)))","v":""},{"$f":"IF(A177=\"\",\"\",IF(VLOOKUP(MID(A177,6,99)*1,'Data eshop'!D:T,5,FALSE)=0,\"\",VLOOKUP(MID(A177,6,99)*1,'Data eshop'!D:T,5,FALSE)))","v":""},{"$f":"IF(A177=\"\",\"\",IF(VLOOKUP(MID(A177,6,99)*1,'Data eshop'!D:T,6,FALSE)=0,\"\",VLOOKUP(MID(A177,6,99)*1,'Data eshop'!D:T,6,FALSE)))","v":""},{"$f":"IF(A177=\"\",\"\",IF(VLOOKUP(MID(A177,6,99)*1,'Data eshop'!D:T,7,FALSE)=0,\"\",VLOOKUP(MID(A177,6,99)*1,'Data eshop'!D:T,7,FALSE)))","v":""},{"$f":"IF(A177=\"\",\"\",IF(VLOOKUP(MID(A177,6,99)*1,'Data eshop'!D:T,10,FALSE)=0,\"\",VLOOKUP(VLOOKUP(MID(A177,6,99)*1,'Data eshop'!D:T,10,FALSE),DATA!O:P,2,FALSE)))","v":""},"",{"$f":"IF(A177=\"\",\"\",IF(VLOOKUP(MID(A177,6,99)*1,'Data eshop'!D:W,18,FALSE)=0,\"\",VLOOKUP(MID(A177,6,99)*1,'Data eshop'!D:W,18,FALSE)))","v":""},{"$f":"IF(A177=\"\",\"\",IF(VLOOKUP(MID(A177,6,99)*1,'Data eshop'!D:W,19,FALSE)=0,\"\",VLOOKUP(MID(A177,6,99)*1,'Data eshop'!D:W,19,FALSE)))","v":""},{"$f":"IF(A177=\"\",\"\",IF(VLOOKUP(MID(A177,6,99)*1,'Data eshop'!D:T,11,FALSE)=0,\"\",IF(OR(VLOOKUP(MID(A177,6,99)*1,'Data eshop'!D:T,11,FALSE)=\"Na dobírku\",VLOOKUP(MID(A177,6,99)*1,'Data eshop'!D:T,11,FALSE)=\"Na dobierku\",VLOOKUP(MID(A177,6,99)*1,'Data eshop'!D:T,11,FALSE)=\"Za pobraniem\"),VLOOKUP(MID(A177,6,99)*1,'Data eshop'!D:W,20,FALSE),\"\")))","v":""},{"$f":"IF(L177=\"\",\"\",IF(VLOOKUP(MID(A177,6,99)*1,'Data eshop'!D:T,10,FALSE)=0,\"\",IF(VLOOKUP(MID(A177,6,99)*1,'Data eshop'!D:T,10,FALSE)=\"Česká republika\",\"CZK\",IF(VLOOKUP(MID(A177,6,99)*1,'Data eshop'!D:T,10,FALSE)=\"Poland\",\"PLN\",IF(VLOOKUP(MID(A177,6,99)*1,'Data eshop'!D:T,10,FALSE)=\"Slovakia\",\"EUR\",\"\")))))","v":""},"",null,176]
[{"$f":"IFERROR(VLOOKUP(P178,Zakázky!P:Q,2,FALSE),\"\")","v":""},"",{"$f":"IF(A178=\"\",\"\",IF(VLOOKUP(MID(A178,6,99)*1,'Data eshop'!D:T,2,FALSE)=0,\"\",VLOOKUP(MID(A178,6,99)*1,'Data eshop'!D:T,2,FALSE)))","v":""},{"$f":"IF(A178=\"\",\"\",IF(VLOOKUP(MID(A178,6,99)*1,'Data eshop'!D:T,3,FALSE)=0,IF(VLOOKUP(MID(A178,6,99)*1,'Data eshop'!D:T,4,FALSE)=0,\"\",VLOOKUP(MID(A178,6,99)*1,'Data eshop'!D:T,4,FALSE)),VLOOKUP(MID(A178,6,99)*1,'Data eshop'!D:T,3,FALSE))&IF(VLOOKUP(MID(A178,6,99)*1,'Data eshop'!D:T,4,FALSE)=0,\"\",\" \"&VLOOKUP(MID(A178,6,99)*1,'Data eshop'!D:T,4,FALSE)))","v":""},{"$f":"IF(A178=\"\",\"\",IF(VLOOKUP(MID(A178,6,99)*1,'Data eshop'!D:T,5,FALSE)=0,\"\",VLOOKUP(MID(A178,6,99)*1,'Data eshop'!D:T,5,FALSE)))","v":""},{"$f":"IF(A178=\"\",\"\",IF(VLOOKUP(MID(A178,6,99)*1,'Data eshop'!D:T,6,FALSE)=0,\"\",VLOOKUP(MID(A178,6,99)*1,'Data eshop'!D:T,6,FALSE)))","v":""},{"$f":"IF(A178=\"\",\"\",IF(VLOOKUP(MID(A178,6,99)*1,'Data eshop'!D:T,7,FALSE)=0,\"\",VLOOKUP(MID(A178,6,99)*1,'Data eshop'!D:T,7,FALSE)))","v":""},{"$f":"IF(A178=\"\",\"\",IF(VLOOKUP(MID(A178,6,99)*1,'Data eshop'!D:T,10,FALSE)=0,\"\",VLOOKUP(VLOOKUP(MID(A178,6,99)*1,'Data eshop'!D:T,10,FALSE),DATA!O:P,2,FALSE)))","v":""},"",{"$f":"IF(A178=\"\",\"\",IF(VLOOKUP(MID(A178,6,99)*1,'Data eshop'!D:W,18,FALSE)=0,\"\",VLOOKUP(MID(A178,6,99)*1,'Data eshop'!D:W,18,FALSE)))","v":""},{"$f":"IF(A178=\"\",\"\",IF(VLOOKUP(MID(A178,6,99)*1,'Data eshop'!D:W,19,FALSE)=0,\"\",VLOOKUP(MID(A178,6,99)*1,'Data eshop'!D:W,19,FALSE)))","v":""},{"$f":"IF(A178=\"\",\"\",IF(VLOOKUP(MID(A178,6,99)*1,'Data eshop'!D:T,11,FALSE)=0,\"\",IF(OR(VLOOKUP(MID(A178,6,99)*1,'Data eshop'!D:T,11,FALSE)=\"Na dobírku\",VLOOKUP(MID(A178,6,99)*1,'Data eshop'!D:T,11,FALSE)=\"Na dobierku\",VLOOKUP(MID(A178,6,99)*1,'Data eshop'!D:T,11,FALSE)=\"Za pobraniem\"),VLOOKUP(MID(A178,6,99)*1,'Data eshop'!D:W,20,FALSE),\"\")))","v":""},{"$f":"IF(L178=\"\",\"\",IF(VLOOKUP(MID(A178,6,99)*1,'Data eshop'!D:T,10,FALSE)=0,\"\",IF(VLOOKUP(MID(A178,6,99)*1,'Data eshop'!D:T,10,FALSE)=\"Česká republika\",\"CZK\",IF(VLOOKUP(MID(A178,6,99)*1,'Data eshop'!D:T,10,FALSE)=\"Poland\",\"PLN\",IF(VLOOKUP(MID(A178,6,99)*1,'Data eshop'!D:T,10,FALSE)=\"Slovakia\",\"EUR\",\"\")))))","v":""},"",null,177,null,"Roluj nahoru, až uvidíš žlutou"]
[{"$f":"IFERROR(VLOOKUP(P179,Zakázky!P:Q,2,FALSE),\"\")","v":""},"",{"$f":"IF(A179=\"\",\"\",IF(VLOOKUP(MID(A179,6,99)*1,'Data eshop'!D:T,2,FALSE)=0,\"\",VLOOKUP(MID(A179,6,99)*1,'Data eshop'!D:T,2,FALSE)))","v":""},{"$f":"IF(A179=\"\",\"\",IF(VLOOKUP(MID(A179,6,99)*1,'Data eshop'!D:T,3,FALSE)=0,IF(VLOOKUP(MID(A179,6,99)*1,'Data eshop'!D:T,4,FALSE)=0,\"\",VLOOKUP(MID(A179,6,99)*1,'Data eshop'!D:T,4,FALSE)),VLOOKUP(MID(A179,6,99)*1,'Data eshop'!D:T,3,FALSE))&IF(VLOOKUP(MID(A179,6,99)*1,'Data eshop'!D:T,4,FALSE)=0,\"\",\" \"&VLOOKUP(MID(A179,6,99)*1,'Data eshop'!D:T,4,FALSE)))","v":""},{"$f":"IF(A179=\"\",\"\",IF(VLOOKUP(MID(A179,6,99)*1,'Data eshop'!D:T,5,FALSE)=0,\"\",VLOOKUP(MID(A179,6,99)*1,'Data eshop'!D:T,5,FALSE)))","v":""},{"$f":"IF(A179=\"\",\"\",IF(VLOOKUP(MID(A179,6,99)*1,'Data eshop'!D:T,6,FALSE)=0,\"\",VLOOKUP(MID(A179,6,99)*1,'Data eshop'!D:T,6,FALSE)))","v":""},{"$f":"IF(A179=\"\",\"\",IF(VLOOKUP(MID(A179,6,99)*1,'Data eshop'!D:T,7,FALSE)=0,\"\",VLOOKUP(MID(A179,6,99)*1,'Data eshop'!D:T,7,FALSE)))","v":""},{"$f":"IF(A179=\"\",\"\",IF(VLOOKUP(MID(A179,6,99)*1,'Data eshop'!D:T,10,FALSE)=0,\"\",VLOOKUP(VLOOKUP(MID(A179,6,99)*1,'Data eshop'!D:T,10,FALSE),DATA!O:P,2,FALSE)))","v":""},"",{"$f":"IF(A179=\"\",\"\",IF(VLOOKUP(MID(A179,6,99)*1,'Data eshop'!D:W,18,FALSE)=0,\"\",VLOOKUP(MID(A179,6,99)*1,'Data eshop'!D:W,18,FALSE)))","v":""},{"$f":"IF(A179=\"\",\"\",IF(VLOOKUP(MID(A179,6,99)*1,'Data eshop'!D:W,19,FALSE)=0,\"\",VLOOKUP(MID(A179,6,99)*1,'Data eshop'!D:W,19,FALSE)))","v":""},{"$f":"IF(A179=\"\",\"\",IF(VLOOKUP(MID(A179,6,99)*1,'Data eshop'!D:T,11,FALSE)=0,\"\",IF(OR(VLOOKUP(MID(A179,6,99)*1,'Data eshop'!D:T,11,FALSE)=\"Na dobírku\",VLOOKUP(MID(A179,6,99)*1,'Data eshop'!D:T,11,FALSE)=\"Na dobierku\",VLOOKUP(MID(A179,6,99)*1,'Data eshop'!D:T,11,FALSE)=\"Za pobraniem\"),VLOOKUP(MID(A179,6,99)*1,'Data eshop'!D:W,20,FALSE),\"\")))","v":""},{"$f":"IF(L179=\"\",\"\",IF(VLOOKUP(MID(A179,6,99)*1,'Data eshop'!D:T,10,FALSE)=0,\"\",IF(VLOOKUP(MID(A179,6,99)*1,'Data eshop'!D:T,10,FALSE)=\"Česká republika\",\"CZK\",IF(VLOOKUP(MID(A179,6,99)*1,'Data eshop'!D:T,10,FALSE)=\"Poland\",\"PLN\",IF(VLOOKUP(MID(A179,6,99)*1,'Data eshop'!D:T,10,FALSE)=\"Slovakia\",\"EUR\",\"\")))))","v":""},"",null,178]
[{"$f":"IFERROR(VLOOKUP(P180,Zakázky!P:Q,2,FALSE),\"\")","v":""},"",{"$f":"IF(A180=\"\",\"\",IF(VLOOKUP(MID(A180,6,99)*1,'Data eshop'!D:T,2,FALSE)=0,\"\",VLOOKUP(MID(A180,6,99)*1,'Data eshop'!D:T,2,FALSE)))","v":""},{"$f":"IF(A180=\"\",\"\",IF(VLOOKUP(MID(A180,6,99)*1,'Data eshop'!D:T,3,FALSE)=0,IF(VLOOKUP(MID(A180,6,99)*1,'Data eshop'!D:T,4,FALSE)=0,\"\",VLOOKUP(MID(A180,6,99)*1,'Data eshop'!D:T,4,FALSE)),VLOOKUP(MID(A180,6,99)*1,'Data eshop'!D:T,3,FALSE))&IF(VLOOKUP(MID(A180,6,99)*1,'Data eshop'!D:T,4,FALSE)=0,\"\",\" \"&VLOOKUP(MID(A180,6,99)*1,'Data eshop'!D:T,4,FALSE)))","v":""},{"$f":"IF(A180=\"\",\"\",IF(VLOOKUP(MID(A180,6,99)*1,'Data eshop'!D:T,5,FALSE)=0,\"\",VLOOKUP(MID(A180,6,99)*1,'Data eshop'!D:T,5,FALSE)))","v":""},{"$f":"IF(A180=\"\",\"\",IF(VLOOKUP(MID(A180,6,99)*1,'Data eshop'!D:T,6,FALSE)=0,\"\",VLOOKUP(MID(A180,6,99)*1,'Data eshop'!D:T,6,FALSE)))","v":""},{"$f":"IF(A180=\"\",\"\",IF(VLOOKUP(MID(A180,6,99)*1,'Data eshop'!D:T,7,FALSE)=0,\"\",VLOOKUP(MID(A180,6,99)*1,'Data eshop'!D:T,7,FALSE)))","v":""},{"$f":"IF(A180=\"\",\"\",IF(VLOOKUP(MID(A180,6,99)*1,'Data eshop'!D:T,10,FALSE)=0,\"\",VLOOKUP(VLOOKUP(MID(A180,6,99)*1,'Data eshop'!D:T,10,FALSE),DATA!O:P,2,FALSE)))","v":""},"",{"$f":"IF(A180=\"\",\"\",IF(VLOOKUP(MID(A180,6,99)*1,'Data eshop'!D:W,18,FALSE)=0,\"\",VLOOKUP(MID(A180,6,99)*1,'Data eshop'!D:W,18,FALSE)))","v":""},{"$f":"IF(A180=\"\",\"\",IF(VLOOKUP(MID(A180,6,99)*1,'Data eshop'!D:W,19,FALSE)=0,\"\",VLOOKUP(MID(A180,6,99)*1,'Data eshop'!D:W,19,FALSE)))","v":""},{"$f":"IF(A180=\"\",\"\",IF(VLOOKUP(MID(A180,6,99)*1,'Data eshop'!D:T,11,FALSE)=0,\"\",IF(OR(VLOOKUP(MID(A180,6,99)*1,'Data eshop'!D:T,11,FALSE)=\"Na dobírku\",VLOOKUP(MID(A180,6,99)*1,'Data eshop'!D:T,11,FALSE)=\"Na dobierku\",VLOOKUP(MID(A180,6,99)*1,'Data eshop'!D:T,11,FALSE)=\"Za pobraniem\"),VLOOKUP(MID(A180,6,99)*1,'Data eshop'!D:W,20,FALSE),\"\")))","v":""},{"$f":"IF(L180=\"\",\"\",IF(VLOOKUP(MID(A180,6,99)*1,'Data eshop'!D:T,10,FALSE)=0,\"\",IF(VLOOKUP(MID(A180,6,99)*1,'Data eshop'!D:T,10,FALSE)=\"Česká republika\",\"CZK\",IF(VLOOKUP(MID(A180,6,99)*1,'Data eshop'!D:T,10,FALSE)=\"Poland\",\"PLN\",IF(VLOOKUP(MID(A180,6,99)*1,'Data eshop'!D:T,10,FALSE)=\"Slovakia\",\"EUR\",\"\")))))","v":""},"",null,179]
[{"$f":"IFERROR(VLOOKUP(P181,Zakázky!P:Q,2,FALSE),\"\")","v":""},"",{"$f":"IF(A181=\"\",\"\",IF(VLOOKUP(MID(A181,6,99)*1,'Data eshop'!D:T,2,FALSE)=0,\"\",VLOOKUP(MID(A181,6,99)*1,'Data eshop'!D:T,2,FALSE)))","v":""},{"$f":"IF(A181=\"\",\"\",IF(VLOOKUP(MID(A181,6,99)*1,'Data eshop'!D:T,3,FALSE)=0,IF(VLOOKUP(MID(A181,6,99)*1,'Data eshop'!D:T,4,FALSE)=0,\"\",VLOOKUP(MID(A181,6,99)*1,'Data eshop'!D:T,4,FALSE)),VLOOKUP(MID(A181,6,99)*1,'Data eshop'!D:T,3,FALSE))&IF(VLOOKUP(MID(A181,6,99)*1,'Data eshop'!D:T,4,FALSE)=0,\"\",\" \"&VLOOKUP(MID(A181,6,99)*1,'Data eshop'!D:T,4,FALSE)))","v":""},{"$f":"IF(A181=\"\",\"\",IF(VLOOKUP(MID(A181,6,99)*1,'Data eshop'!D:T,5,FALSE)=0,\"\",VLOOKUP(MID(A181,6,99)*1,'Data eshop'!D:T,5,FALSE)))","v":""},{"$f":"IF(A181=\"\",\"\",IF(VLOOKUP(MID(A181,6,99)*1,'Data eshop'!D:T,6,FALSE)=0,\"\",VLOOKUP(MID(A181,6,99)*1,'Data eshop'!D:T,6,FALSE)))","v":""},{"$f":"IF(A181=\"\",\"\",IF(VLOOKUP(MID(A181,6,99)*1,'Data eshop'!D:T,7,FALSE)=0,\"\",VLOOKUP(MID(A181,6,99)*1,'Data eshop'!D:T,7,FALSE)))","v":""},{"$f":"IF(A181=\"\",\"\",IF(VLOOKUP(MID(A181,6,99)*1,'Data eshop'!D:T,10,FALSE)=0,\"\",VLOOKUP(VLOOKUP(MID(A181,6,99)*1,'Data eshop'!D:T,10,FALSE),DATA!O:P,2,FALSE)))","v":""},"",{"$f":"IF(A181=\"\",\"\",IF(VLOOKUP(MID(A181,6,99)*1,'Data eshop'!D:W,18,FALSE)=0,\"\",VLOOKUP(MID(A181,6,99)*1,'Data eshop'!D:W,18,FALSE)))","v":""},{"$f":"IF(A181=\"\",\"\",IF(VLOOKUP(MID(A181,6,99)*1,'Data eshop'!D:W,19,FALSE)=0,\"\",VLOOKUP(MID(A181,6,99)*1,'Data eshop'!D:W,19,FALSE)))","v":""},{"$f":"IF(A181=\"\",\"\",IF(VLOOKUP(MID(A181,6,99)*1,'Data eshop'!D:T,11,FALSE)=0,\"\",IF(OR(VLOOKUP(MID(A181,6,99)*1,'Data eshop'!D:T,11,FALSE)=\"Na dobírku\",VLOOKUP(MID(A181,6,99)*1,'Data eshop'!D:T,11,FALSE)=\"Na dobierku\",VLOOKUP(MID(A181,6,99)*1,'Data eshop'!D:T,11,FALSE)=\"Za pobraniem\"),VLOOKUP(MID(A181,6,99)*1,'Data eshop'!D:W,20,FALSE),\"\")))","v":""},{"$f":"IF(L181=\"\",\"\",IF(VLOOKUP(MID(A181,6,99)*1,'Data eshop'!D:T,10,FALSE)=0,\"\",IF(VLOOKUP(MID(A181,6,99)*1,'Data eshop'!D:T,10,FALSE)=\"Česká republika\",\"CZK\",IF(VLOOKUP(MID(A181,6,99)*1,'Data eshop'!D:T,10,FALSE)=\"Poland\",\"PLN\",IF(VLOOKUP(MID(A181,6,99)*1,'Data eshop'!D:T,10,FALSE)=\"Slovakia\",\"EUR\",\"\")))))","v":""},"",null,180]
[{"$f":"IFERROR(VLOOKUP(P182,Zakázky!P:Q,2,FALSE),\"\")","v":""},"",{"$f":"IF(A182=\"\",\"\",IF(VLOOKUP(MID(A182,6,99)*1,'Data eshop'!D:T,2,FALSE)=0,\"\",VLOOKUP(MID(A182,6,99)*1,'Data eshop'!D:T,2,FALSE)))","v":""},{"$f":"IF(A182=\"\",\"\",IF(VLOOKUP(MID(A182,6,99)*1,'Data eshop'!D:T,3,FALSE)=0,IF(VLOOKUP(MID(A182,6,99)*1,'Data eshop'!D:T,4,FALSE)=0,\"\",VLOOKUP(MID(A182,6,99)*1,'Data eshop'!D:T,4,FALSE)),VLOOKUP(MID(A182,6,99)*1,'Data eshop'!D:T,3,FALSE))&IF(VLOOKUP(MID(A182,6,99)*1,'Data eshop'!D:T,4,FALSE)=0,\"\",\" \"&VLOOKUP(MID(A182,6,99)*1,'Data eshop'!D:T,4,FALSE)))","v":""},{"$f":"IF(A182=\"\",\"\",IF(VLOOKUP(MID(A182,6,99)*1,'Data eshop'!D:T,5,FALSE)=0,\"\",VLOOKUP(MID(A182,6,99)*1,'Data eshop'!D:T,5,FALSE)))","v":""},{"$f":"IF(A182=\"\",\"\",IF(VLOOKUP(MID(A182,6,99)*1,'Data eshop'!D:T,6,FALSE)=0,\"\",VLOOKUP(MID(A182,6,99)*1,'Data eshop'!D:T,6,FALSE)))","v":""},{"$f":"IF(A182=\"\",\"\",IF(VLOOKUP(MID(A182,6,99)*1,'Data eshop'!D:T,7,FALSE)=0,\"\",VLOOKUP(MID(A182,6,99)*1,'Data eshop'!D:T,7,FALSE)))","v":""},{"$f":"IF(A182=\"\",\"\",IF(VLOOKUP(MID(A182,6,99)*1,'Data eshop'!D:T,10,FALSE)=0,\"\",VLOOKUP(VLOOKUP(MID(A182,6,99)*1,'Data eshop'!D:T,10,FALSE),DATA!O:P,2,FALSE)))","v":""},"",{"$f":"IF(A182=\"\",\"\",IF(VLOOKUP(MID(A182,6,99)*1,'Data eshop'!D:W,18,FALSE)=0,\"\",VLOOKUP(MID(A182,6,99)*1,'Data eshop'!D:W,18,FALSE)))","v":""},{"$f":"IF(A182=\"\",\"\",IF(VLOOKUP(MID(A182,6,99)*1,'Data eshop'!D:W,19,FALSE)=0,\"\",VLOOKUP(MID(A182,6,99)*1,'Data eshop'!D:W,19,FALSE)))","v":""},{"$f":"IF(A182=\"\",\"\",IF(VLOOKUP(MID(A182,6,99)*1,'Data eshop'!D:T,11,FALSE)=0,\"\",IF(OR(VLOOKUP(MID(A182,6,99)*1,'Data eshop'!D:T,11,FALSE)=\"Na dobírku\",VLOOKUP(MID(A182,6,99)*1,'Data eshop'!D:T,11,FALSE)=\"Na dobierku\",VLOOKUP(MID(A182,6,99)*1,'Data eshop'!D:T,11,FALSE)=\"Za pobraniem\"),VLOOKUP(MID(A182,6,99)*1,'Data eshop'!D:W,20,FALSE),\"\")))","v":""},{"$f":"IF(L182=\"\",\"\",IF(VLOOKUP(MID(A182,6,99)*1,'Data eshop'!D:T,10,FALSE)=0,\"\",IF(VLOOKUP(MID(A182,6,99)*1,'Data eshop'!D:T,10,FALSE)=\"Česká republika\",\"CZK\",IF(VLOOKUP(MID(A182,6,99)*1,'Data eshop'!D:T,10,FALSE)=\"Poland\",\"PLN\",IF(VLOOKUP(MID(A182,6,99)*1,'Data eshop'!D:T,10,FALSE)=\"Slovakia\",\"EUR\",\"\")))))","v":""},"",null,181,null,"Roluj nahoru, až uvidíš žlutou"]
[{"$f":"IFERROR(VLOOKUP(P183,Zakázky!P:Q,2,FALSE),\"\")","v":""},"",{"$f":"IF(A183=\"\",\"\",IF(VLOOKUP(MID(A183,6,99)*1,'Data eshop'!D:T,2,FALSE)=0,\"\",VLOOKUP(MID(A183,6,99)*1,'Data eshop'!D:T,2,FALSE)))","v":""},{"$f":"IF(A183=\"\",\"\",IF(VLOOKUP(MID(A183,6,99)*1,'Data eshop'!D:T,3,FALSE)=0,IF(VLOOKUP(MID(A183,6,99)*1,'Data eshop'!D:T,4,FALSE)=0,\"\",VLOOKUP(MID(A183,6,99)*1,'Data eshop'!D:T,4,FALSE)),VLOOKUP(MID(A183,6,99)*1,'Data eshop'!D:T,3,FALSE))&IF(VLOOKUP(MID(A183,6,99)*1,'Data eshop'!D:T,4,FALSE)=0,\"\",\" \"&VLOOKUP(MID(A183,6,99)*1,'Data eshop'!D:T,4,FALSE)))","v":""},{"$f":"IF(A183=\"\",\"\",IF(VLOOKUP(MID(A183,6,99)*1,'Data eshop'!D:T,5,FALSE)=0,\"\",VLOOKUP(MID(A183,6,99)*1,'Data eshop'!D:T,5,FALSE)))","v":""},{"$f":"IF(A183=\"\",\"\",IF(VLOOKUP(MID(A183,6,99)*1,'Data eshop'!D:T,6,FALSE)=0,\"\",VLOOKUP(MID(A183,6,99)*1,'Data eshop'!D:T,6,FALSE)))","v":""},{"$f":"IF(A183=\"\",\"\",IF(VLOOKUP(MID(A183,6,99)*1,'Data eshop'!D:T,7,FALSE)=0,\"\",VLOOKUP(MID(A183,6,99)*1,'Data eshop'!D:T,7,FALSE)))","v":""},{"$f":"IF(A183=\"\",\"\",IF(VLOOKUP(MID(A183,6,99)*1,'Data eshop'!D:T,10,FALSE)=0,\"\",VLOOKUP(VLOOKUP(MID(A183,6,99)*1,'Data eshop'!D:T,10,FALSE),DATA!O:P,2,FALSE)))","v":""},"",{"$f":"IF(A183=\"\",\"\",IF(VLOOKUP(MID(A183,6,99)*1,'Data eshop'!D:W,18,FALSE)=0,\"\",VLOOKUP(MID(A183,6,99)*1,'Data eshop'!D:W,18,FALSE)))","v":""},{"$f":"IF(A183=\"\",\"\",IF(VLOOKUP(MID(A183,6,99)*1,'Data eshop'!D:W,19,FALSE)=0,\"\",VLOOKUP(MID(A183,6,99)*1,'Data eshop'!D:W,19,FALSE)))","v":""},{"$f":"IF(A183=\"\",\"\",IF(VLOOKUP(MID(A183,6,99)*1,'Data eshop'!D:T,11,FALSE)=0,\"\",IF(OR(VLOOKUP(MID(A183,6,99)*1,'Data eshop'!D:T,11,FALSE)=\"Na dobírku\",VLOOKUP(MID(A183,6,99)*1,'Data eshop'!D:T,11,FALSE)=\"Na dobierku\",VLOOKUP(MID(A183,6,99)*1,'Data eshop'!D:T,11,FALSE)=\"Za pobraniem\"),VLOOKUP(MID(A183,6,99)*1,'Data eshop'!D:W,20,FALSE),\"\")))","v":""},{"$f":"IF(L183=\"\",\"\",IF(VLOOKUP(MID(A183,6,99)*1,'Data eshop'!D:T,10,FALSE)=0,\"\",IF(VLOOKUP(MID(A183,6,99)*1,'Data eshop'!D:T,10,FALSE)=\"Česká republika\",\"CZK\",IF(VLOOKUP(MID(A183,6,99)*1,'Data eshop'!D:T,10,FALSE)=\"Poland\",\"PLN\",IF(VLOOKUP(MID(A183,6,99)*1,'Data eshop'!D:T,10,FALSE)=\"Slovakia\",\"EUR\",\"\")))))","v":""},"",null,182]
[{"$f":"IFERROR(VLOOKUP(P184,Zakázky!P:Q,2,FALSE),\"\")","v":""},"",{"$f":"IF(A184=\"\",\"\",IF(VLOOKUP(MID(A184,6,99)*1,'Data eshop'!D:T,2,FALSE)=0,\"\",VLOOKUP(MID(A184,6,99)*1,'Data eshop'!D:T,2,FALSE)))","v":""},{"$f":"IF(A184=\"\",\"\",IF(VLOOKUP(MID(A184,6,99)*1,'Data eshop'!D:T,3,FALSE)=0,IF(VLOOKUP(MID(A184,6,99)*1,'Data eshop'!D:T,4,FALSE)=0,\"\",VLOOKUP(MID(A184,6,99)*1,'Data eshop'!D:T,4,FALSE)),VLOOKUP(MID(A184,6,99)*1,'Data eshop'!D:T,3,FALSE))&IF(VLOOKUP(MID(A184,6,99)*1,'Data eshop'!D:T,4,FALSE)=0,\"\",\" \"&VLOOKUP(MID(A184,6,99)*1,'Data eshop'!D:T,4,FALSE)))","v":""},{"$f":"IF(A184=\"\",\"\",IF(VLOOKUP(MID(A184,6,99)*1,'Data eshop'!D:T,5,FALSE)=0,\"\",VLOOKUP(MID(A184,6,99)*1,'Data eshop'!D:T,5,FALSE)))","v":""},{"$f":"IF(A184=\"\",\"\",IF(VLOOKUP(MID(A184,6,99)*1,'Data eshop'!D:T,6,FALSE)=0,\"\",VLOOKUP(MID(A184,6,99)*1,'Data eshop'!D:T,6,FALSE)))","v":""},{"$f":"IF(A184=\"\",\"\",IF(VLOOKUP(MID(A184,6,99)*1,'Data eshop'!D:T,7,FALSE)=0,\"\",VLOOKUP(MID(A184,6,99)*1,'Data eshop'!D:T,7,FALSE)))","v":""},{"$f":"IF(A184=\"\",\"\",IF(VLOOKUP(MID(A184,6,99)*1,'Data eshop'!D:T,10,FALSE)=0,\"\",VLOOKUP(VLOOKUP(MID(A184,6,99)*1,'Data eshop'!D:T,10,FALSE),DATA!O:P,2,FALSE)))","v":""},"",{"$f":"IF(A184=\"\",\"\",IF(VLOOKUP(MID(A184,6,99)*1,'Data eshop'!D:W,18,FALSE)=0,\"\",VLOOKUP(MID(A184,6,99)*1,'Data eshop'!D:W,18,FALSE)))","v":""},{"$f":"IF(A184=\"\",\"\",IF(VLOOKUP(MID(A184,6,99)*1,'Data eshop'!D:W,19,FALSE)=0,\"\",VLOOKUP(MID(A184,6,99)*1,'Data eshop'!D:W,19,FALSE)))","v":""},{"$f":"IF(A184=\"\",\"\",IF(VLOOKUP(MID(A184,6,99)*1,'Data eshop'!D:T,11,FALSE)=0,\"\",IF(OR(VLOOKUP(MID(A184,6,99)*1,'Data eshop'!D:T,11,FALSE)=\"Na dobírku\",VLOOKUP(MID(A184,6,99)*1,'Data eshop'!D:T,11,FALSE)=\"Na dobierku\",VLOOKUP(MID(A184,6,99)*1,'Data eshop'!D:T,11,FALSE)=\"Za pobraniem\"),VLOOKUP(MID(A184,6,99)*1,'Data eshop'!D:W,20,FALSE),\"\")))","v":""},{"$f":"IF(L184=\"\",\"\",IF(VLOOKUP(MID(A184,6,99)*1,'Data eshop'!D:T,10,FALSE)=0,\"\",IF(VLOOKUP(MID(A184,6,99)*1,'Data eshop'!D:T,10,FALSE)=\"Česká republika\",\"CZK\",IF(VLOOKUP(MID(A184,6,99)*1,'Data eshop'!D:T,10,FALSE)=\"Poland\",\"PLN\",IF(VLOOKUP(MID(A184,6,99)*1,'Data eshop'!D:T,10,FALSE)=\"Slovakia\",\"EUR\",\"\")))))","v":""},"",null,183]
[{"$f":"IFERROR(VLOOKUP(P185,Zakázky!P:Q,2,FALSE),\"\")","v":""},"",{"$f":"IF(A185=\"\",\"\",IF(VLOOKUP(MID(A185,6,99)*1,'Data eshop'!D:T,2,FALSE)=0,\"\",VLOOKUP(MID(A185,6,99)*1,'Data eshop'!D:T,2,FALSE)))","v":""},{"$f":"IF(A185=\"\",\"\",IF(VLOOKUP(MID(A185,6,99)*1,'Data eshop'!D:T,3,FALSE)=0,IF(VLOOKUP(MID(A185,6,99)*1,'Data eshop'!D:T,4,FALSE)=0,\"\",VLOOKUP(MID(A185,6,99)*1,'Data eshop'!D:T,4,FALSE)),VLOOKUP(MID(A185,6,99)*1,'Data eshop'!D:T,3,FALSE))&IF(VLOOKUP(MID(A185,6,99)*1,'Data eshop'!D:T,4,FALSE)=0,\"\",\" \"&VLOOKUP(MID(A185,6,99)*1,'Data eshop'!D:T,4,FALSE)))","v":""},{"$f":"IF(A185=\"\",\"\",IF(VLOOKUP(MID(A185,6,99)*1,'Data eshop'!D:T,5,FALSE)=0,\"\",VLOOKUP(MID(A185,6,99)*1,'Data eshop'!D:T,5,FALSE)))","v":""},{"$f":"IF(A185=\"\",\"\",IF(VLOOKUP(MID(A185,6,99)*1,'Data eshop'!D:T,6,FALSE)=0,\"\",VLOOKUP(MID(A185,6,99)*1,'Data eshop'!D:T,6,FALSE)))","v":""},{"$f":"IF(A185=\"\",\"\",IF(VLOOKUP(MID(A185,6,99)*1,'Data eshop'!D:T,7,FALSE)=0,\"\",VLOOKUP(MID(A185,6,99)*1,'Data eshop'!D:T,7,FALSE)))","v":""},{"$f":"IF(A185=\"\",\"\",IF(VLOOKUP(MID(A185,6,99)*1,'Data eshop'!D:T,10,FALSE)=0,\"\",VLOOKUP(VLOOKUP(MID(A185,6,99)*1,'Data eshop'!D:T,10,FALSE),DATA!O:P,2,FALSE)))","v":""},"",{"$f":"IF(A185=\"\",\"\",IF(VLOOKUP(MID(A185,6,99)*1,'Data eshop'!D:W,18,FALSE)=0,\"\",VLOOKUP(MID(A185,6,99)*1,'Data eshop'!D:W,18,FALSE)))","v":""},{"$f":"IF(A185=\"\",\"\",IF(VLOOKUP(MID(A185,6,99)*1,'Data eshop'!D:W,19,FALSE)=0,\"\",VLOOKUP(MID(A185,6,99)*1,'Data eshop'!D:W,19,FALSE)))","v":""},{"$f":"IF(A185=\"\",\"\",IF(VLOOKUP(MID(A185,6,99)*1,'Data eshop'!D:T,11,FALSE)=0,\"\",IF(OR(VLOOKUP(MID(A185,6,99)*1,'Data eshop'!D:T,11,FALSE)=\"Na dobírku\",VLOOKUP(MID(A185,6,99)*1,'Data eshop'!D:T,11,FALSE)=\"Na dobierku\",VLOOKUP(MID(A185,6,99)*1,'Data eshop'!D:T,11,FALSE)=\"Za pobraniem\"),VLOOKUP(MID(A185,6,99)*1,'Data eshop'!D:W,20,FALSE),\"\")))","v":""},{"$f":"IF(L185=\"\",\"\",IF(VLOOKUP(MID(A185,6,99)*1,'Data eshop'!D:T,10,FALSE)=0,\"\",IF(VLOOKUP(MID(A185,6,99)*1,'Data eshop'!D:T,10,FALSE)=\"Česká republika\",\"CZK\",IF(VLOOKUP(MID(A185,6,99)*1,'Data eshop'!D:T,10,FALSE)=\"Poland\",\"PLN\",IF(VLOOKUP(MID(A185,6,99)*1,'Data eshop'!D:T,10,FALSE)=\"Slovakia\",\"EUR\",\"\")))))","v":""},"",null,184]
[{"$f":"IFERROR(VLOOKUP(P186,Zakázky!P:Q,2,FALSE),\"\")","v":""},"",{"$f":"IF(A186=\"\",\"\",IF(VLOOKUP(MID(A186,6,99)*1,'Data eshop'!D:T,2,FALSE)=0,\"\",VLOOKUP(MID(A186,6,99)*1,'Data eshop'!D:T,2,FALSE)))","v":""},{"$f":"IF(A186=\"\",\"\",IF(VLOOKUP(MID(A186,6,99)*1,'Data eshop'!D:T,3,FALSE)=0,IF(VLOOKUP(MID(A186,6,99)*1,'Data eshop'!D:T,4,FALSE)=0,\"\",VLOOKUP(MID(A186,6,99)*1,'Data eshop'!D:T,4,FALSE)),VLOOKUP(MID(A186,6,99)*1,'Data eshop'!D:T,3,FALSE))&IF(VLOOKUP(MID(A186,6,99)*1,'Data eshop'!D:T,4,FALSE)=0,\"\",\" \"&VLOOKUP(MID(A186,6,99)*1,'Data eshop'!D:T,4,FALSE)))","v":""},{"$f":"IF(A186=\"\",\"\",IF(VLOOKUP(MID(A186,6,99)*1,'Data eshop'!D:T,5,FALSE)=0,\"\",VLOOKUP(MID(A186,6,99)*1,'Data eshop'!D:T,5,FALSE)))","v":""},{"$f":"IF(A186=\"\",\"\",IF(VLOOKUP(MID(A186,6,99)*1,'Data eshop'!D:T,6,FALSE)=0,\"\",VLOOKUP(MID(A186,6,99)*1,'Data eshop'!D:T,6,FALSE)))","v":""},{"$f":"IF(A186=\"\",\"\",IF(VLOOKUP(MID(A186,6,99)*1,'Data eshop'!D:T,7,FALSE)=0,\"\",VLOOKUP(MID(A186,6,99)*1,'Data eshop'!D:T,7,FALSE)))","v":""},{"$f":"IF(A186=\"\",\"\",IF(VLOOKUP(MID(A186,6,99)*1,'Data eshop'!D:T,10,FALSE)=0,\"\",VLOOKUP(VLOOKUP(MID(A186,6,99)*1,'Data eshop'!D:T,10,FALSE),DATA!O:P,2,FALSE)))","v":""},"",{"$f":"IF(A186=\"\",\"\",IF(VLOOKUP(MID(A186,6,99)*1,'Data eshop'!D:W,18,FALSE)=0,\"\",VLOOKUP(MID(A186,6,99)*1,'Data eshop'!D:W,18,FALSE)))","v":""},{"$f":"IF(A186=\"\",\"\",IF(VLOOKUP(MID(A186,6,99)*1,'Data eshop'!D:W,19,FALSE)=0,\"\",VLOOKUP(MID(A186,6,99)*1,'Data eshop'!D:W,19,FALSE)))","v":""},{"$f":"IF(A186=\"\",\"\",IF(VLOOKUP(MID(A186,6,99)*1,'Data eshop'!D:T,11,FALSE)=0,\"\",IF(OR(VLOOKUP(MID(A186,6,99)*1,'Data eshop'!D:T,11,FALSE)=\"Na dobírku\",VLOOKUP(MID(A186,6,99)*1,'Data eshop'!D:T,11,FALSE)=\"Na dobierku\",VLOOKUP(MID(A186,6,99)*1,'Data eshop'!D:T,11,FALSE)=\"Za pobraniem\"),VLOOKUP(MID(A186,6,99)*1,'Data eshop'!D:W,20,FALSE),\"\")))","v":""},{"$f":"IF(L186=\"\",\"\",IF(VLOOKUP(MID(A186,6,99)*1,'Data eshop'!D:T,10,FALSE)=0,\"\",IF(VLOOKUP(MID(A186,6,99)*1,'Data eshop'!D:T,10,FALSE)=\"Česká republika\",\"CZK\",IF(VLOOKUP(MID(A186,6,99)*1,'Data eshop'!D:T,10,FALSE)=\"Poland\",\"PLN\",IF(VLOOKUP(MID(A186,6,99)*1,'Data eshop'!D:T,10,FALSE)=\"Slovakia\",\"EUR\",\"\")))))","v":""},"",null,185,null,"Roluj nahoru, až uvidíš žlutou"]
[{"$f":"IFERROR(VLOOKUP(P187,Zakázky!P:Q,2,FALSE),\"\")","v":""},"",{"$f":"IF(A187=\"\",\"\",IF(VLOOKUP(MID(A187,6,99)*1,'Data eshop'!D:T,2,FALSE)=0,\"\",VLOOKUP(MID(A187,6,99)*1,'Data eshop'!D:T,2,FALSE)))","v":""},{"$f":"IF(A187=\"\",\"\",IF(VLOOKUP(MID(A187,6,99)*1,'Data eshop'!D:T,3,FALSE)=0,IF(VLOOKUP(MID(A187,6,99)*1,'Data eshop'!D:T,4,FALSE)=0,\"\",VLOOKUP(MID(A187,6,99)*1,'Data eshop'!D:T,4,FALSE)),VLOOKUP(MID(A187,6,99)*1,'Data eshop'!D:T,3,FALSE))&IF(VLOOKUP(MID(A187,6,99)*1,'Data eshop'!D:T,4,FALSE)=0,\"\",\" \"&VLOOKUP(MID(A187,6,99)*1,'Data eshop'!D:T,4,FALSE)))","v":""},{"$f":"IF(A187=\"\",\"\",IF(VLOOKUP(MID(A187,6,99)*1,'Data eshop'!D:T,5,FALSE)=0,\"\",VLOOKUP(MID(A187,6,99)*1,'Data eshop'!D:T,5,FALSE)))","v":""},{"$f":"IF(A187=\"\",\"\",IF(VLOOKUP(MID(A187,6,99)*1,'Data eshop'!D:T,6,FALSE)=0,\"\",VLOOKUP(MID(A187,6,99)*1,'Data eshop'!D:T,6,FALSE)))","v":""},{"$f":"IF(A187=\"\",\"\",IF(VLOOKUP(MID(A187,6,99)*1,'Data eshop'!D:T,7,FALSE)=0,\"\",VLOOKUP(MID(A187,6,99)*1,'Data eshop'!D:T,7,FALSE)))","v":""},{"$f":"IF(A187=\"\",\"\",IF(VLOOKUP(MID(A187,6,99)*1,'Data eshop'!D:T,10,FALSE)=0,\"\",VLOOKUP(VLOOKUP(MID(A187,6,99)*1,'Data eshop'!D:T,10,FALSE),DATA!O:P,2,FALSE)))","v":""},"",{"$f":"IF(A187=\"\",\"\",IF(VLOOKUP(MID(A187,6,99)*1,'Data eshop'!D:W,18,FALSE)=0,\"\",VLOOKUP(MID(A187,6,99)*1,'Data eshop'!D:W,18,FALSE)))","v":""},{"$f":"IF(A187=\"\",\"\",IF(VLOOKUP(MID(A187,6,99)*1,'Data eshop'!D:W,19,FALSE)=0,\"\",VLOOKUP(MID(A187,6,99)*1,'Data eshop'!D:W,19,FALSE)))","v":""},{"$f":"IF(A187=\"\",\"\",IF(VLOOKUP(MID(A187,6,99)*1,'Data eshop'!D:T,11,FALSE)=0,\"\",IF(OR(VLOOKUP(MID(A187,6,99)*1,'Data eshop'!D:T,11,FALSE)=\"Na dobírku\",VLOOKUP(MID(A187,6,99)*1,'Data eshop'!D:T,11,FALSE)=\"Na dobierku\",VLOOKUP(MID(A187,6,99)*1,'Data eshop'!D:T,11,FALSE)=\"Za pobraniem\"),VLOOKUP(MID(A187,6,99)*1,'Data eshop'!D:W,20,FALSE),\"\")))","v":""},{"$f":"IF(L187=\"\",\"\",IF(VLOOKUP(MID(A187,6,99)*1,'Data eshop'!D:T,10,FALSE)=0,\"\",IF(VLOOKUP(MID(A187,6,99)*1,'Data eshop'!D:T,10,FALSE)=\"Česká republika\",\"CZK\",IF(VLOOKUP(MID(A187,6,99)*1,'Data eshop'!D:T,10,FALSE)=\"Poland\",\"PLN\",IF(VLOOKUP(MID(A187,6,99)*1,'Data eshop'!D:T,10,FALSE)=\"Slovakia\",\"EUR\",\"\")))))","v":""},"",null,186]
[{"$f":"IFERROR(VLOOKUP(P188,Zakázky!P:Q,2,FALSE),\"\")","v":""},"",{"$f":"IF(A188=\"\",\"\",IF(VLOOKUP(MID(A188,6,99)*1,'Data eshop'!D:T,2,FALSE)=0,\"\",VLOOKUP(MID(A188,6,99)*1,'Data eshop'!D:T,2,FALSE)))","v":""},{"$f":"IF(A188=\"\",\"\",IF(VLOOKUP(MID(A188,6,99)*1,'Data eshop'!D:T,3,FALSE)=0,IF(VLOOKUP(MID(A188,6,99)*1,'Data eshop'!D:T,4,FALSE)=0,\"\",VLOOKUP(MID(A188,6,99)*1,'Data eshop'!D:T,4,FALSE)),VLOOKUP(MID(A188,6,99)*1,'Data eshop'!D:T,3,FALSE))&IF(VLOOKUP(MID(A188,6,99)*1,'Data eshop'!D:T,4,FALSE)=0,\"\",\" \"&VLOOKUP(MID(A188,6,99)*1,'Data eshop'!D:T,4,FALSE)))","v":""},{"$f":"IF(A188=\"\",\"\",IF(VLOOKUP(MID(A188,6,99)*1,'Data eshop'!D:T,5,FALSE)=0,\"\",VLOOKUP(MID(A188,6,99)*1,'Data eshop'!D:T,5,FALSE)))","v":""},{"$f":"IF(A188=\"\",\"\",IF(VLOOKUP(MID(A188,6,99)*1,'Data eshop'!D:T,6,FALSE)=0,\"\",VLOOKUP(MID(A188,6,99)*1,'Data eshop'!D:T,6,FALSE)))","v":""},{"$f":"IF(A188=\"\",\"\",IF(VLOOKUP(MID(A188,6,99)*1,'Data eshop'!D:T,7,FALSE)=0,\"\",VLOOKUP(MID(A188,6,99)*1,'Data eshop'!D:T,7,FALSE)))","v":""},{"$f":"IF(A188=\"\",\"\",IF(VLOOKUP(MID(A188,6,99)*1,'Data eshop'!D:T,10,FALSE)=0,\"\",VLOOKUP(VLOOKUP(MID(A188,6,99)*1,'Data eshop'!D:T,10,FALSE),DATA!O:P,2,FALSE)))","v":""},"",{"$f":"IF(A188=\"\",\"\",IF(VLOOKUP(MID(A188,6,99)*1,'Data eshop'!D:W,18,FALSE)=0,\"\",VLOOKUP(MID(A188,6,99)*1,'Data eshop'!D:W,18,FALSE)))","v":""},{"$f":"IF(A188=\"\",\"\",IF(VLOOKUP(MID(A188,6,99)*1,'Data eshop'!D:W,19,FALSE)=0,\"\",VLOOKUP(MID(A188,6,99)*1,'Data eshop'!D:W,19,FALSE)))","v":""},{"$f":"IF(A188=\"\",\"\",IF(VLOOKUP(MID(A188,6,99)*1,'Data eshop'!D:T,11,FALSE)=0,\"\",IF(OR(VLOOKUP(MID(A188,6,99)*1,'Data eshop'!D:T,11,FALSE)=\"Na dobírku\",VLOOKUP(MID(A188,6,99)*1,'Data eshop'!D:T,11,FALSE)=\"Na dobierku\",VLOOKUP(MID(A188,6,99)*1,'Data eshop'!D:T,11,FALSE)=\"Za pobraniem\"),VLOOKUP(MID(A188,6,99)*1,'Data eshop'!D:W,20,FALSE),\"\")))","v":""},{"$f":"IF(L188=\"\",\"\",IF(VLOOKUP(MID(A188,6,99)*1,'Data eshop'!D:T,10,FALSE)=0,\"\",IF(VLOOKUP(MID(A188,6,99)*1,'Data eshop'!D:T,10,FALSE)=\"Česká republika\",\"CZK\",IF(VLOOKUP(MID(A188,6,99)*1,'Data eshop'!D:T,10,FALSE)=\"Poland\",\"PLN\",IF(VLOOKUP(MID(A188,6,99)*1,'Data eshop'!D:T,10,FALSE)=\"Slovakia\",\"EUR\",\"\")))))","v":""},"",null,187]
[{"$f":"IFERROR(VLOOKUP(P189,Zakázky!P:Q,2,FALSE),\"\")","v":""},"",{"$f":"IF(A189=\"\",\"\",IF(VLOOKUP(MID(A189,6,99)*1,'Data eshop'!D:T,2,FALSE)=0,\"\",VLOOKUP(MID(A189,6,99)*1,'Data eshop'!D:T,2,FALSE)))","v":""},{"$f":"IF(A189=\"\",\"\",IF(VLOOKUP(MID(A189,6,99)*1,'Data eshop'!D:T,3,FALSE)=0,IF(VLOOKUP(MID(A189,6,99)*1,'Data eshop'!D:T,4,FALSE)=0,\"\",VLOOKUP(MID(A189,6,99)*1,'Data eshop'!D:T,4,FALSE)),VLOOKUP(MID(A189,6,99)*1,'Data eshop'!D:T,3,FALSE))&IF(VLOOKUP(MID(A189,6,99)*1,'Data eshop'!D:T,4,FALSE)=0,\"\",\" \"&VLOOKUP(MID(A189,6,99)*1,'Data eshop'!D:T,4,FALSE)))","v":""},{"$f":"IF(A189=\"\",\"\",IF(VLOOKUP(MID(A189,6,99)*1,'Data eshop'!D:T,5,FALSE)=0,\"\",VLOOKUP(MID(A189,6,99)*1,'Data eshop'!D:T,5,FALSE)))","v":""},{"$f":"IF(A189=\"\",\"\",IF(VLOOKUP(MID(A189,6,99)*1,'Data eshop'!D:T,6,FALSE)=0,\"\",VLOOKUP(MID(A189,6,99)*1,'Data eshop'!D:T,6,FALSE)))","v":""},{"$f":"IF(A189=\"\",\"\",IF(VLOOKUP(MID(A189,6,99)*1,'Data eshop'!D:T,7,FALSE)=0,\"\",VLOOKUP(MID(A189,6,99)*1,'Data eshop'!D:T,7,FALSE)))","v":""},{"$f":"IF(A189=\"\",\"\",IF(VLOOKUP(MID(A189,6,99)*1,'Data eshop'!D:T,10,FALSE)=0,\"\",VLOOKUP(VLOOKUP(MID(A189,6,99)*1,'Data eshop'!D:T,10,FALSE),DATA!O:P,2,FALSE)))","v":""},"",{"$f":"IF(A189=\"\",\"\",IF(VLOOKUP(MID(A189,6,99)*1,'Data eshop'!D:W,18,FALSE)=0,\"\",VLOOKUP(MID(A189,6,99)*1,'Data eshop'!D:W,18,FALSE)))","v":""},{"$f":"IF(A189=\"\",\"\",IF(VLOOKUP(MID(A189,6,99)*1,'Data eshop'!D:W,19,FALSE)=0,\"\",VLOOKUP(MID(A189,6,99)*1,'Data eshop'!D:W,19,FALSE)))","v":""},{"$f":"IF(A189=\"\",\"\",IF(VLOOKUP(MID(A189,6,99)*1,'Data eshop'!D:T,11,FALSE)=0,\"\",IF(OR(VLOOKUP(MID(A189,6,99)*1,'Data eshop'!D:T,11,FALSE)=\"Na dobírku\",VLOOKUP(MID(A189,6,99)*1,'Data eshop'!D:T,11,FALSE)=\"Na dobierku\",VLOOKUP(MID(A189,6,99)*1,'Data eshop'!D:T,11,FALSE)=\"Za pobraniem\"),VLOOKUP(MID(A189,6,99)*1,'Data eshop'!D:W,20,FALSE),\"\")))","v":""},{"$f":"IF(L189=\"\",\"\",IF(VLOOKUP(MID(A189,6,99)*1,'Data eshop'!D:T,10,FALSE)=0,\"\",IF(VLOOKUP(MID(A189,6,99)*1,'Data eshop'!D:T,10,FALSE)=\"Česká republika\",\"CZK\",IF(VLOOKUP(MID(A189,6,99)*1,'Data eshop'!D:T,10,FALSE)=\"Poland\",\"PLN\",IF(VLOOKUP(MID(A189,6,99)*1,'Data eshop'!D:T,10,FALSE)=\"Slovakia\",\"EUR\",\"\")))))","v":""},"",null,188]
[{"$f":"IFERROR(VLOOKUP(P190,Zakázky!P:Q,2,FALSE),\"\")","v":""},"",{"$f":"IF(A190=\"\",\"\",IF(VLOOKUP(MID(A190,6,99)*1,'Data eshop'!D:T,2,FALSE)=0,\"\",VLOOKUP(MID(A190,6,99)*1,'Data eshop'!D:T,2,FALSE)))","v":""},{"$f":"IF(A190=\"\",\"\",IF(VLOOKUP(MID(A190,6,99)*1,'Data eshop'!D:T,3,FALSE)=0,IF(VLOOKUP(MID(A190,6,99)*1,'Data eshop'!D:T,4,FALSE)=0,\"\",VLOOKUP(MID(A190,6,99)*1,'Data eshop'!D:T,4,FALSE)),VLOOKUP(MID(A190,6,99)*1,'Data eshop'!D:T,3,FALSE))&IF(VLOOKUP(MID(A190,6,99)*1,'Data eshop'!D:T,4,FALSE)=0,\"\",\" \"&VLOOKUP(MID(A190,6,99)*1,'Data eshop'!D:T,4,FALSE)))","v":""},{"$f":"IF(A190=\"\",\"\",IF(VLOOKUP(MID(A190,6,99)*1,'Data eshop'!D:T,5,FALSE)=0,\"\",VLOOKUP(MID(A190,6,99)*1,'Data eshop'!D:T,5,FALSE)))","v":""},{"$f":"IF(A190=\"\",\"\",IF(VLOOKUP(MID(A190,6,99)*1,'Data eshop'!D:T,6,FALSE)=0,\"\",VLOOKUP(MID(A190,6,99)*1,'Data eshop'!D:T,6,FALSE)))","v":""},{"$f":"IF(A190=\"\",\"\",IF(VLOOKUP(MID(A190,6,99)*1,'Data eshop'!D:T,7,FALSE)=0,\"\",VLOOKUP(MID(A190,6,99)*1,'Data eshop'!D:T,7,FALSE)))","v":""},{"$f":"IF(A190=\"\",\"\",IF(VLOOKUP(MID(A190,6,99)*1,'Data eshop'!D:T,10,FALSE)=0,\"\",VLOOKUP(VLOOKUP(MID(A190,6,99)*1,'Data eshop'!D:T,10,FALSE),DATA!O:P,2,FALSE)))","v":""},"",{"$f":"IF(A190=\"\",\"\",IF(VLOOKUP(MID(A190,6,99)*1,'Data eshop'!D:W,18,FALSE)=0,\"\",VLOOKUP(MID(A190,6,99)*1,'Data eshop'!D:W,18,FALSE)))","v":""},{"$f":"IF(A190=\"\",\"\",IF(VLOOKUP(MID(A190,6,99)*1,'Data eshop'!D:W,19,FALSE)=0,\"\",VLOOKUP(MID(A190,6,99)*1,'Data eshop'!D:W,19,FALSE)))","v":""},{"$f":"IF(A190=\"\",\"\",IF(VLOOKUP(MID(A190,6,99)*1,'Data eshop'!D:T,11,FALSE)=0,\"\",IF(OR(VLOOKUP(MID(A190,6,99)*1,'Data eshop'!D:T,11,FALSE)=\"Na dobírku\",VLOOKUP(MID(A190,6,99)*1,'Data eshop'!D:T,11,FALSE)=\"Na dobierku\",VLOOKUP(MID(A190,6,99)*1,'Data eshop'!D:T,11,FALSE)=\"Za pobraniem\"),VLOOKUP(MID(A190,6,99)*1,'Data eshop'!D:W,20,FALSE),\"\")))","v":""},{"$f":"IF(L190=\"\",\"\",IF(VLOOKUP(MID(A190,6,99)*1,'Data eshop'!D:T,10,FALSE)=0,\"\",IF(VLOOKUP(MID(A190,6,99)*1,'Data eshop'!D:T,10,FALSE)=\"Česká republika\",\"CZK\",IF(VLOOKUP(MID(A190,6,99)*1,'Data eshop'!D:T,10,FALSE)=\"Poland\",\"PLN\",IF(VLOOKUP(MID(A190,6,99)*1,'Data eshop'!D:T,10,FALSE)=\"Slovakia\",\"EUR\",\"\")))))","v":""},"",null,189,null,"Roluj nahoru, až uvidíš žlutou"]
[{"$f":"IFERROR(VLOOKUP(P191,Zakázky!P:Q,2,FALSE),\"\")","v":""},"",{"$f":"IF(A191=\"\",\"\",IF(VLOOKUP(MID(A191,6,99)*1,'Data eshop'!D:T,2,FALSE)=0,\"\",VLOOKUP(MID(A191,6,99)*1,'Data eshop'!D:T,2,FALSE)))","v":""},{"$f":"IF(A191=\"\",\"\",IF(VLOOKUP(MID(A191,6,99)*1,'Data eshop'!D:T,3,FALSE)=0,IF(VLOOKUP(MID(A191,6,99)*1,'Data eshop'!D:T,4,FALSE)=0,\"\",VLOOKUP(MID(A191,6,99)*1,'Data eshop'!D:T,4,FALSE)),VLOOKUP(MID(A191,6,99)*1,'Data eshop'!D:T,3,FALSE))&IF(VLOOKUP(MID(A191,6,99)*1,'Data eshop'!D:T,4,FALSE)=0,\"\",\" \"&VLOOKUP(MID(A191,6,99)*1,'Data eshop'!D:T,4,FALSE)))","v":""},{"$f":"IF(A191=\"\",\"\",IF(VLOOKUP(MID(A191,6,99)*1,'Data eshop'!D:T,5,FALSE)=0,\"\",VLOOKUP(MID(A191,6,99)*1,'Data eshop'!D:T,5,FALSE)))","v":""},{"$f":"IF(A191=\"\",\"\",IF(VLOOKUP(MID(A191,6,99)*1,'Data eshop'!D:T,6,FALSE)=0,\"\",VLOOKUP(MID(A191,6,99)*1,'Data eshop'!D:T,6,FALSE)))","v":""},{"$f":"IF(A191=\"\",\"\",IF(VLOOKUP(MID(A191,6,99)*1,'Data eshop'!D:T,7,FALSE)=0,\"\",VLOOKUP(MID(A191,6,99)*1,'Data eshop'!D:T,7,FALSE)))","v":""},{"$f":"IF(A191=\"\",\"\",IF(VLOOKUP(MID(A191,6,99)*1,'Data eshop'!D:T,10,FALSE)=0,\"\",VLOOKUP(VLOOKUP(MID(A191,6,99)*1,'Data eshop'!D:T,10,FALSE),DATA!O:P,2,FALSE)))","v":""},"",{"$f":"IF(A191=\"\",\"\",IF(VLOOKUP(MID(A191,6,99)*1,'Data eshop'!D:W,18,FALSE)=0,\"\",VLOOKUP(MID(A191,6,99)*1,'Data eshop'!D:W,18,FALSE)))","v":""},{"$f":"IF(A191=\"\",\"\",IF(VLOOKUP(MID(A191,6,99)*1,'Data eshop'!D:W,19,FALSE)=0,\"\",VLOOKUP(MID(A191,6,99)*1,'Data eshop'!D:W,19,FALSE)))","v":""},{"$f":"IF(A191=\"\",\"\",IF(VLOOKUP(MID(A191,6,99)*1,'Data eshop'!D:T,11,FALSE)=0,\"\",IF(OR(VLOOKUP(MID(A191,6,99)*1,'Data eshop'!D:T,11,FALSE)=\"Na dobírku\",VLOOKUP(MID(A191,6,99)*1,'Data eshop'!D:T,11,FALSE)=\"Na dobierku\",VLOOKUP(MID(A191,6,99)*1,'Data eshop'!D:T,11,FALSE)=\"Za pobraniem\"),VLOOKUP(MID(A191,6,99)*1,'Data eshop'!D:W,20,FALSE),\"\")))","v":""},{"$f":"IF(L191=\"\",\"\",IF(VLOOKUP(MID(A191,6,99)*1,'Data eshop'!D:T,10,FALSE)=0,\"\",IF(VLOOKUP(MID(A191,6,99)*1,'Data eshop'!D:T,10,FALSE)=\"Česká republika\",\"CZK\",IF(VLOOKUP(MID(A191,6,99)*1,'Data eshop'!D:T,10,FALSE)=\"Poland\",\"PLN\",IF(VLOOKUP(MID(A191,6,99)*1,'Data eshop'!D:T,10,FALSE)=\"Slovakia\",\"EUR\",\"\")))))","v":""},"",null,190]
[{"$f":"IFERROR(VLOOKUP(P192,Zakázky!P:Q,2,FALSE),\"\")","v":""},"",{"$f":"IF(A192=\"\",\"\",IF(VLOOKUP(MID(A192,6,99)*1,'Data eshop'!D:T,2,FALSE)=0,\"\",VLOOKUP(MID(A192,6,99)*1,'Data eshop'!D:T,2,FALSE)))","v":""},{"$f":"IF(A192=\"\",\"\",IF(VLOOKUP(MID(A192,6,99)*1,'Data eshop'!D:T,3,FALSE)=0,IF(VLOOKUP(MID(A192,6,99)*1,'Data eshop'!D:T,4,FALSE)=0,\"\",VLOOKUP(MID(A192,6,99)*1,'Data eshop'!D:T,4,FALSE)),VLOOKUP(MID(A192,6,99)*1,'Data eshop'!D:T,3,FALSE))&IF(VLOOKUP(MID(A192,6,99)*1,'Data eshop'!D:T,4,FALSE)=0,\"\",\" \"&VLOOKUP(MID(A192,6,99)*1,'Data eshop'!D:T,4,FALSE)))","v":""},{"$f":"IF(A192=\"\",\"\",IF(VLOOKUP(MID(A192,6,99)*1,'Data eshop'!D:T,5,FALSE)=0,\"\",VLOOKUP(MID(A192,6,99)*1,'Data eshop'!D:T,5,FALSE)))","v":""},{"$f":"IF(A192=\"\",\"\",IF(VLOOKUP(MID(A192,6,99)*1,'Data eshop'!D:T,6,FALSE)=0,\"\",VLOOKUP(MID(A192,6,99)*1,'Data eshop'!D:T,6,FALSE)))","v":""},{"$f":"IF(A192=\"\",\"\",IF(VLOOKUP(MID(A192,6,99)*1,'Data eshop'!D:T,7,FALSE)=0,\"\",VLOOKUP(MID(A192,6,99)*1,'Data eshop'!D:T,7,FALSE)))","v":""},{"$f":"IF(A192=\"\",\"\",IF(VLOOKUP(MID(A192,6,99)*1,'Data eshop'!D:T,10,FALSE)=0,\"\",VLOOKUP(VLOOKUP(MID(A192,6,99)*1,'Data eshop'!D:T,10,FALSE),DATA!O:P,2,FALSE)))","v":""},"",{"$f":"IF(A192=\"\",\"\",IF(VLOOKUP(MID(A192,6,99)*1,'Data eshop'!D:W,18,FALSE)=0,\"\",VLOOKUP(MID(A192,6,99)*1,'Data eshop'!D:W,18,FALSE)))","v":""},{"$f":"IF(A192=\"\",\"\",IF(VLOOKUP(MID(A192,6,99)*1,'Data eshop'!D:W,19,FALSE)=0,\"\",VLOOKUP(MID(A192,6,99)*1,'Data eshop'!D:W,19,FALSE)))","v":""},{"$f":"IF(A192=\"\",\"\",IF(VLOOKUP(MID(A192,6,99)*1,'Data eshop'!D:T,11,FALSE)=0,\"\",IF(OR(VLOOKUP(MID(A192,6,99)*1,'Data eshop'!D:T,11,FALSE)=\"Na dobírku\",VLOOKUP(MID(A192,6,99)*1,'Data eshop'!D:T,11,FALSE)=\"Na dobierku\",VLOOKUP(MID(A192,6,99)*1,'Data eshop'!D:T,11,FALSE)=\"Za pobraniem\"),VLOOKUP(MID(A192,6,99)*1,'Data eshop'!D:W,20,FALSE),\"\")))","v":""},{"$f":"IF(L192=\"\",\"\",IF(VLOOKUP(MID(A192,6,99)*1,'Data eshop'!D:T,10,FALSE)=0,\"\",IF(VLOOKUP(MID(A192,6,99)*1,'Data eshop'!D:T,10,FALSE)=\"Česká republika\",\"CZK\",IF(VLOOKUP(MID(A192,6,99)*1,'Data eshop'!D:T,10,FALSE)=\"Poland\",\"PLN\",IF(VLOOKUP(MID(A192,6,99)*1,'Data eshop'!D:T,10,FALSE)=\"Slovakia\",\"EUR\",\"\")))))","v":""},"",null,191]
[{"$f":"IFERROR(VLOOKUP(P193,Zakázky!P:Q,2,FALSE),\"\")","v":""},"",{"$f":"IF(A193=\"\",\"\",IF(VLOOKUP(MID(A193,6,99)*1,'Data eshop'!D:T,2,FALSE)=0,\"\",VLOOKUP(MID(A193,6,99)*1,'Data eshop'!D:T,2,FALSE)))","v":""},{"$f":"IF(A193=\"\",\"\",IF(VLOOKUP(MID(A193,6,99)*1,'Data eshop'!D:T,3,FALSE)=0,IF(VLOOKUP(MID(A193,6,99)*1,'Data eshop'!D:T,4,FALSE)=0,\"\",VLOOKUP(MID(A193,6,99)*1,'Data eshop'!D:T,4,FALSE)),VLOOKUP(MID(A193,6,99)*1,'Data eshop'!D:T,3,FALSE))&IF(VLOOKUP(MID(A193,6,99)*1,'Data eshop'!D:T,4,FALSE)=0,\"\",\" \"&VLOOKUP(MID(A193,6,99)*1,'Data eshop'!D:T,4,FALSE)))","v":""},{"$f":"IF(A193=\"\",\"\",IF(VLOOKUP(MID(A193,6,99)*1,'Data eshop'!D:T,5,FALSE)=0,\"\",VLOOKUP(MID(A193,6,99)*1,'Data eshop'!D:T,5,FALSE)))","v":""},{"$f":"IF(A193=\"\",\"\",IF(VLOOKUP(MID(A193,6,99)*1,'Data eshop'!D:T,6,FALSE)=0,\"\",VLOOKUP(MID(A193,6,99)*1,'Data eshop'!D:T,6,FALSE)))","v":""},{"$f":"IF(A193=\"\",\"\",IF(VLOOKUP(MID(A193,6,99)*1,'Data eshop'!D:T,7,FALSE)=0,\"\",VLOOKUP(MID(A193,6,99)*1,'Data eshop'!D:T,7,FALSE)))","v":""},{"$f":"IF(A193=\"\",\"\",IF(VLOOKUP(MID(A193,6,99)*1,'Data eshop'!D:T,10,FALSE)=0,\"\",VLOOKUP(VLOOKUP(MID(A193,6,99)*1,'Data eshop'!D:T,10,FALSE),DATA!O:P,2,FALSE)))","v":""},"",{"$f":"IF(A193=\"\",\"\",IF(VLOOKUP(MID(A193,6,99)*1,'Data eshop'!D:W,18,FALSE)=0,\"\",VLOOKUP(MID(A193,6,99)*1,'Data eshop'!D:W,18,FALSE)))","v":""},{"$f":"IF(A193=\"\",\"\",IF(VLOOKUP(MID(A193,6,99)*1,'Data eshop'!D:W,19,FALSE)=0,\"\",VLOOKUP(MID(A193,6,99)*1,'Data eshop'!D:W,19,FALSE)))","v":""},{"$f":"IF(A193=\"\",\"\",IF(VLOOKUP(MID(A193,6,99)*1,'Data eshop'!D:T,11,FALSE)=0,\"\",IF(OR(VLOOKUP(MID(A193,6,99)*1,'Data eshop'!D:T,11,FALSE)=\"Na dobírku\",VLOOKUP(MID(A193,6,99)*1,'Data eshop'!D:T,11,FALSE)=\"Na dobierku\",VLOOKUP(MID(A193,6,99)*1,'Data eshop'!D:T,11,FALSE)=\"Za pobraniem\"),VLOOKUP(MID(A193,6,99)*1,'Data eshop'!D:W,20,FALSE),\"\")))","v":""},{"$f":"IF(L193=\"\",\"\",IF(VLOOKUP(MID(A193,6,99)*1,'Data eshop'!D:T,10,FALSE)=0,\"\",IF(VLOOKUP(MID(A193,6,99)*1,'Data eshop'!D:T,10,FALSE)=\"Česká republika\",\"CZK\",IF(VLOOKUP(MID(A193,6,99)*1,'Data eshop'!D:T,10,FALSE)=\"Poland\",\"PLN\",IF(VLOOKUP(MID(A193,6,99)*1,'Data eshop'!D:T,10,FALSE)=\"Slovakia\",\"EUR\",\"\")))))","v":""},"",null,192]
[{"$f":"IFERROR(VLOOKUP(P194,Zakázky!P:Q,2,FALSE),\"\")","v":""},"",{"$f":"IF(A194=\"\",\"\",IF(VLOOKUP(MID(A194,6,99)*1,'Data eshop'!D:T,2,FALSE)=0,\"\",VLOOKUP(MID(A194,6,99)*1,'Data eshop'!D:T,2,FALSE)))","v":""},{"$f":"IF(A194=\"\",\"\",IF(VLOOKUP(MID(A194,6,99)*1,'Data eshop'!D:T,3,FALSE)=0,IF(VLOOKUP(MID(A194,6,99)*1,'Data eshop'!D:T,4,FALSE)=0,\"\",VLOOKUP(MID(A194,6,99)*1,'Data eshop'!D:T,4,FALSE)),VLOOKUP(MID(A194,6,99)*1,'Data eshop'!D:T,3,FALSE))&IF(VLOOKUP(MID(A194,6,99)*1,'Data eshop'!D:T,4,FALSE)=0,\"\",\" \"&VLOOKUP(MID(A194,6,99)*1,'Data eshop'!D:T,4,FALSE)))","v":""},{"$f":"IF(A194=\"\",\"\",IF(VLOOKUP(MID(A194,6,99)*1,'Data eshop'!D:T,5,FALSE)=0,\"\",VLOOKUP(MID(A194,6,99)*1,'Data eshop'!D:T,5,FALSE)))","v":""},{"$f":"IF(A194=\"\",\"\",IF(VLOOKUP(MID(A194,6,99)*1,'Data eshop'!D:T,6,FALSE)=0,\"\",VLOOKUP(MID(A194,6,99)*1,'Data eshop'!D:T,6,FALSE)))","v":""},{"$f":"IF(A194=\"\",\"\",IF(VLOOKUP(MID(A194,6,99)*1,'Data eshop'!D:T,7,FALSE)=0,\"\",VLOOKUP(MID(A194,6,99)*1,'Data eshop'!D:T,7,FALSE)))","v":""},{"$f":"IF(A194=\"\",\"\",IF(VLOOKUP(MID(A194,6,99)*1,'Data eshop'!D:T,10,FALSE)=0,\"\",VLOOKUP(VLOOKUP(MID(A194,6,99)*1,'Data eshop'!D:T,10,FALSE),DATA!O:P,2,FALSE)))","v":""},"",{"$f":"IF(A194=\"\",\"\",IF(VLOOKUP(MID(A194,6,99)*1,'Data eshop'!D:W,18,FALSE)=0,\"\",VLOOKUP(MID(A194,6,99)*1,'Data eshop'!D:W,18,FALSE)))","v":""},{"$f":"IF(A194=\"\",\"\",IF(VLOOKUP(MID(A194,6,99)*1,'Data eshop'!D:W,19,FALSE)=0,\"\",VLOOKUP(MID(A194,6,99)*1,'Data eshop'!D:W,19,FALSE)))","v":""},{"$f":"IF(A194=\"\",\"\",IF(VLOOKUP(MID(A194,6,99)*1,'Data eshop'!D:T,11,FALSE)=0,\"\",IF(OR(VLOOKUP(MID(A194,6,99)*1,'Data eshop'!D:T,11,FALSE)=\"Na dobírku\",VLOOKUP(MID(A194,6,99)*1,'Data eshop'!D:T,11,FALSE)=\"Na dobierku\",VLOOKUP(MID(A194,6,99)*1,'Data eshop'!D:T,11,FALSE)=\"Za pobraniem\"),VLOOKUP(MID(A194,6,99)*1,'Data eshop'!D:W,20,FALSE),\"\")))","v":""},{"$f":"IF(L194=\"\",\"\",IF(VLOOKUP(MID(A194,6,99)*1,'Data eshop'!D:T,10,FALSE)=0,\"\",IF(VLOOKUP(MID(A194,6,99)*1,'Data eshop'!D:T,10,FALSE)=\"Česká republika\",\"CZK\",IF(VLOOKUP(MID(A194,6,99)*1,'Data eshop'!D:T,10,FALSE)=\"Poland\",\"PLN\",IF(VLOOKUP(MID(A194,6,99)*1,'Data eshop'!D:T,10,FALSE)=\"Slovakia\",\"EUR\",\"\")))))","v":""},"",null,193,null,"Roluj nahoru, až uvidíš žlutou"]
[{"$f":"IFERROR(VLOOKUP(P195,Zakázky!P:Q,2,FALSE),\"\")","v":""},{"$f":"IF(A195=\"\",\"\",40054 )","v":""},{"$f":"IF(A195=\"\",\"\",IF(VLOOKUP(MID(A195,6,99)*1,'Data eshop'!D:T,2,FALSE)=0,\"\",VLOOKUP(MID(A195,6,99)*1,'Data eshop'!D:T,2,FALSE)))","v":""},{"$f":"IF(A195=\"\",\"\",IF(VLOOKUP(MID(A195,6,99)*1,'Data eshop'!D:T,3,FALSE)=0,IF(VLOOKUP(MID(A195,6,99)*1,'Data eshop'!D:T,4,FALSE)=0,\"\",VLOOKUP(MID(A195,6,99)*1,'Data eshop'!D:T,4,FALSE)),VLOOKUP(MID(A195,6,99)*1,'Data eshop'!D:T,3,FALSE))&IF(VLOOKUP(MID(A195,6,99)*1,'Data eshop'!D:T,4,FALSE)=0,\"\",\" \"&VLOOKUP(MID(A195,6,99)*1,'Data eshop'!D:T,4,FALSE)))","v":""},{"$f":"IF(A195=\"\",\"\",IF(VLOOKUP(MID(A195,6,99)*1,'Data eshop'!D:T,5,FALSE)=0,\"\",VLOOKUP(MID(A195,6,99)*1,'Data eshop'!D:T,5,FALSE)))","v":""},{"$f":"IF(A195=\"\",\"\",IF(VLOOKUP(MID(A195,6,99)*1,'Data eshop'!D:T,6,FALSE)=0,\"\",VLOOKUP(MID(A195,6,99)*1,'Data eshop'!D:T,6,FALSE)))","v":""},{"$f":"IF(A195=\"\",\"\",IF(VLOOKUP(MID(A195,6,99)*1,'Data eshop'!D:T,7,FALSE)=0,\"\",VLOOKUP(MID(A195,6,99)*1,'Data eshop'!D:T,7,FALSE)))","v":""},{"$f":"IF(A195=\"\",\"\",IF(VLOOKUP(MID(A195,6,99)*1,'Data eshop'!D:T,10,FALSE)=0,\"\",VLOOKUP(VLOOKUP(MID(A195,6,99)*1,'Data eshop'!D:T,10,FALSE),DATA!O:P,2,FALSE)))","v":""},{"$f":"IF(J195=\"\",\"\",J195)","v":""},{"$f":"IF(A195=\"\",\"\",IF(VLOOKUP(MID(A195,6,99)*1,'Data eshop'!D:W,18,FALSE)=0,\"\",VLOOKUP(MID(A195,6,99)*1,'Data eshop'!D:W,18,FALSE)))","v":""},{"$f":"IF(A195=\"\",\"\",IF(VLOOKUP(MID(A195,6,99)*1,'Data eshop'!D:W,19,FALSE)=0,\"\",VLOOKUP(MID(A195,6,99)*1,'Data eshop'!D:W,19,FALSE)))","v":""},{"$f":"IF(A195=\"\",\"\",IF(VLOOKUP(MID(A195,6,99)*1,'Data eshop'!D:T,11,FALSE)=0,\"\",IF(OR(VLOOKUP(MID(A195,6,99)*1,'Data eshop'!D:T,11,FALSE)=\"Na dobírku\",VLOOKUP(MID(A195,6,99)*1,'Data eshop'!D:T,11,FALSE)=\"Na dobierku\",VLOOKUP(MID(A195,6,99)*1,'Data eshop'!D:T,11,FALSE)=\"Za pobraniem\"),VLOOKUP(MID(A195,6,99)*1,'Data eshop'!D:W,20,FALSE),\"\")))","v":""},{"$f":"IF(L195=\"\",\"\",IF(VLOOKUP(MID(A195,6,99)*1,'Data eshop'!D:T,10,FALSE)=0,\"\",IF(VLOOKUP(MID(A195,6,99)*1,'Data eshop'!D:T,10,FALSE)=\"Česká republika\",\"CZK\",IF(VLOOKUP(MID(A195,6,99)*1,'Data eshop'!D:T,10,FALSE)=\"Poland\",\"PLN\",IF(VLOOKUP(MID(A195,6,99)*1,'Data eshop'!D:T,10,FALSE)=\"Slovakia\",\"EUR\",\"\")))))","v":""},{"$f":"IF(L195=\"\",\"\",0)","v":""},null,194]
[{"$f":"IFERROR(VLOOKUP(P196,Zakázky!P:Q,2,FALSE),\"\")","v":""},"",{"$f":"IF(A196=\"\",\"\",IF(VLOOKUP(MID(A196,6,99)*1,'Data eshop'!D:T,2,FALSE)=0,\"\",VLOOKUP(MID(A196,6,99)*1,'Data eshop'!D:T,2,FALSE)))","v":""},{"$f":"IF(A196=\"\",\"\",IF(VLOOKUP(MID(A196,6,99)*1,'Data eshop'!D:T,3,FALSE)=0,IF(VLOOKUP(MID(A196,6,99)*1,'Data eshop'!D:T,4,FALSE)=0,\"\",VLOOKUP(MID(A196,6,99)*1,'Data eshop'!D:T,4,FALSE)),VLOOKUP(MID(A196,6,99)*1,'Data eshop'!D:T,3,FALSE))&IF(VLOOKUP(MID(A196,6,99)*1,'Data eshop'!D:T,4,FALSE)=0,\"\",\" \"&VLOOKUP(MID(A196,6,99)*1,'Data eshop'!D:T,4,FALSE)))","v":""},{"$f":"IF(A196=\"\",\"\",IF(VLOOKUP(MID(A196,6,99)*1,'Data eshop'!D:T,5,FALSE)=0,\"\",VLOOKUP(MID(A196,6,99)*1,'Data eshop'!D:T,5,FALSE)))","v":""},{"$f":"IF(A196=\"\",\"\",IF(VLOOKUP(MID(A196,6,99)*1,'Data eshop'!D:T,6,FALSE)=0,\"\",VLOOKUP(MID(A196,6,99)*1,'Data eshop'!D:T,6,FALSE)))","v":""},{"$f":"IF(A196=\"\",\"\",IF(VLOOKUP(MID(A196,6,99)*1,'Data eshop'!D:T,7,FALSE)=0,\"\",VLOOKUP(MID(A196,6,99)*1,'Data eshop'!D:T,7,FALSE)))","v":""},{"$f":"IF(A196=\"\",\"\",IF(VLOOKUP(MID(A196,6,99)*1,'Data eshop'!D:T,10,FALSE)=0,\"\",VLOOKUP(VLOOKUP(MID(A196,6,99)*1,'Data eshop'!D:T,10,FALSE),DATA!O:P,2,FALSE)))","v":""},"",{"$f":"IF(A196=\"\",\"\",IF(VLOOKUP(MID(A196,6,99)*1,'Data eshop'!D:W,18,FALSE)=0,\"\",VLOOKUP(MID(A196,6,99)*1,'Data eshop'!D:W,18,FALSE)))","v":""},{"$f":"IF(A196=\"\",\"\",IF(VLOOKUP(MID(A196,6,99)*1,'Data eshop'!D:W,19,FALSE)=0,\"\",VLOOKUP(MID(A196,6,99)*1,'Data eshop'!D:W,19,FALSE)))","v":""},{"$f":"IF(A196=\"\",\"\",IF(VLOOKUP(MID(A196,6,99)*1,'Data eshop'!D:T,11,FALSE)=0,\"\",IF(OR(VLOOKUP(MID(A196,6,99)*1,'Data eshop'!D:T,11,FALSE)=\"Na dobírku\",VLOOKUP(MID(A196,6,99)*1,'Data eshop'!D:T,11,FALSE)=\"Na dobierku\",VLOOKUP(MID(A196,6,99)*1,'Data eshop'!D:T,11,FALSE)=\"Za pobraniem\"),VLOOKUP(MID(A196,6,99)*1,'Data eshop'!D:W,20,FALSE),\"\")))","v":""},{"$f":"IF(L196=\"\",\"\",IF(VLOOKUP(MID(A196,6,99)*1,'Data eshop'!D:T,10,FALSE)=0,\"\",IF(VLOOKUP(MID(A196,6,99)*1,'Data eshop'!D:T,10,FALSE)=\"Česká republika\",\"CZK\",IF(VLOOKUP(MID(A196,6,99)*1,'Data eshop'!D:T,10,FALSE)=\"Poland\",\"PLN\",IF(VLOOKUP(MID(A196,6,99)*1,'Data eshop'!D:T,10,FALSE)=\"Slovakia\",\"EUR\",\"\")))))","v":""},"",null,195]
[{"$f":"IFERROR(VLOOKUP(P197,Zakázky!P:Q,2,FALSE),\"\")","v":""},"",{"$f":"IF(A197=\"\",\"\",IF(VLOOKUP(MID(A197,6,99)*1,'Data eshop'!D:T,2,FALSE)=0,\"\",VLOOKUP(MID(A197,6,99)*1,'Data eshop'!D:T,2,FALSE)))","v":""},{"$f":"IF(A197=\"\",\"\",IF(VLOOKUP(MID(A197,6,99)*1,'Data eshop'!D:T,3,FALSE)=0,IF(VLOOKUP(MID(A197,6,99)*1,'Data eshop'!D:T,4,FALSE)=0,\"\",VLOOKUP(MID(A197,6,99)*1,'Data eshop'!D:T,4,FALSE)),VLOOKUP(MID(A197,6,99)*1,'Data eshop'!D:T,3,FALSE))&IF(VLOOKUP(MID(A197,6,99)*1,'Data eshop'!D:T,4,FALSE)=0,\"\",\" \"&VLOOKUP(MID(A197,6,99)*1,'Data eshop'!D:T,4,FALSE)))","v":""},{"$f":"IF(A197=\"\",\"\",IF(VLOOKUP(MID(A197,6,99)*1,'Data eshop'!D:T,5,FALSE)=0,\"\",VLOOKUP(MID(A197,6,99)*1,'Data eshop'!D:T,5,FALSE)))","v":""},{"$f":"IF(A197=\"\",\"\",IF(VLOOKUP(MID(A197,6,99)*1,'Data eshop'!D:T,6,FALSE)=0,\"\",VLOOKUP(MID(A197,6,99)*1,'Data eshop'!D:T,6,FALSE)))","v":""},{"$f":"IF(A197=\"\",\"\",IF(VLOOKUP(MID(A197,6,99)*1,'Data eshop'!D:T,7,FALSE)=0,\"\",VLOOKUP(MID(A197,6,99)*1,'Data eshop'!D:T,7,FALSE)))","v":""},{"$f":"IF(A197=\"\",\"\",IF(VLOOKUP(MID(A197,6,99)*1,'Data eshop'!D:T,10,FALSE)=0,\"\",VLOOKUP(VLOOKUP(MID(A197,6,99)*1,'Data eshop'!D:T,10,FALSE),DATA!O:P,2,FALSE)))","v":""},"",{"$f":"IF(A197=\"\",\"\",IF(VLOOKUP(MID(A197,6,99)*1,'Data eshop'!D:W,18,FALSE)=0,\"\",VLOOKUP(MID(A197,6,99)*1,'Data eshop'!D:W,18,FALSE)))","v":""},{"$f":"IF(A197=\"\",\"\",IF(VLOOKUP(MID(A197,6,99)*1,'Data eshop'!D:W,19,FALSE)=0,\"\",VLOOKUP(MID(A197,6,99)*1,'Data eshop'!D:W,19,FALSE)))","v":""},{"$f":"IF(A197=\"\",\"\",IF(VLOOKUP(MID(A197,6,99)*1,'Data eshop'!D:T,11,FALSE)=0,\"\",IF(OR(VLOOKUP(MID(A197,6,99)*1,'Data eshop'!D:T,11,FALSE)=\"Na dobírku\",VLOOKUP(MID(A197,6,99)*1,'Data eshop'!D:T,11,FALSE)=\"Na dobierku\",VLOOKUP(MID(A197,6,99)*1,'Data eshop'!D:T,11,FALSE)=\"Za pobraniem\"),VLOOKUP(MID(A197,6,99)*1,'Data eshop'!D:W,20,FALSE),\"\")))","v":""},{"$f":"IF(L197=\"\",\"\",IF(VLOOKUP(MID(A197,6,99)*1,'Data eshop'!D:T,10,FALSE)=0,\"\",IF(VLOOKUP(MID(A197,6,99)*1,'Data eshop'!D:T,10,FALSE)=\"Česká republika\",\"CZK\",IF(VLOOKUP(MID(A197,6,99)*1,'Data eshop'!D:T,10,FALSE)=\"Poland\",\"PLN\",IF(VLOOKUP(MID(A197,6,99)*1,'Data eshop'!D:T,10,FALSE)=\"Slovakia\",\"EUR\",\"\")))))","v":""},"",null,196]
[{"$f":"IFERROR(VLOOKUP(P198,Zakázky!P:Q,2,FALSE),\"\")","v":""},"",{"$f":"IF(A198=\"\",\"\",IF(VLOOKUP(MID(A198,6,99)*1,'Data eshop'!D:T,2,FALSE)=0,\"\",VLOOKUP(MID(A198,6,99)*1,'Data eshop'!D:T,2,FALSE)))","v":""},{"$f":"IF(A198=\"\",\"\",IF(VLOOKUP(MID(A198,6,99)*1,'Data eshop'!D:T,3,FALSE)=0,IF(VLOOKUP(MID(A198,6,99)*1,'Data eshop'!D:T,4,FALSE)=0,\"\",VLOOKUP(MID(A198,6,99)*1,'Data eshop'!D:T,4,FALSE)),VLOOKUP(MID(A198,6,99)*1,'Data eshop'!D:T,3,FALSE))&IF(VLOOKUP(MID(A198,6,99)*1,'Data eshop'!D:T,4,FALSE)=0,\"\",\" \"&VLOOKUP(MID(A198,6,99)*1,'Data eshop'!D:T,4,FALSE)))","v":""},{"$f":"IF(A198=\"\",\"\",IF(VLOOKUP(MID(A198,6,99)*1,'Data eshop'!D:T,5,FALSE)=0,\"\",VLOOKUP(MID(A198,6,99)*1,'Data eshop'!D:T,5,FALSE)))","v":""},{"$f":"IF(A198=\"\",\"\",IF(VLOOKUP(MID(A198,6,99)*1,'Data eshop'!D:T,6,FALSE)=0,\"\",VLOOKUP(MID(A198,6,99)*1,'Data eshop'!D:T,6,FALSE)))","v":""},{"$f":"IF(A198=\"\",\"\",IF(VLOOKUP(MID(A198,6,99)*1,'Data eshop'!D:T,7,FALSE)=0,\"\",VLOOKUP(MID(A198,6,99)*1,'Data eshop'!D:T,7,FALSE)))","v":""},{"$f":"IF(A198=\"\",\"\",IF(VLOOKUP(MID(A198,6,99)*1,'Data eshop'!D:T,10,FALSE)=0,\"\",VLOOKUP(VLOOKUP(MID(A198,6,99)*1,'Data eshop'!D:T,10,FALSE),DATA!O:P,2,FALSE)))","v":""},"",{"$f":"IF(A198=\"\",\"\",IF(VLOOKUP(MID(A198,6,99)*1,'Data eshop'!D:W,18,FALSE)=0,\"\",VLOOKUP(MID(A198,6,99)*1,'Data eshop'!D:W,18,FALSE)))","v":""},{"$f":"IF(A198=\"\",\"\",IF(VLOOKUP(MID(A198,6,99)*1,'Data eshop'!D:W,19,FALSE)=0,\"\",VLOOKUP(MID(A198,6,99)*1,'Data eshop'!D:W,19,FALSE)))","v":""},{"$f":"IF(A198=\"\",\"\",IF(VLOOKUP(MID(A198,6,99)*1,'Data eshop'!D:T,11,FALSE)=0,\"\",IF(OR(VLOOKUP(MID(A198,6,99)*1,'Data eshop'!D:T,11,FALSE)=\"Na dobírku\",VLOOKUP(MID(A198,6,99)*1,'Data eshop'!D:T,11,FALSE)=\"Na dobierku\",VLOOKUP(MID(A198,6,99)*1,'Data eshop'!D:T,11,FALSE)=\"Za pobraniem\"),VLOOKUP(MID(A198,6,99)*1,'Data eshop'!D:W,20,FALSE),\"\")))","v":""},{"$f":"IF(L198=\"\",\"\",IF(VLOOKUP(MID(A198,6,99)*1,'Data eshop'!D:T,10,FALSE)=0,\"\",IF(VLOOKUP(MID(A198,6,99)*1,'Data eshop'!D:T,10,FALSE)=\"Česká republika\",\"CZK\",IF(VLOOKUP(MID(A198,6,99)*1,'Data eshop'!D:T,10,FALSE)=\"Poland\",\"PLN\",IF(VLOOKUP(MID(A198,6,99)*1,'Data eshop'!D:T,10,FALSE)=\"Slovakia\",\"EUR\",\"\")))))","v":""},"",null,197,null,"Roluj nahoru, až uvidíš žlutou"]
[{"$f":"IFERROR(VLOOKUP(P199,Zakázky!P:Q,2,FALSE),\"\")","v":""},"",{"$f":"IF(A199=\"\",\"\",IF(VLOOKUP(MID(A199,6,99)*1,'Data eshop'!D:T,2,FALSE)=0,\"\",VLOOKUP(MID(A199,6,99)*1,'Data eshop'!D:T,2,FALSE)))","v":""},{"$f":"IF(A199=\"\",\"\",IF(VLOOKUP(MID(A199,6,99)*1,'Data eshop'!D:T,3,FALSE)=0,IF(VLOOKUP(MID(A199,6,99)*1,'Data eshop'!D:T,4,FALSE)=0,\"\",VLOOKUP(MID(A199,6,99)*1,'Data eshop'!D:T,4,FALSE)),VLOOKUP(MID(A199,6,99)*1,'Data eshop'!D:T,3,FALSE))&IF(VLOOKUP(MID(A199,6,99)*1,'Data eshop'!D:T,4,FALSE)=0,\"\",\" \"&VLOOKUP(MID(A199,6,99)*1,'Data eshop'!D:T,4,FALSE)))","v":""},{"$f":"IF(A199=\"\",\"\",IF(VLOOKUP(MID(A199,6,99)*1,'Data eshop'!D:T,5,FALSE)=0,\"\",VLOOKUP(MID(A199,6,99)*1,'Data eshop'!D:T,5,FALSE)))","v":""},{"$f":"IF(A199=\"\",\"\",IF(VLOOKUP(MID(A199,6,99)*1,'Data eshop'!D:T,6,FALSE)=0,\"\",VLOOKUP(MID(A199,6,99)*1,'Data eshop'!D:T,6,FALSE)))","v":""},{"$f":"IF(A199=\"\",\"\",IF(VLOOKUP(MID(A199,6,99)*1,'Data eshop'!D:T,7,FALSE)=0,\"\",VLOOKUP(MID(A199,6,99)*1,'Data eshop'!D:T,7,FALSE)))","v":""},{"$f":"IF(A199=\"\",\"\",IF(VLOOKUP(MID(A199,6,99)*1,'Data eshop'!D:T,10,FALSE)=0,\"\",VLOOKUP(VLOOKUP(MID(A199,6,99)*1,'Data eshop'!D:T,10,FALSE),DATA!O:P,2,FALSE)))","v":""},"",{"$f":"IF(A199=\"\",\"\",IF(VLOOKUP(MID(A199,6,99)*1,'Data eshop'!D:W,18,FALSE)=0,\"\",VLOOKUP(MID(A199,6,99)*1,'Data eshop'!D:W,18,FALSE)))","v":""},{"$f":"IF(A199=\"\",\"\",IF(VLOOKUP(MID(A199,6,99)*1,'Data eshop'!D:W,19,FALSE)=0,\"\",VLOOKUP(MID(A199,6,99)*1,'Data eshop'!D:W,19,FALSE)))","v":""},{"$f":"IF(A199=\"\",\"\",IF(VLOOKUP(MID(A199,6,99)*1,'Data eshop'!D:T,11,FALSE)=0,\"\",IF(OR(VLOOKUP(MID(A199,6,99)*1,'Data eshop'!D:T,11,FALSE)=\"Na dobírku\",VLOOKUP(MID(A199,6,99)*1,'Data eshop'!D:T,11,FALSE)=\"Na dobierku\",VLOOKUP(MID(A199,6,99)*1,'Data eshop'!D:T,11,FALSE)=\"Za pobraniem\"),VLOOKUP(MID(A199,6,99)*1,'Data eshop'!D:W,20,FALSE),\"\")))","v":""},{"$f":"IF(L199=\"\",\"\",IF(VLOOKUP(MID(A199,6,99)*1,'Data eshop'!D:T,10,FALSE)=0,\"\",IF(VLOOKUP(MID(A199,6,99)*1,'Data eshop'!D:T,10,FALSE)=\"Česká republika\",\"CZK\",IF(VLOOKUP(MID(A199,6,99)*1,'Data eshop'!D:T,10,FALSE)=\"Poland\",\"PLN\",IF(VLOOKUP(MID(A199,6,99)*1,'Data eshop'!D:T,10,FALSE)=\"Slovakia\",\"EUR\",\"\")))))","v":""},"",null,198]
[{"$f":"IFERROR(VLOOKUP(P200,Zakázky!P:Q,2,FALSE),\"\")","v":""},"",{"$f":"IF(A200=\"\",\"\",IF(VLOOKUP(MID(A200,6,99)*1,'Data eshop'!D:T,2,FALSE)=0,\"\",VLOOKUP(MID(A200,6,99)*1,'Data eshop'!D:T,2,FALSE)))","v":""},{"$f":"IF(A200=\"\",\"\",IF(VLOOKUP(MID(A200,6,99)*1,'Data eshop'!D:T,3,FALSE)=0,IF(VLOOKUP(MID(A200,6,99)*1,'Data eshop'!D:T,4,FALSE)=0,\"\",VLOOKUP(MID(A200,6,99)*1,'Data eshop'!D:T,4,FALSE)),VLOOKUP(MID(A200,6,99)*1,'Data eshop'!D:T,3,FALSE))&IF(VLOOKUP(MID(A200,6,99)*1,'Data eshop'!D:T,4,FALSE)=0,\"\",\" \"&VLOOKUP(MID(A200,6,99)*1,'Data eshop'!D:T,4,FALSE)))","v":""},{"$f":"IF(A200=\"\",\"\",IF(VLOOKUP(MID(A200,6,99)*1,'Data eshop'!D:T,5,FALSE)=0,\"\",VLOOKUP(MID(A200,6,99)*1,'Data eshop'!D:T,5,FALSE)))","v":""},{"$f":"IF(A200=\"\",\"\",IF(VLOOKUP(MID(A200,6,99)*1,'Data eshop'!D:T,6,FALSE)=0,\"\",VLOOKUP(MID(A200,6,99)*1,'Data eshop'!D:T,6,FALSE)))","v":""},{"$f":"IF(A200=\"\",\"\",IF(VLOOKUP(MID(A200,6,99)*1,'Data eshop'!D:T,7,FALSE)=0,\"\",VLOOKUP(MID(A200,6,99)*1,'Data eshop'!D:T,7,FALSE)))","v":""},{"$f":"IF(A200=\"\",\"\",IF(VLOOKUP(MID(A200,6,99)*1,'Data eshop'!D:T,10,FALSE)=0,\"\",VLOOKUP(VLOOKUP(MID(A200,6,99)*1,'Data eshop'!D:T,10,FALSE),DATA!O:P,2,FALSE)))","v":""},"",{"$f":"IF(A200=\"\",\"\",IF(VLOOKUP(MID(A200,6,99)*1,'Data eshop'!D:W,18,FALSE)=0,\"\",VLOOKUP(MID(A200,6,99)*1,'Data eshop'!D:W,18,FALSE)))","v":""},{"$f":"IF(A200=\"\",\"\",IF(VLOOKUP(MID(A200,6,99)*1,'Data eshop'!D:W,19,FALSE)=0,\"\",VLOOKUP(MID(A200,6,99)*1,'Data eshop'!D:W,19,FALSE)))","v":""},{"$f":"IF(A200=\"\",\"\",IF(VLOOKUP(MID(A200,6,99)*1,'Data eshop'!D:T,11,FALSE)=0,\"\",IF(OR(VLOOKUP(MID(A200,6,99)*1,'Data eshop'!D:T,11,FALSE)=\"Na dobírku\",VLOOKUP(MID(A200,6,99)*1,'Data eshop'!D:T,11,FALSE)=\"Na dobierku\",VLOOKUP(MID(A200,6,99)*1,'Data eshop'!D:T,11,FALSE)=\"Za pobraniem\"),VLOOKUP(MID(A200,6,99)*1,'Data eshop'!D:W,20,FALSE),\"\")))","v":""},{"$f":"IF(L200=\"\",\"\",IF(VLOOKUP(MID(A200,6,99)*1,'Data eshop'!D:T,10,FALSE)=0,\"\",IF(VLOOKUP(MID(A200,6,99)*1,'Data eshop'!D:T,10,FALSE)=\"Česká republika\",\"CZK\",IF(VLOOKUP(MID(A200,6,99)*1,'Data eshop'!D:T,10,FALSE)=\"Poland\",\"PLN\",IF(VLOOKUP(MID(A200,6,99)*1,'Data eshop'!D:T,10,FALSE)=\"Slovakia\",\"EUR\",\"\")))))","v":""},"",null,199]
[{"$f":"IFERROR(VLOOKUP(P201,Zakázky!P:Q,2,FALSE),\"\")","v":""},"",{"$f":"IF(A201=\"\",\"\",IF(VLOOKUP(MID(A201,6,99)*1,'Data eshop'!D:T,2,FALSE)=0,\"\",VLOOKUP(MID(A201,6,99)*1,'Data eshop'!D:T,2,FALSE)))","v":""},{"$f":"IF(A201=\"\",\"\",IF(VLOOKUP(MID(A201,6,99)*1,'Data eshop'!D:T,3,FALSE)=0,IF(VLOOKUP(MID(A201,6,99)*1,'Data eshop'!D:T,4,FALSE)=0,\"\",VLOOKUP(MID(A201,6,99)*1,'Data eshop'!D:T,4,FALSE)),VLOOKUP(MID(A201,6,99)*1,'Data eshop'!D:T,3,FALSE))&IF(VLOOKUP(MID(A201,6,99)*1,'Data eshop'!D:T,4,FALSE)=0,\"\",\" \"&VLOOKUP(MID(A201,6,99)*1,'Data eshop'!D:T,4,FALSE)))","v":""},{"$f":"IF(A201=\"\",\"\",IF(VLOOKUP(MID(A201,6,99)*1,'Data eshop'!D:T,5,FALSE)=0,\"\",VLOOKUP(MID(A201,6,99)*1,'Data eshop'!D:T,5,FALSE)))","v":""},{"$f":"IF(A201=\"\",\"\",IF(VLOOKUP(MID(A201,6,99)*1,'Data eshop'!D:T,6,FALSE)=0,\"\",VLOOKUP(MID(A201,6,99)*1,'Data eshop'!D:T,6,FALSE)))","v":""},{"$f":"IF(A201=\"\",\"\",IF(VLOOKUP(MID(A201,6,99)*1,'Data eshop'!D:T,7,FALSE)=0,\"\",VLOOKUP(MID(A201,6,99)*1,'Data eshop'!D:T,7,FALSE)))","v":""},{"$f":"IF(A201=\"\",\"\",IF(VLOOKUP(MID(A201,6,99)*1,'Data eshop'!D:T,10,FALSE)=0,\"\",VLOOKUP(VLOOKUP(MID(A201,6,99)*1,'Data eshop'!D:T,10,FALSE),DATA!O:P,2,FALSE)))","v":""},"",{"$f":"IF(A201=\"\",\"\",IF(VLOOKUP(MID(A201,6,99)*1,'Data eshop'!D:W,18,FALSE)=0,\"\",VLOOKUP(MID(A201,6,99)*1,'Data eshop'!D:W,18,FALSE)))","v":""},{"$f":"IF(A201=\"\",\"\",IF(VLOOKUP(MID(A201,6,99)*1,'Data eshop'!D:W,19,FALSE)=0,\"\",VLOOKUP(MID(A201,6,99)*1,'Data eshop'!D:W,19,FALSE)))","v":""},{"$f":"IF(A201=\"\",\"\",IF(VLOOKUP(MID(A201,6,99)*1,'Data eshop'!D:T,11,FALSE)=0,\"\",IF(OR(VLOOKUP(MID(A201,6,99)*1,'Data eshop'!D:T,11,FALSE)=\"Na dobírku\",VLOOKUP(MID(A201,6,99)*1,'Data eshop'!D:T,11,FALSE)=\"Na dobierku\",VLOOKUP(MID(A201,6,99)*1,'Data eshop'!D:T,11,FALSE)=\"Za pobraniem\"),VLOOKUP(MID(A201,6,99)*1,'Data eshop'!D:W,20,FALSE),\"\")))","v":""},{"$f":"IF(L201=\"\",\"\",IF(VLOOKUP(MID(A201,6,99)*1,'Data eshop'!D:T,10,FALSE)=0,\"\",IF(VLOOKUP(MID(A201,6,99)*1,'Data eshop'!D:T,10,FALSE)=\"Česká republika\",\"CZK\",IF(VLOOKUP(MID(A201,6,99)*1,'Data eshop'!D:T,10,FALSE)=\"Poland\",\"PLN\",IF(VLOOKUP(MID(A201,6,99)*1,'Data eshop'!D:T,10,FALSE)=\"Slovakia\",\"EUR\",\"\")))))","v":""},"",null,200]
[null,null,null,null,null,null,null,null,"",{"$f":"IF(A202=\"\",\"\",IF(VLOOKUP(MID(A202,6,99)*1,'Data eshop'!D:W,18,FALSE)=0,\"\",VLOOKUP(MID(A202,6,99)*1,'Data eshop'!D:W,18,FALSE)))","v":""},{"$f":"IF(A202=\"\",\"\",IF(VLOOKUP(MID(A202,6,99)*1,'Data eshop'!D:W,19,FALSE)=0,\"\",VLOOKUP(MID(A202,6,99)*1,'Data eshop'!D:W,19,FALSE)))","v":""},null,null,null,null,null,null,"Roluj nahoru, až uvidíš žlutou"]
[]
[]
[]
[null,null,null,null,null,null,null,null,null,null,null,null,null,null,null,null,null,"Roluj nahoru, až uvidíš žlutou"]
[]
[]
[]
[null,null,null,null,null,null,null,null,null,null,null,null,null,null,null,null,null,"Roluj nahoru, až uvidíš žlutou"]
[]
[]
[]
[null,null,null,null,null,null,null,null,null,null,null,null,null,null,null,null,null,"Roluj nahoru, až uvidíš žlutou"]
[]
[]
[]
[null,null,null,null,null,null,null,null,null,null,null,null,null,null,null,null,null,"Roluj nahoru, až uvidíš žlutou"]
[]
[]
[]
[null,null,null,null,null,null,null,null,null,null,null,null,null,null,null,null,null,"Roluj nahoru, až uvidíš žlutou"]
[]
[]
[]
[null,null,null,null,null,null,null,null,null,null,null,null,null,null,null,null,null,"Roluj nahoru, až uvidíš žlutou"]
[]
[]
[]
[null,null,null,null,null,null,null,null,null,null,null,null,null,null,null,null,null,"Roluj nahoru, až uvidíš žlutou"]
[]
[]
[]
[null,null,null,null,null,null,null,null,null,null,null,null,null,null,null,null,null,"Roluj nahoru, až uvidíš žlutou"]
[]
[]
[]
[null,null,null,null,null,null,null,null,null,null,null,null,null,null,null,null,null,"Roluj nahoru, až uvidíš žlutou"]
[]
[]
[]
[null,null,null,null,null,null,null,null,null,null,null,null,null,null,null,null,null,"Roluj nahoru, až uvidíš žlutou"]
[]
[]
[]
[null,null,null,null,null,null,null,null,null,null,null,null,null,null,null,null,null,"Roluj nahoru, až uvidíš žlutou"]
[]
[]
[]
[null,null,null,null,null,null,null,null,null,null,null,null,null,null,null,null,null,"Roluj nahoru, až uvidíš žlutou"]
[]
[]
[]
[null,null,null,null,null,null,null,null,null,null,null,null,null,null,null,null,null,"Roluj nahoru, až uvidíš žlutou"]
[]
[]
[]
[null,null,null,null,null,null,null,null,null,null,null,null,null,null,null,null,null,"Roluj nahoru, až uvidíš žlutou"]
[]
[]
[]
[null,null,null,null,null,null,null,null,null,null,null,null,null,null,null,null,null,"Roluj nahoru, až uvidíš žlutou"]
[]
[]
[]
[null,null,null,null,null,null,null,null,null,null,null,null,null,null,null,null,null,"Roluj nahoru, až uvidíš žlutou"]
[]
[]
[]
[null,null,null,null,null,null,null,null,null,null,null,null,null,null,null,null,null,"Roluj nahoru, až uvidíš žlutou"]
[]
[]
[]
[null,null,null,null,null,null,null,null,null,null,null,null,null,null,null,null,null,"Roluj nahoru, až uvidíš žlutou"]
[]
[]
[]
[null,null,null,null,null,null,null,null,null,null,null,null,null,null,null,null,null,"Roluj nahoru, až uvidíš žlutou"]
[]
[]
[]
[null,null,null,null,null,null,null,null,null,null,null,null,null,null,null,null,null,"Roluj nahoru, až uvidíš žlutou"]
[]
[]
[]
[null,null,null,null,null,null,null,null,null,null,null,null,null,null,null,null,null,"Roluj nahoru, až uvidíš žlutou"]
[]
[]
[]
[null,null,null,null,null,null,null,null,null,null,null,null,null,null,null,null,null,"Roluj nahoru, až uvidíš žlutou"]
[]
[]
[]
[null,null,null,null,null,null,null,null,null,null,null,null,null,null,null,null,null,"Roluj nahoru, až uvidíš žlutou"]

{"sheet":"DATA","index":5,"n_rows":42,"n_cols":19,"rows_kept":42,"cut":false,"hidden":false,"merged":[]}
["Typ platby Eshop","Typ platby SL",null,"Doprava Eshop","Doprava SL",null,"Popis Eshop - CZ","Popis SL","Kód","Popis SL","CZK CZ Bez DPH","EUR SK Bez DPH","EUR PL Bez DPH","EUR DE a AT bez DPH","Země","Zkratka",null,"Země","Písmenko"]
["Kartou online",7,null,"Kurýrní službou",3,null,"Dopravné - kurýr","Dopravné - kurýr","uni001","Dopravné - kurýr",{"$f":"ROUND(79/1.21,2)","v":65.290000000000006},6,24,6.6,"Česká republika","CZ",null,"Česká republika","T"]
["Na dobírku",4,null,"Česká pošta - balík do ruky",5,null,"Česká pošta - balík do ruky","Dopravné - Česká pošta","uni002","Dopravné - Česká pošta",{"$f":"ROUND(139/1.21,2)","v":114.88},"x","x",null,"Slovakia","SK",null,"Slovakia","E"]
["Platba na prodejně",5,null,"Osobní převzetí na prodejně",9,null,"Na dobírku","Dobírka","uni003","Dobírka",{"$f":"ROUND(39/1.21,2)","v":32.229999999999997},1.8,7,null,"Poland","PL",null,"Poland","P"]
["Platba předem",7,null,"Kuriérskou službou",3,null,"Doprava ZDARMA - kurýr","Doprava ZDARMA - kurýr","uni008","Doprava ZDARMA - kurýr",1.0000000000000001E-5,1.0000000000000001E-5,1.0000000000000001E-5,1.0000000000000001E-5,null,null,null,"Germany","E"]
["Platba predom",7,null,"Usługa kurierską",3,null,"Dopravné - Česká pošta (SLEVA)","Dopravné - Česká pošta (SLEVA)","uni009","Dopravné - Česká pošta (SLEVA)",{"$f":"K3","v":114.88},"x","x",null,null,null,null,"Austria","E"]
["Na dobierku",4,null,"Transport Kurier DPD (von 99€ - frei)",3,null,"Osobní převzetí na prodejně","Osobní převzetí na prodejně","uni010","Osobní převzetí na prodejně",1.0000000000000001E-5,1.0000000000000001E-5,1.0000000000000001E-5]
["Płatność z góry",7,null,null,null,null,"Platba předem","Platba předem - převodem","uni011","Platba předem - převodem",1.0000000000000001E-5,1.0000000000000001E-5,1.0000000000000001E-5,1.0000000000000001E-5]
["Za pobraniem",4,null,null,null,null,"Kartou online","Platba předem - kartou","uni012","Platba předem - kartou",1.0000000000000001E-5,1.0000000000000001E-5,1.0000000000000001E-5,1.0000000000000001E-5]
["Vorkasse",7,null,null,null,null,"Platba na prodejně","Platba na prodejně","uni013","Platba na prodejně",1.0000000000000001E-5,1.0000000000000001E-5,1.0000000000000001E-5]
["Kreditkarte (via GOPAY)",7,null,null,null,null,"Doprava Zdarma při nákupu:",null,null,null,990,40,300,98.99]
[]
[null,null,null,null,null,null,"Popis Eshop - SK","Popis SL","Kód","Popis SL","CZK CZ Bez DPH","EUR SK Bez DPH","EUR PL Bez DPH"]
[null,null,null,null,null,null,"Dopravné - kurýr","Dopravné - kurýr","uni001","Dopravné - kurýr",{"$f":"K2","v":65.290000000000006},6,24]
[null,null,null,null,null,null,"Dopravné - Česká pošta","Dopravné - Česká pošta","uni002","Dopravné - Česká pošta",{"$f":"K3","v":114.88},"x","x"]
[null,null,null,null,null,null,{"$f":"A7","v":"Na dobierku"},"Dobírka","uni003","Dobírka",32.229999999999997,1.8,7]
[null,null,null,null,null,null,"Doprava ZDARMA - kurýr","Doprava ZDARMA - kurýr","uni008","Doprava ZDARMA - kurýr",1.0000000000000001E-5,1.0000000000000001E-5,1.0000000000000001E-5]
[null,null,null,null,null,null,"Dopravné - Česká pošta (SLEVA)","Dopravné - Česká pošta (SLEVA)","uni009","Dopravné - Česká pošta (SLEVA)",114.88,"x","x"]
[null,null,null,null,null,null,"Osobní převzetí na prodejně","Osobní převzetí na prodejně","uni010","Osobní převzetí na prodejně",1.0000000000000001E-5,1.0000000000000001E-5,1.0000000000000001E-5]
[null,null,null,null,null,null,"Platba předem","Platba předem - převodem","uni011","Platba předem - převodem",1.0000000000000001E-5,1.0000000000000001E-5,1.0000000000000001E-5]
[null,null,null,null,null,null,"Kartou online","Platba předem - kartou","uni012","Platba předem - kartou",1.0000000000000001E-5,1.0000000000000001E-5,1.0000000000000001E-5]
[null,null,null,null,null,null,"Platba na prodejně","Platba na prodejně","uni013","Platba na prodejně",1.0000000000000001E-5,1.0000000000000001E-5,1.0000000000000001E-5]
[null,null,null,null,null,null,"Doprava Zdarma při nákupu:",null,null,null,990,40,300]
[]
[null,null,null,null,null,null,"Popis Eshop - PL","Popis SL","Kód","Popis SL","CZK CZ Bez DPH","EUR SK Bez DPH","EUR PL Bez DPH"]
[null,null,null,null,null,null,"Dopravné - kurýr","Dopravné - kurýr","uni001","Dopravné - kurýr",{"$f":"K14","v":65.290000000000006},6,24]
[null,null,null,null,null,null,"Dopravné - Česká pošta","Dopravné - Česká pošta","uni002","Dopravné - Česká pošta",{"$f":"K15","v":114.88},"x","x"]
[null,null,null,null,null,null,{"$f":"A9","v":"Za pobraniem"},"Dobírka","uni003","Dobírka",32.229999999999997,1.8,7]
[null,null,null,null,null,null,"Doprava ZDARMA - kurýr","Doprava ZDARMA - kurýr","uni008","Doprava ZDARMA - kurýr",1.0000000000000001E-5,1.0000000000000001E-5,1.0000000000000001E-5]
[null,null,null,null,null,null,"Dopravné - Česká pošta (SLEVA)","Dopravné - Česká pošta (SLEVA)","uni009","Dopravné - Česká pošta (SLEVA)",114.88,"x","x"]
[null,null,null,null,null,null,"Osobní převzetí na prodejně","Osobní převzetí na prodejně","uni010","Osobní převzetí na prodejně",1.0000000000000001E-5,1.0000000000000001E-5,1.0000000000000001E-5]
[null,null,null,null,null,null,"Płatność z góry","Platba předem - převodem","uni011","Platba předem - převodem",1.0000000000000001E-5,1.0000000000000001E-5,1.0000000000000001E-5]
[null,null,null,null,null,null,"Kartou online","Platba předem - kartou","uni012","Platba předem - kartou",1.0000000000000001E-5,1.0000000000000001E-5,1.0000000000000001E-5]
[null,null,null,null,null,null,"Platba na prodejně","Platba na prodejně","uni013","Platba na prodejně",1.0000000000000001E-5,1.0000000000000001E-5,1.0000000000000001E-5]
[null,null,null,null,null,null,"Doprava Zdarma při nákupu:",null,null,null,990,40,300]
[]
[null,null,null,null,null,null,"Popis Eshop - DE","Popis SL","Kód","Popis SL","CZK CZ Bez DPH","EUR DE Bez DPH","EUR PL Bez DPH"]
[null,null,null,null,null,null,"Transport Kurier DPD (von 99€ - frei)","Doprava ZDARMA - kurýr","uni008","Doprava ZDARMA - kurýr",1.0000000000000001E-5,1.0000000000000001E-5,1.0000000000000001E-5]
[null,null,null,null,null,null,"Transport Kurier DPD (von 99€ - frei)","Dopravné - kurýr","uni001","Dopravné - kurýr",{"$f":"ROUND(7.99/1.21,2)","v":6.6},{"$f":"ROUND(7.99/1.21,2)","v":6.6},{"$f":"ROUND(7.99/1.21,2)","v":6.6}]
[null,null,null,null,null,null,"Kreditkarte (via GOPAY)","Platba předem - kartou","uni012","Platba předem - kartou",1.0000000000000001E-5,1.0000000000000001E-5,1.0000000000000001E-5]
[null,null,null,null,null,null,"Vorkasse","Platba předem - převodem","uni011","Platba předem - převodem",1.0000000000000001E-5,1.0000000000000001E-5,1.0000000000000001E-5]
[null,null,null,null,null,null,"Doprava Zdarma při nákupu:",null,null,null,null,null,98.99]